{"text_format":"1","workbook":"xlsx","n_sheets":12,"sheets":["Kreu","1.Detaje & Përmbledhje","2.aTë ardhura-Fondet Publike","2.bTë ardhura-jopublik-monetare","2.cTë ardhura-jopublik-nënatyrë","2.dTë ardhura-jopublik-krijuara","3. Të ardhura - Kreditë","4. Shpenzimet e partisë","5.a Raportet e kandid. për Krye","5.b Raportet e kandid. të lista","6. Shpenzimet për mitingje","Reference"],"not_rendered":{"charts":0,"images":1,"macros":1,"external_links":1,"defined_names":43,"comments":0,"pivot_tables":0},"unopened":[],"bounds":{"document_bytes":16777216,"sheet_cells":100000,"rows_first":2000,"rows_last":500,"rows_between":2000,"halvings":0,"cell_chars":16384,"cell_head_chars":4096},"cells_cut":0,"cells_raw":0,"read":"row_number_cap","date_system":"1900"}

{"sheet":"Kreu","index":0,"n_rows":47,"n_cols":6,"rows_kept":47,"cut":false,"hidden":false,"merged":[[14,4,14,7],[0,5,0,7],[24,5,24,7],[7,0,7,9],[25,1,25,3],[25,5,25,7],[12,1,12,3],[12,4,12,7],[13,1,13,3],[13,4,13,7],[14,1,14,3],[18,1,18,3],[18,4,18,7],[19,1,19,3],[20,1,20,3],[20,5,20,7],[15,1,15,3],[15,4,15,7],[16,1,16,3],[16,4,16,7],[17,1,17,3],[17,4,17,7],[26,1,26,3],[26,5,26,7],[21,1,21,3],[21,5,21,7],[46,0,46,9],[27,1,27,3],[27,5,27,7],[22,1,22,3],[22,5,22,7],[23,1,23,3],[23,5,23,7],[24,1,24,3]]}
[null,"Shtojca 1",null,null,null,"Modeli KQZ 03-08"]
[]
[]
[]
[]
[null,null,null,null,"REPUBLIKA E SHQIPËRISË\nKOMISIONI QENDROR I ZGJEDHJEVE"]
[]
["Formati tip i raportimit financiar të fushatës zgjedhore për partitë politike të regjistruara si subjekte zgjedhore për zgjedhjet për organet e qeverisjes vendore "]
[]
[]
[null,null,null,null,"          Periudha e raportimit: gjashtë muaj para fillimit të fushatës zgjedhore dhe periudha e fushatës zgjedhore"]
[]
[null,"Emri i Partisë Politike"]
[null,"Shkronjat Nistore"]
[null,"Kryetari i Partisë Politike "]
[null,"Tel/Cel "]
[null,"Email"]
[null,"NIPT"]
[null,"Adresa"]
[]
[null,"Emri I Financierit",null,null,"Mbiemri I Financierit","Nënshkrimi"]
[]
[]
[null,"Tel/Cel I Financierit",null,null,"Email I Financierit","NID I Financierit"]
[]
[]
[null,"Emri I Aprovuesit",null,null,"Mbiemri I Aprovuesit","Nënshkrimi"]
[]
[]
[]
[null,null,null,null,"Ky format raportimi konsiston në seksionet e mëposhtme:"]
[]
[null,null,null,null,{"$f":"'1.Detaje & Përmbledhje'!B17","v":"1. Informacion për subjektin zgjedhor, përmbledhje financiare dhe deklarata"}]
[null,null,null,null,{"$f":"'2.aTë ardhura-Fondet Publike'!B16","v":"2.a Të ardhura - Financime publike"}]
[null,null,null,null,{"$f":"'2.bTë ardhura-jopublik-monetare'!A13","v":" 2.b Të ardhura monetare - Financime jopublike"}]
[null,null,null,null,{"$f":"'2.cTë ardhura-jopublik-nënatyrë'!A13","v":"2.c Të ardhura, dhurime në natyrë - Financime jopublike"}]
[null,null,null,null,{"$f":"'2.dTë ardhura-jopublik-krijuara'!A13","v":"2.d Të ardhura të krijuara nga vetë subjekti - Financime jopublike"}]
[null,null,null,null,{"$f":"'3. Të ardhura - Kreditë'!A12","v":"3. Huatë dhe Kreditë"}]
[null,null,null,null,{"$f":"'4. Shpenzimet e partisë'!C18","v":"4. Shpenzimet e partisë"}]
[null,null,null,null,{"$f":"'5.a Raportet e kandid. për Krye'!A13","v":"5.a Raportet e kandidatëve për Kryetarë të Qeverisjes Vendore"}]
[null,null,null,null,{"$f":"'5.b Raportet e kandid. të lista'!A11","v":"5.b Raportet e kandidatëve të listave shumëemërore për njësitë e qeverisjes vendore"}]
[null,null,null,null,{"$f":"'6. Shpenzimet për mitingje'!A19","v":"6. Shpenzimet për mitingjet e fushatës (pasqyrë)"}]
[]
[null,null,null,null,"                                         Ju lutemi, sigurohuni që të keni plotësuar të gjitha tabelat e këtij formati tip të raportimit para se ta dorëzoni."]
[null,null,null,null,"Tabela \"Referenca\" nuk ka nevojë të plotësohet."]
[]
["Ky raport i plotësuar duhet të dorëzohet dorazi tek Drejtoria e Kontrollit Financiar dhe Auditit të Brendshëm në KQZ dhe gjithashtu me email në adresën: raportimifinanciar@kqz.gov.al"]

{"sheet":"1.Detaje & Përmbledhje","index":1,"n_rows":46,"n_cols":5,"rows_kept":46,"cut":false,"hidden":false,"merged":[[16,1,16,4],[18,1,18,4],[20,1,20,2],[29,1,29,2],[31,1,31,2]]}
[]
[]
[]
[]
[]
[]
[]
[null,null,"REPUBLIKA E SHQIPËRISË\n"]
[null,null,"KOMISIONI QENDROR I ZGJEDHJEVE"]
[]
[]
[null,null,"Emri i Partisë Politike",null,"Shkronjat Nistore"]
[]
[]
[]
[]
[null,"1. Informacion për subjektin zgjedhor, përmbledhje financiare dhe deklarata"]
[]
[null,"Përmbledhje financiare"]
[]
[null,"Totali i të ardhurave:",null,null,{"$f":"SUM(E23:E30)","v":0}]
[]
[null,null,"a. Totali i të ardhurave nga fondet publike",null,{"$f":"SUM(('2.aTë ardhura-Fondet Publike'!D20+'2.aTë ardhura-Fondet Publike'!D24)-'2.aTë ardhura-Fondet Publike'!D22)","v":0}]
[null,null,"b. Totali i të ardhurave nga persona fizike",null,{"$f":"(SUMIF('2.bTë ardhura-jopublik-monetare'!$A$19:$A$1015,Reference!$F$3,'2.bTë ardhura-jopublik-monetare'!$H$19:$H$1015))+(SUMIF('2.cTë ardhura-jopublik-nënatyrë'!$A$19:$A$5015,Reference!$F$3,'2.cTë ardhura-jopublik-nënatyrë'!$H$19:$H$5015))","v":0}]
[null,null,"c. Totali i të ardhurave nga persona juridike",null,{"$f":"(SUMIF('2.bTë ardhura-jopublik-monetare'!$A$19:$A$1015,Reference!$F$4,'2.bTë ardhura-jopublik-monetare'!$H$19:$H$1015))+(SUMIF('2.cTë ardhura-jopublik-nënatyrë'!$A$19:$A$5015,Reference!$F$4,'2.cTë ardhura-jopublik-nënatyrë'!$H$19:$H$5015))","v":0}]
[null,null,"d. Totali i të ardhurave nga kandidatët për kryetarë",null,{"$f":"SUM('5.a Raportet e kandid. për Krye'!$B$19:$B$79)","v":0}]
[null,null,"e. Totali i të ardhurave nga kandidatët e listave",null,{"$f":"SUM('5.b Raportet e kandid. të lista'!$B$17:$B$77)","v":0}]
[null,null,"e. Totali i të ardhurave të krijuara nga vetë partia",null,{"$f":"SUM('2.dTë ardhura-jopublik-krijuara'!B18:B5014)","v":0}]
[]
[null,"Totali i huave:",null,null,{"$f":"SUM('3. Të ardhura - Kreditë'!H18:H315)","v":0}]
[]
[null,"Totali i shpenzimeve:",null,null,{"$f":"SUM(E34:E38)","v":0}]
[]
[null,null,"a. Totali i shpenzimeve të bëra nga partia",null,{"$f":"SUM('4. Shpenzimet e partisë'!H23:H5018)","v":0}]
[null,null,"b. Totali i shpenzimeve të bëra nga kandidatët për kryetarë",null,{"$f":"SUM('5.a Raportet e kandid. për Krye'!$C$19:$C$79)","v":0}]
[null,null,"c. Totali i shpenzimeve të bëra nga kandidatët e listave",null,{"$f":"SUM('5.b Raportet e kandid. të lista'!$C$17:$C$77)","v":0}]
[null,null,"d. Totali i shpenzimeve indirekte",null,{"$f":"SUM('2.cTë ardhura-jopublik-nënatyrë'!H19:H5015)","v":0}]
[null,null,"e. Totale të papaguara/detyrime financiare",null,{"$f":"SUM('4. Shpenzimet e partisë'!I23:I5018)","v":0}]
[]
[]
[]
[]
[null,null,"FINANCIERI",null,"APROVUESI"]
[]
[]
[null,null,"Emër Mbiemër Firmë",null,"Emër Mbiemër Firmë"]

{"sheet":"2.aTë ardhura-Fondet Publike","index":2,"n_rows":35,"n_cols":5,"rows_kept":35,"cut":false,"hidden":false,"merged":[[15,1,15,3],[16,1,16,3],[19,1,22,1],[23,1,24,1],[19,3,19,4],[22,3,22,4],[23,3,23,4],[24,3,24,4],[21,3,21,4]]}
[]
[]
[]
[]
[]
[]
[]
[]
[null,null,"REPUBLIKA E SHQIPËRISË\n"]
[null,null,"KOMISIONI QENDROR I ZGJEDHJEVE"]
[]
[]
[null,null,"Emri i Partisë Politike","Shkronjat Nistore"]
[]
[]
[null,"2.a Të ardhura - Financime publike"]
[null,"Shuma e fondeve publike të përfituara në përputhje me nenet 88 dhe 89 të Kodit Zgjedhor"]
[]
[]
[null,"a","Fondi i marrë nga Buxheti i Shtetit (sipas nenit 88)"]
[null,null,"Data e marrjes së fondit nga Buxheti i Shtetit"]
[null,null,"Diferenca e kthyer (nëse ka, sipas nenit 88, pika 7)"]
[null,null,"Data e kthimit të diferencës"]
[null,"b","Kompensimi financiar paszgjedhor (neni 89)"]
[null,null,"Data e marrjes së kompensimit financiar paszgjedhor"]
[]
[]
[]
[]
[]
[]
[null,null,"FINANCIERI",null,"APROVUESI"]
[]
[]
[null,null,"Emër Mbiemër Firmë",null,"Emër Mbiemër Firmë"]

{"sheet":"2.bTë ardhura-jopublik-monetare","index":3,"n_rows":389246,"n_cols":15,"rows_kept":4500,"cut":true,"hidden":false,"merged":[[15,7,15,8],[13,0,13,2],[13,3,13,4],[12,7,12,8],[13,7,13,8],[14,7,14,8]],"bounds":{"rows_first":2000,"rows_last":500,"rows_between":2000,"halvings":0},"read":"row_number_cap"}
[]
[]
[]
[]
[]
[]
[]
[null,null,null,null,"REPUBLIKA E SHQIPËRISË\n"]
[null,null,null,null,"KOMISIONI QENDROR I ZGJEDHJEVE"]
[]
[null,"Emri i Partisë Politike",null,null,null,"Shkronjat Nistore"]
[]
[" 2.b Të ardhura monetare - Financime jopublike"]
[{"$f":"\"Ju lutemi konfirmoni nëse nuk keni gjë për të raportuar\"&A13","v":"Ju lutemi konfirmoni nëse nuk keni gjë për të raportuar 2.b Të ardhura monetare - Financime jopublike"}]
[]
[]
[]
["A.  Statusi i dhuruesit","B. Emri i dhuruesit","C. Mbiemri i dhuruesit","D. Adresa (rreshti 1)","E. Adresa (rreshti 2)","F. Kodi postar i adreses","G. Numri i identifikimit ","H. Shuma e dhurimit","I. Data e dhurimit","J. Totali i agreguar i dhurimeve nga dhuruesi për zgjedhjet ","K. Metoda e dhurimit","L. Kodi bankar i llogarisë në të cilën u depozitua dhurimi ","M. Numri llogarisë në të cilën u depozitua dhurimi","N. Marrë në dorëzim nga:","O. Emri i degës"]
[null,null,null,null,null,null,null,null,null,{"$f":"SUMIF($G$19:$G$1015,$G19,$H$19:$H$1015)+SUMIF('2.cTë ardhura-jopublik-nënatyrë'!$G$19:$G$1015,'2.bTë ardhura-jopublik-monetare'!$G19,'2.cTë ardhura-jopublik-nënatyrë'!$H$19:$H$1015)","v":0}]
[null,null,null,null,null,null,null,null,null,{"$f":"SUMIF($G$19:$G$1015,$G20,$H$19:$H$1015)+SUMIF('2.cTë ardhura-jopublik-nënatyrë'!$G$19:$G$1015,'2.bTë ardhura-jopublik-monetare'!$G20,'2.cTë ardhura-jopublik-nënatyrë'!$H$19:$H$1015)","v":0}]
[null,null,null,null,null,null,null,null,null,{"$f":"SUMIF($G$19:$G$1015,$G21,$H$19:$H$1015)+SUMIF('2.cTë ardhura-jopublik-nënatyrë'!$G$19:$G$1015,'2.bTë ardhura-jopublik-monetare'!$G21,'2.cTë ardhura-jopublik-nënatyrë'!$H$19:$H$1015)","v":0}]
[null,null,null,null,null,null,null,null,null,{"$f":"SUMIF($G$19:$G$1015,$G22,$H$19:$H$1015)+SUMIF('2.cTë ardhura-jopublik-nënatyrë'!$G$19:$G$1015,'2.bTë ardhura-jopublik-monetare'!$G22,'2.cTë ardhura-jopublik-nënatyrë'!$H$19:$H$1015)","v":0}]
[null,null,null,null,null,null,null,null,null,{"$f":"SUMIF($G$19:$G$1015,$G23,$H$19:$H$1015)+SUMIF('2.cTë ardhura-jopublik-nënatyrë'!$G$19:$G$1015,'2.bTë ardhura-jopublik-monetare'!$G23,'2.cTë ardhura-jopublik-nënatyrë'!$H$19:$H$1015)","v":0}]
[null,null,null,null,null,null,null,null,null,{"$f":"SUMIF($G$19:$G$1015,$G24,$H$19:$H$1015)+SUMIF('2.cTë ardhura-jopublik-nënatyrë'!$G$19:$G$1015,'2.bTë ardhura-jopublik-monetare'!$G24,'2.cTë ardhura-jopublik-nënatyrë'!$H$19:$H$1015)","v":0}]
[null,null,null,null,null,null,null,null,null,{"$f":"SUMIF($G$19:$G$1015,$G25,$H$19:$H$1015)+SUMIF('2.cTë ardhura-jopublik-nënatyrë'!$G$19:$G$1015,'2.bTë ardhura-jopublik-monetare'!$G25,'2.cTë ardhura-jopublik-nënatyrë'!$H$19:$H$1015)","v":0}]
[null,null,null,null,null,null,null,null,null,{"$f":"SUMIF($G$19:$G$1015,$G26,$H$19:$H$1015)+SUMIF('2.cTë ardhura-jopublik-nënatyrë'!$G$19:$G$1015,'2.bTë ardhura-jopublik-monetare'!$G26,'2.cTë ardhura-jopublik-nënatyrë'!$H$19:$H$1015)","v":0}]
[null,null,null,null,null,null,null,null,null,{"$f":"SUMIF($G$19:$G$1015,$G27,$H$19:$H$1015)+SUMIF('2.cTë ardhura-jopublik-nënatyrë'!$G$19:$G$1015,'2.bTë ardhura-jopublik-monetare'!$G27,'2.cTë ardhura-jopublik-nënatyrë'!$H$19:$H$1015)","v":0}]
[null,null,null,null,null,null,null,null,null,{"$f":"SUMIF($G$19:$G$1015,$G28,$H$19:$H$1015)+SUMIF('2.cTë ardhura-jopublik-nënatyrë'!$G$19:$G$1015,'2.bTë ardhura-jopublik-monetare'!$G28,'2.cTë ardhura-jopublik-nënatyrë'!$H$19:$H$1015)","v":0}]
[null,null,null,null,null,null,null,null,null,{"$f":"SUMIF($G$19:$G$1015,$G29,$H$19:$H$1015)+SUMIF('2.cTë ardhura-jopublik-nënatyrë'!$G$19:$G$1015,'2.bTë ardhura-jopublik-monetare'!$G29,'2.cTë ardhura-jopublik-nënatyrë'!$H$19:$H$1015)","v":0}]
[null,null,null,null,null,null,null,null,null,{"$f":"SUMIF($G$19:$G$1015,$G30,$H$19:$H$1015)+SUMIF('2.cTë ardhura-jopublik-nënatyrë'!$G$19:$G$1015,'2.bTë ardhura-jopublik-monetare'!$G30,'2.cTë ardhura-jopublik-nënatyrë'!$H$19:$H$1015)","v":0}]
[null,null,null,null,null,null,null,null,null,{"$f":"SUMIF($G$19:$G$1015,$G31,$H$19:$H$1015)+SUMIF('2.cTë ardhura-jopublik-nënatyrë'!$G$19:$G$1015,'2.bTë ardhura-jopublik-monetare'!$G31,'2.cTë ardhura-jopublik-nënatyrë'!$H$19:$H$1015)","v":0}]
[null,null,null,null,null,null,null,null,null,{"$f":"SUMIF($G$19:$G$1015,$G32,$H$19:$H$1015)+SUMIF('2.cTë ardhura-jopublik-nënatyrë'!$G$19:$G$1015,'2.bTë ardhura-jopublik-monetare'!$G32,'2.cTë ardhura-jopublik-nënatyrë'!$H$19:$H$1015)","v":0}]
[null,null,null,null,null,null,null,null,null,{"$f":"SUMIF($G$19:$G$1015,$G33,$H$19:$H$1015)+SUMIF('2.cTë ardhura-jopublik-nënatyrë'!$G$19:$G$1015,'2.bTë ardhura-jopublik-monetare'!$G33,'2.cTë ardhura-jopublik-nënatyrë'!$H$19:$H$1015)","v":0}]
[null,null,null,null,null,null,null,null,null,{"$f":"SUMIF($G$19:$G$1015,$G34,$H$19:$H$1015)+SUMIF('2.cTë ardhura-jopublik-nënatyrë'!$G$19:$G$1015,'2.bTë ardhura-jopublik-monetare'!$G34,'2.cTë ardhura-jopublik-nënatyrë'!$H$19:$H$1015)","v":0}]
[null,null,null,null,null,null,null,null,null,{"$f":"SUMIF($G$19:$G$1015,$G35,$H$19:$H$1015)+SUMIF('2.cTë ardhura-jopublik-nënatyrë'!$G$19:$G$1015,'2.bTë ardhura-jopublik-monetare'!$G35,'2.cTë ardhura-jopublik-nënatyrë'!$H$19:$H$1015)","v":0}]
[null,null,"FINANCIERI",null,null,null,"APROVUESI",null,null,{"$f":"SUMIF($G$19:$G$1015,$G36,$H$19:$H$1015)+SUMIF('2.cTë ardhura-jopublik-nënatyrë'!$G$19:$G$1015,'2.bTë ardhura-jopublik-monetare'!$G36,'2.cTë ardhura-jopublik-nënatyrë'!$H$19:$H$1015)","v":0}]
[null,null,null,null,null,null,null,null,null,{"$f":"SUMIF($G$19:$G$1015,$G37,$H$19:$H$1015)+SUMIF('2.cTë ardhura-jopublik-nënatyrë'!$G$19:$G$1015,'2.bTë ardhura-jopublik-monetare'!$G37,'2.cTë ardhura-jopublik-nënatyrë'!$H$19:$H$1015)","v":0}]
[null,null,null,null,null,null,null,null,null,{"$f":"SUMIF($G$19:$G$1015,$G38,$H$19:$H$1015)+SUMIF('2.cTë ardhura-jopublik-nënatyrë'!$G$19:$G$1015,'2.bTë ardhura-jopublik-monetare'!$G38,'2.cTë ardhura-jopublik-nënatyrë'!$H$19:$H$1015)","v":0}]
[null,null,"Emër Mbiemër Firmë",null,null,null,"Emër Mbiemër Firmë",null,null,{"$f":"SUMIF($G$19:$G$1015,$G39,$H$19:$H$1015)+SUMIF('2.cTë ardhura-jopublik-nënatyrë'!$G$19:$G$1015,'2.bTë ardhura-jopublik-monetare'!$G39,'2.cTë ardhura-jopublik-nënatyrë'!$H$19:$H$1015)","v":0}]
[null,null,null,null,null,null,null,null,null,{"$f":"SUMIF($G$19:$G$1015,$G40,$H$19:$H$1015)+SUMIF('2.cTë ardhura-jopublik-nënatyrë'!$G$19:$G$1015,'2.bTë ardhura-jopublik-monetare'!$G40,'2.cTë ardhura-jopublik-nënatyrë'!$H$19:$H$1015)","v":0}]
[null,null,null,null,null,null,null,null,null,{"$f":"SUMIF($G$19:$G$1015,$G41,$H$19:$H$1015)+SUMIF('2.cTë ardhura-jopublik-nënatyrë'!$G$19:$G$1015,'2.bTë ardhura-jopublik-monetare'!$G41,'2.cTë ardhura-jopublik-nënatyrë'!$H$19:$H$1015)","v":0}]
[null,null,null,null,null,null,null,null,null,{"$f":"SUMIF($G$19:$G$1015,$G42,$H$19:$H$1015)+SUMIF('2.cTë ardhura-jopublik-nënatyrë'!$G$19:$G$1015,'2.bTë ardhura-jopublik-monetare'!$G42,'2.cTë ardhura-jopublik-nënatyrë'!$H$19:$H$1015)","v":0}]
[null,null,null,null,null,null,null,null,null,{"$f":"SUMIF($G$19:$G$1015,$G43,$H$19:$H$1015)+SUMIF('2.cTë ardhura-jopublik-nënatyrë'!$G$19:$G$1015,'2.bTë ardhura-jopublik-monetare'!$G43,'2.cTë ardhura-jopublik-nënatyrë'!$H$19:$H$1015)","v":0}]
[null,null,null,null,null,null,null,null,null,{"$f":"SUMIF($G$19:$G$1015,$G44,$H$19:$H$1015)+SUMIF('2.cTë ardhura-jopublik-nënatyrë'!$G$19:$G$1015,'2.bTë ardhura-jopublik-monetare'!$G44,'2.cTë ardhura-jopublik-nënatyrë'!$H$19:$H$1015)","v":0}]
[null,null,null,null,null,null,null,null,null,{"$f":"SUMIF($G$19:$G$1015,$G45,$H$19:$H$1015)+SUMIF('2.cTë ardhura-jopublik-nënatyrë'!$G$19:$G$1015,'2.bTë ardhura-jopublik-monetare'!$G45,'2.cTë ardhura-jopublik-nënatyrë'!$H$19:$H$1015)","v":0}]
[null,null,null,null,null,null,null,null,null,{"$f":"SUMIF($G$19:$G$1015,$G46,$H$19:$H$1015)+SUMIF('2.cTë ardhura-jopublik-nënatyrë'!$G$19:$G$1015,'2.bTë ardhura-jopublik-monetare'!$G46,'2.cTë ardhura-jopublik-nënatyrë'!$H$19:$H$1015)","v":0}]
[null,null,null,null,null,null,null,null,null,{"$f":"SUMIF($G$19:$G$1015,$G47,$H$19:$H$1015)+SUMIF('2.cTë ardhura-jopublik-nënatyrë'!$G$19:$G$1015,'2.bTë ardhura-jopublik-monetare'!$G47,'2.cTë ardhura-jopublik-nënatyrë'!$H$19:$H$1015)","v":0}]
[null,null,null,null,null,null,null,null,null,{"$f":"SUMIF($G$19:$G$1015,$G48,$H$19:$H$1015)+SUMIF('2.cTë ardhura-jopublik-nënatyrë'!$G$19:$G$1015,'2.bTë ardhura-jopublik-monetare'!$G48,'2.cTë ardhura-jopublik-nënatyrë'!$H$19:$H$1015)","v":0}]
[null,null,null,null,null,null,null,null,null,{"$f":"SUMIF($G$19:$G$1015,$G49,$H$19:$H$1015)+SUMIF('2.cTë ardhura-jopublik-nënatyrë'!$G$19:$G$1015,'2.bTë ardhura-jopublik-monetare'!$G49,'2.cTë ardhura-jopublik-nënatyrë'!$H$19:$H$1015)","v":0}]
[null,null,null,null,null,null,null,null,null,{"$f":"SUMIF($G$19:$G$1015,$G50,$H$19:$H$1015)+SUMIF('2.cTë ardhura-jopublik-nënatyrë'!$G$19:$G$1015,'2.bTë ardhura-jopublik-monetare'!$G50,'2.cTë ardhura-jopublik-nënatyrë'!$H$19:$H$1015)","v":0}]
[null,null,null,null,null,null,null,null,null,{"$f":"SUMIF($G$19:$G$1015,$G51,$H$19:$H$1015)+SUMIF('2.cTë ardhura-jopublik-nënatyrë'!$G$19:$G$1015,'2.bTë ardhura-jopublik-monetare'!$G51,'2.cTë ardhura-jopublik-nënatyrë'!$H$19:$H$1015)","v":0}]
[null,null,null,null,null,null,null,null,null,{"$f":"SUMIF($G$19:$G$1015,$G52,$H$19:$H$1015)+SUMIF('2.cTë ardhura-jopublik-nënatyrë'!$G$19:$G$1015,'2.bTë ardhura-jopublik-monetare'!$G52,'2.cTë ardhura-jopublik-nënatyrë'!$H$19:$H$1015)","v":0}]
[null,null,null,null,null,null,null,null,null,{"$f":"SUMIF($G$19:$G$1015,$G53,$H$19:$H$1015)+SUMIF('2.cTë ardhura-jopublik-nënatyrë'!$G$19:$G$1015,'2.bTë ardhura-jopublik-monetare'!$G53,'2.cTë ardhura-jopublik-nënatyrë'!$H$19:$H$1015)","v":0}]
[null,null,null,null,null,null,null,null,null,{"$f":"SUMIF($G$19:$G$1015,$G54,$H$19:$H$1015)+SUMIF('2.cTë ardhura-jopublik-nënatyrë'!$G$19:$G$1015,'2.bTë ardhura-jopublik-monetare'!$G54,'2.cTë ardhura-jopublik-nënatyrë'!$H$19:$H$1015)","v":0}]
[null,null,null,null,null,null,null,null,null,{"$f":"SUMIF($G$19:$G$1015,$G55,$H$19:$H$1015)+SUMIF('2.cTë ardhura-jopublik-nënatyrë'!$G$19:$G$1015,'2.bTë ardhura-jopublik-monetare'!$G55,'2.cTë ardhura-jopublik-nënatyrë'!$H$19:$H$1015)","v":0}]
[null,null,null,null,null,null,null,null,null,{"$f":"SUMIF($G$19:$G$1015,$G56,$H$19:$H$1015)+SUMIF('2.cTë ardhura-jopublik-nënatyrë'!$G$19:$G$1015,'2.bTë ardhura-jopublik-monetare'!$G56,'2.cTë ardhura-jopublik-nënatyrë'!$H$19:$H$1015)","v":0}]
[null,null,null,null,null,null,null,null,null,{"$f":"SUMIF($G$19:$G$1015,$G57,$H$19:$H$1015)+SUMIF('2.cTë ardhura-jopublik-nënatyrë'!$G$19:$G$1015,'2.bTë ardhura-jopublik-monetare'!$G57,'2.cTë ardhura-jopublik-nënatyrë'!$H$19:$H$1015)","v":0}]
[null,null,null,null,null,null,null,null,null,{"$f":"SUMIF($G$19:$G$1015,$G58,$H$19:$H$1015)+SUMIF('2.cTë ardhura-jopublik-nënatyrë'!$G$19:$G$1015,'2.bTë ardhura-jopublik-monetare'!$G58,'2.cTë ardhura-jopublik-nënatyrë'!$H$19:$H$1015)","v":0}]
[null,null,null,null,null,null,null,null,null,{"$f":"SUMIF($G$19:$G$1015,$G59,$H$19:$H$1015)+SUMIF('2.cTë ardhura-jopublik-nënatyrë'!$G$19:$G$1015,'2.bTë ardhura-jopublik-monetare'!$G59,'2.cTë ardhura-jopublik-nënatyrë'!$H$19:$H$1015)","v":0}]
[null,null,null,null,null,null,null,null,null,{"$f":"SUMIF($G$19:$G$1015,$G60,$H$19:$H$1015)+SUMIF('2.cTë ardhura-jopublik-nënatyrë'!$G$19:$G$1015,'2.bTë ardhura-jopublik-monetare'!$G60,'2.cTë ardhura-jopublik-nënatyrë'!$H$19:$H$1015)","v":0}]
[null,null,null,null,null,null,null,null,null,{"$f":"SUMIF($G$19:$G$1015,$G61,$H$19:$H$1015)+SUMIF('2.cTë ardhura-jopublik-nënatyrë'!$G$19:$G$1015,'2.bTë ardhura-jopublik-monetare'!$G61,'2.cTë ardhura-jopublik-nënatyrë'!$H$19:$H$1015)","v":0}]
[null,null,null,null,null,null,null,null,null,{"$f":"SUMIF($G$19:$G$1015,$G62,$H$19:$H$1015)+SUMIF('2.cTë ardhura-jopublik-nënatyrë'!$G$19:$G$1015,'2.bTë ardhura-jopublik-monetare'!$G62,'2.cTë ardhura-jopublik-nënatyrë'!$H$19:$H$1015)","v":0}]
[null,null,null,null,null,null,null,null,null,{"$f":"SUMIF($G$19:$G$1015,$G63,$H$19:$H$1015)+SUMIF('2.cTë ardhura-jopublik-nënatyrë'!$G$19:$G$1015,'2.bTë ardhura-jopublik-monetare'!$G63,'2.cTë ardhura-jopublik-nënatyrë'!$H$19:$H$1015)","v":0}]
[null,null,null,null,null,null,null,null,null,{"$f":"SUMIF($G$19:$G$1015,$G64,$H$19:$H$1015)+SUMIF('2.cTë ardhura-jopublik-nënatyrë'!$G$19:$G$1015,'2.bTë ardhura-jopublik-monetare'!$G64,'2.cTë ardhura-jopublik-nënatyrë'!$H$19:$H$1015)","v":0}]
[null,null,null,null,null,null,null,null,null,{"$f":"SUMIF($G$19:$G$1015,$G65,$H$19:$H$1015)+SUMIF('2.cTë ardhura-jopublik-nënatyrë'!$G$19:$G$1015,'2.bTë ardhura-jopublik-monetare'!$G65,'2.cTë ardhura-jopublik-nënatyrë'!$H$19:$H$1015)","v":0}]
[null,null,null,null,null,null,null,null,null,{"$f":"SUMIF($G$19:$G$1015,$G66,$H$19:$H$1015)+SUMIF('2.cTë ardhura-jopublik-nënatyrë'!$G$19:$G$1015,'2.bTë ardhura-jopublik-monetare'!$G66,'2.cTë ardhura-jopublik-nënatyrë'!$H$19:$H$1015)","v":0}]
[null,null,null,null,null,null,null,null,null,{"$f":"SUMIF($G$19:$G$1015,$G67,$H$19:$H$1015)+SUMIF('2.cTë ardhura-jopublik-nënatyrë'!$G$19:$G$1015,'2.bTë ardhura-jopublik-monetare'!$G67,'2.cTë ardhura-jopublik-nënatyrë'!$H$19:$H$1015)","v":0}]
[null,null,null,null,null,null,null,null,null,{"$f":"SUMIF($G$19:$G$1015,$G68,$H$19:$H$1015)+SUMIF('2.cTë ardhura-jopublik-nënatyrë'!$G$19:$G$1015,'2.bTë ardhura-jopublik-monetare'!$G68,'2.cTë ardhura-jopublik-nënatyrë'!$H$19:$H$1015)","v":0}]
[null,null,null,null,null,null,null,null,null,{"$f":"SUMIF($G$19:$G$1015,$G69,$H$19:$H$1015)+SUMIF('2.cTë ardhura-jopublik-nënatyrë'!$G$19:$G$1015,'2.bTë ardhura-jopublik-monetare'!$G69,'2.cTë ardhura-jopublik-nënatyrë'!$H$19:$H$1015)","v":0}]
[null,null,null,null,null,null,null,null,null,{"$f":"SUMIF($G$19:$G$1015,$G70,$H$19:$H$1015)+SUMIF('2.cTë ardhura-jopublik-nënatyrë'!$G$19:$G$1015,'2.bTë ardhura-jopublik-monetare'!$G70,'2.cTë ardhura-jopublik-nënatyrë'!$H$19:$H$1015)","v":0}]
[null,null,null,null,null,null,null,null,null,{"$f":"SUMIF($G$19:$G$1015,$G71,$H$19:$H$1015)+SUMIF('2.cTë ardhura-jopublik-nënatyrë'!$G$19:$G$1015,'2.bTë ardhura-jopublik-monetare'!$G71,'2.cTë ardhura-jopublik-nënatyrë'!$H$19:$H$1015)","v":0}]
[null,null,null,null,null,null,null,null,null,{"$f":"SUMIF($G$19:$G$1015,$G72,$H$19:$H$1015)+SUMIF('2.cTë ardhura-jopublik-nënatyrë'!$G$19:$G$1015,'2.bTë ardhura-jopublik-monetare'!$G72,'2.cTë ardhura-jopublik-nënatyrë'!$H$19:$H$1015)","v":0}]
[null,null,null,null,null,null,null,null,null,{"$f":"SUMIF($G$19:$G$1015,$G73,$H$19:$H$1015)+SUMIF('2.cTë ardhura-jopublik-nënatyrë'!$G$19:$G$1015,'2.bTë ardhura-jopublik-monetare'!$G73,'2.cTë ardhura-jopublik-nënatyrë'!$H$19:$H$1015)","v":0}]
[null,null,null,null,null,null,null,null,null,{"$f":"SUMIF($G$19:$G$1015,$G74,$H$19:$H$1015)+SUMIF('2.cTë ardhura-jopublik-nënatyrë'!$G$19:$G$1015,'2.bTë ardhura-jopublik-monetare'!$G74,'2.cTë ardhura-jopublik-nënatyrë'!$H$19:$H$1015)","v":0}]
[null,null,null,null,null,null,null,null,null,{"$f":"SUMIF($G$19:$G$1015,$G75,$H$19:$H$1015)+SUMIF('2.cTë ardhura-jopublik-nënatyrë'!$G$19:$G$1015,'2.bTë ardhura-jopublik-monetare'!$G75,'2.cTë ardhura-jopublik-nënatyrë'!$H$19:$H$1015)","v":0}]
[null,null,null,null,null,null,null,null,null,{"$f":"SUMIF($G$19:$G$1015,$G76,$H$19:$H$1015)+SUMIF('2.cTë ardhura-jopublik-nënatyrë'!$G$19:$G$1015,'2.bTë ardhura-jopublik-monetare'!$G76,'2.cTë ardhura-jopublik-nënatyrë'!$H$19:$H$1015)","v":0}]
[null,null,null,null,null,null,null,null,null,{"$f":"SUMIF($G$19:$G$1015,$G77,$H$19:$H$1015)+SUMIF('2.cTë ardhura-jopublik-nënatyrë'!$G$19:$G$1015,'2.bTë ardhura-jopublik-monetare'!$G77,'2.cTë ardhura-jopublik-nënatyrë'!$H$19:$H$1015)","v":0}]
[null,null,null,null,null,null,null,null,null,{"$f":"SUMIF($G$19:$G$1015,$G78,$H$19:$H$1015)+SUMIF('2.cTë ardhura-jopublik-nënatyrë'!$G$19:$G$1015,'2.bTë ardhura-jopublik-monetare'!$G78,'2.cTë ardhura-jopublik-nënatyrë'!$H$19:$H$1015)","v":0}]
[null,null,null,null,null,null,null,null,null,{"$f":"SUMIF($G$19:$G$1015,$G79,$H$19:$H$1015)+SUMIF('2.cTë ardhura-jopublik-nënatyrë'!$G$19:$G$1015,'2.bTë ardhura-jopublik-monetare'!$G79,'2.cTë ardhura-jopublik-nënatyrë'!$H$19:$H$1015)","v":0}]
[null,null,null,null,null,null,null,null,null,{"$f":"SUMIF($G$19:$G$1015,$G80,$H$19:$H$1015)+SUMIF('2.cTë ardhura-jopublik-nënatyrë'!$G$19:$G$1015,'2.bTë ardhura-jopublik-monetare'!$G80,'2.cTë ardhura-jopublik-nënatyrë'!$H$19:$H$1015)","v":0}]
[null,null,null,null,null,null,null,null,null,{"$f":"SUMIF($G$19:$G$1015,$G81,$H$19:$H$1015)+SUMIF('2.cTë ardhura-jopublik-nënatyrë'!$G$19:$G$1015,'2.bTë ardhura-jopublik-monetare'!$G81,'2.cTë ardhura-jopublik-nënatyrë'!$H$19:$H$1015)","v":0}]
[null,null,null,null,null,null,null,null,null,{"$f":"SUMIF($G$19:$G$1015,$G82,$H$19:$H$1015)+SUMIF('2.cTë ardhura-jopublik-nënatyrë'!$G$19:$G$1015,'2.bTë ardhura-jopublik-monetare'!$G82,'2.cTë ardhura-jopublik-nënatyrë'!$H$19:$H$1015)","v":0}]
[null,null,null,null,null,null,null,null,null,{"$f":"SUMIF($G$19:$G$1015,$G83,$H$19:$H$1015)+SUMIF('2.cTë ardhura-jopublik-nënatyrë'!$G$19:$G$1015,'2.bTë ardhura-jopublik-monetare'!$G83,'2.cTë ardhura-jopublik-nënatyrë'!$H$19:$H$1015)","v":0}]
[null,null,null,null,null,null,null,null,null,{"$f":"SUMIF($G$19:$G$1015,$G84,$H$19:$H$1015)+SUMIF('2.cTë ardhura-jopublik-nënatyrë'!$G$19:$G$1015,'2.bTë ardhura-jopublik-monetare'!$G84,'2.cTë ardhura-jopublik-nënatyrë'!$H$19:$H$1015)","v":0}]
[null,null,null,null,null,null,null,null,null,{"$f":"SUMIF($G$19:$G$1015,$G85,$H$19:$H$1015)+SUMIF('2.cTë ardhura-jopublik-nënatyrë'!$G$19:$G$1015,'2.bTë ardhura-jopublik-monetare'!$G85,'2.cTë ardhura-jopublik-nënatyrë'!$H$19:$H$1015)","v":0}]
[null,null,null,null,null,null,null,null,null,{"$f":"SUMIF($G$19:$G$1015,$G86,$H$19:$H$1015)+SUMIF('2.cTë ardhura-jopublik-nënatyrë'!$G$19:$G$1015,'2.bTë ardhura-jopublik-monetare'!$G86,'2.cTë ardhura-jopublik-nënatyrë'!$H$19:$H$1015)","v":0}]
[null,null,null,null,null,null,null,null,null,{"$f":"SUMIF($G$19:$G$1015,$G87,$H$19:$H$1015)+SUMIF('2.cTë ardhura-jopublik-nënatyrë'!$G$19:$G$1015,'2.bTë ardhura-jopublik-monetare'!$G87,'2.cTë ardhura-jopublik-nënatyrë'!$H$19:$H$1015)","v":0}]
[null,null,null,null,null,null,null,null,null,{"$f":"SUMIF($G$19:$G$1015,$G88,$H$19:$H$1015)+SUMIF('2.cTë ardhura-jopublik-nënatyrë'!$G$19:$G$1015,'2.bTë ardhura-jopublik-monetare'!$G88,'2.cTë ardhura-jopublik-nënatyrë'!$H$19:$H$1015)","v":0}]
[null,null,null,null,null,null,null,null,null,{"$f":"SUMIF($G$19:$G$1015,$G89,$H$19:$H$1015)+SUMIF('2.cTë ardhura-jopublik-nënatyrë'!$G$19:$G$1015,'2.bTë ardhura-jopublik-monetare'!$G89,'2.cTë ardhura-jopublik-nënatyrë'!$H$19:$H$1015)","v":0}]
[null,null,null,null,null,null,null,null,null,{"$f":"SUMIF($G$19:$G$1015,$G90,$H$19:$H$1015)+SUMIF('2.cTë ardhura-jopublik-nënatyrë'!$G$19:$G$1015,'2.bTë ardhura-jopublik-monetare'!$G90,'2.cTë ardhura-jopublik-nënatyrë'!$H$19:$H$1015)","v":0}]
[null,null,null,null,null,null,null,null,null,{"$f":"SUMIF($G$19:$G$1015,$G91,$H$19:$H$1015)+SUMIF('2.cTë ardhura-jopublik-nënatyrë'!$G$19:$G$1015,'2.bTë ardhura-jopublik-monetare'!$G91,'2.cTë ardhura-jopublik-nënatyrë'!$H$19:$H$1015)","v":0}]
[null,null,null,null,null,null,null,null,null,{"$f":"SUMIF($G$19:$G$1015,$G92,$H$19:$H$1015)+SUMIF('2.cTë ardhura-jopublik-nënatyrë'!$G$19:$G$1015,'2.bTë ardhura-jopublik-monetare'!$G92,'2.cTë ardhura-jopublik-nënatyrë'!$H$19:$H$1015)","v":0}]
[null,null,null,null,null,null,null,null,null,{"$f":"SUMIF($G$19:$G$1015,$G93,$H$19:$H$1015)+SUMIF('2.cTë ardhura-jopublik-nënatyrë'!$G$19:$G$1015,'2.bTë ardhura-jopublik-monetare'!$G93,'2.cTë ardhura-jopublik-nënatyrë'!$H$19:$H$1015)","v":0}]
[null,null,null,null,null,null,null,null,null,{"$f":"SUMIF($G$19:$G$1015,$G94,$H$19:$H$1015)+SUMIF('2.cTë ardhura-jopublik-nënatyrë'!$G$19:$G$1015,'2.bTë ardhura-jopublik-monetare'!$G94,'2.cTë ardhura-jopublik-nënatyrë'!$H$19:$H$1015)","v":0}]
[null,null,null,null,null,null,null,null,null,{"$f":"SUMIF($G$19:$G$1015,$G95,$H$19:$H$1015)+SUMIF('2.cTë ardhura-jopublik-nënatyrë'!$G$19:$G$1015,'2.bTë ardhura-jopublik-monetare'!$G95,'2.cTë ardhura-jopublik-nënatyrë'!$H$19:$H$1015)","v":0}]
[null,null,null,null,null,null,null,null,null,{"$f":"SUMIF($G$19:$G$1015,$G96,$H$19:$H$1015)+SUMIF('2.cTë ardhura-jopublik-nënatyrë'!$G$19:$G$1015,'2.bTë ardhura-jopublik-monetare'!$G96,'2.cTë ardhura-jopublik-nënatyrë'!$H$19:$H$1015)","v":0}]
[null,null,null,null,null,null,null,null,null,{"$f":"SUMIF($G$19:$G$1015,$G97,$H$19:$H$1015)+SUMIF('2.cTë ardhura-jopublik-nënatyrë'!$G$19:$G$1015,'2.bTë ardhura-jopublik-monetare'!$G97,'2.cTë ardhura-jopublik-nënatyrë'!$H$19:$H$1015)","v":0}]
[null,null,null,null,null,null,null,null,null,{"$f":"SUMIF($G$19:$G$1015,$G98,$H$19:$H$1015)+SUMIF('2.cTë ardhura-jopublik-nënatyrë'!$G$19:$G$1015,'2.bTë ardhura-jopublik-monetare'!$G98,'2.cTë ardhura-jopublik-nënatyrë'!$H$19:$H$1015)","v":0}]
[null,null,null,null,null,null,null,null,null,{"$f":"SUMIF($G$19:$G$1015,$G99,$H$19:$H$1015)+SUMIF('2.cTë ardhura-jopublik-nënatyrë'!$G$19:$G$1015,'2.bTë ardhura-jopublik-monetare'!$G99,'2.cTë ardhura-jopublik-nënatyrë'!$H$19:$H$1015)","v":0}]
[null,null,null,null,null,null,null,null,null,{"$f":"SUMIF($G$19:$G$1015,$G100,$H$19:$H$1015)+SUMIF('2.cTë ardhura-jopublik-nënatyrë'!$G$19:$G$1015,'2.bTë ardhura-jopublik-monetare'!$G100,'2.cTë ardhura-jopublik-nënatyrë'!$H$19:$H$1015)","v":0}]
[null,null,null,null,null,null,null,null,null,{"$f":"SUMIF($G$19:$G$1015,$G101,$H$19:$H$1015)+SUMIF('2.cTë ardhura-jopublik-nënatyrë'!$G$19:$G$1015,'2.bTë ardhura-jopublik-monetare'!$G101,'2.cTë ardhura-jopublik-nënatyrë'!$H$19:$H$1015)","v":0}]
[null,null,null,null,null,null,null,null,null,{"$f":"SUMIF($G$19:$G$1015,$G102,$H$19:$H$1015)+SUMIF('2.cTë ardhura-jopublik-nënatyrë'!$G$19:$G$1015,'2.bTë ardhura-jopublik-monetare'!$G102,'2.cTë ardhura-jopublik-nënatyrë'!$H$19:$H$1015)","v":0}]
[null,null,null,null,null,null,null,null,null,{"$f":"SUMIF($G$19:$G$1015,$G103,$H$19:$H$1015)+SUMIF('2.cTë ardhura-jopublik-nënatyrë'!$G$19:$G$1015,'2.bTë ardhura-jopublik-monetare'!$G103,'2.cTë ardhura-jopublik-nënatyrë'!$H$19:$H$1015)","v":0}]
[null,null,null,null,null,null,null,null,null,{"$f":"SUMIF($G$19:$G$1015,$G104,$H$19:$H$1015)+SUMIF('2.cTë ardhura-jopublik-nënatyrë'!$G$19:$G$1015,'2.bTë ardhura-jopublik-monetare'!$G104,'2.cTë ardhura-jopublik-nënatyrë'!$H$19:$H$1015)","v":0}]
[null,null,null,null,null,null,null,null,null,{"$f":"SUMIF($G$19:$G$1015,$G105,$H$19:$H$1015)+SUMIF('2.cTë ardhura-jopublik-nënatyrë'!$G$19:$G$1015,'2.bTë ardhura-jopublik-monetare'!$G105,'2.cTë ardhura-jopublik-nënatyrë'!$H$19:$H$1015)","v":0}]
[null,null,null,null,null,null,null,null,null,{"$f":"SUMIF($G$19:$G$1015,$G106,$H$19:$H$1015)+SUMIF('2.cTë ardhura-jopublik-nënatyrë'!$G$19:$G$1015,'2.bTë ardhura-jopublik-monetare'!$G106,'2.cTë ardhura-jopublik-nënatyrë'!$H$19:$H$1015)","v":0}]
[null,null,null,null,null,null,null,null,null,{"$f":"SUMIF($G$19:$G$1015,$G107,$H$19:$H$1015)+SUMIF('2.cTë ardhura-jopublik-nënatyrë'!$G$19:$G$1015,'2.bTë ardhura-jopublik-monetare'!$G107,'2.cTë ardhura-jopublik-nënatyrë'!$H$19:$H$1015)","v":0}]
[null,null,null,null,null,null,null,null,null,{"$f":"SUMIF($G$19:$G$1015,$G108,$H$19:$H$1015)+SUMIF('2.cTë ardhura-jopublik-nënatyrë'!$G$19:$G$1015,'2.bTë ardhura-jopublik-monetare'!$G108,'2.cTë ardhura-jopublik-nënatyrë'!$H$19:$H$1015)","v":0}]
[null,null,null,null,null,null,null,null,null,{"$f":"SUMIF($G$19:$G$1015,$G109,$H$19:$H$1015)+SUMIF('2.cTë ardhura-jopublik-nënatyrë'!$G$19:$G$1015,'2.bTë ardhura-jopublik-monetare'!$G109,'2.cTë ardhura-jopublik-nënatyrë'!$H$19:$H$1015)","v":0}]
[null,null,null,null,null,null,null,null,null,{"$f":"SUMIF($G$19:$G$1015,$G110,$H$19:$H$1015)+SUMIF('2.cTë ardhura-jopublik-nënatyrë'!$G$19:$G$1015,'2.bTë ardhura-jopublik-monetare'!$G110,'2.cTë ardhura-jopublik-nënatyrë'!$H$19:$H$1015)","v":0}]
[null,null,null,null,null,null,null,null,null,{"$f":"SUMIF($G$19:$G$1015,$G111,$H$19:$H$1015)+SUMIF('2.cTë ardhura-jopublik-nënatyrë'!$G$19:$G$1015,'2.bTë ardhura-jopublik-monetare'!$G111,'2.cTë ardhura-jopublik-nënatyrë'!$H$19:$H$1015)","v":0}]
[null,null,null,null,null,null,null,null,null,{"$f":"SUMIF($G$19:$G$1015,$G112,$H$19:$H$1015)+SUMIF('2.cTë ardhura-jopublik-nënatyrë'!$G$19:$G$1015,'2.bTë ardhura-jopublik-monetare'!$G112,'2.cTë ardhura-jopublik-nënatyrë'!$H$19:$H$1015)","v":0}]
[null,null,null,null,null,null,null,null,null,{"$f":"SUMIF($G$19:$G$1015,$G113,$H$19:$H$1015)+SUMIF('2.cTë ardhura-jopublik-nënatyrë'!$G$19:$G$1015,'2.bTë ardhura-jopublik-monetare'!$G113,'2.cTë ardhura-jopublik-nënatyrë'!$H$19:$H$1015)","v":0}]
[null,null,null,null,null,null,null,null,null,{"$f":"SUMIF($G$19:$G$1015,$G114,$H$19:$H$1015)+SUMIF('2.cTë ardhura-jopublik-nënatyrë'!$G$19:$G$1015,'2.bTë ardhura-jopublik-monetare'!$G114,'2.cTë ardhura-jopublik-nënatyrë'!$H$19:$H$1015)","v":0}]
[null,null,null,null,null,null,null,null,null,{"$f":"SUMIF($G$19:$G$1015,$G115,$H$19:$H$1015)+SUMIF('2.cTë ardhura-jopublik-nënatyrë'!$G$19:$G$1015,'2.bTë ardhura-jopublik-monetare'!$G115,'2.cTë ardhura-jopublik-nënatyrë'!$H$19:$H$1015)","v":0}]
[null,null,null,null,null,null,null,null,null,{"$f":"SUMIF($G$19:$G$1015,$G116,$H$19:$H$1015)+SUMIF('2.cTë ardhura-jopublik-nënatyrë'!$G$19:$G$1015,'2.bTë ardhura-jopublik-monetare'!$G116,'2.cTë ardhura-jopublik-nënatyrë'!$H$19:$H$1015)","v":0}]
[null,null,null,null,null,null,null,null,null,{"$f":"SUMIF($G$19:$G$1015,$G117,$H$19:$H$1015)+SUMIF('2.cTë ardhura-jopublik-nënatyrë'!$G$19:$G$1015,'2.bTë ardhura-jopublik-monetare'!$G117,'2.cTë ardhura-jopublik-nënatyrë'!$H$19:$H$1015)","v":0}]
[null,null,null,null,null,null,null,null,null,{"$f":"SUMIF($G$19:$G$1015,$G118,$H$19:$H$1015)+SUMIF('2.cTë ardhura-jopublik-nënatyrë'!$G$19:$G$1015,'2.bTë ardhura-jopublik-monetare'!$G118,'2.cTë ardhura-jopublik-nënatyrë'!$H$19:$H$1015)","v":0}]
[null,null,null,null,null,null,null,null,null,{"$f":"SUMIF($G$19:$G$1015,$G119,$H$19:$H$1015)+SUMIF('2.cTë ardhura-jopublik-nënatyrë'!$G$19:$G$1015,'2.bTë ardhura-jopublik-monetare'!$G119,'2.cTë ardhura-jopublik-nënatyrë'!$H$19:$H$1015)","v":0}]
[null,null,null,null,null,null,null,null,null,{"$f":"SUMIF($G$19:$G$1015,$G120,$H$19:$H$1015)+SUMIF('2.cTë ardhura-jopublik-nënatyrë'!$G$19:$G$1015,'2.bTë ardhura-jopublik-monetare'!$G120,'2.cTë ardhura-jopublik-nënatyrë'!$H$19:$H$1015)","v":0}]
[null,null,null,null,null,null,null,null,null,{"$f":"SUMIF($G$19:$G$1015,$G121,$H$19:$H$1015)+SUMIF('2.cTë ardhura-jopublik-nënatyrë'!$G$19:$G$1015,'2.bTë ardhura-jopublik-monetare'!$G121,'2.cTë ardhura-jopublik-nënatyrë'!$H$19:$H$1015)","v":0}]
[null,null,null,null,null,null,null,null,null,{"$f":"SUMIF($G$19:$G$1015,$G122,$H$19:$H$1015)+SUMIF('2.cTë ardhura-jopublik-nënatyrë'!$G$19:$G$1015,'2.bTë ardhura-jopublik-monetare'!$G122,'2.cTë ardhura-jopublik-nënatyrë'!$H$19:$H$1015)","v":0}]
[null,null,null,null,null,null,null,null,null,{"$f":"SUMIF($G$19:$G$1015,$G123,$H$19:$H$1015)+SUMIF('2.cTë ardhura-jopublik-nënatyrë'!$G$19:$G$1015,'2.bTë ardhura-jopublik-monetare'!$G123,'2.cTë ardhura-jopublik-nënatyrë'!$H$19:$H$1015)","v":0}]
[null,null,null,null,null,null,null,null,null,{"$f":"SUMIF($G$19:$G$1015,$G124,$H$19:$H$1015)+SUMIF('2.cTë ardhura-jopublik-nënatyrë'!$G$19:$G$1015,'2.bTë ardhura-jopublik-monetare'!$G124,'2.cTë ardhura-jopublik-nënatyrë'!$H$19:$H$1015)","v":0}]
[null,null,null,null,null,null,null,null,null,{"$f":"SUMIF($G$19:$G$1015,$G125,$H$19:$H$1015)+SUMIF('2.cTë ardhura-jopublik-nënatyrë'!$G$19:$G$1015,'2.bTë ardhura-jopublik-monetare'!$G125,'2.cTë ardhura-jopublik-nënatyrë'!$H$19:$H$1015)","v":0}]
[null,null,null,null,null,null,null,null,null,{"$f":"SUMIF($G$19:$G$1015,$G126,$H$19:$H$1015)+SUMIF('2.cTë ardhura-jopublik-nënatyrë'!$G$19:$G$1015,'2.bTë ardhura-jopublik-monetare'!$G126,'2.cTë ardhura-jopublik-nënatyrë'!$H$19:$H$1015)","v":0}]
[null,null,null,null,null,null,null,null,null,{"$f":"SUMIF($G$19:$G$1015,$G127,$H$19:$H$1015)+SUMIF('2.cTë ardhura-jopublik-nënatyrë'!$G$19:$G$1015,'2.bTë ardhura-jopublik-monetare'!$G127,'2.cTë ardhura-jopublik-nënatyrë'!$H$19:$H$1015)","v":0}]
[null,null,null,null,null,null,null,null,null,{"$f":"SUMIF($G$19:$G$1015,$G128,$H$19:$H$1015)+SUMIF('2.cTë ardhura-jopublik-nënatyrë'!$G$19:$G$1015,'2.bTë ardhura-jopublik-monetare'!$G128,'2.cTë ardhura-jopublik-nënatyrë'!$H$19:$H$1015)","v":0}]
[null,null,null,null,null,null,null,null,null,{"$f":"SUMIF($G$19:$G$1015,$G129,$H$19:$H$1015)+SUMIF('2.cTë ardhura-jopublik-nënatyrë'!$G$19:$G$1015,'2.bTë ardhura-jopublik-monetare'!$G129,'2.cTë ardhura-jopublik-nënatyrë'!$H$19:$H$1015)","v":0}]
[null,null,null,null,null,null,null,null,null,{"$f":"SUMIF($G$19:$G$1015,$G130,$H$19:$H$1015)+SUMIF('2.cTë ardhura-jopublik-nënatyrë'!$G$19:$G$1015,'2.bTë ardhura-jopublik-monetare'!$G130,'2.cTë ardhura-jopublik-nënatyrë'!$H$19:$H$1015)","v":0}]
[null,null,null,null,null,null,null,null,null,{"$f":"SUMIF($G$19:$G$1015,$G131,$H$19:$H$1015)+SUMIF('2.cTë ardhura-jopublik-nënatyrë'!$G$19:$G$1015,'2.bTë ardhura-jopublik-monetare'!$G131,'2.cTë ardhura-jopublik-nënatyrë'!$H$19:$H$1015)","v":0}]
[null,null,null,null,null,null,null,null,null,{"$f":"SUMIF($G$19:$G$1015,$G132,$H$19:$H$1015)+SUMIF('2.cTë ardhura-jopublik-nënatyrë'!$G$19:$G$1015,'2.bTë ardhura-jopublik-monetare'!$G132,'2.cTë ardhura-jopublik-nënatyrë'!$H$19:$H$1015)","v":0}]
[null,null,null,null,null,null,null,null,null,{"$f":"SUMIF($G$19:$G$1015,$G133,$H$19:$H$1015)+SUMIF('2.cTë ardhura-jopublik-nënatyrë'!$G$19:$G$1015,'2.bTë ardhura-jopublik-monetare'!$G133,'2.cTë ardhura-jopublik-nënatyrë'!$H$19:$H$1015)","v":0}]
[null,null,null,null,null,null,null,null,null,{"$f":"SUMIF($G$19:$G$1015,$G134,$H$19:$H$1015)+SUMIF('2.cTë ardhura-jopublik-nënatyrë'!$G$19:$G$1015,'2.bTë ardhura-jopublik-monetare'!$G134,'2.cTë ardhura-jopublik-nënatyrë'!$H$19:$H$1015)","v":0}]
[null,null,null,null,null,null,null,null,null,{"$f":"SUMIF($G$19:$G$1015,$G135,$H$19:$H$1015)+SUMIF('2.cTë ardhura-jopublik-nënatyrë'!$G$19:$G$1015,'2.bTë ardhura-jopublik-monetare'!$G135,'2.cTë ardhura-jopublik-nënatyrë'!$H$19:$H$1015)","v":0}]
[null,null,null,null,null,null,null,null,null,{"$f":"SUMIF($G$19:$G$1015,$G136,$H$19:$H$1015)+SUMIF('2.cTë ardhura-jopublik-nënatyrë'!$G$19:$G$1015,'2.bTë ardhura-jopublik-monetare'!$G136,'2.cTë ardhura-jopublik-nënatyrë'!$H$19:$H$1015)","v":0}]
[null,null,null,null,null,null,null,null,null,{"$f":"SUMIF($G$19:$G$1015,$G137,$H$19:$H$1015)+SUMIF('2.cTë ardhura-jopublik-nënatyrë'!$G$19:$G$1015,'2.bTë ardhura-jopublik-monetare'!$G137,'2.cTë ardhura-jopublik-nënatyrë'!$H$19:$H$1015)","v":0}]
[null,null,null,null,null,null,null,null,null,{"$f":"SUMIF($G$19:$G$1015,$G138,$H$19:$H$1015)+SUMIF('2.cTë ardhura-jopublik-nënatyrë'!$G$19:$G$1015,'2.bTë ardhura-jopublik-monetare'!$G138,'2.cTë ardhura-jopublik-nënatyrë'!$H$19:$H$1015)","v":0}]
[null,null,null,null,null,null,null,null,null,{"$f":"SUMIF($G$19:$G$1015,$G139,$H$19:$H$1015)+SUMIF('2.cTë ardhura-jopublik-nënatyrë'!$G$19:$G$1015,'2.bTë ardhura-jopublik-monetare'!$G139,'2.cTë ardhura-jopublik-nënatyrë'!$H$19:$H$1015)","v":0}]
[null,null,null,null,null,null,null,null,null,{"$f":"SUMIF($G$19:$G$1015,$G140,$H$19:$H$1015)+SUMIF('2.cTë ardhura-jopublik-nënatyrë'!$G$19:$G$1015,'2.bTë ardhura-jopublik-monetare'!$G140,'2.cTë ardhura-jopublik-nënatyrë'!$H$19:$H$1015)","v":0}]
[null,null,null,null,null,null,null,null,null,{"$f":"SUMIF($G$19:$G$1015,$G141,$H$19:$H$1015)+SUMIF('2.cTë ardhura-jopublik-nënatyrë'!$G$19:$G$1015,'2.bTë ardhura-jopublik-monetare'!$G141,'2.cTë ardhura-jopublik-nënatyrë'!$H$19:$H$1015)","v":0}]
[null,null,null,null,null,null,null,null,null,{"$f":"SUMIF($G$19:$G$1015,$G142,$H$19:$H$1015)+SUMIF('2.cTë ardhura-jopublik-nënatyrë'!$G$19:$G$1015,'2.bTë ardhura-jopublik-monetare'!$G142,'2.cTë ardhura-jopublik-nënatyrë'!$H$19:$H$1015)","v":0}]
[null,null,null,null,null,null,null,null,null,{"$f":"SUMIF($G$19:$G$1015,$G143,$H$19:$H$1015)+SUMIF('2.cTë ardhura-jopublik-nënatyrë'!$G$19:$G$1015,'2.bTë ardhura-jopublik-monetare'!$G143,'2.cTë ardhura-jopublik-nënatyrë'!$H$19:$H$1015)","v":0}]
[null,null,null,null,null,null,null,null,null,{"$f":"SUMIF($G$19:$G$1015,$G144,$H$19:$H$1015)+SUMIF('2.cTë ardhura-jopublik-nënatyrë'!$G$19:$G$1015,'2.bTë ardhura-jopublik-monetare'!$G144,'2.cTë ardhura-jopublik-nënatyrë'!$H$19:$H$1015)","v":0}]
[null,null,null,null,null,null,null,null,null,{"$f":"SUMIF($G$19:$G$1015,$G145,$H$19:$H$1015)+SUMIF('2.cTë ardhura-jopublik-nënatyrë'!$G$19:$G$1015,'2.bTë ardhura-jopublik-monetare'!$G145,'2.cTë ardhura-jopublik-nënatyrë'!$H$19:$H$1015)","v":0}]
[null,null,null,null,null,null,null,null,null,{"$f":"SUMIF($G$19:$G$1015,$G146,$H$19:$H$1015)+SUMIF('2.cTë ardhura-jopublik-nënatyrë'!$G$19:$G$1015,'2.bTë ardhura-jopublik-monetare'!$G146,'2.cTë ardhura-jopublik-nënatyrë'!$H$19:$H$1015)","v":0}]
[null,null,null,null,null,null,null,null,null,{"$f":"SUMIF($G$19:$G$1015,$G147,$H$19:$H$1015)+SUMIF('2.cTë ardhura-jopublik-nënatyrë'!$G$19:$G$1015,'2.bTë ardhura-jopublik-monetare'!$G147,'2.cTë ardhura-jopublik-nënatyrë'!$H$19:$H$1015)","v":0}]
[null,null,null,null,null,null,null,null,null,{"$f":"SUMIF($G$19:$G$1015,$G148,$H$19:$H$1015)+SUMIF('2.cTë ardhura-jopublik-nënatyrë'!$G$19:$G$1015,'2.bTë ardhura-jopublik-monetare'!$G148,'2.cTë ardhura-jopublik-nënatyrë'!$H$19:$H$1015)","v":0}]
[null,null,null,null,null,null,null,null,null,{"$f":"SUMIF($G$19:$G$1015,$G149,$H$19:$H$1015)+SUMIF('2.cTë ardhura-jopublik-nënatyrë'!$G$19:$G$1015,'2.bTë ardhura-jopublik-monetare'!$G149,'2.cTë ardhura-jopublik-nënatyrë'!$H$19:$H$1015)","v":0}]
[null,null,null,null,null,null,null,null,null,{"$f":"SUMIF($G$19:$G$1015,$G150,$H$19:$H$1015)+SUMIF('2.cTë ardhura-jopublik-nënatyrë'!$G$19:$G$1015,'2.bTë ardhura-jopublik-monetare'!$G150,'2.cTë ardhura-jopublik-nënatyrë'!$H$19:$H$1015)","v":0}]
[null,null,null,null,null,null,null,null,null,{"$f":"SUMIF($G$19:$G$1015,$G151,$H$19:$H$1015)+SUMIF('2.cTë ardhura-jopublik-nënatyrë'!$G$19:$G$1015,'2.bTë ardhura-jopublik-monetare'!$G151,'2.cTë ardhura-jopublik-nënatyrë'!$H$19:$H$1015)","v":0}]
[null,null,null,null,null,null,null,null,null,{"$f":"SUMIF($G$19:$G$1015,$G152,$H$19:$H$1015)+SUMIF('2.cTë ardhura-jopublik-nënatyrë'!$G$19:$G$1015,'2.bTë ardhura-jopublik-monetare'!$G152,'2.cTë ardhura-jopublik-nënatyrë'!$H$19:$H$1015)","v":0}]
[null,null,null,null,null,null,null,null,null,{"$f":"SUMIF($G$19:$G$1015,$G153,$H$19:$H$1015)+SUMIF('2.cTë ardhura-jopublik-nënatyrë'!$G$19:$G$1015,'2.bTë ardhura-jopublik-monetare'!$G153,'2.cTë ardhura-jopublik-nënatyrë'!$H$19:$H$1015)","v":0}]
[null,null,null,null,null,null,null,null,null,{"$f":"SUMIF($G$19:$G$1015,$G154,$H$19:$H$1015)+SUMIF('2.cTë ardhura-jopublik-nënatyrë'!$G$19:$G$1015,'2.bTë ardhura-jopublik-monetare'!$G154,'2.cTë ardhura-jopublik-nënatyrë'!$H$19:$H$1015)","v":0}]
[null,null,null,null,null,null,null,null,null,{"$f":"SUMIF($G$19:$G$1015,$G155,$H$19:$H$1015)+SUMIF('2.cTë ardhura-jopublik-nënatyrë'!$G$19:$G$1015,'2.bTë ardhura-jopublik-monetare'!$G155,'2.cTë ardhura-jopublik-nënatyrë'!$H$19:$H$1015)","v":0}]
[null,null,null,null,null,null,null,null,null,{"$f":"SUMIF($G$19:$G$1015,$G156,$H$19:$H$1015)+SUMIF('2.cTë ardhura-jopublik-nënatyrë'!$G$19:$G$1015,'2.bTë ardhura-jopublik-monetare'!$G156,'2.cTë ardhura-jopublik-nënatyrë'!$H$19:$H$1015)","v":0}]
[null,null,null,null,null,null,null,null,null,{"$f":"SUMIF($G$19:$G$1015,$G157,$H$19:$H$1015)+SUMIF('2.cTë ardhura-jopublik-nënatyrë'!$G$19:$G$1015,'2.bTë ardhura-jopublik-monetare'!$G157,'2.cTë ardhura-jopublik-nënatyrë'!$H$19:$H$1015)","v":0}]
[null,null,null,null,null,null,null,null,null,{"$f":"SUMIF($G$19:$G$1015,$G158,$H$19:$H$1015)+SUMIF('2.cTë ardhura-jopublik-nënatyrë'!$G$19:$G$1015,'2.bTë ardhura-jopublik-monetare'!$G158,'2.cTë ardhura-jopublik-nënatyrë'!$H$19:$H$1015)","v":0}]
[null,null,null,null,null,null,null,null,null,{"$f":"SUMIF($G$19:$G$1015,$G159,$H$19:$H$1015)+SUMIF('2.cTë ardhura-jopublik-nënatyrë'!$G$19:$G$1015,'2.bTë ardhura-jopublik-monetare'!$G159,'2.cTë ardhura-jopublik-nënatyrë'!$H$19:$H$1015)","v":0}]
[null,null,null,null,null,null,null,null,null,{"$f":"SUMIF($G$19:$G$1015,$G160,$H$19:$H$1015)+SUMIF('2.cTë ardhura-jopublik-nënatyrë'!$G$19:$G$1015,'2.bTë ardhura-jopublik-monetare'!$G160,'2.cTë ardhura-jopublik-nënatyrë'!$H$19:$H$1015)","v":0}]
[null,null,null,null,null,null,null,null,null,{"$f":"SUMIF($G$19:$G$1015,$G161,$H$19:$H$1015)+SUMIF('2.cTë ardhura-jopublik-nënatyrë'!$G$19:$G$1015,'2.bTë ardhura-jopublik-monetare'!$G161,'2.cTë ardhura-jopublik-nënatyrë'!$H$19:$H$1015)","v":0}]
[null,null,null,null,null,null,null,null,null,{"$f":"SUMIF($G$19:$G$1015,$G162,$H$19:$H$1015)+SUMIF('2.cTë ardhura-jopublik-nënatyrë'!$G$19:$G$1015,'2.bTë ardhura-jopublik-monetare'!$G162,'2.cTë ardhura-jopublik-nënatyrë'!$H$19:$H$1015)","v":0}]
[null,null,null,null,null,null,null,null,null,{"$f":"SUMIF($G$19:$G$1015,$G163,$H$19:$H$1015)+SUMIF('2.cTë ardhura-jopublik-nënatyrë'!$G$19:$G$1015,'2.bTë ardhura-jopublik-monetare'!$G163,'2.cTë ardhura-jopublik-nënatyrë'!$H$19:$H$1015)","v":0}]
[null,null,null,null,null,null,null,null,null,{"$f":"SUMIF($G$19:$G$1015,$G164,$H$19:$H$1015)+SUMIF('2.cTë ardhura-jopublik-nënatyrë'!$G$19:$G$1015,'2.bTë ardhura-jopublik-monetare'!$G164,'2.cTë ardhura-jopublik-nënatyrë'!$H$19:$H$1015)","v":0}]
[null,null,null,null,null,null,null,null,null,{"$f":"SUMIF($G$19:$G$1015,$G165,$H$19:$H$1015)+SUMIF('2.cTë ardhura-jopublik-nënatyrë'!$G$19:$G$1015,'2.bTë ardhura-jopublik-monetare'!$G165,'2.cTë ardhura-jopublik-nënatyrë'!$H$19:$H$1015)","v":0}]
[null,null,null,null,null,null,null,null,null,{"$f":"SUMIF($G$19:$G$1015,$G166,$H$19:$H$1015)+SUMIF('2.cTë ardhura-jopublik-nënatyrë'!$G$19:$G$1015,'2.bTë ardhura-jopublik-monetare'!$G166,'2.cTë ardhura-jopublik-nënatyrë'!$H$19:$H$1015)","v":0}]
[null,null,null,null,null,null,null,null,null,{"$f":"SUMIF($G$19:$G$1015,$G167,$H$19:$H$1015)+SUMIF('2.cTë ardhura-jopublik-nënatyrë'!$G$19:$G$1015,'2.bTë ardhura-jopublik-monetare'!$G167,'2.cTë ardhura-jopublik-nënatyrë'!$H$19:$H$1015)","v":0}]
[null,null,null,null,null,null,null,null,null,{"$f":"SUMIF($G$19:$G$1015,$G168,$H$19:$H$1015)+SUMIF('2.cTë ardhura-jopublik-nënatyrë'!$G$19:$G$1015,'2.bTë ardhura-jopublik-monetare'!$G168,'2.cTë ardhura-jopublik-nënatyrë'!$H$19:$H$1015)","v":0}]
[null,null,null,null,null,null,null,null,null,{"$f":"SUMIF($G$19:$G$1015,$G169,$H$19:$H$1015)+SUMIF('2.cTë ardhura-jopublik-nënatyrë'!$G$19:$G$1015,'2.bTë ardhura-jopublik-monetare'!$G169,'2.cTë ardhura-jopublik-nënatyrë'!$H$19:$H$1015)","v":0}]
[null,null,null,null,null,null,null,null,null,{"$f":"SUMIF($G$19:$G$1015,$G170,$H$19:$H$1015)+SUMIF('2.cTë ardhura-jopublik-nënatyrë'!$G$19:$G$1015,'2.bTë ardhura-jopublik-monetare'!$G170,'2.cTë ardhura-jopublik-nënatyrë'!$H$19:$H$1015)","v":0}]
[null,null,null,null,null,null,null,null,null,{"$f":"SUMIF($G$19:$G$1015,$G171,$H$19:$H$1015)+SUMIF('2.cTë ardhura-jopublik-nënatyrë'!$G$19:$G$1015,'2.bTë ardhura-jopublik-monetare'!$G171,'2.cTë ardhura-jopublik-nënatyrë'!$H$19:$H$1015)","v":0}]
[null,null,null,null,null,null,null,null,null,{"$f":"SUMIF($G$19:$G$1015,$G172,$H$19:$H$1015)+SUMIF('2.cTë ardhura-jopublik-nënatyrë'!$G$19:$G$1015,'2.bTë ardhura-jopublik-monetare'!$G172,'2.cTë ardhura-jopublik-nënatyrë'!$H$19:$H$1015)","v":0}]
[null,null,null,null,null,null,null,null,null,{"$f":"SUMIF($G$19:$G$1015,$G173,$H$19:$H$1015)+SUMIF('2.cTë ardhura-jopublik-nënatyrë'!$G$19:$G$1015,'2.bTë ardhura-jopublik-monetare'!$G173,'2.cTë ardhura-jopublik-nënatyrë'!$H$19:$H$1015)","v":0}]
[null,null,null,null,null,null,null,null,null,{"$f":"SUMIF($G$19:$G$1015,$G174,$H$19:$H$1015)+SUMIF('2.cTë ardhura-jopublik-nënatyrë'!$G$19:$G$1015,'2.bTë ardhura-jopublik-monetare'!$G174,'2.cTë ardhura-jopublik-nënatyrë'!$H$19:$H$1015)","v":0}]
[null,null,null,null,null,null,null,null,null,{"$f":"SUMIF($G$19:$G$1015,$G175,$H$19:$H$1015)+SUMIF('2.cTë ardhura-jopublik-nënatyrë'!$G$19:$G$1015,'2.bTë ardhura-jopublik-monetare'!$G175,'2.cTë ardhura-jopublik-nënatyrë'!$H$19:$H$1015)","v":0}]
[null,null,null,null,null,null,null,null,null,{"$f":"SUMIF($G$19:$G$1015,$G176,$H$19:$H$1015)+SUMIF('2.cTë ardhura-jopublik-nënatyrë'!$G$19:$G$1015,'2.bTë ardhura-jopublik-monetare'!$G176,'2.cTë ardhura-jopublik-nënatyrë'!$H$19:$H$1015)","v":0}]
[null,null,null,null,null,null,null,null,null,{"$f":"SUMIF($G$19:$G$1015,$G177,$H$19:$H$1015)+SUMIF('2.cTë ardhura-jopublik-nënatyrë'!$G$19:$G$1015,'2.bTë ardhura-jopublik-monetare'!$G177,'2.cTë ardhura-jopublik-nënatyrë'!$H$19:$H$1015)","v":0}]
[null,null,null,null,null,null,null,null,null,{"$f":"SUMIF($G$19:$G$1015,$G178,$H$19:$H$1015)+SUMIF('2.cTë ardhura-jopublik-nënatyrë'!$G$19:$G$1015,'2.bTë ardhura-jopublik-monetare'!$G178,'2.cTë ardhura-jopublik-nënatyrë'!$H$19:$H$1015)","v":0}]
[null,null,null,null,null,null,null,null,null,{"$f":"SUMIF($G$19:$G$1015,$G179,$H$19:$H$1015)+SUMIF('2.cTë ardhura-jopublik-nënatyrë'!$G$19:$G$1015,'2.bTë ardhura-jopublik-monetare'!$G179,'2.cTë ardhura-jopublik-nënatyrë'!$H$19:$H$1015)","v":0}]
[null,null,null,null,null,null,null,null,null,{"$f":"SUMIF($G$19:$G$1015,$G180,$H$19:$H$1015)+SUMIF('2.cTë ardhura-jopublik-nënatyrë'!$G$19:$G$1015,'2.bTë ardhura-jopublik-monetare'!$G180,'2.cTë ardhura-jopublik-nënatyrë'!$H$19:$H$1015)","v":0}]
[null,null,null,null,null,null,null,null,null,{"$f":"SUMIF($G$19:$G$1015,$G181,$H$19:$H$1015)+SUMIF('2.cTë ardhura-jopublik-nënatyrë'!$G$19:$G$1015,'2.bTë ardhura-jopublik-monetare'!$G181,'2.cTë ardhura-jopublik-nënatyrë'!$H$19:$H$1015)","v":0}]
[null,null,null,null,null,null,null,null,null,{"$f":"SUMIF($G$19:$G$1015,$G182,$H$19:$H$1015)+SUMIF('2.cTë ardhura-jopublik-nënatyrë'!$G$19:$G$1015,'2.bTë ardhura-jopublik-monetare'!$G182,'2.cTë ardhura-jopublik-nënatyrë'!$H$19:$H$1015)","v":0}]
[null,null,null,null,null,null,null,null,null,{"$f":"SUMIF($G$19:$G$1015,$G183,$H$19:$H$1015)+SUMIF('2.cTë ardhura-jopublik-nënatyrë'!$G$19:$G$1015,'2.bTë ardhura-jopublik-monetare'!$G183,'2.cTë ardhura-jopublik-nënatyrë'!$H$19:$H$1015)","v":0}]
[null,null,null,null,null,null,null,null,null,{"$f":"SUMIF($G$19:$G$1015,$G184,$H$19:$H$1015)+SUMIF('2.cTë ardhura-jopublik-nënatyrë'!$G$19:$G$1015,'2.bTë ardhura-jopublik-monetare'!$G184,'2.cTë ardhura-jopublik-nënatyrë'!$H$19:$H$1015)","v":0}]
[null,null,null,null,null,null,null,null,null,{"$f":"SUMIF($G$19:$G$1015,$G185,$H$19:$H$1015)+SUMIF('2.cTë ardhura-jopublik-nënatyrë'!$G$19:$G$1015,'2.bTë ardhura-jopublik-monetare'!$G185,'2.cTë ardhura-jopublik-nënatyrë'!$H$19:$H$1015)","v":0}]
[null,null,null,null,null,null,null,null,null,{"$f":"SUMIF($G$19:$G$1015,$G186,$H$19:$H$1015)+SUMIF('2.cTë ardhura-jopublik-nënatyrë'!$G$19:$G$1015,'2.bTë ardhura-jopublik-monetare'!$G186,'2.cTë ardhura-jopublik-nënatyrë'!$H$19:$H$1015)","v":0}]
[null,null,null,null,null,null,null,null,null,{"$f":"SUMIF($G$19:$G$1015,$G187,$H$19:$H$1015)+SUMIF('2.cTë ardhura-jopublik-nënatyrë'!$G$19:$G$1015,'2.bTë ardhura-jopublik-monetare'!$G187,'2.cTë ardhura-jopublik-nënatyrë'!$H$19:$H$1015)","v":0}]
[null,null,null,null,null,null,null,null,null,{"$f":"SUMIF($G$19:$G$1015,$G188,$H$19:$H$1015)+SUMIF('2.cTë ardhura-jopublik-nënatyrë'!$G$19:$G$1015,'2.bTë ardhura-jopublik-monetare'!$G188,'2.cTë ardhura-jopublik-nënatyrë'!$H$19:$H$1015)","v":0}]
[null,null,null,null,null,null,null,null,null,{"$f":"SUMIF($G$19:$G$1015,$G189,$H$19:$H$1015)+SUMIF('2.cTë ardhura-jopublik-nënatyrë'!$G$19:$G$1015,'2.bTë ardhura-jopublik-monetare'!$G189,'2.cTë ardhura-jopublik-nënatyrë'!$H$19:$H$1015)","v":0}]
[null,null,null,null,null,null,null,null,null,{"$f":"SUMIF($G$19:$G$1015,$G190,$H$19:$H$1015)+SUMIF('2.cTë ardhura-jopublik-nënatyrë'!$G$19:$G$1015,'2.bTë ardhura-jopublik-monetare'!$G190,'2.cTë ardhura-jopublik-nënatyrë'!$H$19:$H$1015)","v":0}]
[null,null,null,null,null,null,null,null,null,{"$f":"SUMIF($G$19:$G$1015,$G191,$H$19:$H$1015)+SUMIF('2.cTë ardhura-jopublik-nënatyrë'!$G$19:$G$1015,'2.bTë ardhura-jopublik-monetare'!$G191,'2.cTë ardhura-jopublik-nënatyrë'!$H$19:$H$1015)","v":0}]
[null,null,null,null,null,null,null,null,null,{"$f":"SUMIF($G$19:$G$1015,$G192,$H$19:$H$1015)+SUMIF('2.cTë ardhura-jopublik-nënatyrë'!$G$19:$G$1015,'2.bTë ardhura-jopublik-monetare'!$G192,'2.cTë ardhura-jopublik-nënatyrë'!$H$19:$H$1015)","v":0}]
[null,null,null,null,null,null,null,null,null,{"$f":"SUMIF($G$19:$G$1015,$G193,$H$19:$H$1015)+SUMIF('2.cTë ardhura-jopublik-nënatyrë'!$G$19:$G$1015,'2.bTë ardhura-jopublik-monetare'!$G193,'2.cTë ardhura-jopublik-nënatyrë'!$H$19:$H$1015)","v":0}]
[null,null,null,null,null,null,null,null,null,{"$f":"SUMIF($G$19:$G$1015,$G194,$H$19:$H$1015)+SUMIF('2.cTë ardhura-jopublik-nënatyrë'!$G$19:$G$1015,'2.bTë ardhura-jopublik-monetare'!$G194,'2.cTë ardhura-jopublik-nënatyrë'!$H$19:$H$1015)","v":0}]
[null,null,null,null,null,null,null,null,null,{"$f":"SUMIF($G$19:$G$1015,$G195,$H$19:$H$1015)+SUMIF('2.cTë ardhura-jopublik-nënatyrë'!$G$19:$G$1015,'2.bTë ardhura-jopublik-monetare'!$G195,'2.cTë ardhura-jopublik-nënatyrë'!$H$19:$H$1015)","v":0}]
[null,null,null,null,null,null,null,null,null,{"$f":"SUMIF($G$19:$G$1015,$G196,$H$19:$H$1015)+SUMIF('2.cTë ardhura-jopublik-nënatyrë'!$G$19:$G$1015,'2.bTë ardhura-jopublik-monetare'!$G196,'2.cTë ardhura-jopublik-nënatyrë'!$H$19:$H$1015)","v":0}]
[null,null,null,null,null,null,null,null,null,{"$f":"SUMIF($G$19:$G$1015,$G197,$H$19:$H$1015)+SUMIF('2.cTë ardhura-jopublik-nënatyrë'!$G$19:$G$1015,'2.bTë ardhura-jopublik-monetare'!$G197,'2.cTë ardhura-jopublik-nënatyrë'!$H$19:$H$1015)","v":0}]
[null,null,null,null,null,null,null,null,null,{"$f":"SUMIF($G$19:$G$1015,$G198,$H$19:$H$1015)+SUMIF('2.cTë ardhura-jopublik-nënatyrë'!$G$19:$G$1015,'2.bTë ardhura-jopublik-monetare'!$G198,'2.cTë ardhura-jopublik-nënatyrë'!$H$19:$H$1015)","v":0}]
[null,null,null,null,null,null,null,null,null,{"$f":"SUMIF($G$19:$G$1015,$G199,$H$19:$H$1015)+SUMIF('2.cTë ardhura-jopublik-nënatyrë'!$G$19:$G$1015,'2.bTë ardhura-jopublik-monetare'!$G199,'2.cTë ardhura-jopublik-nënatyrë'!$H$19:$H$1015)","v":0}]
[null,null,null,null,null,null,null,null,null,{"$f":"SUMIF($G$19:$G$1015,$G200,$H$19:$H$1015)+SUMIF('2.cTë ardhura-jopublik-nënatyrë'!$G$19:$G$1015,'2.bTë ardhura-jopublik-monetare'!$G200,'2.cTë ardhura-jopublik-nënatyrë'!$H$19:$H$1015)","v":0}]
[null,null,null,null,null,null,null,null,null,{"$f":"SUMIF($G$19:$G$1015,$G201,$H$19:$H$1015)+SUMIF('2.cTë ardhura-jopublik-nënatyrë'!$G$19:$G$1015,'2.bTë ardhura-jopublik-monetare'!$G201,'2.cTë ardhura-jopublik-nënatyrë'!$H$19:$H$1015)","v":0}]
[null,null,null,null,null,null,null,null,null,{"$f":"SUMIF($G$19:$G$1015,$G202,$H$19:$H$1015)+SUMIF('2.cTë ardhura-jopublik-nënatyrë'!$G$19:$G$1015,'2.bTë ardhura-jopublik-monetare'!$G202,'2.cTë ardhura-jopublik-nënatyrë'!$H$19:$H$1015)","v":0}]
[null,null,null,null,null,null,null,null,null,{"$f":"SUMIF($G$19:$G$1015,$G203,$H$19:$H$1015)+SUMIF('2.cTë ardhura-jopublik-nënatyrë'!$G$19:$G$1015,'2.bTë ardhura-jopublik-monetare'!$G203,'2.cTë ardhura-jopublik-nënatyrë'!$H$19:$H$1015)","v":0}]
[null,null,null,null,null,null,null,null,null,{"$f":"SUMIF($G$19:$G$1015,$G204,$H$19:$H$1015)+SUMIF('2.cTë ardhura-jopublik-nënatyrë'!$G$19:$G$1015,'2.bTë ardhura-jopublik-monetare'!$G204,'2.cTë ardhura-jopublik-nënatyrë'!$H$19:$H$1015)","v":0}]
[null,null,null,null,null,null,null,null,null,{"$f":"SUMIF($G$19:$G$1015,$G205,$H$19:$H$1015)+SUMIF('2.cTë ardhura-jopublik-nënatyrë'!$G$19:$G$1015,'2.bTë ardhura-jopublik-monetare'!$G205,'2.cTë ardhura-jopublik-nënatyrë'!$H$19:$H$1015)","v":0}]
[null,null,null,null,null,null,null,null,null,{"$f":"SUMIF($G$19:$G$1015,$G206,$H$19:$H$1015)+SUMIF('2.cTë ardhura-jopublik-nënatyrë'!$G$19:$G$1015,'2.bTë ardhura-jopublik-monetare'!$G206,'2.cTë ardhura-jopublik-nënatyrë'!$H$19:$H$1015)","v":0}]
[null,null,null,null,null,null,null,null,null,{"$f":"SUMIF($G$19:$G$1015,$G207,$H$19:$H$1015)+SUMIF('2.cTë ardhura-jopublik-nënatyrë'!$G$19:$G$1015,'2.bTë ardhura-jopublik-monetare'!$G207,'2.cTë ardhura-jopublik-nënatyrë'!$H$19:$H$1015)","v":0}]
[null,null,null,null,null,null,null,null,null,{"$f":"SUMIF($G$19:$G$1015,$G208,$H$19:$H$1015)+SUMIF('2.cTë ardhura-jopublik-nënatyrë'!$G$19:$G$1015,'2.bTë ardhura-jopublik-monetare'!$G208,'2.cTë ardhura-jopublik-nënatyrë'!$H$19:$H$1015)","v":0}]
[null,null,null,null,null,null,null,null,null,{"$f":"SUMIF($G$19:$G$1015,$G209,$H$19:$H$1015)+SUMIF('2.cTë ardhura-jopublik-nënatyrë'!$G$19:$G$1015,'2.bTë ardhura-jopublik-monetare'!$G209,'2.cTë ardhura-jopublik-nënatyrë'!$H$19:$H$1015)","v":0}]
[null,null,null,null,null,null,null,null,null,{"$f":"SUMIF($G$19:$G$1015,$G210,$H$19:$H$1015)+SUMIF('2.cTë ardhura-jopublik-nënatyrë'!$G$19:$G$1015,'2.bTë ardhura-jopublik-monetare'!$G210,'2.cTë ardhura-jopublik-nënatyrë'!$H$19:$H$1015)","v":0}]
[null,null,null,null,null,null,null,null,null,{"$f":"SUMIF($G$19:$G$1015,$G211,$H$19:$H$1015)+SUMIF('2.cTë ardhura-jopublik-nënatyrë'!$G$19:$G$1015,'2.bTë ardhura-jopublik-monetare'!$G211,'2.cTë ardhura-jopublik-nënatyrë'!$H$19:$H$1015)","v":0}]
[null,null,null,null,null,null,null,null,null,{"$f":"SUMIF($G$19:$G$1015,$G212,$H$19:$H$1015)+SUMIF('2.cTë ardhura-jopublik-nënatyrë'!$G$19:$G$1015,'2.bTë ardhura-jopublik-monetare'!$G212,'2.cTë ardhura-jopublik-nënatyrë'!$H$19:$H$1015)","v":0}]
[null,null,null,null,null,null,null,null,null,{"$f":"SUMIF($G$19:$G$1015,$G213,$H$19:$H$1015)+SUMIF('2.cTë ardhura-jopublik-nënatyrë'!$G$19:$G$1015,'2.bTë ardhura-jopublik-monetare'!$G213,'2.cTë ardhura-jopublik-nënatyrë'!$H$19:$H$1015)","v":0}]
[null,null,null,null,null,null,null,null,null,{"$f":"SUMIF($G$19:$G$1015,$G214,$H$19:$H$1015)+SUMIF('2.cTë ardhura-jopublik-nënatyrë'!$G$19:$G$1015,'2.bTë ardhura-jopublik-monetare'!$G214,'2.cTë ardhura-jopublik-nënatyrë'!$H$19:$H$1015)","v":0}]
[null,null,null,null,null,null,null,null,null,{"$f":"SUMIF($G$19:$G$1015,$G215,$H$19:$H$1015)+SUMIF('2.cTë ardhura-jopublik-nënatyrë'!$G$19:$G$1015,'2.bTë ardhura-jopublik-monetare'!$G215,'2.cTë ardhura-jopublik-nënatyrë'!$H$19:$H$1015)","v":0}]
[null,null,null,null,null,null,null,null,null,{"$f":"SUMIF($G$19:$G$1015,$G216,$H$19:$H$1015)+SUMIF('2.cTë ardhura-jopublik-nënatyrë'!$G$19:$G$1015,'2.bTë ardhura-jopublik-monetare'!$G216,'2.cTë ardhura-jopublik-nënatyrë'!$H$19:$H$1015)","v":0}]
[null,null,null,null,null,null,null,null,null,{"$f":"SUMIF($G$19:$G$1015,$G217,$H$19:$H$1015)+SUMIF('2.cTë ardhura-jopublik-nënatyrë'!$G$19:$G$1015,'2.bTë ardhura-jopublik-monetare'!$G217,'2.cTë ardhura-jopublik-nënatyrë'!$H$19:$H$1015)","v":0}]
[null,null,null,null,null,null,null,null,null,{"$f":"SUMIF($G$19:$G$1015,$G218,$H$19:$H$1015)+SUMIF('2.cTë ardhura-jopublik-nënatyrë'!$G$19:$G$1015,'2.bTë ardhura-jopublik-monetare'!$G218,'2.cTë ardhura-jopublik-nënatyrë'!$H$19:$H$1015)","v":0}]
[null,null,null,null,null,null,null,null,null,{"$f":"SUMIF($G$19:$G$1015,$G219,$H$19:$H$1015)+SUMIF('2.cTë ardhura-jopublik-nënatyrë'!$G$19:$G$1015,'2.bTë ardhura-jopublik-monetare'!$G219,'2.cTë ardhura-jopublik-nënatyrë'!$H$19:$H$1015)","v":0}]
[null,null,null,null,null,null,null,null,null,{"$f":"SUMIF($G$19:$G$1015,$G220,$H$19:$H$1015)+SUMIF('2.cTë ardhura-jopublik-nënatyrë'!$G$19:$G$1015,'2.bTë ardhura-jopublik-monetare'!$G220,'2.cTë ardhura-jopublik-nënatyrë'!$H$19:$H$1015)","v":0}]
[null,null,null,null,null,null,null,null,null,{"$f":"SUMIF($G$19:$G$1015,$G221,$H$19:$H$1015)+SUMIF('2.cTë ardhura-jopublik-nënatyrë'!$G$19:$G$1015,'2.bTë ardhura-jopublik-monetare'!$G221,'2.cTë ardhura-jopublik-nënatyrë'!$H$19:$H$1015)","v":0}]
[null,null,null,null,null,null,null,null,null,{"$f":"SUMIF($G$19:$G$1015,$G222,$H$19:$H$1015)+SUMIF('2.cTë ardhura-jopublik-nënatyrë'!$G$19:$G$1015,'2.bTë ardhura-jopublik-monetare'!$G222,'2.cTë ardhura-jopublik-nënatyrë'!$H$19:$H$1015)","v":0}]
[null,null,null,null,null,null,null,null,null,{"$f":"SUMIF($G$19:$G$1015,$G223,$H$19:$H$1015)+SUMIF('2.cTë ardhura-jopublik-nënatyrë'!$G$19:$G$1015,'2.bTë ardhura-jopublik-monetare'!$G223,'2.cTë ardhura-jopublik-nënatyrë'!$H$19:$H$1015)","v":0}]
[null,null,null,null,null,null,null,null,null,{"$f":"SUMIF($G$19:$G$1015,$G224,$H$19:$H$1015)+SUMIF('2.cTë ardhura-jopublik-nënatyrë'!$G$19:$G$1015,'2.bTë ardhura-jopublik-monetare'!$G224,'2.cTë ardhura-jopublik-nënatyrë'!$H$19:$H$1015)","v":0}]
[null,null,null,null,null,null,null,null,null,{"$f":"SUMIF($G$19:$G$1015,$G225,$H$19:$H$1015)+SUMIF('2.cTë ardhura-jopublik-nënatyrë'!$G$19:$G$1015,'2.bTë ardhura-jopublik-monetare'!$G225,'2.cTë ardhura-jopublik-nënatyrë'!$H$19:$H$1015)","v":0}]
[null,null,null,null,null,null,null,null,null,{"$f":"SUMIF($G$19:$G$1015,$G226,$H$19:$H$1015)+SUMIF('2.cTë ardhura-jopublik-nënatyrë'!$G$19:$G$1015,'2.bTë ardhura-jopublik-monetare'!$G226,'2.cTë ardhura-jopublik-nënatyrë'!$H$19:$H$1015)","v":0}]
[null,null,null,null,null,null,null,null,null,{"$f":"SUMIF($G$19:$G$1015,$G227,$H$19:$H$1015)+SUMIF('2.cTë ardhura-jopublik-nënatyrë'!$G$19:$G$1015,'2.bTë ardhura-jopublik-monetare'!$G227,'2.cTë ardhura-jopublik-nënatyrë'!$H$19:$H$1015)","v":0}]
[null,null,null,null,null,null,null,null,null,{"$f":"SUMIF($G$19:$G$1015,$G228,$H$19:$H$1015)+SUMIF('2.cTë ardhura-jopublik-nënatyrë'!$G$19:$G$1015,'2.bTë ardhura-jopublik-monetare'!$G228,'2.cTë ardhura-jopublik-nënatyrë'!$H$19:$H$1015)","v":0}]
[null,null,null,null,null,null,null,null,null,{"$f":"SUMIF($G$19:$G$1015,$G229,$H$19:$H$1015)+SUMIF('2.cTë ardhura-jopublik-nënatyrë'!$G$19:$G$1015,'2.bTë ardhura-jopublik-monetare'!$G229,'2.cTë ardhura-jopublik-nënatyrë'!$H$19:$H$1015)","v":0}]
[null,null,null,null,null,null,null,null,null,{"$f":"SUMIF($G$19:$G$1015,$G230,$H$19:$H$1015)+SUMIF('2.cTë ardhura-jopublik-nënatyrë'!$G$19:$G$1015,'2.bTë ardhura-jopublik-monetare'!$G230,'2.cTë ardhura-jopublik-nënatyrë'!$H$19:$H$1015)","v":0}]
[null,null,null,null,null,null,null,null,null,{"$f":"SUMIF($G$19:$G$1015,$G231,$H$19:$H$1015)+SUMIF('2.cTë ardhura-jopublik-nënatyrë'!$G$19:$G$1015,'2.bTë ardhura-jopublik-monetare'!$G231,'2.cTë ardhura-jopublik-nënatyrë'!$H$19:$H$1015)","v":0}]
[null,null,null,null,null,null,null,null,null,{"$f":"SUMIF($G$19:$G$1015,$G232,$H$19:$H$1015)+SUMIF('2.cTë ardhura-jopublik-nënatyrë'!$G$19:$G$1015,'2.bTë ardhura-jopublik-monetare'!$G232,'2.cTë ardhura-jopublik-nënatyrë'!$H$19:$H$1015)","v":0}]
[null,null,null,null,null,null,null,null,null,{"$f":"SUMIF($G$19:$G$1015,$G233,$H$19:$H$1015)+SUMIF('2.cTë ardhura-jopublik-nënatyrë'!$G$19:$G$1015,'2.bTë ardhura-jopublik-monetare'!$G233,'2.cTë ardhura-jopublik-nënatyrë'!$H$19:$H$1015)","v":0}]
[null,null,null,null,null,null,null,null,null,{"$f":"SUMIF($G$19:$G$1015,$G234,$H$19:$H$1015)+SUMIF('2.cTë ardhura-jopublik-nënatyrë'!$G$19:$G$1015,'2.bTë ardhura-jopublik-monetare'!$G234,'2.cTë ardhura-jopublik-nënatyrë'!$H$19:$H$1015)","v":0}]
[null,null,null,null,null,null,null,null,null,{"$f":"SUMIF($G$19:$G$1015,$G235,$H$19:$H$1015)+SUMIF('2.cTë ardhura-jopublik-nënatyrë'!$G$19:$G$1015,'2.bTë ardhura-jopublik-monetare'!$G235,'2.cTë ardhura-jopublik-nënatyrë'!$H$19:$H$1015)","v":0}]
[null,null,null,null,null,null,null,null,null,{"$f":"SUMIF($G$19:$G$1015,$G236,$H$19:$H$1015)+SUMIF('2.cTë ardhura-jopublik-nënatyrë'!$G$19:$G$1015,'2.bTë ardhura-jopublik-monetare'!$G236,'2.cTë ardhura-jopublik-nënatyrë'!$H$19:$H$1015)","v":0}]
[null,null,null,null,null,null,null,null,null,{"$f":"SUMIF($G$19:$G$1015,$G237,$H$19:$H$1015)+SUMIF('2.cTë ardhura-jopublik-nënatyrë'!$G$19:$G$1015,'2.bTë ardhura-jopublik-monetare'!$G237,'2.cTë ardhura-jopublik-nënatyrë'!$H$19:$H$1015)","v":0}]
[null,null,null,null,null,null,null,null,null,{"$f":"SUMIF($G$19:$G$1015,$G238,$H$19:$H$1015)+SUMIF('2.cTë ardhura-jopublik-nënatyrë'!$G$19:$G$1015,'2.bTë ardhura-jopublik-monetare'!$G238,'2.cTë ardhura-jopublik-nënatyrë'!$H$19:$H$1015)","v":0}]
[null,null,null,null,null,null,null,null,null,{"$f":"SUMIF($G$19:$G$1015,$G239,$H$19:$H$1015)+SUMIF('2.cTë ardhura-jopublik-nënatyrë'!$G$19:$G$1015,'2.bTë ardhura-jopublik-monetare'!$G239,'2.cTë ardhura-jopublik-nënatyrë'!$H$19:$H$1015)","v":0}]
[null,null,null,null,null,null,null,null,null,{"$f":"SUMIF($G$19:$G$1015,$G240,$H$19:$H$1015)+SUMIF('2.cTë ardhura-jopublik-nënatyrë'!$G$19:$G$1015,'2.bTë ardhura-jopublik-monetare'!$G240,'2.cTë ardhura-jopublik-nënatyrë'!$H$19:$H$1015)","v":0}]
[null,null,null,null,null,null,null,null,null,{"$f":"SUMIF($G$19:$G$1015,$G241,$H$19:$H$1015)+SUMIF('2.cTë ardhura-jopublik-nënatyrë'!$G$19:$G$1015,'2.bTë ardhura-jopublik-monetare'!$G241,'2.cTë ardhura-jopublik-nënatyrë'!$H$19:$H$1015)","v":0}]
[null,null,null,null,null,null,null,null,null,{"$f":"SUMIF($G$19:$G$1015,$G242,$H$19:$H$1015)+SUMIF('2.cTë ardhura-jopublik-nënatyrë'!$G$19:$G$1015,'2.bTë ardhura-jopublik-monetare'!$G242,'2.cTë ardhura-jopublik-nënatyrë'!$H$19:$H$1015)","v":0}]
[null,null,null,null,null,null,null,null,null,{"$f":"SUMIF($G$19:$G$1015,$G243,$H$19:$H$1015)+SUMIF('2.cTë ardhura-jopublik-nënatyrë'!$G$19:$G$1015,'2.bTë ardhura-jopublik-monetare'!$G243,'2.cTë ardhura-jopublik-nënatyrë'!$H$19:$H$1015)","v":0}]
[null,null,null,null,null,null,null,null,null,{"$f":"SUMIF($G$19:$G$1015,$G244,$H$19:$H$1015)+SUMIF('2.cTë ardhura-jopublik-nënatyrë'!$G$19:$G$1015,'2.bTë ardhura-jopublik-monetare'!$G244,'2.cTë ardhura-jopublik-nënatyrë'!$H$19:$H$1015)","v":0}]
[null,null,null,null,null,null,null,null,null,{"$f":"SUMIF($G$19:$G$1015,$G245,$H$19:$H$1015)+SUMIF('2.cTë ardhura-jopublik-nënatyrë'!$G$19:$G$1015,'2.bTë ardhura-jopublik-monetare'!$G245,'2.cTë ardhura-jopublik-nënatyrë'!$H$19:$H$1015)","v":0}]
[null,null,null,null,null,null,null,null,null,{"$f":"SUMIF($G$19:$G$1015,$G246,$H$19:$H$1015)+SUMIF('2.cTë ardhura-jopublik-nënatyrë'!$G$19:$G$1015,'2.bTë ardhura-jopublik-monetare'!$G246,'2.cTë ardhura-jopublik-nënatyrë'!$H$19:$H$1015)","v":0}]
[null,null,null,null,null,null,null,null,null,{"$f":"SUMIF($G$19:$G$1015,$G247,$H$19:$H$1015)+SUMIF('2.cTë ardhura-jopublik-nënatyrë'!$G$19:$G$1015,'2.bTë ardhura-jopublik-monetare'!$G247,'2.cTë ardhura-jopublik-nënatyrë'!$H$19:$H$1015)","v":0}]
[null,null,null,null,null,null,null,null,null,{"$f":"SUMIF($G$19:$G$1015,$G248,$H$19:$H$1015)+SUMIF('2.cTë ardhura-jopublik-nënatyrë'!$G$19:$G$1015,'2.bTë ardhura-jopublik-monetare'!$G248,'2.cTë ardhura-jopublik-nënatyrë'!$H$19:$H$1015)","v":0}]
[null,null,null,null,null,null,null,null,null,{"$f":"SUMIF($G$19:$G$1015,$G249,$H$19:$H$1015)+SUMIF('2.cTë ardhura-jopublik-nënatyrë'!$G$19:$G$1015,'2.bTë ardhura-jopublik-monetare'!$G249,'2.cTë ardhura-jopublik-nënatyrë'!$H$19:$H$1015)","v":0}]
[null,null,null,null,null,null,null,null,null,{"$f":"SUMIF($G$19:$G$1015,$G250,$H$19:$H$1015)+SUMIF('2.cTë ardhura-jopublik-nënatyrë'!$G$19:$G$1015,'2.bTë ardhura-jopublik-monetare'!$G250,'2.cTë ardhura-jopublik-nënatyrë'!$H$19:$H$1015)","v":0}]
[null,null,null,null,null,null,null,null,null,{"$f":"SUMIF($G$19:$G$1015,$G251,$H$19:$H$1015)+SUMIF('2.cTë ardhura-jopublik-nënatyrë'!$G$19:$G$1015,'2.bTë ardhura-jopublik-monetare'!$G251,'2.cTë ardhura-jopublik-nënatyrë'!$H$19:$H$1015)","v":0}]
[null,null,null,null,null,null,null,null,null,{"$f":"SUMIF($G$19:$G$1015,$G252,$H$19:$H$1015)+SUMIF('2.cTë ardhura-jopublik-nënatyrë'!$G$19:$G$1015,'2.bTë ardhura-jopublik-monetare'!$G252,'2.cTë ardhura-jopublik-nënatyrë'!$H$19:$H$1015)","v":0}]
[null,null,null,null,null,null,null,null,null,{"$f":"SUMIF($G$19:$G$1015,$G253,$H$19:$H$1015)+SUMIF('2.cTë ardhura-jopublik-nënatyrë'!$G$19:$G$1015,'2.bTë ardhura-jopublik-monetare'!$G253,'2.cTë ardhura-jopublik-nënatyrë'!$H$19:$H$1015)","v":0}]
[null,null,null,null,null,null,null,null,null,{"$f":"SUMIF($G$19:$G$1015,$G254,$H$19:$H$1015)+SUMIF('2.cTë ardhura-jopublik-nënatyrë'!$G$19:$G$1015,'2.bTë ardhura-jopublik-monetare'!$G254,'2.cTë ardhura-jopublik-nënatyrë'!$H$19:$H$1015)","v":0}]
[null,null,null,null,null,null,null,null,null,{"$f":"SUMIF($G$19:$G$1015,$G255,$H$19:$H$1015)+SUMIF('2.cTë ardhura-jopublik-nënatyrë'!$G$19:$G$1015,'2.bTë ardhura-jopublik-monetare'!$G255,'2.cTë ardhura-jopublik-nënatyrë'!$H$19:$H$1015)","v":0}]
[null,null,null,null,null,null,null,null,null,{"$f":"SUMIF($G$19:$G$1015,$G256,$H$19:$H$1015)+SUMIF('2.cTë ardhura-jopublik-nënatyrë'!$G$19:$G$1015,'2.bTë ardhura-jopublik-monetare'!$G256,'2.cTë ardhura-jopublik-nënatyrë'!$H$19:$H$1015)","v":0}]
[null,null,null,null,null,null,null,null,null,{"$f":"SUMIF($G$19:$G$1015,$G257,$H$19:$H$1015)+SUMIF('2.cTë ardhura-jopublik-nënatyrë'!$G$19:$G$1015,'2.bTë ardhura-jopublik-monetare'!$G257,'2.cTë ardhura-jopublik-nënatyrë'!$H$19:$H$1015)","v":0}]
[null,null,null,null,null,null,null,null,null,{"$f":"SUMIF($G$19:$G$1015,$G258,$H$19:$H$1015)+SUMIF('2.cTë ardhura-jopublik-nënatyrë'!$G$19:$G$1015,'2.bTë ardhura-jopublik-monetare'!$G258,'2.cTë ardhura-jopublik-nënatyrë'!$H$19:$H$1015)","v":0}]
[null,null,null,null,null,null,null,null,null,{"$f":"SUMIF($G$19:$G$1015,$G259,$H$19:$H$1015)+SUMIF('2.cTë ardhura-jopublik-nënatyrë'!$G$19:$G$1015,'2.bTë ardhura-jopublik-monetare'!$G259,'2.cTë ardhura-jopublik-nënatyrë'!$H$19:$H$1015)","v":0}]
[null,null,null,null,null,null,null,null,null,{"$f":"SUMIF($G$19:$G$1015,$G260,$H$19:$H$1015)+SUMIF('2.cTë ardhura-jopublik-nënatyrë'!$G$19:$G$1015,'2.bTë ardhura-jopublik-monetare'!$G260,'2.cTë ardhura-jopublik-nënatyrë'!$H$19:$H$1015)","v":0}]
[null,null,null,null,null,null,null,null,null,{"$f":"SUMIF($G$19:$G$1015,$G261,$H$19:$H$1015)+SUMIF('2.cTë ardhura-jopublik-nënatyrë'!$G$19:$G$1015,'2.bTë ardhura-jopublik-monetare'!$G261,'2.cTë ardhura-jopublik-nënatyrë'!$H$19:$H$1015)","v":0}]
[null,null,null,null,null,null,null,null,null,{"$f":"SUMIF($G$19:$G$1015,$G262,$H$19:$H$1015)+SUMIF('2.cTë ardhura-jopublik-nënatyrë'!$G$19:$G$1015,'2.bTë ardhura-jopublik-monetare'!$G262,'2.cTë ardhura-jopublik-nënatyrë'!$H$19:$H$1015)","v":0}]
[null,null,null,null,null,null,null,null,null,{"$f":"SUMIF($G$19:$G$1015,$G263,$H$19:$H$1015)+SUMIF('2.cTë ardhura-jopublik-nënatyrë'!$G$19:$G$1015,'2.bTë ardhura-jopublik-monetare'!$G263,'2.cTë ardhura-jopublik-nënatyrë'!$H$19:$H$1015)","v":0}]
[null,null,null,null,null,null,null,null,null,{"$f":"SUMIF($G$19:$G$1015,$G264,$H$19:$H$1015)+SUMIF('2.cTë ardhura-jopublik-nënatyrë'!$G$19:$G$1015,'2.bTë ardhura-jopublik-monetare'!$G264,'2.cTë ardhura-jopublik-nënatyrë'!$H$19:$H$1015)","v":0}]
[null,null,null,null,null,null,null,null,null,{"$f":"SUMIF($G$19:$G$1015,$G265,$H$19:$H$1015)+SUMIF('2.cTë ardhura-jopublik-nënatyrë'!$G$19:$G$1015,'2.bTë ardhura-jopublik-monetare'!$G265,'2.cTë ardhura-jopublik-nënatyrë'!$H$19:$H$1015)","v":0}]
[null,null,null,null,null,null,null,null,null,{"$f":"SUMIF($G$19:$G$1015,$G266,$H$19:$H$1015)+SUMIF('2.cTë ardhura-jopublik-nënatyrë'!$G$19:$G$1015,'2.bTë ardhura-jopublik-monetare'!$G266,'2.cTë ardhura-jopublik-nënatyrë'!$H$19:$H$1015)","v":0}]
[null,null,null,null,null,null,null,null,null,{"$f":"SUMIF($G$19:$G$1015,$G267,$H$19:$H$1015)+SUMIF('2.cTë ardhura-jopublik-nënatyrë'!$G$19:$G$1015,'2.bTë ardhura-jopublik-monetare'!$G267,'2.cTë ardhura-jopublik-nënatyrë'!$H$19:$H$1015)","v":0}]
[null,null,null,null,null,null,null,null,null,{"$f":"SUMIF($G$19:$G$1015,$G268,$H$19:$H$1015)+SUMIF('2.cTë ardhura-jopublik-nënatyrë'!$G$19:$G$1015,'2.bTë ardhura-jopublik-monetare'!$G268,'2.cTë ardhura-jopublik-nënatyrë'!$H$19:$H$1015)","v":0}]
[null,null,null,null,null,null,null,null,null,{"$f":"SUMIF($G$19:$G$1015,$G269,$H$19:$H$1015)+SUMIF('2.cTë ardhura-jopublik-nënatyrë'!$G$19:$G$1015,'2.bTë ardhura-jopublik-monetare'!$G269,'2.cTë ardhura-jopublik-nënatyrë'!$H$19:$H$1015)","v":0}]
[null,null,null,null,null,null,null,null,null,{"$f":"SUMIF($G$19:$G$1015,$G270,$H$19:$H$1015)+SUMIF('2.cTë ardhura-jopublik-nënatyrë'!$G$19:$G$1015,'2.bTë ardhura-jopublik-monetare'!$G270,'2.cTë ardhura-jopublik-nënatyrë'!$H$19:$H$1015)","v":0}]
[null,null,null,null,null,null,null,null,null,{"$f":"SUMIF($G$19:$G$1015,$G271,$H$19:$H$1015)+SUMIF('2.cTë ardhura-jopublik-nënatyrë'!$G$19:$G$1015,'2.bTë ardhura-jopublik-monetare'!$G271,'2.cTë ardhura-jopublik-nënatyrë'!$H$19:$H$1015)","v":0}]
[null,null,null,null,null,null,null,null,null,{"$f":"SUMIF($G$19:$G$1015,$G272,$H$19:$H$1015)+SUMIF('2.cTë ardhura-jopublik-nënatyrë'!$G$19:$G$1015,'2.bTë ardhura-jopublik-monetare'!$G272,'2.cTë ardhura-jopublik-nënatyrë'!$H$19:$H$1015)","v":0}]
[null,null,null,null,null,null,null,null,null,{"$f":"SUMIF($G$19:$G$1015,$G273,$H$19:$H$1015)+SUMIF('2.cTë ardhura-jopublik-nënatyrë'!$G$19:$G$1015,'2.bTë ardhura-jopublik-monetare'!$G273,'2.cTë ardhura-jopublik-nënatyrë'!$H$19:$H$1015)","v":0}]
[null,null,null,null,null,null,null,null,null,{"$f":"SUMIF($G$19:$G$1015,$G274,$H$19:$H$1015)+SUMIF('2.cTë ardhura-jopublik-nënatyrë'!$G$19:$G$1015,'2.bTë ardhura-jopublik-monetare'!$G274,'2.cTë ardhura-jopublik-nënatyrë'!$H$19:$H$1015)","v":0}]
[null,null,null,null,null,null,null,null,null,{"$f":"SUMIF($G$19:$G$1015,$G275,$H$19:$H$1015)+SUMIF('2.cTë ardhura-jopublik-nënatyrë'!$G$19:$G$1015,'2.bTë ardhura-jopublik-monetare'!$G275,'2.cTë ardhura-jopublik-nënatyrë'!$H$19:$H$1015)","v":0}]
[null,null,null,null,null,null,null,null,null,{"$f":"SUMIF($G$19:$G$1015,$G276,$H$19:$H$1015)+SUMIF('2.cTë ardhura-jopublik-nënatyrë'!$G$19:$G$1015,'2.bTë ardhura-jopublik-monetare'!$G276,'2.cTë ardhura-jopublik-nënatyrë'!$H$19:$H$1015)","v":0}]
[null,null,null,null,null,null,null,null,null,{"$f":"SUMIF($G$19:$G$1015,$G277,$H$19:$H$1015)+SUMIF('2.cTë ardhura-jopublik-nënatyrë'!$G$19:$G$1015,'2.bTë ardhura-jopublik-monetare'!$G277,'2.cTë ardhura-jopublik-nënatyrë'!$H$19:$H$1015)","v":0}]
[null,null,null,null,null,null,null,null,null,{"$f":"SUMIF($G$19:$G$1015,$G278,$H$19:$H$1015)+SUMIF('2.cTë ardhura-jopublik-nënatyrë'!$G$19:$G$1015,'2.bTë ardhura-jopublik-monetare'!$G278,'2.cTë ardhura-jopublik-nënatyrë'!$H$19:$H$1015)","v":0}]
[null,null,null,null,null,null,null,null,null,{"$f":"SUMIF($G$19:$G$1015,$G279,$H$19:$H$1015)+SUMIF('2.cTë ardhura-jopublik-nënatyrë'!$G$19:$G$1015,'2.bTë ardhura-jopublik-monetare'!$G279,'2.cTë ardhura-jopublik-nënatyrë'!$H$19:$H$1015)","v":0}]
[null,null,null,null,null,null,null,null,null,{"$f":"SUMIF($G$19:$G$1015,$G280,$H$19:$H$1015)+SUMIF('2.cTë ardhura-jopublik-nënatyrë'!$G$19:$G$1015,'2.bTë ardhura-jopublik-monetare'!$G280,'2.cTë ardhura-jopublik-nënatyrë'!$H$19:$H$1015)","v":0}]
[null,null,null,null,null,null,null,null,null,{"$f":"SUMIF($G$19:$G$1015,$G281,$H$19:$H$1015)+SUMIF('2.cTë ardhura-jopublik-nënatyrë'!$G$19:$G$1015,'2.bTë ardhura-jopublik-monetare'!$G281,'2.cTë ardhura-jopublik-nënatyrë'!$H$19:$H$1015)","v":0}]
[null,null,null,null,null,null,null,null,null,{"$f":"SUMIF($G$19:$G$1015,$G282,$H$19:$H$1015)+SUMIF('2.cTë ardhura-jopublik-nënatyrë'!$G$19:$G$1015,'2.bTë ardhura-jopublik-monetare'!$G282,'2.cTë ardhura-jopublik-nënatyrë'!$H$19:$H$1015)","v":0}]
[null,null,null,null,null,null,null,null,null,{"$f":"SUMIF($G$19:$G$1015,$G283,$H$19:$H$1015)+SUMIF('2.cTë ardhura-jopublik-nënatyrë'!$G$19:$G$1015,'2.bTë ardhura-jopublik-monetare'!$G283,'2.cTë ardhura-jopublik-nënatyrë'!$H$19:$H$1015)","v":0}]
[null,null,null,null,null,null,null,null,null,{"$f":"SUMIF($G$19:$G$1015,$G284,$H$19:$H$1015)+SUMIF('2.cTë ardhura-jopublik-nënatyrë'!$G$19:$G$1015,'2.bTë ardhura-jopublik-monetare'!$G284,'2.cTë ardhura-jopublik-nënatyrë'!$H$19:$H$1015)","v":0}]
[null,null,null,null,null,null,null,null,null,{"$f":"SUMIF($G$19:$G$1015,$G285,$H$19:$H$1015)+SUMIF('2.cTë ardhura-jopublik-nënatyrë'!$G$19:$G$1015,'2.bTë ardhura-jopublik-monetare'!$G285,'2.cTë ardhura-jopublik-nënatyrë'!$H$19:$H$1015)","v":0}]
[null,null,null,null,null,null,null,null,null,{"$f":"SUMIF($G$19:$G$1015,$G286,$H$19:$H$1015)+SUMIF('2.cTë ardhura-jopublik-nënatyrë'!$G$19:$G$1015,'2.bTë ardhura-jopublik-monetare'!$G286,'2.cTë ardhura-jopublik-nënatyrë'!$H$19:$H$1015)","v":0}]
[null,null,null,null,null,null,null,null,null,{"$f":"SUMIF($G$19:$G$1015,$G287,$H$19:$H$1015)+SUMIF('2.cTë ardhura-jopublik-nënatyrë'!$G$19:$G$1015,'2.bTë ardhura-jopublik-monetare'!$G287,'2.cTë ardhura-jopublik-nënatyrë'!$H$19:$H$1015)","v":0}]
[null,null,null,null,null,null,null,null,null,{"$f":"SUMIF($G$19:$G$1015,$G288,$H$19:$H$1015)+SUMIF('2.cTë ardhura-jopublik-nënatyrë'!$G$19:$G$1015,'2.bTë ardhura-jopublik-monetare'!$G288,'2.cTë ardhura-jopublik-nënatyrë'!$H$19:$H$1015)","v":0}]
[null,null,null,null,null,null,null,null,null,{"$f":"SUMIF($G$19:$G$1015,$G289,$H$19:$H$1015)+SUMIF('2.cTë ardhura-jopublik-nënatyrë'!$G$19:$G$1015,'2.bTë ardhura-jopublik-monetare'!$G289,'2.cTë ardhura-jopublik-nënatyrë'!$H$19:$H$1015)","v":0}]
[null,null,null,null,null,null,null,null,null,{"$f":"SUMIF($G$19:$G$1015,$G290,$H$19:$H$1015)+SUMIF('2.cTë ardhura-jopublik-nënatyrë'!$G$19:$G$1015,'2.bTë ardhura-jopublik-monetare'!$G290,'2.cTë ardhura-jopublik-nënatyrë'!$H$19:$H$1015)","v":0}]
[null,null,null,null,null,null,null,null,null,{"$f":"SUMIF($G$19:$G$1015,$G291,$H$19:$H$1015)+SUMIF('2.cTë ardhura-jopublik-nënatyrë'!$G$19:$G$1015,'2.bTë ardhura-jopublik-monetare'!$G291,'2.cTë ardhura-jopublik-nënatyrë'!$H$19:$H$1015)","v":0}]
[null,null,null,null,null,null,null,null,null,{"$f":"SUMIF($G$19:$G$1015,$G292,$H$19:$H$1015)+SUMIF('2.cTë ardhura-jopublik-nënatyrë'!$G$19:$G$1015,'2.bTë ardhura-jopublik-monetare'!$G292,'2.cTë ardhura-jopublik-nënatyrë'!$H$19:$H$1015)","v":0}]
[null,null,null,null,null,null,null,null,null,{"$f":"SUMIF($G$19:$G$1015,$G293,$H$19:$H$1015)+SUMIF('2.cTë ardhura-jopublik-nënatyrë'!$G$19:$G$1015,'2.bTë ardhura-jopublik-monetare'!$G293,'2.cTë ardhura-jopublik-nënatyrë'!$H$19:$H$1015)","v":0}]
[null,null,null,null,null,null,null,null,null,{"$f":"SUMIF($G$19:$G$1015,$G294,$H$19:$H$1015)+SUMIF('2.cTë ardhura-jopublik-nënatyrë'!$G$19:$G$1015,'2.bTë ardhura-jopublik-monetare'!$G294,'2.cTë ardhura-jopublik-nënatyrë'!$H$19:$H$1015)","v":0}]
[null,null,null,null,null,null,null,null,null,{"$f":"SUMIF($G$19:$G$1015,$G295,$H$19:$H$1015)+SUMIF('2.cTë ardhura-jopublik-nënatyrë'!$G$19:$G$1015,'2.bTë ardhura-jopublik-monetare'!$G295,'2.cTë ardhura-jopublik-nënatyrë'!$H$19:$H$1015)","v":0}]
[null,null,null,null,null,null,null,null,null,{"$f":"SUMIF($G$19:$G$1015,$G296,$H$19:$H$1015)+SUMIF('2.cTë ardhura-jopublik-nënatyrë'!$G$19:$G$1015,'2.bTë ardhura-jopublik-monetare'!$G296,'2.cTë ardhura-jopublik-nënatyrë'!$H$19:$H$1015)","v":0}]
[null,null,null,null,null,null,null,null,null,{"$f":"SUMIF($G$19:$G$1015,$G297,$H$19:$H$1015)+SUMIF('2.cTë ardhura-jopublik-nënatyrë'!$G$19:$G$1015,'2.bTë ardhura-jopublik-monetare'!$G297,'2.cTë ardhura-jopublik-nënatyrë'!$H$19:$H$1015)","v":0}]
[null,null,null,null,null,null,null,null,null,{"$f":"SUMIF($G$19:$G$1015,$G298,$H$19:$H$1015)+SUMIF('2.cTë ardhura-jopublik-nënatyrë'!$G$19:$G$1015,'2.bTë ardhura-jopublik-monetare'!$G298,'2.cTë ardhura-jopublik-nënatyrë'!$H$19:$H$1015)","v":0}]
[null,null,null,null,null,null,null,null,null,{"$f":"SUMIF($G$19:$G$1015,$G299,$H$19:$H$1015)+SUMIF('2.cTë ardhura-jopublik-nënatyrë'!$G$19:$G$1015,'2.bTë ardhura-jopublik-monetare'!$G299,'2.cTë ardhura-jopublik-nënatyrë'!$H$19:$H$1015)","v":0}]
[null,null,null,null,null,null,null,null,null,{"$f":"SUMIF($G$19:$G$1015,$G300,$H$19:$H$1015)+SUMIF('2.cTë ardhura-jopublik-nënatyrë'!$G$19:$G$1015,'2.bTë ardhura-jopublik-monetare'!$G300,'2.cTë ardhura-jopublik-nënatyrë'!$H$19:$H$1015)","v":0}]
[null,null,null,null,null,null,null,null,null,{"$f":"SUMIF($G$19:$G$1015,$G301,$H$19:$H$1015)+SUMIF('2.cTë ardhura-jopublik-nënatyrë'!$G$19:$G$1015,'2.bTë ardhura-jopublik-monetare'!$G301,'2.cTë ardhura-jopublik-nënatyrë'!$H$19:$H$1015)","v":0}]
[null,null,null,null,null,null,null,null,null,{"$f":"SUMIF($G$19:$G$1015,$G302,$H$19:$H$1015)+SUMIF('2.cTë ardhura-jopublik-nënatyrë'!$G$19:$G$1015,'2.bTë ardhura-jopublik-monetare'!$G302,'2.cTë ardhura-jopublik-nënatyrë'!$H$19:$H$1015)","v":0}]
[null,null,null,null,null,null,null,null,null,{"$f":"SUMIF($G$19:$G$1015,$G303,$H$19:$H$1015)+SUMIF('2.cTë ardhura-jopublik-nënatyrë'!$G$19:$G$1015,'2.bTë ardhura-jopublik-monetare'!$G303,'2.cTë ardhura-jopublik-nënatyrë'!$H$19:$H$1015)","v":0}]
[null,null,null,null,null,null,null,null,null,{"$f":"SUMIF($G$19:$G$1015,$G304,$H$19:$H$1015)+SUMIF('2.cTë ardhura-jopublik-nënatyrë'!$G$19:$G$1015,'2.bTë ardhura-jopublik-monetare'!$G304,'2.cTë ardhura-jopublik-nënatyrë'!$H$19:$H$1015)","v":0}]
[null,null,null,null,null,null,null,null,null,{"$f":"SUMIF($G$19:$G$1015,$G305,$H$19:$H$1015)+SUMIF('2.cTë ardhura-jopublik-nënatyrë'!$G$19:$G$1015,'2.bTë ardhura-jopublik-monetare'!$G305,'2.cTë ardhura-jopublik-nënatyrë'!$H$19:$H$1015)","v":0}]
[null,null,null,null,null,null,null,null,null,{"$f":"SUMIF($G$19:$G$1015,$G306,$H$19:$H$1015)+SUMIF('2.cTë ardhura-jopublik-nënatyrë'!$G$19:$G$1015,'2.bTë ardhura-jopublik-monetare'!$G306,'2.cTë ardhura-jopublik-nënatyrë'!$H$19:$H$1015)","v":0}]
[null,null,null,null,null,null,null,null,null,{"$f":"SUMIF($G$19:$G$1015,$G307,$H$19:$H$1015)+SUMIF('2.cTë ardhura-jopublik-nënatyrë'!$G$19:$G$1015,'2.bTë ardhura-jopublik-monetare'!$G307,'2.cTë ardhura-jopublik-nënatyrë'!$H$19:$H$1015)","v":0}]
[null,null,null,null,null,null,null,null,null,{"$f":"SUMIF($G$19:$G$1015,$G308,$H$19:$H$1015)+SUMIF('2.cTë ardhura-jopublik-nënatyrë'!$G$19:$G$1015,'2.bTë ardhura-jopublik-monetare'!$G308,'2.cTë ardhura-jopublik-nënatyrë'!$H$19:$H$1015)","v":0}]
[null,null,null,null,null,null,null,null,null,{"$f":"SUMIF($G$19:$G$1015,$G309,$H$19:$H$1015)+SUMIF('2.cTë ardhura-jopublik-nënatyrë'!$G$19:$G$1015,'2.bTë ardhura-jopublik-monetare'!$G309,'2.cTë ardhura-jopublik-nënatyrë'!$H$19:$H$1015)","v":0}]
[null,null,null,null,null,null,null,null,null,{"$f":"SUMIF($G$19:$G$1015,$G310,$H$19:$H$1015)+SUMIF('2.cTë ardhura-jopublik-nënatyrë'!$G$19:$G$1015,'2.bTë ardhura-jopublik-monetare'!$G310,'2.cTë ardhura-jopublik-nënatyrë'!$H$19:$H$1015)","v":0}]
[null,null,null,null,null,null,null,null,null,{"$f":"SUMIF($G$19:$G$1015,$G311,$H$19:$H$1015)+SUMIF('2.cTë ardhura-jopublik-nënatyrë'!$G$19:$G$1015,'2.bTë ardhura-jopublik-monetare'!$G311,'2.cTë ardhura-jopublik-nënatyrë'!$H$19:$H$1015)","v":0}]
[null,null,null,null,null,null,null,null,null,{"$f":"SUMIF($G$19:$G$1015,$G312,$H$19:$H$1015)+SUMIF('2.cTë ardhura-jopublik-nënatyrë'!$G$19:$G$1015,'2.bTë ardhura-jopublik-monetare'!$G312,'2.cTë ardhura-jopublik-nënatyrë'!$H$19:$H$1015)","v":0}]
[null,null,null,null,null,null,null,null,null,{"$f":"SUMIF($G$19:$G$1015,$G313,$H$19:$H$1015)+SUMIF('2.cTë ardhura-jopublik-nënatyrë'!$G$19:$G$1015,'2.bTë ardhura-jopublik-monetare'!$G313,'2.cTë ardhura-jopublik-nënatyrë'!$H$19:$H$1015)","v":0}]
[null,null,null,null,null,null,null,null,null,{"$f":"SUMIF($G$19:$G$1015,$G314,$H$19:$H$1015)+SUMIF('2.cTë ardhura-jopublik-nënatyrë'!$G$19:$G$1015,'2.bTë ardhura-jopublik-monetare'!$G314,'2.cTë ardhura-jopublik-nënatyrë'!$H$19:$H$1015)","v":0}]
[null,null,null,null,null,null,null,null,null,{"$f":"SUMIF($G$19:$G$1015,$G315,$H$19:$H$1015)+SUMIF('2.cTë ardhura-jopublik-nënatyrë'!$G$19:$G$1015,'2.bTë ardhura-jopublik-monetare'!$G315,'2.cTë ardhura-jopublik-nënatyrë'!$H$19:$H$1015)","v":0}]
[null,null,null,null,null,null,null,null,null,{"$f":"SUMIF($G$19:$G$1015,$G316,$H$19:$H$1015)+SUMIF('2.cTë ardhura-jopublik-nënatyrë'!$G$19:$G$1015,'2.bTë ardhura-jopublik-monetare'!$G316,'2.cTë ardhura-jopublik-nënatyrë'!$H$19:$H$1015)","v":0}]
[null,null,null,null,null,null,null,null,null,{"$f":"SUMIF($G$19:$G$1015,$G317,$H$19:$H$1015)+SUMIF('2.cTë ardhura-jopublik-nënatyrë'!$G$19:$G$1015,'2.bTë ardhura-jopublik-monetare'!$G317,'2.cTë ardhura-jopublik-nënatyrë'!$H$19:$H$1015)","v":0}]
[null,null,null,null,null,null,null,null,null,{"$f":"SUMIF($G$19:$G$1015,$G318,$H$19:$H$1015)+SUMIF('2.cTë ardhura-jopublik-nënatyrë'!$G$19:$G$1015,'2.bTë ardhura-jopublik-monetare'!$G318,'2.cTë ardhura-jopublik-nënatyrë'!$H$19:$H$1015)","v":0}]
[null,null,null,null,null,null,null,null,null,{"$f":"SUMIF($G$19:$G$1015,$G319,$H$19:$H$1015)+SUMIF('2.cTë ardhura-jopublik-nënatyrë'!$G$19:$G$1015,'2.bTë ardhura-jopublik-monetare'!$G319,'2.cTë ardhura-jopublik-nënatyrë'!$H$19:$H$1015)","v":0}]
[null,null,null,null,null,null,null,null,null,{"$f":"SUMIF($G$19:$G$1015,$G320,$H$19:$H$1015)+SUMIF('2.cTë ardhura-jopublik-nënatyrë'!$G$19:$G$1015,'2.bTë ardhura-jopublik-monetare'!$G320,'2.cTë ardhura-jopublik-nënatyrë'!$H$19:$H$1015)","v":0}]
[null,null,null,null,null,null,null,null,null,{"$f":"SUMIF($G$19:$G$1015,$G321,$H$19:$H$1015)+SUMIF('2.cTë ardhura-jopublik-nënatyrë'!$G$19:$G$1015,'2.bTë ardhura-jopublik-monetare'!$G321,'2.cTë ardhura-jopublik-nënatyrë'!$H$19:$H$1015)","v":0}]
[null,null,null,null,null,null,null,null,null,{"$f":"SUMIF($G$19:$G$1015,$G322,$H$19:$H$1015)+SUMIF('2.cTë ardhura-jopublik-nënatyrë'!$G$19:$G$1015,'2.bTë ardhura-jopublik-monetare'!$G322,'2.cTë ardhura-jopublik-nënatyrë'!$H$19:$H$1015)","v":0}]
[null,null,null,null,null,null,null,null,null,{"$f":"SUMIF($G$19:$G$1015,$G323,$H$19:$H$1015)+SUMIF('2.cTë ardhura-jopublik-nënatyrë'!$G$19:$G$1015,'2.bTë ardhura-jopublik-monetare'!$G323,'2.cTë ardhura-jopublik-nënatyrë'!$H$19:$H$1015)","v":0}]
[null,null,null,null,null,null,null,null,null,{"$f":"SUMIF($G$19:$G$1015,$G324,$H$19:$H$1015)+SUMIF('2.cTë ardhura-jopublik-nënatyrë'!$G$19:$G$1015,'2.bTë ardhura-jopublik-monetare'!$G324,'2.cTë ardhura-jopublik-nënatyrë'!$H$19:$H$1015)","v":0}]
[null,null,null,null,null,null,null,null,null,{"$f":"SUMIF($G$19:$G$1015,$G325,$H$19:$H$1015)+SUMIF('2.cTë ardhura-jopublik-nënatyrë'!$G$19:$G$1015,'2.bTë ardhura-jopublik-monetare'!$G325,'2.cTë ardhura-jopublik-nënatyrë'!$H$19:$H$1015)","v":0}]
[null,null,null,null,null,null,null,null,null,{"$f":"SUMIF($G$19:$G$1015,$G326,$H$19:$H$1015)+SUMIF('2.cTë ardhura-jopublik-nënatyrë'!$G$19:$G$1015,'2.bTë ardhura-jopublik-monetare'!$G326,'2.cTë ardhura-jopublik-nënatyrë'!$H$19:$H$1015)","v":0}]
[null,null,null,null,null,null,null,null,null,{"$f":"SUMIF($G$19:$G$1015,$G327,$H$19:$H$1015)+SUMIF('2.cTë ardhura-jopublik-nënatyrë'!$G$19:$G$1015,'2.bTë ardhura-jopublik-monetare'!$G327,'2.cTë ardhura-jopublik-nënatyrë'!$H$19:$H$1015)","v":0}]
[null,null,null,null,null,null,null,null,null,{"$f":"SUMIF($G$19:$G$1015,$G328,$H$19:$H$1015)+SUMIF('2.cTë ardhura-jopublik-nënatyrë'!$G$19:$G$1015,'2.bTë ardhura-jopublik-monetare'!$G328,'2.cTë ardhura-jopublik-nënatyrë'!$H$19:$H$1015)","v":0}]
[null,null,null,null,null,null,null,null,null,{"$f":"SUMIF($G$19:$G$1015,$G329,$H$19:$H$1015)+SUMIF('2.cTë ardhura-jopublik-nënatyrë'!$G$19:$G$1015,'2.bTë ardhura-jopublik-monetare'!$G329,'2.cTë ardhura-jopublik-nënatyrë'!$H$19:$H$1015)","v":0}]
[null,null,null,null,null,null,null,null,null,{"$f":"SUMIF($G$19:$G$1015,$G330,$H$19:$H$1015)+SUMIF('2.cTë ardhura-jopublik-nënatyrë'!$G$19:$G$1015,'2.bTë ardhura-jopublik-monetare'!$G330,'2.cTë ardhura-jopublik-nënatyrë'!$H$19:$H$1015)","v":0}]
[null,null,null,null,null,null,null,null,null,{"$f":"SUMIF($G$19:$G$1015,$G331,$H$19:$H$1015)+SUMIF('2.cTë ardhura-jopublik-nënatyrë'!$G$19:$G$1015,'2.bTë ardhura-jopublik-monetare'!$G331,'2.cTë ardhura-jopublik-nënatyrë'!$H$19:$H$1015)","v":0}]
[null,null,null,null,null,null,null,null,null,{"$f":"SUMIF($G$19:$G$1015,$G332,$H$19:$H$1015)+SUMIF('2.cTë ardhura-jopublik-nënatyrë'!$G$19:$G$1015,'2.bTë ardhura-jopublik-monetare'!$G332,'2.cTë ardhura-jopublik-nënatyrë'!$H$19:$H$1015)","v":0}]
[null,null,null,null,null,null,null,null,null,{"$f":"SUMIF($G$19:$G$1015,$G333,$H$19:$H$1015)+SUMIF('2.cTë ardhura-jopublik-nënatyrë'!$G$19:$G$1015,'2.bTë ardhura-jopublik-monetare'!$G333,'2.cTë ardhura-jopublik-nënatyrë'!$H$19:$H$1015)","v":0}]
[null,null,null,null,null,null,null,null,null,{"$f":"SUMIF($G$19:$G$1015,$G334,$H$19:$H$1015)+SUMIF('2.cTë ardhura-jopublik-nënatyrë'!$G$19:$G$1015,'2.bTë ardhura-jopublik-monetare'!$G334,'2.cTë ardhura-jopublik-nënatyrë'!$H$19:$H$1015)","v":0}]
[null,null,null,null,null,null,null,null,null,{"$f":"SUMIF($G$19:$G$1015,$G335,$H$19:$H$1015)+SUMIF('2.cTë ardhura-jopublik-nënatyrë'!$G$19:$G$1015,'2.bTë ardhura-jopublik-monetare'!$G335,'2.cTë ardhura-jopublik-nënatyrë'!$H$19:$H$1015)","v":0}]
[null,null,null,null,null,null,null,null,null,{"$f":"SUMIF($G$19:$G$1015,$G336,$H$19:$H$1015)+SUMIF('2.cTë ardhura-jopublik-nënatyrë'!$G$19:$G$1015,'2.bTë ardhura-jopublik-monetare'!$G336,'2.cTë ardhura-jopublik-nënatyrë'!$H$19:$H$1015)","v":0}]
[null,null,null,null,null,null,null,null,null,{"$f":"SUMIF($G$19:$G$1015,$G337,$H$19:$H$1015)+SUMIF('2.cTë ardhura-jopublik-nënatyrë'!$G$19:$G$1015,'2.bTë ardhura-jopublik-monetare'!$G337,'2.cTë ardhura-jopublik-nënatyrë'!$H$19:$H$1015)","v":0}]
[null,null,null,null,null,null,null,null,null,{"$f":"SUMIF($G$19:$G$1015,$G338,$H$19:$H$1015)+SUMIF('2.cTë ardhura-jopublik-nënatyrë'!$G$19:$G$1015,'2.bTë ardhura-jopublik-monetare'!$G338,'2.cTë ardhura-jopublik-nënatyrë'!$H$19:$H$1015)","v":0}]
[null,null,null,null,null,null,null,null,null,{"$f":"SUMIF($G$19:$G$1015,$G339,$H$19:$H$1015)+SUMIF('2.cTë ardhura-jopublik-nënatyrë'!$G$19:$G$1015,'2.bTë ardhura-jopublik-monetare'!$G339,'2.cTë ardhura-jopublik-nënatyrë'!$H$19:$H$1015)","v":0}]
[null,null,null,null,null,null,null,null,null,{"$f":"SUMIF($G$19:$G$1015,$G340,$H$19:$H$1015)+SUMIF('2.cTë ardhura-jopublik-nënatyrë'!$G$19:$G$1015,'2.bTë ardhura-jopublik-monetare'!$G340,'2.cTë ardhura-jopublik-nënatyrë'!$H$19:$H$1015)","v":0}]
[null,null,null,null,null,null,null,null,null,{"$f":"SUMIF($G$19:$G$1015,$G341,$H$19:$H$1015)+SUMIF('2.cTë ardhura-jopublik-nënatyrë'!$G$19:$G$1015,'2.bTë ardhura-jopublik-monetare'!$G341,'2.cTë ardhura-jopublik-nënatyrë'!$H$19:$H$1015)","v":0}]
[null,null,null,null,null,null,null,null,null,{"$f":"SUMIF($G$19:$G$1015,$G342,$H$19:$H$1015)+SUMIF('2.cTë ardhura-jopublik-nënatyrë'!$G$19:$G$1015,'2.bTë ardhura-jopublik-monetare'!$G342,'2.cTë ardhura-jopublik-nënatyrë'!$H$19:$H$1015)","v":0}]
[null,null,null,null,null,null,null,null,null,{"$f":"SUMIF($G$19:$G$1015,$G343,$H$19:$H$1015)+SUMIF('2.cTë ardhura-jopublik-nënatyrë'!$G$19:$G$1015,'2.bTë ardhura-jopublik-monetare'!$G343,'2.cTë ardhura-jopublik-nënatyrë'!$H$19:$H$1015)","v":0}]
[null,null,null,null,null,null,null,null,null,{"$f":"SUMIF($G$19:$G$1015,$G344,$H$19:$H$1015)+SUMIF('2.cTë ardhura-jopublik-nënatyrë'!$G$19:$G$1015,'2.bTë ardhura-jopublik-monetare'!$G344,'2.cTë ardhura-jopublik-nënatyrë'!$H$19:$H$1015)","v":0}]
[null,null,null,null,null,null,null,null,null,{"$f":"SUMIF($G$19:$G$1015,$G345,$H$19:$H$1015)+SUMIF('2.cTë ardhura-jopublik-nënatyrë'!$G$19:$G$1015,'2.bTë ardhura-jopublik-monetare'!$G345,'2.cTë ardhura-jopublik-nënatyrë'!$H$19:$H$1015)","v":0}]
[null,null,null,null,null,null,null,null,null,{"$f":"SUMIF($G$19:$G$1015,$G346,$H$19:$H$1015)+SUMIF('2.cTë ardhura-jopublik-nënatyrë'!$G$19:$G$1015,'2.bTë ardhura-jopublik-monetare'!$G346,'2.cTë ardhura-jopublik-nënatyrë'!$H$19:$H$1015)","v":0}]
[null,null,null,null,null,null,null,null,null,{"$f":"SUMIF($G$19:$G$1015,$G347,$H$19:$H$1015)+SUMIF('2.cTë ardhura-jopublik-nënatyrë'!$G$19:$G$1015,'2.bTë ardhura-jopublik-monetare'!$G347,'2.cTë ardhura-jopublik-nënatyrë'!$H$19:$H$1015)","v":0}]
[null,null,null,null,null,null,null,null,null,{"$f":"SUMIF($G$19:$G$1015,$G348,$H$19:$H$1015)+SUMIF('2.cTë ardhura-jopublik-nënatyrë'!$G$19:$G$1015,'2.bTë ardhura-jopublik-monetare'!$G348,'2.cTë ardhura-jopublik-nënatyrë'!$H$19:$H$1015)","v":0}]
[null,null,null,null,null,null,null,null,null,{"$f":"SUMIF($G$19:$G$1015,$G349,$H$19:$H$1015)+SUMIF('2.cTë ardhura-jopublik-nënatyrë'!$G$19:$G$1015,'2.bTë ardhura-jopublik-monetare'!$G349,'2.cTë ardhura-jopublik-nënatyrë'!$H$19:$H$1015)","v":0}]
[null,null,null,null,null,null,null,null,null,{"$f":"SUMIF($G$19:$G$1015,$G350,$H$19:$H$1015)+SUMIF('2.cTë ardhura-jopublik-nënatyrë'!$G$19:$G$1015,'2.bTë ardhura-jopublik-monetare'!$G350,'2.cTë ardhura-jopublik-nënatyrë'!$H$19:$H$1015)","v":0}]
[null,null,null,null,null,null,null,null,null,{"$f":"SUMIF($G$19:$G$1015,$G351,$H$19:$H$1015)+SUMIF('2.cTë ardhura-jopublik-nënatyrë'!$G$19:$G$1015,'2.bTë ardhura-jopublik-monetare'!$G351,'2.cTë ardhura-jopublik-nënatyrë'!$H$19:$H$1015)","v":0}]
[null,null,null,null,null,null,null,null,null,{"$f":"SUMIF($G$19:$G$1015,$G352,$H$19:$H$1015)+SUMIF('2.cTë ardhura-jopublik-nënatyrë'!$G$19:$G$1015,'2.bTë ardhura-jopublik-monetare'!$G352,'2.cTë ardhura-jopublik-nënatyrë'!$H$19:$H$1015)","v":0}]
[null,null,null,null,null,null,null,null,null,{"$f":"SUMIF($G$19:$G$1015,$G353,$H$19:$H$1015)+SUMIF('2.cTë ardhura-jopublik-nënatyrë'!$G$19:$G$1015,'2.bTë ardhura-jopublik-monetare'!$G353,'2.cTë ardhura-jopublik-nënatyrë'!$H$19:$H$1015)","v":0}]
[null,null,null,null,null,null,null,null,null,{"$f":"SUMIF($G$19:$G$1015,$G354,$H$19:$H$1015)+SUMIF('2.cTë ardhura-jopublik-nënatyrë'!$G$19:$G$1015,'2.bTë ardhura-jopublik-monetare'!$G354,'2.cTë ardhura-jopublik-nënatyrë'!$H$19:$H$1015)","v":0}]
[null,null,null,null,null,null,null,null,null,{"$f":"SUMIF($G$19:$G$1015,$G355,$H$19:$H$1015)+SUMIF('2.cTë ardhura-jopublik-nënatyrë'!$G$19:$G$1015,'2.bTë ardhura-jopublik-monetare'!$G355,'2.cTë ardhura-jopublik-nënatyrë'!$H$19:$H$1015)","v":0}]
[null,null,null,null,null,null,null,null,null,{"$f":"SUMIF($G$19:$G$1015,$G356,$H$19:$H$1015)+SUMIF('2.cTë ardhura-jopublik-nënatyrë'!$G$19:$G$1015,'2.bTë ardhura-jopublik-monetare'!$G356,'2.cTë ardhura-jopublik-nënatyrë'!$H$19:$H$1015)","v":0}]
[null,null,null,null,null,null,null,null,null,{"$f":"SUMIF($G$19:$G$1015,$G357,$H$19:$H$1015)+SUMIF('2.cTë ardhura-jopublik-nënatyrë'!$G$19:$G$1015,'2.bTë ardhura-jopublik-monetare'!$G357,'2.cTë ardhura-jopublik-nënatyrë'!$H$19:$H$1015)","v":0}]
[null,null,null,null,null,null,null,null,null,{"$f":"SUMIF($G$19:$G$1015,$G358,$H$19:$H$1015)+SUMIF('2.cTë ardhura-jopublik-nënatyrë'!$G$19:$G$1015,'2.bTë ardhura-jopublik-monetare'!$G358,'2.cTë ardhura-jopublik-nënatyrë'!$H$19:$H$1015)","v":0}]
[null,null,null,null,null,null,null,null,null,{"$f":"SUMIF($G$19:$G$1015,$G359,$H$19:$H$1015)+SUMIF('2.cTë ardhura-jopublik-nënatyrë'!$G$19:$G$1015,'2.bTë ardhura-jopublik-monetare'!$G359,'2.cTë ardhura-jopublik-nënatyrë'!$H$19:$H$1015)","v":0}]
[null,null,null,null,null,null,null,null,null,{"$f":"SUMIF($G$19:$G$1015,$G360,$H$19:$H$1015)+SUMIF('2.cTë ardhura-jopublik-nënatyrë'!$G$19:$G$1015,'2.bTë ardhura-jopublik-monetare'!$G360,'2.cTë ardhura-jopublik-nënatyrë'!$H$19:$H$1015)","v":0}]
[null,null,null,null,null,null,null,null,null,{"$f":"SUMIF($G$19:$G$1015,$G361,$H$19:$H$1015)+SUMIF('2.cTë ardhura-jopublik-nënatyrë'!$G$19:$G$1015,'2.bTë ardhura-jopublik-monetare'!$G361,'2.cTë ardhura-jopublik-nënatyrë'!$H$19:$H$1015)","v":0}]
[null,null,null,null,null,null,null,null,null,{"$f":"SUMIF($G$19:$G$1015,$G362,$H$19:$H$1015)+SUMIF('2.cTë ardhura-jopublik-nënatyrë'!$G$19:$G$1015,'2.bTë ardhura-jopublik-monetare'!$G362,'2.cTë ardhura-jopublik-nënatyrë'!$H$19:$H$1015)","v":0}]
[null,null,null,null,null,null,null,null,null,{"$f":"SUMIF($G$19:$G$1015,$G363,$H$19:$H$1015)+SUMIF('2.cTë ardhura-jopublik-nënatyrë'!$G$19:$G$1015,'2.bTë ardhura-jopublik-monetare'!$G363,'2.cTë ardhura-jopublik-nënatyrë'!$H$19:$H$1015)","v":0}]
[]
[]
[null,null,null,"FINANCIERI",null,null,null,"APROVUESI"]
[]
[]
[null,null,null,"Emër Mbiemër Firmë",null,null,null,"Emër Mbiemër Firmë"]
[]
[]
[]
[]
[]
[]
[]
[]
[]
[]
[]
[]
[]
[]
[]
[]
[]
[]
[]
[]
[]
[]
[]
[]
[]
[]
[]
[]
[]
[]
[]
[]
[]
[]
[]
[]
[]
[]
[]
[]
[]
[]
[]
[]
[]
[]
[]
[]
[]
[]
[]
[]
[]
[]
[]
[]
[]
[]
[]
[]
[]
[]
[]
[]
[]
[]
[]
[]
[]
[]
[]
[]
[]
[]
[]
[]
[]
[]
[]
[]
[]
[]
[]
[]
[]
[]
[]
[]
[]
[]
[]
[]
[]
[]
[]
[]
[]
[]
[]
[]
[]
[]
[]
[]
[]
[]
[]
[]
[]
[]
[]
[]
[]
[]
[]
[]
[]
[]
[]
[]
[]
[]
[]
[]
[]
[]
[]
[]
[]
[]
[]
[]
[]
[]
[]
[]
[]
[]
[]
[]
[]
[]
[]
[]
[]
[]
[]
[]
[]
[]
[]
[]
[]
[]
[]
[]
[]
[]
[]
[]
[]
[]
[]
[]
[]
[]
[]
[]
[]
[]
[]
[]
[]
[]
[]
[]
[]
[]
[]
[]
[]
[]
[]
[]
[]
[]
[]
[]
[]
[]
[]
[]
[]
[]
[]
[]
[]
[]
[]
[]
[]
[]
[]
[]
[]
[]
[]
[]
[]
[]
[]
[]
[]
[]
[]
[]
[]
[]
[]
[]
[]
[]
[]
[]
[]
[]
[]
[]
[]
[]
[]
[]
[]
[]
[]
[]
[]
[]
[]
[]
[]
[]
[]
[]
[]
[]
[]
[]
[]
[]
[]
[]
[]
[]
[]
[]
[]
[]
[]
[]
[]
[]
[]
[]
[]
[]
[]
[]
[]
[]
[]
[]
[]
[]
[]
[]
[]
[]
[]
[]
[]
[]
[]
[]
[]
[]
[]
[]
[]
[]
[]
[]
[]
[]
[]
[]
[]
[]
[]
[]
[]
[]
[]
[]
[]
[]
[]
[]
[]
[]
[]
[]
[]
[]
[]
[]
[]
[]
[]
[]
[]
[]
[]
[]
[]
[]
[]
[]
[]
[]
[]
[]
[]
[]
[]
[]
[]
[]
[]
[]
[]
[]
[]
[]
[]
[]
[]
[]
[]
[]
[]
[]
[]
[]
[]
[]
[]
[]
[]
[]
[]
[]
[]
[]
[]
[]
[]
[]
[]
[]
[]
[]
[]
[]
[]
[]
[]
[]
[]
[]
[]
[]
[]
[]
[]
[]
[]
[]
[]
[]
[]
[]
[]
[]
[]
[]
[]
[]
[]
[]
[]
[]
[]
[]
[]
[]
[]
[]
[]
[]
[]
[]
[]
[]
[]
[]
[]
[]
[]
[]
[]
[]
[]
[]
[]
[]
[]
[]
[]
[]
[]
[]
[]
[]
[]
[]
[]
[]
[]
[]
[]
[]
[]
[]
[]
[]
[]
[]
[]
[]
[]
[]
[]
[]
[]
[]
[]
[]
[]
[]
[]
[]
[]
[]
[]
[]
[]
[]
[]
[]
[]
[]
[]
[]
[]
[]
[]
[]
[]
[]
[]
[]
[]
[]
[]
[]
[]
[]
[]
[]
[]
[]
[]
[]
[]
[]
[]
[]
[]
[]
[]
[]
[]
[]
[]
[]
[]
[]
[]
[]
[]
[]
[]
[]
[]
[]
[]
[]
[]
[]
[]
[]
[]
[]
[]
[]
[]
[]
[]
[]
[]
[]
[]
[]
[]
[]
[]
[]
[]
[]
[]
[]
[]
[]
[]
[]
[]
[]
[]
[]
[]
[]
[]
[]
[]
[]
[]
[]
[]
[]
[]
[]
[]
[]
[]
[]
[]
[]
[]
[]
[]
[]
[]
[]
[]
[]
[]
[]
[]
[]
[]
[]
[]
[]
[]
[]
[]
[]
[]
[]
[]
[]
[]
[]
[]
[]
[]
[]
[]
[]
[]
[]
[]
[]
[]
[]
[]
[]
[]
[]
[]
[]
[]
[]
[]
[]
[]
[]
[]
[]
[]
[]
[]
[]
[]
[]
[]
[]
[]
[]
[]
[]
[]
[]
[]
[]
[]
[]
[]
[]
[]
[]
[]
[]
[]
[]
[null,null,null,null,null,null,null,null,null,{"$f":"SUMIF($G$19:$G$1015,$G1016,$H$19:$H$1015)","v":0}]
[null,null,null,null,null,null,null,null,null,0]
[null,null,null,null,null,null,null,null,null,0]
[null,null,null,null,null,null,null,null,null,0]
[null,null,null,null,null,null,null,null,null,0]
[null,null,null,null,null,null,null,null,null,0]
[null,null,null,null,null,null,null,null,null,0]
[null,null,null,null,null,null,null,null,null,0]
[null,null,null,null,null,null,null,null,null,0]
[null,null,null,null,null,null,null,null,null,0]
[null,null,null,null,null,null,null,null,null,0]
[null,null,null,null,null,null,null,null,null,0]
[null,null,null,null,null,null,null,null,null,0]
[null,null,null,null,null,null,null,null,null,0]
[null,null,null,null,null,null,null,null,null,0]
[null,null,null,null,null,null,null,null,null,0]
[null,null,null,null,null,null,null,null,null,0]
[null,null,null,null,null,null,null,null,null,0]
[null,null,null,null,null,null,null,null,null,0]
[null,null,null,null,null,null,null,null,null,0]
[null,null,null,null,null,null,null,null,null,0]
[null,null,null,null,null,null,null,null,null,0]
[null,null,null,null,null,null,null,null,null,0]
[null,null,null,null,null,null,null,null,null,0]
[null,null,null,null,null,null,null,null,null,0]
[null,null,null,null,null,null,null,null,null,0]
[null,null,null,null,null,null,null,null,null,0]
[null,null,null,null,null,null,null,null,null,0]
[null,null,null,null,null,null,null,null,null,0]
[null,null,null,null,null,null,null,null,null,0]
[null,null,null,null,null,null,null,null,null,0]
[null,null,null,null,null,null,null,null,null,0]
[null,null,null,null,null,null,null,null,null,0]
[null,null,null,null,null,null,null,null,null,0]
[null,null,null,null,null,null,null,null,null,0]
[null,null,null,null,null,null,null,null,null,0]
[null,null,null,null,null,null,null,null,null,0]
[null,null,null,null,null,null,null,null,null,0]
[null,null,null,null,null,null,null,null,null,0]
[null,null,null,null,null,null,null,null,null,0]
[null,null,null,null,null,null,null,null,null,0]
[null,null,null,null,null,null,null,null,null,0]
[null,null,null,null,null,null,null,null,null,0]
[null,null,null,null,null,null,null,null,null,0]
[null,null,null,null,null,null,null,null,null,0]
[null,null,null,null,null,null,null,null,null,0]
[null,null,null,null,null,null,null,null,null,0]
[null,null,null,null,null,null,null,null,null,0]
[null,null,null,null,null,null,null,null,null,0]
[null,null,null,null,null,null,null,null,null,0]
[null,null,null,null,null,null,null,null,null,0]
[null,null,null,null,null,null,null,null,null,0]
[null,null,null,null,null,null,null,null,null,0]
[null,null,null,null,null,null,null,null,null,0]
[null,null,null,null,null,null,null,null,null,0]
[null,null,null,null,null,null,null,null,null,0]
[null,null,null,null,null,null,null,null,null,0]
[null,null,null,null,null,null,null,null,null,0]
[null,null,null,null,null,null,null,null,null,0]
[null,null,null,null,null,null,null,null,null,0]
[null,null,null,null,null,null,null,null,null,0]
[null,null,null,null,null,null,null,null,null,0]
[null,null,null,null,null,null,null,null,null,0]
[null,null,null,null,null,null,null,null,null,0]
[null,null,null,null,null,null,null,null,null,{"$f":"SUMIF($G$19:$G$1015,$G1080,$H$19:$H$1015)","v":0}]
[null,null,null,null,null,null,null,null,null,0]
[null,null,null,null,null,null,null,null,null,0]
[null,null,null,null,null,null,null,null,null,0]
[null,null,null,null,null,null,null,null,null,0]
[null,null,null,null,null,null,null,null,null,0]
[null,null,null,null,null,null,null,null,null,0]
[null,null,null,null,null,null,null,null,null,0]
[null,null,null,null,null,null,null,null,null,0]
[null,null,null,null,null,null,null,null,null,0]
[null,null,null,null,null,null,null,null,null,0]
[null,null,null,null,null,null,null,null,null,0]
[null,null,null,null,null,null,null,null,null,0]
[null,null,null,null,null,null,null,null,null,0]
[null,null,null,null,null,null,null,null,null,0]
[null,null,null,null,null,null,null,null,null,0]
[null,null,null,null,null,null,null,null,null,0]
[null,null,null,null,null,null,null,null,null,0]
[null,null,null,null,null,null,null,null,null,0]
[null,null,null,null,null,null,null,null,null,0]
[null,null,null,null,null,null,null,null,null,0]
[null,null,null,null,null,null,null,null,null,0]
[null,null,null,null,null,null,null,null,null,0]
[null,null,null,null,null,null,null,null,null,0]
[null,null,null,null,null,null,null,null,null,0]
[null,null,null,null,null,null,null,null,null,0]
[null,null,null,null,null,null,null,null,null,0]
[null,null,null,null,null,null,null,null,null,0]
[null,null,null,null,null,null,null,null,null,0]
[null,null,null,null,null,null,null,null,null,0]
[null,null,null,null,null,null,null,null,null,0]
[null,null,null,null,null,null,null,null,null,0]
[null,null,null,null,null,null,null,null,null,0]
[null,null,null,null,null,null,null,null,null,0]
[null,null,null,null,null,null,null,null,null,0]
[null,null,null,null,null,null,null,null,null,0]
[null,null,null,null,null,null,null,null,null,0]
[null,null,null,null,null,null,null,null,null,0]
[null,null,null,null,null,null,null,null,null,0]
[null,null,null,null,null,null,null,null,null,0]
[null,null,null,null,null,null,null,null,null,0]
[null,null,null,null,null,null,null,null,null,0]
[null,null,null,null,null,null,null,null,null,0]
[null,null,null,null,null,null,null,null,null,0]
[null,null,null,null,null,null,null,null,null,0]
[null,null,null,null,null,null,null,null,null,0]
[null,null,null,null,null,null,null,null,null,0]
[null,null,null,null,null,null,null,null,null,0]
[null,null,null,null,null,null,null,null,null,0]
[null,null,null,null,null,null,null,null,null,0]
[null,null,null,null,null,null,null,null,null,0]
[null,null,null,null,null,null,null,null,null,0]
[null,null,null,null,null,null,null,null,null,0]
[null,null,null,null,null,null,null,null,null,0]
[null,null,null,null,null,null,null,null,null,0]
[null,null,null,null,null,null,null,null,null,0]
[null,null,null,null,null,null,null,null,null,0]
[null,null,null,null,null,null,null,null,null,0]
[null,null,null,null,null,null,null,null,null,0]
[null,null,null,null,null,null,null,null,null,0]
[null,null,null,null,null,null,null,null,null,0]
[null,null,null,null,null,null,null,null,null,0]
[null,null,null,null,null,null,null,null,null,0]
[null,null,null,null,null,null,null,null,null,0]
[null,null,null,null,null,null,null,null,null,{"$f":"SUMIF($G$19:$G$1015,$G1144,$H$19:$H$1015)","v":0}]
[null,null,null,null,null,null,null,null,null,0]
[null,null,null,null,null,null,null,null,null,0]
[null,null,null,null,null,null,null,null,null,0]
[null,null,null,null,null,null,null,null,null,0]
[null,null,null,null,null,null,null,null,null,0]
[null,null,null,null,null,null,null,null,null,0]
[null,null,null,null,null,null,null,null,null,0]
[null,null,null,null,null,null,null,null,null,0]
[null,null,null,null,null,null,null,null,null,0]
[null,null,null,null,null,null,null,null,null,0]
[null,null,null,null,null,null,null,null,null,0]
[null,null,null,null,null,null,null,null,null,0]
[null,null,null,null,null,null,null,null,null,0]
[null,null,null,null,null,null,null,null,null,0]
[null,null,null,null,null,null,null,null,null,0]
[null,null,null,null,null,null,null,null,null,0]
[null,null,null,null,null,null,null,null,null,0]
[null,null,null,null,null,null,null,null,null,0]
[null,null,null,null,null,null,null,null,null,0]
[null,null,null,null,null,null,null,null,null,0]
[null,null,null,null,null,null,null,null,null,0]
[null,null,null,null,null,null,null,null,null,0]
[null,null,null,null,null,null,null,null,null,0]
[null,null,null,null,null,null,null,null,null,0]
[null,null,null,null,null,null,null,null,null,0]
[null,null,null,null,null,null,null,null,null,0]
[null,null,null,null,null,null,null,null,null,0]
[null,null,null,null,null,null,null,null,null,0]
[null,null,null,null,null,null,null,null,null,0]
[null,null,null,null,null,null,null,null,null,0]
[null,null,null,null,null,null,null,null,null,0]
[null,null,null,null,null,null,null,null,null,0]
[null,null,null,null,null,null,null,null,null,0]
[null,null,null,null,null,null,null,null,null,0]
[null,null,null,null,null,null,null,null,null,0]
[null,null,null,null,null,null,null,null,null,0]
[null,null,null,null,null,null,null,null,null,0]
[null,null,null,null,null,null,null,null,null,0]
[null,null,null,null,null,null,null,null,null,0]
[null,null,null,null,null,null,null,null,null,0]
[null,null,null,null,null,null,null,null,null,0]
[null,null,null,null,null,null,null,null,null,0]
[null,null,null,null,null,null,null,null,null,0]
[null,null,null,null,null,null,null,null,null,0]
[null,null,null,null,null,null,null,null,null,0]
[null,null,null,null,null,null,null,null,null,0]
[null,null,null,null,null,null,null,null,null,0]
[null,null,null,null,null,null,null,null,null,0]
[null,null,null,null,null,null,null,null,null,0]
[null,null,null,null,null,null,null,null,null,0]
[null,null,null,null,null,null,null,null,null,0]
[null,null,null,null,null,null,null,null,null,0]
[null,null,null,null,null,null,null,null,null,0]
[null,null,null,null,null,null,null,null,null,0]
[null,null,null,null,null,null,null,null,null,0]
[null,null,null,null,null,null,null,null,null,0]
[null,null,null,null,null,null,null,null,null,0]
[null,null,null,null,null,null,null,null,null,0]
[null,null,null,null,null,null,null,null,null,0]
[null,null,null,null,null,null,null,null,null,0]
[null,null,null,null,null,null,null,null,null,0]
[null,null,null,null,null,null,null,null,null,0]
[null,null,null,null,null,null,null,null,null,0]
[null,null,null,null,null,null,null,null,null,{"$f":"SUMIF($G$19:$G$1015,$G1208,$H$19:$H$1015)","v":0}]
[null,null,null,null,null,null,null,null,null,0]
[null,null,null,null,null,null,null,null,null,0]
[null,null,null,null,null,null,null,null,null,0]
[null,null,null,null,null,null,null,null,null,0]
[null,null,null,null,null,null,null,null,null,0]
[null,null,null,null,null,null,null,null,null,0]
[null,null,null,null,null,null,null,null,null,0]
[null,null,null,null,null,null,null,null,null,0]
[null,null,null,null,null,null,null,null,null,0]
[null,null,null,null,null,null,null,null,null,0]
[null,null,null,null,null,null,null,null,null,0]
[null,null,null,null,null,null,null,null,null,0]
[null,null,null,null,null,null,null,null,null,0]
[null,null,null,null,null,null,null,null,null,0]
[null,null,null,null,null,null,null,null,null,0]
[null,null,null,null,null,null,null,null,null,0]
[null,null,null,null,null,null,null,null,null,0]
[null,null,null,null,null,null,null,null,null,0]
[null,null,null,null,null,null,null,null,null,0]
[null,null,null,null,null,null,null,null,null,0]
[null,null,null,null,null,null,null,null,null,0]
[null,null,null,null,null,null,null,null,null,0]
[null,null,null,null,null,null,null,null,null,0]
[null,null,null,null,null,null,null,null,null,0]
[null,null,null,null,null,null,null,null,null,0]
[null,null,null,null,null,null,null,null,null,0]
[null,null,null,null,null,null,null,null,null,0]
[null,null,null,null,null,null,null,null,null,0]
[null,null,null,null,null,null,null,null,null,0]
[null,null,null,null,null,null,null,null,null,0]
[null,null,null,null,null,null,null,null,null,0]
[null,null,null,null,null,null,null,null,null,0]
[null,null,null,null,null,null,null,null,null,0]
[null,null,null,null,null,null,null,null,null,0]
[null,null,null,null,null,null,null,null,null,0]
[null,null,null,null,null,null,null,null,null,0]
[null,null,null,null,null,null,null,null,null,0]
[null,null,null,null,null,null,null,null,null,0]
[null,null,null,null,null,null,null,null,null,0]
[null,null,null,null,null,null,null,null,null,0]
[null,null,null,null,null,null,null,null,null,0]
[null,null,null,null,null,null,null,null,null,0]
[null,null,null,null,null,null,null,null,null,0]
[null,null,null,null,null,null,null,null,null,0]
[null,null,null,null,null,null,null,null,null,0]
[null,null,null,null,null,null,null,null,null,0]
[null,null,null,null,null,null,null,null,null,0]
[null,null,null,null,null,null,null,null,null,0]
[null,null,null,null,null,null,null,null,null,0]
[null,null,null,null,null,null,null,null,null,0]
[null,null,null,null,null,null,null,null,null,0]
[null,null,null,null,null,null,null,null,null,0]
[null,null,null,null,null,null,null,null,null,0]
[null,null,null,null,null,null,null,null,null,0]
[null,null,null,null,null,null,null,null,null,0]
[null,null,null,null,null,null,null,null,null,0]
[null,null,null,null,null,null,null,null,null,0]
[null,null,null,null,null,null,null,null,null,0]
[null,null,null,null,null,null,null,null,null,0]
[null,null,null,null,null,null,null,null,null,0]
[null,null,null,null,null,null,null,null,null,0]
[null,null,null,null,null,null,null,null,null,0]
[null,null,null,null,null,null,null,null,null,0]
[null,null,null,null,null,null,null,null,null,{"$f":"SUMIF($G$19:$G$1015,$G1272,$H$19:$H$1015)","v":0}]
[null,null,null,null,null,null,null,null,null,0]
[null,null,null,null,null,null,null,null,null,0]
[null,null,null,null,null,null,null,null,null,0]
[null,null,null,null,null,null,null,null,null,0]
[null,null,null,null,null,null,null,null,null,0]
[null,null,null,null,null,null,null,null,null,0]
[null,null,null,null,null,null,null,null,null,0]
[null,null,null,null,null,null,null,null,null,0]
[null,null,null,null,null,null,null,null,null,0]
[null,null,null,null,null,null,null,null,null,0]
[null,null,null,null,null,null,null,null,null,0]
[null,null,null,null,null,null,null,null,null,0]
[null,null,null,null,null,null,null,null,null,0]
[null,null,null,null,null,null,null,null,null,0]
[null,null,null,null,null,null,null,null,null,0]
[null,null,null,null,null,null,null,null,null,0]
[null,null,null,null,null,null,null,null,null,0]
[null,null,null,null,null,null,null,null,null,0]
[null,null,null,null,null,null,null,null,null,0]
[null,null,null,null,null,null,null,null,null,0]
[null,null,null,null,null,null,null,null,null,0]
[null,null,null,null,null,null,null,null,null,0]
[null,null,null,null,null,null,null,null,null,0]
[null,null,null,null,null,null,null,null,null,0]
[null,null,null,null,null,null,null,null,null,0]
[null,null,null,null,null,null,null,null,null,0]
[null,null,null,null,null,null,null,null,null,0]
[null,null,null,null,null,null,null,null,null,0]
[null,null,null,null,null,null,null,null,null,0]
[null,null,null,null,null,null,null,null,null,0]
[null,null,null,null,null,null,null,null,null,0]
[null,null,null,null,null,null,null,null,null,0]
[null,null,null,null,null,null,null,null,null,0]
[null,null,null,null,null,null,null,null,null,0]
[null,null,null,null,null,null,null,null,null,0]
[null,null,null,null,null,null,null,null,null,0]
[null,null,null,null,null,null,null,null,null,0]
[null,null,null,null,null,null,null,null,null,0]
[null,null,null,null,null,null,null,null,null,0]
[null,null,null,null,null,null,null,null,null,0]
[null,null,null,null,null,null,null,null,null,0]
[null,null,null,null,null,null,null,null,null,0]
[null,null,null,null,null,null,null,null,null,0]
[null,null,null,null,null,null,null,null,null,0]
[null,null,null,null,null,null,null,null,null,0]
[null,null,null,null,null,null,null,null,null,0]
[null,null,null,null,null,null,null,null,null,0]
[null,null,null,null,null,null,null,null,null,0]
[null,null,null,null,null,null,null,null,null,0]
[null,null,null,null,null,null,null,null,null,0]
[null,null,null,null,null,null,null,null,null,0]
[null,null,null,null,null,null,null,null,null,0]
[null,null,null,null,null,null,null,null,null,0]
[null,null,null,null,null,null,null,null,null,0]
[null,null,null,null,null,null,null,null,null,0]
[null,null,null,null,null,null,null,null,null,0]
[null,null,null,null,null,null,null,null,null,0]
[null,null,null,null,null,null,null,null,null,0]
[null,null,null,null,null,null,null,null,null,0]
[null,null,null,null,null,null,null,null,null,0]
[null,null,null,null,null,null,null,null,null,0]
[null,null,null,null,null,null,null,null,null,0]
[null,null,null,null,null,null,null,null,null,0]
[null,null,null,null,null,null,null,null,null,{"$f":"SUMIF($G$19:$G$1015,$G1336,$H$19:$H$1015)","v":0}]
[null,null,null,null,null,null,null,null,null,0]
[null,null,null,null,null,null,null,null,null,0]
[null,null,null,null,null,null,null,null,null,0]
[null,null,null,null,null,null,null,null,null,0]
[null,null,null,null,null,null,null,null,null,0]
[null,null,null,null,null,null,null,null,null,0]
[null,null,null,null,null,null,null,null,null,0]
[null,null,null,null,null,null,null,null,null,0]
[null,null,null,null,null,null,null,null,null,0]
[null,null,null,null,null,null,null,null,null,0]
[null,null,null,null,null,null,null,null,null,0]
[null,null,null,null,null,null,null,null,null,0]
[null,null,null,null,null,null,null,null,null,0]
[null,null,null,null,null,null,null,null,null,0]
[null,null,null,null,null,null,null,null,null,0]
[null,null,null,null,null,null,null,null,null,0]
[null,null,null,null,null,null,null,null,null,0]
[null,null,null,null,null,null,null,null,null,0]
[null,null,null,null,null,null,null,null,null,0]
[null,null,null,null,null,null,null,null,null,0]
[null,null,null,null,null,null,null,null,null,0]
[null,null,null,null,null,null,null,null,null,0]
[null,null,null,null,null,null,null,null,null,0]
[null,null,null,null,null,null,null,null,null,0]
[null,null,null,null,null,null,null,null,null,0]
[null,null,null,null,null,null,null,null,null,0]
[null,null,null,null,null,null,null,null,null,0]
[null,null,null,null,null,null,null,null,null,0]
[null,null,null,null,null,null,null,null,null,0]
[null,null,null,null,null,null,null,null,null,0]
[null,null,null,null,null,null,null,null,null,0]
[null,null,null,null,null,null,null,null,null,0]
[null,null,null,null,null,null,null,null,null,0]
[null,null,null,null,null,null,null,null,null,0]
[null,null,null,null,null,null,null,null,null,0]
[null,null,null,null,null,null,null,null,null,0]
[null,null,null,null,null,null,null,null,null,0]
[null,null,null,null,null,null,null,null,null,0]
[null,null,null,null,null,null,null,null,null,0]
[null,null,null,null,null,null,null,null,null,0]
[null,null,null,null,null,null,null,null,null,0]
[null,null,null,null,null,null,null,null,null,0]
[null,null,null,null,null,null,null,null,null,0]
[null,null,null,null,null,null,null,null,null,0]
[null,null,null,null,null,null,null,null,null,0]
[null,null,null,null,null,null,null,null,null,0]
[null,null,null,null,null,null,null,null,null,0]
[null,null,null,null,null,null,null,null,null,0]
[null,null,null,null,null,null,null,null,null,0]
[null,null,null,null,null,null,null,null,null,0]
[null,null,null,null,null,null,null,null,null,0]
[null,null,null,null,null,null,null,null,null,0]
[null,null,null,null,null,null,null,null,null,0]
[null,null,null,null,null,null,null,null,null,0]
[null,null,null,null,null,null,null,null,null,0]
[null,null,null,null,null,null,null,null,null,0]
[null,null,null,null,null,null,null,null,null,0]
[null,null,null,null,null,null,null,null,null,0]
[null,null,null,null,null,null,null,null,null,0]
[null,null,null,null,null,null,null,null,null,0]
[null,null,null,null,null,null,null,null,null,0]
[null,null,null,null,null,null,null,null,null,0]
[null,null,null,null,null,null,null,null,null,0]
[null,null,null,null,null,null,null,null,null,{"$f":"SUMIF($G$19:$G$1015,$G1400,$H$19:$H$1015)","v":0}]
[null,null,null,null,null,null,null,null,null,0]
[null,null,null,null,null,null,null,null,null,0]
[null,null,null,null,null,null,null,null,null,0]
[null,null,null,null,null,null,null,null,null,0]
[null,null,null,null,null,null,null,null,null,0]
[null,null,null,null,null,null,null,null,null,0]
[null,null,null,null,null,null,null,null,null,0]
[null,null,null,null,null,null,null,null,null,0]
[null,null,null,null,null,null,null,null,null,0]
[null,null,null,null,null,null,null,null,null,0]
[null,null,null,null,null,null,null,null,null,0]
[null,null,null,null,null,null,null,null,null,0]
[null,null,null,null,null,null,null,null,null,0]
[null,null,null,null,null,null,null,null,null,0]
[null,null,null,null,null,null,null,null,null,0]
[null,null,null,null,null,null,null,null,null,0]
[null,null,null,null,null,null,null,null,null,0]
[null,null,null,null,null,null,null,null,null,0]
[null,null,null,null,null,null,null,null,null,0]
[null,null,null,null,null,null,null,null,null,0]
[null,null,null,null,null,null,null,null,null,0]
[null,null,null,null,null,null,null,null,null,0]
[null,null,null,null,null,null,null,null,null,0]
[null,null,null,null,null,null,null,null,null,0]
[null,null,null,null,null,null,null,null,null,0]
[null,null,null,null,null,null,null,null,null,0]
[null,null,null,null,null,null,null,null,null,0]
[null,null,null,null,null,null,null,null,null,0]
[null,null,null,null,null,null,null,null,null,0]
[null,null,null,null,null,null,null,null,null,0]
[null,null,null,null,null,null,null,null,null,0]
[null,null,null,null,null,null,null,null,null,0]
[null,null,null,null,null,null,null,null,null,0]
[null,null,null,null,null,null,null,null,null,0]
[null,null,null,null,null,null,null,null,null,0]
[null,null,null,null,null,null,null,null,null,0]
[null,null,null,null,null,null,null,null,null,0]
[null,null,null,null,null,null,null,null,null,0]
[null,null,null,null,null,null,null,null,null,0]
[null,null,null,null,null,null,null,null,null,0]
[null,null,null,null,null,null,null,null,null,0]
[null,null,null,null,null,null,null,null,null,0]
[null,null,null,null,null,null,null,null,null,0]
[null,null,null,null,null,null,null,null,null,0]
[null,null,null,null,null,null,null,null,null,0]
[null,null,null,null,null,null,null,null,null,0]
[null,null,null,null,null,null,null,null,null,0]
[null,null,null,null,null,null,null,null,null,0]
[null,null,null,null,null,null,null,null,null,0]
[null,null,null,null,null,null,null,null,null,0]
[null,null,null,null,null,null,null,null,null,0]
[null,null,null,null,null,null,null,null,null,0]
[null,null,null,null,null,null,null,null,null,0]
[null,null,null,null,null,null,null,null,null,0]
[null,null,null,null,null,null,null,null,null,0]
[null,null,null,null,null,null,null,null,null,0]
[null,null,null,null,null,null,null,null,null,0]
[null,null,null,null,null,null,null,null,null,0]
[null,null,null,null,null,null,null,null,null,0]
[null,null,null,null,null,null,null,null,null,0]
[null,null,null,null,null,null,null,null,null,0]
[null,null,null,null,null,null,null,null,null,0]
[null,null,null,null,null,null,null,null,null,0]
[null,null,null,null,null,null,null,null,null,{"$f":"SUMIF($G$19:$G$1015,$G1464,$H$19:$H$1015)","v":0}]
[null,null,null,null,null,null,null,null,null,0]
[null,null,null,null,null,null,null,null,null,0]
[null,null,null,null,null,null,null,null,null,0]
[null,null,null,null,null,null,null,null,null,0]
[null,null,null,null,null,null,null,null,null,0]
[null,null,null,null,null,null,null,null,null,0]
[null,null,null,null,null,null,null,null,null,0]
[null,null,null,null,null,null,null,null,null,0]
[null,null,null,null,null,null,null,null,null,0]
[null,null,null,null,null,null,null,null,null,0]
[null,null,null,null,null,null,null,null,null,0]
[null,null,null,null,null,null,null,null,null,0]
[null,null,null,null,null,null,null,null,null,0]
[null,null,null,null,null,null,null,null,null,0]
[null,null,null,null,null,null,null,null,null,0]
[null,null,null,null,null,null,null,null,null,0]
[null,null,null,null,null,null,null,null,null,0]
[null,null,null,null,null,null,null,null,null,0]
[null,null,null,null,null,null,null,null,null,0]
[null,null,null,null,null,null,null,null,null,0]
[null,null,null,null,null,null,null,null,null,0]
[null,null,null,null,null,null,null,null,null,0]
[null,null,null,null,null,null,null,null,null,0]
[null,null,null,null,null,null,null,null,null,0]
[null,null,null,null,null,null,null,null,null,0]
[null,null,null,null,null,null,null,null,null,0]
[null,null,null,null,null,null,null,null,null,0]
[null,null,null,null,null,null,null,null,null,0]
[null,null,null,null,null,null,null,null,null,0]
[null,null,null,null,null,null,null,null,null,0]
[null,null,null,null,null,null,null,null,null,0]
[null,null,null,null,null,null,null,null,null,0]
[null,null,null,null,null,null,null,null,null,0]
[null,null,null,null,null,null,null,null,null,0]
[null,null,null,null,null,null,null,null,null,0]
[null,null,null,null,null,null,null,null,null,0]
[null,null,null,null,null,null,null,null,null,0]
[null,null,null,null,null,null,null,null,null,0]
[null,null,null,null,null,null,null,null,null,0]
[null,null,null,null,null,null,null,null,null,0]
[null,null,null,null,null,null,null,null,null,0]
[null,null,null,null,null,null,null,null,null,0]
[null,null,null,null,null,null,null,null,null,0]
[null,null,null,null,null,null,null,null,null,0]
[null,null,null,null,null,null,null,null,null,0]
[null,null,null,null,null,null,null,null,null,0]
[null,null,null,null,null,null,null,null,null,0]
[null,null,null,null,null,null,null,null,null,0]
[null,null,null,null,null,null,null,null,null,0]
[null,null,null,null,null,null,null,null,null,0]
[null,null,null,null,null,null,null,null,null,0]
[null,null,null,null,null,null,null,null,null,0]
[null,null,null,null,null,null,null,null,null,0]
[null,null,null,null,null,null,null,null,null,0]
[null,null,null,null,null,null,null,null,null,0]
[null,null,null,null,null,null,null,null,null,0]
[null,null,null,null,null,null,null,null,null,0]
[null,null,null,null,null,null,null,null,null,0]
[null,null,null,null,null,null,null,null,null,0]
[null,null,null,null,null,null,null,null,null,0]
[null,null,null,null,null,null,null,null,null,0]
[null,null,null,null,null,null,null,null,null,0]
[null,null,null,null,null,null,null,null,null,0]
[null,null,null,null,null,null,null,null,null,{"$f":"SUMIF($G$19:$G$1015,$G1528,$H$19:$H$1015)","v":0}]
[null,null,null,null,null,null,null,null,null,0]
[null,null,null,null,null,null,null,null,null,0]
[null,null,null,null,null,null,null,null,null,0]
[null,null,null,null,null,null,null,null,null,0]
[null,null,null,null,null,null,null,null,null,0]
[null,null,null,null,null,null,null,null,null,0]
[null,null,null,null,null,null,null,null,null,0]
[null,null,null,null,null,null,null,null,null,0]
[null,null,null,null,null,null,null,null,null,0]
[null,null,null,null,null,null,null,null,null,0]
[null,null,null,null,null,null,null,null,null,0]
[null,null,null,null,null,null,null,null,null,0]
[null,null,null,null,null,null,null,null,null,0]
[null,null,null,null,null,null,null,null,null,0]
[null,null,null,null,null,null,null,null,null,0]
[null,null,null,null,null,null,null,null,null,0]
[null,null,null,null,null,null,null,null,null,0]
[null,null,null,null,null,null,null,null,null,0]
[null,null,null,null,null,null,null,null,null,0]
[null,null,null,null,null,null,null,null,null,0]
[null,null,null,null,null,null,null,null,null,0]
[null,null,null,null,null,null,null,null,null,0]
[null,null,null,null,null,null,null,null,null,0]
[null,null,null,null,null,null,null,null,null,0]
[null,null,null,null,null,null,null,null,null,0]
[null,null,null,null,null,null,null,null,null,0]
[null,null,null,null,null,null,null,null,null,0]
[null,null,null,null,null,null,null,null,null,0]
[null,null,null,null,null,null,null,null,null,0]
[null,null,null,null,null,null,null,null,null,0]
[null,null,null,null,null,null,null,null,null,0]
[null,null,null,null,null,null,null,null,null,0]
[null,null,null,null,null,null,null,null,null,0]
[null,null,null,null,null,null,null,null,null,0]
[null,null,null,null,null,null,null,null,null,0]
[null,null,null,null,null,null,null,null,null,0]
[null,null,null,null,null,null,null,null,null,0]
[null,null,null,null,null,null,null,null,null,0]
[null,null,null,null,null,null,null,null,null,0]
[null,null,null,null,null,null,null,null,null,0]
[null,null,null,null,null,null,null,null,null,0]
[null,null,null,null,null,null,null,null,null,0]
[null,null,null,null,null,null,null,null,null,0]
[null,null,null,null,null,null,null,null,null,0]
[null,null,null,null,null,null,null,null,null,0]
[null,null,null,null,null,null,null,null,null,0]
[null,null,null,null,null,null,null,null,null,0]
[null,null,null,null,null,null,null,null,null,0]
[null,null,null,null,null,null,null,null,null,0]
[null,null,null,null,null,null,null,null,null,0]
[null,null,null,null,null,null,null,null,null,0]
[null,null,null,null,null,null,null,null,null,0]
[null,null,null,null,null,null,null,null,null,0]
[null,null,null,null,null,null,null,null,null,0]
[null,null,null,null,null,null,null,null,null,0]
[null,null,null,null,null,null,null,null,null,0]
[null,null,null,null,null,null,null,null,null,0]
[null,null,null,null,null,null,null,null,null,0]
[null,null,null,null,null,null,null,null,null,0]
[null,null,null,null,null,null,null,null,null,0]
[null,null,null,null,null,null,null,null,null,0]
[null,null,null,null,null,null,null,null,null,0]
[null,null,null,null,null,null,null,null,null,0]
[null,null,null,null,null,null,null,null,null,{"$f":"SUMIF($G$19:$G$1015,$G1592,$H$19:$H$1015)","v":0}]
[null,null,null,null,null,null,null,null,null,0]
[null,null,null,null,null,null,null,null,null,0]
[null,null,null,null,null,null,null,null,null,0]
[null,null,null,null,null,null,null,null,null,0]
[null,null,null,null,null,null,null,null,null,0]
[null,null,null,null,null,null,null,null,null,0]
[null,null,null,null,null,null,null,null,null,0]
[null,null,null,null,null,null,null,null,null,0]
[null,null,null,null,null,null,null,null,null,0]
[null,null,null,null,null,null,null,null,null,0]
[null,null,null,null,null,null,null,null,null,0]
[null,null,null,null,null,null,null,null,null,0]
[null,null,null,null,null,null,null,null,null,0]
[null,null,null,null,null,null,null,null,null,0]
[null,null,null,null,null,null,null,null,null,0]
[null,null,null,null,null,null,null,null,null,0]
[null,null,null,null,null,null,null,null,null,0]
[null,null,null,null,null,null,null,null,null,0]
[null,null,null,null,null,null,null,null,null,0]
[null,null,null,null,null,null,null,null,null,0]
[null,null,null,null,null,null,null,null,null,0]
[null,null,null,null,null,null,null,null,null,0]
[null,null,null,null,null,null,null,null,null,0]
[null,null,null,null,null,null,null,null,null,0]
[null,null,null,null,null,null,null,null,null,0]
[null,null,null,null,null,null,null,null,null,0]
[null,null,null,null,null,null,null,null,null,0]
[null,null,null,null,null,null,null,null,null,0]
[null,null,null,null,null,null,null,null,null,0]
[null,null,null,null,null,null,null,null,null,0]
[null,null,null,null,null,null,null,null,null,0]
[null,null,null,null,null,null,null,null,null,0]
[null,null,null,null,null,null,null,null,null,0]
[null,null,null,null,null,null,null,null,null,0]
[null,null,null,null,null,null,null,null,null,0]
[null,null,null,null,null,null,null,null,null,0]
[null,null,null,null,null,null,null,null,null,0]
[null,null,null,null,null,null,null,null,null,0]
[null,null,null,null,null,null,null,null,null,0]
[null,null,null,null,null,null,null,null,null,0]
[null,null,null,null,null,null,null,null,null,0]
[null,null,null,null,null,null,null,null,null,0]
[null,null,null,null,null,null,null,null,null,0]
[null,null,null,null,null,null,null,null,null,0]
[null,null,null,null,null,null,null,null,null,0]
[null,null,null,null,null,null,null,null,null,0]
[null,null,null,null,null,null,null,null,null,0]
[null,null,null,null,null,null,null,null,null,0]
[null,null,null,null,null,null,null,null,null,0]
[null,null,null,null,null,null,null,null,null,0]
[null,null,null,null,null,null,null,null,null,0]
[null,null,null,null,null,null,null,null,null,0]
[null,null,null,null,null,null,null,null,null,0]
[null,null,null,null,null,null,null,null,null,0]
[null,null,null,null,null,null,null,null,null,0]
[null,null,null,null,null,null,null,null,null,0]
[null,null,null,null,null,null,null,null,null,0]
[null,null,null,null,null,null,null,null,null,0]
[null,null,null,null,null,null,null,null,null,0]
[null,null,null,null,null,null,null,null,null,0]
[null,null,null,null,null,null,null,null,null,0]
[null,null,null,null,null,null,null,null,null,0]
[null,null,null,null,null,null,null,null,null,0]
[null,null,null,null,null,null,null,null,null,{"$f":"SUMIF($G$19:$G$1015,$G1656,$H$19:$H$1015)","v":0}]
[null,null,null,null,null,null,null,null,null,0]
[null,null,null,null,null,null,null,null,null,0]
[null,null,null,null,null,null,null,null,null,0]
[null,null,null,null,null,null,null,null,null,0]
[null,null,null,null,null,null,null,null,null,0]
[null,null,null,null,null,null,null,null,null,0]
[null,null,null,null,null,null,null,null,null,0]
[null,null,null,null,null,null,null,null,null,0]
[null,null,null,null,null,null,null,null,null,0]
[null,null,null,null,null,null,null,null,null,0]
[null,null,null,null,null,null,null,null,null,0]
[null,null,null,null,null,null,null,null,null,0]
[null,null,null,null,null,null,null,null,null,0]
[null,null,null,null,null,null,null,null,null,0]
[null,null,null,null,null,null,null,null,null,0]
[null,null,null,null,null,null,null,null,null,0]
[null,null,null,null,null,null,null,null,null,0]
[null,null,null,null,null,null,null,null,null,0]
[null,null,null,null,null,null,null,null,null,0]
[null,null,null,null,null,null,null,null,null,0]
[null,null,null,null,null,null,null,null,null,0]
[null,null,null,null,null,null,null,null,null,0]
[null,null,null,null,null,null,null,null,null,0]
[null,null,null,null,null,null,null,null,null,0]
[null,null,null,null,null,null,null,null,null,0]
[null,null,null,null,null,null,null,null,null,0]
[null,null,null,null,null,null,null,null,null,0]
[null,null,null,null,null,null,null,null,null,0]
[null,null,null,null,null,null,null,null,null,0]
[null,null,null,null,null,null,null,null,null,0]
[null,null,null,null,null,null,null,null,null,0]
[null,null,null,null,null,null,null,null,null,0]
[null,null,null,null,null,null,null,null,null,0]
[null,null,null,null,null,null,null,null,null,0]
[null,null,null,null,null,null,null,null,null,0]
[null,null,null,null,null,null,null,null,null,0]
[null,null,null,null,null,null,null,null,null,0]
[null,null,null,null,null,null,null,null,null,0]
[null,null,null,null,null,null,null,null,null,0]
[null,null,null,null,null,null,null,null,null,0]
[null,null,null,null,null,null,null,null,null,0]
[null,null,null,null,null,null,null,null,null,0]
[null,null,null,null,null,null,null,null,null,0]
[null,null,null,null,null,null,null,null,null,0]
[null,null,null,null,null,null,null,null,null,0]
[null,null,null,null,null,null,null,null,null,0]
[null,null,null,null,null,null,null,null,null,0]
[null,null,null,null,null,null,null,null,null,0]
[null,null,null,null,null,null,null,null,null,0]
[null,null,null,null,null,null,null,null,null,0]
[null,null,null,null,null,null,null,null,null,0]
[null,null,null,null,null,null,null,null,null,0]
[null,null,null,null,null,null,null,null,null,0]
[null,null,null,null,null,null,null,null,null,0]
[null,null,null,null,null,null,null,null,null,0]
[null,null,null,null,null,null,null,null,null,0]
[null,null,null,null,null,null,null,null,null,0]
[null,null,null,null,null,null,null,null,null,0]
[null,null,null,null,null,null,null,null,null,0]
[null,null,null,null,null,null,null,null,null,0]
[null,null,null,null,null,null,null,null,null,0]
[null,null,null,null,null,null,null,null,null,0]
[null,null,null,null,null,null,null,null,null,0]
[null,null,null,null,null,null,null,null,null,{"$f":"SUMIF($G$19:$G$1015,$G1720,$H$19:$H$1015)","v":0}]
[null,null,null,null,null,null,null,null,null,0]
[null,null,null,null,null,null,null,null,null,0]
[null,null,null,null,null,null,null,null,null,0]
[null,null,null,null,null,null,null,null,null,0]
[null,null,null,null,null,null,null,null,null,0]
[null,null,null,null,null,null,null,null,null,0]
[null,null,null,null,null,null,null,null,null,0]
[null,null,null,null,null,null,null,null,null,0]
[null,null,null,null,null,null,null,null,null,0]
[null,null,null,null,null,null,null,null,null,0]
[null,null,null,null,null,null,null,null,null,0]
[null,null,null,null,null,null,null,null,null,0]
[null,null,null,null,null,null,null,null,null,0]
[null,null,null,null,null,null,null,null,null,0]
[null,null,null,null,null,null,null,null,null,0]
[null,null,null,null,null,null,null,null,null,0]
[null,null,null,null,null,null,null,null,null,0]
[null,null,null,null,null,null,null,null,null,0]
[null,null,null,null,null,null,null,null,null,0]
[null,null,null,null,null,null,null,null,null,0]
[null,null,null,null,null,null,null,null,null,0]
[null,null,null,null,null,null,null,null,null,0]
[null,null,null,null,null,null,null,null,null,0]
[null,null,null,null,null,null,null,null,null,0]
[null,null,null,null,null,null,null,null,null,0]
[null,null,null,null,null,null,null,null,null,0]
[null,null,null,null,null,null,null,null,null,0]
[null,null,null,null,null,null,null,null,null,0]
[null,null,null,null,null,null,null,null,null,0]
[null,null,null,null,null,null,null,null,null,0]
[null,null,null,null,null,null,null,null,null,0]
[null,null,null,null,null,null,null,null,null,0]
[null,null,null,null,null,null,null,null,null,0]
[null,null,null,null,null,null,null,null,null,0]
[null,null,null,null,null,null,null,null,null,0]
[null,null,null,null,null,null,null,null,null,0]
[null,null,null,null,null,null,null,null,null,0]
[null,null,null,null,null,null,null,null,null,0]
[null,null,null,null,null,null,null,null,null,0]
[null,null,null,null,null,null,null,null,null,0]
[null,null,null,null,null,null,null,null,null,0]
[null,null,null,null,null,null,null,null,null,0]
[null,null,null,null,null,null,null,null,null,0]
[null,null,null,null,null,null,null,null,null,0]
[null,null,null,null,null,null,null,null,null,0]
[null,null,null,null,null,null,null,null,null,0]
[null,null,null,null,null,null,null,null,null,0]
[null,null,null,null,null,null,null,null,null,0]
[null,null,null,null,null,null,null,null,null,0]
[null,null,null,null,null,null,null,null,null,0]
[null,null,null,null,null,null,null,null,null,0]
[null,null,null,null,null,null,null,null,null,0]
[null,null,null,null,null,null,null,null,null,0]
[null,null,null,null,null,null,null,null,null,0]
[null,null,null,null,null,null,null,null,null,0]
[null,null,null,null,null,null,null,null,null,0]
[null,null,null,null,null,null,null,null,null,0]
[null,null,null,null,null,null,null,null,null,0]
[null,null,null,null,null,null,null,null,null,0]
[null,null,null,null,null,null,null,null,null,0]
[null,null,null,null,null,null,null,null,null,0]
[null,null,null,null,null,null,null,null,null,0]
[null,null,null,null,null,null,null,null,null,0]
[null,null,null,null,null,null,null,null,null,{"$f":"SUMIF($G$19:$G$1015,$G1784,$H$19:$H$1015)","v":0}]
[null,null,null,null,null,null,null,null,null,0]
[null,null,null,null,null,null,null,null,null,0]
[null,null,null,null,null,null,null,null,null,0]
[null,null,null,null,null,null,null,null,null,0]
[null,null,null,null,null,null,null,null,null,0]
[null,null,null,null,null,null,null,null,null,0]
[null,null,null,null,null,null,null,null,null,0]
[null,null,null,null,null,null,null,null,null,0]
[null,null,null,null,null,null,null,null,null,0]
[null,null,null,null,null,null,null,null,null,0]
[null,null,null,null,null,null,null,null,null,0]
[null,null,null,null,null,null,null,null,null,0]
[null,null,null,null,null,null,null,null,null,0]
[null,null,null,null,null,null,null,null,null,0]
[null,null,null,null,null,null,null,null,null,0]
[null,null,null,null,null,null,null,null,null,0]
[null,null,null,null,null,null,null,null,null,0]
[null,null,null,null,null,null,null,null,null,0]
[null,null,null,null,null,null,null,null,null,0]
[null,null,null,null,null,null,null,null,null,0]
[null,null,null,null,null,null,null,null,null,0]
[null,null,null,null,null,null,null,null,null,0]
[null,null,null,null,null,null,null,null,null,0]
[null,null,null,null,null,null,null,null,null,0]
[null,null,null,null,null,null,null,null,null,0]
[null,null,null,null,null,null,null,null,null,0]
[null,null,null,null,null,null,null,null,null,0]
[null,null,null,null,null,null,null,null,null,0]
[null,null,null,null,null,null,null,null,null,0]
[null,null,null,null,null,null,null,null,null,0]
[null,null,null,null,null,null,null,null,null,0]
[null,null,null,null,null,null,null,null,null,0]
[null,null,null,null,null,null,null,null,null,0]
[null,null,null,null,null,null,null,null,null,0]
[null,null,null,null,null,null,null,null,null,0]
[null,null,null,null,null,null,null,null,null,0]
[null,null,null,null,null,null,null,null,null,0]
[null,null,null,null,null,null,null,null,null,0]
[null,null,null,null,null,null,null,null,null,0]
[null,null,null,null,null,null,null,null,null,0]
[null,null,null,null,null,null,null,null,null,0]
[null,null,null,null,null,null,null,null,null,0]
[null,null,null,null,null,null,null,null,null,0]
[null,null,null,null,null,null,null,null,null,0]
[null,null,null,null,null,null,null,null,null,0]
[null,null,null,null,null,null,null,null,null,0]
[null,null,null,null,null,null,null,null,null,0]
[null,null,null,null,null,null,null,null,null,0]
[null,null,null,null,null,null,null,null,null,0]
[null,null,null,null,null,null,null,null,null,0]
[null,null,null,null,null,null,null,null,null,0]
[null,null,null,null,null,null,null,null,null,0]
[null,null,null,null,null,null,null,null,null,0]
[null,null,null,null,null,null,null,null,null,0]
[null,null,null,null,null,null,null,null,null,0]
[null,null,null,null,null,null,null,null,null,0]
[null,null,null,null,null,null,null,null,null,0]
[null,null,null,null,null,null,null,null,null,0]
[null,null,null,null,null,null,null,null,null,0]
[null,null,null,null,null,null,null,null,null,0]
[null,null,null,null,null,null,null,null,null,0]
[null,null,null,null,null,null,null,null,null,0]
[null,null,null,null,null,null,null,null,null,0]
[null,null,null,null,null,null,null,null,null,{"$f":"SUMIF($G$19:$G$1015,$G1848,$H$19:$H$1015)","v":0}]
[null,null,null,null,null,null,null,null,null,0]
[null,null,null,null,null,null,null,null,null,0]
[null,null,null,null,null,null,null,null,null,0]
[null,null,null,null,null,null,null,null,null,0]
[null,null,null,null,null,null,null,null,null,0]
[null,null,null,null,null,null,null,null,null,0]
[null,null,null,null,null,null,null,null,null,0]
[null,null,null,null,null,null,null,null,null,0]
[null,null,null,null,null,null,null,null,null,0]
[null,null,null,null,null,null,null,null,null,0]
[null,null,null,null,null,null,null,null,null,0]
[null,null,null,null,null,null,null,null,null,0]
[null,null,null,null,null,null,null,null,null,0]
[null,null,null,null,null,null,null,null,null,0]
[null,null,null,null,null,null,null,null,null,0]
[null,null,null,null,null,null,null,null,null,0]
[null,null,null,null,null,null,null,null,null,0]
[null,null,null,null,null,null,null,null,null,0]
[null,null,null,null,null,null,null,null,null,0]
[null,null,null,null,null,null,null,null,null,0]
[null,null,null,null,null,null,null,null,null,0]
[null,null,null,null,null,null,null,null,null,0]
[null,null,null,null,null,null,null,null,null,0]
[null,null,null,null,null,null,null,null,null,0]
[null,null,null,null,null,null,null,null,null,0]
[null,null,null,null,null,null,null,null,null,0]
[null,null,null,null,null,null,null,null,null,0]
[null,null,null,null,null,null,null,null,null,0]
[null,null,null,null,null,null,null,null,null,0]
[null,null,null,null,null,null,null,null,null,0]
[null,null,null,null,null,null,null,null,null,0]
[null,null,null,null,null,null,null,null,null,0]
[null,null,null,null,null,null,null,null,null,0]
[null,null,null,null,null,null,null,null,null,0]
[null,null,null,null,null,null,null,null,null,0]
[null,null,null,null,null,null,null,null,null,0]
[null,null,null,null,null,null,null,null,null,0]
[null,null,null,null,null,null,null,null,null,0]
[null,null,null,null,null,null,null,null,null,0]
[null,null,null,null,null,null,null,null,null,0]
[null,null,null,null,null,null,null,null,null,0]
[null,null,null,null,null,null,null,null,null,0]
[null,null,null,null,null,null,null,null,null,0]
[null,null,null,null,null,null,null,null,null,0]
[null,null,null,null,null,null,null,null,null,0]
[null,null,null,null,null,null,null,null,null,0]
[null,null,null,null,null,null,null,null,null,0]
[null,null,null,null,null,null,null,null,null,0]
[null,null,null,null,null,null,null,null,null,0]
[null,null,null,null,null,null,null,null,null,0]
[null,null,null,null,null,null,null,null,null,0]
[null,null,null,null,null,null,null,null,null,0]
[null,null,null,null,null,null,null,null,null,0]
[null,null,null,null,null,null,null,null,null,0]
[null,null,null,null,null,null,null,null,null,0]
[null,null,null,null,null,null,null,null,null,0]
[null,null,null,null,null,null,null,null,null,0]
[null,null,null,null,null,null,null,null,null,0]
[null,null,null,null,null,null,null,null,null,0]
[null,null,null,null,null,null,null,null,null,0]
[null,null,null,null,null,null,null,null,null,0]
[null,null,null,null,null,null,null,null,null,0]
[null,null,null,null,null,null,null,null,null,0]
[null,null,null,null,null,null,null,null,null,{"$f":"SUMIF($G$19:$G$1015,$G1912,$H$19:$H$1015)","v":0}]
[null,null,null,null,null,null,null,null,null,0]
[null,null,null,null,null,null,null,null,null,0]
[null,null,null,null,null,null,null,null,null,0]
[null,null,null,null,null,null,null,null,null,0]
[null,null,null,null,null,null,null,null,null,0]
[null,null,null,null,null,null,null,null,null,0]
[null,null,null,null,null,null,null,null,null,0]
[null,null,null,null,null,null,null,null,null,0]
[null,null,null,null,null,null,null,null,null,0]
[null,null,null,null,null,null,null,null,null,0]
[null,null,null,null,null,null,null,null,null,0]
[null,null,null,null,null,null,null,null,null,0]
[null,null,null,null,null,null,null,null,null,0]
[null,null,null,null,null,null,null,null,null,0]
[null,null,null,null,null,null,null,null,null,0]
[null,null,null,null,null,null,null,null,null,0]
[null,null,null,null,null,null,null,null,null,0]
[null,null,null,null,null,null,null,null,null,0]
[null,null,null,null,null,null,null,null,null,0]
[null,null,null,null,null,null,null,null,null,0]
[null,null,null,null,null,null,null,null,null,0]
[null,null,null,null,null,null,null,null,null,0]
[null,null,null,null,null,null,null,null,null,0]
[null,null,null,null,null,null,null,null,null,0]
[null,null,null,null,null,null,null,null,null,0]
[null,null,null,null,null,null,null,null,null,0]
[null,null,null,null,null,null,null,null,null,0]
[null,null,null,null,null,null,null,null,null,0]
[null,null,null,null,null,null,null,null,null,0]
[null,null,null,null,null,null,null,null,null,0]
[null,null,null,null,null,null,null,null,null,0]
[null,null,null,null,null,null,null,null,null,0]
[null,null,null,null,null,null,null,null,null,0]
[null,null,null,null,null,null,null,null,null,0]
[null,null,null,null,null,null,null,null,null,0]
[null,null,null,null,null,null,null,null,null,0]
[null,null,null,null,null,null,null,null,null,0]
[null,null,null,null,null,null,null,null,null,0]
[null,null,null,null,null,null,null,null,null,0]
[null,null,null,null,null,null,null,null,null,0]
[null,null,null,null,null,null,null,null,null,0]
[null,null,null,null,null,null,null,null,null,0]
[null,null,null,null,null,null,null,null,null,0]
[null,null,null,null,null,null,null,null,null,0]
[null,null,null,null,null,null,null,null,null,0]
[null,null,null,null,null,null,null,null,null,0]
[null,null,null,null,null,null,null,null,null,0]
[null,null,null,null,null,null,null,null,null,0]
[null,null,null,null,null,null,null,null,null,0]
[null,null,null,null,null,null,null,null,null,0]
[null,null,null,null,null,null,null,null,null,0]
[null,null,null,null,null,null,null,null,null,0]
[null,null,null,null,null,null,null,null,null,0]
[null,null,null,null,null,null,null,null,null,0]
[null,null,null,null,null,null,null,null,null,0]
[null,null,null,null,null,null,null,null,null,0]
[null,null,null,null,null,null,null,null,null,0]
[null,null,null,null,null,null,null,null,null,0]
[null,null,null,null,null,null,null,null,null,0]
[null,null,null,null,null,null,null,null,null,0]
[null,null,null,null,null,null,null,null,null,0]
[null,null,null,null,null,null,null,null,null,0]
[null,null,null,null,null,null,null,null,null,0]
[null,null,null,null,null,null,null,null,null,{"$f":"SUMIF($G$19:$G$1015,$G1976,$H$19:$H$1015)","v":0}]
[null,null,null,null,null,null,null,null,null,0]
[null,null,null,null,null,null,null,null,null,0]
[null,null,null,null,null,null,null,null,null,0]
[null,null,null,null,null,null,null,null,null,0]
[null,null,null,null,null,null,null,null,null,0]
[null,null,null,null,null,null,null,null,null,0]
[null,null,null,null,null,null,null,null,null,0]
[null,null,null,null,null,null,null,null,null,0]
[null,null,null,null,null,null,null,null,null,0]
[null,null,null,null,null,null,null,null,null,0]
[null,null,null,null,null,null,null,null,null,0]
[null,null,null,null,null,null,null,null,null,0]
[null,null,null,null,null,null,null,null,null,0]
[null,null,null,null,null,null,null,null,null,0]
[null,null,null,null,null,null,null,null,null,0]
[null,null,null,null,null,null,null,null,null,0]
[null,null,null,null,null,null,null,null,null,0]
[null,null,null,null,null,null,null,null,null,0]
[null,null,null,null,null,null,null,null,null,0]
[null,null,null,null,null,null,null,null,null,0]
[null,null,null,null,null,null,null,null,null,0]
[null,null,null,null,null,null,null,null,null,0]
[null,null,null,null,null,null,null,null,null,0]
[null,null,null,null,null,null,null,null,null,0]
[null,null,null,null,null,null,null,null,null,0]
[null,null,null,null,null,null,null,null,null,0]
[null,null,null,null,null,null,null,null,null,0]
[null,null,null,null,null,null,null,null,null,0]
[null,null,null,null,null,null,null,null,null,{"$f":"SUMIF($G$19:$G$1015,$G2872,$H$19:$H$1015)","v":0}]
[null,null,null,null,null,null,null,null,null,0]
[null,null,null,null,null,null,null,null,null,0]
[null,null,null,null,null,null,null,null,null,0]
[null,null,null,null,null,null,null,null,null,0]
[null,null,null,null,null,null,null,null,null,0]
[null,null,null,null,null,null,null,null,null,0]
[null,null,null,null,null,null,null,null,null,0]
[null,null,null,null,null,null,null,null,null,0]
[null,null,null,null,null,null,null,null,null,0]
[null,null,null,null,null,null,null,null,null,0]
[null,null,null,null,null,null,null,null,null,0]
[null,null,null,null,null,null,null,null,null,0]
[null,null,null,null,null,null,null,null,null,0]
[null,null,null,null,null,null,null,null,null,0]
[null,null,null,null,null,null,null,null,null,0]
[null,null,null,null,null,null,null,null,null,0]
[null,null,null,null,null,null,null,null,null,0]
[null,null,null,null,null,null,null,null,null,0]
[null,null,null,null,null,null,null,null,null,0]
[null,null,null,null,null,null,null,null,null,0]
[null,null,null,null,null,null,null,null,null,0]
[null,null,null,null,null,null,null,null,null,0]
[null,null,null,null,null,null,null,null,null,0]
[null,null,null,null,null,null,null,null,null,0]
[null,null,null,null,null,null,null,null,null,0]
[null,null,null,null,null,null,null,null,null,0]
[null,null,null,null,null,null,null,null,null,0]
[null,null,null,null,null,null,null,null,null,0]
[null,null,null,null,null,null,null,null,null,0]
[null,null,null,null,null,null,null,null,null,0]
[null,null,null,null,null,null,null,null,null,0]
[null,null,null,null,null,null,null,null,null,0]
[null,null,null,null,null,null,null,null,null,0]
[null,null,null,null,null,null,null,null,null,0]
[null,null,null,null,null,null,null,null,null,0]
[null,null,null,null,null,null,null,null,null,0]
[null,null,null,null,null,null,null,null,null,0]
[null,null,null,null,null,null,null,null,null,0]
[null,null,null,null,null,null,null,null,null,0]
[null,null,null,null,null,null,null,null,null,0]
[null,null,null,null,null,null,null,null,null,{"$f":"SUMIF($G$19:$G$1015,$G10808,$H$19:$H$1015)","v":0}]
[null,null,null,null,null,null,null,null,null,0]
[null,null,null,null,null,null,null,null,null,0]
[null,null,null,null,null,null,null,null,null,0]
[null,null,null,null,null,null,null,null,null,0]
[null,null,null,null,null,null,null,null,null,0]
[null,null,null,null,null,null,null,null,null,0]
[null,null,null,null,null,null,null,null,null,0]
[null,null,null,null,null,null,null,null,null,0]
[null,null,null,null,null,null,null,null,null,0]
[null,null,null,null,null,null,null,null,null,0]
[null,null,null,null,null,null,null,null,null,0]
[null,null,null,null,null,null,null,null,null,0]
[null,null,null,null,null,null,null,null,null,0]
[null,null,null,null,null,null,null,null,null,0]
[null,null,null,null,null,null,null,null,null,0]
[null,null,null,null,null,null,null,null,null,0]
[null,null,null,null,null,null,null,null,null,0]
[null,null,null,null,null,null,null,null,null,0]
[null,null,null,null,null,null,null,null,null,0]
[null,null,null,null,null,null,null,null,null,0]
[null,null,null,null,null,null,null,null,null,0]
[null,null,null,null,null,null,null,null,null,0]
[null,null,null,null,null,null,null,null,null,0]
[null,null,null,null,null,null,null,null,null,0]
[null,null,null,null,null,null,null,null,null,0]
[null,null,null,null,null,null,null,null,null,0]
[null,null,null,null,null,null,null,null,null,0]
[null,null,null,null,null,null,null,null,null,0]
[null,null,null,null,null,null,null,null,null,0]
[null,null,null,null,null,null,null,null,null,0]
[null,null,null,null,null,null,null,null,null,0]
[null,null,null,null,null,null,null,null,null,0]
[null,null,null,null,null,null,null,null,null,0]
[null,null,null,null,null,null,null,null,null,0]
[null,null,null,null,null,null,null,null,null,0]
[null,null,null,null,null,null,null,null,null,0]
[null,null,null,null,null,null,null,null,null,0]
[null,null,null,null,null,null,null,null,null,0]
[null,null,null,null,null,null,null,null,null,0]
[null,null,null,null,null,null,null,null,null,0]
[null,null,null,null,null,null,null,null,null,0]
[null,null,null,null,null,null,null,null,null,0]
[null,null,null,null,null,null,null,null,null,0]
[null,null,null,null,null,null,null,null,null,0]
[null,null,null,null,null,null,null,null,null,0]
[null,null,null,null,null,null,null,null,null,0]
[null,null,null,null,null,null,null,null,null,0]
[null,null,null,null,null,null,null,null,null,0]
[null,null,null,null,null,null,null,null,null,0]
[null,null,null,null,null,null,null,null,null,0]
[null,null,null,null,null,null,null,null,null,0]
[null,null,null,null,null,null,null,null,null,0]
[null,null,null,null,null,null,null,null,null,0]
[null,null,null,null,null,null,null,null,null,0]
[null,null,null,null,null,null,null,null,null,0]
[null,null,null,null,null,null,null,null,null,0]
[null,null,null,null,null,null,null,null,null,0]
[null,null,null,null,null,null,null,null,null,0]
[null,null,null,null,null,null,null,null,null,0]
[null,null,null,null,null,null,null,null,null,0]
[null,null,null,null,null,null,null,null,null,0]
[null,null,null,null,null,null,null,null,null,0]
[null,null,null,null,null,null,null,null,null,0]
[null,null,null,null,null,null,null,null,null,0]
[null,null,null,null,null,null,null,null,null,0]
[null,null,null,null,null,null,null,null,null,0]
[null,null,null,null,null,null,null,null,null,0]
[null,null,null,null,null,null,null,null,null,0]
[null,null,null,null,null,null,null,null,null,0]
[null,null,null,null,null,null,null,null,null,0]
[null,null,null,null,null,null,null,null,null,0]
[null,null,null,null,null,null,null,null,null,0]
[null,null,null,null,null,null,null,null,null,0]
[null,null,null,null,null,null,null,null,null,0]
[null,null,null,null,null,null,null,null,null,0]
[null,null,null,null,null,null,null,null,null,0]
[null,null,null,null,null,null,null,null,null,0]
[null,null,null,null,null,null,null,null,null,0]
[null,null,null,null,null,null,null,null,null,0]
[null,null,null,null,null,null,null,null,null,0]
[null,null,null,null,null,null,null,null,null,0]
[null,null,null,null,null,null,null,null,null,0]
[null,null,null,null,null,null,null,null,null,0]
[null,null,null,null,null,null,null,null,null,0]
[null,null,null,null,null,null,null,null,null,0]
[null,null,null,null,null,null,null,null,null,0]
[null,null,null,null,null,null,null,null,null,0]
[null,null,null,null,null,null,null,null,null,0]
[null,null,null,null,null,null,null,null,null,0]
[null,null,null,null,null,null,null,null,null,{"$f":"SUMIF($G$19:$G$1015,$G28280,$H$19:$H$1015)","v":0}]
[null,null,null,null,null,null,null,null,null,{"$f":"SUMIF($G$19:$G$1015,$G28472,$H$19:$H$1015)","v":0}]
[null,null,null,null,null,null,null,null,null,0]
[null,null,null,null,null,null,null,null,null,0]
[null,null,null,null,null,null,null,null,null,0]
[null,null,null,null,null,null,null,null,null,0]
[null,null,null,null,null,null,null,null,null,0]
[null,null,null,null,null,null,null,null,null,0]
[null,null,null,null,null,null,null,null,null,0]
[null,null,null,null,null,null,null,null,null,0]
[null,null,null,null,null,null,null,null,null,0]
[null,null,null,null,null,null,null,null,null,0]
[null,null,null,null,null,null,null,null,null,0]
[null,null,null,null,null,null,null,null,null,0]
[null,null,null,null,null,null,null,null,null,0]
[null,null,null,null,null,null,null,null,null,0]
[null,null,null,null,null,null,null,null,null,0]
[null,null,null,null,null,null,null,null,null,0]
[null,null,null,null,null,null,null,null,null,0]
[null,null,null,null,null,null,null,null,null,0]
[null,null,null,null,null,null,null,null,null,0]
[null,null,null,null,null,null,null,null,null,0]
[null,null,null,null,null,null,null,null,null,0]
[null,null,null,null,null,null,null,null,null,{"$f":"SUMIF($G$19:$G$1015,$G32632,$H$19:$H$1015)","v":0}]
[null,null,null,null,null,null,null,null,null,0]
[null,null,null,null,null,null,null,null,null,0]
[null,null,null,null,null,null,null,null,null,0]
[null,null,null,null,null,null,null,null,null,0]
[null,null,null,null,null,null,null,null,null,0]
[null,null,null,null,null,null,null,null,null,0]
[null,null,null,null,null,null,null,null,null,0]
[null,null,null,null,null,null,null,null,null,0]
[null,null,null,null,null,null,null,null,null,0]
[null,null,null,null,null,null,null,null,null,0]
[null,null,null,null,null,null,null,null,null,0]
[null,null,null,null,null,null,null,null,null,0]
[null,null,null,null,null,null,null,null,null,0]
[null,null,null,null,null,null,null,null,null,0]
[null,null,null,null,null,null,null,null,null,0]
[null,null,null,null,null,null,null,null,null,0]
[null,null,null,null,null,null,null,null,null,0]
[null,null,null,null,null,null,null,null,null,0]
[null,null,null,null,null,null,null,null,null,0]
[null,null,null,null,null,null,null,null,null,0]
[null,null,null,null,null,null,null,null,null,0]
[null,null,null,null,null,null,null,null,null,0]
[null,null,null,null,null,null,null,null,null,0]
[null,null,null,null,null,null,null,null,null,0]
[null,null,null,null,null,null,null,null,null,0]
[null,null,null,null,null,null,null,null,null,0]
[null,null,null,null,null,null,null,null,null,0]
[null,null,null,null,null,null,null,null,null,0]
[null,null,null,null,null,null,null,null,null,0]
[null,null,null,null,null,null,null,null,null,0]
[null,null,null,null,null,null,null,null,null,0]
[null,null,null,null,null,null,null,null,null,0]
[null,null,null,null,null,null,null,null,null,0]
[null,null,null,null,null,null,null,null,null,0]
[null,null,null,null,null,null,null,null,null,0]
[null,null,null,null,null,null,null,null,null,0]
[null,null,null,null,null,null,null,null,null,0]
[null,null,null,null,null,null,null,null,null,0]
[null,null,null,null,null,null,null,null,null,0]
[null,null,null,null,null,null,null,null,null,0]
[null,null,null,null,null,null,null,null,null,0]
[null,null,null,null,null,null,null,null,null,0]
[null,null,null,null,null,null,null,null,null,0]
[null,null,null,null,null,null,null,null,null,0]
[null,null,null,null,null,null,null,null,null,0]
[null,null,null,null,null,null,null,null,null,0]
[null,null,null,null,null,null,null,null,null,0]
[null,null,null,null,null,null,null,null,null,0]
[null,null,null,null,null,null,null,null,null,0]
[null,null,null,null,null,null,null,null,null,0]
[null,null,null,null,null,null,null,null,null,0]
[null,null,null,null,null,null,null,null,null,0]
[null,null,null,null,null,null,null,null,null,0]
[null,null,null,null,null,null,null,null,null,0]
[null,null,null,null,null,null,null,null,null,0]
[null,null,null,null,null,null,null,null,null,0]
[null,null,null,null,null,null,null,null,null,0]
[null,null,null,null,null,null,null,null,null,0]
[null,null,null,null,null,null,null,null,null,0]
[null,null,null,null,null,null,null,null,null,0]
[null,null,null,null,null,null,null,null,null,0]
[null,null,null,null,null,null,null,null,null,0]
[null,null,null,null,null,null,null,null,null,0]
[null,null,null,null,null,null,null,null,null,0]
[null,null,null,null,null,null,null,null,null,{"$f":"SUMIF($G$19:$G$1015,$G45176,$H$19:$H$1015)","v":0}]
[null,null,null,null,null,null,null,null,null,0]
[null,null,null,null,null,null,null,null,null,0]
[null,null,null,null,null,null,null,null,null,0]
[null,null,null,null,null,null,null,null,null,0]
[null,null,null,null,null,null,null,null,null,0]
[null,null,null,null,null,null,null,null,null,0]
[null,null,null,null,null,null,null,null,null,0]
[null,null,null,null,null,null,null,null,null,0]
[null,null,null,null,null,null,null,null,null,0]
[null,null,null,null,null,null,null,null,null,0]
[null,null,null,null,null,null,null,null,null,0]
[null,null,null,null,null,null,null,null,null,0]
[null,null,null,null,null,null,null,null,null,0]
[null,null,null,null,null,null,null,null,null,0]
[null,null,null,null,null,null,null,null,null,0]
[null,null,null,null,null,null,null,null,null,0]
[null,null,null,null,null,null,null,null,null,0]
[null,null,null,null,null,null,null,null,null,0]
[null,null,null,null,null,null,null,null,null,0]
[null,null,null,null,null,null,null,null,null,0]
[null,null,null,null,null,null,null,null,null,0]
[null,null,null,null,null,null,null,null,null,0]
[null,null,null,null,null,null,null,null,null,0]
[null,null,null,null,null,null,null,null,null,0]
[null,null,null,null,null,null,null,null,null,0]
[null,null,null,null,null,null,null,null,null,0]
[null,null,null,null,null,null,null,null,null,0]
[null,null,null,null,null,null,null,null,null,0]
[null,null,null,null,null,null,null,null,null,0]
[null,null,null,null,null,null,null,null,null,0]
[null,null,null,null,null,null,null,null,null,0]
[null,null,null,null,null,null,null,null,null,0]
[null,null,null,null,null,null,null,null,null,0]
[null,null,null,null,null,null,null,null,null,0]
[null,null,null,null,null,null,null,null,null,0]
[null,null,null,null,null,null,null,null,null,0]
[null,null,null,null,null,null,null,null,null,0]
[null,null,null,null,null,null,null,null,null,0]
[null,null,null,null,null,null,null,null,null,0]
[null,null,null,null,null,null,null,null,null,0]
[null,null,null,null,null,null,null,null,null,0]
[null,null,null,null,null,null,null,null,null,0]
[null,null,null,null,null,null,null,null,null,0]
[null,null,null,null,null,null,null,null,null,0]
[null,null,null,null,null,null,null,null,null,0]
[null,null,null,null,null,null,null,null,null,0]
[null,null,null,null,null,null,null,null,null,0]
[null,null,null,null,null,null,null,null,null,0]
[null,null,null,null,null,null,null,null,null,0]
[null,null,null,null,null,null,null,null,null,0]
[null,null,null,null,null,null,null,null,null,0]
[null,null,null,null,null,null,null,null,null,0]
[null,null,null,null,null,null,null,null,null,0]
[null,null,null,null,null,null,null,null,null,0]
[null,null,null,null,null,null,null,null,null,0]
[null,null,null,null,null,null,null,null,null,0]
[null,null,null,null,null,null,null,null,null,0]
[null,null,null,null,null,null,null,null,null,0]
[null,null,null,null,null,null,null,null,null,0]
[null,null,null,null,null,null,null,null,null,0]
[null,null,null,null,null,null,null,null,null,0]
[null,null,null,null,null,null,null,null,null,0]
[null,null,null,null,null,null,null,null,null,0]
[null,null,null,null,null,null,null,null,null,0]
[null,null,null,null,null,null,null,null,null,0]
[null,null,null,null,null,null,null,null,null,0]
[null,null,null,null,null,null,null,null,null,0]
[null,null,null,null,null,null,null,null,null,0]
[null,null,null,null,null,null,null,null,null,0]
[null,null,null,null,null,null,null,null,null,0]
[null,null,null,null,null,null,null,null,null,0]
[null,null,null,null,null,null,null,null,null,0]
[null,null,null,null,null,null,null,null,null,0]
[null,null,null,null,null,null,null,null,null,0]
[null,null,null,null,null,null,null,null,null,0]
[null,null,null,null,null,null,null,null,null,0]
[null,null,null,null,null,null,null,null,null,0]
[null,null,null,null,null,null,null,null,null,0]
[null,null,null,null,null,null,null,null,null,0]
[null,null,null,null,null,null,null,null,null,0]
[null,null,null,null,null,null,null,null,null,0]
[null,null,null,null,null,null,null,null,null,0]
[null,null,null,null,null,null,null,null,null,0]
[null,null,null,null,null,null,null,null,null,0]
[null,null,null,null,null,null,null,null,null,0]
[null,null,null,null,null,null,null,null,null,0]
[null,null,null,null,null,null,null,null,null,0]
[null,null,null,null,null,null,null,null,null,0]
[null,null,null,null,null,null,null,null,null,0]
[null,null,null,null,null,null,null,null,null,0]
[null,null,null,null,null,null,null,null,null,0]
[null,null,null,null,null,null,null,null,null,0]
[null,null,null,null,null,null,null,null,null,0]
[null,null,null,null,null,null,null,null,null,0]
[null,null,null,null,null,null,null,null,null,0]
[null,null,null,null,null,null,null,null,null,0]
[null,null,null,null,null,null,null,null,null,0]
[null,null,null,null,null,null,null,null,null,0]
[null,null,null,null,null,null,null,null,null,0]
[null,null,null,null,null,null,null,null,null,0]
[null,null,null,null,null,null,null,null,null,0]
[null,null,null,null,null,null,null,null,null,0]
[null,null,null,null,null,null,null,null,null,{"$f":"SUMIF($G$19:$G$1015,$G65144,$H$19:$H$1015)","v":0}]
[null,null,null,null,null,null,null,null,null,0]
[null,null,null,null,null,null,null,null,null,0]
[null,null,null,null,null,null,null,null,null,0]
[null,null,null,null,null,null,null,null,null,0]
[null,null,null,null,null,null,null,null,null,0]
[null,null,null,null,null,null,null,null,null,0]
[null,null,null,null,null,null,null,null,null,0]
[null,null,null,null,null,null,null,null,null,0]
[null,null,null,null,null,null,null,null,null,0]
[null,null,null,null,null,null,null,null,null,0]
[null,null,null,null,null,null,null,null,null,0]
[null,null,null,null,null,null,null,null,null,0]
[null,null,null,null,null,null,null,null,null,0]
[null,null,null,null,null,null,null,null,null,0]
[null,null,null,null,null,null,null,null,null,0]
[null,null,null,null,null,null,null,null,null,0]
[null,null,null,null,null,null,null,null,null,0]
[null,null,null,null,null,null,null,null,null,0]
[null,null,null,null,null,null,null,null,null,0]
[null,null,null,null,null,null,null,null,null,0]
[null,null,null,null,null,null,null,null,null,0]
[null,null,null,null,null,null,null,null,null,0]
[null,null,null,null,null,null,null,null,null,0]
[null,null,null,null,null,null,null,null,null,0]
[null,null,null,null,null,null,null,null,null,0]
[null,null,null,null,null,null,null,null,null,0]
[null,null,null,null,null,null,null,null,null,0]
[null,null,null,null,null,null,null,null,null,{"$f":"SUMIF($G$19:$G$1015,$G70584,$H$19:$H$1015)","v":0}]
[null,null,null,null,null,null,null,null,null,0]
[null,null,null,null,null,null,null,null,null,0]
[null,null,null,null,null,null,null,null,null,0]
[null,null,null,null,null,null,null,null,null,0]
[null,null,null,null,null,null,null,null,null,0]
[null,null,null,null,null,null,null,null,null,0]
[null,null,null,null,null,null,null,null,null,0]
[null,null,null,null,null,null,null,null,null,0]
[null,null,null,null,null,null,null,null,null,0]
[null,null,null,null,null,null,null,null,null,0]
[null,null,null,null,null,null,null,null,null,0]
[null,null,null,null,null,null,null,null,null,0]
[null,null,null,null,null,null,null,null,null,0]
[null,null,null,null,null,null,null,null,null,0]
[null,null,null,null,null,null,null,null,null,0]
[null,null,null,null,null,null,null,null,null,0]
[null,null,null,null,null,null,null,null,null,0]
[null,null,null,null,null,null,null,null,null,0]
[null,null,null,null,null,null,null,null,null,0]
[null,null,null,null,null,null,null,null,null,0]
[null,null,null,null,null,null,null,null,null,0]
[null,null,null,null,null,null,null,null,null,0]
[null,null,null,null,null,null,null,null,null,0]
[null,null,null,null,null,null,null,null,null,0]
[null,null,null,null,null,null,null,null,null,0]
[null,null,null,null,null,null,null,null,null,0]
[null,null,null,null,null,null,null,null,null,0]
[null,null,null,null,null,null,null,null,null,0]
[null,null,null,null,null,null,null,null,null,0]
[null,null,null,null,null,null,null,null,null,0]
[null,null,null,null,null,null,null,null,null,0]
[null,null,null,null,null,null,null,null,null,0]
[null,null,null,null,null,null,null,null,null,0]
[null,null,null,null,null,null,null,null,null,0]
[null,null,null,null,null,null,null,null,null,0]
[null,null,null,null,null,null,null,null,null,0]
[null,null,null,null,null,null,null,null,null,0]
[null,null,null,null,null,null,null,null,null,0]
[null,null,null,null,null,null,null,null,null,0]
[null,null,null,null,null,null,null,null,null,0]
[null,null,null,null,null,null,null,null,null,0]
[null,null,null,null,null,null,null,null,null,0]
[null,null,null,null,null,null,null,null,null,0]
[null,null,null,null,null,null,null,null,null,0]
[null,null,null,null,null,null,null,null,null,0]
[null,null,null,null,null,null,null,null,null,0]
[null,null,null,null,null,null,null,null,null,0]
[null,null,null,null,null,null,null,null,null,0]
[null,null,null,null,null,null,null,null,null,0]
[null,null,null,null,null,null,null,null,null,0]
[null,null,null,null,null,null,null,null,null,0]
[null,null,null,null,null,null,null,null,null,0]
[null,null,null,null,null,null,null,null,null,0]
[null,null,null,null,null,null,null,null,null,0]
[null,null,null,null,null,null,null,null,null,0]
[null,null,null,null,null,null,null,null,null,0]
[null,null,null,null,null,null,null,null,null,0]
[null,null,null,null,null,null,null,null,null,0]
[null,null,null,null,null,null,null,null,null,0]
[null,null,null,null,null,null,null,null,null,0]
[null,null,null,null,null,null,null,null,null,0]
[null,null,null,null,null,null,null,null,null,0]
[null,null,null,null,null,null,null,null,null,0]
[null,null,null,null,null,null,null,null,null,0]
[null,null,null,null,null,null,null,null,null,0]
[null,null,null,null,null,null,null,null,null,0]
[null,null,null,null,null,null,null,null,null,0]
[null,null,null,null,null,null,null,null,null,0]
[null,null,null,null,null,null,null,null,null,0]
[null,null,null,null,null,null,null,null,null,0]
[null,null,null,null,null,null,null,null,null,0]
[null,null,null,null,null,null,null,null,null,0]
[null,null,null,null,null,null,null,null,null,0]
[null,null,null,null,null,null,null,null,null,0]
[null,null,null,null,null,null,null,null,null,0]
[null,null,null,null,null,null,null,null,null,0]
[null,null,null,null,null,null,null,null,null,0]
[null,null,null,null,null,null,null,null,null,0]
[null,null,null,null,null,null,null,null,null,0]
[null,null,null,null,null,null,null,null,null,0]
[null,null,null,null,null,null,null,null,null,0]
[null,null,null,null,null,null,null,null,null,0]
[null,null,null,null,null,null,null,null,null,0]
[null,null,null,null,null,null,null,null,null,0]
[null,null,null,null,null,null,null,null,null,0]
[null,null,null,null,null,null,null,null,null,0]
[null,null,null,null,null,null,null,null,null,0]
[null,null,null,null,null,null,null,null,null,0]
[null,null,null,null,null,null,null,null,null,0]
[null,null,null,null,null,null,null,null,null,0]
[null,null,null,null,null,null,null,null,null,0]
[null,null,null,null,null,null,null,null,null,0]
[null,null,null,null,null,null,null,null,null,0]
[null,null,null,null,null,null,null,null,null,0]
[null,null,null,null,null,null,null,null,null,0]
[null,null,null,null,null,null,null,null,null,0]
[null,null,null,null,null,null,null,null,null,0]
[null,null,null,null,null,null,null,null,null,0]
[null,null,null,null,null,null,null,null,null,0]
[null,null,null,null,null,null,null,null,null,0]
[null,null,null,null,null,null,null,null,null,0]
[null,null,null,null,null,null,null,null,null,0]
[null,null,null,null,null,null,null,null,null,{"$f":"SUMIF($G$19:$G$1015,$G90552,$H$19:$H$1015)","v":0}]
[null,null,null,null,null,null,null,null,null,0]
[null,null,null,null,null,null,null,null,null,0]
[null,null,null,null,null,null,null,null,null,0]
[null,null,null,null,null,null,null,null,null,0]
[null,null,null,null,null,null,null,null,null,0]
[null,null,null,null,null,null,null,null,null,0]
[null,null,null,null,null,null,null,null,null,0]
[null,null,null,null,null,null,null,null,null,0]
[null,null,null,null,null,null,null,null,null,0]
[null,null,null,null,null,null,null,null,null,0]
[null,null,null,null,null,null,null,null,null,0]
[null,null,null,null,null,null,null,null,null,0]
[null,null,null,null,null,null,null,null,null,0]
[null,null,null,null,null,null,null,null,null,0]
[null,null,null,null,null,null,null,null,null,0]
[null,null,null,null,null,null,null,null,null,0]
[null,null,null,null,null,null,null,null,null,0]
[null,null,null,null,null,null,null,null,null,0]
[null,null,null,null,null,null,null,null,null,0]
[null,null,null,null,null,null,null,null,null,0]
[null,null,null,null,null,null,null,null,null,0]
[null,null,null,null,null,null,null,null,null,0]
[null,null,null,null,null,null,null,null,null,0]
[null,null,null,null,null,null,null,null,null,0]
[null,null,null,null,null,null,null,null,null,0]
[null,null,null,null,null,null,null,null,null,0]
[null,null,null,null,null,null,null,null,null,0]
[null,null,null,null,null,null,null,null,null,0]
[null,null,null,null,null,null,null,null,null,0]
[null,null,null,null,null,null,null,null,null,0]
[null,null,null,null,null,null,null,null,null,0]
[null,null,null,null,null,null,null,null,null,0]
[null,null,null,null,null,null,null,null,null,0]
[null,null,null,null,null,null,null,null,null,0]
[null,null,null,null,null,null,null,null,null,0]
[null,null,null,null,null,null,null,null,null,0]
[null,null,null,null,null,null,null,null,null,0]
[null,null,null,null,null,null,null,null,null,0]
[null,null,null,null,null,null,null,null,null,0]
[null,null,null,null,null,null,null,null,null,0]
[null,null,null,null,null,null,null,null,null,0]
[null,null,null,null,null,null,null,null,null,0]
[null,null,null,null,null,null,null,null,null,0]
[null,null,null,null,null,null,null,null,null,0]
[null,null,null,null,null,null,null,null,null,0]
[null,null,null,null,null,null,null,null,null,0]
[null,null,null,null,null,null,null,null,null,0]
[null,null,null,null,null,null,null,null,null,0]
[null,null,null,null,null,null,null,null,null,0]
[null,null,null,null,null,null,null,null,null,0]
[null,null,null,null,null,null,null,null,null,0]
[null,null,null,null,null,null,null,null,null,0]
[null,null,null,null,null,null,null,null,null,0]
[null,null,null,null,null,null,null,null,null,0]
[null,null,null,null,null,null,null,null,null,0]
[null,null,null,null,null,null,null,null,null,0]
[null,null,null,null,null,null,null,null,null,0]
[null,null,null,null,null,null,null,null,null,0]
[null,null,null,null,null,null,null,null,null,0]
[null,null,null,null,null,null,null,null,null,0]
[null,null,null,null,null,null,null,null,null,0]
[null,null,null,null,null,null,null,null,null,0]
[null,null,null,null,null,null,null,null,null,0]
[null,null,null,null,null,null,null,null,null,0]
[null,null,null,null,null,null,null,null,null,0]
[null,null,null,null,null,null,null,null,null,0]
[null,null,null,null,null,null,null,null,null,0]
[null,null,null,null,null,null,null,null,null,0]
[null,null,null,null,null,null,null,null,null,0]
[null,null,null,null,null,null,null,null,null,0]
[null,null,null,null,null,null,null,null,null,0]
[null,null,null,null,null,null,null,null,null,0]
[null,null,null,null,null,null,null,null,null,0]
[null,null,null,null,null,null,null,null,null,0]
[null,null,null,null,null,null,null,null,null,0]
[null,null,null,null,null,null,null,null,null,0]
[null,null,null,null,null,null,null,null,null,0]
[null,null,null,null,null,null,null,null,null,0]
[null,null,null,null,null,null,null,null,null,0]
[null,null,null,null,null,null,null,null,null,0]
[null,null,null,null,null,null,null,null,null,0]
[null,null,null,null,null,null,null,null,null,0]
[null,null,null,null,null,null,null,null,null,0]
[null,null,null,null,null,null,null,null,null,0]
[null,null,null,null,null,null,null,null,null,0]
[null,null,null,null,null,null,null,null,null,0]
[null,null,null,null,null,null,null,null,null,0]
[null,null,null,null,null,null,null,null,null,{"$f":"SUMIF($G$19:$G$1015,$G107448,$H$19:$H$1015)","v":0}]
[null,null,null,null,null,null,null,null,null,0]
[null,null,null,null,null,null,null,null,null,0]
[null,null,null,null,null,null,null,null,null,0]
[null,null,null,null,null,null,null,null,null,0]
[null,null,null,null,null,null,null,null,null,0]
[null,null,null,null,null,null,null,null,null,0]
[null,null,null,null,null,null,null,null,null,0]
[null,null,null,null,null,null,null,null,null,0]
[null,null,null,null,null,null,null,null,null,0]
[null,null,null,null,null,null,null,null,null,0]
[null,null,null,null,null,null,null,null,null,0]
[null,null,null,null,null,null,null,null,null,0]
[null,null,null,null,null,null,null,null,null,0]
[null,null,null,null,null,null,null,null,null,0]
[null,null,null,null,null,null,null,null,null,0]
[null,null,null,null,null,null,null,null,null,0]
[null,null,null,null,null,null,null,null,null,0]
[null,null,null,null,null,null,null,null,null,0]
[null,null,null,null,null,null,null,null,null,0]
[null,null,null,null,null,null,null,null,null,0]
[null,null,null,null,null,null,null,null,null,0]
[null,null,null,null,null,null,null,null,null,0]
[null,null,null,null,null,null,null,null,null,0]
[null,null,null,null,null,null,null,null,null,0]
[null,null,null,null,null,null,null,null,null,0]
[null,null,null,null,null,null,null,null,null,0]
[null,null,null,null,null,null,null,null,null,0]
[null,null,null,null,null,null,null,null,null,0]
[null,null,null,null,null,null,null,null,null,0]
[null,null,null,null,null,null,null,null,null,0]
[null,null,null,null,null,null,null,null,null,0]
[null,null,null,null,null,null,null,null,null,0]
[null,null,null,null,null,null,null,null,null,0]
[null,null,null,null,null,null,null,null,null,0]
[null,null,null,null,null,null,null,null,null,0]
[null,null,null,null,null,null,null,null,null,0]
[null,null,null,null,null,null,null,null,null,0]
[null,null,null,null,null,null,null,null,null,0]
[null,null,null,null,null,null,null,null,null,0]
[null,null,null,null,null,null,null,null,null,0]
[null,null,null,null,null,null,null,null,null,0]
[null,null,null,null,null,null,null,null,null,0]
[null,null,null,null,null,null,null,null,null,0]
[null,null,null,null,null,null,null,null,null,0]
[null,null,null,null,null,null,null,null,null,0]
[null,null,null,null,null,null,null,null,null,0]
[null,null,null,null,null,null,null,null,null,0]
[null,null,null,null,null,null,null,null,null,0]
[null,null,null,null,null,null,null,null,null,0]
[null,null,null,null,null,null,null,null,null,0]
[null,null,null,null,null,null,null,null,null,0]
[null,null,null,null,null,null,null,null,null,0]
[null,null,null,null,null,null,null,null,null,0]
[null,null,null,null,null,null,null,null,null,0]
[null,null,null,null,null,null,null,null,null,0]
[null,null,null,null,null,null,null,null,null,0]
[null,null,null,null,null,null,null,null,null,0]
[null,null,null,null,null,null,null,null,null,0]
[null,null,null,null,null,null,null,null,null,0]
[null,null,null,null,null,null,null,null,null,0]
[null,null,null,null,null,null,null,null,null,0]
[null,null,null,null,null,null,null,null,null,0]
[null,null,null,null,null,null,null,null,null,0]
[null,null,null,null,null,null,null,null,null,0]
[null,null,null,null,null,null,null,null,null,0]
[null,null,null,null,null,null,null,null,null,0]
[null,null,null,null,null,null,null,null,null,0]
[null,null,null,null,null,null,null,null,null,0]
[null,null,null,null,null,null,null,null,null,0]
[null,null,null,null,null,null,null,null,null,0]
[null,null,null,null,null,null,null,null,null,0]
[null,null,null,null,null,null,null,null,null,0]
[null,null,null,null,null,null,null,null,null,0]
[null,null,null,null,null,null,null,null,null,0]
[null,null,null,null,null,null,null,null,null,0]
[null,null,null,null,null,null,null,null,null,0]
[null,null,null,null,null,null,null,null,null,0]
[null,null,null,null,null,null,null,null,null,0]
[null,null,null,null,null,null,null,null,null,0]
[null,null,null,null,null,null,null,null,null,0]
[null,null,null,null,null,null,null,null,null,0]
[null,null,null,null,null,null,null,null,null,0]
[null,null,null,null,null,null,null,null,null,0]
[null,null,null,null,null,null,null,null,null,0]
[null,null,null,null,null,null,null,null,null,0]
[null,null,null,null,null,null,null,null,null,0]
[null,null,null,null,null,null,null,null,null,0]
[null,null,null,null,null,null,null,null,null,0]
[null,null,null,null,null,null,null,null,null,0]
[null,null,null,null,null,null,null,null,null,0]
[null,null,null,null,null,null,null,null,null,0]
[null,null,null,null,null,null,null,null,null,0]
[null,null,null,null,null,null,null,null,null,0]
[null,null,null,null,null,null,null,null,null,0]
[null,null,null,null,null,null,null,null,null,0]
[null,null,null,null,null,null,null,null,null,0]
[null,null,null,null,null,null,null,null,null,0]
[null,null,null,null,null,null,null,null,null,0]
[null,null,null,null,null,null,null,null,null,0]
[null,null,null,null,null,null,null,null,null,0]
[null,null,null,null,null,null,null,null,null,0]
[null,null,null,null,null,null,null,null,null,0]
[null,null,null,null,null,null,null,null,null,0]
[null,null,null,null,null,null,null,null,null,0]
[null,null,null,null,null,null,null,null,null,0]
[null,null,null,null,null,null,null,null,null,{"$f":"SUMIF($G$19:$G$1015,$G128056,$H$19:$H$1015)","v":0}]
[null,null,null,null,null,null,null,null,null,0]
[null,null,null,null,null,null,null,null,null,0]
[null,null,null,null,null,null,null,null,null,0]
[null,null,null,null,null,null,null,null,null,0]
[null,null,null,null,null,null,null,null,null,0]
[null,null,null,null,null,null,null,null,null,0]
[null,null,null,null,null,null,null,null,null,0]
[null,null,null,null,null,null,null,null,null,0]
[null,null,null,null,null,null,null,null,null,0]
[null,null,null,null,null,null,null,null,null,0]
[null,null,null,null,null,null,null,null,null,0]
[null,null,null,null,null,null,null,null,null,0]
[null,null,null,null,null,null,null,null,null,0]
[null,null,null,null,null,null,null,null,null,0]
[null,null,null,null,null,null,null,null,null,0]
[null,null,null,null,null,null,null,null,null,0]
[null,null,null,null,null,null,null,null,null,0]
[null,null,null,null,null,null,null,null,null,0]
[null,null,null,null,null,null,null,null,null,0]
[null,null,null,null,null,null,null,null,null,0]
[null,null,null,null,null,null,null,null,null,0]
[null,null,null,null,null,null,null,null,null,0]
[null,null,null,null,null,null,null,null,null,0]
[null,null,null,null,null,null,null,null,null,0]
[null,null,null,null,null,null,null,null,null,{"$f":"SUMIF($G$19:$G$1015,$G132856,$H$19:$H$1015)","v":0}]
[null,null,null,null,null,null,null,null,null,0]
[null,null,null,null,null,null,null,null,null,0]
[null,null,null,null,null,null,null,null,null,0]
[null,null,null,null,null,null,null,null,null,0]
[null,null,null,null,null,null,null,null,null,0]
[null,null,null,null,null,null,null,null,null,0]
[null,null,null,null,null,null,null,null,null,0]
[null,null,null,null,null,null,null,null,null,0]
[null,null,null,null,null,null,null,null,null,0]
[null,null,null,null,null,null,null,null,null,0]
[null,null,null,null,null,null,null,null,null,0]
[null,null,null,null,null,null,null,null,null,0]
[null,null,null,null,null,null,null,null,null,0]
[null,null,null,null,null,null,null,null,null,0]
[null,null,null,null,null,null,null,null,null,0]
[null,null,null,null,null,null,null,null,null,0]
[null,null,null,null,null,null,null,null,null,0]
[null,null,null,null,null,null,null,null,null,0]
[null,null,null,null,null,null,null,null,null,0]
[null,null,null,null,null,null,null,null,null,0]
[null,null,null,null,null,null,null,null,null,0]
[null,null,null,null,null,null,null,null,null,0]
[null,null,null,null,null,null,null,null,null,0]
[null,null,null,null,null,null,null,null,null,0]
[null,null,null,null,null,null,null,null,null,0]
[null,null,null,null,null,null,null,null,null,0]
[null,null,null,null,null,null,null,null,null,0]
[null,null,null,null,null,null,null,null,null,0]
[null,null,null,null,null,null,null,null,null,0]
[null,null,null,null,null,null,null,null,null,0]
[null,null,null,null,null,null,null,null,null,0]
[null,null,null,null,null,null,null,null,null,0]
[null,null,null,null,null,null,null,null,null,0]
[null,null,null,null,null,null,null,null,null,0]
[null,null,null,null,null,null,null,null,null,0]
[null,null,null,null,null,null,null,null,null,0]
[null,null,null,null,null,null,null,null,null,0]
[null,null,null,null,null,null,null,null,null,0]
[null,null,null,null,null,null,null,null,null,0]
[null,null,null,null,null,null,null,null,null,0]
[null,null,null,null,null,null,null,null,null,0]
[null,null,null,null,null,null,null,null,null,0]
[null,null,null,null,null,null,null,null,null,0]
[null,null,null,null,null,null,null,null,null,0]
[null,null,null,null,null,null,null,null,null,0]
[null,null,null,null,null,null,null,null,null,0]
[null,null,null,null,null,null,null,null,null,0]
[null,null,null,null,null,null,null,null,null,0]
[null,null,null,null,null,null,null,null,null,0]
[null,null,null,null,null,null,null,null,null,0]
[null,null,null,null,null,null,null,null,null,0]
[null,null,null,null,null,null,null,null,null,0]
[null,null,null,null,null,null,null,null,null,0]
[null,null,null,null,null,null,null,null,null,0]
[null,null,null,null,null,null,null,null,null,0]
[null,null,null,null,null,null,null,null,null,0]
[null,null,null,null,null,null,null,null,null,0]
[null,null,null,null,null,null,null,null,null,0]
[null,null,null,null,null,null,null,null,null,0]
[null,null,null,null,null,null,null,null,null,0]
[null,null,null,null,null,null,null,null,null,0]
[null,null,null,null,null,null,null,null,null,0]
[null,null,null,null,null,null,null,null,null,0]
[null,null,null,null,null,null,null,null,null,0]
[null,null,null,null,null,null,null,null,null,0]
[null,null,null,null,null,null,null,null,null,0]
[null,null,null,null,null,null,null,null,null,0]
[null,null,null,null,null,null,null,null,null,0]
[null,null,null,null,null,null,null,null,null,0]
[null,null,null,null,null,null,null,null,null,0]
[null,null,null,null,null,null,null,null,null,0]
[null,null,null,null,null,null,null,null,null,0]
[null,null,null,null,null,null,null,null,null,0]
[null,null,null,null,null,null,null,null,null,0]
[null,null,null,null,null,null,null,null,null,0]
[null,null,null,null,null,null,null,null,null,0]
[null,null,null,null,null,null,null,null,null,0]
[null,null,null,null,null,null,null,null,null,0]
[null,null,null,null,null,null,null,null,null,0]
[null,null,null,null,null,null,null,null,null,0]
[null,null,null,null,null,null,null,null,null,0]
[null,null,null,null,null,null,null,null,null,0]
[null,null,null,null,null,null,null,null,null,0]
[null,null,null,null,null,null,null,null,null,0]
[null,null,null,null,null,null,null,null,null,0]
[null,null,null,null,null,null,null,null,null,0]
[null,null,null,null,null,null,null,null,null,0]
[null,null,null,null,null,null,null,null,null,{"$f":"SUMIF($G$19:$G$1015,$G149880,$H$19:$H$1015)","v":0}]
[null,null,null,null,null,null,null,null,null,0]
[null,null,null,null,null,null,null,null,null,0]
[null,null,null,null,null,null,null,null,null,0]
[null,null,null,null,null,null,null,null,null,0]
[null,null,null,null,null,null,null,null,null,0]
[null,null,null,null,null,null,null,null,null,0]
[null,null,null,null,null,null,null,null,null,0]
[null,null,null,null,null,null,null,null,null,0]
[null,null,null,null,null,null,null,null,null,0]
[null,null,null,null,null,null,null,null,null,0]
[null,null,null,null,null,null,null,null,null,0]
[null,null,null,null,null,null,null,null,null,0]
[null,null,null,null,null,null,null,null,null,0]
[null,null,null,null,null,null,null,null,null,0]
[null,null,null,null,null,null,null,null,null,{"$f":"SUMIF($G$19:$G$1015,$G152824,$H$19:$H$1015)","v":0}]
[null,null,null,null,null,null,null,null,null,0]
[null,null,null,null,null,null,null,null,null,0]
[null,null,null,null,null,null,null,null,null,0]
[null,null,null,null,null,null,null,null,null,0]
[null,null,null,null,null,null,null,null,null,0]
[null,null,null,null,null,null,null,null,null,0]
[null,null,null,null,null,null,null,null,null,0]
[null,null,null,null,null,null,null,null,null,0]
[null,null,null,null,null,null,null,null,null,0]
[null,null,null,null,null,null,null,null,null,0]
[null,null,null,null,null,null,null,null,null,0]
[null,null,null,null,null,null,null,null,null,0]
[null,null,null,null,null,null,null,null,null,0]
[null,null,null,null,null,null,null,null,null,0]
[null,null,null,null,null,null,null,null,null,0]
[null,null,null,null,null,null,null,null,null,0]
[null,null,null,null,null,null,null,null,null,0]
[null,null,null,null,null,null,null,null,null,0]
[null,null,null,null,null,null,null,null,null,0]
[null,null,null,null,null,null,null,null,null,0]
[null,null,null,null,null,null,null,null,null,0]
[null,null,null,null,null,null,null,null,null,0]
[null,null,null,null,null,null,null,null,null,0]
[null,null,null,null,null,null,null,null,null,0]
[null,null,null,null,null,null,null,null,null,0]
[null,null,null,null,null,null,null,null,null,0]
[null,null,null,null,null,null,null,null,null,0]
[null,null,null,null,null,null,null,null,null,0]
[null,null,null,null,null,null,null,null,null,0]
[null,null,null,null,null,null,null,null,null,0]
[null,null,null,null,null,null,null,null,null,0]
[null,null,null,null,null,null,null,null,null,0]
[null,null,null,null,null,null,null,null,null,0]
[null,null,null,null,null,null,null,null,null,0]
[null,null,null,null,null,null,null,null,null,0]
[null,null,null,null,null,null,null,null,null,0]
[null,null,null,null,null,null,null,null,null,0]
[null,null,null,null,null,null,null,null,null,0]
[null,null,null,null,null,null,null,null,null,0]
[null,null,null,null,null,null,null,null,null,0]
[null,null,null,null,null,null,null,null,null,0]
[null,null,null,null,null,null,null,null,null,0]
[null,null,null,null,null,null,null,null,null,0]
[null,null,null,null,null,null,null,null,null,0]
[null,null,null,null,null,null,null,null,null,0]
[null,null,null,null,null,null,null,null,null,0]
[null,null,null,null,null,null,null,null,null,0]
[null,null,null,null,null,null,null,null,null,0]
[null,null,null,null,null,null,null,null,null,0]
[null,null,null,null,null,null,null,null,null,0]
[null,null,null,null,null,null,null,null,null,0]
[null,null,null,null,null,null,null,null,null,0]
[null,null,null,null,null,null,null,null,null,0]
[null,null,null,null,null,null,null,null,null,0]
[null,null,null,null,null,null,null,null,null,0]
[null,null,null,null,null,null,null,null,null,0]
[null,null,null,null,null,null,null,null,null,0]
[null,null,null,null,null,null,null,null,null,0]
[null,null,null,null,null,null,null,null,null,0]
[null,null,null,null,null,null,null,null,null,0]
[null,null,null,null,null,null,null,null,null,0]
[null,null,null,null,null,null,null,null,null,0]
[null,null,null,null,null,null,null,null,null,0]
[null,null,null,null,null,null,null,null,null,0]
[null,null,null,null,null,null,null,null,null,0]
[null,null,null,null,null,null,null,null,null,0]
[null,null,null,null,null,null,null,null,null,0]
[null,null,null,null,null,null,null,null,null,0]
[null,null,null,null,null,null,null,null,null,0]
[null,null,null,null,null,null,null,null,null,0]
[null,null,null,null,null,null,null,null,null,0]
[null,null,null,null,null,null,null,null,null,0]
[null,null,null,null,null,null,null,null,null,0]
[null,null,null,null,null,null,null,null,null,0]
[null,null,null,null,null,null,null,null,null,0]
[null,null,null,null,null,null,null,null,null,0]
[null,null,null,null,null,null,null,null,null,0]
[null,null,null,null,null,null,null,null,null,0]
[null,null,null,null,null,null,null,null,null,0]
[null,null,null,null,null,null,null,null,null,0]
[null,null,null,null,null,null,null,null,null,0]
[null,null,null,null,null,null,null,null,null,0]
[null,null,null,null,null,null,null,null,null,0]
[null,null,null,null,null,null,null,null,null,0]
[null,null,null,null,null,null,null,null,null,0]
[null,null,null,null,null,null,null,null,null,0]
[null,null,null,null,null,null,null,null,null,0]
[null,null,null,null,null,null,null,null,null,{"$f":"SUMIF($G$19:$G$1015,$G169720,$H$19:$H$1015)","v":0}]
[null,null,null,null,null,null,null,null,null,0]
[null,null,null,null,null,null,null,null,null,0]
[null,null,null,null,null,null,null,null,null,0]
[null,null,null,null,null,null,null,null,null,0]
[null,null,null,null,null,null,null,null,null,0]
[null,null,null,null,null,null,null,null,null,0]
[null,null,null,null,null,null,null,null,null,0]
[null,null,null,null,null,null,null,null,null,0]
[null,null,null,null,null,null,null,null,null,0]
[null,null,null,null,null,null,null,null,null,0]
[null,null,null,null,null,null,null,null,null,0]
[null,null,null,null,null,null,null,null,null,0]
[null,null,null,null,null,null,null,null,null,0]
[null,null,null,null,null,null,null,null,null,0]
[null,null,null,null,null,null,null,null,null,0]
[null,null,null,null,null,null,null,null,null,0]
[null,null,null,null,null,null,null,null,null,0]
[null,null,null,null,null,null,null,null,null,0]
[null,null,null,null,null,null,null,null,null,0]
[null,null,null,null,null,null,null,null,null,0]
[null,null,null,null,null,null,null,null,null,0]
[null,null,null,null,null,null,null,null,null,0]
[null,null,null,null,null,null,null,null,null,0]
[null,null,null,null,null,null,null,null,null,0]
[null,null,null,null,null,null,null,null,null,0]
[null,null,null,null,null,null,null,null,null,0]
[null,null,null,null,null,null,null,null,null,0]
[null,null,null,null,null,null,null,null,null,0]
[null,null,null,null,null,null,null,null,null,0]
[null,null,null,null,null,null,null,null,null,0]
[null,null,null,null,null,null,null,null,null,0]
[null,null,null,null,null,null,null,null,null,0]
[null,null,null,null,null,null,null,null,null,0]
[null,null,null,null,null,null,null,null,null,0]
[null,null,null,null,null,null,null,null,null,0]
[null,null,null,null,null,null,null,null,null,0]
[null,null,null,null,null,null,null,null,null,0]
[null,null,null,null,null,null,null,null,null,0]
[null,null,null,null,null,null,null,null,null,0]
[null,null,null,null,null,null,null,null,null,0]
[null,null,null,null,null,null,null,null,null,0]
[null,null,null,null,null,null,null,null,null,0]
[null,null,null,null,null,null,null,null,null,0]
[null,null,null,null,null,null,null,null,null,0]
[null,null,null,null,null,null,null,null,null,0]
[null,null,null,null,null,null,null,null,null,0]
[null,null,null,null,null,null,null,null,null,0]
[null,null,null,null,null,null,null,null,null,0]
[null,null,null,null,null,null,null,null,null,0]
[null,null,null,null,null,null,null,null,null,0]
[null,null,null,null,null,null,null,null,null,0]
[null,null,null,null,null,null,null,null,null,0]
[null,null,null,null,null,null,null,null,null,0]
[null,null,null,null,null,null,null,null,null,0]
[null,null,null,null,null,null,null,null,null,0]
[null,null,null,null,null,null,null,null,null,0]
[null,null,null,null,null,null,null,null,null,0]
[null,null,null,null,null,null,null,null,null,0]
[null,null,null,null,null,null,null,null,null,0]
[null,null,null,null,null,null,null,null,null,0]
[null,null,null,null,null,null,null,null,null,0]
[null,null,null,null,null,null,null,null,null,0]
[null,null,null,null,null,null,null,null,null,0]
[null,null,null,null,null,null,null,null,null,0]
[null,null,null,null,null,null,null,null,null,0]
[null,null,null,null,null,null,null,null,null,0]
[null,null,null,null,null,null,null,null,null,0]
[null,null,null,null,null,null,null,null,null,0]
[null,null,null,null,null,null,null,null,null,0]
[null,null,null,null,null,null,null,null,null,0]
[null,null,null,null,null,null,null,null,null,0]
[null,null,null,null,null,null,null,null,null,0]
[null,null,null,null,null,null,null,null,null,0]
[null,null,null,null,null,null,null,null,null,0]
[null,null,null,null,null,null,null,null,null,0]
[null,null,null,null,null,null,null,null,null,0]
[null,null,null,null,null,null,null,null,null,0]
[null,null,null,null,null,null,null,null,null,0]
[null,null,null,null,null,null,null,null,null,0]
[null,null,null,null,null,null,null,null,null,0]
[null,null,null,null,null,null,null,null,null,0]
[null,null,null,null,null,null,null,null,null,0]
[null,null,null,null,null,null,null,null,null,0]
[null,null,null,null,null,null,null,null,null,0]
[null,null,null,null,null,null,null,null,null,0]
[null,null,null,null,null,null,null,null,null,0]
[null,null,null,null,null,null,null,null,null,0]
[null,null,null,null,null,null,null,null,null,0]
[null,null,null,null,null,null,null,null,null,0]
[null,null,null,null,null,null,null,null,null,0]
[null,null,null,null,null,null,null,null,null,0]
[null,null,null,null,null,null,null,null,null,0]
[null,null,null,null,null,null,null,null,null,0]
[null,null,null,null,null,null,null,null,null,0]
[null,null,null,null,null,null,null,null,null,0]
[null,null,null,null,null,null,null,null,null,0]
[null,null,null,null,null,null,null,null,null,0]
[null,null,null,null,null,null,null,null,null,0]
[null,null,null,null,null,null,null,null,null,0]
[null,null,null,null,null,null,null,null,null,0]
[null,null,null,null,null,null,null,null,null,0]
[null,null,null,null,null,null,null,null,null,0]
[null,null,null,null,null,null,null,null,null,0]
[null,null,null,null,null,null,null,null,null,0]
[null,null,null,null,null,null,null,null,null,0]
[null,null,null,null,null,null,null,null,null,0]
[null,null,null,null,null,null,null,null,null,0]
[null,null,null,null,null,null,null,null,null,0]
[null,null,null,null,null,null,null,null,null,0]
[null,null,null,null,null,null,null,null,null,0]
[null,null,null,null,null,null,null,null,null,0]
[null,null,null,null,null,null,null,null,null,0]
[null,null,null,null,null,null,null,null,null,0]
[null,null,null,null,null,null,null,null,null,0]
[null,null,null,null,null,null,null,null,null,0]
[null,null,null,null,null,null,null,null,null,0]
[null,null,null,null,null,null,null,null,null,0]
[null,null,null,null,null,null,null,null,null,0]
[null,null,null,null,null,null,null,null,null,0]
[null,null,null,null,null,null,null,null,null,0]
[null,null,null,null,null,null,null,null,null,0]
[null,null,null,null,null,null,null,null,null,0]
[null,null,null,null,null,null,null,null,null,0]
[null,null,null,null,null,null,null,null,null,0]
[null,null,null,null,null,null,null,null,null,0]
[null,null,null,null,null,null,null,null,null,0]
[null,null,null,null,null,null,null,null,null,0]
[null,null,null,null,null,null,null,null,null,0]
[null,null,null,null,null,null,null,null,null,0]
[null,null,null,null,null,null,null,null,null,0]
[null,null,null,null,null,null,null,null,null,{"$f":"SUMIF($G$19:$G$1015,$G195128,$H$19:$H$1015)","v":0}]
[null,null,null,null,null,null,null,null,null,0]
[null,null,null,null,null,null,null,null,null,0]
[null,null,null,null,null,null,null,null,null,0]
[null,null,null,null,null,null,null,null,null,0]
[null,null,null,null,null,null,null,null,null,0]
[null,null,null,null,null,null,null,null,null,0]
[null,null,null,null,null,null,null,null,null,0]
[null,null,null,null,null,null,null,null,null,0]
[null,null,null,null,null,null,null,null,null,0]
[null,null,null,null,null,null,null,null,null,0]
[null,null,null,null,null,null,null,null,null,0]
[null,null,null,null,null,null,null,null,null,0]
[null,null,null,null,null,null,null,null,null,0]
[null,null,null,null,null,null,null,null,null,0]
[null,null,null,null,null,null,null,null,null,0]
[null,null,null,null,null,null,null,null,null,0]
[null,null,null,null,null,null,null,null,null,0]
[null,null,null,null,null,null,null,null,null,0]
[null,null,null,null,null,null,null,null,null,0]
[null,null,null,null,null,null,null,null,null,0]
[null,null,null,null,null,null,null,null,null,0]
[null,null,null,null,null,null,null,null,null,0]
[null,null,null,null,null,null,null,null,null,0]
[null,null,null,null,null,null,null,null,null,0]
[null,null,null,null,null,null,null,null,null,0]
[null,null,null,null,null,null,null,null,null,0]
[null,null,null,null,null,null,null,null,null,0]
[null,null,null,null,null,null,null,null,null,0]
[null,null,null,null,null,null,null,null,null,0]
[null,null,null,null,null,null,null,null,null,0]
[null,null,null,null,null,null,null,null,null,0]
[null,null,null,null,null,null,null,null,null,0]
[null,null,null,null,null,null,null,null,null,0]
[null,null,null,null,null,null,null,null,null,0]
[null,null,null,null,null,null,null,null,null,0]
[null,null,null,null,null,null,null,null,null,0]
[null,null,null,null,null,null,null,null,null,0]
[null,null,null,null,null,null,null,null,null,0]
[null,null,null,null,null,null,null,null,null,0]
[null,null,null,null,null,null,null,null,null,0]
[null,null,null,null,null,null,null,null,null,0]
[null,null,null,null,null,null,null,null,null,0]
[null,null,null,null,null,null,null,null,null,0]
[null,null,null,null,null,null,null,null,null,0]
[null,null,null,null,null,null,null,null,null,0]
[null,null,null,null,null,null,null,null,null,0]
[null,null,null,null,null,null,null,null,null,0]
[null,null,null,null,null,null,null,null,null,0]
[null,null,null,null,null,null,null,null,null,0]
[null,null,null,null,null,null,null,null,null,0]
[null,null,null,null,null,null,null,null,null,0]
[null,null,null,null,null,null,null,null,null,0]
[null,null,null,null,null,null,null,null,null,0]
[null,null,null,null,null,null,null,null,null,0]
[null,null,null,null,null,null,null,null,null,0]
[null,null,null,null,null,null,null,null,null,0]
[null,null,null,null,null,null,null,null,null,0]
[null,null,null,null,null,null,null,null,null,0]
[null,null,null,null,null,null,null,null,null,0]
[null,null,null,null,null,null,null,null,null,0]
[null,null,null,null,null,null,null,null,null,0]
[null,null,null,null,null,null,null,null,null,0]
[null,null,null,null,null,null,null,null,null,0]
[null,null,null,null,null,null,null,null,null,0]
[null,null,null,null,null,null,null,null,null,0]
[null,null,null,null,null,null,null,null,null,0]
[null,null,null,null,null,null,null,null,null,0]
[null,null,null,null,null,null,null,null,null,0]
[null,null,null,null,null,null,null,null,null,0]
[null,null,null,null,null,null,null,null,null,0]
[null,null,null,null,null,null,null,null,null,0]
[null,null,null,null,null,null,null,null,null,0]
[null,null,null,null,null,null,null,null,null,0]
[null,null,null,null,null,null,null,null,null,0]
[null,null,null,null,null,null,null,null,null,0]
[null,null,null,null,null,null,null,null,null,0]
[null,null,null,null,null,null,null,null,null,0]
[null,null,null,null,null,null,null,null,null,0]
[null,null,null,null,null,null,null,null,null,0]
[null,null,null,null,null,null,null,null,null,0]
[null,null,null,null,null,null,null,null,null,0]
[null,null,null,null,null,null,null,null,null,0]
[null,null,null,null,null,null,null,null,null,0]
[null,null,null,null,null,null,null,null,null,0]
[null,null,null,null,null,null,null,null,null,0]
[null,null,null,null,null,null,null,null,null,0]
[null,null,null,null,null,null,null,null,null,0]
[null,null,null,null,null,null,null,null,null,0]
[null,null,null,null,null,null,null,null,null,0]
[null,null,null,null,null,null,null,null,null,0]
[null,null,null,null,null,null,null,null,null,0]
[null,null,null,null,null,null,null,null,null,0]
[null,null,null,null,null,null,null,null,null,0]
[null,null,null,null,null,null,null,null,null,0]
[null,null,null,null,null,null,null,null,null,0]
[null,null,null,null,null,null,null,null,null,0]
[null,null,null,null,null,null,null,null,null,0]
[null,null,null,null,null,null,null,null,null,0]
[null,null,null,null,null,null,null,null,null,0]
[null,null,null,null,null,null,null,null,null,0]
[null,null,null,null,null,null,null,null,null,0]
[null,null,null,null,null,null,null,null,null,0]
[null,null,null,null,null,null,null,null,null,0]
[null,null,null,null,null,null,null,null,null,0]
[null,null,null,null,null,null,null,null,null,0]
[null,null,null,null,null,null,null,null,null,0]
[null,null,null,null,null,null,null,null,null,0]
[null,null,null,null,null,null,null,null,null,0]
[null,null,null,null,null,null,null,null,null,0]
[null,null,null,null,null,null,null,null,null,0]
[null,null,null,null,null,null,null,null,null,0]
[null,null,null,null,null,null,null,null,null,0]
[null,null,null,null,null,null,null,null,null,0]
[null,null,null,null,null,null,null,null,null,0]
[null,null,null,null,null,null,null,null,null,0]
[null,null,null,null,null,null,null,null,null,0]
[null,null,null,null,null,null,null,null,null,0]
[null,null,null,null,null,null,null,null,null,0]
[null,null,null,null,null,null,null,null,null,0]
[null,null,null,null,null,null,null,null,null,0]
[null,null,null,null,null,null,null,null,null,0]
[null,null,null,null,null,null,null,null,null,0]
[null,null,null,null,null,null,null,null,null,0]
[null,null,null,null,null,null,null,null,null,0]
[null,null,null,null,null,null,null,null,null,0]
[null,null,null,null,null,null,null,null,null,0]
[null,null,null,null,null,null,null,null,null,0]
[null,null,null,null,null,null,null,null,null,0]
[null,null,null,null,null,null,null,null,null,0]
[null,null,null,null,null,null,null,null,null,0]
[null,null,null,null,null,null,null,null,null,0]
[null,null,null,null,null,null,null,null,null,0]
[null,null,null,null,null,null,null,null,null,0]
[null,null,null,null,null,null,null,null,null,0]
[null,null,null,null,null,null,null,null,null,0]
[null,null,null,null,null,null,null,null,null,0]
[null,null,null,null,null,null,null,null,null,0]
[null,null,null,null,null,null,null,null,null,0]
[null,null,null,null,null,null,null,null,null,0]
[null,null,null,null,null,null,null,null,null,0]
[null,null,null,null,null,null,null,null,null,0]
[null,null,null,null,null,null,null,null,null,0]
[null,null,null,null,null,null,null,null,null,0]
[null,null,null,null,null,null,null,null,null,0]
[null,null,null,null,null,null,null,null,null,0]
[null,null,null,null,null,null,null,null,null,0]
[null,null,null,null,null,null,null,null,null,0]
[null,null,null,null,null,null,null,null,null,0]
[null,null,null,null,null,null,null,null,null,0]
[null,null,null,null,null,null,null,null,null,0]
[null,null,null,null,null,null,null,null,null,0]
[null,null,null,null,null,null,null,null,null,0]
[null,null,null,null,null,null,null,null,null,0]
[null,null,null,null,null,null,null,null,null,0]
[null,null,null,null,null,null,null,null,null,0]
[null,null,null,null,null,null,null,null,null,0]
[null,null,null,null,null,null,null,null,null,0]
[null,null,null,null,null,null,null,null,null,0]
[null,null,null,null,null,null,null,null,null,0]
[null,null,null,null,null,null,null,null,null,0]
[null,null,null,null,null,null,null,null,null,0]
[null,null,null,null,null,null,null,null,null,0]
[null,null,null,null,null,null,null,null,null,0]
[null,null,null,null,null,null,null,null,null,0]
[null,null,null,null,null,null,null,null,null,0]
[null,null,null,null,null,null,null,null,null,0]
[null,null,null,null,null,null,null,null,null,0]
[null,null,null,null,null,null,null,null,null,{"$f":"SUMIF($G$19:$G$1015,$G227640,$H$19:$H$1015)","v":0}]
[null,null,null,null,null,null,null,null,null,0]
[null,null,null,null,null,null,null,null,null,0]
[null,null,null,null,null,null,null,null,null,0]
[null,null,null,null,null,null,null,null,null,0]
[null,null,null,null,null,null,null,null,null,0]
[null,null,null,null,null,null,null,null,null,0]
[null,null,null,null,null,null,null,null,null,0]
[null,null,null,null,null,null,null,null,null,0]
[null,null,null,null,null,null,null,null,null,0]
[null,null,null,null,null,null,null,null,null,0]
[null,null,null,null,null,null,null,null,null,0]
[null,null,null,null,null,null,null,null,null,0]
[null,null,null,null,null,null,null,null,null,0]
[null,null,null,null,null,null,null,null,null,0]
[null,null,null,null,null,null,null,null,null,0]
[null,null,null,null,null,null,null,null,null,0]
[null,null,null,null,null,null,null,null,null,0]
[null,null,null,null,null,null,null,null,null,0]
[null,null,null,null,null,null,null,null,null,0]
[null,null,null,null,null,null,null,null,null,0]
[null,null,null,null,null,null,null,null,null,0]
[null,null,null,null,null,null,null,null,null,0]
[null,null,null,null,null,null,null,null,null,{"$f":"SUMIF($G$19:$G$1015,$G231992,$H$19:$H$1015)","v":0}]
[null,null,null,null,null,null,null,null,null,0]
[null,null,null,null,null,null,null,null,null,0]
[null,null,null,null,null,null,null,null,null,0]
[null,null,null,null,null,null,null,null,null,0]
[null,null,null,null,null,null,null,null,null,0]
[null,null,null,null,null,null,null,null,null,0]
[null,null,null,null,null,null,null,null,null,0]
[null,null,null,null,null,null,null,null,null,0]
[null,null,null,null,null,null,null,null,null,0]
[null,null,null,null,null,null,null,null,null,0]
[null,null,null,null,null,null,null,null,null,0]
[null,null,null,null,null,null,null,null,null,0]
[null,null,null,null,null,null,null,null,null,0]
[null,null,null,null,null,null,null,null,null,0]
[null,null,null,null,null,null,null,null,null,{"$f":"SUMIF($G$19:$G$1015,$G234872,$H$19:$H$1015)","v":0}]
[null,null,null,null,null,null,null,null,null,0]
[null,null,null,null,null,null,null,null,null,0]
[null,null,null,null,null,null,null,null,null,0]
[null,null,null,null,null,null,null,null,null,0]
[null,null,null,null,null,null,null,null,null,0]
[null,null,null,null,null,null,null,null,null,0]
[null,null,null,null,null,null,null,null,null,0]
[null,null,null,null,null,null,null,null,null,0]
[null,null,null,null,null,null,null,null,null,0]
[null,null,null,null,null,null,null,null,null,0]
[null,null,null,null,null,null,null,null,null,0]
[null,null,null,null,null,null,null,null,null,0]
[null,null,null,null,null,null,null,null,null,0]
[null,null,null,null,null,null,null,null,null,0]
[null,null,null,null,null,null,null,null,null,0]
[null,null,null,null,null,null,null,null,null,0]
[null,null,null,null,null,null,null,null,null,0]
[null,null,null,null,null,null,null,null,null,0]
[null,null,null,null,null,null,null,null,null,0]
[null,null,null,null,null,null,null,null,null,0]
[null,null,null,null,null,null,null,null,null,0]
[null,null,null,null,null,null,null,null,null,0]
[null,null,null,null,null,null,null,null,null,0]
[null,null,null,null,null,null,null,null,null,0]
[null,null,null,null,null,null,null,null,null,0]
[null,null,null,null,null,null,null,null,null,0]
[null,null,null,null,null,null,null,null,null,0]
[null,null,null,null,null,null,null,null,null,0]
[null,null,null,null,null,null,null,null,null,0]
[null,null,null,null,null,null,null,null,null,0]
[null,null,null,null,null,null,null,null,null,{"$f":"SUMIF($G$19:$G$1015,$G240888,$H$19:$H$1015)","v":0}]
[null,null,null,null,null,null,null,null,null,0]
[null,null,null,null,null,null,null,null,null,0]
[null,null,null,null,null,null,null,null,null,0]
[null,null,null,null,null,null,null,null,null,0]
[null,null,null,null,null,null,null,null,null,0]
[null,null,null,null,null,null,null,null,null,0]
[null,null,null,null,null,null,null,null,null,0]
[null,null,null,null,null,null,null,null,null,0]
[null,null,null,null,null,null,null,null,null,0]
[null,null,null,null,null,null,null,null,null,0]
[null,null,null,null,null,null,null,null,null,0]
[null,null,null,null,null,null,null,null,null,0]
[null,null,null,null,null,null,null,null,null,0]
[null,null,null,null,null,null,null,null,null,0]
[null,null,null,null,null,null,null,null,null,0]
[null,null,null,null,null,null,null,null,null,0]
[null,null,null,null,null,null,null,null,null,0]
[null,null,null,null,null,null,null,null,null,0]
[null,null,null,null,null,null,null,null,null,0]
[null,null,null,null,null,null,null,null,null,0]
[null,null,null,null,null,null,null,null,null,0]
[null,null,null,null,null,null,null,null,null,0]
[null,null,null,null,null,null,null,null,null,0]
[null,null,null,null,null,null,null,null,null,0]
[null,null,null,null,null,null,null,null,null,0]
[null,null,null,null,null,null,null,null,null,0]
[null,null,null,null,null,null,null,null,null,0]
[null,null,null,null,null,null,null,null,null,0]
[null,null,null,null,null,null,null,null,null,0]
[null,null,null,null,null,null,null,null,null,0]
[null,null,null,null,null,null,null,null,null,0]
[null,null,null,null,null,null,null,null,null,0]
[null,null,null,null,null,null,null,null,null,0]
[null,null,null,null,null,null,null,null,null,0]
[null,null,null,null,null,null,null,null,null,0]
[null,null,null,null,null,null,null,null,null,0]
[null,null,null,null,null,null,null,null,null,0]
[null,null,null,null,null,null,null,null,null,0]
[null,null,null,null,null,null,null,null,null,0]
[null,null,null,null,null,null,null,null,null,0]
[null,null,null,null,null,null,null,null,null,0]
[null,null,null,null,null,null,null,null,null,0]
[null,null,null,null,null,null,null,null,null,0]
[null,null,null,null,null,null,null,null,null,0]
[null,null,null,null,null,null,null,null,null,0]
[null,null,null,null,null,null,null,null,null,0]
[null,null,null,null,null,null,null,null,null,0]
[null,null,null,null,null,null,null,null,null,0]
[null,null,null,null,null,null,null,null,null,0]
[null,null,null,null,null,null,null,null,null,0]
[null,null,null,null,null,null,null,null,null,0]
[null,null,null,null,null,null,null,null,null,0]
[null,null,null,null,null,null,null,null,null,0]
[null,null,null,null,null,null,null,null,null,0]
[null,null,null,null,null,null,null,null,null,0]
[null,null,null,null,null,null,null,null,null,0]
[null,null,null,null,null,null,null,null,null,0]
[null,null,null,null,null,null,null,null,null,0]
[null,null,null,null,null,null,null,null,null,0]
[null,null,null,null,null,null,null,null,null,0]
[null,null,null,null,null,null,null,null,null,0]
[null,null,null,null,null,null,null,null,null,0]
[null,null,null,null,null,null,null,null,null,0]
[null,null,null,null,null,null,null,null,null,0]
[null,null,null,null,null,null,null,null,null,0]
[null,null,null,null,null,null,null,null,null,0]
[null,null,null,null,null,null,null,null,null,0]
[null,null,null,null,null,null,null,null,null,0]
[null,null,null,null,null,null,null,null,null,0]
[null,null,null,null,null,null,null,null,null,0]
[null,null,null,null,null,null,null,null,null,0]
[null,null,null,null,null,null,null,null,null,0]
[null,null,null,null,null,null,null,null,null,0]
[null,null,null,null,null,null,null,null,null,0]
[null,null,null,null,null,null,null,null,null,0]
[null,null,null,null,null,null,null,null,null,0]
[null,null,null,null,null,null,null,null,null,0]
[null,null,null,null,null,null,null,null,null,0]
[null,null,null,null,null,null,null,null,null,0]
[null,null,null,null,null,null,null,null,null,0]
[null,null,null,null,null,null,null,null,null,0]
[null,null,null,null,null,null,null,null,null,0]
[null,null,null,null,null,null,null,null,null,0]
[null,null,null,null,null,null,null,null,null,0]
[null,null,null,null,null,null,null,null,null,{"$f":"SUMIF($G$19:$G$1015,$G257400,$H$19:$H$1015)","v":0}]
[null,null,null,null,null,null,null,null,null,0]
[null,null,null,null,null,null,null,null,null,0]
[null,null,null,null,null,null,null,null,null,0]
[null,null,null,null,null,null,null,null,null,0]
[null,null,null,null,null,null,null,null,null,0]
[null,null,null,null,null,null,null,null,null,0]
[null,null,null,null,null,null,null,null,null,0]
[null,null,null,null,null,null,null,null,null,0]
[null,null,null,null,null,null,null,null,null,0]
[null,null,null,null,null,null,null,null,null,0]
[null,null,null,null,null,null,null,null,null,0]
[null,null,null,null,null,null,null,null,null,0]
[null,null,null,null,null,null,null,null,null,0]
[null,null,null,null,null,null,null,null,null,0]
[null,null,null,null,null,null,null,null,null,0]
[null,null,null,null,null,null,null,null,null,0]
[null,null,null,null,null,null,null,null,null,0]
[null,null,null,null,null,null,null,null,null,0]
[null,null,null,null,null,null,null,null,null,0]
[null,null,null,null,null,null,null,null,null,0]
[null,null,null,null,null,null,null,null,null,0]
[null,null,null,null,null,null,null,null,null,0]
[null,null,null,null,null,null,null,null,null,0]
[null,null,null,null,null,null,null,null,null,0]
[null,null,null,null,null,null,null,null,null,0]
[null,null,null,null,null,null,null,null,null,0]
[null,null,null,null,null,null,null,null,null,0]
[null,null,null,null,null,null,null,null,null,{"$f":"SUMIF($G$19:$G$1015,$G262712,$H$19:$H$1015)","v":0}]
[null,null,null,null,null,null,null,null,null,0]
[null,null,null,null,null,null,null,null,null,0]
[null,null,null,null,null,null,null,null,null,0]
[null,null,null,null,null,null,null,null,null,0]
[null,null,null,null,null,null,null,null,null,0]
[null,null,null,null,null,null,null,null,null,0]
[null,null,null,null,null,null,null,null,null,0]
[null,null,null,null,null,null,null,null,null,0]
[null,null,null,null,null,null,null,null,null,0]
[null,null,null,null,null,null,null,null,null,0]
[null,null,null,null,null,null,null,null,null,0]
[null,null,null,null,null,null,null,null,null,0]
[null,null,null,null,null,null,null,null,null,0]
[null,null,null,null,null,null,null,null,null,0]
[null,null,null,null,null,null,null,null,null,0]
[null,null,null,null,null,null,null,null,null,0]
[null,null,null,null,null,null,null,null,null,0]
[null,null,null,null,null,null,null,null,null,0]
[null,null,null,null,null,null,null,null,null,0]
[null,null,null,null,null,null,null,null,null,0]
[null,null,null,null,null,null,null,null,null,0]
[null,null,null,null,null,null,null,null,null,0]
[null,null,null,null,null,null,null,null,null,0]
[null,null,null,null,null,null,null,null,null,0]
[null,null,null,null,null,null,null,null,null,0]
[null,null,null,null,null,null,null,null,null,0]
[null,null,null,null,null,null,null,null,null,0]
[null,null,null,null,null,null,null,null,null,0]
[null,null,null,null,null,null,null,null,null,0]
[null,null,null,null,null,null,null,null,null,0]
[null,null,null,null,null,null,null,null,null,0]
[null,null,null,null,null,null,null,null,null,0]
[null,null,null,null,null,null,null,null,null,0]
[null,null,null,null,null,null,null,null,null,0]
[null,null,null,null,null,null,null,null,null,0]
[null,null,null,null,null,null,null,null,null,0]
[null,null,null,null,null,null,null,null,null,0]
[null,null,null,null,null,null,null,null,null,0]
[null,null,null,null,null,null,null,null,null,0]
[null,null,null,null,null,null,null,null,null,0]
[null,null,null,null,null,null,null,null,null,0]
[null,null,null,null,null,null,null,null,null,0]
[null,null,null,null,null,null,null,null,null,0]
[null,null,null,null,null,null,null,null,null,0]
[null,null,null,null,null,null,null,null,null,0]
[null,null,null,null,null,null,null,null,null,0]
[null,null,null,null,null,null,null,null,null,0]
[null,null,null,null,null,null,null,null,null,0]
[null,null,null,null,null,null,null,null,null,0]
[null,null,null,null,null,null,null,null,null,0]
[null,null,null,null,null,null,null,null,null,0]
[null,null,null,null,null,null,null,null,null,0]
[null,null,null,null,null,null,null,null,null,0]
[null,null,null,null,null,null,null,null,null,0]
[null,null,null,null,null,null,null,null,null,0]
[null,null,null,null,null,null,null,null,null,0]
[null,null,null,null,null,null,null,null,null,0]
[null,null,null,null,null,null,null,null,null,0]
[null,null,null,null,null,null,null,null,null,0]
[null,null,null,null,null,null,null,null,null,0]
[null,null,null,null,null,null,null,null,null,0]
[null,null,null,null,null,null,null,null,null,0]
[null,null,null,null,null,null,null,null,null,0]
[null,null,null,null,null,null,null,null,null,0]
[null,null,null,null,null,null,null,null,null,0]
[null,null,null,null,null,null,null,null,null,0]
[null,null,null,null,null,null,null,null,null,0]
[null,null,null,null,null,null,null,null,null,0]
[null,null,null,null,null,null,null,null,null,0]
[null,null,null,null,null,null,null,null,null,0]
[null,null,null,null,null,null,null,null,null,0]
[null,null,null,null,null,null,null,null,null,0]
[null,null,null,null,null,null,null,null,null,0]
[null,null,null,null,null,null,null,null,null,0]
[null,null,null,null,null,null,null,null,null,0]
[null,null,null,null,null,null,null,null,null,0]
[null,null,null,null,null,null,null,null,null,0]
[null,null,null,null,null,null,null,null,null,0]
[null,null,null,null,null,null,null,null,null,0]
[null,null,null,null,null,null,null,null,null,0]
[null,null,null,null,null,null,null,null,null,0]
[null,null,null,null,null,null,null,null,null,0]
[null,null,null,null,null,null,null,null,null,0]
[null,null,null,null,null,null,null,null,null,0]
[null,null,null,null,null,null,null,null,null,0]
[null,null,null,null,null,null,null,null,null,0]
[null,null,null,null,null,null,null,null,null,0]
[null,null,null,null,null,null,null,null,null,0]
[null,null,null,null,null,null,null,null,null,0]
[null,null,null,null,null,null,null,null,null,0]
[null,null,null,null,null,null,null,null,null,0]
[null,null,null,null,null,null,null,null,null,0]
[null,null,null,null,null,null,null,null,null,0]
[null,null,null,null,null,null,null,null,null,0]
[null,null,null,null,null,null,null,null,null,0]
[null,null,null,null,null,null,null,null,null,0]
[null,null,null,null,null,null,null,null,null,0]
[null,null,null,null,null,null,null,null,null,0]
[null,null,null,null,null,null,null,null,null,0]
[null,null,null,null,null,null,null,null,null,0]
[null,null,null,null,null,null,null,null,null,0]
[null,null,null,null,null,null,null,null,null,0]
[null,null,null,null,null,null,null,null,null,0]
[null,null,null,null,null,null,null,null,null,0]
[null,null,null,null,null,null,null,null,null,0]
[null,null,null,null,null,null,null,null,null,0]
[null,null,null,null,null,null,null,null,null,0]
[null,null,null,null,null,null,null,null,null,0]
[null,null,null,null,null,null,null,null,null,0]
[null,null,null,null,null,null,null,null,null,0]
[null,null,null,null,null,null,null,null,null,0]
[null,null,null,null,null,null,null,null,null,0]
[null,null,null,null,null,null,null,null,null,0]
[null,null,null,null,null,null,null,null,null,0]
[null,null,null,null,null,null,null,null,null,0]
[null,null,null,null,null,null,null,null,null,0]
[null,null,null,null,null,null,null,null,null,0]
[null,null,null,null,null,null,null,null,null,0]
[null,null,null,null,null,null,null,null,null,0]
[null,null,null,null,null,null,null,null,null,0]
[null,null,null,null,null,null,null,null,null,0]
[null,null,null,null,null,null,null,null,null,0]
[null,null,null,null,null,null,null,null,null,0]
[null,null,null,null,null,null,null,null,null,0]
[null,null,null,null,null,null,null,null,null,0]
[null,null,null,null,null,null,null,null,null,0]
[null,null,null,null,null,null,null,null,null,0]
[null,null,null,null,null,null,null,null,null,0]
[null,null,null,null,null,null,null,null,null,0]
[null,null,null,null,null,null,null,null,null,0]
[null,null,null,null,null,null,null,null,null,0]
[null,null,null,null,null,null,null,null,null,0]
[null,null,null,null,null,null,null,null,null,0]
[null,null,null,null,null,null,null,null,null,0]
[null,null,null,null,null,null,null,null,null,0]
[null,null,null,null,null,null,null,null,null,0]
[null,null,null,null,null,null,null,null,null,0]
[null,null,null,null,null,null,null,null,null,0]
[null,null,null,null,null,null,null,null,null,0]
[null,null,null,null,null,null,null,null,null,0]
[null,null,null,null,null,null,null,null,null,0]
[null,null,null,null,null,null,null,null,null,0]
[null,null,null,null,null,null,null,null,null,0]
[null,null,null,null,null,null,null,null,null,0]
[null,null,null,null,null,null,null,null,null,0]
[null,null,null,null,null,null,null,null,null,0]
[null,null,null,null,null,null,null,null,null,0]
[null,null,null,null,null,null,null,null,null,0]
[null,null,null,null,null,null,null,null,null,0]
[null,null,null,null,null,null,null,null,null,0]
[null,null,null,null,null,null,null,null,null,0]
[null,null,null,null,null,null,null,null,null,0]
[null,null,null,null,null,null,null,null,null,0]
[null,null,null,null,null,null,null,null,null,0]
[null,null,null,null,null,null,null,null,null,0]
[null,null,null,null,null,null,null,null,null,0]
[null,null,null,null,null,null,null,null,null,0]
[null,null,null,null,null,null,null,null,null,0]
[null,null,null,null,null,null,null,null,null,0]
[null,null,null,null,null,null,null,null,null,0]
[null,null,null,null,null,null,null,null,null,0]
[null,null,null,null,null,null,null,null,null,0]
[null,null,null,null,null,null,null,null,null,{"$f":"SUMIF($G$19:$G$1015,$G294264,$H$19:$H$1015)","v":0}]
[null,null,null,null,null,null,null,null,null,0]
[null,null,null,null,null,null,null,null,null,0]
[null,null,null,null,null,null,null,null,null,0]
[null,null,null,null,null,null,null,null,null,0]
[null,null,null,null,null,null,null,null,null,0]
[null,null,null,null,null,null,null,null,null,0]
[null,null,null,null,null,null,null,null,null,0]
[null,null,null,null,null,null,null,null,null,0]
[null,null,null,null,null,null,null,null,null,0]
[null,null,null,null,null,null,null,null,null,0]
[null,null,null,null,null,null,null,null,null,0]
[null,null,null,null,null,null,null,null,null,0]
[null,null,null,null,null,null,null,null,null,0]
[null,null,null,null,null,null,null,null,null,0]
[null,null,null,null,null,null,null,null,null,{"$f":"SUMIF($G$19:$G$1015,$G297144,$H$19:$H$1015)","v":0}]
[null,null,null,null,null,null,null,null,null,0]
[null,null,null,null,null,null,null,null,null,0]
[null,null,null,null,null,null,null,null,null,0]
[null,null,null,null,null,null,null,null,null,0]
[null,null,null,null,null,null,null,null,null,0]
[null,null,null,null,null,null,null,null,null,0]
[null,null,null,null,null,null,null,null,null,0]
[null,null,null,null,null,null,null,null,null,0]
[null,null,null,null,null,null,null,null,null,0]
[null,null,null,null,null,null,null,null,null,0]
[null,null,null,null,null,null,null,null,null,0]
[null,null,null,null,null,null,null,null,null,0]
[null,null,null,null,null,null,null,null,null,0]
[null,null,null,null,null,null,null,null,null,0]
[null,null,null,null,null,null,null,null,null,0]
[null,null,null,null,null,null,null,null,null,0]
[null,null,null,null,null,null,null,null,null,0]
[null,null,null,null,null,null,null,null,null,0]
[null,null,null,null,null,null,null,null,null,0]
[null,null,null,null,null,null,null,null,null,0]
[null,null,null,null,null,null,null,null,null,0]
[null,null,null,null,null,null,null,null,null,0]
[null,null,null,null,null,null,null,null,null,0]
[null,null,null,null,null,null,null,null,null,0]
[null,null,null,null,null,null,null,null,null,0]
[null,null,null,null,null,null,null,null,null,0]
[null,null,null,null,null,null,null,null,null,0]
[null,null,null,null,null,null,null,null,null,0]
[null,null,null,null,null,null,null,null,null,0]
[null,null,null,null,null,null,null,null,null,0]
[null,null,null,null,null,null,null,null,null,0]
[null,null,null,null,null,null,null,null,null,0]
[null,null,null,null,null,null,null,null,null,0]
[null,null,null,null,null,null,null,null,null,0]
[null,null,null,null,null,null,null,null,null,0]
[null,null,null,null,null,null,null,null,null,0]
[null,null,null,null,null,null,null,null,null,0]
[null,null,null,null,null,null,null,null,null,0]
[null,null,null,null,null,null,null,null,null,0]
[null,null,null,null,null,null,null,null,null,0]
[null,null,null,null,null,null,null,null,null,0]
[null,null,null,null,null,null,null,null,null,0]
[null,null,null,null,null,null,null,null,null,0]
[null,null,null,null,null,null,null,null,null,0]
[null,null,null,null,null,null,null,null,null,0]
[null,null,null,null,null,null,null,null,null,0]
[null,null,null,null,null,null,null,null,null,0]
[null,null,null,null,null,null,null,null,null,0]
[null,null,null,null,null,null,null,null,null,0]
[null,null,null,null,null,null,null,null,null,0]
[null,null,null,null,null,null,null,null,null,0]
[null,null,null,null,null,null,null,null,null,0]
[null,null,null,null,null,null,null,null,null,0]
[null,null,null,null,null,null,null,null,null,0]
[null,null,null,null,null,null,null,null,null,0]
[null,null,null,null,null,null,null,null,null,0]
[null,null,null,null,null,null,null,null,null,0]
[null,null,null,null,null,null,null,null,null,0]
[null,null,null,null,null,null,null,null,null,0]
[null,null,null,null,null,null,null,null,null,0]
[null,null,null,null,null,null,null,null,null,0]
[null,null,null,null,null,null,null,null,null,0]
[null,null,null,null,null,null,null,null,null,0]
[null,null,null,null,null,null,null,null,null,0]
[null,null,null,null,null,null,null,null,null,0]
[null,null,null,null,null,null,null,null,null,0]
[null,null,null,null,null,null,null,null,null,0]
[null,null,null,null,null,null,null,null,null,0]
[null,null,null,null,null,null,null,null,null,0]
[null,null,null,null,null,null,null,null,null,0]
[null,null,null,null,null,null,null,null,null,0]
[null,null,null,null,null,null,null,null,null,0]
[null,null,null,null,null,null,null,null,null,0]
[null,null,null,null,null,null,null,null,null,0]
[null,null,null,null,null,null,null,null,null,0]
[null,null,null,null,null,null,null,null,null,0]
[null,null,null,null,null,null,null,null,null,0]
[null,null,null,null,null,null,null,null,null,0]
[null,null,null,null,null,null,null,null,null,0]
[null,null,null,null,null,null,null,null,null,0]
[null,null,null,null,null,null,null,null,null,0]
[null,null,null,null,null,null,null,null,null,0]
[null,null,null,null,null,null,null,null,null,0]
[null,null,null,null,null,null,null,null,null,0]
[null,null,null,null,null,null,null,null,null,0]
[null,null,null,null,null,null,null,null,null,0]
[null,null,null,null,null,null,null,null,null,0]
[null,null,null,null,null,null,null,null,null,0]
[null,null,null,null,null,null,null,null,null,0]
[null,null,null,null,null,null,null,null,null,0]
[null,null,null,null,null,null,null,null,null,0]
[null,null,null,null,null,null,null,null,null,0]
[null,null,null,null,null,null,null,null,null,0]
[null,null,null,null,null,null,null,null,null,0]
[null,null,null,null,null,null,null,null,null,0]
[null,null,null,null,null,null,null,null,null,0]
[null,null,null,null,null,null,null,null,null,0]
[null,null,null,null,null,null,null,null,null,0]
[null,null,null,null,null,null,null,null,null,0]
[null,null,null,null,null,null,null,null,null,0]
[null,null,null,null,null,null,null,null,null,0]
[null,null,null,null,null,null,null,null,null,0]
[null,null,null,null,null,null,null,null,null,0]
[null,null,null,null,null,null,null,null,null,0]
[null,null,null,null,null,null,null,null,null,0]
[null,null,null,null,null,null,null,null,null,0]
[null,null,null,null,null,null,null,null,null,0]
[null,null,null,null,null,null,null,null,null,0]
[null,null,null,null,null,null,null,null,null,0]
[null,null,null,null,null,null,null,null,null,0]
[null,null,null,null,null,null,null,null,null,0]
[null,null,null,null,null,null,null,null,null,0]
[null,null,null,null,null,null,null,null,null,0]
[null,null,null,null,null,null,null,null,null,0]
[null,null,null,null,null,null,null,null,null,0]
[null,null,null,null,null,null,null,null,null,{"$f":"SUMIF($G$19:$G$1015,$G319672,$H$19:$H$1015)","v":0}]
[null,null,null,null,null,null,null,null,null,0]
[null,null,null,null,null,null,null,null,null,0]
[null,null,null,null,null,null,null,null,null,0]
[null,null,null,null,null,null,null,null,null,0]
[null,null,null,null,null,null,null,null,null,0]
[null,null,null,null,null,null,null,null,null,0]
[null,null,null,null,null,null,null,null,null,0]
[null,null,null,null,null,null,null,null,null,0]
[null,null,null,null,null,null,null,null,null,0]
[null,null,null,null,null,null,null,null,null,0]
[null,null,null,null,null,null,null,null,null,0]
[null,null,null,null,null,null,null,null,null,0]
[null,null,null,null,null,null,null,null,null,0]
[null,null,null,null,null,null,null,null,null,0]
[null,null,null,null,null,null,null,null,null,{"$f":"SUMIF($G$19:$G$1015,$G322552,$H$19:$H$1015)","v":0}]
[null,null,null,null,null,null,null,null,null,0]
[null,null,null,null,null,null,null,null,null,0]
[null,null,null,null,null,null,null,null,null,0]
[null,null,null,null,null,null,null,null,null,0]
[null,null,null,null,null,null,null,null,null,0]
[null,null,null,null,null,null,null,null,null,0]
[null,null,null,null,null,null,null,null,null,0]
[null,null,null,null,null,null,null,null,null,0]
[null,null,null,null,null,null,null,null,null,0]
[null,null,null,null,null,null,null,null,null,0]
[null,null,null,null,null,null,null,null,null,0]
[null,null,null,null,null,null,null,null,null,0]
[null,null,null,null,null,null,null,null,null,0]
[null,null,null,null,null,null,null,null,null,0]
[null,null,null,null,null,null,null,null,null,0]
[null,null,null,null,null,null,null,null,null,0]
[null,null,null,null,null,null,null,null,null,0]
[null,null,null,null,null,null,null,null,null,0]
[null,null,null,null,null,null,null,null,null,0]
[null,null,null,null,null,null,null,null,null,0]
[null,null,null,null,null,null,null,null,null,0]
[null,null,null,null,null,null,null,null,null,0]
[null,null,null,null,null,null,null,null,null,0]
[null,null,null,null,null,null,null,null,null,0]
[null,null,null,null,null,null,null,null,null,0]
[null,null,null,null,null,null,null,null,null,0]
[null,null,null,null,null,null,null,null,null,0]
[null,null,null,null,null,null,null,null,null,0]
[null,null,null,null,null,null,null,null,null,0]
[null,null,null,null,null,null,null,null,null,0]
[null,null,null,null,null,null,null,null,null,0]
[null,null,null,null,null,null,null,null,null,0]
[null,null,null,null,null,null,null,null,null,0]
[null,null,null,null,null,null,null,null,null,0]
[null,null,null,null,null,null,null,null,null,0]
[null,null,null,null,null,null,null,null,null,0]
[null,null,null,null,null,null,null,null,null,0]
[null,null,null,null,null,null,null,null,null,0]
[null,null,null,null,null,null,null,null,null,0]
[null,null,null,null,null,null,null,null,null,0]
[null,null,null,null,null,null,null,null,null,0]
[null,null,null,null,null,null,null,null,null,0]
[null,null,null,null,null,null,null,null,null,0]
[null,null,null,null,null,null,null,null,null,0]
[null,null,null,null,null,null,null,null,null,0]
[null,null,null,null,null,null,null,null,null,0]
[null,null,null,null,null,null,null,null,null,0]
[null,null,null,null,null,null,null,null,null,0]
[null,null,null,null,null,null,null,null,null,0]
[null,null,null,null,null,null,null,null,null,0]
[null,null,null,null,null,null,null,null,null,0]
[null,null,null,null,null,null,null,null,null,0]
[null,null,null,null,null,null,null,null,null,0]
[null,null,null,null,null,null,null,null,null,0]
[null,null,null,null,null,null,null,null,null,0]
[null,null,null,null,null,null,null,null,null,0]
[null,null,null,null,null,null,null,null,null,0]
[null,null,null,null,null,null,null,null,null,0]
[null,null,null,null,null,null,null,null,null,0]
[null,null,null,null,null,null,null,null,null,0]
[null,null,null,null,null,null,null,null,null,0]
[null,null,null,null,null,null,null,null,null,0]
[null,null,null,null,null,null,null,null,null,0]
[null,null,null,null,null,null,null,null,null,0]
[null,null,null,null,null,null,null,null,null,0]
[null,null,null,null,null,null,null,null,null,0]
[null,null,null,null,null,null,null,null,null,0]
[null,null,null,null,null,null,null,null,null,0]
[null,null,null,null,null,null,null,null,null,0]
[null,null,null,null,null,null,null,null,null,0]
[null,null,null,null,null,null,null,null,null,0]
[null,null,null,null,null,null,null,null,null,0]
[null,null,null,null,null,null,null,null,null,0]
[null,null,null,null,null,null,null,null,null,0]
[null,null,null,null,null,null,null,null,null,0]
[null,null,null,null,null,null,null,null,null,0]
[null,null,null,null,null,null,null,null,null,0]
[null,null,null,null,null,null,null,null,null,0]
[null,null,null,null,null,null,null,null,null,0]
[null,null,null,null,null,null,null,null,null,0]
[null,null,null,null,null,null,null,null,null,0]
[null,null,null,null,null,null,null,null,null,0]
[null,null,null,null,null,null,null,null,null,0]
[null,null,null,null,null,null,null,null,null,0]
[null,null,null,null,null,null,null,null,null,0]
[null,null,null,null,null,null,null,null,null,0]
[null,null,null,null,null,null,null,null,null,0]
[null,null,null,null,null,null,null,null,null,0]
[null,null,null,null,null,null,null,null,null,0]
[null,null,null,null,null,null,null,null,null,0]
[null,null,null,null,null,null,null,null,null,0]
[null,null,null,null,null,null,null,null,null,0]
[null,null,null,null,null,null,null,null,null,{"$f":"SUMIF($G$19:$G$1015,$G340472,$H$19:$H$1015)","v":0}]
[null,null,null,null,null,null,null,null,null,0]
[null,null,null,null,null,null,null,null,null,0]
[null,null,null,null,null,null,null,null,null,0]
[null,null,null,null,null,null,null,null,null,0]
[null,null,null,null,null,null,null,null,null,0]
[null,null,null,null,null,null,null,null,null,0]
[null,null,null,null,null,null,null,null,null,0]
[null,null,null,null,null,null,null,null,null,0]
[null,null,null,null,null,null,null,null,null,0]
[null,null,null,null,null,null,null,null,null,0]
[null,null,null,null,null,null,null,null,null,0]
[null,null,null,null,null,null,null,null,null,0]
[null,null,null,null,null,null,null,null,null,0]
[null,null,null,null,null,null,null,null,null,0]
[null,null,null,null,null,null,null,null,null,0]
[null,null,null,null,null,null,null,null,null,0]
[null,null,null,null,null,null,null,null,null,0]
[null,null,null,null,null,null,null,null,null,0]
[null,null,null,null,null,null,null,null,null,0]
[null,null,null,null,null,null,null,null,null,0]
[null,null,null,null,null,null,null,null,null,0]
[null,null,null,null,null,null,null,null,null,0]
[null,null,null,null,null,null,null,null,null,0]
[null,null,null,null,null,null,null,null,null,0]
[null,null,null,null,null,null,null,null,null,0]
[null,null,null,null,null,null,null,null,null,0]
[null,null,null,null,null,null,null,null,null,0]
[null,null,null,null,null,null,null,null,null,0]
[null,null,null,null,null,null,null,null,null,0]
[null,null,null,null,null,null,null,null,null,0]
[null,null,null,null,null,null,null,null,null,0]
[null,null,null,null,null,null,null,null,null,0]
[null,null,null,null,null,null,null,null,null,0]
[null,null,null,null,null,null,null,null,null,0]
[null,null,null,null,null,null,null,null,null,0]
[null,null,null,null,null,null,null,null,null,0]
[null,null,null,null,null,null,null,null,null,0]
[null,null,null,null,null,null,null,null,null,0]
[null,null,null,null,null,null,null,null,null,0]
[null,null,null,null,null,null,null,null,null,0]
[null,null,null,null,null,null,null,null,null,0]
[null,null,null,null,null,null,null,null,null,0]
[null,null,null,null,null,null,null,null,null,0]
[null,null,null,null,null,null,null,null,null,0]
[null,null,null,null,null,null,null,null,null,0]
[null,null,null,null,null,null,null,null,null,0]
[null,null,null,null,null,null,null,null,null,0]
[null,null,null,null,null,null,null,null,null,0]
[null,null,null,null,null,null,null,null,null,0]
[null,null,null,null,null,null,null,null,null,0]
[null,null,null,null,null,null,null,null,null,0]
[null,null,null,null,null,null,null,null,null,0]
[null,null,null,null,null,null,null,null,null,0]
[null,null,null,null,null,null,null,null,null,0]
[null,null,null,null,null,null,null,null,null,0]
[null,null,null,null,null,null,null,null,null,0]
[null,null,null,null,null,null,null,null,null,0]
[null,null,null,null,null,null,null,null,null,0]
[null,null,null,null,null,null,null,null,null,0]
[null,null,null,null,null,null,null,null,null,0]
[null,null,null,null,null,null,null,null,null,0]
[null,null,null,null,null,null,null,null,null,0]
[null,null,null,null,null,null,null,null,null,0]
[null,null,null,null,null,null,null,null,null,0]
[null,null,null,null,null,null,null,null,null,0]
[null,null,null,null,null,null,null,null,null,0]
[null,null,null,null,null,null,null,null,null,0]
[null,null,null,null,null,null,null,null,null,0]
[null,null,null,null,null,null,null,null,null,0]
[null,null,null,null,null,null,null,null,null,0]
[null,null,null,null,null,null,null,null,null,0]
[null,null,null,null,null,null,null,null,null,0]
[null,null,null,null,null,null,null,null,null,0]
[null,null,null,null,null,null,null,null,null,0]
[null,null,null,null,null,null,null,null,null,0]
[null,null,null,null,null,null,null,null,null,0]
[null,null,null,null,null,null,null,null,null,0]
[null,null,null,null,null,null,null,null,null,0]
[null,null,null,null,null,null,null,null,null,0]
[null,null,null,null,null,null,null,null,null,0]
[null,null,null,null,null,null,null,null,null,0]
[null,null,null,null,null,null,null,null,null,0]
[null,null,null,null,null,null,null,null,null,0]
[null,null,null,null,null,null,null,null,null,0]
[null,null,null,null,null,null,null,null,null,0]
[null,null,null,null,null,null,null,null,null,0]
[null,null,null,null,null,null,null,null,null,0]
[null,null,null,null,null,null,null,null,null,0]
[null,null,null,null,null,null,null,null,null,0]
[null,null,null,null,null,null,null,null,null,0]
[null,null,null,null,null,null,null,null,null,0]
[null,null,null,null,null,null,null,null,null,0]
[null,null,null,null,null,null,null,null,null,0]
[null,null,null,null,null,null,null,null,null,0]
[null,null,null,null,null,null,null,null,null,0]
[null,null,null,null,null,null,null,null,null,0]
[null,null,null,null,null,null,null,null,null,0]
[null,null,null,null,null,null,null,null,null,{"$f":"SUMIF($G$19:$G$1015,$G359416,$H$19:$H$1015)","v":0}]
[null,null,null,null,null,null,null,null,null,0]
[null,null,null,null,null,null,null,null,null,0]
[null,null,null,null,null,null,null,null,null,0]
[null,null,null,null,null,null,null,null,null,0]
[null,null,null,null,null,null,null,null,null,0]
[null,null,null,null,null,null,null,null,null,0]
[null,null,null,null,null,null,null,null,null,0]
[null,null,null,null,null,null,null,null,null,0]
[null,null,null,null,null,null,null,null,null,0]
[null,null,null,null,null,null,null,null,null,0]
[null,null,null,null,null,null,null,null,null,0]
[null,null,null,null,null,null,null,null,null,0]
[null,null,null,null,null,null,null,null,null,0]
[null,null,null,null,null,null,null,null,null,0]
[null,null,null,null,null,null,null,null,null,{"$f":"SUMIF($G$19:$G$1015,$G362296,$H$19:$H$1015)","v":0}]
[null,null,null,null,null,null,null,null,null,0]
[null,null,null,null,null,null,null,null,null,0]
[null,null,null,null,null,null,null,null,null,0]
[null,null,null,null,null,null,null,null,null,0]
[null,null,null,null,null,null,null,null,null,0]
[null,null,null,null,null,null,null,null,null,0]
[null,null,null,null,null,null,null,null,null,0]
[null,null,null,null,null,null,null,null,null,0]
[null,null,null,null,null,null,null,null,null,0]
[null,null,null,null,null,null,null,null,null,0]
[null,null,null,null,null,null,null,null,null,0]
[null,null,null,null,null,null,null,null,null,0]
[null,null,null,null,null,null,null,null,null,0]
[null,null,null,null,null,null,null,null,null,0]
[null,null,null,null,null,null,null,null,null,0]
[null,null,null,null,null,null,null,null,null,0]
[null,null,null,null,null,null,null,null,null,0]
[null,null,null,null,null,null,null,null,null,0]
[null,null,null,null,null,null,null,null,null,0]
[null,null,null,null,null,null,null,null,null,0]
[null,null,null,null,null,null,null,null,null,0]
[null,null,null,null,null,null,null,null,null,0]
[null,null,null,null,null,null,null,null,null,0]
[null,null,null,null,null,null,null,null,null,0]
[null,null,null,null,null,null,null,null,null,0]
[null,null,null,null,null,null,null,null,null,0]
[null,null,null,null,null,null,null,null,null,0]
[null,null,null,null,null,null,null,null,null,0]
[null,null,null,null,null,null,null,null,null,0]
[null,null,null,null,null,null,null,null,null,0]
[null,null,null,null,null,null,null,null,null,0]
[null,null,null,null,null,null,null,null,null,0]
[null,null,null,null,null,null,null,null,null,0]
[null,null,null,null,null,null,null,null,null,0]
[null,null,null,null,null,null,null,null,null,0]
[null,null,null,null,null,null,null,null,null,0]
[null,null,null,null,null,null,null,null,null,0]
[null,null,null,null,null,null,null,null,null,0]
[null,null,null,null,null,null,null,null,null,0]
[null,null,null,null,null,null,null,null,null,0]
[null,null,null,null,null,null,null,null,null,0]
[null,null,null,null,null,null,null,null,null,0]
[null,null,null,null,null,null,null,null,null,0]
[null,null,null,null,null,null,null,null,null,0]
[null,null,null,null,null,null,null,null,null,0]
[null,null,null,null,null,null,null,null,null,0]
[null,null,null,null,null,null,null,null,null,0]
[null,null,null,null,null,null,null,null,null,0]
[null,null,null,null,null,null,null,null,null,0]
[null,null,null,null,null,null,null,null,null,0]
[null,null,null,null,null,null,null,null,null,0]
[null,null,null,null,null,null,null,null,null,0]
[null,null,null,null,null,null,null,null,null,0]
[null,null,null,null,null,null,null,null,null,0]
[null,null,null,null,null,null,null,null,null,0]
[null,null,null,null,null,null,null,null,null,0]
[null,null,null,null,null,null,null,null,null,0]
[null,null,null,null,null,null,null,null,null,0]
[null,null,null,null,null,null,null,null,null,0]
[null,null,null,null,null,null,null,null,null,0]
[null,null,null,null,null,null,null,null,null,0]
[null,null,null,null,null,null,null,null,null,0]
[null,null,null,null,null,null,null,null,null,0]
[null,null,null,null,null,null,null,null,null,0]
[null,null,null,null,null,null,null,null,null,0]
[null,null,null,null,null,null,null,null,null,0]
[null,null,null,null,null,null,null,null,null,0]
[null,null,null,null,null,null,null,null,null,0]
[null,null,null,null,null,null,null,null,null,0]
[null,null,null,null,null,null,null,null,null,0]
[null,null,null,null,null,null,null,null,null,0]
[null,null,null,null,null,null,null,null,null,0]
[null,null,null,null,null,null,null,null,null,0]
[null,null,null,null,null,null,null,null,null,0]
[null,null,null,null,null,null,null,null,null,0]
[null,null,null,null,null,null,null,null,null,0]
[null,null,null,null,null,null,null,null,null,0]
[null,null,null,null,null,null,null,null,null,0]
[null,null,null,null,null,null,null,null,null,0]
[null,null,null,null,null,null,null,null,null,0]
[null,null,null,null,null,null,null,null,null,0]
[null,null,null,null,null,null,null,null,null,0]
[null,null,null,null,null,null,null,null,null,0]
[null,null,null,null,null,null,null,null,null,0]
[null,null,null,null,null,null,null,null,null,0]
[null,null,null,null,null,null,null,null,null,0]
[null,null,null,null,null,null,null,null,null,0]
[null,null,null,null,null,null,null,null,null,0]
[null,null,null,null,null,null,null,null,null,0]
[null,null,null,null,null,null,null,null,null,0]
[null,null,null,null,null,null,null,null,null,0]
[null,null,null,null,null,null,null,null,null,0]
[null,null,null,null,null,null,null,null,null,0]
[null,null,null,null,null,null,null,null,null,0]
[null,null,null,null,null,null,null,null,null,0]
[null,null,null,null,null,null,null,null,null,0]
[null,null,null,null,null,null,null,null,null,0]
[null,null,null,null,null,null,null,null,null,0]
[null,null,null,null,null,null,null,null,null,0]
[null,null,null,null,null,null,null,null,null,0]
[null,null,null,null,null,null,null,null,null,{"$f":"SUMIF($G$19:$G$1015,$G381944,$H$19:$H$1015)","v":0}]
[null,null,null,null,null,null,null,null,null,0]
[null,null,null,null,null,null,null,null,null,0]
[null,null,null,null,null,null,null,null,null,0]
[null,null,null,null,null,null,null,null,null,0]
[null,null,null,null,null,null,null,null,null,0]
[null,null,null,null,null,null,null,null,null,0]
[null,null,null,null,null,null,null,null,null,0]
[null,null,null,null,null,null,null,null,null,0]
[null,null,null,null,null,null,null,null,null,0]
[null,null,null,null,null,null,null,null,null,0]
[null,null,null,null,null,null,null,null,null,0]
[null,null,null,null,null,null,null,null,null,0]
[null,null,null,null,null,null,null,null,null,0]
[null,null,null,null,null,null,null,null,null,0]
[null,null,null,null,null,null,null,null,null,{"$f":"SUMIF($G$19:$G$1015,$G384824,$H$19:$H$1015)","v":0}]
[null,null,null,null,null,null,null,null,null,0]
[null,null,null,null,null,null,null,null,null,0]
[null,null,null,null,null,null,null,null,null,0]
[null,null,null,null,null,null,null,null,null,0]
[null,null,null,null,null,null,null,null,null,0]
[null,null,null,null,null,null,null,null,null,0]
[null,null,null,null,null,null,null,null,null,0]
[null,null,null,null,null,null,null,null,null,0]
[null,null,null,null,null,null,null,null,null,0]
[null,null,null,null,null,null,null,null,null,0]
[null,null,null,null,null,null,null,null,null,0]
[null,null,null,null,null,null,null,null,null,0]
[null,null,null,null,null,null,null,null,null,0]
[null,null,null,null,null,null,null,null,null,0]
[null,null,null,null,null,null,null,null,null,0]
[null,null,null,null,null,null,null,null,null,0]
[null,null,null,null,null,null,null,null,null,0]
[null,null,null,null,null,null,null,null,null,0]
[null,null,null,null,null,null,null,null,null,0]
[null,null,null,null,null,null,null,null,null,0]
[null,null,null,null,null,null,null,null,null,0]
[null,null,null,null,null,null,null,null,null,0]
[null,null,null,null,null,null,null,null,null,0]
[null,null,null,null,null,null,null,null,null,0]
[null,null,null,null,null,null,null,null,null,0]
[null,null,null,null,null,null,null,null,null,0]
[null,null,null,null,null,null,null,null,null,0]
[null,null,null,null,null,null,null,null,null,0]
[null,null,null,null,null,null,null,null,null,0]
[null,null,null,null,null,null,null,null,null,0]
[null,null,null,null,null,null,null,null,null,0]
[null,null,null,null,null,null,null,null,null,0]
[null,null,null,null,null,null,null,null,null,0]
[null,null,null,null,null,null,null,null,null,0]
[null,null,null,null,null,null,null,null,null,0]
[null,null,null,null,null,null,null,null,null,0]
[null,null,null,null,null,null,null,null,null,0]
[null,null,null,null,null,null,null,null,null,0]
[null,null,null,null,null,null,null,null,null,0]
[null,null,null,null,null,null,null,null,null,0]
[null,null,null,null,null,null,null,null,null,0]
[null,null,null,null,null,null,null,null,null,0]
[null,null,null,null,null,null,null,null,null,0]
[null,null,null,null,null,null,null,null,null,0]
[null,null,null,null,null,null,null,null,null,0]
[null,null,null,null,null,null,null,null,null,0]
[null,null,null,null,null,null,null,null,null,0]
[null,null,null,null,null,null,null,null,null,0]
[null,null,null,null,null,null,null,null,null,0]
[null,null,null,null,null,null,null,null,null,0]
[null,null,null,null,null,null,null,null,null,0]
[null,null,null,null,null,null,null,null,null,0]
[null,null,null,null,null,null,null,null,null,0]
[null,null,null,null,null,null,null,null,null,0]
[null,null,null,null,null,null,null,null,null,0]
[null,null,null,null,null,null,null,null,null,0]
[null,null,null,null,null,null,null,null,null,0]
[null,null,null,null,null,null,null,null,null,0]
[null,null,null,null,null,null,null,null,null,0]
[null,null,null,null,null,null,null,null,null,0]
[null,null,null,null,null,null,null,null,null,0]
[null,null,null,null,null,null,null,null,null,0]
[null,null,null,null,null,null,null,null,null,0]
[null,null,null,null,null,null,null,null,null,0]
[null,null,null,null,null,null,null,null,null,0]
[null,null,null,null,null,null,null,null,null,{"$f":"SUMIF($G$19:$G$1015,$G388792,$H$19:$H$1015)","v":0}]
[null,null,null,null,null,null,null,null,null,0]
[null,null,null,null,null,null,null,null,null,0]
[null,null,null,null,null,null,null,null,null,0]
[null,null,null,null,null,null,null,null,null,0]
[null,null,null,null,null,null,null,null,null,0]
[null,null,null,null,null,null,null,null,null,0]
[null,null,null,null,null,null,null,null,null,0]
[null,null,null,null,null,null,null,null,null,0]
[null,null,null,null,null,null,null,null,null,0]
[null,null,null,null,null,null,null,null,null,0]
[null,null,null,null,null,null,null,null,null,0]
[null,null,null,null,null,null,null,null,null,0]
[null,null,null,null,null,null,null,null,null,0]
[null,null,null,null,null,null,null,null,null,0]
[null,null,null,null,null,null,null,null,null,0]
[null,null,null,null,null,null,null,null,null,0]
[null,null,null,null,null,null,null,null,null,0]
[null,null,null,null,null,null,null,null,null,0]
[null,null,null,null,null,null,null,null,null,0]
[null,null,null,null,null,null,null,null,null,0]
[null,null,null,null,null,null,null,null,null,0]
[null,null,null,null,null,null,null,null,null,0]
[null,null,null,null,null,null,null,null,null,0]
[null,null,null,null,null,null,null,null,null,0]
[null,null,null,null,null,null,null,null,null,0]
[null,null,null,null,null,null,null,null,null,0]
[null,null,null,null,null,null,null,null,null,0]
[null,null,null,null,null,null,null,null,null,0]
[null,null,null,null,null,null,null,null,null,0]
[null,null,null,null,null,null,null,null,null,0]
[null,null,null,null,null,null,null,null,null,0]
[null,null,null,null,null,null,null,null,null,0]
[null,null,null,null,null,null,null,null,null,0]
[null,null,null,null,null,null,null,null,null,0]
[null,null,null,null,null,null,null,null,null,0]
[null,null,null,null,null,null,null,null,null,0]
[null,null,null,null,null,null,null,null,null,0]
[null,null,null,null,null,null,null,null,null,0]
[null,null,null,null,null,null,null,null,null,0]
[null,null,null,null,null,null,null,null,null,0]
[null,null,null,null,null,null,null,null,null,0]
[null,null,null,null,null,null,null,null,null,0]
[null,null,null,null,null,null,null,null,null,0]
[null,null,null,null,null,null,null,null,null,0]
[null,null,null,null,null,null,null,null,null,0]
[null,null,null,null,null,null,null,null,null,0]
[null,null,null,null,null,null,null,null,null,0]
[null,null,null,null,null,null,null,null,null,0]
[null,null,null,null,null,null,null,null,null,0]
[null,null,null,null,null,null,null,null,null,0]
[null,null,null,null,null,null,null,null,null,0]
[null,null,null,null,null,null,null,null,null,0]
[null,null,null,null,null,null,null,null,null,0]
[null,null,null,null,null,null,null,null,null,0]
[null,null,null,null,null,null,null,null,null,0]
[null,null,null,null,null,null,null,null,null,0]
[null,null,null,null,null,null,null,null,null,0]
[null,null,null,null,null,null,null,null,null,0]
[null,null,null,null,null,null,null,null,null,0]
[null,null,null,null,null,null,null,null,null,0]
[null,null,null,null,null,null,null,null,null,0]
[null,null,null,null,null,null,null,null,null,0]
[null,null,null,null,null,null,null,null,null,0]
[null,null,null,null,null,null,null,null,null,{"$f":"SUMIF($G$19:$G$1015,$G388856,$H$19:$H$1015)","v":0}]
[null,null,null,null,null,null,null,null,null,0]
[null,null,null,null,null,null,null,null,null,0]
[null,null,null,null,null,null,null,null,null,0]
[null,null,null,null,null,null,null,null,null,0]
[null,null,null,null,null,null,null,null,null,0]
[null,null,null,null,null,null,null,null,null,0]
[null,null,null,null,null,null,null,null,null,0]
[null,null,null,null,null,null,null,null,null,0]
[null,null,null,null,null,null,null,null,null,0]
[null,null,null,null,null,null,null,null,null,0]
[null,null,null,null,null,null,null,null,null,0]
[null,null,null,null,null,null,null,null,null,0]
[null,null,null,null,null,null,null,null,null,0]
[null,null,null,null,null,null,null,null,null,0]
[null,null,null,null,null,null,null,null,null,0]
[null,null,null,null,null,null,null,null,null,0]
[null,null,null,null,null,null,null,null,null,0]
[null,null,null,null,null,null,null,null,null,0]
[null,null,null,null,null,null,null,null,null,0]
[null,null,null,null,null,null,null,null,null,0]
[null,null,null,null,null,null,null,null,null,0]
[null,null,null,null,null,null,null,null,null,0]
[null,null,null,null,null,null,null,null,null,0]
[null,null,null,null,null,null,null,null,null,0]
[null,null,null,null,null,null,null,null,null,0]
[null,null,null,null,null,null,null,null,null,0]
[null,null,null,null,null,null,null,null,null,0]
[null,null,null,null,null,null,null,null,null,0]
[null,null,null,null,null,null,null,null,null,0]
[null,null,null,null,null,null,null,null,null,0]
[null,null,null,null,null,null,null,null,null,0]
[null,null,null,null,null,null,null,null,null,0]
[null,null,null,null,null,null,null,null,null,0]
[null,null,null,null,null,null,null,null,null,0]
[null,null,null,null,null,null,null,null,null,0]
[null,null,null,null,null,null,null,null,null,0]
[null,null,null,null,null,null,null,null,null,0]
[null,null,null,null,null,null,null,null,null,0]
[null,null,null,null,null,null,null,null,null,0]
[null,null,null,null,null,null,null,null,null,0]
[null,null,null,null,null,null,null,null,null,0]
[null,null,null,null,null,null,null,null,null,0]
[null,null,null,null,null,null,null,null,null,0]
[null,null,null,null,null,null,null,null,null,0]
[null,null,null,null,null,null,null,null,null,0]
[null,null,null,null,null,null,null,null,null,0]
[null,null,null,null,null,null,null,null,null,0]
[null,null,null,null,null,null,null,null,null,0]
[null,null,null,null,null,null,null,null,null,0]
[null,null,null,null,null,null,null,null,null,0]
[null,null,null,null,null,null,null,null,null,0]
[null,null,null,null,null,null,null,null,null,0]
[null,null,null,null,null,null,null,null,null,0]
[null,null,null,null,null,null,null,null,null,0]
[null,null,null,null,null,null,null,null,null,0]
[null,null,null,null,null,null,null,null,null,0]
[null,null,null,null,null,null,null,null,null,0]
[null,null,null,null,null,null,null,null,null,0]
[null,null,null,null,null,null,null,null,null,0]
[null,null,null,null,null,null,null,null,null,0]
[null,null,null,null,null,null,null,null,null,0]
[null,null,null,null,null,null,null,null,null,0]
[null,null,null,null,null,null,null,null,null,0]
[null,null,null,null,null,null,null,null,null,{"$f":"SUMIF($G$19:$G$1015,$G388920,$H$19:$H$1015)","v":0}]
[null,null,null,null,null,null,null,null,null,0]
[null,null,null,null,null,null,null,null,null,0]
[null,null,null,null,null,null,null,null,null,0]
[null,null,null,null,null,null,null,null,null,0]
[null,null,null,null,null,null,null,null,null,0]
[null,null,null,null,null,null,null,null,null,0]
[null,null,null,null,null,null,null,null,null,0]
[null,null,null,null,null,null,null,null,null,0]
[null,null,null,null,null,null,null,null,null,0]
[null,null,null,null,null,null,null,null,null,0]
[null,null,null,null,null,null,null,null,null,0]
[null,null,null,null,null,null,null,null,null,0]
[null,null,null,null,null,null,null,null,null,0]
[null,null,null,null,null,null,null,null,null,0]
[null,null,null,null,null,null,null,null,null,0]
[null,null,null,null,null,null,null,null,null,0]
[null,null,null,null,null,null,null,null,null,0]
[null,null,null,null,null,null,null,null,null,0]
[null,null,null,null,null,null,null,null,null,0]
[null,null,null,null,null,null,null,null,null,0]
[null,null,null,null,null,null,null,null,null,0]
[null,null,null,null,null,null,null,null,null,0]
[null,null,null,null,null,null,null,null,null,0]
[null,null,null,null,null,null,null,null,null,0]
[null,null,null,null,null,null,null,null,null,0]
[null,null,null,null,null,null,null,null,null,0]
[null,null,null,null,null,null,null,null,null,0]
[null,null,null,null,null,null,null,null,null,0]
[null,null,null,null,null,null,null,null,null,0]
[null,null,null,null,null,null,null,null,null,0]
[null,null,null,null,null,null,null,null,null,0]
[null,null,null,null,null,null,null,null,null,0]
[null,null,null,null,null,null,null,null,null,0]
[null,null,null,null,null,null,null,null,null,0]
[null,null,null,null,null,null,null,null,null,0]
[null,null,null,null,null,null,null,null,null,0]
[null,null,null,null,null,null,null,null,null,0]
[null,null,null,null,null,null,null,null,null,0]
[null,null,null,null,null,null,null,null,null,0]
[null,null,null,null,null,null,null,null,null,0]
[null,null,null,null,null,null,null,null,null,0]
[null,null,null,null,null,null,null,null,null,0]
[null,null,null,null,null,null,null,null,null,0]
[null,null,null,null,null,null,null,null,null,0]
[null,null,null,null,null,null,null,null,null,0]
[null,null,null,null,null,null,null,null,null,0]
[null,null,null,null,null,null,null,null,null,0]
[null,null,null,null,null,null,null,null,null,0]
[null,null,null,null,null,null,null,null,null,0]
[null,null,null,null,null,null,null,null,null,0]
[null,null,null,null,null,null,null,null,null,0]
[null,null,null,null,null,null,null,null,null,0]
[null,null,null,null,null,null,null,null,null,0]
[null,null,null,null,null,null,null,null,null,0]
[null,null,null,null,null,null,null,null,null,0]
[null,null,null,null,null,null,null,null,null,0]
[null,null,null,null,null,null,null,null,null,0]
[null,null,null,null,null,null,null,null,null,0]
[null,null,null,null,null,null,null,null,null,0]
[null,null,null,null,null,null,null,null,null,0]
[null,null,null,null,null,null,null,null,null,0]
[null,null,null,null,null,null,null,null,null,0]
[null,null,null,null,null,null,null,null,null,0]
[null,null,null,null,null,null,null,null,null,{"$f":"SUMIF($G$19:$G$1015,$G388984,$H$19:$H$1015)","v":0}]
[null,null,null,null,null,null,null,null,null,0]
[null,null,null,null,null,null,null,null,null,0]
[null,null,null,null,null,null,null,null,null,0]
[null,null,null,null,null,null,null,null,null,0]
[null,null,null,null,null,null,null,null,null,0]
[null,null,null,null,null,null,null,null,null,0]
[null,null,null,null,null,null,null,null,null,0]
[null,null,null,null,null,null,null,null,null,0]
[null,null,null,null,null,null,null,null,null,0]
[null,null,null,null,null,null,null,null,null,0]
[null,null,null,null,null,null,null,null,null,0]
[null,null,null,null,null,null,null,null,null,0]
[null,null,null,null,null,null,null,null,null,0]
[null,null,null,null,null,null,null,null,null,0]
[null,null,null,null,null,null,null,null,null,0]
[null,null,null,null,null,null,null,null,null,0]
[null,null,null,null,null,null,null,null,null,0]
[null,null,null,null,null,null,null,null,null,0]
[null,null,null,null,null,null,null,null,null,0]
[null,null,null,null,null,null,null,null,null,0]
[null,null,null,null,null,null,null,null,null,0]
[null,null,null,null,null,null,null,null,null,0]
[null,null,null,null,null,null,null,null,null,0]
[null,null,null,null,null,null,null,null,null,0]
[null,null,null,null,null,null,null,null,null,0]
[null,null,null,null,null,null,null,null,null,0]
[null,null,null,null,null,null,null,null,null,0]
[null,null,null,null,null,null,null,null,null,0]
[null,null,null,null,null,null,null,null,null,0]
[null,null,null,null,null,null,null,null,null,0]
[null,null,null,null,null,null,null,null,null,0]
[null,null,null,null,null,null,null,null,null,0]
[null,null,null,null,null,null,null,null,null,0]
[null,null,null,null,null,null,null,null,null,0]
[null,null,null,null,null,null,null,null,null,0]
[null,null,null,null,null,null,null,null,null,0]
[null,null,null,null,null,null,null,null,null,0]
[null,null,null,null,null,null,null,null,null,0]
[null,null,null,null,null,null,null,null,null,0]
[null,null,null,null,null,null,null,null,null,0]
[null,null,null,null,null,null,null,null,null,0]
[null,null,null,null,null,null,null,null,null,0]
[null,null,null,null,null,null,null,null,null,0]
[null,null,null,null,null,null,null,null,null,0]
[null,null,null,null,null,null,null,null,null,0]
[null,null,null,null,null,null,null,null,null,0]
[null,null,null,null,null,null,null,null,null,0]
[null,null,null,null,null,null,null,null,null,0]
[null,null,null,null,null,null,null,null,null,0]
[null,null,null,null,null,null,null,null,null,0]
[null,null,null,null,null,null,null,null,null,0]
[null,null,null,null,null,null,null,null,null,0]
[null,null,null,null,null,null,null,null,null,0]
[null,null,null,null,null,null,null,null,null,0]
[null,null,null,null,null,null,null,null,null,0]
[null,null,null,null,null,null,null,null,null,0]
[null,null,null,null,null,null,null,null,null,0]
[null,null,null,null,null,null,null,null,null,0]
[null,null,null,null,null,null,null,null,null,0]
[null,null,null,null,null,null,null,null,null,0]
[null,null,null,null,null,null,null,null,null,0]
[null,null,null,null,null,null,null,null,null,0]
[null,null,null,null,null,null,null,null,null,0]
[null,null,null,null,null,null,null,null,null,{"$f":"SUMIF($G$19:$G$1015,$G389048,$H$19:$H$1015)","v":0}]
[null,null,null,null,null,null,null,null,null,0]
[null,null,null,null,null,null,null,null,null,0]
[null,null,null,null,null,null,null,null,null,0]
[null,null,null,null,null,null,null,null,null,0]
[null,null,null,null,null,null,null,null,null,0]
[null,null,null,null,null,null,null,null,null,0]
[null,null,null,null,null,null,null,null,null,0]
[null,null,null,null,null,null,null,null,null,0]
[null,null,null,null,null,null,null,null,null,0]
[null,null,null,null,null,null,null,null,null,0]
[null,null,null,null,null,null,null,null,null,0]
[null,null,null,null,null,null,null,null,null,0]
[null,null,null,null,null,null,null,null,null,0]
[null,null,null,null,null,null,null,null,null,0]
[null,null,null,null,null,null,null,null,null,0]
[null,null,null,null,null,null,null,null,null,0]
[null,null,null,null,null,null,null,null,null,0]
[null,null,null,null,null,null,null,null,null,0]
[null,null,null,null,null,null,null,null,null,0]
[null,null,null,null,null,null,null,null,null,0]
[null,null,null,null,null,null,null,null,null,0]
[null,null,null,null,null,null,null,null,null,0]
[null,null,null,null,null,null,null,null,null,0]
[null,null,null,null,null,null,null,null,null,0]
[null,null,null,null,null,null,null,null,null,0]
[null,null,null,null,null,null,null,null,null,0]
[null,null,null,null,null,null,null,null,null,0]
[null,null,null,null,null,null,null,null,null,0]
[null,null,null,null,null,null,null,null,null,0]
[null,null,null,null,null,null,null,null,null,0]
[null,null,null,null,null,null,null,null,null,0]
[null,null,null,null,null,null,null,null,null,0]
[null,null,null,null,null,null,null,null,null,0]
[null,null,null,null,null,null,null,null,null,0]
[null,null,null,null,null,null,null,null,null,0]
[null,null,null,null,null,null,null,null,null,0]
[null,null,null,null,null,null,null,null,null,0]
[null,null,null,null,null,null,null,null,null,0]
[null,null,null,null,null,null,null,null,null,0]
[null,null,null,null,null,null,null,null,null,0]
[null,null,null,null,null,null,null,null,null,0]
[null,null,null,null,null,null,null,null,null,0]
[null,null,null,null,null,null,null,null,null,0]
[null,null,null,null,null,null,null,null,null,0]
[null,null,null,null,null,null,null,null,null,0]
[null,null,null,null,null,null,null,null,null,0]
[null,null,null,null,null,null,null,null,null,0]
[null,null,null,null,null,null,null,null,null,0]
[null,null,null,null,null,null,null,null,null,0]
[null,null,null,null,null,null,null,null,null,0]
[null,null,null,null,null,null,null,null,null,0]
[null,null,null,null,null,null,null,null,null,0]
[null,null,null,null,null,null,null,null,null,0]
[null,null,null,null,null,null,null,null,null,0]
[null,null,null,null,null,null,null,null,null,0]
[null,null,null,null,null,null,null,null,null,0]
[null,null,null,null,null,null,null,null,null,0]
[null,null,null,null,null,null,null,null,null,0]
[null,null,null,null,null,null,null,null,null,0]
[null,null,null,null,null,null,null,null,null,0]
[null,null,null,null,null,null,null,null,null,0]
[null,null,null,null,null,null,null,null,null,0]
[null,null,null,null,null,null,null,null,null,0]
[null,null,null,null,null,null,null,null,null,{"$f":"SUMIF($G$19:$G$1015,$G389112,$H$19:$H$1015)","v":0}]
[null,null,null,null,null,null,null,null,null,0]
[null,null,null,null,null,null,null,null,null,0]
[null,null,null,null,null,null,null,null,null,0]
[null,null,null,null,null,null,null,null,null,0]
[null,null,null,null,null,null,null,null,null,0]
[null,null,null,null,null,null,null,null,null,0]
[null,null,null,null,null,null,null,null,null,0]
[null,null,null,null,null,null,null,null,null,0]
[null,null,null,null,null,null,null,null,null,0]
[null,null,null,null,null,null,null,null,null,0]
[null,null,null,null,null,null,null,null,null,0]
[null,null,null,null,null,null,null,null,null,0]
[null,null,null,null,null,null,null,null,null,0]
[null,null,null,null,null,null,null,null,null,0]
[null,null,null,null,null,null,null,null,null,0]
[null,null,null,null,null,null,null,null,null,0]
[null,null,null,null,null,null,null,null,null,0]
[null,null,null,null,null,null,null,null,null,0]
[null,null,null,null,null,null,null,null,null,0]
[null,null,null,null,null,null,null,null,null,0]
[null,null,null,null,null,null,null,null,null,0]
[null,null,null,null,null,null,null,null,null,0]
[null,null,null,null,null,null,null,null,null,0]
[null,null,null,null,null,null,null,null,null,0]
[null,null,null,null,null,null,null,null,null,0]
[null,null,null,null,null,null,null,null,null,0]
[null,null,null,null,null,null,null,null,null,0]
[null,null,null,null,null,null,null,null,null,0]
[null,null,null,null,null,null,null,null,null,0]
[null,null,null,null,null,null,null,null,null,0]
[null,null,null,null,null,null,null,null,null,0]
[null,null,null,null,null,null,null,null,null,0]
[null,null,null,null,null,null,null,null,null,0]
[null,null,null,null,null,null,null,null,null,0]
[null,null,null,null,null,null,null,null,null,0]
[null,null,null,null,null,null,null,null,null,0]
[null,null,null,null,null,null,null,null,null,0]
[null,null,null,null,null,null,null,null,null,0]
[null,null,null,null,null,null,null,null,null,0]
[null,null,null,null,null,null,null,null,null,0]
[null,null,null,null,null,null,null,null,null,0]
[null,null,null,null,null,null,null,null,null,0]
[null,null,null,null,null,null,null,null,null,0]
[null,null,null,null,null,null,null,null,null,0]
[null,null,null,null,null,null,null,null,null,0]
[null,null,null,null,null,null,null,null,null,0]
[null,null,null,null,null,null,null,null,null,0]
[null,null,null,null,null,null,null,null,null,0]
[null,null,null,null,null,null,null,null,null,0]
[null,null,null,null,null,null,null,null,null,0]
[null,null,null,null,null,null,null,null,null,0]
[null,null,null,null,null,null,null,null,null,0]
[null,null,null,null,null,null,null,null,null,0]
[null,null,null,null,null,null,null,null,null,0]
[null,null,null,null,null,null,null,null,null,0]
[null,null,null,null,null,null,null,null,null,0]
[null,null,null,null,null,null,null,null,null,0]
[null,null,null,null,null,null,null,null,null,0]
[null,null,null,null,null,null,null,null,null,0]
[null,null,null,null,null,null,null,null,null,0]
[null,null,null,null,null,null,null,null,null,0]
[null,null,null,null,null,null,null,null,null,0]
[null,null,null,null,null,null,null,null,null,0]
[null,null,null,null,null,null,null,null,null,{"$f":"SUMIF($G$19:$G$1015,$G389176,$H$19:$H$1015)","v":0}]
[null,null,null,null,null,null,null,null,null,0]
[null,null,null,null,null,null,null,null,null,0]
[null,null,null,null,null,null,null,null,null,0]
[null,null,null,null,null,null,null,null,null,0]
[null,null,null,null,null,null,null,null,null,0]
[null,null,null,null,null,null,null,null,null,0]
[null,null,null,null,null,null,null,null,null,0]
[null,null,null,null,null,null,null,null,null,0]
[null,null,null,null,null,null,null,null,null,0]
[null,null,null,null,null,null,null,null,null,0]
[null,null,null,null,null,null,null,null,null,0]
[null,null,null,null,null,null,null,null,null,0]
[null,null,null,null,null,null,null,null,null,0]
[null,null,null,null,null,null,null,null,null,0]
[null,null,null,null,null,null,null,null,null,0]
[null,null,null,null,null,null,null,null,null,0]
[null,null,null,null,null,null,null,null,null,0]
[null,null,null,null,null,null,null,null,null,0]
[null,null,null,null,null,null,null,null,null,0]
[null,null,null,null,null,null,null,null,null,0]
[null,null,null,null,null,null,null,null,null,0]
[null,null,null,null,null,null,null,null,null,0]
[null,null,null,null,null,null,null,null,null,0]
[null,null,null,null,null,null,null,null,null,0]
[null,null,null,null,null,null,null,null,null,0]
[null,null,null,null,null,null,null,null,null,0]
[null,null,null,null,null,null,null,null,null,0]
[null,null,null,null,null,null,null,null,null,0]
[null,null,null,null,null,null,null,null,null,0]
[null,null,null,null,null,null,null,null,null,0]
[null,null,null,null,null,null,null,null,null,0]
[null,null,null,null,null,null,null,null,null,0]
[null,null,null,null,null,null,null,null,null,0]
[null,null,null,null,null,null,null,null,null,0]
[null,null,null,null,null,null,null,null,null,0]
[null,null,null,null,null,null,null,null,null,0]
[null,null,null,null,null,null,null,null,null,0]
[null,null,null,null,null,null,null,null,null,0]
[null,null,null,null,null,null,null,null,null,0]
[null,null,null,null,null,null,null,null,null,0]
[null,null,null,null,null,null,null,null,null,0]
[null,null,null,null,null,null,null,null,null,0]
[null,null,null,null,null,null,null,null,null,0]
[null,null,null,null,null,null,null,null,null,0]
[null,null,null,null,null,null,null,null,null,0]
[null,null,null,null,null,null,null,null,null,0]
[null,null,null,null,null,null,null,null,null,0]
[null,null,null,null,null,null,null,null,null,0]
[null,null,null,null,null,null,null,null,null,0]
[null,null,null,null,null,null,null,null,null,0]
[null,null,null,null,null,null,null,null,null,0]
[null,null,null,null,null,null,null,null,null,0]
[null,null,null,null,null,null,null,null,null,0]
[null,null,null,null,null,null,null,null,null,0]
[null,null,null,null,null,null,null,null,null,0]
[null,null,null,null,null,null,null,null,null,0]
[null,null,null,null,null,null,null,null,null,0]
[null,null,null,null,null,null,null,null,null,0]
[null,null,null,null,null,null,null,null,null,0]
[null,null,null,null,null,null,null,null,null,0]
[null,null,null,null,null,null,null,null,null,0]
[null,null,null,null,null,null,null,null,null,0]
[null,null,null,null,null,null,null,null,null,0]
[null,null,null,null,null,null,null,null,null,{"$f":"SUMIF($G$19:$G$1015,$G389240,$H$19:$H$1015)","v":0}]
[null,null,null,null,null,null,null,null,null,0]
[null,null,null,null,null,null,null,null,null,0]
[null,null,null,null,null,null,null,null,null,0]
[null,null,null,null,null,null,null,null,null,0]
[null,null,null,null,null,null,null,null,null,0]
[null,null,null,null,null,null,null,null,null,0]

{"sheet":"2.cTë ardhura-jopublik-nënatyrë","index":4,"n_rows":1015,"n_cols":13,"rows_kept":1015,"cut":false,"hidden":false,"merged":[[15,7,15,8],[14,7,14,8],[13,0,13,2],[13,3,13,4],[12,7,12,8],[13,7,13,8]]}
[]
[]
[]
[]
[]
[]
[]
[null,null,null,null,"REPUBLIKA E SHQIPËRISË\n"]
[null,null,null,null,"KOMISIONI QENDROR I ZGJEDHJEVE"]
[]
[null,"Emri i Partisë Politike",null,null,null,"Shkronjat Nistore"]
[]
["2.c Të ardhura, dhurime në natyrë - Financime jopublike"]
[{"$f":"\"Ju lutemi konfirmoni nëse nuk keni gjë për të raportuar\"&A13","v":"Ju lutemi konfirmoni nëse nuk keni gjë për të raportuar2.c Të ardhura, dhurime në natyrë - Financime jopublike"}]
[]
[]
[]
["A. Statusi i dhuruesit","B. Emri i dhuruesit","C. Mbiemri i dhuruesit","D. Adresa  (rreshti 1)","E. Adresa (rreshti 2)","F. Kodi postar i adreses","G. Numri i identifikimit","H. Vlera e dhurimit","I. Data e dhurimit","J. Totali i agreguar i dhurimeve nga dhuruesi për zgjedhjet ","K. Marrë në dorëzim nga:","L. Emri i degës","M. Përshkrimi i dhurimit në natyrë"]
[null,null,null,null,null,null,null,null,null,{"$f":"SUMIF($G$19:$G$5015,$G19,$H$19:$H$5015)+SUMIF('2.bTë ardhura-jopublik-monetare'!$G$19:$G$1015,'2.cTë ardhura-jopublik-nënatyrë'!$G19,'2.bTë ardhura-jopublik-monetare'!$H$19:$H$1015)","v":0}]
[null,null,null,null,null,null,null,null,null,{"$f":"SUMIF($G$19:$G$5015,$G20,$H$19:$H$5015)+SUMIF('2.bTë ardhura-jopublik-monetare'!$G$19:$G$1015,'2.cTë ardhura-jopublik-nënatyrë'!$G20,'2.bTë ardhura-jopublik-monetare'!$H$19:$H$1015)","v":0}]
[null,null,null,null,null,null,null,null,null,{"$f":"SUMIF($G$19:$G$5015,$G21,$H$19:$H$5015)+SUMIF('2.bTë ardhura-jopublik-monetare'!$G$19:$G$1015,'2.cTë ardhura-jopublik-nënatyrë'!$G21,'2.bTë ardhura-jopublik-monetare'!$H$19:$H$1015)","v":0}]
[null,null,null,null,null,null,null,null,null,{"$f":"SUMIF($G$19:$G$5015,$G22,$H$19:$H$5015)+SUMIF('2.bTë ardhura-jopublik-monetare'!$G$19:$G$1015,'2.cTë ardhura-jopublik-nënatyrë'!$G22,'2.bTë ardhura-jopublik-monetare'!$H$19:$H$1015)","v":0}]
[null,null,null,null,null,null,null,null,null,{"$f":"SUMIF($G$19:$G$5015,$G23,$H$19:$H$5015)+SUMIF('2.bTë ardhura-jopublik-monetare'!$G$19:$G$1015,'2.cTë ardhura-jopublik-nënatyrë'!$G23,'2.bTë ardhura-jopublik-monetare'!$H$19:$H$1015)","v":0}]
[null,null,null,null,null,null,null,null,null,{"$f":"SUMIF($G$19:$G$5015,$G24,$H$19:$H$5015)+SUMIF('2.bTë ardhura-jopublik-monetare'!$G$19:$G$1015,'2.cTë ardhura-jopublik-nënatyrë'!$G24,'2.bTë ardhura-jopublik-monetare'!$H$19:$H$1015)","v":0}]
[null,null,null,null,null,null,null,null,null,{"$f":"SUMIF($G$19:$G$5015,$G25,$H$19:$H$5015)+SUMIF('2.bTë ardhura-jopublik-monetare'!$G$19:$G$1015,'2.cTë ardhura-jopublik-nënatyrë'!$G25,'2.bTë ardhura-jopublik-monetare'!$H$19:$H$1015)","v":0}]
[null,null,null,null,null,null,null,null,null,{"$f":"SUMIF($G$19:$G$5015,$G26,$H$19:$H$5015)+SUMIF('2.bTë ardhura-jopublik-monetare'!$G$19:$G$1015,'2.cTë ardhura-jopublik-nënatyrë'!$G26,'2.bTë ardhura-jopublik-monetare'!$H$19:$H$1015)","v":0}]
[null,null,null,null,null,null,null,null,null,{"$f":"SUMIF($G$19:$G$5015,$G27,$H$19:$H$5015)+SUMIF('2.bTë ardhura-jopublik-monetare'!$G$19:$G$1015,'2.cTë ardhura-jopublik-nënatyrë'!$G27,'2.bTë ardhura-jopublik-monetare'!$H$19:$H$1015)","v":0}]
[null,null,null,null,null,null,null,null,null,{"$f":"SUMIF($G$19:$G$5015,$G28,$H$19:$H$5015)+SUMIF('2.bTë ardhura-jopublik-monetare'!$G$19:$G$1015,'2.cTë ardhura-jopublik-nënatyrë'!$G28,'2.bTë ardhura-jopublik-monetare'!$H$19:$H$1015)","v":0}]
[null,null,null,null,null,null,null,null,null,{"$f":"SUMIF($G$19:$G$5015,$G29,$H$19:$H$5015)+SUMIF('2.bTë ardhura-jopublik-monetare'!$G$19:$G$1015,'2.cTë ardhura-jopublik-nënatyrë'!$G29,'2.bTë ardhura-jopublik-monetare'!$H$19:$H$1015)","v":0}]
[null,null,null,null,null,null,null,null,null,{"$f":"SUMIF($G$19:$G$5015,$G30,$H$19:$H$5015)+SUMIF('2.bTë ardhura-jopublik-monetare'!$G$19:$G$1015,'2.cTë ardhura-jopublik-nënatyrë'!$G30,'2.bTë ardhura-jopublik-monetare'!$H$19:$H$1015)","v":0}]
[null,null,null,null,null,null,null,null,null,{"$f":"SUMIF($G$19:$G$5015,$G31,$H$19:$H$5015)+SUMIF('2.bTë ardhura-jopublik-monetare'!$G$19:$G$1015,'2.cTë ardhura-jopublik-nënatyrë'!$G31,'2.bTë ardhura-jopublik-monetare'!$H$19:$H$1015)","v":0}]
[null,null,null,null,null,null,null,null,null,{"$f":"SUMIF($G$19:$G$5015,$G32,$H$19:$H$5015)+SUMIF('2.bTë ardhura-jopublik-monetare'!$G$19:$G$1015,'2.cTë ardhura-jopublik-nënatyrë'!$G32,'2.bTë ardhura-jopublik-monetare'!$H$19:$H$1015)","v":0}]
[null,null,null,null,null,null,null,null,null,{"$f":"SUMIF($G$19:$G$5015,$G33,$H$19:$H$5015)+SUMIF('2.bTë ardhura-jopublik-monetare'!$G$19:$G$1015,'2.cTë ardhura-jopublik-nënatyrë'!$G33,'2.bTë ardhura-jopublik-monetare'!$H$19:$H$1015)","v":0}]
[null,null,null,null,null,null,null,null,null,{"$f":"SUMIF($G$19:$G$5015,$G34,$H$19:$H$5015)+SUMIF('2.bTë ardhura-jopublik-monetare'!$G$19:$G$1015,'2.cTë ardhura-jopublik-nënatyrë'!$G34,'2.bTë ardhura-jopublik-monetare'!$H$19:$H$1015)","v":0}]
[null,null,null,null,null,null,null,null,null,{"$f":"SUMIF($G$19:$G$5015,$G35,$H$19:$H$5015)+SUMIF('2.bTë ardhura-jopublik-monetare'!$G$19:$G$1015,'2.cTë ardhura-jopublik-nënatyrë'!$G35,'2.bTë ardhura-jopublik-monetare'!$H$19:$H$1015)","v":0}]
[null,null,null,null,null,null,null,null,null,{"$f":"SUMIF($G$19:$G$5015,$G36,$H$19:$H$5015)+SUMIF('2.bTë ardhura-jopublik-monetare'!$G$19:$G$1015,'2.cTë ardhura-jopublik-nënatyrë'!$G36,'2.bTë ardhura-jopublik-monetare'!$H$19:$H$1015)","v":0}]
[null,"FINANCIERI",null,null,null,"APROVUESI",null,null,null,{"$f":"SUMIF($G$19:$G$5015,$G37,$H$19:$H$5015)+SUMIF('2.bTë ardhura-jopublik-monetare'!$G$19:$G$1015,'2.cTë ardhura-jopublik-nënatyrë'!$G37,'2.bTë ardhura-jopublik-monetare'!$H$19:$H$1015)","v":0}]
[null,null,null,null,null,null,null,null,null,{"$f":"SUMIF($G$19:$G$5015,$G38,$H$19:$H$5015)+SUMIF('2.bTë ardhura-jopublik-monetare'!$G$19:$G$1015,'2.cTë ardhura-jopublik-nënatyrë'!$G38,'2.bTë ardhura-jopublik-monetare'!$H$19:$H$1015)","v":0}]
[null,null,null,null,null,null,null,null,null,{"$f":"SUMIF($G$19:$G$5015,$G39,$H$19:$H$5015)+SUMIF('2.bTë ardhura-jopublik-monetare'!$G$19:$G$1015,'2.cTë ardhura-jopublik-nënatyrë'!$G39,'2.bTë ardhura-jopublik-monetare'!$H$19:$H$1015)","v":0}]
[null,"Emër Mbiemër Firmë",null,null,null,"Emër Mbiemër Firmë",null,null,null,{"$f":"SUMIF($G$19:$G$5015,$G40,$H$19:$H$5015)+SUMIF('2.bTë ardhura-jopublik-monetare'!$G$19:$G$1015,'2.cTë ardhura-jopublik-nënatyrë'!$G40,'2.bTë ardhura-jopublik-monetare'!$H$19:$H$1015)","v":0}]
[null,null,null,null,null,null,null,null,null,{"$f":"SUMIF($G$19:$G$5015,$G41,$H$19:$H$5015)+SUMIF('2.bTë ardhura-jopublik-monetare'!$G$19:$G$1015,'2.cTë ardhura-jopublik-nënatyrë'!$G41,'2.bTë ardhura-jopublik-monetare'!$H$19:$H$1015)","v":0}]
[null,null,null,null,null,null,null,null,null,{"$f":"SUMIF($G$19:$G$5015,$G42,$H$19:$H$5015)+SUMIF('2.bTë ardhura-jopublik-monetare'!$G$19:$G$1015,'2.cTë ardhura-jopublik-nënatyrë'!$G42,'2.bTë ardhura-jopublik-monetare'!$H$19:$H$1015)","v":0}]
[null,null,null,null,null,null,null,null,null,{"$f":"SUMIF($G$19:$G$5015,$G43,$H$19:$H$5015)+SUMIF('2.bTë ardhura-jopublik-monetare'!$G$19:$G$1015,'2.cTë ardhura-jopublik-nënatyrë'!$G43,'2.bTë ardhura-jopublik-monetare'!$H$19:$H$1015)","v":0}]
[null,null,null,null,null,null,null,null,null,{"$f":"SUMIF($G$19:$G$5015,$G44,$H$19:$H$5015)+SUMIF('2.bTë ardhura-jopublik-monetare'!$G$19:$G$1015,'2.cTë ardhura-jopublik-nënatyrë'!$G44,'2.bTë ardhura-jopublik-monetare'!$H$19:$H$1015)","v":0}]
[null,null,null,null,null,null,null,null,null,{"$f":"SUMIF($G$19:$G$5015,$G45,$H$19:$H$5015)+SUMIF('2.bTë ardhura-jopublik-monetare'!$G$19:$G$1015,'2.cTë ardhura-jopublik-nënatyrë'!$G45,'2.bTë ardhura-jopublik-monetare'!$H$19:$H$1015)","v":0}]
[null,null,null,null,null,null,null,null,null,{"$f":"SUMIF($G$19:$G$5015,$G46,$H$19:$H$5015)+SUMIF('2.bTë ardhura-jopublik-monetare'!$G$19:$G$1015,'2.cTë ardhura-jopublik-nënatyrë'!$G46,'2.bTë ardhura-jopublik-monetare'!$H$19:$H$1015)","v":0}]
[null,null,null,null,null,null,null,null,null,{"$f":"SUMIF($G$19:$G$5015,$G47,$H$19:$H$5015)+SUMIF('2.bTë ardhura-jopublik-monetare'!$G$19:$G$1015,'2.cTë ardhura-jopublik-nënatyrë'!$G47,'2.bTë ardhura-jopublik-monetare'!$H$19:$H$1015)","v":0}]
[null,null,null,null,null,null,null,null,null,{"$f":"SUMIF($G$19:$G$5015,$G48,$H$19:$H$5015)+SUMIF('2.bTë ardhura-jopublik-monetare'!$G$19:$G$1015,'2.cTë ardhura-jopublik-nënatyrë'!$G48,'2.bTë ardhura-jopublik-monetare'!$H$19:$H$1015)","v":0}]
[null,null,null,null,null,null,null,null,null,{"$f":"SUMIF($G$19:$G$5015,$G49,$H$19:$H$5015)+SUMIF('2.bTë ardhura-jopublik-monetare'!$G$19:$G$1015,'2.cTë ardhura-jopublik-nënatyrë'!$G49,'2.bTë ardhura-jopublik-monetare'!$H$19:$H$1015)","v":0}]
[null,null,null,null,null,null,null,null,null,{"$f":"SUMIF($G$19:$G$5015,$G50,$H$19:$H$5015)+SUMIF('2.bTë ardhura-jopublik-monetare'!$G$19:$G$1015,'2.cTë ardhura-jopublik-nënatyrë'!$G50,'2.bTë ardhura-jopublik-monetare'!$H$19:$H$1015)","v":0}]
[null,null,null,null,null,null,null,null,null,{"$f":"SUMIF($G$19:$G$5015,$G51,$H$19:$H$5015)+SUMIF('2.bTë ardhura-jopublik-monetare'!$G$19:$G$1015,'2.cTë ardhura-jopublik-nënatyrë'!$G51,'2.bTë ardhura-jopublik-monetare'!$H$19:$H$1015)","v":0}]
[null,null,null,null,null,null,null,null,null,{"$f":"SUMIF($G$19:$G$5015,$G52,$H$19:$H$5015)+SUMIF('2.bTë ardhura-jopublik-monetare'!$G$19:$G$1015,'2.cTë ardhura-jopublik-nënatyrë'!$G52,'2.bTë ardhura-jopublik-monetare'!$H$19:$H$1015)","v":0}]
[null,null,null,null,null,null,null,null,null,{"$f":"SUMIF($G$19:$G$5015,$G53,$H$19:$H$5015)+SUMIF('2.bTë ardhura-jopublik-monetare'!$G$19:$G$1015,'2.cTë ardhura-jopublik-nënatyrë'!$G53,'2.bTë ardhura-jopublik-monetare'!$H$19:$H$1015)","v":0}]
[null,null,null,null,null,null,null,null,null,{"$f":"SUMIF($G$19:$G$5015,$G54,$H$19:$H$5015)+SUMIF('2.bTë ardhura-jopublik-monetare'!$G$19:$G$1015,'2.cTë ardhura-jopublik-nënatyrë'!$G54,'2.bTë ardhura-jopublik-monetare'!$H$19:$H$1015)","v":0}]
[null,null,null,null,null,null,null,null,null,{"$f":"SUMIF($G$19:$G$5015,$G55,$H$19:$H$5015)+SUMIF('2.bTë ardhura-jopublik-monetare'!$G$19:$G$1015,'2.cTë ardhura-jopublik-nënatyrë'!$G55,'2.bTë ardhura-jopublik-monetare'!$H$19:$H$1015)","v":0}]
[null,null,null,null,null,null,null,null,null,{"$f":"SUMIF($G$19:$G$5015,$G56,$H$19:$H$5015)+SUMIF('2.bTë ardhura-jopublik-monetare'!$G$19:$G$1015,'2.cTë ardhura-jopublik-nënatyrë'!$G56,'2.bTë ardhura-jopublik-monetare'!$H$19:$H$1015)","v":0}]
[null,null,null,null,null,null,null,null,null,{"$f":"SUMIF($G$19:$G$5015,$G57,$H$19:$H$5015)+SUMIF('2.bTë ardhura-jopublik-monetare'!$G$19:$G$1015,'2.cTë ardhura-jopublik-nënatyrë'!$G57,'2.bTë ardhura-jopublik-monetare'!$H$19:$H$1015)","v":0}]
[null,null,null,null,null,null,null,null,null,{"$f":"SUMIF($G$19:$G$5015,$G58,$H$19:$H$5015)+SUMIF('2.bTë ardhura-jopublik-monetare'!$G$19:$G$1015,'2.cTë ardhura-jopublik-nënatyrë'!$G58,'2.bTë ardhura-jopublik-monetare'!$H$19:$H$1015)","v":0}]
[null,null,null,null,null,null,null,null,null,{"$f":"SUMIF($G$19:$G$5015,$G59,$H$19:$H$5015)+SUMIF('2.bTë ardhura-jopublik-monetare'!$G$19:$G$1015,'2.cTë ardhura-jopublik-nënatyrë'!$G59,'2.bTë ardhura-jopublik-monetare'!$H$19:$H$1015)","v":0}]
[null,null,null,null,null,null,null,null,null,{"$f":"SUMIF($G$19:$G$5015,$G60,$H$19:$H$5015)+SUMIF('2.bTë ardhura-jopublik-monetare'!$G$19:$G$1015,'2.cTë ardhura-jopublik-nënatyrë'!$G60,'2.bTë ardhura-jopublik-monetare'!$H$19:$H$1015)","v":0}]
[null,null,null,null,null,null,null,null,null,{"$f":"SUMIF($G$19:$G$5015,$G61,$H$19:$H$5015)+SUMIF('2.bTë ardhura-jopublik-monetare'!$G$19:$G$1015,'2.cTë ardhura-jopublik-nënatyrë'!$G61,'2.bTë ardhura-jopublik-monetare'!$H$19:$H$1015)","v":0}]
[null,null,null,null,null,null,null,null,null,{"$f":"SUMIF($G$19:$G$5015,$G62,$H$19:$H$5015)+SUMIF('2.bTë ardhura-jopublik-monetare'!$G$19:$G$1015,'2.cTë ardhura-jopublik-nënatyrë'!$G62,'2.bTë ardhura-jopublik-monetare'!$H$19:$H$1015)","v":0}]
[null,null,null,null,null,null,null,null,null,{"$f":"SUMIF($G$19:$G$5015,$G63,$H$19:$H$5015)+SUMIF('2.bTë ardhura-jopublik-monetare'!$G$19:$G$1015,'2.cTë ardhura-jopublik-nënatyrë'!$G63,'2.bTë ardhura-jopublik-monetare'!$H$19:$H$1015)","v":0}]
[null,null,null,null,null,null,null,null,null,{"$f":"SUMIF($G$19:$G$5015,$G64,$H$19:$H$5015)+SUMIF('2.bTë ardhura-jopublik-monetare'!$G$19:$G$1015,'2.cTë ardhura-jopublik-nënatyrë'!$G64,'2.bTë ardhura-jopublik-monetare'!$H$19:$H$1015)","v":0}]
[null,null,null,null,null,null,null,null,null,{"$f":"SUMIF($G$19:$G$5015,$G65,$H$19:$H$5015)+SUMIF('2.bTë ardhura-jopublik-monetare'!$G$19:$G$1015,'2.cTë ardhura-jopublik-nënatyrë'!$G65,'2.bTë ardhura-jopublik-monetare'!$H$19:$H$1015)","v":0}]
[null,null,null,null,null,null,null,null,null,{"$f":"SUMIF($G$19:$G$5015,$G66,$H$19:$H$5015)+SUMIF('2.bTë ardhura-jopublik-monetare'!$G$19:$G$1015,'2.cTë ardhura-jopublik-nënatyrë'!$G66,'2.bTë ardhura-jopublik-monetare'!$H$19:$H$1015)","v":0}]
[null,null,null,null,null,null,null,null,null,{"$f":"SUMIF($G$19:$G$5015,$G67,$H$19:$H$5015)+SUMIF('2.bTë ardhura-jopublik-monetare'!$G$19:$G$1015,'2.cTë ardhura-jopublik-nënatyrë'!$G67,'2.bTë ardhura-jopublik-monetare'!$H$19:$H$1015)","v":0}]
[null,null,null,null,null,null,null,null,null,{"$f":"SUMIF($G$19:$G$5015,$G68,$H$19:$H$5015)+SUMIF('2.bTë ardhura-jopublik-monetare'!$G$19:$G$1015,'2.cTë ardhura-jopublik-nënatyrë'!$G68,'2.bTë ardhura-jopublik-monetare'!$H$19:$H$1015)","v":0}]
[null,null,null,null,null,null,null,null,null,{"$f":"SUMIF($G$19:$G$5015,$G69,$H$19:$H$5015)+SUMIF('2.bTë ardhura-jopublik-monetare'!$G$19:$G$1015,'2.cTë ardhura-jopublik-nënatyrë'!$G69,'2.bTë ardhura-jopublik-monetare'!$H$19:$H$1015)","v":0}]
[null,null,null,null,null,null,null,null,null,{"$f":"SUMIF($G$19:$G$5015,$G70,$H$19:$H$5015)+SUMIF('2.bTë ardhura-jopublik-monetare'!$G$19:$G$1015,'2.cTë ardhura-jopublik-nënatyrë'!$G70,'2.bTë ardhura-jopublik-monetare'!$H$19:$H$1015)","v":0}]
[null,null,null,null,null,null,null,null,null,{"$f":"SUMIF($G$19:$G$5015,$G71,$H$19:$H$5015)+SUMIF('2.bTë ardhura-jopublik-monetare'!$G$19:$G$1015,'2.cTë ardhura-jopublik-nënatyrë'!$G71,'2.bTë ardhura-jopublik-monetare'!$H$19:$H$1015)","v":0}]
[null,null,null,null,null,null,null,null,null,{"$f":"SUMIF($G$19:$G$5015,$G72,$H$19:$H$5015)+SUMIF('2.bTë ardhura-jopublik-monetare'!$G$19:$G$1015,'2.cTë ardhura-jopublik-nënatyrë'!$G72,'2.bTë ardhura-jopublik-monetare'!$H$19:$H$1015)","v":0}]
[null,null,null,null,null,null,null,null,null,{"$f":"SUMIF($G$19:$G$5015,$G73,$H$19:$H$5015)+SUMIF('2.bTë ardhura-jopublik-monetare'!$G$19:$G$1015,'2.cTë ardhura-jopublik-nënatyrë'!$G73,'2.bTë ardhura-jopublik-monetare'!$H$19:$H$1015)","v":0}]
[null,null,null,null,null,null,null,null,null,{"$f":"SUMIF($G$19:$G$5015,$G74,$H$19:$H$5015)+SUMIF('2.bTë ardhura-jopublik-monetare'!$G$19:$G$1015,'2.cTë ardhura-jopublik-nënatyrë'!$G74,'2.bTë ardhura-jopublik-monetare'!$H$19:$H$1015)","v":0}]
[null,null,null,null,null,null,null,null,null,{"$f":"SUMIF($G$19:$G$5015,$G75,$H$19:$H$5015)+SUMIF('2.bTë ardhura-jopublik-monetare'!$G$19:$G$1015,'2.cTë ardhura-jopublik-nënatyrë'!$G75,'2.bTë ardhura-jopublik-monetare'!$H$19:$H$1015)","v":0}]
[null,null,null,null,null,null,null,null,null,{"$f":"SUMIF($G$19:$G$5015,$G76,$H$19:$H$5015)+SUMIF('2.bTë ardhura-jopublik-monetare'!$G$19:$G$1015,'2.cTë ardhura-jopublik-nënatyrë'!$G76,'2.bTë ardhura-jopublik-monetare'!$H$19:$H$1015)","v":0}]
[null,null,null,null,null,null,null,null,null,{"$f":"SUMIF($G$19:$G$5015,$G77,$H$19:$H$5015)+SUMIF('2.bTë ardhura-jopublik-monetare'!$G$19:$G$1015,'2.cTë ardhura-jopublik-nënatyrë'!$G77,'2.bTë ardhura-jopublik-monetare'!$H$19:$H$1015)","v":0}]
[null,null,null,null,null,null,null,null,null,{"$f":"SUMIF($G$19:$G$5015,$G78,$H$19:$H$5015)+SUMIF('2.bTë ardhura-jopublik-monetare'!$G$19:$G$1015,'2.cTë ardhura-jopublik-nënatyrë'!$G78,'2.bTë ardhura-jopublik-monetare'!$H$19:$H$1015)","v":0}]
[null,null,null,null,null,null,null,null,null,{"$f":"SUMIF($G$19:$G$5015,$G79,$H$19:$H$5015)+SUMIF('2.bTë ardhura-jopublik-monetare'!$G$19:$G$1015,'2.cTë ardhura-jopublik-nënatyrë'!$G79,'2.bTë ardhura-jopublik-monetare'!$H$19:$H$1015)","v":0}]
[null,null,null,null,null,null,null,null,null,{"$f":"SUMIF($G$19:$G$5015,$G80,$H$19:$H$5015)+SUMIF('2.bTë ardhura-jopublik-monetare'!$G$19:$G$1015,'2.cTë ardhura-jopublik-nënatyrë'!$G80,'2.bTë ardhura-jopublik-monetare'!$H$19:$H$1015)","v":0}]
[null,null,null,null,null,null,null,null,null,{"$f":"SUMIF($G$19:$G$5015,$G81,$H$19:$H$5015)+SUMIF('2.bTë ardhura-jopublik-monetare'!$G$19:$G$1015,'2.cTë ardhura-jopublik-nënatyrë'!$G81,'2.bTë ardhura-jopublik-monetare'!$H$19:$H$1015)","v":0}]
[null,null,null,null,null,null,null,null,null,{"$f":"SUMIF($G$19:$G$5015,$G82,$H$19:$H$5015)+SUMIF('2.bTë ardhura-jopublik-monetare'!$G$19:$G$1015,'2.cTë ardhura-jopublik-nënatyrë'!$G82,'2.bTë ardhura-jopublik-monetare'!$H$19:$H$1015)","v":0}]
[null,null,null,null,null,null,null,null,null,{"$f":"SUMIF($G$19:$G$5015,$G83,$H$19:$H$5015)+SUMIF('2.bTë ardhura-jopublik-monetare'!$G$19:$G$1015,'2.cTë ardhura-jopublik-nënatyrë'!$G83,'2.bTë ardhura-jopublik-monetare'!$H$19:$H$1015)","v":0}]
[null,null,null,null,null,null,null,null,null,{"$f":"SUMIF($G$19:$G$5015,$G84,$H$19:$H$5015)+SUMIF('2.bTë ardhura-jopublik-monetare'!$G$19:$G$1015,'2.cTë ardhura-jopublik-nënatyrë'!$G84,'2.bTë ardhura-jopublik-monetare'!$H$19:$H$1015)","v":0}]
[null,null,null,null,null,null,null,null,null,{"$f":"SUMIF($G$19:$G$5015,$G85,$H$19:$H$5015)+SUMIF('2.bTë ardhura-jopublik-monetare'!$G$19:$G$1015,'2.cTë ardhura-jopublik-nënatyrë'!$G85,'2.bTë ardhura-jopublik-monetare'!$H$19:$H$1015)","v":0}]
[null,null,null,null,null,null,null,null,null,{"$f":"SUMIF($G$19:$G$5015,$G86,$H$19:$H$5015)+SUMIF('2.bTë ardhura-jopublik-monetare'!$G$19:$G$1015,'2.cTë ardhura-jopublik-nënatyrë'!$G86,'2.bTë ardhura-jopublik-monetare'!$H$19:$H$1015)","v":0}]
[null,null,null,null,null,null,null,null,null,{"$f":"SUMIF($G$19:$G$5015,$G87,$H$19:$H$5015)+SUMIF('2.bTë ardhura-jopublik-monetare'!$G$19:$G$1015,'2.cTë ardhura-jopublik-nënatyrë'!$G87,'2.bTë ardhura-jopublik-monetare'!$H$19:$H$1015)","v":0}]
[null,null,null,null,null,null,null,null,null,{"$f":"SUMIF($G$19:$G$5015,$G88,$H$19:$H$5015)+SUMIF('2.bTë ardhura-jopublik-monetare'!$G$19:$G$1015,'2.cTë ardhura-jopublik-nënatyrë'!$G88,'2.bTë ardhura-jopublik-monetare'!$H$19:$H$1015)","v":0}]
[null,null,null,null,null,null,null,null,null,{"$f":"SUMIF($G$19:$G$5015,$G89,$H$19:$H$5015)+SUMIF('2.bTë ardhura-jopublik-monetare'!$G$19:$G$1015,'2.cTë ardhura-jopublik-nënatyrë'!$G89,'2.bTë ardhura-jopublik-monetare'!$H$19:$H$1015)","v":0}]
[null,null,null,null,null,null,null,null,null,{"$f":"SUMIF($G$19:$G$5015,$G90,$H$19:$H$5015)+SUMIF('2.bTë ardhura-jopublik-monetare'!$G$19:$G$1015,'2.cTë ardhura-jopublik-nënatyrë'!$G90,'2.bTë ardhura-jopublik-monetare'!$H$19:$H$1015)","v":0}]
[null,null,null,null,null,null,null,null,null,{"$f":"SUMIF($G$19:$G$5015,$G91,$H$19:$H$5015)+SUMIF('2.bTë ardhura-jopublik-monetare'!$G$19:$G$1015,'2.cTë ardhura-jopublik-nënatyrë'!$G91,'2.bTë ardhura-jopublik-monetare'!$H$19:$H$1015)","v":0}]
[null,null,null,null,null,null,null,null,null,{"$f":"SUMIF($G$19:$G$5015,$G92,$H$19:$H$5015)+SUMIF('2.bTë ardhura-jopublik-monetare'!$G$19:$G$1015,'2.cTë ardhura-jopublik-nënatyrë'!$G92,'2.bTë ardhura-jopublik-monetare'!$H$19:$H$1015)","v":0}]
[null,null,null,null,null,null,null,null,null,{"$f":"SUMIF($G$19:$G$5015,$G93,$H$19:$H$5015)+SUMIF('2.bTë ardhura-jopublik-monetare'!$G$19:$G$1015,'2.cTë ardhura-jopublik-nënatyrë'!$G93,'2.bTë ardhura-jopublik-monetare'!$H$19:$H$1015)","v":0}]
[null,null,null,null,null,null,null,null,null,{"$f":"SUMIF($G$19:$G$5015,$G94,$H$19:$H$5015)+SUMIF('2.bTë ardhura-jopublik-monetare'!$G$19:$G$1015,'2.cTë ardhura-jopublik-nënatyrë'!$G94,'2.bTë ardhura-jopublik-monetare'!$H$19:$H$1015)","v":0}]
[null,null,null,null,null,null,null,null,null,{"$f":"SUMIF($G$19:$G$5015,$G95,$H$19:$H$5015)+SUMIF('2.bTë ardhura-jopublik-monetare'!$G$19:$G$1015,'2.cTë ardhura-jopublik-nënatyrë'!$G95,'2.bTë ardhura-jopublik-monetare'!$H$19:$H$1015)","v":0}]
[null,null,null,null,null,null,null,null,null,{"$f":"SUMIF($G$19:$G$5015,$G96,$H$19:$H$5015)+SUMIF('2.bTë ardhura-jopublik-monetare'!$G$19:$G$1015,'2.cTë ardhura-jopublik-nënatyrë'!$G96,'2.bTë ardhura-jopublik-monetare'!$H$19:$H$1015)","v":0}]
[null,null,null,null,null,null,null,null,null,{"$f":"SUMIF($G$19:$G$5015,$G97,$H$19:$H$5015)+SUMIF('2.bTë ardhura-jopublik-monetare'!$G$19:$G$1015,'2.cTë ardhura-jopublik-nënatyrë'!$G97,'2.bTë ardhura-jopublik-monetare'!$H$19:$H$1015)","v":0}]
[null,null,null,null,null,null,null,null,null,{"$f":"SUMIF($G$19:$G$5015,$G98,$H$19:$H$5015)+SUMIF('2.bTë ardhura-jopublik-monetare'!$G$19:$G$1015,'2.cTë ardhura-jopublik-nënatyrë'!$G98,'2.bTë ardhura-jopublik-monetare'!$H$19:$H$1015)","v":0}]
[null,null,null,null,null,null,null,null,null,{"$f":"SUMIF($G$19:$G$5015,$G99,$H$19:$H$5015)+SUMIF('2.bTë ardhura-jopublik-monetare'!$G$19:$G$1015,'2.cTë ardhura-jopublik-nënatyrë'!$G99,'2.bTë ardhura-jopublik-monetare'!$H$19:$H$1015)","v":0}]
[null,null,null,null,null,null,null,null,null,{"$f":"SUMIF($G$19:$G$5015,$G100,$H$19:$H$5015)+SUMIF('2.bTë ardhura-jopublik-monetare'!$G$19:$G$1015,'2.cTë ardhura-jopublik-nënatyrë'!$G100,'2.bTë ardhura-jopublik-monetare'!$H$19:$H$1015)","v":0}]
[null,null,null,null,null,null,null,null,null,{"$f":"SUMIF($G$19:$G$5015,$G101,$H$19:$H$5015)+SUMIF('2.bTë ardhura-jopublik-monetare'!$G$19:$G$1015,'2.cTë ardhura-jopublik-nënatyrë'!$G101,'2.bTë ardhura-jopublik-monetare'!$H$19:$H$1015)","v":0}]
[null,null,null,null,null,null,null,null,null,{"$f":"SUMIF($G$19:$G$5015,$G102,$H$19:$H$5015)+SUMIF('2.bTë ardhura-jopublik-monetare'!$G$19:$G$1015,'2.cTë ardhura-jopublik-nënatyrë'!$G102,'2.bTë ardhura-jopublik-monetare'!$H$19:$H$1015)","v":0}]
[null,null,null,null,null,null,null,null,null,{"$f":"SUMIF($G$19:$G$5015,$G103,$H$19:$H$5015)+SUMIF('2.bTë ardhura-jopublik-monetare'!$G$19:$G$1015,'2.cTë ardhura-jopublik-nënatyrë'!$G103,'2.bTë ardhura-jopublik-monetare'!$H$19:$H$1015)","v":0}]
[null,null,null,null,null,null,null,null,null,{"$f":"SUMIF($G$19:$G$5015,$G104,$H$19:$H$5015)+SUMIF('2.bTë ardhura-jopublik-monetare'!$G$19:$G$1015,'2.cTë ardhura-jopublik-nënatyrë'!$G104,'2.bTë ardhura-jopublik-monetare'!$H$19:$H$1015)","v":0}]
[null,null,null,null,null,null,null,null,null,{"$f":"SUMIF($G$19:$G$5015,$G105,$H$19:$H$5015)+SUMIF('2.bTë ardhura-jopublik-monetare'!$G$19:$G$1015,'2.cTë ardhura-jopublik-nënatyrë'!$G105,'2.bTë ardhura-jopublik-monetare'!$H$19:$H$1015)","v":0}]
[null,null,null,null,null,null,null,null,null,{"$f":"SUMIF($G$19:$G$5015,$G106,$H$19:$H$5015)+SUMIF('2.bTë ardhura-jopublik-monetare'!$G$19:$G$1015,'2.cTë ardhura-jopublik-nënatyrë'!$G106,'2.bTë ardhura-jopublik-monetare'!$H$19:$H$1015)","v":0}]
[null,null,null,null,null,null,null,null,null,{"$f":"SUMIF($G$19:$G$5015,$G107,$H$19:$H$5015)+SUMIF('2.bTë ardhura-jopublik-monetare'!$G$19:$G$1015,'2.cTë ardhura-jopublik-nënatyrë'!$G107,'2.bTë ardhura-jopublik-monetare'!$H$19:$H$1015)","v":0}]
[null,null,null,null,null,null,null,null,null,{"$f":"SUMIF($G$19:$G$5015,$G108,$H$19:$H$5015)+SUMIF('2.bTë ardhura-jopublik-monetare'!$G$19:$G$1015,'2.cTë ardhura-jopublik-nënatyrë'!$G108,'2.bTë ardhura-jopublik-monetare'!$H$19:$H$1015)","v":0}]
[null,null,null,null,null,null,null,null,null,{"$f":"SUMIF($G$19:$G$5015,$G109,$H$19:$H$5015)+SUMIF('2.bTë ardhura-jopublik-monetare'!$G$19:$G$1015,'2.cTë ardhura-jopublik-nënatyrë'!$G109,'2.bTë ardhura-jopublik-monetare'!$H$19:$H$1015)","v":0}]
[null,null,null,null,null,null,null,null,null,{"$f":"SUMIF($G$19:$G$5015,$G110,$H$19:$H$5015)+SUMIF('2.bTë ardhura-jopublik-monetare'!$G$19:$G$1015,'2.cTë ardhura-jopublik-nënatyrë'!$G110,'2.bTë ardhura-jopublik-monetare'!$H$19:$H$1015)","v":0}]
[null,null,null,null,null,null,null,null,null,{"$f":"SUMIF($G$19:$G$5015,$G111,$H$19:$H$5015)+SUMIF('2.bTë ardhura-jopublik-monetare'!$G$19:$G$1015,'2.cTë ardhura-jopublik-nënatyrë'!$G111,'2.bTë ardhura-jopublik-monetare'!$H$19:$H$1015)","v":0}]
[null,null,null,null,null,null,null,null,null,{"$f":"SUMIF($G$19:$G$5015,$G112,$H$19:$H$5015)+SUMIF('2.bTë ardhura-jopublik-monetare'!$G$19:$G$1015,'2.cTë ardhura-jopublik-nënatyrë'!$G112,'2.bTë ardhura-jopublik-monetare'!$H$19:$H$1015)","v":0}]
[null,null,null,null,null,null,null,null,null,{"$f":"SUMIF($G$19:$G$5015,$G113,$H$19:$H$5015)+SUMIF('2.bTë ardhura-jopublik-monetare'!$G$19:$G$1015,'2.cTë ardhura-jopublik-nënatyrë'!$G113,'2.bTë ardhura-jopublik-monetare'!$H$19:$H$1015)","v":0}]
[null,null,null,null,null,null,null,null,null,{"$f":"SUMIF($G$19:$G$5015,$G114,$H$19:$H$5015)+SUMIF('2.bTë ardhura-jopublik-monetare'!$G$19:$G$1015,'2.cTë ardhura-jopublik-nënatyrë'!$G114,'2.bTë ardhura-jopublik-monetare'!$H$19:$H$1015)","v":0}]
[null,null,null,null,null,null,null,null,null,{"$f":"SUMIF($G$19:$G$5015,$G115,$H$19:$H$5015)+SUMIF('2.bTë ardhura-jopublik-monetare'!$G$19:$G$1015,'2.cTë ardhura-jopublik-nënatyrë'!$G115,'2.bTë ardhura-jopublik-monetare'!$H$19:$H$1015)","v":0}]
[null,null,null,null,null,null,null,null,null,{"$f":"SUMIF($G$19:$G$5015,$G116,$H$19:$H$5015)+SUMIF('2.bTë ardhura-jopublik-monetare'!$G$19:$G$1015,'2.cTë ardhura-jopublik-nënatyrë'!$G116,'2.bTë ardhura-jopublik-monetare'!$H$19:$H$1015)","v":0}]
[null,null,null,null,null,null,null,null,null,{"$f":"SUMIF($G$19:$G$5015,$G117,$H$19:$H$5015)+SUMIF('2.bTë ardhura-jopublik-monetare'!$G$19:$G$1015,'2.cTë ardhura-jopublik-nënatyrë'!$G117,'2.bTë ardhura-jopublik-monetare'!$H$19:$H$1015)","v":0}]
[null,null,null,null,null,null,null,null,null,{"$f":"SUMIF($G$19:$G$5015,$G118,$H$19:$H$5015)+SUMIF('2.bTë ardhura-jopublik-monetare'!$G$19:$G$1015,'2.cTë ardhura-jopublik-nënatyrë'!$G118,'2.bTë ardhura-jopublik-monetare'!$H$19:$H$1015)","v":0}]
[null,null,null,null,null,null,null,null,null,{"$f":"SUMIF($G$19:$G$5015,$G119,$H$19:$H$5015)+SUMIF('2.bTë ardhura-jopublik-monetare'!$G$19:$G$1015,'2.cTë ardhura-jopublik-nënatyrë'!$G119,'2.bTë ardhura-jopublik-monetare'!$H$19:$H$1015)","v":0}]
[null,null,null,null,null,null,null,null,null,{"$f":"SUMIF($G$19:$G$5015,$G120,$H$19:$H$5015)+SUMIF('2.bTë ardhura-jopublik-monetare'!$G$19:$G$1015,'2.cTë ardhura-jopublik-nënatyrë'!$G120,'2.bTë ardhura-jopublik-monetare'!$H$19:$H$1015)","v":0}]
[null,null,null,null,null,null,null,null,null,{"$f":"SUMIF($G$19:$G$5015,$G121,$H$19:$H$5015)+SUMIF('2.bTë ardhura-jopublik-monetare'!$G$19:$G$1015,'2.cTë ardhura-jopublik-nënatyrë'!$G121,'2.bTë ardhura-jopublik-monetare'!$H$19:$H$1015)","v":0}]
[null,null,null,null,null,null,null,null,null,{"$f":"SUMIF($G$19:$G$5015,$G122,$H$19:$H$5015)+SUMIF('2.bTë ardhura-jopublik-monetare'!$G$19:$G$1015,'2.cTë ardhura-jopublik-nënatyrë'!$G122,'2.bTë ardhura-jopublik-monetare'!$H$19:$H$1015)","v":0}]
[null,null,null,null,null,null,null,null,null,{"$f":"SUMIF($G$19:$G$5015,$G123,$H$19:$H$5015)+SUMIF('2.bTë ardhura-jopublik-monetare'!$G$19:$G$1015,'2.cTë ardhura-jopublik-nënatyrë'!$G123,'2.bTë ardhura-jopublik-monetare'!$H$19:$H$1015)","v":0}]
[null,null,null,null,null,null,null,null,null,{"$f":"SUMIF($G$19:$G$5015,$G124,$H$19:$H$5015)+SUMIF('2.bTë ardhura-jopublik-monetare'!$G$19:$G$1015,'2.cTë ardhura-jopublik-nënatyrë'!$G124,'2.bTë ardhura-jopublik-monetare'!$H$19:$H$1015)","v":0}]
[null,null,null,null,null,null,null,null,null,{"$f":"SUMIF($G$19:$G$5015,$G125,$H$19:$H$5015)+SUMIF('2.bTë ardhura-jopublik-monetare'!$G$19:$G$1015,'2.cTë ardhura-jopublik-nënatyrë'!$G125,'2.bTë ardhura-jopublik-monetare'!$H$19:$H$1015)","v":0}]
[null,null,null,null,null,null,null,null,null,{"$f":"SUMIF($G$19:$G$5015,$G126,$H$19:$H$5015)+SUMIF('2.bTë ardhura-jopublik-monetare'!$G$19:$G$1015,'2.cTë ardhura-jopublik-nënatyrë'!$G126,'2.bTë ardhura-jopublik-monetare'!$H$19:$H$1015)","v":0}]
[null,null,null,null,null,null,null,null,null,{"$f":"SUMIF($G$19:$G$5015,$G127,$H$19:$H$5015)+SUMIF('2.bTë ardhura-jopublik-monetare'!$G$19:$G$1015,'2.cTë ardhura-jopublik-nënatyrë'!$G127,'2.bTë ardhura-jopublik-monetare'!$H$19:$H$1015)","v":0}]
[null,null,null,null,null,null,null,null,null,{"$f":"SUMIF($G$19:$G$5015,$G128,$H$19:$H$5015)+SUMIF('2.bTë ardhura-jopublik-monetare'!$G$19:$G$1015,'2.cTë ardhura-jopublik-nënatyrë'!$G128,'2.bTë ardhura-jopublik-monetare'!$H$19:$H$1015)","v":0}]
[null,null,null,null,null,null,null,null,null,{"$f":"SUMIF($G$19:$G$5015,$G129,$H$19:$H$5015)+SUMIF('2.bTë ardhura-jopublik-monetare'!$G$19:$G$1015,'2.cTë ardhura-jopublik-nënatyrë'!$G129,'2.bTë ardhura-jopublik-monetare'!$H$19:$H$1015)","v":0}]
[null,null,null,null,null,null,null,null,null,{"$f":"SUMIF($G$19:$G$5015,$G130,$H$19:$H$5015)+SUMIF('2.bTë ardhura-jopublik-monetare'!$G$19:$G$1015,'2.cTë ardhura-jopublik-nënatyrë'!$G130,'2.bTë ardhura-jopublik-monetare'!$H$19:$H$1015)","v":0}]
[null,null,null,null,null,null,null,null,null,{"$f":"SUMIF($G$19:$G$5015,$G131,$H$19:$H$5015)+SUMIF('2.bTë ardhura-jopublik-monetare'!$G$19:$G$1015,'2.cTë ardhura-jopublik-nënatyrë'!$G131,'2.bTë ardhura-jopublik-monetare'!$H$19:$H$1015)","v":0}]
[null,null,null,null,null,null,null,null,null,{"$f":"SUMIF($G$19:$G$5015,$G132,$H$19:$H$5015)+SUMIF('2.bTë ardhura-jopublik-monetare'!$G$19:$G$1015,'2.cTë ardhura-jopublik-nënatyrë'!$G132,'2.bTë ardhura-jopublik-monetare'!$H$19:$H$1015)","v":0}]
[null,null,null,null,null,null,null,null,null,{"$f":"SUMIF($G$19:$G$5015,$G133,$H$19:$H$5015)+SUMIF('2.bTë ardhura-jopublik-monetare'!$G$19:$G$1015,'2.cTë ardhura-jopublik-nënatyrë'!$G133,'2.bTë ardhura-jopublik-monetare'!$H$19:$H$1015)","v":0}]
[null,null,null,null,null,null,null,null,null,{"$f":"SUMIF($G$19:$G$5015,$G134,$H$19:$H$5015)+SUMIF('2.bTë ardhura-jopublik-monetare'!$G$19:$G$1015,'2.cTë ardhura-jopublik-nënatyrë'!$G134,'2.bTë ardhura-jopublik-monetare'!$H$19:$H$1015)","v":0}]
[null,null,null,null,null,null,null,null,null,{"$f":"SUMIF($G$19:$G$5015,$G135,$H$19:$H$5015)+SUMIF('2.bTë ardhura-jopublik-monetare'!$G$19:$G$1015,'2.cTë ardhura-jopublik-nënatyrë'!$G135,'2.bTë ardhura-jopublik-monetare'!$H$19:$H$1015)","v":0}]
[null,null,null,null,null,null,null,null,null,{"$f":"SUMIF($G$19:$G$5015,$G136,$H$19:$H$5015)+SUMIF('2.bTë ardhura-jopublik-monetare'!$G$19:$G$1015,'2.cTë ardhura-jopublik-nënatyrë'!$G136,'2.bTë ardhura-jopublik-monetare'!$H$19:$H$1015)","v":0}]
[null,null,null,null,null,null,null,null,null,{"$f":"SUMIF($G$19:$G$5015,$G137,$H$19:$H$5015)+SUMIF('2.bTë ardhura-jopublik-monetare'!$G$19:$G$1015,'2.cTë ardhura-jopublik-nënatyrë'!$G137,'2.bTë ardhura-jopublik-monetare'!$H$19:$H$1015)","v":0}]
[null,null,null,null,null,null,null,null,null,{"$f":"SUMIF($G$19:$G$5015,$G138,$H$19:$H$5015)+SUMIF('2.bTë ardhura-jopublik-monetare'!$G$19:$G$1015,'2.cTë ardhura-jopublik-nënatyrë'!$G138,'2.bTë ardhura-jopublik-monetare'!$H$19:$H$1015)","v":0}]
[null,null,null,null,null,null,null,null,null,{"$f":"SUMIF($G$19:$G$5015,$G139,$H$19:$H$5015)+SUMIF('2.bTë ardhura-jopublik-monetare'!$G$19:$G$1015,'2.cTë ardhura-jopublik-nënatyrë'!$G139,'2.bTë ardhura-jopublik-monetare'!$H$19:$H$1015)","v":0}]
[null,null,null,null,null,null,null,null,null,{"$f":"SUMIF($G$19:$G$5015,$G140,$H$19:$H$5015)+SUMIF('2.bTë ardhura-jopublik-monetare'!$G$19:$G$1015,'2.cTë ardhura-jopublik-nënatyrë'!$G140,'2.bTë ardhura-jopublik-monetare'!$H$19:$H$1015)","v":0}]
[null,null,null,null,null,null,null,null,null,{"$f":"SUMIF($G$19:$G$5015,$G141,$H$19:$H$5015)+SUMIF('2.bTë ardhura-jopublik-monetare'!$G$19:$G$1015,'2.cTë ardhura-jopublik-nënatyrë'!$G141,'2.bTë ardhura-jopublik-monetare'!$H$19:$H$1015)","v":0}]
[null,null,null,null,null,null,null,null,null,{"$f":"SUMIF($G$19:$G$5015,$G142,$H$19:$H$5015)+SUMIF('2.bTë ardhura-jopublik-monetare'!$G$19:$G$1015,'2.cTë ardhura-jopublik-nënatyrë'!$G142,'2.bTë ardhura-jopublik-monetare'!$H$19:$H$1015)","v":0}]
[null,null,null,null,null,null,null,null,null,{"$f":"SUMIF($G$19:$G$5015,$G143,$H$19:$H$5015)+SUMIF('2.bTë ardhura-jopublik-monetare'!$G$19:$G$1015,'2.cTë ardhura-jopublik-nënatyrë'!$G143,'2.bTë ardhura-jopublik-monetare'!$H$19:$H$1015)","v":0}]
[null,null,null,null,null,null,null,null,null,{"$f":"SUMIF($G$19:$G$5015,$G144,$H$19:$H$5015)+SUMIF('2.bTë ardhura-jopublik-monetare'!$G$19:$G$1015,'2.cTë ardhura-jopublik-nënatyrë'!$G144,'2.bTë ardhura-jopublik-monetare'!$H$19:$H$1015)","v":0}]
[null,null,null,null,null,null,null,null,null,{"$f":"SUMIF($G$19:$G$5015,$G145,$H$19:$H$5015)+SUMIF('2.bTë ardhura-jopublik-monetare'!$G$19:$G$1015,'2.cTë ardhura-jopublik-nënatyrë'!$G145,'2.bTë ardhura-jopublik-monetare'!$H$19:$H$1015)","v":0}]
[null,null,null,null,null,null,null,null,null,{"$f":"SUMIF($G$19:$G$5015,$G146,$H$19:$H$5015)+SUMIF('2.bTë ardhura-jopublik-monetare'!$G$19:$G$1015,'2.cTë ardhura-jopublik-nënatyrë'!$G146,'2.bTë ardhura-jopublik-monetare'!$H$19:$H$1015)","v":0}]
[null,null,null,null,null,null,null,null,null,{"$f":"SUMIF($G$19:$G$5015,$G147,$H$19:$H$5015)+SUMIF('2.bTë ardhura-jopublik-monetare'!$G$19:$G$1015,'2.cTë ardhura-jopublik-nënatyrë'!$G147,'2.bTë ardhura-jopublik-monetare'!$H$19:$H$1015)","v":0}]
[null,null,null,null,null,null,null,null,null,{"$f":"SUMIF($G$19:$G$5015,$G148,$H$19:$H$5015)+SUMIF('2.bTë ardhura-jopublik-monetare'!$G$19:$G$1015,'2.cTë ardhura-jopublik-nënatyrë'!$G148,'2.bTë ardhura-jopublik-monetare'!$H$19:$H$1015)","v":0}]
[null,null,null,null,null,null,null,null,null,{"$f":"SUMIF($G$19:$G$5015,$G149,$H$19:$H$5015)+SUMIF('2.bTë ardhura-jopublik-monetare'!$G$19:$G$1015,'2.cTë ardhura-jopublik-nënatyrë'!$G149,'2.bTë ardhura-jopublik-monetare'!$H$19:$H$1015)","v":0}]
[null,null,null,null,null,null,null,null,null,{"$f":"SUMIF($G$19:$G$5015,$G150,$H$19:$H$5015)+SUMIF('2.bTë ardhura-jopublik-monetare'!$G$19:$G$1015,'2.cTë ardhura-jopublik-nënatyrë'!$G150,'2.bTë ardhura-jopublik-monetare'!$H$19:$H$1015)","v":0}]
[null,null,null,null,null,null,null,null,null,{"$f":"SUMIF($G$19:$G$5015,$G151,$H$19:$H$5015)+SUMIF('2.bTë ardhura-jopublik-monetare'!$G$19:$G$1015,'2.cTë ardhura-jopublik-nënatyrë'!$G151,'2.bTë ardhura-jopublik-monetare'!$H$19:$H$1015)","v":0}]
[null,null,null,null,null,null,null,null,null,{"$f":"SUMIF($G$19:$G$5015,$G152,$H$19:$H$5015)+SUMIF('2.bTë ardhura-jopublik-monetare'!$G$19:$G$1015,'2.cTë ardhura-jopublik-nënatyrë'!$G152,'2.bTë ardhura-jopublik-monetare'!$H$19:$H$1015)","v":0}]
[null,null,null,null,null,null,null,null,null,{"$f":"SUMIF($G$19:$G$5015,$G153,$H$19:$H$5015)+SUMIF('2.bTë ardhura-jopublik-monetare'!$G$19:$G$1015,'2.cTë ardhura-jopublik-nënatyrë'!$G153,'2.bTë ardhura-jopublik-monetare'!$H$19:$H$1015)","v":0}]
[null,null,null,null,null,null,null,null,null,{"$f":"SUMIF($G$19:$G$5015,$G154,$H$19:$H$5015)+SUMIF('2.bTë ardhura-jopublik-monetare'!$G$19:$G$1015,'2.cTë ardhura-jopublik-nënatyrë'!$G154,'2.bTë ardhura-jopublik-monetare'!$H$19:$H$1015)","v":0}]
[null,null,null,null,null,null,null,null,null,{"$f":"SUMIF($G$19:$G$5015,$G155,$H$19:$H$5015)+SUMIF('2.bTë ardhura-jopublik-monetare'!$G$19:$G$1015,'2.cTë ardhura-jopublik-nënatyrë'!$G155,'2.bTë ardhura-jopublik-monetare'!$H$19:$H$1015)","v":0}]
[null,null,null,null,null,null,null,null,null,{"$f":"SUMIF($G$19:$G$5015,$G156,$H$19:$H$5015)+SUMIF('2.bTë ardhura-jopublik-monetare'!$G$19:$G$1015,'2.cTë ardhura-jopublik-nënatyrë'!$G156,'2.bTë ardhura-jopublik-monetare'!$H$19:$H$1015)","v":0}]
[null,null,null,null,null,null,null,null,null,{"$f":"SUMIF($G$19:$G$5015,$G157,$H$19:$H$5015)+SUMIF('2.bTë ardhura-jopublik-monetare'!$G$19:$G$1015,'2.cTë ardhura-jopublik-nënatyrë'!$G157,'2.bTë ardhura-jopublik-monetare'!$H$19:$H$1015)","v":0}]
[null,null,null,null,null,null,null,null,null,{"$f":"SUMIF($G$19:$G$5015,$G158,$H$19:$H$5015)+SUMIF('2.bTë ardhura-jopublik-monetare'!$G$19:$G$1015,'2.cTë ardhura-jopublik-nënatyrë'!$G158,'2.bTë ardhura-jopublik-monetare'!$H$19:$H$1015)","v":0}]
[null,null,null,null,null,null,null,null,null,{"$f":"SUMIF($G$19:$G$5015,$G159,$H$19:$H$5015)+SUMIF('2.bTë ardhura-jopublik-monetare'!$G$19:$G$1015,'2.cTë ardhura-jopublik-nënatyrë'!$G159,'2.bTë ardhura-jopublik-monetare'!$H$19:$H$1015)","v":0}]
[null,null,null,null,null,null,null,null,null,{"$f":"SUMIF($G$19:$G$5015,$G160,$H$19:$H$5015)+SUMIF('2.bTë ardhura-jopublik-monetare'!$G$19:$G$1015,'2.cTë ardhura-jopublik-nënatyrë'!$G160,'2.bTë ardhura-jopublik-monetare'!$H$19:$H$1015)","v":0}]
[null,null,null,null,null,null,null,null,null,{"$f":"SUMIF($G$19:$G$5015,$G161,$H$19:$H$5015)+SUMIF('2.bTë ardhura-jopublik-monetare'!$G$19:$G$1015,'2.cTë ardhura-jopublik-nënatyrë'!$G161,'2.bTë ardhura-jopublik-monetare'!$H$19:$H$1015)","v":0}]
[null,null,null,null,null,null,null,null,null,{"$f":"SUMIF($G$19:$G$5015,$G162,$H$19:$H$5015)+SUMIF('2.bTë ardhura-jopublik-monetare'!$G$19:$G$1015,'2.cTë ardhura-jopublik-nënatyrë'!$G162,'2.bTë ardhura-jopublik-monetare'!$H$19:$H$1015)","v":0}]
[null,null,null,null,null,null,null,null,null,{"$f":"SUMIF($G$19:$G$5015,$G163,$H$19:$H$5015)+SUMIF('2.bTë ardhura-jopublik-monetare'!$G$19:$G$1015,'2.cTë ardhura-jopublik-nënatyrë'!$G163,'2.bTë ardhura-jopublik-monetare'!$H$19:$H$1015)","v":0}]
[null,null,null,null,null,null,null,null,null,{"$f":"SUMIF($G$19:$G$5015,$G164,$H$19:$H$5015)+SUMIF('2.bTë ardhura-jopublik-monetare'!$G$19:$G$1015,'2.cTë ardhura-jopublik-nënatyrë'!$G164,'2.bTë ardhura-jopublik-monetare'!$H$19:$H$1015)","v":0}]
[null,null,null,null,null,null,null,null,null,{"$f":"SUMIF($G$19:$G$5015,$G165,$H$19:$H$5015)+SUMIF('2.bTë ardhura-jopublik-monetare'!$G$19:$G$1015,'2.cTë ardhura-jopublik-nënatyrë'!$G165,'2.bTë ardhura-jopublik-monetare'!$H$19:$H$1015)","v":0}]
[null,null,null,null,null,null,null,null,null,{"$f":"SUMIF($G$19:$G$5015,$G166,$H$19:$H$5015)+SUMIF('2.bTë ardhura-jopublik-monetare'!$G$19:$G$1015,'2.cTë ardhura-jopublik-nënatyrë'!$G166,'2.bTë ardhura-jopublik-monetare'!$H$19:$H$1015)","v":0}]
[null,null,null,null,null,null,null,null,null,{"$f":"SUMIF($G$19:$G$5015,$G167,$H$19:$H$5015)+SUMIF('2.bTë ardhura-jopublik-monetare'!$G$19:$G$1015,'2.cTë ardhura-jopublik-nënatyrë'!$G167,'2.bTë ardhura-jopublik-monetare'!$H$19:$H$1015)","v":0}]
[null,null,null,null,null,null,null,null,null,{"$f":"SUMIF($G$19:$G$5015,$G168,$H$19:$H$5015)+SUMIF('2.bTë ardhura-jopublik-monetare'!$G$19:$G$1015,'2.cTë ardhura-jopublik-nënatyrë'!$G168,'2.bTë ardhura-jopublik-monetare'!$H$19:$H$1015)","v":0}]
[null,null,null,null,null,null,null,null,null,{"$f":"SUMIF($G$19:$G$5015,$G169,$H$19:$H$5015)+SUMIF('2.bTë ardhura-jopublik-monetare'!$G$19:$G$1015,'2.cTë ardhura-jopublik-nënatyrë'!$G169,'2.bTë ardhura-jopublik-monetare'!$H$19:$H$1015)","v":0}]
[null,null,null,null,null,null,null,null,null,{"$f":"SUMIF($G$19:$G$5015,$G170,$H$19:$H$5015)+SUMIF('2.bTë ardhura-jopublik-monetare'!$G$19:$G$1015,'2.cTë ardhura-jopublik-nënatyrë'!$G170,'2.bTë ardhura-jopublik-monetare'!$H$19:$H$1015)","v":0}]
[null,null,null,null,null,null,null,null,null,{"$f":"SUMIF($G$19:$G$5015,$G171,$H$19:$H$5015)+SUMIF('2.bTë ardhura-jopublik-monetare'!$G$19:$G$1015,'2.cTë ardhura-jopublik-nënatyrë'!$G171,'2.bTë ardhura-jopublik-monetare'!$H$19:$H$1015)","v":0}]
[null,null,null,null,null,null,null,null,null,{"$f":"SUMIF($G$19:$G$5015,$G172,$H$19:$H$5015)+SUMIF('2.bTë ardhura-jopublik-monetare'!$G$19:$G$1015,'2.cTë ardhura-jopublik-nënatyrë'!$G172,'2.bTë ardhura-jopublik-monetare'!$H$19:$H$1015)","v":0}]
[null,null,null,null,null,null,null,null,null,{"$f":"SUMIF($G$19:$G$5015,$G173,$H$19:$H$5015)+SUMIF('2.bTë ardhura-jopublik-monetare'!$G$19:$G$1015,'2.cTë ardhura-jopublik-nënatyrë'!$G173,'2.bTë ardhura-jopublik-monetare'!$H$19:$H$1015)","v":0}]
[null,null,null,null,null,null,null,null,null,{"$f":"SUMIF($G$19:$G$5015,$G174,$H$19:$H$5015)+SUMIF('2.bTë ardhura-jopublik-monetare'!$G$19:$G$1015,'2.cTë ardhura-jopublik-nënatyrë'!$G174,'2.bTë ardhura-jopublik-monetare'!$H$19:$H$1015)","v":0}]
[null,null,null,null,null,null,null,null,null,{"$f":"SUMIF($G$19:$G$5015,$G175,$H$19:$H$5015)+SUMIF('2.bTë ardhura-jopublik-monetare'!$G$19:$G$1015,'2.cTë ardhura-jopublik-nënatyrë'!$G175,'2.bTë ardhura-jopublik-monetare'!$H$19:$H$1015)","v":0}]
[null,null,null,null,null,null,null,null,null,{"$f":"SUMIF($G$19:$G$5015,$G176,$H$19:$H$5015)+SUMIF('2.bTë ardhura-jopublik-monetare'!$G$19:$G$1015,'2.cTë ardhura-jopublik-nënatyrë'!$G176,'2.bTë ardhura-jopublik-monetare'!$H$19:$H$1015)","v":0}]
[null,null,null,null,null,null,null,null,null,{"$f":"SUMIF($G$19:$G$5015,$G177,$H$19:$H$5015)+SUMIF('2.bTë ardhura-jopublik-monetare'!$G$19:$G$1015,'2.cTë ardhura-jopublik-nënatyrë'!$G177,'2.bTë ardhura-jopublik-monetare'!$H$19:$H$1015)","v":0}]
[null,null,null,null,null,null,null,null,null,{"$f":"SUMIF($G$19:$G$5015,$G178,$H$19:$H$5015)+SUMIF('2.bTë ardhura-jopublik-monetare'!$G$19:$G$1015,'2.cTë ardhura-jopublik-nënatyrë'!$G178,'2.bTë ardhura-jopublik-monetare'!$H$19:$H$1015)","v":0}]
[null,null,null,null,null,null,null,null,null,{"$f":"SUMIF($G$19:$G$5015,$G179,$H$19:$H$5015)+SUMIF('2.bTë ardhura-jopublik-monetare'!$G$19:$G$1015,'2.cTë ardhura-jopublik-nënatyrë'!$G179,'2.bTë ardhura-jopublik-monetare'!$H$19:$H$1015)","v":0}]
[null,null,null,null,null,null,null,null,null,{"$f":"SUMIF($G$19:$G$5015,$G180,$H$19:$H$5015)+SUMIF('2.bTë ardhura-jopublik-monetare'!$G$19:$G$1015,'2.cTë ardhura-jopublik-nënatyrë'!$G180,'2.bTë ardhura-jopublik-monetare'!$H$19:$H$1015)","v":0}]
[null,null,null,null,null,null,null,null,null,{"$f":"SUMIF($G$19:$G$5015,$G181,$H$19:$H$5015)+SUMIF('2.bTë ardhura-jopublik-monetare'!$G$19:$G$1015,'2.cTë ardhura-jopublik-nënatyrë'!$G181,'2.bTë ardhura-jopublik-monetare'!$H$19:$H$1015)","v":0}]
[null,null,null,null,null,null,null,null,null,{"$f":"SUMIF($G$19:$G$5015,$G182,$H$19:$H$5015)+SUMIF('2.bTë ardhura-jopublik-monetare'!$G$19:$G$1015,'2.cTë ardhura-jopublik-nënatyrë'!$G182,'2.bTë ardhura-jopublik-monetare'!$H$19:$H$1015)","v":0}]
[null,null,null,null,null,null,null,null,null,{"$f":"SUMIF($G$19:$G$5015,$G183,$H$19:$H$5015)+SUMIF('2.bTë ardhura-jopublik-monetare'!$G$19:$G$1015,'2.cTë ardhura-jopublik-nënatyrë'!$G183,'2.bTë ardhura-jopublik-monetare'!$H$19:$H$1015)","v":0}]
[null,null,null,null,null,null,null,null,null,{"$f":"SUMIF($G$19:$G$5015,$G184,$H$19:$H$5015)+SUMIF('2.bTë ardhura-jopublik-monetare'!$G$19:$G$1015,'2.cTë ardhura-jopublik-nënatyrë'!$G184,'2.bTë ardhura-jopublik-monetare'!$H$19:$H$1015)","v":0}]
[null,null,null,null,null,null,null,null,null,{"$f":"SUMIF($G$19:$G$5015,$G185,$H$19:$H$5015)+SUMIF('2.bTë ardhura-jopublik-monetare'!$G$19:$G$1015,'2.cTë ardhura-jopublik-nënatyrë'!$G185,'2.bTë ardhura-jopublik-monetare'!$H$19:$H$1015)","v":0}]
[null,null,null,null,null,null,null,null,null,{"$f":"SUMIF($G$19:$G$5015,$G186,$H$19:$H$5015)+SUMIF('2.bTë ardhura-jopublik-monetare'!$G$19:$G$1015,'2.cTë ardhura-jopublik-nënatyrë'!$G186,'2.bTë ardhura-jopublik-monetare'!$H$19:$H$1015)","v":0}]
[null,null,null,null,null,null,null,null,null,{"$f":"SUMIF($G$19:$G$5015,$G187,$H$19:$H$5015)+SUMIF('2.bTë ardhura-jopublik-monetare'!$G$19:$G$1015,'2.cTë ardhura-jopublik-nënatyrë'!$G187,'2.bTë ardhura-jopublik-monetare'!$H$19:$H$1015)","v":0}]
[null,null,null,null,null,null,null,null,null,{"$f":"SUMIF($G$19:$G$5015,$G188,$H$19:$H$5015)+SUMIF('2.bTë ardhura-jopublik-monetare'!$G$19:$G$1015,'2.cTë ardhura-jopublik-nënatyrë'!$G188,'2.bTë ardhura-jopublik-monetare'!$H$19:$H$1015)","v":0}]
[null,null,null,null,null,null,null,null,null,{"$f":"SUMIF($G$19:$G$5015,$G189,$H$19:$H$5015)+SUMIF('2.bTë ardhura-jopublik-monetare'!$G$19:$G$1015,'2.cTë ardhura-jopublik-nënatyrë'!$G189,'2.bTë ardhura-jopublik-monetare'!$H$19:$H$1015)","v":0}]
[null,null,null,null,null,null,null,null,null,{"$f":"SUMIF($G$19:$G$5015,$G190,$H$19:$H$5015)+SUMIF('2.bTë ardhura-jopublik-monetare'!$G$19:$G$1015,'2.cTë ardhura-jopublik-nënatyrë'!$G190,'2.bTë ardhura-jopublik-monetare'!$H$19:$H$1015)","v":0}]
[null,null,null,null,null,null,null,null,null,{"$f":"SUMIF($G$19:$G$5015,$G191,$H$19:$H$5015)+SUMIF('2.bTë ardhura-jopublik-monetare'!$G$19:$G$1015,'2.cTë ardhura-jopublik-nënatyrë'!$G191,'2.bTë ardhura-jopublik-monetare'!$H$19:$H$1015)","v":0}]
[null,null,null,null,null,null,null,null,null,{"$f":"SUMIF($G$19:$G$5015,$G192,$H$19:$H$5015)+SUMIF('2.bTë ardhura-jopublik-monetare'!$G$19:$G$1015,'2.cTë ardhura-jopublik-nënatyrë'!$G192,'2.bTë ardhura-jopublik-monetare'!$H$19:$H$1015)","v":0}]
[null,null,null,null,null,null,null,null,null,{"$f":"SUMIF($G$19:$G$5015,$G193,$H$19:$H$5015)+SUMIF('2.bTë ardhura-jopublik-monetare'!$G$19:$G$1015,'2.cTë ardhura-jopublik-nënatyrë'!$G193,'2.bTë ardhura-jopublik-monetare'!$H$19:$H$1015)","v":0}]
[null,null,null,null,null,null,null,null,null,{"$f":"SUMIF($G$19:$G$5015,$G194,$H$19:$H$5015)+SUMIF('2.bTë ardhura-jopublik-monetare'!$G$19:$G$1015,'2.cTë ardhura-jopublik-nënatyrë'!$G194,'2.bTë ardhura-jopublik-monetare'!$H$19:$H$1015)","v":0}]
[null,null,null,null,null,null,null,null,null,{"$f":"SUMIF($G$19:$G$5015,$G195,$H$19:$H$5015)+SUMIF('2.bTë ardhura-jopublik-monetare'!$G$19:$G$1015,'2.cTë ardhura-jopublik-nënatyrë'!$G195,'2.bTë ardhura-jopublik-monetare'!$H$19:$H$1015)","v":0}]
[null,null,null,null,null,null,null,null,null,{"$f":"SUMIF($G$19:$G$5015,$G196,$H$19:$H$5015)+SUMIF('2.bTë ardhura-jopublik-monetare'!$G$19:$G$1015,'2.cTë ardhura-jopublik-nënatyrë'!$G196,'2.bTë ardhura-jopublik-monetare'!$H$19:$H$1015)","v":0}]
[null,null,null,null,null,null,null,null,null,{"$f":"SUMIF($G$19:$G$5015,$G197,$H$19:$H$5015)+SUMIF('2.bTë ardhura-jopublik-monetare'!$G$19:$G$1015,'2.cTë ardhura-jopublik-nënatyrë'!$G197,'2.bTë ardhura-jopublik-monetare'!$H$19:$H$1015)","v":0}]
[null,null,null,null,null,null,null,null,null,{"$f":"SUMIF($G$19:$G$5015,$G198,$H$19:$H$5015)+SUMIF('2.bTë ardhura-jopublik-monetare'!$G$19:$G$1015,'2.cTë ardhura-jopublik-nënatyrë'!$G198,'2.bTë ardhura-jopublik-monetare'!$H$19:$H$1015)","v":0}]
[null,null,null,null,null,null,null,null,null,{"$f":"SUMIF($G$19:$G$5015,$G199,$H$19:$H$5015)+SUMIF('2.bTë ardhura-jopublik-monetare'!$G$19:$G$1015,'2.cTë ardhura-jopublik-nënatyrë'!$G199,'2.bTë ardhura-jopublik-monetare'!$H$19:$H$1015)","v":0}]
[null,null,null,null,null,null,null,null,null,{"$f":"SUMIF($G$19:$G$5015,$G200,$H$19:$H$5015)+SUMIF('2.bTë ardhura-jopublik-monetare'!$G$19:$G$1015,'2.cTë ardhura-jopublik-nënatyrë'!$G200,'2.bTë ardhura-jopublik-monetare'!$H$19:$H$1015)","v":0}]
[null,null,null,null,null,null,null,null,null,{"$f":"SUMIF($G$19:$G$5015,$G201,$H$19:$H$5015)+SUMIF('2.bTë ardhura-jopublik-monetare'!$G$19:$G$1015,'2.cTë ardhura-jopublik-nënatyrë'!$G201,'2.bTë ardhura-jopublik-monetare'!$H$19:$H$1015)","v":0}]
[null,null,null,null,null,null,null,null,null,{"$f":"SUMIF($G$19:$G$5015,$G202,$H$19:$H$5015)+SUMIF('2.bTë ardhura-jopublik-monetare'!$G$19:$G$1015,'2.cTë ardhura-jopublik-nënatyrë'!$G202,'2.bTë ardhura-jopublik-monetare'!$H$19:$H$1015)","v":0}]
[null,null,null,null,null,null,null,null,null,{"$f":"SUMIF($G$19:$G$5015,$G203,$H$19:$H$5015)+SUMIF('2.bTë ardhura-jopublik-monetare'!$G$19:$G$1015,'2.cTë ardhura-jopublik-nënatyrë'!$G203,'2.bTë ardhura-jopublik-monetare'!$H$19:$H$1015)","v":0}]
[null,null,null,null,null,null,null,null,null,{"$f":"SUMIF($G$19:$G$5015,$G204,$H$19:$H$5015)+SUMIF('2.bTë ardhura-jopublik-monetare'!$G$19:$G$1015,'2.cTë ardhura-jopublik-nënatyrë'!$G204,'2.bTë ardhura-jopublik-monetare'!$H$19:$H$1015)","v":0}]
[null,null,null,null,null,null,null,null,null,{"$f":"SUMIF($G$19:$G$5015,$G205,$H$19:$H$5015)+SUMIF('2.bTë ardhura-jopublik-monetare'!$G$19:$G$1015,'2.cTë ardhura-jopublik-nënatyrë'!$G205,'2.bTë ardhura-jopublik-monetare'!$H$19:$H$1015)","v":0}]
[null,null,null,null,null,null,null,null,null,{"$f":"SUMIF($G$19:$G$5015,$G206,$H$19:$H$5015)+SUMIF('2.bTë ardhura-jopublik-monetare'!$G$19:$G$1015,'2.cTë ardhura-jopublik-nënatyrë'!$G206,'2.bTë ardhura-jopublik-monetare'!$H$19:$H$1015)","v":0}]
[null,null,null,null,null,null,null,null,null,{"$f":"SUMIF($G$19:$G$5015,$G207,$H$19:$H$5015)+SUMIF('2.bTë ardhura-jopublik-monetare'!$G$19:$G$1015,'2.cTë ardhura-jopublik-nënatyrë'!$G207,'2.bTë ardhura-jopublik-monetare'!$H$19:$H$1015)","v":0}]
[null,null,null,null,null,null,null,null,null,{"$f":"SUMIF($G$19:$G$5015,$G208,$H$19:$H$5015)+SUMIF('2.bTë ardhura-jopublik-monetare'!$G$19:$G$1015,'2.cTë ardhura-jopublik-nënatyrë'!$G208,'2.bTë ardhura-jopublik-monetare'!$H$19:$H$1015)","v":0}]
[null,null,null,null,null,null,null,null,null,{"$f":"SUMIF($G$19:$G$5015,$G209,$H$19:$H$5015)+SUMIF('2.bTë ardhura-jopublik-monetare'!$G$19:$G$1015,'2.cTë ardhura-jopublik-nënatyrë'!$G209,'2.bTë ardhura-jopublik-monetare'!$H$19:$H$1015)","v":0}]
[null,null,null,null,null,null,null,null,null,{"$f":"SUMIF($G$19:$G$5015,$G210,$H$19:$H$5015)+SUMIF('2.bTë ardhura-jopublik-monetare'!$G$19:$G$1015,'2.cTë ardhura-jopublik-nënatyrë'!$G210,'2.bTë ardhura-jopublik-monetare'!$H$19:$H$1015)","v":0}]
[null,null,null,null,null,null,null,null,null,{"$f":"SUMIF($G$19:$G$5015,$G211,$H$19:$H$5015)+SUMIF('2.bTë ardhura-jopublik-monetare'!$G$19:$G$1015,'2.cTë ardhura-jopublik-nënatyrë'!$G211,'2.bTë ardhura-jopublik-monetare'!$H$19:$H$1015)","v":0}]
[null,null,null,null,null,null,null,null,null,{"$f":"SUMIF($G$19:$G$5015,$G212,$H$19:$H$5015)+SUMIF('2.bTë ardhura-jopublik-monetare'!$G$19:$G$1015,'2.cTë ardhura-jopublik-nënatyrë'!$G212,'2.bTë ardhura-jopublik-monetare'!$H$19:$H$1015)","v":0}]
[null,null,null,null,null,null,null,null,null,{"$f":"SUMIF($G$19:$G$5015,$G213,$H$19:$H$5015)+SUMIF('2.bTë ardhura-jopublik-monetare'!$G$19:$G$1015,'2.cTë ardhura-jopublik-nënatyrë'!$G213,'2.bTë ardhura-jopublik-monetare'!$H$19:$H$1015)","v":0}]
[null,null,null,null,null,null,null,null,null,{"$f":"SUMIF($G$19:$G$5015,$G214,$H$19:$H$5015)+SUMIF('2.bTë ardhura-jopublik-monetare'!$G$19:$G$1015,'2.cTë ardhura-jopublik-nënatyrë'!$G214,'2.bTë ardhura-jopublik-monetare'!$H$19:$H$1015)","v":0}]
[null,null,null,null,null,null,null,null,null,{"$f":"SUMIF($G$19:$G$5015,$G215,$H$19:$H$5015)+SUMIF('2.bTë ardhura-jopublik-monetare'!$G$19:$G$1015,'2.cTë ardhura-jopublik-nënatyrë'!$G215,'2.bTë ardhura-jopublik-monetare'!$H$19:$H$1015)","v":0}]
[null,null,null,null,null,null,null,null,null,{"$f":"SUMIF($G$19:$G$5015,$G216,$H$19:$H$5015)+SUMIF('2.bTë ardhura-jopublik-monetare'!$G$19:$G$1015,'2.cTë ardhura-jopublik-nënatyrë'!$G216,'2.bTë ardhura-jopublik-monetare'!$H$19:$H$1015)","v":0}]
[null,null,null,null,null,null,null,null,null,{"$f":"SUMIF($G$19:$G$5015,$G217,$H$19:$H$5015)+SUMIF('2.bTë ardhura-jopublik-monetare'!$G$19:$G$1015,'2.cTë ardhura-jopublik-nënatyrë'!$G217,'2.bTë ardhura-jopublik-monetare'!$H$19:$H$1015)","v":0}]
[null,null,null,null,null,null,null,null,null,{"$f":"SUMIF($G$19:$G$5015,$G218,$H$19:$H$5015)+SUMIF('2.bTë ardhura-jopublik-monetare'!$G$19:$G$1015,'2.cTë ardhura-jopublik-nënatyrë'!$G218,'2.bTë ardhura-jopublik-monetare'!$H$19:$H$1015)","v":0}]
[null,null,null,null,null,null,null,null,null,{"$f":"SUMIF($G$19:$G$5015,$G219,$H$19:$H$5015)+SUMIF('2.bTë ardhura-jopublik-monetare'!$G$19:$G$1015,'2.cTë ardhura-jopublik-nënatyrë'!$G219,'2.bTë ardhura-jopublik-monetare'!$H$19:$H$1015)","v":0}]
[null,null,null,null,null,null,null,null,null,{"$f":"SUMIF($G$19:$G$5015,$G220,$H$19:$H$5015)+SUMIF('2.bTë ardhura-jopublik-monetare'!$G$19:$G$1015,'2.cTë ardhura-jopublik-nënatyrë'!$G220,'2.bTë ardhura-jopublik-monetare'!$H$19:$H$1015)","v":0}]
[null,null,null,null,null,null,null,null,null,{"$f":"SUMIF($G$19:$G$5015,$G221,$H$19:$H$5015)+SUMIF('2.bTë ardhura-jopublik-monetare'!$G$19:$G$1015,'2.cTë ardhura-jopublik-nënatyrë'!$G221,'2.bTë ardhura-jopublik-monetare'!$H$19:$H$1015)","v":0}]
[null,null,null,null,null,null,null,null,null,{"$f":"SUMIF($G$19:$G$5015,$G222,$H$19:$H$5015)+SUMIF('2.bTë ardhura-jopublik-monetare'!$G$19:$G$1015,'2.cTë ardhura-jopublik-nënatyrë'!$G222,'2.bTë ardhura-jopublik-monetare'!$H$19:$H$1015)","v":0}]
[null,null,null,null,null,null,null,null,null,{"$f":"SUMIF($G$19:$G$5015,$G223,$H$19:$H$5015)+SUMIF('2.bTë ardhura-jopublik-monetare'!$G$19:$G$1015,'2.cTë ardhura-jopublik-nënatyrë'!$G223,'2.bTë ardhura-jopublik-monetare'!$H$19:$H$1015)","v":0}]
[null,null,null,null,null,null,null,null,null,{"$f":"SUMIF($G$19:$G$5015,$G224,$H$19:$H$5015)+SUMIF('2.bTë ardhura-jopublik-monetare'!$G$19:$G$1015,'2.cTë ardhura-jopublik-nënatyrë'!$G224,'2.bTë ardhura-jopublik-monetare'!$H$19:$H$1015)","v":0}]
[null,null,null,null,null,null,null,null,null,{"$f":"SUMIF($G$19:$G$5015,$G225,$H$19:$H$5015)+SUMIF('2.bTë ardhura-jopublik-monetare'!$G$19:$G$1015,'2.cTë ardhura-jopublik-nënatyrë'!$G225,'2.bTë ardhura-jopublik-monetare'!$H$19:$H$1015)","v":0}]
[null,null,null,null,null,null,null,null,null,{"$f":"SUMIF($G$19:$G$5015,$G226,$H$19:$H$5015)+SUMIF('2.bTë ardhura-jopublik-monetare'!$G$19:$G$1015,'2.cTë ardhura-jopublik-nënatyrë'!$G226,'2.bTë ardhura-jopublik-monetare'!$H$19:$H$1015)","v":0}]
[null,null,null,null,null,null,null,null,null,{"$f":"SUMIF($G$19:$G$5015,$G227,$H$19:$H$5015)+SUMIF('2.bTë ardhura-jopublik-monetare'!$G$19:$G$1015,'2.cTë ardhura-jopublik-nënatyrë'!$G227,'2.bTë ardhura-jopublik-monetare'!$H$19:$H$1015)","v":0}]
[null,null,null,null,null,null,null,null,null,{"$f":"SUMIF($G$19:$G$5015,$G228,$H$19:$H$5015)+SUMIF('2.bTë ardhura-jopublik-monetare'!$G$19:$G$1015,'2.cTë ardhura-jopublik-nënatyrë'!$G228,'2.bTë ardhura-jopublik-monetare'!$H$19:$H$1015)","v":0}]
[null,null,null,null,null,null,null,null,null,{"$f":"SUMIF($G$19:$G$5015,$G229,$H$19:$H$5015)+SUMIF('2.bTë ardhura-jopublik-monetare'!$G$19:$G$1015,'2.cTë ardhura-jopublik-nënatyrë'!$G229,'2.bTë ardhura-jopublik-monetare'!$H$19:$H$1015)","v":0}]
[null,null,null,null,null,null,null,null,null,{"$f":"SUMIF($G$19:$G$5015,$G230,$H$19:$H$5015)+SUMIF('2.bTë ardhura-jopublik-monetare'!$G$19:$G$1015,'2.cTë ardhura-jopublik-nënatyrë'!$G230,'2.bTë ardhura-jopublik-monetare'!$H$19:$H$1015)","v":0}]
[null,null,null,null,null,null,null,null,null,{"$f":"SUMIF($G$19:$G$5015,$G231,$H$19:$H$5015)+SUMIF('2.bTë ardhura-jopublik-monetare'!$G$19:$G$1015,'2.cTë ardhura-jopublik-nënatyrë'!$G231,'2.bTë ardhura-jopublik-monetare'!$H$19:$H$1015)","v":0}]
[null,null,null,null,null,null,null,null,null,{"$f":"SUMIF($G$19:$G$5015,$G232,$H$19:$H$5015)+SUMIF('2.bTë ardhura-jopublik-monetare'!$G$19:$G$1015,'2.cTë ardhura-jopublik-nënatyrë'!$G232,'2.bTë ardhura-jopublik-monetare'!$H$19:$H$1015)","v":0}]
[null,null,null,null,null,null,null,null,null,{"$f":"SUMIF($G$19:$G$5015,$G233,$H$19:$H$5015)+SUMIF('2.bTë ardhura-jopublik-monetare'!$G$19:$G$1015,'2.cTë ardhura-jopublik-nënatyrë'!$G233,'2.bTë ardhura-jopublik-monetare'!$H$19:$H$1015)","v":0}]
[null,null,null,null,null,null,null,null,null,{"$f":"SUMIF($G$19:$G$5015,$G234,$H$19:$H$5015)+SUMIF('2.bTë ardhura-jopublik-monetare'!$G$19:$G$1015,'2.cTë ardhura-jopublik-nënatyrë'!$G234,'2.bTë ardhura-jopublik-monetare'!$H$19:$H$1015)","v":0}]
[null,null,null,null,null,null,null,null,null,{"$f":"SUMIF($G$19:$G$5015,$G235,$H$19:$H$5015)+SUMIF('2.bTë ardhura-jopublik-monetare'!$G$19:$G$1015,'2.cTë ardhura-jopublik-nënatyrë'!$G235,'2.bTë ardhura-jopublik-monetare'!$H$19:$H$1015)","v":0}]
[null,null,null,null,null,null,null,null,null,{"$f":"SUMIF($G$19:$G$5015,$G236,$H$19:$H$5015)+SUMIF('2.bTë ardhura-jopublik-monetare'!$G$19:$G$1015,'2.cTë ardhura-jopublik-nënatyrë'!$G236,'2.bTë ardhura-jopublik-monetare'!$H$19:$H$1015)","v":0}]
[null,null,null,null,null,null,null,null,null,{"$f":"SUMIF($G$19:$G$5015,$G237,$H$19:$H$5015)+SUMIF('2.bTë ardhura-jopublik-monetare'!$G$19:$G$1015,'2.cTë ardhura-jopublik-nënatyrë'!$G237,'2.bTë ardhura-jopublik-monetare'!$H$19:$H$1015)","v":0}]
[null,null,null,null,null,null,null,null,null,{"$f":"SUMIF($G$19:$G$5015,$G238,$H$19:$H$5015)+SUMIF('2.bTë ardhura-jopublik-monetare'!$G$19:$G$1015,'2.cTë ardhura-jopublik-nënatyrë'!$G238,'2.bTë ardhura-jopublik-monetare'!$H$19:$H$1015)","v":0}]
[null,null,null,null,null,null,null,null,null,{"$f":"SUMIF($G$19:$G$5015,$G239,$H$19:$H$5015)+SUMIF('2.bTë ardhura-jopublik-monetare'!$G$19:$G$1015,'2.cTë ardhura-jopublik-nënatyrë'!$G239,'2.bTë ardhura-jopublik-monetare'!$H$19:$H$1015)","v":0}]
[null,null,null,null,null,null,null,null,null,{"$f":"SUMIF($G$19:$G$5015,$G240,$H$19:$H$5015)+SUMIF('2.bTë ardhura-jopublik-monetare'!$G$19:$G$1015,'2.cTë ardhura-jopublik-nënatyrë'!$G240,'2.bTë ardhura-jopublik-monetare'!$H$19:$H$1015)","v":0}]
[null,null,null,null,null,null,null,null,null,{"$f":"SUMIF($G$19:$G$5015,$G241,$H$19:$H$5015)+SUMIF('2.bTë ardhura-jopublik-monetare'!$G$19:$G$1015,'2.cTë ardhura-jopublik-nënatyrë'!$G241,'2.bTë ardhura-jopublik-monetare'!$H$19:$H$1015)","v":0}]
[null,null,null,null,null,null,null,null,null,{"$f":"SUMIF($G$19:$G$5015,$G242,$H$19:$H$5015)+SUMIF('2.bTë ardhura-jopublik-monetare'!$G$19:$G$1015,'2.cTë ardhura-jopublik-nënatyrë'!$G242,'2.bTë ardhura-jopublik-monetare'!$H$19:$H$1015)","v":0}]
[null,null,null,null,null,null,null,null,null,{"$f":"SUMIF($G$19:$G$5015,$G243,$H$19:$H$5015)+SUMIF('2.bTë ardhura-jopublik-monetare'!$G$19:$G$1015,'2.cTë ardhura-jopublik-nënatyrë'!$G243,'2.bTë ardhura-jopublik-monetare'!$H$19:$H$1015)","v":0}]
[null,null,null,null,null,null,null,null,null,{"$f":"SUMIF($G$19:$G$5015,$G244,$H$19:$H$5015)+SUMIF('2.bTë ardhura-jopublik-monetare'!$G$19:$G$1015,'2.cTë ardhura-jopublik-nënatyrë'!$G244,'2.bTë ardhura-jopublik-monetare'!$H$19:$H$1015)","v":0}]
[null,null,null,null,null,null,null,null,null,{"$f":"SUMIF($G$19:$G$5015,$G245,$H$19:$H$5015)+SUMIF('2.bTë ardhura-jopublik-monetare'!$G$19:$G$1015,'2.cTë ardhura-jopublik-nënatyrë'!$G245,'2.bTë ardhura-jopublik-monetare'!$H$19:$H$1015)","v":0}]
[null,null,null,null,null,null,null,null,null,{"$f":"SUMIF($G$19:$G$5015,$G246,$H$19:$H$5015)+SUMIF('2.bTë ardhura-jopublik-monetare'!$G$19:$G$1015,'2.cTë ardhura-jopublik-nënatyrë'!$G246,'2.bTë ardhura-jopublik-monetare'!$H$19:$H$1015)","v":0}]
[null,null,null,null,null,null,null,null,null,{"$f":"SUMIF($G$19:$G$5015,$G247,$H$19:$H$5015)+SUMIF('2.bTë ardhura-jopublik-monetare'!$G$19:$G$1015,'2.cTë ardhura-jopublik-nënatyrë'!$G247,'2.bTë ardhura-jopublik-monetare'!$H$19:$H$1015)","v":0}]
[null,null,null,null,null,null,null,null,null,{"$f":"SUMIF($G$19:$G$5015,$G248,$H$19:$H$5015)+SUMIF('2.bTë ardhura-jopublik-monetare'!$G$19:$G$1015,'2.cTë ardhura-jopublik-nënatyrë'!$G248,'2.bTë ardhura-jopublik-monetare'!$H$19:$H$1015)","v":0}]
[null,null,null,null,null,null,null,null,null,{"$f":"SUMIF($G$19:$G$5015,$G249,$H$19:$H$5015)+SUMIF('2.bTë ardhura-jopublik-monetare'!$G$19:$G$1015,'2.cTë ardhura-jopublik-nënatyrë'!$G249,'2.bTë ardhura-jopublik-monetare'!$H$19:$H$1015)","v":0}]
[null,null,null,null,null,null,null,null,null,{"$f":"SUMIF($G$19:$G$5015,$G250,$H$19:$H$5015)+SUMIF('2.bTë ardhura-jopublik-monetare'!$G$19:$G$1015,'2.cTë ardhura-jopublik-nënatyrë'!$G250,'2.bTë ardhura-jopublik-monetare'!$H$19:$H$1015)","v":0}]
[null,null,null,null,null,null,null,null,null,{"$f":"SUMIF($G$19:$G$5015,$G251,$H$19:$H$5015)+SUMIF('2.bTë ardhura-jopublik-monetare'!$G$19:$G$1015,'2.cTë ardhura-jopublik-nënatyrë'!$G251,'2.bTë ardhura-jopublik-monetare'!$H$19:$H$1015)","v":0}]
[null,null,null,null,null,null,null,null,null,{"$f":"SUMIF($G$19:$G$5015,$G252,$H$19:$H$5015)+SUMIF('2.bTë ardhura-jopublik-monetare'!$G$19:$G$1015,'2.cTë ardhura-jopublik-nënatyrë'!$G252,'2.bTë ardhura-jopublik-monetare'!$H$19:$H$1015)","v":0}]
[null,null,null,null,null,null,null,null,null,{"$f":"SUMIF($G$19:$G$5015,$G253,$H$19:$H$5015)+SUMIF('2.bTë ardhura-jopublik-monetare'!$G$19:$G$1015,'2.cTë ardhura-jopublik-nënatyrë'!$G253,'2.bTë ardhura-jopublik-monetare'!$H$19:$H$1015)","v":0}]
[null,null,null,null,null,null,null,null,null,{"$f":"SUMIF($G$19:$G$5015,$G254,$H$19:$H$5015)+SUMIF('2.bTë ardhura-jopublik-monetare'!$G$19:$G$1015,'2.cTë ardhura-jopublik-nënatyrë'!$G254,'2.bTë ardhura-jopublik-monetare'!$H$19:$H$1015)","v":0}]
[null,null,null,null,null,null,null,null,null,{"$f":"SUMIF($G$19:$G$5015,$G255,$H$19:$H$5015)+SUMIF('2.bTë ardhura-jopublik-monetare'!$G$19:$G$1015,'2.cTë ardhura-jopublik-nënatyrë'!$G255,'2.bTë ardhura-jopublik-monetare'!$H$19:$H$1015)","v":0}]
[null,null,null,null,null,null,null,null,null,{"$f":"SUMIF($G$19:$G$5015,$G256,$H$19:$H$5015)+SUMIF('2.bTë ardhura-jopublik-monetare'!$G$19:$G$1015,'2.cTë ardhura-jopublik-nënatyrë'!$G256,'2.bTë ardhura-jopublik-monetare'!$H$19:$H$1015)","v":0}]
[null,null,null,null,null,null,null,null,null,{"$f":"SUMIF($G$19:$G$5015,$G257,$H$19:$H$5015)+SUMIF('2.bTë ardhura-jopublik-monetare'!$G$19:$G$1015,'2.cTë ardhura-jopublik-nënatyrë'!$G257,'2.bTë ardhura-jopublik-monetare'!$H$19:$H$1015)","v":0}]
[null,null,null,null,null,null,null,null,null,{"$f":"SUMIF($G$19:$G$5015,$G258,$H$19:$H$5015)+SUMIF('2.bTë ardhura-jopublik-monetare'!$G$19:$G$1015,'2.cTë ardhura-jopublik-nënatyrë'!$G258,'2.bTë ardhura-jopublik-monetare'!$H$19:$H$1015)","v":0}]
[null,null,null,null,null,null,null,null,null,{"$f":"SUMIF($G$19:$G$5015,$G259,$H$19:$H$5015)+SUMIF('2.bTë ardhura-jopublik-monetare'!$G$19:$G$1015,'2.cTë ardhura-jopublik-nënatyrë'!$G259,'2.bTë ardhura-jopublik-monetare'!$H$19:$H$1015)","v":0}]
[null,null,null,null,null,null,null,null,null,{"$f":"SUMIF($G$19:$G$5015,$G260,$H$19:$H$5015)+SUMIF('2.bTë ardhura-jopublik-monetare'!$G$19:$G$1015,'2.cTë ardhura-jopublik-nënatyrë'!$G260,'2.bTë ardhura-jopublik-monetare'!$H$19:$H$1015)","v":0}]
[null,null,null,null,null,null,null,null,null,{"$f":"SUMIF($G$19:$G$5015,$G261,$H$19:$H$5015)+SUMIF('2.bTë ardhura-jopublik-monetare'!$G$19:$G$1015,'2.cTë ardhura-jopublik-nënatyrë'!$G261,'2.bTë ardhura-jopublik-monetare'!$H$19:$H$1015)","v":0}]
[null,null,null,null,null,null,null,null,null,{"$f":"SUMIF($G$19:$G$5015,$G262,$H$19:$H$5015)+SUMIF('2.bTë ardhura-jopublik-monetare'!$G$19:$G$1015,'2.cTë ardhura-jopublik-nënatyrë'!$G262,'2.bTë ardhura-jopublik-monetare'!$H$19:$H$1015)","v":0}]
[null,null,null,null,null,null,null,null,null,{"$f":"SUMIF($G$19:$G$5015,$G263,$H$19:$H$5015)+SUMIF('2.bTë ardhura-jopublik-monetare'!$G$19:$G$1015,'2.cTë ardhura-jopublik-nënatyrë'!$G263,'2.bTë ardhura-jopublik-monetare'!$H$19:$H$1015)","v":0}]
[null,null,null,null,null,null,null,null,null,{"$f":"SUMIF($G$19:$G$5015,$G264,$H$19:$H$5015)+SUMIF('2.bTë ardhura-jopublik-monetare'!$G$19:$G$1015,'2.cTë ardhura-jopublik-nënatyrë'!$G264,'2.bTë ardhura-jopublik-monetare'!$H$19:$H$1015)","v":0}]
[null,null,null,null,null,null,null,null,null,{"$f":"SUMIF($G$19:$G$5015,$G265,$H$19:$H$5015)+SUMIF('2.bTë ardhura-jopublik-monetare'!$G$19:$G$1015,'2.cTë ardhura-jopublik-nënatyrë'!$G265,'2.bTë ardhura-jopublik-monetare'!$H$19:$H$1015)","v":0}]
[null,null,null,null,null,null,null,null,null,{"$f":"SUMIF($G$19:$G$5015,$G266,$H$19:$H$5015)+SUMIF('2.bTë ardhura-jopublik-monetare'!$G$19:$G$1015,'2.cTë ardhura-jopublik-nënatyrë'!$G266,'2.bTë ardhura-jopublik-monetare'!$H$19:$H$1015)","v":0}]
[null,null,null,null,null,null,null,null,null,{"$f":"SUMIF($G$19:$G$5015,$G267,$H$19:$H$5015)+SUMIF('2.bTë ardhura-jopublik-monetare'!$G$19:$G$1015,'2.cTë ardhura-jopublik-nënatyrë'!$G267,'2.bTë ardhura-jopublik-monetare'!$H$19:$H$1015)","v":0}]
[null,null,null,null,null,null,null,null,null,{"$f":"SUMIF($G$19:$G$5015,$G268,$H$19:$H$5015)+SUMIF('2.bTë ardhura-jopublik-monetare'!$G$19:$G$1015,'2.cTë ardhura-jopublik-nënatyrë'!$G268,'2.bTë ardhura-jopublik-monetare'!$H$19:$H$1015)","v":0}]
[null,null,null,null,null,null,null,null,null,{"$f":"SUMIF($G$19:$G$5015,$G269,$H$19:$H$5015)+SUMIF('2.bTë ardhura-jopublik-monetare'!$G$19:$G$1015,'2.cTë ardhura-jopublik-nënatyrë'!$G269,'2.bTë ardhura-jopublik-monetare'!$H$19:$H$1015)","v":0}]
[null,null,null,null,null,null,null,null,null,{"$f":"SUMIF($G$19:$G$5015,$G270,$H$19:$H$5015)+SUMIF('2.bTë ardhura-jopublik-monetare'!$G$19:$G$1015,'2.cTë ardhura-jopublik-nënatyrë'!$G270,'2.bTë ardhura-jopublik-monetare'!$H$19:$H$1015)","v":0}]
[null,null,null,null,null,null,null,null,null,{"$f":"SUMIF($G$19:$G$5015,$G271,$H$19:$H$5015)+SUMIF('2.bTë ardhura-jopublik-monetare'!$G$19:$G$1015,'2.cTë ardhura-jopublik-nënatyrë'!$G271,'2.bTë ardhura-jopublik-monetare'!$H$19:$H$1015)","v":0}]
[null,null,null,null,null,null,null,null,null,{"$f":"SUMIF($G$19:$G$5015,$G272,$H$19:$H$5015)+SUMIF('2.bTë ardhura-jopublik-monetare'!$G$19:$G$1015,'2.cTë ardhura-jopublik-nënatyrë'!$G272,'2.bTë ardhura-jopublik-monetare'!$H$19:$H$1015)","v":0}]
[null,null,null,null,null,null,null,null,null,{"$f":"SUMIF($G$19:$G$5015,$G273,$H$19:$H$5015)+SUMIF('2.bTë ardhura-jopublik-monetare'!$G$19:$G$1015,'2.cTë ardhura-jopublik-nënatyrë'!$G273,'2.bTë ardhura-jopublik-monetare'!$H$19:$H$1015)","v":0}]
[null,null,null,null,null,null,null,null,null,{"$f":"SUMIF($G$19:$G$5015,$G274,$H$19:$H$5015)+SUMIF('2.bTë ardhura-jopublik-monetare'!$G$19:$G$1015,'2.cTë ardhura-jopublik-nënatyrë'!$G274,'2.bTë ardhura-jopublik-monetare'!$H$19:$H$1015)","v":0}]
[null,null,null,null,null,null,null,null,null,{"$f":"SUMIF($G$19:$G$5015,$G275,$H$19:$H$5015)+SUMIF('2.bTë ardhura-jopublik-monetare'!$G$19:$G$1015,'2.cTë ardhura-jopublik-nënatyrë'!$G275,'2.bTë ardhura-jopublik-monetare'!$H$19:$H$1015)","v":0}]
[null,null,null,null,null,null,null,null,null,{"$f":"SUMIF($G$19:$G$5015,$G276,$H$19:$H$5015)+SUMIF('2.bTë ardhura-jopublik-monetare'!$G$19:$G$1015,'2.cTë ardhura-jopublik-nënatyrë'!$G276,'2.bTë ardhura-jopublik-monetare'!$H$19:$H$1015)","v":0}]
[null,null,null,null,null,null,null,null,null,{"$f":"SUMIF($G$19:$G$5015,$G277,$H$19:$H$5015)+SUMIF('2.bTë ardhura-jopublik-monetare'!$G$19:$G$1015,'2.cTë ardhura-jopublik-nënatyrë'!$G277,'2.bTë ardhura-jopublik-monetare'!$H$19:$H$1015)","v":0}]
[null,null,null,null,null,null,null,null,null,{"$f":"SUMIF($G$19:$G$5015,$G278,$H$19:$H$5015)+SUMIF('2.bTë ardhura-jopublik-monetare'!$G$19:$G$1015,'2.cTë ardhura-jopublik-nënatyrë'!$G278,'2.bTë ardhura-jopublik-monetare'!$H$19:$H$1015)","v":0}]
[null,null,null,null,null,null,null,null,null,{"$f":"SUMIF($G$19:$G$5015,$G279,$H$19:$H$5015)+SUMIF('2.bTë ardhura-jopublik-monetare'!$G$19:$G$1015,'2.cTë ardhura-jopublik-nënatyrë'!$G279,'2.bTë ardhura-jopublik-monetare'!$H$19:$H$1015)","v":0}]
[null,null,null,null,null,null,null,null,null,{"$f":"SUMIF($G$19:$G$5015,$G280,$H$19:$H$5015)+SUMIF('2.bTë ardhura-jopublik-monetare'!$G$19:$G$1015,'2.cTë ardhura-jopublik-nënatyrë'!$G280,'2.bTë ardhura-jopublik-monetare'!$H$19:$H$1015)","v":0}]
[null,null,null,null,null,null,null,null,null,{"$f":"SUMIF($G$19:$G$5015,$G281,$H$19:$H$5015)+SUMIF('2.bTë ardhura-jopublik-monetare'!$G$19:$G$1015,'2.cTë ardhura-jopublik-nënatyrë'!$G281,'2.bTë ardhura-jopublik-monetare'!$H$19:$H$1015)","v":0}]
[null,null,null,null,null,null,null,null,null,{"$f":"SUMIF($G$19:$G$5015,$G282,$H$19:$H$5015)+SUMIF('2.bTë ardhura-jopublik-monetare'!$G$19:$G$1015,'2.cTë ardhura-jopublik-nënatyrë'!$G282,'2.bTë ardhura-jopublik-monetare'!$H$19:$H$1015)","v":0}]
[null,null,null,null,null,null,null,null,null,{"$f":"SUMIF($G$19:$G$5015,$G283,$H$19:$H$5015)+SUMIF('2.bTë ardhura-jopublik-monetare'!$G$19:$G$1015,'2.cTë ardhura-jopublik-nënatyrë'!$G283,'2.bTë ardhura-jopublik-monetare'!$H$19:$H$1015)","v":0}]
[null,null,null,null,null,null,null,null,null,{"$f":"SUMIF($G$19:$G$5015,$G284,$H$19:$H$5015)+SUMIF('2.bTë ardhura-jopublik-monetare'!$G$19:$G$1015,'2.cTë ardhura-jopublik-nënatyrë'!$G284,'2.bTë ardhura-jopublik-monetare'!$H$19:$H$1015)","v":0}]
[null,null,null,null,null,null,null,null,null,{"$f":"SUMIF($G$19:$G$5015,$G285,$H$19:$H$5015)+SUMIF('2.bTë ardhura-jopublik-monetare'!$G$19:$G$1015,'2.cTë ardhura-jopublik-nënatyrë'!$G285,'2.bTë ardhura-jopublik-monetare'!$H$19:$H$1015)","v":0}]
[null,null,null,null,null,null,null,null,null,{"$f":"SUMIF($G$19:$G$5015,$G286,$H$19:$H$5015)+SUMIF('2.bTë ardhura-jopublik-monetare'!$G$19:$G$1015,'2.cTë ardhura-jopublik-nënatyrë'!$G286,'2.bTë ardhura-jopublik-monetare'!$H$19:$H$1015)","v":0}]
[null,null,null,null,null,null,null,null,null,{"$f":"SUMIF($G$19:$G$5015,$G287,$H$19:$H$5015)+SUMIF('2.bTë ardhura-jopublik-monetare'!$G$19:$G$1015,'2.cTë ardhura-jopublik-nënatyrë'!$G287,'2.bTë ardhura-jopublik-monetare'!$H$19:$H$1015)","v":0}]
[null,null,null,null,null,null,null,null,null,{"$f":"SUMIF($G$19:$G$5015,$G288,$H$19:$H$5015)+SUMIF('2.bTë ardhura-jopublik-monetare'!$G$19:$G$1015,'2.cTë ardhura-jopublik-nënatyrë'!$G288,'2.bTë ardhura-jopublik-monetare'!$H$19:$H$1015)","v":0}]
[null,null,null,null,null,null,null,null,null,{"$f":"SUMIF($G$19:$G$5015,$G289,$H$19:$H$5015)+SUMIF('2.bTë ardhura-jopublik-monetare'!$G$19:$G$1015,'2.cTë ardhura-jopublik-nënatyrë'!$G289,'2.bTë ardhura-jopublik-monetare'!$H$19:$H$1015)","v":0}]
[null,null,null,null,null,null,null,null,null,{"$f":"SUMIF($G$19:$G$5015,$G290,$H$19:$H$5015)+SUMIF('2.bTë ardhura-jopublik-monetare'!$G$19:$G$1015,'2.cTë ardhura-jopublik-nënatyrë'!$G290,'2.bTë ardhura-jopublik-monetare'!$H$19:$H$1015)","v":0}]
[null,null,null,null,null,null,null,null,null,{"$f":"SUMIF($G$19:$G$5015,$G291,$H$19:$H$5015)+SUMIF('2.bTë ardhura-jopublik-monetare'!$G$19:$G$1015,'2.cTë ardhura-jopublik-nënatyrë'!$G291,'2.bTë ardhura-jopublik-monetare'!$H$19:$H$1015)","v":0}]
[null,null,null,null,null,null,null,null,null,{"$f":"SUMIF($G$19:$G$5015,$G292,$H$19:$H$5015)+SUMIF('2.bTë ardhura-jopublik-monetare'!$G$19:$G$1015,'2.cTë ardhura-jopublik-nënatyrë'!$G292,'2.bTë ardhura-jopublik-monetare'!$H$19:$H$1015)","v":0}]
[null,null,null,null,null,null,null,null,null,{"$f":"SUMIF($G$19:$G$5015,$G293,$H$19:$H$5015)+SUMIF('2.bTë ardhura-jopublik-monetare'!$G$19:$G$1015,'2.cTë ardhura-jopublik-nënatyrë'!$G293,'2.bTë ardhura-jopublik-monetare'!$H$19:$H$1015)","v":0}]
[null,null,null,null,null,null,null,null,null,{"$f":"SUMIF($G$19:$G$5015,$G294,$H$19:$H$5015)+SUMIF('2.bTë ardhura-jopublik-monetare'!$G$19:$G$1015,'2.cTë ardhura-jopublik-nënatyrë'!$G294,'2.bTë ardhura-jopublik-monetare'!$H$19:$H$1015)","v":0}]
[null,null,null,null,null,null,null,null,null,{"$f":"SUMIF($G$19:$G$5015,$G295,$H$19:$H$5015)+SUMIF('2.bTë ardhura-jopublik-monetare'!$G$19:$G$1015,'2.cTë ardhura-jopublik-nënatyrë'!$G295,'2.bTë ardhura-jopublik-monetare'!$H$19:$H$1015)","v":0}]
[null,null,null,null,null,null,null,null,null,{"$f":"SUMIF($G$19:$G$5015,$G296,$H$19:$H$5015)+SUMIF('2.bTë ardhura-jopublik-monetare'!$G$19:$G$1015,'2.cTë ardhura-jopublik-nënatyrë'!$G296,'2.bTë ardhura-jopublik-monetare'!$H$19:$H$1015)","v":0}]
[null,null,null,null,null,null,null,null,null,{"$f":"SUMIF($G$19:$G$5015,$G297,$H$19:$H$5015)+SUMIF('2.bTë ardhura-jopublik-monetare'!$G$19:$G$1015,'2.cTë ardhura-jopublik-nënatyrë'!$G297,'2.bTë ardhura-jopublik-monetare'!$H$19:$H$1015)","v":0}]
[null,null,null,null,null,null,null,null,null,{"$f":"SUMIF($G$19:$G$5015,$G298,$H$19:$H$5015)+SUMIF('2.bTë ardhura-jopublik-monetare'!$G$19:$G$1015,'2.cTë ardhura-jopublik-nënatyrë'!$G298,'2.bTë ardhura-jopublik-monetare'!$H$19:$H$1015)","v":0}]
[null,null,null,null,null,null,null,null,null,{"$f":"SUMIF($G$19:$G$5015,$G299,$H$19:$H$5015)+SUMIF('2.bTë ardhura-jopublik-monetare'!$G$19:$G$1015,'2.cTë ardhura-jopublik-nënatyrë'!$G299,'2.bTë ardhura-jopublik-monetare'!$H$19:$H$1015)","v":0}]
[null,null,null,null,null,null,null,null,null,{"$f":"SUMIF($G$19:$G$5015,$G300,$H$19:$H$5015)+SUMIF('2.bTë ardhura-jopublik-monetare'!$G$19:$G$1015,'2.cTë ardhura-jopublik-nënatyrë'!$G300,'2.bTë ardhura-jopublik-monetare'!$H$19:$H$1015)","v":0}]
[null,null,null,null,null,null,null,null,null,{"$f":"SUMIF($G$19:$G$5015,$G301,$H$19:$H$5015)+SUMIF('2.bTë ardhura-jopublik-monetare'!$G$19:$G$1015,'2.cTë ardhura-jopublik-nënatyrë'!$G301,'2.bTë ardhura-jopublik-monetare'!$H$19:$H$1015)","v":0}]
[null,null,null,null,null,null,null,null,null,{"$f":"SUMIF($G$19:$G$5015,$G302,$H$19:$H$5015)+SUMIF('2.bTë ardhura-jopublik-monetare'!$G$19:$G$1015,'2.cTë ardhura-jopublik-nënatyrë'!$G302,'2.bTë ardhura-jopublik-monetare'!$H$19:$H$1015)","v":0}]
[null,null,null,null,null,null,null,null,null,{"$f":"SUMIF($G$19:$G$5015,$G303,$H$19:$H$5015)+SUMIF('2.bTë ardhura-jopublik-monetare'!$G$19:$G$1015,'2.cTë ardhura-jopublik-nënatyrë'!$G303,'2.bTë ardhura-jopublik-monetare'!$H$19:$H$1015)","v":0}]
[null,null,null,null,null,null,null,null,null,{"$f":"SUMIF($G$19:$G$5015,$G304,$H$19:$H$5015)+SUMIF('2.bTë ardhura-jopublik-monetare'!$G$19:$G$1015,'2.cTë ardhura-jopublik-nënatyrë'!$G304,'2.bTë ardhura-jopublik-monetare'!$H$19:$H$1015)","v":0}]
[null,null,null,null,null,null,null,null,null,{"$f":"SUMIF($G$19:$G$5015,$G305,$H$19:$H$5015)+SUMIF('2.bTë ardhura-jopublik-monetare'!$G$19:$G$1015,'2.cTë ardhura-jopublik-nënatyrë'!$G305,'2.bTë ardhura-jopublik-monetare'!$H$19:$H$1015)","v":0}]
[null,null,null,null,null,null,null,null,null,{"$f":"SUMIF($G$19:$G$5015,$G306,$H$19:$H$5015)+SUMIF('2.bTë ardhura-jopublik-monetare'!$G$19:$G$1015,'2.cTë ardhura-jopublik-nënatyrë'!$G306,'2.bTë ardhura-jopublik-monetare'!$H$19:$H$1015)","v":0}]
[null,null,null,null,null,null,null,null,null,{"$f":"SUMIF($G$19:$G$5015,$G307,$H$19:$H$5015)+SUMIF('2.bTë ardhura-jopublik-monetare'!$G$19:$G$1015,'2.cTë ardhura-jopublik-nënatyrë'!$G307,'2.bTë ardhura-jopublik-monetare'!$H$19:$H$1015)","v":0}]
[null,null,null,null,null,null,null,null,null,{"$f":"SUMIF($G$19:$G$5015,$G308,$H$19:$H$5015)+SUMIF('2.bTë ardhura-jopublik-monetare'!$G$19:$G$1015,'2.cTë ardhura-jopublik-nënatyrë'!$G308,'2.bTë ardhura-jopublik-monetare'!$H$19:$H$1015)","v":0}]
[null,null,null,null,null,null,null,null,null,{"$f":"SUMIF($G$19:$G$5015,$G309,$H$19:$H$5015)+SUMIF('2.bTë ardhura-jopublik-monetare'!$G$19:$G$1015,'2.cTë ardhura-jopublik-nënatyrë'!$G309,'2.bTë ardhura-jopublik-monetare'!$H$19:$H$1015)","v":0}]
[null,null,null,null,null,null,null,null,null,{"$f":"SUMIF($G$19:$G$5015,$G310,$H$19:$H$5015)+SUMIF('2.bTë ardhura-jopublik-monetare'!$G$19:$G$1015,'2.cTë ardhura-jopublik-nënatyrë'!$G310,'2.bTë ardhura-jopublik-monetare'!$H$19:$H$1015)","v":0}]
[null,null,null,null,null,null,null,null,null,{"$f":"SUMIF($G$19:$G$5015,$G311,$H$19:$H$5015)+SUMIF('2.bTë ardhura-jopublik-monetare'!$G$19:$G$1015,'2.cTë ardhura-jopublik-nënatyrë'!$G311,'2.bTë ardhura-jopublik-monetare'!$H$19:$H$1015)","v":0}]
[null,null,null,null,null,null,null,null,null,{"$f":"SUMIF($G$19:$G$5015,$G312,$H$19:$H$5015)+SUMIF('2.bTë ardhura-jopublik-monetare'!$G$19:$G$1015,'2.cTë ardhura-jopublik-nënatyrë'!$G312,'2.bTë ardhura-jopublik-monetare'!$H$19:$H$1015)","v":0}]
[null,null,null,null,null,null,null,null,null,{"$f":"SUMIF($G$19:$G$5015,$G313,$H$19:$H$5015)+SUMIF('2.bTë ardhura-jopublik-monetare'!$G$19:$G$1015,'2.cTë ardhura-jopublik-nënatyrë'!$G313,'2.bTë ardhura-jopublik-monetare'!$H$19:$H$1015)","v":0}]
[null,null,null,null,null,null,null,null,null,{"$f":"SUMIF($G$19:$G$5015,$G314,$H$19:$H$5015)+SUMIF('2.bTë ardhura-jopublik-monetare'!$G$19:$G$1015,'2.cTë ardhura-jopublik-nënatyrë'!$G314,'2.bTë ardhura-jopublik-monetare'!$H$19:$H$1015)","v":0}]
[null,null,null,null,null,null,null,null,null,{"$f":"SUMIF($G$19:$G$5015,$G315,$H$19:$H$5015)+SUMIF('2.bTë ardhura-jopublik-monetare'!$G$19:$G$1015,'2.cTë ardhura-jopublik-nënatyrë'!$G315,'2.bTë ardhura-jopublik-monetare'!$H$19:$H$1015)","v":0}]
[null,null,null,null,null,null,null,null,null,{"$f":"SUMIF($G$19:$G$5015,$G316,$H$19:$H$5015)+SUMIF('2.bTë ardhura-jopublik-monetare'!$G$19:$G$1015,'2.cTë ardhura-jopublik-nënatyrë'!$G316,'2.bTë ardhura-jopublik-monetare'!$H$19:$H$1015)","v":0}]
[null,null,null,null,null,null,null,null,null,{"$f":"SUMIF($G$19:$G$5015,$G317,$H$19:$H$5015)+SUMIF('2.bTë ardhura-jopublik-monetare'!$G$19:$G$1015,'2.cTë ardhura-jopublik-nënatyrë'!$G317,'2.bTë ardhura-jopublik-monetare'!$H$19:$H$1015)","v":0}]
[null,null,null,null,null,null,null,null,null,{"$f":"SUMIF($G$19:$G$5015,$G318,$H$19:$H$5015)+SUMIF('2.bTë ardhura-jopublik-monetare'!$G$19:$G$1015,'2.cTë ardhura-jopublik-nënatyrë'!$G318,'2.bTë ardhura-jopublik-monetare'!$H$19:$H$1015)","v":0}]
[null,null,null,null,null,null,null,null,null,{"$f":"SUMIF($G$19:$G$5015,$G319,$H$19:$H$5015)+SUMIF('2.bTë ardhura-jopublik-monetare'!$G$19:$G$1015,'2.cTë ardhura-jopublik-nënatyrë'!$G319,'2.bTë ardhura-jopublik-monetare'!$H$19:$H$1015)","v":0}]
[null,null,null,null,null,null,null,null,null,{"$f":"SUMIF($G$19:$G$5015,$G320,$H$19:$H$5015)+SUMIF('2.bTë ardhura-jopublik-monetare'!$G$19:$G$1015,'2.cTë ardhura-jopublik-nënatyrë'!$G320,'2.bTë ardhura-jopublik-monetare'!$H$19:$H$1015)","v":0}]
[null,null,null,null,null,null,null,null,null,{"$f":"SUMIF($G$19:$G$5015,$G321,$H$19:$H$5015)+SUMIF('2.bTë ardhura-jopublik-monetare'!$G$19:$G$1015,'2.cTë ardhura-jopublik-nënatyrë'!$G321,'2.bTë ardhura-jopublik-monetare'!$H$19:$H$1015)","v":0}]
[null,null,null,null,null,null,null,null,null,{"$f":"SUMIF($G$19:$G$5015,$G322,$H$19:$H$5015)+SUMIF('2.bTë ardhura-jopublik-monetare'!$G$19:$G$1015,'2.cTë ardhura-jopublik-nënatyrë'!$G322,'2.bTë ardhura-jopublik-monetare'!$H$19:$H$1015)","v":0}]
[null,null,null,null,null,null,null,null,null,{"$f":"SUMIF($G$19:$G$5015,$G323,$H$19:$H$5015)+SUMIF('2.bTë ardhura-jopublik-monetare'!$G$19:$G$1015,'2.cTë ardhura-jopublik-nënatyrë'!$G323,'2.bTë ardhura-jopublik-monetare'!$H$19:$H$1015)","v":0}]
[null,null,null,null,null,null,null,null,null,{"$f":"SUMIF($G$19:$G$5015,$G324,$H$19:$H$5015)+SUMIF('2.bTë ardhura-jopublik-monetare'!$G$19:$G$1015,'2.cTë ardhura-jopublik-nënatyrë'!$G324,'2.bTë ardhura-jopublik-monetare'!$H$19:$H$1015)","v":0}]
[null,null,null,null,null,null,null,null,null,{"$f":"SUMIF($G$19:$G$5015,$G325,$H$19:$H$5015)+SUMIF('2.bTë ardhura-jopublik-monetare'!$G$19:$G$1015,'2.cTë ardhura-jopublik-nënatyrë'!$G325,'2.bTë ardhura-jopublik-monetare'!$H$19:$H$1015)","v":0}]
[null,null,null,null,null,null,null,null,null,{"$f":"SUMIF($G$19:$G$5015,$G326,$H$19:$H$5015)+SUMIF('2.bTë ardhura-jopublik-monetare'!$G$19:$G$1015,'2.cTë ardhura-jopublik-nënatyrë'!$G326,'2.bTë ardhura-jopublik-monetare'!$H$19:$H$1015)","v":0}]
[null,null,null,null,null,null,null,null,null,{"$f":"SUMIF($G$19:$G$5015,$G327,$H$19:$H$5015)+SUMIF('2.bTë ardhura-jopublik-monetare'!$G$19:$G$1015,'2.cTë ardhura-jopublik-nënatyrë'!$G327,'2.bTë ardhura-jopublik-monetare'!$H$19:$H$1015)","v":0}]
[null,null,null,null,null,null,null,null,null,{"$f":"SUMIF($G$19:$G$5015,$G328,$H$19:$H$5015)+SUMIF('2.bTë ardhura-jopublik-monetare'!$G$19:$G$1015,'2.cTë ardhura-jopublik-nënatyrë'!$G328,'2.bTë ardhura-jopublik-monetare'!$H$19:$H$1015)","v":0}]
[null,null,null,null,null,null,null,null,null,{"$f":"SUMIF($G$19:$G$5015,$G329,$H$19:$H$5015)+SUMIF('2.bTë ardhura-jopublik-monetare'!$G$19:$G$1015,'2.cTë ardhura-jopublik-nënatyrë'!$G329,'2.bTë ardhura-jopublik-monetare'!$H$19:$H$1015)","v":0}]
[null,null,null,null,null,null,null,null,null,{"$f":"SUMIF($G$19:$G$5015,$G330,$H$19:$H$5015)+SUMIF('2.bTë ardhura-jopublik-monetare'!$G$19:$G$1015,'2.cTë ardhura-jopublik-nënatyrë'!$G330,'2.bTë ardhura-jopublik-monetare'!$H$19:$H$1015)","v":0}]
[null,null,null,null,null,null,null,null,null,{"$f":"SUMIF($G$19:$G$5015,$G331,$H$19:$H$5015)+SUMIF('2.bTë ardhura-jopublik-monetare'!$G$19:$G$1015,'2.cTë ardhura-jopublik-nënatyrë'!$G331,'2.bTë ardhura-jopublik-monetare'!$H$19:$H$1015)","v":0}]
[null,null,null,null,null,null,null,null,null,{"$f":"SUMIF($G$19:$G$5015,$G332,$H$19:$H$5015)+SUMIF('2.bTë ardhura-jopublik-monetare'!$G$19:$G$1015,'2.cTë ardhura-jopublik-nënatyrë'!$G332,'2.bTë ardhura-jopublik-monetare'!$H$19:$H$1015)","v":0}]
[null,null,null,null,null,null,null,null,null,{"$f":"SUMIF($G$19:$G$5015,$G333,$H$19:$H$5015)+SUMIF('2.bTë ardhura-jopublik-monetare'!$G$19:$G$1015,'2.cTë ardhura-jopublik-nënatyrë'!$G333,'2.bTë ardhura-jopublik-monetare'!$H$19:$H$1015)","v":0}]
[null,null,null,null,null,null,null,null,null,{"$f":"SUMIF($G$19:$G$5015,$G334,$H$19:$H$5015)+SUMIF('2.bTë ardhura-jopublik-monetare'!$G$19:$G$1015,'2.cTë ardhura-jopublik-nënatyrë'!$G334,'2.bTë ardhura-jopublik-monetare'!$H$19:$H$1015)","v":0}]
[null,null,null,null,null,null,null,null,null,{"$f":"SUMIF($G$19:$G$5015,$G335,$H$19:$H$5015)+SUMIF('2.bTë ardhura-jopublik-monetare'!$G$19:$G$1015,'2.cTë ardhura-jopublik-nënatyrë'!$G335,'2.bTë ardhura-jopublik-monetare'!$H$19:$H$1015)","v":0}]
[null,null,null,null,null,null,null,null,null,{"$f":"SUMIF($G$19:$G$5015,$G336,$H$19:$H$5015)+SUMIF('2.bTë ardhura-jopublik-monetare'!$G$19:$G$1015,'2.cTë ardhura-jopublik-nënatyrë'!$G336,'2.bTë ardhura-jopublik-monetare'!$H$19:$H$1015)","v":0}]
[null,null,null,null,null,null,null,null,null,{"$f":"SUMIF($G$19:$G$5015,$G337,$H$19:$H$5015)+SUMIF('2.bTë ardhura-jopublik-monetare'!$G$19:$G$1015,'2.cTë ardhura-jopublik-nënatyrë'!$G337,'2.bTë ardhura-jopublik-monetare'!$H$19:$H$1015)","v":0}]
[null,null,null,null,null,null,null,null,null,{"$f":"SUMIF($G$19:$G$5015,$G338,$H$19:$H$5015)+SUMIF('2.bTë ardhura-jopublik-monetare'!$G$19:$G$1015,'2.cTë ardhura-jopublik-nënatyrë'!$G338,'2.bTë ardhura-jopublik-monetare'!$H$19:$H$1015)","v":0}]
[null,null,null,null,null,null,null,null,null,{"$f":"SUMIF($G$19:$G$5015,$G339,$H$19:$H$5015)+SUMIF('2.bTë ardhura-jopublik-monetare'!$G$19:$G$1015,'2.cTë ardhura-jopublik-nënatyrë'!$G339,'2.bTë ardhura-jopublik-monetare'!$H$19:$H$1015)","v":0}]
[null,null,null,null,null,null,null,null,null,{"$f":"SUMIF($G$19:$G$5015,$G340,$H$19:$H$5015)+SUMIF('2.bTë ardhura-jopublik-monetare'!$G$19:$G$1015,'2.cTë ardhura-jopublik-nënatyrë'!$G340,'2.bTë ardhura-jopublik-monetare'!$H$19:$H$1015)","v":0}]
[null,null,null,null,null,null,null,null,null,{"$f":"SUMIF($G$19:$G$5015,$G341,$H$19:$H$5015)+SUMIF('2.bTë ardhura-jopublik-monetare'!$G$19:$G$1015,'2.cTë ardhura-jopublik-nënatyrë'!$G341,'2.bTë ardhura-jopublik-monetare'!$H$19:$H$1015)","v":0}]
[null,null,null,null,null,null,null,null,null,{"$f":"SUMIF($G$19:$G$5015,$G342,$H$19:$H$5015)+SUMIF('2.bTë ardhura-jopublik-monetare'!$G$19:$G$1015,'2.cTë ardhura-jopublik-nënatyrë'!$G342,'2.bTë ardhura-jopublik-monetare'!$H$19:$H$1015)","v":0}]
[null,null,null,null,null,null,null,null,null,{"$f":"SUMIF($G$19:$G$5015,$G343,$H$19:$H$5015)+SUMIF('2.bTë ardhura-jopublik-monetare'!$G$19:$G$1015,'2.cTë ardhura-jopublik-nënatyrë'!$G343,'2.bTë ardhura-jopublik-monetare'!$H$19:$H$1015)","v":0}]
[null,null,null,null,null,null,null,null,null,{"$f":"SUMIF($G$19:$G$5015,$G344,$H$19:$H$5015)+SUMIF('2.bTë ardhura-jopublik-monetare'!$G$19:$G$1015,'2.cTë ardhura-jopublik-nënatyrë'!$G344,'2.bTë ardhura-jopublik-monetare'!$H$19:$H$1015)","v":0}]
[null,null,null,null,null,null,null,null,null,{"$f":"SUMIF($G$19:$G$5015,$G345,$H$19:$H$5015)+SUMIF('2.bTë ardhura-jopublik-monetare'!$G$19:$G$1015,'2.cTë ardhura-jopublik-nënatyrë'!$G345,'2.bTë ardhura-jopublik-monetare'!$H$19:$H$1015)","v":0}]
[null,null,null,null,null,null,null,null,null,{"$f":"SUMIF($G$19:$G$5015,$G346,$H$19:$H$5015)+SUMIF('2.bTë ardhura-jopublik-monetare'!$G$19:$G$1015,'2.cTë ardhura-jopublik-nënatyrë'!$G346,'2.bTë ardhura-jopublik-monetare'!$H$19:$H$1015)","v":0}]
[null,null,null,null,null,null,null,null,null,{"$f":"SUMIF($G$19:$G$5015,$G347,$H$19:$H$5015)+SUMIF('2.bTë ardhura-jopublik-monetare'!$G$19:$G$1015,'2.cTë ardhura-jopublik-nënatyrë'!$G347,'2.bTë ardhura-jopublik-monetare'!$H$19:$H$1015)","v":0}]
[null,null,null,null,null,null,null,null,null,{"$f":"SUMIF($G$19:$G$5015,$G348,$H$19:$H$5015)+SUMIF('2.bTë ardhura-jopublik-monetare'!$G$19:$G$1015,'2.cTë ardhura-jopublik-nënatyrë'!$G348,'2.bTë ardhura-jopublik-monetare'!$H$19:$H$1015)","v":0}]
[null,null,null,null,null,null,null,null,null,{"$f":"SUMIF($G$19:$G$5015,$G349,$H$19:$H$5015)+SUMIF('2.bTë ardhura-jopublik-monetare'!$G$19:$G$1015,'2.cTë ardhura-jopublik-nënatyrë'!$G349,'2.bTë ardhura-jopublik-monetare'!$H$19:$H$1015)","v":0}]
[null,null,null,null,null,null,null,null,null,{"$f":"SUMIF($G$19:$G$5015,$G350,$H$19:$H$5015)+SUMIF('2.bTë ardhura-jopublik-monetare'!$G$19:$G$1015,'2.cTë ardhura-jopublik-nënatyrë'!$G350,'2.bTë ardhura-jopublik-monetare'!$H$19:$H$1015)","v":0}]
[null,null,null,null,null,null,null,null,null,{"$f":"SUMIF($G$19:$G$5015,$G351,$H$19:$H$5015)+SUMIF('2.bTë ardhura-jopublik-monetare'!$G$19:$G$1015,'2.cTë ardhura-jopublik-nënatyrë'!$G351,'2.bTë ardhura-jopublik-monetare'!$H$19:$H$1015)","v":0}]
[null,null,null,null,null,null,null,null,null,{"$f":"SUMIF($G$19:$G$5015,$G352,$H$19:$H$5015)+SUMIF('2.bTë ardhura-jopublik-monetare'!$G$19:$G$1015,'2.cTë ardhura-jopublik-nënatyrë'!$G352,'2.bTë ardhura-jopublik-monetare'!$H$19:$H$1015)","v":0}]
[null,null,null,null,null,null,null,null,null,{"$f":"SUMIF($G$19:$G$5015,$G353,$H$19:$H$5015)+SUMIF('2.bTë ardhura-jopublik-monetare'!$G$19:$G$1015,'2.cTë ardhura-jopublik-nënatyrë'!$G353,'2.bTë ardhura-jopublik-monetare'!$H$19:$H$1015)","v":0}]
[null,null,null,null,null,null,null,null,null,{"$f":"SUMIF($G$19:$G$5015,$G354,$H$19:$H$5015)+SUMIF('2.bTë ardhura-jopublik-monetare'!$G$19:$G$1015,'2.cTë ardhura-jopublik-nënatyrë'!$G354,'2.bTë ardhura-jopublik-monetare'!$H$19:$H$1015)","v":0}]
[null,null,null,null,null,null,null,null,null,{"$f":"SUMIF($G$19:$G$5015,$G355,$H$19:$H$5015)+SUMIF('2.bTë ardhura-jopublik-monetare'!$G$19:$G$1015,'2.cTë ardhura-jopublik-nënatyrë'!$G355,'2.bTë ardhura-jopublik-monetare'!$H$19:$H$1015)","v":0}]
[null,null,null,null,null,null,null,null,null,{"$f":"SUMIF($G$19:$G$5015,$G356,$H$19:$H$5015)+SUMIF('2.bTë ardhura-jopublik-monetare'!$G$19:$G$1015,'2.cTë ardhura-jopublik-nënatyrë'!$G356,'2.bTë ardhura-jopublik-monetare'!$H$19:$H$1015)","v":0}]
[null,null,null,null,null,null,null,null,null,{"$f":"SUMIF($G$19:$G$5015,$G357,$H$19:$H$5015)+SUMIF('2.bTë ardhura-jopublik-monetare'!$G$19:$G$1015,'2.cTë ardhura-jopublik-nënatyrë'!$G357,'2.bTë ardhura-jopublik-monetare'!$H$19:$H$1015)","v":0}]
[null,null,null,null,null,null,null,null,null,{"$f":"SUMIF($G$19:$G$5015,$G358,$H$19:$H$5015)+SUMIF('2.bTë ardhura-jopublik-monetare'!$G$19:$G$1015,'2.cTë ardhura-jopublik-nënatyrë'!$G358,'2.bTë ardhura-jopublik-monetare'!$H$19:$H$1015)","v":0}]
[null,null,null,null,null,null,null,null,null,{"$f":"SUMIF($G$19:$G$5015,$G359,$H$19:$H$5015)+SUMIF('2.bTë ardhura-jopublik-monetare'!$G$19:$G$1015,'2.cTë ardhura-jopublik-nënatyrë'!$G359,'2.bTë ardhura-jopublik-monetare'!$H$19:$H$1015)","v":0}]
[null,null,null,null,null,null,null,null,null,{"$f":"SUMIF($G$19:$G$5015,$G360,$H$19:$H$5015)+SUMIF('2.bTë ardhura-jopublik-monetare'!$G$19:$G$1015,'2.cTë ardhura-jopublik-nënatyrë'!$G360,'2.bTë ardhura-jopublik-monetare'!$H$19:$H$1015)","v":0}]
[null,null,null,null,null,null,null,null,null,{"$f":"SUMIF($G$19:$G$5015,$G361,$H$19:$H$5015)+SUMIF('2.bTë ardhura-jopublik-monetare'!$G$19:$G$1015,'2.cTë ardhura-jopublik-nënatyrë'!$G361,'2.bTë ardhura-jopublik-monetare'!$H$19:$H$1015)","v":0}]
[null,null,null,null,null,null,null,null,null,{"$f":"SUMIF($G$19:$G$5015,$G362,$H$19:$H$5015)+SUMIF('2.bTë ardhura-jopublik-monetare'!$G$19:$G$1015,'2.cTë ardhura-jopublik-nënatyrë'!$G362,'2.bTë ardhura-jopublik-monetare'!$H$19:$H$1015)","v":0}]
[null,null,null,null,null,null,null,null,null,{"$f":"SUMIF($G$19:$G$5015,$G363,$H$19:$H$5015)+SUMIF('2.bTë ardhura-jopublik-monetare'!$G$19:$G$1015,'2.cTë ardhura-jopublik-nënatyrë'!$G363,'2.bTë ardhura-jopublik-monetare'!$H$19:$H$1015)","v":0}]
[null,null,null,null,null,null,null,null,null,{"$f":"SUMIF($G$19:$G$5015,$G364,$H$19:$H$5015)+SUMIF('2.bTë ardhura-jopublik-monetare'!$G$19:$G$1015,'2.cTë ardhura-jopublik-nënatyrë'!$G364,'2.bTë ardhura-jopublik-monetare'!$H$19:$H$1015)","v":0}]
[null,null,null,null,null,null,null,null,null,{"$f":"SUMIF($G$19:$G$5015,$G365,$H$19:$H$5015)+SUMIF('2.bTë ardhura-jopublik-monetare'!$G$19:$G$1015,'2.cTë ardhura-jopublik-nënatyrë'!$G365,'2.bTë ardhura-jopublik-monetare'!$H$19:$H$1015)","v":0}]
[null,null,null,null,null,null,null,null,null,{"$f":"SUMIF($G$19:$G$5015,$G366,$H$19:$H$5015)+SUMIF('2.bTë ardhura-jopublik-monetare'!$G$19:$G$1015,'2.cTë ardhura-jopublik-nënatyrë'!$G366,'2.bTë ardhura-jopublik-monetare'!$H$19:$H$1015)","v":0}]
[null,null,null,null,null,null,null,null,null,{"$f":"SUMIF($G$19:$G$5015,$G367,$H$19:$H$5015)+SUMIF('2.bTë ardhura-jopublik-monetare'!$G$19:$G$1015,'2.cTë ardhura-jopublik-nënatyrë'!$G367,'2.bTë ardhura-jopublik-monetare'!$H$19:$H$1015)","v":0}]
[null,null,null,null,null,null,null,null,null,{"$f":"SUMIF($G$19:$G$5015,$G368,$H$19:$H$5015)+SUMIF('2.bTë ardhura-jopublik-monetare'!$G$19:$G$1015,'2.cTë ardhura-jopublik-nënatyrë'!$G368,'2.bTë ardhura-jopublik-monetare'!$H$19:$H$1015)","v":0}]
[null,null,null,null,null,null,null,null,null,{"$f":"SUMIF($G$19:$G$5015,$G369,$H$19:$H$5015)+SUMIF('2.bTë ardhura-jopublik-monetare'!$G$19:$G$1015,'2.cTë ardhura-jopublik-nënatyrë'!$G369,'2.bTë ardhura-jopublik-monetare'!$H$19:$H$1015)","v":0}]
[null,null,null,null,null,null,null,null,null,{"$f":"SUMIF($G$19:$G$5015,$G370,$H$19:$H$5015)+SUMIF('2.bTë ardhura-jopublik-monetare'!$G$19:$G$1015,'2.cTë ardhura-jopublik-nënatyrë'!$G370,'2.bTë ardhura-jopublik-monetare'!$H$19:$H$1015)","v":0}]
[null,null,null,null,null,null,null,null,null,{"$f":"SUMIF($G$19:$G$5015,$G371,$H$19:$H$5015)+SUMIF('2.bTë ardhura-jopublik-monetare'!$G$19:$G$1015,'2.cTë ardhura-jopublik-nënatyrë'!$G371,'2.bTë ardhura-jopublik-monetare'!$H$19:$H$1015)","v":0}]
[null,null,null,null,null,null,null,null,null,{"$f":"SUMIF($G$19:$G$5015,$G372,$H$19:$H$5015)+SUMIF('2.bTë ardhura-jopublik-monetare'!$G$19:$G$1015,'2.cTë ardhura-jopublik-nënatyrë'!$G372,'2.bTë ardhura-jopublik-monetare'!$H$19:$H$1015)","v":0}]
[null,null,null,null,null,null,null,null,null,{"$f":"SUMIF($G$19:$G$5015,$G373,$H$19:$H$5015)+SUMIF('2.bTë ardhura-jopublik-monetare'!$G$19:$G$1015,'2.cTë ardhura-jopublik-nënatyrë'!$G373,'2.bTë ardhura-jopublik-monetare'!$H$19:$H$1015)","v":0}]
[null,null,null,null,null,null,null,null,null,{"$f":"SUMIF($G$19:$G$5015,$G374,$H$19:$H$5015)+SUMIF('2.bTë ardhura-jopublik-monetare'!$G$19:$G$1015,'2.cTë ardhura-jopublik-nënatyrë'!$G374,'2.bTë ardhura-jopublik-monetare'!$H$19:$H$1015)","v":0}]
[null,null,null,null,null,null,null,null,null,{"$f":"SUMIF($G$19:$G$5015,$G375,$H$19:$H$5015)+SUMIF('2.bTë ardhura-jopublik-monetare'!$G$19:$G$1015,'2.cTë ardhura-jopublik-nënatyrë'!$G375,'2.bTë ardhura-jopublik-monetare'!$H$19:$H$1015)","v":0}]
[null,null,null,null,null,null,null,null,null,{"$f":"SUMIF($G$19:$G$5015,$G376,$H$19:$H$5015)+SUMIF('2.bTë ardhura-jopublik-monetare'!$G$19:$G$1015,'2.cTë ardhura-jopublik-nënatyrë'!$G376,'2.bTë ardhura-jopublik-monetare'!$H$19:$H$1015)","v":0}]
[null,null,null,null,null,null,null,null,null,{"$f":"SUMIF($G$19:$G$5015,$G377,$H$19:$H$5015)+SUMIF('2.bTë ardhura-jopublik-monetare'!$G$19:$G$1015,'2.cTë ardhura-jopublik-nënatyrë'!$G377,'2.bTë ardhura-jopublik-monetare'!$H$19:$H$1015)","v":0}]
[null,null,null,null,null,null,null,null,null,{"$f":"SUMIF($G$19:$G$5015,$G378,$H$19:$H$5015)+SUMIF('2.bTë ardhura-jopublik-monetare'!$G$19:$G$1015,'2.cTë ardhura-jopublik-nënatyrë'!$G378,'2.bTë ardhura-jopublik-monetare'!$H$19:$H$1015)","v":0}]
[null,null,null,null,null,null,null,null,null,{"$f":"SUMIF($G$19:$G$5015,$G379,$H$19:$H$5015)+SUMIF('2.bTë ardhura-jopublik-monetare'!$G$19:$G$1015,'2.cTë ardhura-jopublik-nënatyrë'!$G379,'2.bTë ardhura-jopublik-monetare'!$H$19:$H$1015)","v":0}]
[null,null,null,null,null,null,null,null,null,{"$f":"SUMIF($G$19:$G$5015,$G380,$H$19:$H$5015)+SUMIF('2.bTë ardhura-jopublik-monetare'!$G$19:$G$1015,'2.cTë ardhura-jopublik-nënatyrë'!$G380,'2.bTë ardhura-jopublik-monetare'!$H$19:$H$1015)","v":0}]
[null,null,null,null,null,null,null,null,null,{"$f":"SUMIF($G$19:$G$5015,$G381,$H$19:$H$5015)+SUMIF('2.bTë ardhura-jopublik-monetare'!$G$19:$G$1015,'2.cTë ardhura-jopublik-nënatyrë'!$G381,'2.bTë ardhura-jopublik-monetare'!$H$19:$H$1015)","v":0}]
[null,null,null,null,null,null,null,null,null,{"$f":"SUMIF($G$19:$G$5015,$G382,$H$19:$H$5015)+SUMIF('2.bTë ardhura-jopublik-monetare'!$G$19:$G$1015,'2.cTë ardhura-jopublik-nënatyrë'!$G382,'2.bTë ardhura-jopublik-monetare'!$H$19:$H$1015)","v":0}]
[null,null,null,null,null,null,null,null,null,{"$f":"SUMIF($G$19:$G$5015,$G383,$H$19:$H$5015)+SUMIF('2.bTë ardhura-jopublik-monetare'!$G$19:$G$1015,'2.cTë ardhura-jopublik-nënatyrë'!$G383,'2.bTë ardhura-jopublik-monetare'!$H$19:$H$1015)","v":0}]
[null,null,null,null,null,null,null,null,null,{"$f":"SUMIF($G$19:$G$5015,$G384,$H$19:$H$5015)+SUMIF('2.bTë ardhura-jopublik-monetare'!$G$19:$G$1015,'2.cTë ardhura-jopublik-nënatyrë'!$G384,'2.bTë ardhura-jopublik-monetare'!$H$19:$H$1015)","v":0}]
[null,null,null,null,null,null,null,null,null,{"$f":"SUMIF($G$19:$G$5015,$G385,$H$19:$H$5015)+SUMIF('2.bTë ardhura-jopublik-monetare'!$G$19:$G$1015,'2.cTë ardhura-jopublik-nënatyrë'!$G385,'2.bTë ardhura-jopublik-monetare'!$H$19:$H$1015)","v":0}]
[null,null,null,null,null,null,null,null,null,{"$f":"SUMIF($G$19:$G$5015,$G386,$H$19:$H$5015)+SUMIF('2.bTë ardhura-jopublik-monetare'!$G$19:$G$1015,'2.cTë ardhura-jopublik-nënatyrë'!$G386,'2.bTë ardhura-jopublik-monetare'!$H$19:$H$1015)","v":0}]
[null,null,null,null,null,null,null,null,null,{"$f":"SUMIF($G$19:$G$5015,$G387,$H$19:$H$5015)+SUMIF('2.bTë ardhura-jopublik-monetare'!$G$19:$G$1015,'2.cTë ardhura-jopublik-nënatyrë'!$G387,'2.bTë ardhura-jopublik-monetare'!$H$19:$H$1015)","v":0}]
[null,null,null,null,null,null,null,null,null,{"$f":"SUMIF($G$19:$G$5015,$G388,$H$19:$H$5015)+SUMIF('2.bTë ardhura-jopublik-monetare'!$G$19:$G$1015,'2.cTë ardhura-jopublik-nënatyrë'!$G388,'2.bTë ardhura-jopublik-monetare'!$H$19:$H$1015)","v":0}]
[null,null,null,null,null,null,null,null,null,{"$f":"SUMIF($G$19:$G$5015,$G389,$H$19:$H$5015)+SUMIF('2.bTë ardhura-jopublik-monetare'!$G$19:$G$1015,'2.cTë ardhura-jopublik-nënatyrë'!$G389,'2.bTë ardhura-jopublik-monetare'!$H$19:$H$1015)","v":0}]
[null,null,null,null,null,null,null,null,null,{"$f":"SUMIF($G$19:$G$5015,$G390,$H$19:$H$5015)+SUMIF('2.bTë ardhura-jopublik-monetare'!$G$19:$G$1015,'2.cTë ardhura-jopublik-nënatyrë'!$G390,'2.bTë ardhura-jopublik-monetare'!$H$19:$H$1015)","v":0}]
[null,null,null,null,null,null,null,null,null,{"$f":"SUMIF($G$19:$G$5015,$G391,$H$19:$H$5015)+SUMIF('2.bTë ardhura-jopublik-monetare'!$G$19:$G$1015,'2.cTë ardhura-jopublik-nënatyrë'!$G391,'2.bTë ardhura-jopublik-monetare'!$H$19:$H$1015)","v":0}]
[null,null,null,null,null,null,null,null,null,{"$f":"SUMIF($G$19:$G$5015,$G392,$H$19:$H$5015)+SUMIF('2.bTë ardhura-jopublik-monetare'!$G$19:$G$1015,'2.cTë ardhura-jopublik-nënatyrë'!$G392,'2.bTë ardhura-jopublik-monetare'!$H$19:$H$1015)","v":0}]
[null,null,null,null,null,null,null,null,null,{"$f":"SUMIF($G$19:$G$5015,$G393,$H$19:$H$5015)+SUMIF('2.bTë ardhura-jopublik-monetare'!$G$19:$G$1015,'2.cTë ardhura-jopublik-nënatyrë'!$G393,'2.bTë ardhura-jopublik-monetare'!$H$19:$H$1015)","v":0}]
[null,null,null,null,null,null,null,null,null,{"$f":"SUMIF($G$19:$G$5015,$G394,$H$19:$H$5015)+SUMIF('2.bTë ardhura-jopublik-monetare'!$G$19:$G$1015,'2.cTë ardhura-jopublik-nënatyrë'!$G394,'2.bTë ardhura-jopublik-monetare'!$H$19:$H$1015)","v":0}]
[null,null,null,null,null,null,null,null,null,{"$f":"SUMIF($G$19:$G$5015,$G395,$H$19:$H$5015)+SUMIF('2.bTë ardhura-jopublik-monetare'!$G$19:$G$1015,'2.cTë ardhura-jopublik-nënatyrë'!$G395,'2.bTë ardhura-jopublik-monetare'!$H$19:$H$1015)","v":0}]
[null,null,null,null,null,null,null,null,null,{"$f":"SUMIF($G$19:$G$5015,$G396,$H$19:$H$5015)+SUMIF('2.bTë ardhura-jopublik-monetare'!$G$19:$G$1015,'2.cTë ardhura-jopublik-nënatyrë'!$G396,'2.bTë ardhura-jopublik-monetare'!$H$19:$H$1015)","v":0}]
[null,null,null,null,null,null,null,null,null,{"$f":"SUMIF($G$19:$G$5015,$G397,$H$19:$H$5015)+SUMIF('2.bTë ardhura-jopublik-monetare'!$G$19:$G$1015,'2.cTë ardhura-jopublik-nënatyrë'!$G397,'2.bTë ardhura-jopublik-monetare'!$H$19:$H$1015)","v":0}]
[null,null,null,null,null,null,null,null,null,{"$f":"SUMIF($G$19:$G$5015,$G398,$H$19:$H$5015)+SUMIF('2.bTë ardhura-jopublik-monetare'!$G$19:$G$1015,'2.cTë ardhura-jopublik-nënatyrë'!$G398,'2.bTë ardhura-jopublik-monetare'!$H$19:$H$1015)","v":0}]
[null,null,null,null,null,null,null,null,null,{"$f":"SUMIF($G$19:$G$5015,$G399,$H$19:$H$5015)+SUMIF('2.bTë ardhura-jopublik-monetare'!$G$19:$G$1015,'2.cTë ardhura-jopublik-nënatyrë'!$G399,'2.bTë ardhura-jopublik-monetare'!$H$19:$H$1015)","v":0}]
[null,null,null,null,null,null,null,null,null,{"$f":"SUMIF($G$19:$G$5015,$G400,$H$19:$H$5015)+SUMIF('2.bTë ardhura-jopublik-monetare'!$G$19:$G$1015,'2.cTë ardhura-jopublik-nënatyrë'!$G400,'2.bTë ardhura-jopublik-monetare'!$H$19:$H$1015)","v":0}]
[null,null,null,null,null,null,null,null,null,{"$f":"SUMIF($G$19:$G$5015,$G401,$H$19:$H$5015)+SUMIF('2.bTë ardhura-jopublik-monetare'!$G$19:$G$1015,'2.cTë ardhura-jopublik-nënatyrë'!$G401,'2.bTë ardhura-jopublik-monetare'!$H$19:$H$1015)","v":0}]
[null,null,null,null,null,null,null,null,null,{"$f":"SUMIF($G$19:$G$5015,$G402,$H$19:$H$5015)+SUMIF('2.bTë ardhura-jopublik-monetare'!$G$19:$G$1015,'2.cTë ardhura-jopublik-nënatyrë'!$G402,'2.bTë ardhura-jopublik-monetare'!$H$19:$H$1015)","v":0}]
[null,null,null,null,null,null,null,null,null,{"$f":"SUMIF($G$19:$G$5015,$G403,$H$19:$H$5015)+SUMIF('2.bTë ardhura-jopublik-monetare'!$G$19:$G$1015,'2.cTë ardhura-jopublik-nënatyrë'!$G403,'2.bTë ardhura-jopublik-monetare'!$H$19:$H$1015)","v":0}]
[null,null,null,null,null,null,null,null,null,{"$f":"SUMIF($G$19:$G$5015,$G404,$H$19:$H$5015)+SUMIF('2.bTë ardhura-jopublik-monetare'!$G$19:$G$1015,'2.cTë ardhura-jopublik-nënatyrë'!$G404,'2.bTë ardhura-jopublik-monetare'!$H$19:$H$1015)","v":0}]
[null,null,null,null,null,null,null,null,null,{"$f":"SUMIF($G$19:$G$5015,$G405,$H$19:$H$5015)+SUMIF('2.bTë ardhura-jopublik-monetare'!$G$19:$G$1015,'2.cTë ardhura-jopublik-nënatyrë'!$G405,'2.bTë ardhura-jopublik-monetare'!$H$19:$H$1015)","v":0}]
[null,null,null,null,null,null,null,null,null,{"$f":"SUMIF($G$19:$G$5015,$G406,$H$19:$H$5015)+SUMIF('2.bTë ardhura-jopublik-monetare'!$G$19:$G$1015,'2.cTë ardhura-jopublik-nënatyrë'!$G406,'2.bTë ardhura-jopublik-monetare'!$H$19:$H$1015)","v":0}]
[null,null,null,null,null,null,null,null,null,{"$f":"SUMIF($G$19:$G$5015,$G407,$H$19:$H$5015)+SUMIF('2.bTë ardhura-jopublik-monetare'!$G$19:$G$1015,'2.cTë ardhura-jopublik-nënatyrë'!$G407,'2.bTë ardhura-jopublik-monetare'!$H$19:$H$1015)","v":0}]
[null,null,null,null,null,null,null,null,null,{"$f":"SUMIF($G$19:$G$5015,$G408,$H$19:$H$5015)+SUMIF('2.bTë ardhura-jopublik-monetare'!$G$19:$G$1015,'2.cTë ardhura-jopublik-nënatyrë'!$G408,'2.bTë ardhura-jopublik-monetare'!$H$19:$H$1015)","v":0}]
[null,null,null,null,null,null,null,null,null,{"$f":"SUMIF($G$19:$G$5015,$G409,$H$19:$H$5015)+SUMIF('2.bTë ardhura-jopublik-monetare'!$G$19:$G$1015,'2.cTë ardhura-jopublik-nënatyrë'!$G409,'2.bTë ardhura-jopublik-monetare'!$H$19:$H$1015)","v":0}]
[null,null,null,null,null,null,null,null,null,{"$f":"SUMIF($G$19:$G$5015,$G410,$H$19:$H$5015)+SUMIF('2.bTë ardhura-jopublik-monetare'!$G$19:$G$1015,'2.cTë ardhura-jopublik-nënatyrë'!$G410,'2.bTë ardhura-jopublik-monetare'!$H$19:$H$1015)","v":0}]
[null,null,null,null,null,null,null,null,null,{"$f":"SUMIF($G$19:$G$5015,$G411,$H$19:$H$5015)+SUMIF('2.bTë ardhura-jopublik-monetare'!$G$19:$G$1015,'2.cTë ardhura-jopublik-nënatyrë'!$G411,'2.bTë ardhura-jopublik-monetare'!$H$19:$H$1015)","v":0}]
[null,null,null,null,null,null,null,null,null,{"$f":"SUMIF($G$19:$G$5015,$G412,$H$19:$H$5015)+SUMIF('2.bTë ardhura-jopublik-monetare'!$G$19:$G$1015,'2.cTë ardhura-jopublik-nënatyrë'!$G412,'2.bTë ardhura-jopublik-monetare'!$H$19:$H$1015)","v":0}]
[null,null,null,null,null,null,null,null,null,{"$f":"SUMIF($G$19:$G$5015,$G413,$H$19:$H$5015)+SUMIF('2.bTë ardhura-jopublik-monetare'!$G$19:$G$1015,'2.cTë ardhura-jopublik-nënatyrë'!$G413,'2.bTë ardhura-jopublik-monetare'!$H$19:$H$1015)","v":0}]
[null,null,null,null,null,null,null,null,null,{"$f":"SUMIF($G$19:$G$5015,$G414,$H$19:$H$5015)+SUMIF('2.bTë ardhura-jopublik-monetare'!$G$19:$G$1015,'2.cTë ardhura-jopublik-nënatyrë'!$G414,'2.bTë ardhura-jopublik-monetare'!$H$19:$H$1015)","v":0}]
[null,null,null,null,null,null,null,null,null,{"$f":"SUMIF($G$19:$G$5015,$G415,$H$19:$H$5015)+SUMIF('2.bTë ardhura-jopublik-monetare'!$G$19:$G$1015,'2.cTë ardhura-jopublik-nënatyrë'!$G415,'2.bTë ardhura-jopublik-monetare'!$H$19:$H$1015)","v":0}]
[null,null,null,null,null,null,null,null,null,{"$f":"SUMIF($G$19:$G$5015,$G416,$H$19:$H$5015)+SUMIF('2.bTë ardhura-jopublik-monetare'!$G$19:$G$1015,'2.cTë ardhura-jopublik-nënatyrë'!$G416,'2.bTë ardhura-jopublik-monetare'!$H$19:$H$1015)","v":0}]
[null,null,null,null,null,null,null,null,null,{"$f":"SUMIF($G$19:$G$5015,$G417,$H$19:$H$5015)+SUMIF('2.bTë ardhura-jopublik-monetare'!$G$19:$G$1015,'2.cTë ardhura-jopublik-nënatyrë'!$G417,'2.bTë ardhura-jopublik-monetare'!$H$19:$H$1015)","v":0}]
[null,null,null,null,null,null,null,null,null,{"$f":"SUMIF($G$19:$G$5015,$G418,$H$19:$H$5015)+SUMIF('2.bTë ardhura-jopublik-monetare'!$G$19:$G$1015,'2.cTë ardhura-jopublik-nënatyrë'!$G418,'2.bTë ardhura-jopublik-monetare'!$H$19:$H$1015)","v":0}]
[null,null,null,null,null,null,null,null,null,{"$f":"SUMIF($G$19:$G$5015,$G419,$H$19:$H$5015)+SUMIF('2.bTë ardhura-jopublik-monetare'!$G$19:$G$1015,'2.cTë ardhura-jopublik-nënatyrë'!$G419,'2.bTë ardhura-jopublik-monetare'!$H$19:$H$1015)","v":0}]
[null,null,null,null,null,null,null,null,null,{"$f":"SUMIF($G$19:$G$5015,$G420,$H$19:$H$5015)+SUMIF('2.bTë ardhura-jopublik-monetare'!$G$19:$G$1015,'2.cTë ardhura-jopublik-nënatyrë'!$G420,'2.bTë ardhura-jopublik-monetare'!$H$19:$H$1015)","v":0}]
[null,null,null,null,null,null,null,null,null,{"$f":"SUMIF($G$19:$G$5015,$G421,$H$19:$H$5015)+SUMIF('2.bTë ardhura-jopublik-monetare'!$G$19:$G$1015,'2.cTë ardhura-jopublik-nënatyrë'!$G421,'2.bTë ardhura-jopublik-monetare'!$H$19:$H$1015)","v":0}]
[null,null,null,null,null,null,null,null,null,{"$f":"SUMIF($G$19:$G$5015,$G422,$H$19:$H$5015)+SUMIF('2.bTë ardhura-jopublik-monetare'!$G$19:$G$1015,'2.cTë ardhura-jopublik-nënatyrë'!$G422,'2.bTë ardhura-jopublik-monetare'!$H$19:$H$1015)","v":0}]
[null,null,null,null,null,null,null,null,null,{"$f":"SUMIF($G$19:$G$5015,$G423,$H$19:$H$5015)+SUMIF('2.bTë ardhura-jopublik-monetare'!$G$19:$G$1015,'2.cTë ardhura-jopublik-nënatyrë'!$G423,'2.bTë ardhura-jopublik-monetare'!$H$19:$H$1015)","v":0}]
[null,null,null,null,null,null,null,null,null,{"$f":"SUMIF($G$19:$G$5015,$G424,$H$19:$H$5015)+SUMIF('2.bTë ardhura-jopublik-monetare'!$G$19:$G$1015,'2.cTë ardhura-jopublik-nënatyrë'!$G424,'2.bTë ardhura-jopublik-monetare'!$H$19:$H$1015)","v":0}]
[null,null,null,null,null,null,null,null,null,{"$f":"SUMIF($G$19:$G$5015,$G425,$H$19:$H$5015)+SUMIF('2.bTë ardhura-jopublik-monetare'!$G$19:$G$1015,'2.cTë ardhura-jopublik-nënatyrë'!$G425,'2.bTë ardhura-jopublik-monetare'!$H$19:$H$1015)","v":0}]
[null,null,null,null,null,null,null,null,null,{"$f":"SUMIF($G$19:$G$5015,$G426,$H$19:$H$5015)+SUMIF('2.bTë ardhura-jopublik-monetare'!$G$19:$G$1015,'2.cTë ardhura-jopublik-nënatyrë'!$G426,'2.bTë ardhura-jopublik-monetare'!$H$19:$H$1015)","v":0}]
[null,null,null,null,null,null,null,null,null,{"$f":"SUMIF($G$19:$G$5015,$G427,$H$19:$H$5015)+SUMIF('2.bTë ardhura-jopublik-monetare'!$G$19:$G$1015,'2.cTë ardhura-jopublik-nënatyrë'!$G427,'2.bTë ardhura-jopublik-monetare'!$H$19:$H$1015)","v":0}]
[null,null,null,null,null,null,null,null,null,{"$f":"SUMIF($G$19:$G$5015,$G428,$H$19:$H$5015)+SUMIF('2.bTë ardhura-jopublik-monetare'!$G$19:$G$1015,'2.cTë ardhura-jopublik-nënatyrë'!$G428,'2.bTë ardhura-jopublik-monetare'!$H$19:$H$1015)","v":0}]
[null,null,null,null,null,null,null,null,null,{"$f":"SUMIF($G$19:$G$5015,$G429,$H$19:$H$5015)+SUMIF('2.bTë ardhura-jopublik-monetare'!$G$19:$G$1015,'2.cTë ardhura-jopublik-nënatyrë'!$G429,'2.bTë ardhura-jopublik-monetare'!$H$19:$H$1015)","v":0}]
[null,null,null,null,null,null,null,null,null,{"$f":"SUMIF($G$19:$G$5015,$G430,$H$19:$H$5015)+SUMIF('2.bTë ardhura-jopublik-monetare'!$G$19:$G$1015,'2.cTë ardhura-jopublik-nënatyrë'!$G430,'2.bTë ardhura-jopublik-monetare'!$H$19:$H$1015)","v":0}]
[null,null,null,null,null,null,null,null,null,{"$f":"SUMIF($G$19:$G$5015,$G431,$H$19:$H$5015)+SUMIF('2.bTë ardhura-jopublik-monetare'!$G$19:$G$1015,'2.cTë ardhura-jopublik-nënatyrë'!$G431,'2.bTë ardhura-jopublik-monetare'!$H$19:$H$1015)","v":0}]
[null,null,null,null,null,null,null,null,null,{"$f":"SUMIF($G$19:$G$5015,$G432,$H$19:$H$5015)+SUMIF('2.bTë ardhura-jopublik-monetare'!$G$19:$G$1015,'2.cTë ardhura-jopublik-nënatyrë'!$G432,'2.bTë ardhura-jopublik-monetare'!$H$19:$H$1015)","v":0}]
[null,null,null,null,null,null,null,null,null,{"$f":"SUMIF($G$19:$G$5015,$G433,$H$19:$H$5015)+SUMIF('2.bTë ardhura-jopublik-monetare'!$G$19:$G$1015,'2.cTë ardhura-jopublik-nënatyrë'!$G433,'2.bTë ardhura-jopublik-monetare'!$H$19:$H$1015)","v":0}]
[null,null,null,null,null,null,null,null,null,{"$f":"SUMIF($G$19:$G$5015,$G434,$H$19:$H$5015)+SUMIF('2.bTë ardhura-jopublik-monetare'!$G$19:$G$1015,'2.cTë ardhura-jopublik-nënatyrë'!$G434,'2.bTë ardhura-jopublik-monetare'!$H$19:$H$1015)","v":0}]
[null,null,null,null,null,null,null,null,null,{"$f":"SUMIF($G$19:$G$5015,$G435,$H$19:$H$5015)+SUMIF('2.bTë ardhura-jopublik-monetare'!$G$19:$G$1015,'2.cTë ardhura-jopublik-nënatyrë'!$G435,'2.bTë ardhura-jopublik-monetare'!$H$19:$H$1015)","v":0}]
[null,null,null,null,null,null,null,null,null,{"$f":"SUMIF($G$19:$G$5015,$G436,$H$19:$H$5015)+SUMIF('2.bTë ardhura-jopublik-monetare'!$G$19:$G$1015,'2.cTë ardhura-jopublik-nënatyrë'!$G436,'2.bTë ardhura-jopublik-monetare'!$H$19:$H$1015)","v":0}]
[null,null,null,null,null,null,null,null,null,{"$f":"SUMIF($G$19:$G$5015,$G437,$H$19:$H$5015)+SUMIF('2.bTë ardhura-jopublik-monetare'!$G$19:$G$1015,'2.cTë ardhura-jopublik-nënatyrë'!$G437,'2.bTë ardhura-jopublik-monetare'!$H$19:$H$1015)","v":0}]
[null,null,null,null,null,null,null,null,null,{"$f":"SUMIF($G$19:$G$5015,$G438,$H$19:$H$5015)+SUMIF('2.bTë ardhura-jopublik-monetare'!$G$19:$G$1015,'2.cTë ardhura-jopublik-nënatyrë'!$G438,'2.bTë ardhura-jopublik-monetare'!$H$19:$H$1015)","v":0}]
[null,null,null,null,null,null,null,null,null,{"$f":"SUMIF($G$19:$G$5015,$G439,$H$19:$H$5015)+SUMIF('2.bTë ardhura-jopublik-monetare'!$G$19:$G$1015,'2.cTë ardhura-jopublik-nënatyrë'!$G439,'2.bTë ardhura-jopublik-monetare'!$H$19:$H$1015)","v":0}]
[null,null,null,null,null,null,null,null,null,{"$f":"SUMIF($G$19:$G$5015,$G440,$H$19:$H$5015)+SUMIF('2.bTë ardhura-jopublik-monetare'!$G$19:$G$1015,'2.cTë ardhura-jopublik-nënatyrë'!$G440,'2.bTë ardhura-jopublik-monetare'!$H$19:$H$1015)","v":0}]
[null,null,null,null,null,null,null,null,null,{"$f":"SUMIF($G$19:$G$5015,$G441,$H$19:$H$5015)+SUMIF('2.bTë ardhura-jopublik-monetare'!$G$19:$G$1015,'2.cTë ardhura-jopublik-nënatyrë'!$G441,'2.bTë ardhura-jopublik-monetare'!$H$19:$H$1015)","v":0}]
[null,null,null,null,null,null,null,null,null,{"$f":"SUMIF($G$19:$G$5015,$G442,$H$19:$H$5015)+SUMIF('2.bTë ardhura-jopublik-monetare'!$G$19:$G$1015,'2.cTë ardhura-jopublik-nënatyrë'!$G442,'2.bTë ardhura-jopublik-monetare'!$H$19:$H$1015)","v":0}]
[null,null,null,null,null,null,null,null,null,{"$f":"SUMIF($G$19:$G$5015,$G443,$H$19:$H$5015)+SUMIF('2.bTë ardhura-jopublik-monetare'!$G$19:$G$1015,'2.cTë ardhura-jopublik-nënatyrë'!$G443,'2.bTë ardhura-jopublik-monetare'!$H$19:$H$1015)","v":0}]
[null,null,null,null,null,null,null,null,null,{"$f":"SUMIF($G$19:$G$5015,$G444,$H$19:$H$5015)+SUMIF('2.bTë ardhura-jopublik-monetare'!$G$19:$G$1015,'2.cTë ardhura-jopublik-nënatyrë'!$G444,'2.bTë ardhura-jopublik-monetare'!$H$19:$H$1015)","v":0}]
[null,null,null,null,null,null,null,null,null,{"$f":"SUMIF($G$19:$G$5015,$G445,$H$19:$H$5015)+SUMIF('2.bTë ardhura-jopublik-monetare'!$G$19:$G$1015,'2.cTë ardhura-jopublik-nënatyrë'!$G445,'2.bTë ardhura-jopublik-monetare'!$H$19:$H$1015)","v":0}]
[null,null,null,null,null,null,null,null,null,{"$f":"SUMIF($G$19:$G$5015,$G446,$H$19:$H$5015)+SUMIF('2.bTë ardhura-jopublik-monetare'!$G$19:$G$1015,'2.cTë ardhura-jopublik-nënatyrë'!$G446,'2.bTë ardhura-jopublik-monetare'!$H$19:$H$1015)","v":0}]
[null,null,null,null,null,null,null,null,null,{"$f":"SUMIF($G$19:$G$5015,$G447,$H$19:$H$5015)+SUMIF('2.bTë ardhura-jopublik-monetare'!$G$19:$G$1015,'2.cTë ardhura-jopublik-nënatyrë'!$G447,'2.bTë ardhura-jopublik-monetare'!$H$19:$H$1015)","v":0}]
[null,null,null,null,null,null,null,null,null,{"$f":"SUMIF($G$19:$G$5015,$G448,$H$19:$H$5015)+SUMIF('2.bTë ardhura-jopublik-monetare'!$G$19:$G$1015,'2.cTë ardhura-jopublik-nënatyrë'!$G448,'2.bTë ardhura-jopublik-monetare'!$H$19:$H$1015)","v":0}]
[null,null,null,null,null,null,null,null,null,{"$f":"SUMIF($G$19:$G$5015,$G449,$H$19:$H$5015)+SUMIF('2.bTë ardhura-jopublik-monetare'!$G$19:$G$1015,'2.cTë ardhura-jopublik-nënatyrë'!$G449,'2.bTë ardhura-jopublik-monetare'!$H$19:$H$1015)","v":0}]
[null,null,null,null,null,null,null,null,null,{"$f":"SUMIF($G$19:$G$5015,$G450,$H$19:$H$5015)+SUMIF('2.bTë ardhura-jopublik-monetare'!$G$19:$G$1015,'2.cTë ardhura-jopublik-nënatyrë'!$G450,'2.bTë ardhura-jopublik-monetare'!$H$19:$H$1015)","v":0}]
[null,null,null,null,null,null,null,null,null,{"$f":"SUMIF($G$19:$G$5015,$G451,$H$19:$H$5015)+SUMIF('2.bTë ardhura-jopublik-monetare'!$G$19:$G$1015,'2.cTë ardhura-jopublik-nënatyrë'!$G451,'2.bTë ardhura-jopublik-monetare'!$H$19:$H$1015)","v":0}]
[null,null,null,null,null,null,null,null,null,{"$f":"SUMIF($G$19:$G$5015,$G452,$H$19:$H$5015)+SUMIF('2.bTë ardhura-jopublik-monetare'!$G$19:$G$1015,'2.cTë ardhura-jopublik-nënatyrë'!$G452,'2.bTë ardhura-jopublik-monetare'!$H$19:$H$1015)","v":0}]
[null,null,null,null,null,null,null,null,null,{"$f":"SUMIF($G$19:$G$5015,$G453,$H$19:$H$5015)+SUMIF('2.bTë ardhura-jopublik-monetare'!$G$19:$G$1015,'2.cTë ardhura-jopublik-nënatyrë'!$G453,'2.bTë ardhura-jopublik-monetare'!$H$19:$H$1015)","v":0}]
[null,null,null,null,null,null,null,null,null,{"$f":"SUMIF($G$19:$G$5015,$G454,$H$19:$H$5015)+SUMIF('2.bTë ardhura-jopublik-monetare'!$G$19:$G$1015,'2.cTë ardhura-jopublik-nënatyrë'!$G454,'2.bTë ardhura-jopublik-monetare'!$H$19:$H$1015)","v":0}]
[null,null,null,null,null,null,null,null,null,{"$f":"SUMIF($G$19:$G$5015,$G455,$H$19:$H$5015)+SUMIF('2.bTë ardhura-jopublik-monetare'!$G$19:$G$1015,'2.cTë ardhura-jopublik-nënatyrë'!$G455,'2.bTë ardhura-jopublik-monetare'!$H$19:$H$1015)","v":0}]
[null,null,null,null,null,null,null,null,null,{"$f":"SUMIF($G$19:$G$5015,$G456,$H$19:$H$5015)+SUMIF('2.bTë ardhura-jopublik-monetare'!$G$19:$G$1015,'2.cTë ardhura-jopublik-nënatyrë'!$G456,'2.bTë ardhura-jopublik-monetare'!$H$19:$H$1015)","v":0}]
[null,null,null,null,null,null,null,null,null,{"$f":"SUMIF($G$19:$G$5015,$G457,$H$19:$H$5015)+SUMIF('2.bTë ardhura-jopublik-monetare'!$G$19:$G$1015,'2.cTë ardhura-jopublik-nënatyrë'!$G457,'2.bTë ardhura-jopublik-monetare'!$H$19:$H$1015)","v":0}]
[null,null,null,null,null,null,null,null,null,{"$f":"SUMIF($G$19:$G$5015,$G458,$H$19:$H$5015)+SUMIF('2.bTë ardhura-jopublik-monetare'!$G$19:$G$1015,'2.cTë ardhura-jopublik-nënatyrë'!$G458,'2.bTë ardhura-jopublik-monetare'!$H$19:$H$1015)","v":0}]
[null,null,null,null,null,null,null,null,null,{"$f":"SUMIF($G$19:$G$5015,$G459,$H$19:$H$5015)+SUMIF('2.bTë ardhura-jopublik-monetare'!$G$19:$G$1015,'2.cTë ardhura-jopublik-nënatyrë'!$G459,'2.bTë ardhura-jopublik-monetare'!$H$19:$H$1015)","v":0}]
[null,null,null,null,null,null,null,null,null,{"$f":"SUMIF($G$19:$G$5015,$G460,$H$19:$H$5015)+SUMIF('2.bTë ardhura-jopublik-monetare'!$G$19:$G$1015,'2.cTë ardhura-jopublik-nënatyrë'!$G460,'2.bTë ardhura-jopublik-monetare'!$H$19:$H$1015)","v":0}]
[null,null,null,null,null,null,null,null,null,{"$f":"SUMIF($G$19:$G$5015,$G461,$H$19:$H$5015)+SUMIF('2.bTë ardhura-jopublik-monetare'!$G$19:$G$1015,'2.cTë ardhura-jopublik-nënatyrë'!$G461,'2.bTë ardhura-jopublik-monetare'!$H$19:$H$1015)","v":0}]
[null,null,null,null,null,null,null,null,null,{"$f":"SUMIF($G$19:$G$5015,$G462,$H$19:$H$5015)+SUMIF('2.bTë ardhura-jopublik-monetare'!$G$19:$G$1015,'2.cTë ardhura-jopublik-nënatyrë'!$G462,'2.bTë ardhura-jopublik-monetare'!$H$19:$H$1015)","v":0}]
[null,null,null,null,null,null,null,null,null,{"$f":"SUMIF($G$19:$G$5015,$G463,$H$19:$H$5015)+SUMIF('2.bTë ardhura-jopublik-monetare'!$G$19:$G$1015,'2.cTë ardhura-jopublik-nënatyrë'!$G463,'2.bTë ardhura-jopublik-monetare'!$H$19:$H$1015)","v":0}]
[null,null,null,null,null,null,null,null,null,{"$f":"SUMIF($G$19:$G$5015,$G464,$H$19:$H$5015)+SUMIF('2.bTë ardhura-jopublik-monetare'!$G$19:$G$1015,'2.cTë ardhura-jopublik-nënatyrë'!$G464,'2.bTë ardhura-jopublik-monetare'!$H$19:$H$1015)","v":0}]
[null,null,null,null,null,null,null,null,null,{"$f":"SUMIF($G$19:$G$5015,$G465,$H$19:$H$5015)+SUMIF('2.bTë ardhura-jopublik-monetare'!$G$19:$G$1015,'2.cTë ardhura-jopublik-nënatyrë'!$G465,'2.bTë ardhura-jopublik-monetare'!$H$19:$H$1015)","v":0}]
[null,null,null,null,null,null,null,null,null,{"$f":"SUMIF($G$19:$G$5015,$G466,$H$19:$H$5015)+SUMIF('2.bTë ardhura-jopublik-monetare'!$G$19:$G$1015,'2.cTë ardhura-jopublik-nënatyrë'!$G466,'2.bTë ardhura-jopublik-monetare'!$H$19:$H$1015)","v":0}]
[null,null,null,null,null,null,null,null,null,{"$f":"SUMIF($G$19:$G$5015,$G467,$H$19:$H$5015)+SUMIF('2.bTë ardhura-jopublik-monetare'!$G$19:$G$1015,'2.cTë ardhura-jopublik-nënatyrë'!$G467,'2.bTë ardhura-jopublik-monetare'!$H$19:$H$1015)","v":0}]
[null,null,null,null,null,null,null,null,null,{"$f":"SUMIF($G$19:$G$5015,$G468,$H$19:$H$5015)+SUMIF('2.bTë ardhura-jopublik-monetare'!$G$19:$G$1015,'2.cTë ardhura-jopublik-nënatyrë'!$G468,'2.bTë ardhura-jopublik-monetare'!$H$19:$H$1015)","v":0}]
[null,null,null,null,null,null,null,null,null,{"$f":"SUMIF($G$19:$G$5015,$G469,$H$19:$H$5015)+SUMIF('2.bTë ardhura-jopublik-monetare'!$G$19:$G$1015,'2.cTë ardhura-jopublik-nënatyrë'!$G469,'2.bTë ardhura-jopublik-monetare'!$H$19:$H$1015)","v":0}]
[null,null,null,null,null,null,null,null,null,{"$f":"SUMIF($G$19:$G$5015,$G470,$H$19:$H$5015)+SUMIF('2.bTë ardhura-jopublik-monetare'!$G$19:$G$1015,'2.cTë ardhura-jopublik-nënatyrë'!$G470,'2.bTë ardhura-jopublik-monetare'!$H$19:$H$1015)","v":0}]
[null,null,null,null,null,null,null,null,null,{"$f":"SUMIF($G$19:$G$5015,$G471,$H$19:$H$5015)+SUMIF('2.bTë ardhura-jopublik-monetare'!$G$19:$G$1015,'2.cTë ardhura-jopublik-nënatyrë'!$G471,'2.bTë ardhura-jopublik-monetare'!$H$19:$H$1015)","v":0}]
[null,null,null,null,null,null,null,null,null,{"$f":"SUMIF($G$19:$G$5015,$G472,$H$19:$H$5015)+SUMIF('2.bTë ardhura-jopublik-monetare'!$G$19:$G$1015,'2.cTë ardhura-jopublik-nënatyrë'!$G472,'2.bTë ardhura-jopublik-monetare'!$H$19:$H$1015)","v":0}]
[null,null,null,null,null,null,null,null,null,{"$f":"SUMIF($G$19:$G$5015,$G473,$H$19:$H$5015)+SUMIF('2.bTë ardhura-jopublik-monetare'!$G$19:$G$1015,'2.cTë ardhura-jopublik-nënatyrë'!$G473,'2.bTë ardhura-jopublik-monetare'!$H$19:$H$1015)","v":0}]
[null,null,null,null,null,null,null,null,null,{"$f":"SUMIF($G$19:$G$5015,$G474,$H$19:$H$5015)+SUMIF('2.bTë ardhura-jopublik-monetare'!$G$19:$G$1015,'2.cTë ardhura-jopublik-nënatyrë'!$G474,'2.bTë ardhura-jopublik-monetare'!$H$19:$H$1015)","v":0}]
[null,null,null,null,null,null,null,null,null,{"$f":"SUMIF($G$19:$G$5015,$G475,$H$19:$H$5015)+SUMIF('2.bTë ardhura-jopublik-monetare'!$G$19:$G$1015,'2.cTë ardhura-jopublik-nënatyrë'!$G475,'2.bTë ardhura-jopublik-monetare'!$H$19:$H$1015)","v":0}]
[null,null,null,null,null,null,null,null,null,{"$f":"SUMIF($G$19:$G$5015,$G476,$H$19:$H$5015)+SUMIF('2.bTë ardhura-jopublik-monetare'!$G$19:$G$1015,'2.cTë ardhura-jopublik-nënatyrë'!$G476,'2.bTë ardhura-jopublik-monetare'!$H$19:$H$1015)","v":0}]
[null,null,null,null,null,null,null,null,null,{"$f":"SUMIF($G$19:$G$5015,$G477,$H$19:$H$5015)+SUMIF('2.bTë ardhura-jopublik-monetare'!$G$19:$G$1015,'2.cTë ardhura-jopublik-nënatyrë'!$G477,'2.bTë ardhura-jopublik-monetare'!$H$19:$H$1015)","v":0}]
[null,null,null,null,null,null,null,null,null,{"$f":"SUMIF($G$19:$G$5015,$G478,$H$19:$H$5015)+SUMIF('2.bTë ardhura-jopublik-monetare'!$G$19:$G$1015,'2.cTë ardhura-jopublik-nënatyrë'!$G478,'2.bTë ardhura-jopublik-monetare'!$H$19:$H$1015)","v":0}]
[null,null,null,null,null,null,null,null,null,{"$f":"SUMIF($G$19:$G$5015,$G479,$H$19:$H$5015)+SUMIF('2.bTë ardhura-jopublik-monetare'!$G$19:$G$1015,'2.cTë ardhura-jopublik-nënatyrë'!$G479,'2.bTë ardhura-jopublik-monetare'!$H$19:$H$1015)","v":0}]
[null,null,null,null,null,null,null,null,null,{"$f":"SUMIF($G$19:$G$5015,$G480,$H$19:$H$5015)+SUMIF('2.bTë ardhura-jopublik-monetare'!$G$19:$G$1015,'2.cTë ardhura-jopublik-nënatyrë'!$G480,'2.bTë ardhura-jopublik-monetare'!$H$19:$H$1015)","v":0}]
[null,null,null,null,null,null,null,null,null,{"$f":"SUMIF($G$19:$G$5015,$G481,$H$19:$H$5015)+SUMIF('2.bTë ardhura-jopublik-monetare'!$G$19:$G$1015,'2.cTë ardhura-jopublik-nënatyrë'!$G481,'2.bTë ardhura-jopublik-monetare'!$H$19:$H$1015)","v":0}]
[null,null,null,null,null,null,null,null,null,{"$f":"SUMIF($G$19:$G$5015,$G482,$H$19:$H$5015)+SUMIF('2.bTë ardhura-jopublik-monetare'!$G$19:$G$1015,'2.cTë ardhura-jopublik-nënatyrë'!$G482,'2.bTë ardhura-jopublik-monetare'!$H$19:$H$1015)","v":0}]
[null,null,null,null,null,null,null,null,null,{"$f":"SUMIF($G$19:$G$5015,$G483,$H$19:$H$5015)+SUMIF('2.bTë ardhura-jopublik-monetare'!$G$19:$G$1015,'2.cTë ardhura-jopublik-nënatyrë'!$G483,'2.bTë ardhura-jopublik-monetare'!$H$19:$H$1015)","v":0}]
[null,null,null,null,null,null,null,null,null,{"$f":"SUMIF($G$19:$G$5015,$G484,$H$19:$H$5015)+SUMIF('2.bTë ardhura-jopublik-monetare'!$G$19:$G$1015,'2.cTë ardhura-jopublik-nënatyrë'!$G484,'2.bTë ardhura-jopublik-monetare'!$H$19:$H$1015)","v":0}]
[null,null,null,null,null,null,null,null,null,{"$f":"SUMIF($G$19:$G$5015,$G485,$H$19:$H$5015)+SUMIF('2.bTë ardhura-jopublik-monetare'!$G$19:$G$1015,'2.cTë ardhura-jopublik-nënatyrë'!$G485,'2.bTë ardhura-jopublik-monetare'!$H$19:$H$1015)","v":0}]
[null,null,null,null,null,null,null,null,null,{"$f":"SUMIF($G$19:$G$5015,$G486,$H$19:$H$5015)+SUMIF('2.bTë ardhura-jopublik-monetare'!$G$19:$G$1015,'2.cTë ardhura-jopublik-nënatyrë'!$G486,'2.bTë ardhura-jopublik-monetare'!$H$19:$H$1015)","v":0}]
[null,null,null,null,null,null,null,null,null,{"$f":"SUMIF($G$19:$G$5015,$G487,$H$19:$H$5015)+SUMIF('2.bTë ardhura-jopublik-monetare'!$G$19:$G$1015,'2.cTë ardhura-jopublik-nënatyrë'!$G487,'2.bTë ardhura-jopublik-monetare'!$H$19:$H$1015)","v":0}]
[null,null,null,null,null,null,null,null,null,{"$f":"SUMIF($G$19:$G$5015,$G488,$H$19:$H$5015)+SUMIF('2.bTë ardhura-jopublik-monetare'!$G$19:$G$1015,'2.cTë ardhura-jopublik-nënatyrë'!$G488,'2.bTë ardhura-jopublik-monetare'!$H$19:$H$1015)","v":0}]
[null,null,null,null,null,null,null,null,null,{"$f":"SUMIF($G$19:$G$5015,$G489,$H$19:$H$5015)+SUMIF('2.bTë ardhura-jopublik-monetare'!$G$19:$G$1015,'2.cTë ardhura-jopublik-nënatyrë'!$G489,'2.bTë ardhura-jopublik-monetare'!$H$19:$H$1015)","v":0}]
[null,null,null,null,null,null,null,null,null,{"$f":"SUMIF($G$19:$G$5015,$G490,$H$19:$H$5015)+SUMIF('2.bTë ardhura-jopublik-monetare'!$G$19:$G$1015,'2.cTë ardhura-jopublik-nënatyrë'!$G490,'2.bTë ardhura-jopublik-monetare'!$H$19:$H$1015)","v":0}]
[null,null,null,null,null,null,null,null,null,{"$f":"SUMIF($G$19:$G$5015,$G491,$H$19:$H$5015)+SUMIF('2.bTë ardhura-jopublik-monetare'!$G$19:$G$1015,'2.cTë ardhura-jopublik-nënatyrë'!$G491,'2.bTë ardhura-jopublik-monetare'!$H$19:$H$1015)","v":0}]
[null,null,null,null,null,null,null,null,null,{"$f":"SUMIF($G$19:$G$5015,$G492,$H$19:$H$5015)+SUMIF('2.bTë ardhura-jopublik-monetare'!$G$19:$G$1015,'2.cTë ardhura-jopublik-nënatyrë'!$G492,'2.bTë ardhura-jopublik-monetare'!$H$19:$H$1015)","v":0}]
[null,null,null,null,null,null,null,null,null,{"$f":"SUMIF($G$19:$G$5015,$G493,$H$19:$H$5015)+SUMIF('2.bTë ardhura-jopublik-monetare'!$G$19:$G$1015,'2.cTë ardhura-jopublik-nënatyrë'!$G493,'2.bTë ardhura-jopublik-monetare'!$H$19:$H$1015)","v":0}]
[null,null,null,null,null,null,null,null,null,{"$f":"SUMIF($G$19:$G$5015,$G494,$H$19:$H$5015)+SUMIF('2.bTë ardhura-jopublik-monetare'!$G$19:$G$1015,'2.cTë ardhura-jopublik-nënatyrë'!$G494,'2.bTë ardhura-jopublik-monetare'!$H$19:$H$1015)","v":0}]
[null,null,null,null,null,null,null,null,null,{"$f":"SUMIF($G$19:$G$5015,$G495,$H$19:$H$5015)+SUMIF('2.bTë ardhura-jopublik-monetare'!$G$19:$G$1015,'2.cTë ardhura-jopublik-nënatyrë'!$G495,'2.bTë ardhura-jopublik-monetare'!$H$19:$H$1015)","v":0}]
[null,null,null,null,null,null,null,null,null,{"$f":"SUMIF($G$19:$G$5015,$G496,$H$19:$H$5015)+SUMIF('2.bTë ardhura-jopublik-monetare'!$G$19:$G$1015,'2.cTë ardhura-jopublik-nënatyrë'!$G496,'2.bTë ardhura-jopublik-monetare'!$H$19:$H$1015)","v":0}]
[null,null,null,null,null,null,null,null,null,{"$f":"SUMIF($G$19:$G$5015,$G497,$H$19:$H$5015)+SUMIF('2.bTë ardhura-jopublik-monetare'!$G$19:$G$1015,'2.cTë ardhura-jopublik-nënatyrë'!$G497,'2.bTë ardhura-jopublik-monetare'!$H$19:$H$1015)","v":0}]
[null,null,null,null,null,null,null,null,null,{"$f":"SUMIF($G$19:$G$5015,$G498,$H$19:$H$5015)+SUMIF('2.bTë ardhura-jopublik-monetare'!$G$19:$G$1015,'2.cTë ardhura-jopublik-nënatyrë'!$G498,'2.bTë ardhura-jopublik-monetare'!$H$19:$H$1015)","v":0}]
[null,null,null,null,null,null,null,null,null,{"$f":"SUMIF($G$19:$G$5015,$G499,$H$19:$H$5015)+SUMIF('2.bTë ardhura-jopublik-monetare'!$G$19:$G$1015,'2.cTë ardhura-jopublik-nënatyrë'!$G499,'2.bTë ardhura-jopublik-monetare'!$H$19:$H$1015)","v":0}]
[null,null,null,null,null,null,null,null,null,{"$f":"SUMIF($G$19:$G$5015,$G500,$H$19:$H$5015)+SUMIF('2.bTë ardhura-jopublik-monetare'!$G$19:$G$1015,'2.cTë ardhura-jopublik-nënatyrë'!$G500,'2.bTë ardhura-jopublik-monetare'!$H$19:$H$1015)","v":0}]
[null,null,null,null,null,null,null,null,null,{"$f":"SUMIF($G$19:$G$5015,$G501,$H$19:$H$5015)+SUMIF('2.bTë ardhura-jopublik-monetare'!$G$19:$G$1015,'2.cTë ardhura-jopublik-nënatyrë'!$G501,'2.bTë ardhura-jopublik-monetare'!$H$19:$H$1015)","v":0}]
[null,null,null,null,null,null,null,null,null,{"$f":"SUMIF($G$19:$G$5015,$G502,$H$19:$H$5015)+SUMIF('2.bTë ardhura-jopublik-monetare'!$G$19:$G$1015,'2.cTë ardhura-jopublik-nënatyrë'!$G502,'2.bTë ardhura-jopublik-monetare'!$H$19:$H$1015)","v":0}]
[null,null,null,null,null,null,null,null,null,{"$f":"SUMIF($G$19:$G$5015,$G503,$H$19:$H$5015)+SUMIF('2.bTë ardhura-jopublik-monetare'!$G$19:$G$1015,'2.cTë ardhura-jopublik-nënatyrë'!$G503,'2.bTë ardhura-jopublik-monetare'!$H$19:$H$1015)","v":0}]
[null,null,null,null,null,null,null,null,null,{"$f":"SUMIF($G$19:$G$5015,$G504,$H$19:$H$5015)+SUMIF('2.bTë ardhura-jopublik-monetare'!$G$19:$G$1015,'2.cTë ardhura-jopublik-nënatyrë'!$G504,'2.bTë ardhura-jopublik-monetare'!$H$19:$H$1015)","v":0}]
[null,null,null,null,null,null,null,null,null,{"$f":"SUMIF($G$19:$G$5015,$G505,$H$19:$H$5015)+SUMIF('2.bTë ardhura-jopublik-monetare'!$G$19:$G$1015,'2.cTë ardhura-jopublik-nënatyrë'!$G505,'2.bTë ardhura-jopublik-monetare'!$H$19:$H$1015)","v":0}]
[null,null,null,null,null,null,null,null,null,{"$f":"SUMIF($G$19:$G$5015,$G506,$H$19:$H$5015)+SUMIF('2.bTë ardhura-jopublik-monetare'!$G$19:$G$1015,'2.cTë ardhura-jopublik-nënatyrë'!$G506,'2.bTë ardhura-jopublik-monetare'!$H$19:$H$1015)","v":0}]
[null,null,null,null,null,null,null,null,null,{"$f":"SUMIF($G$19:$G$5015,$G507,$H$19:$H$5015)+SUMIF('2.bTë ardhura-jopublik-monetare'!$G$19:$G$1015,'2.cTë ardhura-jopublik-nënatyrë'!$G507,'2.bTë ardhura-jopublik-monetare'!$H$19:$H$1015)","v":0}]
[null,null,null,null,null,null,null,null,null,{"$f":"SUMIF($G$19:$G$5015,$G508,$H$19:$H$5015)+SUMIF('2.bTë ardhura-jopublik-monetare'!$G$19:$G$1015,'2.cTë ardhura-jopublik-nënatyrë'!$G508,'2.bTë ardhura-jopublik-monetare'!$H$19:$H$1015)","v":0}]
[null,null,null,null,null,null,null,null,null,{"$f":"SUMIF($G$19:$G$5015,$G509,$H$19:$H$5015)+SUMIF('2.bTë ardhura-jopublik-monetare'!$G$19:$G$1015,'2.cTë ardhura-jopublik-nënatyrë'!$G509,'2.bTë ardhura-jopublik-monetare'!$H$19:$H$1015)","v":0}]
[null,null,null,null,null,null,null,null,null,{"$f":"SUMIF($G$19:$G$5015,$G510,$H$19:$H$5015)+SUMIF('2.bTë ardhura-jopublik-monetare'!$G$19:$G$1015,'2.cTë ardhura-jopublik-nënatyrë'!$G510,'2.bTë ardhura-jopublik-monetare'!$H$19:$H$1015)","v":0}]
[null,null,null,null,null,null,null,null,null,{"$f":"SUMIF($G$19:$G$5015,$G511,$H$19:$H$5015)+SUMIF('2.bTë ardhura-jopublik-monetare'!$G$19:$G$1015,'2.cTë ardhura-jopublik-nënatyrë'!$G511,'2.bTë ardhura-jopublik-monetare'!$H$19:$H$1015)","v":0}]
[null,null,null,null,null,null,null,null,null,{"$f":"SUMIF($G$19:$G$5015,$G512,$H$19:$H$5015)+SUMIF('2.bTë ardhura-jopublik-monetare'!$G$19:$G$1015,'2.cTë ardhura-jopublik-nënatyrë'!$G512,'2.bTë ardhura-jopublik-monetare'!$H$19:$H$1015)","v":0}]
[null,null,null,null,null,null,null,null,null,{"$f":"SUMIF($G$19:$G$5015,$G513,$H$19:$H$5015)+SUMIF('2.bTë ardhura-jopublik-monetare'!$G$19:$G$1015,'2.cTë ardhura-jopublik-nënatyrë'!$G513,'2.bTë ardhura-jopublik-monetare'!$H$19:$H$1015)","v":0}]
[null,null,null,null,null,null,null,null,null,{"$f":"SUMIF($G$19:$G$5015,$G514,$H$19:$H$5015)+SUMIF('2.bTë ardhura-jopublik-monetare'!$G$19:$G$1015,'2.cTë ardhura-jopublik-nënatyrë'!$G514,'2.bTë ardhura-jopublik-monetare'!$H$19:$H$1015)","v":0}]
[null,null,null,null,null,null,null,null,null,{"$f":"SUMIF($G$19:$G$5015,$G515,$H$19:$H$5015)+SUMIF('2.bTë ardhura-jopublik-monetare'!$G$19:$G$1015,'2.cTë ardhura-jopublik-nënatyrë'!$G515,'2.bTë ardhura-jopublik-monetare'!$H$19:$H$1015)","v":0}]
[null,null,null,null,null,null,null,null,null,{"$f":"SUMIF($G$19:$G$5015,$G516,$H$19:$H$5015)+SUMIF('2.bTë ardhura-jopublik-monetare'!$G$19:$G$1015,'2.cTë ardhura-jopublik-nënatyrë'!$G516,'2.bTë ardhura-jopublik-monetare'!$H$19:$H$1015)","v":0}]
[null,null,null,null,null,null,null,null,null,{"$f":"SUMIF($G$19:$G$5015,$G517,$H$19:$H$5015)+SUMIF('2.bTë ardhura-jopublik-monetare'!$G$19:$G$1015,'2.cTë ardhura-jopublik-nënatyrë'!$G517,'2.bTë ardhura-jopublik-monetare'!$H$19:$H$1015)","v":0}]
[null,null,null,null,null,null,null,null,null,{"$f":"SUMIF($G$19:$G$5015,$G518,$H$19:$H$5015)+SUMIF('2.bTë ardhura-jopublik-monetare'!$G$19:$G$1015,'2.cTë ardhura-jopublik-nënatyrë'!$G518,'2.bTë ardhura-jopublik-monetare'!$H$19:$H$1015)","v":0}]
[null,null,null,null,null,null,null,null,null,{"$f":"SUMIF($G$19:$G$5015,$G519,$H$19:$H$5015)+SUMIF('2.bTë ardhura-jopublik-monetare'!$G$19:$G$1015,'2.cTë ardhura-jopublik-nënatyrë'!$G519,'2.bTë ardhura-jopublik-monetare'!$H$19:$H$1015)","v":0}]
[null,null,null,null,null,null,null,null,null,{"$f":"SUMIF($G$19:$G$5015,$G520,$H$19:$H$5015)+SUMIF('2.bTë ardhura-jopublik-monetare'!$G$19:$G$1015,'2.cTë ardhura-jopublik-nënatyrë'!$G520,'2.bTë ardhura-jopublik-monetare'!$H$19:$H$1015)","v":0}]
[null,null,null,null,null,null,null,null,null,{"$f":"SUMIF($G$19:$G$5015,$G521,$H$19:$H$5015)+SUMIF('2.bTë ardhura-jopublik-monetare'!$G$19:$G$1015,'2.cTë ardhura-jopublik-nënatyrë'!$G521,'2.bTë ardhura-jopublik-monetare'!$H$19:$H$1015)","v":0}]
[null,null,null,null,null,null,null,null,null,{"$f":"SUMIF($G$19:$G$5015,$G522,$H$19:$H$5015)+SUMIF('2.bTë ardhura-jopublik-monetare'!$G$19:$G$1015,'2.cTë ardhura-jopublik-nënatyrë'!$G522,'2.bTë ardhura-jopublik-monetare'!$H$19:$H$1015)","v":0}]
[null,null,null,null,null,null,null,null,null,{"$f":"SUMIF($G$19:$G$5015,$G523,$H$19:$H$5015)+SUMIF('2.bTë ardhura-jopublik-monetare'!$G$19:$G$1015,'2.cTë ardhura-jopublik-nënatyrë'!$G523,'2.bTë ardhura-jopublik-monetare'!$H$19:$H$1015)","v":0}]
[null,null,null,null,null,null,null,null,null,{"$f":"SUMIF($G$19:$G$5015,$G524,$H$19:$H$5015)+SUMIF('2.bTë ardhura-jopublik-monetare'!$G$19:$G$1015,'2.cTë ardhura-jopublik-nënatyrë'!$G524,'2.bTë ardhura-jopublik-monetare'!$H$19:$H$1015)","v":0}]
[null,null,null,null,null,null,null,null,null,{"$f":"SUMIF($G$19:$G$5015,$G525,$H$19:$H$5015)+SUMIF('2.bTë ardhura-jopublik-monetare'!$G$19:$G$1015,'2.cTë ardhura-jopublik-nënatyrë'!$G525,'2.bTë ardhura-jopublik-monetare'!$H$19:$H$1015)","v":0}]
[null,null,null,null,null,null,null,null,null,{"$f":"SUMIF($G$19:$G$5015,$G526,$H$19:$H$5015)+SUMIF('2.bTë ardhura-jopublik-monetare'!$G$19:$G$1015,'2.cTë ardhura-jopublik-nënatyrë'!$G526,'2.bTë ardhura-jopublik-monetare'!$H$19:$H$1015)","v":0}]
[null,null,null,null,null,null,null,null,null,{"$f":"SUMIF($G$19:$G$5015,$G527,$H$19:$H$5015)+SUMIF('2.bTë ardhura-jopublik-monetare'!$G$19:$G$1015,'2.cTë ardhura-jopublik-nënatyrë'!$G527,'2.bTë ardhura-jopublik-monetare'!$H$19:$H$1015)","v":0}]
[null,null,null,null,null,null,null,null,null,{"$f":"SUMIF($G$19:$G$5015,$G528,$H$19:$H$5015)+SUMIF('2.bTë ardhura-jopublik-monetare'!$G$19:$G$1015,'2.cTë ardhura-jopublik-nënatyrë'!$G528,'2.bTë ardhura-jopublik-monetare'!$H$19:$H$1015)","v":0}]
[null,null,null,null,null,null,null,null,null,{"$f":"SUMIF($G$19:$G$5015,$G529,$H$19:$H$5015)+SUMIF('2.bTë ardhura-jopublik-monetare'!$G$19:$G$1015,'2.cTë ardhura-jopublik-nënatyrë'!$G529,'2.bTë ardhura-jopublik-monetare'!$H$19:$H$1015)","v":0}]
[null,null,null,null,null,null,null,null,null,{"$f":"SUMIF($G$19:$G$5015,$G530,$H$19:$H$5015)+SUMIF('2.bTë ardhura-jopublik-monetare'!$G$19:$G$1015,'2.cTë ardhura-jopublik-nënatyrë'!$G530,'2.bTë ardhura-jopublik-monetare'!$H$19:$H$1015)","v":0}]
[null,null,null,null,null,null,null,null,null,{"$f":"SUMIF($G$19:$G$5015,$G531,$H$19:$H$5015)+SUMIF('2.bTë ardhura-jopublik-monetare'!$G$19:$G$1015,'2.cTë ardhura-jopublik-nënatyrë'!$G531,'2.bTë ardhura-jopublik-monetare'!$H$19:$H$1015)","v":0}]
[null,null,null,null,null,null,null,null,null,{"$f":"SUMIF($G$19:$G$5015,$G532,$H$19:$H$5015)+SUMIF('2.bTë ardhura-jopublik-monetare'!$G$19:$G$1015,'2.cTë ardhura-jopublik-nënatyrë'!$G532,'2.bTë ardhura-jopublik-monetare'!$H$19:$H$1015)","v":0}]
[null,null,null,null,null,null,null,null,null,{"$f":"SUMIF($G$19:$G$5015,$G533,$H$19:$H$5015)+SUMIF('2.bTë ardhura-jopublik-monetare'!$G$19:$G$1015,'2.cTë ardhura-jopublik-nënatyrë'!$G533,'2.bTë ardhura-jopublik-monetare'!$H$19:$H$1015)","v":0}]
[null,null,null,null,null,null,null,null,null,{"$f":"SUMIF($G$19:$G$5015,$G534,$H$19:$H$5015)+SUMIF('2.bTë ardhura-jopublik-monetare'!$G$19:$G$1015,'2.cTë ardhura-jopublik-nënatyrë'!$G534,'2.bTë ardhura-jopublik-monetare'!$H$19:$H$1015)","v":0}]
[null,null,null,null,null,null,null,null,null,{"$f":"SUMIF($G$19:$G$5015,$G535,$H$19:$H$5015)+SUMIF('2.bTë ardhura-jopublik-monetare'!$G$19:$G$1015,'2.cTë ardhura-jopublik-nënatyrë'!$G535,'2.bTë ardhura-jopublik-monetare'!$H$19:$H$1015)","v":0}]
[null,null,null,null,null,null,null,null,null,{"$f":"SUMIF($G$19:$G$5015,$G536,$H$19:$H$5015)+SUMIF('2.bTë ardhura-jopublik-monetare'!$G$19:$G$1015,'2.cTë ardhura-jopublik-nënatyrë'!$G536,'2.bTë ardhura-jopublik-monetare'!$H$19:$H$1015)","v":0}]
[null,null,null,null,null,null,null,null,null,{"$f":"SUMIF($G$19:$G$5015,$G537,$H$19:$H$5015)+SUMIF('2.bTë ardhura-jopublik-monetare'!$G$19:$G$1015,'2.cTë ardhura-jopublik-nënatyrë'!$G537,'2.bTë ardhura-jopublik-monetare'!$H$19:$H$1015)","v":0}]
[null,null,null,null,null,null,null,null,null,{"$f":"SUMIF($G$19:$G$5015,$G538,$H$19:$H$5015)+SUMIF('2.bTë ardhura-jopublik-monetare'!$G$19:$G$1015,'2.cTë ardhura-jopublik-nënatyrë'!$G538,'2.bTë ardhura-jopublik-monetare'!$H$19:$H$1015)","v":0}]
[null,null,null,null,null,null,null,null,null,{"$f":"SUMIF($G$19:$G$5015,$G539,$H$19:$H$5015)+SUMIF('2.bTë ardhura-jopublik-monetare'!$G$19:$G$1015,'2.cTë ardhura-jopublik-nënatyrë'!$G539,'2.bTë ardhura-jopublik-monetare'!$H$19:$H$1015)","v":0}]
[null,null,null,null,null,null,null,null,null,{"$f":"SUMIF($G$19:$G$5015,$G540,$H$19:$H$5015)+SUMIF('2.bTë ardhura-jopublik-monetare'!$G$19:$G$1015,'2.cTë ardhura-jopublik-nënatyrë'!$G540,'2.bTë ardhura-jopublik-monetare'!$H$19:$H$1015)","v":0}]
[null,null,null,null,null,null,null,null,null,{"$f":"SUMIF($G$19:$G$5015,$G541,$H$19:$H$5015)+SUMIF('2.bTë ardhura-jopublik-monetare'!$G$19:$G$1015,'2.cTë ardhura-jopublik-nënatyrë'!$G541,'2.bTë ardhura-jopublik-monetare'!$H$19:$H$1015)","v":0}]
[null,null,null,null,null,null,null,null,null,{"$f":"SUMIF($G$19:$G$5015,$G542,$H$19:$H$5015)+SUMIF('2.bTë ardhura-jopublik-monetare'!$G$19:$G$1015,'2.cTë ardhura-jopublik-nënatyrë'!$G542,'2.bTë ardhura-jopublik-monetare'!$H$19:$H$1015)","v":0}]
[null,null,null,null,null,null,null,null,null,{"$f":"SUMIF($G$19:$G$5015,$G543,$H$19:$H$5015)+SUMIF('2.bTë ardhura-jopublik-monetare'!$G$19:$G$1015,'2.cTë ardhura-jopublik-nënatyrë'!$G543,'2.bTë ardhura-jopublik-monetare'!$H$19:$H$1015)","v":0}]
[null,null,null,null,null,null,null,null,null,{"$f":"SUMIF($G$19:$G$5015,$G544,$H$19:$H$5015)+SUMIF('2.bTë ardhura-jopublik-monetare'!$G$19:$G$1015,'2.cTë ardhura-jopublik-nënatyrë'!$G544,'2.bTë ardhura-jopublik-monetare'!$H$19:$H$1015)","v":0}]
[null,null,null,null,null,null,null,null,null,{"$f":"SUMIF($G$19:$G$5015,$G545,$H$19:$H$5015)+SUMIF('2.bTë ardhura-jopublik-monetare'!$G$19:$G$1015,'2.cTë ardhura-jopublik-nënatyrë'!$G545,'2.bTë ardhura-jopublik-monetare'!$H$19:$H$1015)","v":0}]
[null,null,null,null,null,null,null,null,null,{"$f":"SUMIF($G$19:$G$5015,$G546,$H$19:$H$5015)+SUMIF('2.bTë ardhura-jopublik-monetare'!$G$19:$G$1015,'2.cTë ardhura-jopublik-nënatyrë'!$G546,'2.bTë ardhura-jopublik-monetare'!$H$19:$H$1015)","v":0}]
[null,null,null,null,null,null,null,null,null,{"$f":"SUMIF($G$19:$G$5015,$G547,$H$19:$H$5015)+SUMIF('2.bTë ardhura-jopublik-monetare'!$G$19:$G$1015,'2.cTë ardhura-jopublik-nënatyrë'!$G547,'2.bTë ardhura-jopublik-monetare'!$H$19:$H$1015)","v":0}]
[null,null,null,null,null,null,null,null,null,{"$f":"SUMIF($G$19:$G$5015,$G548,$H$19:$H$5015)+SUMIF('2.bTë ardhura-jopublik-monetare'!$G$19:$G$1015,'2.cTë ardhura-jopublik-nënatyrë'!$G548,'2.bTë ardhura-jopublik-monetare'!$H$19:$H$1015)","v":0}]
[null,null,null,null,null,null,null,null,null,{"$f":"SUMIF($G$19:$G$5015,$G549,$H$19:$H$5015)+SUMIF('2.bTë ardhura-jopublik-monetare'!$G$19:$G$1015,'2.cTë ardhura-jopublik-nënatyrë'!$G549,'2.bTë ardhura-jopublik-monetare'!$H$19:$H$1015)","v":0}]
[null,null,null,null,null,null,null,null,null,{"$f":"SUMIF($G$19:$G$5015,$G550,$H$19:$H$5015)+SUMIF('2.bTë ardhura-jopublik-monetare'!$G$19:$G$1015,'2.cTë ardhura-jopublik-nënatyrë'!$G550,'2.bTë ardhura-jopublik-monetare'!$H$19:$H$1015)","v":0}]
[null,null,null,null,null,null,null,null,null,{"$f":"SUMIF($G$19:$G$5015,$G551,$H$19:$H$5015)+SUMIF('2.bTë ardhura-jopublik-monetare'!$G$19:$G$1015,'2.cTë ardhura-jopublik-nënatyrë'!$G551,'2.bTë ardhura-jopublik-monetare'!$H$19:$H$1015)","v":0}]
[null,null,null,null,null,null,null,null,null,{"$f":"SUMIF($G$19:$G$5015,$G552,$H$19:$H$5015)+SUMIF('2.bTë ardhura-jopublik-monetare'!$G$19:$G$1015,'2.cTë ardhura-jopublik-nënatyrë'!$G552,'2.bTë ardhura-jopublik-monetare'!$H$19:$H$1015)","v":0}]
[null,null,null,null,null,null,null,null,null,{"$f":"SUMIF($G$19:$G$5015,$G553,$H$19:$H$5015)+SUMIF('2.bTë ardhura-jopublik-monetare'!$G$19:$G$1015,'2.cTë ardhura-jopublik-nënatyrë'!$G553,'2.bTë ardhura-jopublik-monetare'!$H$19:$H$1015)","v":0}]
[null,null,null,null,null,null,null,null,null,{"$f":"SUMIF($G$19:$G$5015,$G554,$H$19:$H$5015)+SUMIF('2.bTë ardhura-jopublik-monetare'!$G$19:$G$1015,'2.cTë ardhura-jopublik-nënatyrë'!$G554,'2.bTë ardhura-jopublik-monetare'!$H$19:$H$1015)","v":0}]
[null,null,null,null,null,null,null,null,null,{"$f":"SUMIF($G$19:$G$5015,$G555,$H$19:$H$5015)+SUMIF('2.bTë ardhura-jopublik-monetare'!$G$19:$G$1015,'2.cTë ardhura-jopublik-nënatyrë'!$G555,'2.bTë ardhura-jopublik-monetare'!$H$19:$H$1015)","v":0}]
[null,null,null,null,null,null,null,null,null,{"$f":"SUMIF($G$19:$G$5015,$G556,$H$19:$H$5015)+SUMIF('2.bTë ardhura-jopublik-monetare'!$G$19:$G$1015,'2.cTë ardhura-jopublik-nënatyrë'!$G556,'2.bTë ardhura-jopublik-monetare'!$H$19:$H$1015)","v":0}]
[null,null,null,null,null,null,null,null,null,{"$f":"SUMIF($G$19:$G$5015,$G557,$H$19:$H$5015)+SUMIF('2.bTë ardhura-jopublik-monetare'!$G$19:$G$1015,'2.cTë ardhura-jopublik-nënatyrë'!$G557,'2.bTë ardhura-jopublik-monetare'!$H$19:$H$1015)","v":0}]
[null,null,null,null,null,null,null,null,null,{"$f":"SUMIF($G$19:$G$5015,$G558,$H$19:$H$5015)+SUMIF('2.bTë ardhura-jopublik-monetare'!$G$19:$G$1015,'2.cTë ardhura-jopublik-nënatyrë'!$G558,'2.bTë ardhura-jopublik-monetare'!$H$19:$H$1015)","v":0}]
[null,null,null,null,null,null,null,null,null,{"$f":"SUMIF($G$19:$G$5015,$G559,$H$19:$H$5015)+SUMIF('2.bTë ardhura-jopublik-monetare'!$G$19:$G$1015,'2.cTë ardhura-jopublik-nënatyrë'!$G559,'2.bTë ardhura-jopublik-monetare'!$H$19:$H$1015)","v":0}]
[null,null,null,null,null,null,null,null,null,{"$f":"SUMIF($G$19:$G$5015,$G560,$H$19:$H$5015)+SUMIF('2.bTë ardhura-jopublik-monetare'!$G$19:$G$1015,'2.cTë ardhura-jopublik-nënatyrë'!$G560,'2.bTë ardhura-jopublik-monetare'!$H$19:$H$1015)","v":0}]
[null,null,null,null,null,null,null,null,null,{"$f":"SUMIF($G$19:$G$5015,$G561,$H$19:$H$5015)+SUMIF('2.bTë ardhura-jopublik-monetare'!$G$19:$G$1015,'2.cTë ardhura-jopublik-nënatyrë'!$G561,'2.bTë ardhura-jopublik-monetare'!$H$19:$H$1015)","v":0}]
[null,null,null,null,null,null,null,null,null,{"$f":"SUMIF($G$19:$G$5015,$G562,$H$19:$H$5015)+SUMIF('2.bTë ardhura-jopublik-monetare'!$G$19:$G$1015,'2.cTë ardhura-jopublik-nënatyrë'!$G562,'2.bTë ardhura-jopublik-monetare'!$H$19:$H$1015)","v":0}]
[null,null,null,null,null,null,null,null,null,{"$f":"SUMIF($G$19:$G$5015,$G563,$H$19:$H$5015)+SUMIF('2.bTë ardhura-jopublik-monetare'!$G$19:$G$1015,'2.cTë ardhura-jopublik-nënatyrë'!$G563,'2.bTë ardhura-jopublik-monetare'!$H$19:$H$1015)","v":0}]
[null,null,null,null,null,null,null,null,null,{"$f":"SUMIF($G$19:$G$5015,$G564,$H$19:$H$5015)+SUMIF('2.bTë ardhura-jopublik-monetare'!$G$19:$G$1015,'2.cTë ardhura-jopublik-nënatyrë'!$G564,'2.bTë ardhura-jopublik-monetare'!$H$19:$H$1015)","v":0}]
[null,null,null,null,null,null,null,null,null,{"$f":"SUMIF($G$19:$G$5015,$G565,$H$19:$H$5015)+SUMIF('2.bTë ardhura-jopublik-monetare'!$G$19:$G$1015,'2.cTë ardhura-jopublik-nënatyrë'!$G565,'2.bTë ardhura-jopublik-monetare'!$H$19:$H$1015)","v":0}]
[null,null,null,null,null,null,null,null,null,{"$f":"SUMIF($G$19:$G$5015,$G566,$H$19:$H$5015)+SUMIF('2.bTë ardhura-jopublik-monetare'!$G$19:$G$1015,'2.cTë ardhura-jopublik-nënatyrë'!$G566,'2.bTë ardhura-jopublik-monetare'!$H$19:$H$1015)","v":0}]
[null,null,null,null,null,null,null,null,null,{"$f":"SUMIF($G$19:$G$5015,$G567,$H$19:$H$5015)+SUMIF('2.bTë ardhura-jopublik-monetare'!$G$19:$G$1015,'2.cTë ardhura-jopublik-nënatyrë'!$G567,'2.bTë ardhura-jopublik-monetare'!$H$19:$H$1015)","v":0}]
[null,null,null,null,null,null,null,null,null,{"$f":"SUMIF($G$19:$G$5015,$G568,$H$19:$H$5015)+SUMIF('2.bTë ardhura-jopublik-monetare'!$G$19:$G$1015,'2.cTë ardhura-jopublik-nënatyrë'!$G568,'2.bTë ardhura-jopublik-monetare'!$H$19:$H$1015)","v":0}]
[null,null,null,null,null,null,null,null,null,{"$f":"SUMIF($G$19:$G$5015,$G569,$H$19:$H$5015)+SUMIF('2.bTë ardhura-jopublik-monetare'!$G$19:$G$1015,'2.cTë ardhura-jopublik-nënatyrë'!$G569,'2.bTë ardhura-jopublik-monetare'!$H$19:$H$1015)","v":0}]
[null,null,null,null,null,null,null,null,null,{"$f":"SUMIF($G$19:$G$5015,$G570,$H$19:$H$5015)+SUMIF('2.bTë ardhura-jopublik-monetare'!$G$19:$G$1015,'2.cTë ardhura-jopublik-nënatyrë'!$G570,'2.bTë ardhura-jopublik-monetare'!$H$19:$H$1015)","v":0}]
[null,null,null,null,null,null,null,null,null,{"$f":"SUMIF($G$19:$G$5015,$G571,$H$19:$H$5015)+SUMIF('2.bTë ardhura-jopublik-monetare'!$G$19:$G$1015,'2.cTë ardhura-jopublik-nënatyrë'!$G571,'2.bTë ardhura-jopublik-monetare'!$H$19:$H$1015)","v":0}]
[null,null,null,null,null,null,null,null,null,{"$f":"SUMIF($G$19:$G$5015,$G572,$H$19:$H$5015)+SUMIF('2.bTë ardhura-jopublik-monetare'!$G$19:$G$1015,'2.cTë ardhura-jopublik-nënatyrë'!$G572,'2.bTë ardhura-jopublik-monetare'!$H$19:$H$1015)","v":0}]
[null,null,null,null,null,null,null,null,null,{"$f":"SUMIF($G$19:$G$5015,$G573,$H$19:$H$5015)+SUMIF('2.bTë ardhura-jopublik-monetare'!$G$19:$G$1015,'2.cTë ardhura-jopublik-nënatyrë'!$G573,'2.bTë ardhura-jopublik-monetare'!$H$19:$H$1015)","v":0}]
[null,null,null,null,null,null,null,null,null,{"$f":"SUMIF($G$19:$G$5015,$G574,$H$19:$H$5015)+SUMIF('2.bTë ardhura-jopublik-monetare'!$G$19:$G$1015,'2.cTë ardhura-jopublik-nënatyrë'!$G574,'2.bTë ardhura-jopublik-monetare'!$H$19:$H$1015)","v":0}]
[null,null,null,null,null,null,null,null,null,{"$f":"SUMIF($G$19:$G$5015,$G575,$H$19:$H$5015)+SUMIF('2.bTë ardhura-jopublik-monetare'!$G$19:$G$1015,'2.cTë ardhura-jopublik-nënatyrë'!$G575,'2.bTë ardhura-jopublik-monetare'!$H$19:$H$1015)","v":0}]
[null,null,null,null,null,null,null,null,null,{"$f":"SUMIF($G$19:$G$5015,$G576,$H$19:$H$5015)+SUMIF('2.bTë ardhura-jopublik-monetare'!$G$19:$G$1015,'2.cTë ardhura-jopublik-nënatyrë'!$G576,'2.bTë ardhura-jopublik-monetare'!$H$19:$H$1015)","v":0}]
[null,null,null,null,null,null,null,null,null,{"$f":"SUMIF($G$19:$G$5015,$G577,$H$19:$H$5015)+SUMIF('2.bTë ardhura-jopublik-monetare'!$G$19:$G$1015,'2.cTë ardhura-jopublik-nënatyrë'!$G577,'2.bTë ardhura-jopublik-monetare'!$H$19:$H$1015)","v":0}]
[null,null,null,null,null,null,null,null,null,{"$f":"SUMIF($G$19:$G$5015,$G578,$H$19:$H$5015)+SUMIF('2.bTë ardhura-jopublik-monetare'!$G$19:$G$1015,'2.cTë ardhura-jopublik-nënatyrë'!$G578,'2.bTë ardhura-jopublik-monetare'!$H$19:$H$1015)","v":0}]
[null,null,null,null,null,null,null,null,null,{"$f":"SUMIF($G$19:$G$5015,$G579,$H$19:$H$5015)+SUMIF('2.bTë ardhura-jopublik-monetare'!$G$19:$G$1015,'2.cTë ardhura-jopublik-nënatyrë'!$G579,'2.bTë ardhura-jopublik-monetare'!$H$19:$H$1015)","v":0}]
[null,null,null,null,null,null,null,null,null,{"$f":"SUMIF($G$19:$G$5015,$G580,$H$19:$H$5015)+SUMIF('2.bTë ardhura-jopublik-monetare'!$G$19:$G$1015,'2.cTë ardhura-jopublik-nënatyrë'!$G580,'2.bTë ardhura-jopublik-monetare'!$H$19:$H$1015)","v":0}]
[null,null,null,null,null,null,null,null,null,{"$f":"SUMIF($G$19:$G$5015,$G581,$H$19:$H$5015)+SUMIF('2.bTë ardhura-jopublik-monetare'!$G$19:$G$1015,'2.cTë ardhura-jopublik-nënatyrë'!$G581,'2.bTë ardhura-jopublik-monetare'!$H$19:$H$1015)","v":0}]
[null,null,null,null,null,null,null,null,null,{"$f":"SUMIF($G$19:$G$5015,$G582,$H$19:$H$5015)+SUMIF('2.bTë ardhura-jopublik-monetare'!$G$19:$G$1015,'2.cTë ardhura-jopublik-nënatyrë'!$G582,'2.bTë ardhura-jopublik-monetare'!$H$19:$H$1015)","v":0}]
[null,null,null,null,null,null,null,null,null,{"$f":"SUMIF($G$19:$G$5015,$G583,$H$19:$H$5015)+SUMIF('2.bTë ardhura-jopublik-monetare'!$G$19:$G$1015,'2.cTë ardhura-jopublik-nënatyrë'!$G583,'2.bTë ardhura-jopublik-monetare'!$H$19:$H$1015)","v":0}]
[null,null,null,null,null,null,null,null,null,{"$f":"SUMIF($G$19:$G$5015,$G584,$H$19:$H$5015)+SUMIF('2.bTë ardhura-jopublik-monetare'!$G$19:$G$1015,'2.cTë ardhura-jopublik-nënatyrë'!$G584,'2.bTë ardhura-jopublik-monetare'!$H$19:$H$1015)","v":0}]
[null,null,null,null,null,null,null,null,null,{"$f":"SUMIF($G$19:$G$5015,$G585,$H$19:$H$5015)+SUMIF('2.bTë ardhura-jopublik-monetare'!$G$19:$G$1015,'2.cTë ardhura-jopublik-nënatyrë'!$G585,'2.bTë ardhura-jopublik-monetare'!$H$19:$H$1015)","v":0}]
[null,null,null,null,null,null,null,null,null,{"$f":"SUMIF($G$19:$G$5015,$G586,$H$19:$H$5015)+SUMIF('2.bTë ardhura-jopublik-monetare'!$G$19:$G$1015,'2.cTë ardhura-jopublik-nënatyrë'!$G586,'2.bTë ardhura-jopublik-monetare'!$H$19:$H$1015)","v":0}]
[null,null,null,null,null,null,null,null,null,{"$f":"SUMIF($G$19:$G$5015,$G587,$H$19:$H$5015)+SUMIF('2.bTë ardhura-jopublik-monetare'!$G$19:$G$1015,'2.cTë ardhura-jopublik-nënatyrë'!$G587,'2.bTë ardhura-jopublik-monetare'!$H$19:$H$1015)","v":0}]
[null,null,null,null,null,null,null,null,null,{"$f":"SUMIF($G$19:$G$5015,$G588,$H$19:$H$5015)+SUMIF('2.bTë ardhura-jopublik-monetare'!$G$19:$G$1015,'2.cTë ardhura-jopublik-nënatyrë'!$G588,'2.bTë ardhura-jopublik-monetare'!$H$19:$H$1015)","v":0}]
[null,null,null,null,null,null,null,null,null,{"$f":"SUMIF($G$19:$G$5015,$G589,$H$19:$H$5015)+SUMIF('2.bTë ardhura-jopublik-monetare'!$G$19:$G$1015,'2.cTë ardhura-jopublik-nënatyrë'!$G589,'2.bTë ardhura-jopublik-monetare'!$H$19:$H$1015)","v":0}]
[null,null,null,null,null,null,null,null,null,{"$f":"SUMIF($G$19:$G$5015,$G590,$H$19:$H$5015)+SUMIF('2.bTë ardhura-jopublik-monetare'!$G$19:$G$1015,'2.cTë ardhura-jopublik-nënatyrë'!$G590,'2.bTë ardhura-jopublik-monetare'!$H$19:$H$1015)","v":0}]
[null,null,null,null,null,null,null,null,null,{"$f":"SUMIF($G$19:$G$5015,$G591,$H$19:$H$5015)+SUMIF('2.bTë ardhura-jopublik-monetare'!$G$19:$G$1015,'2.cTë ardhura-jopublik-nënatyrë'!$G591,'2.bTë ardhura-jopublik-monetare'!$H$19:$H$1015)","v":0}]
[null,null,null,null,null,null,null,null,null,{"$f":"SUMIF($G$19:$G$5015,$G592,$H$19:$H$5015)+SUMIF('2.bTë ardhura-jopublik-monetare'!$G$19:$G$1015,'2.cTë ardhura-jopublik-nënatyrë'!$G592,'2.bTë ardhura-jopublik-monetare'!$H$19:$H$1015)","v":0}]
[null,null,null,null,null,null,null,null,null,{"$f":"SUMIF($G$19:$G$5015,$G593,$H$19:$H$5015)+SUMIF('2.bTë ardhura-jopublik-monetare'!$G$19:$G$1015,'2.cTë ardhura-jopublik-nënatyrë'!$G593,'2.bTë ardhura-jopublik-monetare'!$H$19:$H$1015)","v":0}]
[null,null,null,null,null,null,null,null,null,{"$f":"SUMIF($G$19:$G$5015,$G594,$H$19:$H$5015)+SUMIF('2.bTë ardhura-jopublik-monetare'!$G$19:$G$1015,'2.cTë ardhura-jopublik-nënatyrë'!$G594,'2.bTë ardhura-jopublik-monetare'!$H$19:$H$1015)","v":0}]
[null,null,null,null,null,null,null,null,null,{"$f":"SUMIF($G$19:$G$5015,$G595,$H$19:$H$5015)+SUMIF('2.bTë ardhura-jopublik-monetare'!$G$19:$G$1015,'2.cTë ardhura-jopublik-nënatyrë'!$G595,'2.bTë ardhura-jopublik-monetare'!$H$19:$H$1015)","v":0}]
[null,null,null,null,null,null,null,null,null,{"$f":"SUMIF($G$19:$G$5015,$G596,$H$19:$H$5015)+SUMIF('2.bTë ardhura-jopublik-monetare'!$G$19:$G$1015,'2.cTë ardhura-jopublik-nënatyrë'!$G596,'2.bTë ardhura-jopublik-monetare'!$H$19:$H$1015)","v":0}]
[null,null,null,null,null,null,null,null,null,{"$f":"SUMIF($G$19:$G$5015,$G597,$H$19:$H$5015)+SUMIF('2.bTë ardhura-jopublik-monetare'!$G$19:$G$1015,'2.cTë ardhura-jopublik-nënatyrë'!$G597,'2.bTë ardhura-jopublik-monetare'!$H$19:$H$1015)","v":0}]
[null,null,null,null,null,null,null,null,null,{"$f":"SUMIF($G$19:$G$5015,$G598,$H$19:$H$5015)+SUMIF('2.bTë ardhura-jopublik-monetare'!$G$19:$G$1015,'2.cTë ardhura-jopublik-nënatyrë'!$G598,'2.bTë ardhura-jopublik-monetare'!$H$19:$H$1015)","v":0}]
[null,null,null,null,null,null,null,null,null,{"$f":"SUMIF($G$19:$G$5015,$G599,$H$19:$H$5015)+SUMIF('2.bTë ardhura-jopublik-monetare'!$G$19:$G$1015,'2.cTë ardhura-jopublik-nënatyrë'!$G599,'2.bTë ardhura-jopublik-monetare'!$H$19:$H$1015)","v":0}]
[null,null,null,null,null,null,null,null,null,{"$f":"SUMIF($G$19:$G$5015,$G600,$H$19:$H$5015)+SUMIF('2.bTë ardhura-jopublik-monetare'!$G$19:$G$1015,'2.cTë ardhura-jopublik-nënatyrë'!$G600,'2.bTë ardhura-jopublik-monetare'!$H$19:$H$1015)","v":0}]
[null,null,null,null,null,null,null,null,null,{"$f":"SUMIF($G$19:$G$5015,$G601,$H$19:$H$5015)+SUMIF('2.bTë ardhura-jopublik-monetare'!$G$19:$G$1015,'2.cTë ardhura-jopublik-nënatyrë'!$G601,'2.bTë ardhura-jopublik-monetare'!$H$19:$H$1015)","v":0}]
[null,null,null,null,null,null,null,null,null,{"$f":"SUMIF($G$19:$G$5015,$G602,$H$19:$H$5015)+SUMIF('2.bTë ardhura-jopublik-monetare'!$G$19:$G$1015,'2.cTë ardhura-jopublik-nënatyrë'!$G602,'2.bTë ardhura-jopublik-monetare'!$H$19:$H$1015)","v":0}]
[null,null,null,null,null,null,null,null,null,{"$f":"SUMIF($G$19:$G$5015,$G603,$H$19:$H$5015)+SUMIF('2.bTë ardhura-jopublik-monetare'!$G$19:$G$1015,'2.cTë ardhura-jopublik-nënatyrë'!$G603,'2.bTë ardhura-jopublik-monetare'!$H$19:$H$1015)","v":0}]
[null,null,null,null,null,null,null,null,null,{"$f":"SUMIF($G$19:$G$5015,$G604,$H$19:$H$5015)+SUMIF('2.bTë ardhura-jopublik-monetare'!$G$19:$G$1015,'2.cTë ardhura-jopublik-nënatyrë'!$G604,'2.bTë ardhura-jopublik-monetare'!$H$19:$H$1015)","v":0}]
[null,null,null,null,null,null,null,null,null,{"$f":"SUMIF($G$19:$G$5015,$G605,$H$19:$H$5015)+SUMIF('2.bTë ardhura-jopublik-monetare'!$G$19:$G$1015,'2.cTë ardhura-jopublik-nënatyrë'!$G605,'2.bTë ardhura-jopublik-monetare'!$H$19:$H$1015)","v":0}]
[null,null,null,null,null,null,null,null,null,{"$f":"SUMIF($G$19:$G$5015,$G606,$H$19:$H$5015)+SUMIF('2.bTë ardhura-jopublik-monetare'!$G$19:$G$1015,'2.cTë ardhura-jopublik-nënatyrë'!$G606,'2.bTë ardhura-jopublik-monetare'!$H$19:$H$1015)","v":0}]
[null,null,null,null,null,null,null,null,null,{"$f":"SUMIF($G$19:$G$5015,$G607,$H$19:$H$5015)+SUMIF('2.bTë ardhura-jopublik-monetare'!$G$19:$G$1015,'2.cTë ardhura-jopublik-nënatyrë'!$G607,'2.bTë ardhura-jopublik-monetare'!$H$19:$H$1015)","v":0}]
[null,null,null,null,null,null,null,null,null,{"$f":"SUMIF($G$19:$G$5015,$G608,$H$19:$H$5015)+SUMIF('2.bTë ardhura-jopublik-monetare'!$G$19:$G$1015,'2.cTë ardhura-jopublik-nënatyrë'!$G608,'2.bTë ardhura-jopublik-monetare'!$H$19:$H$1015)","v":0}]
[null,null,null,null,null,null,null,null,null,{"$f":"SUMIF($G$19:$G$5015,$G609,$H$19:$H$5015)+SUMIF('2.bTë ardhura-jopublik-monetare'!$G$19:$G$1015,'2.cTë ardhura-jopublik-nënatyrë'!$G609,'2.bTë ardhura-jopublik-monetare'!$H$19:$H$1015)","v":0}]
[null,null,null,null,null,null,null,null,null,{"$f":"SUMIF($G$19:$G$5015,$G610,$H$19:$H$5015)+SUMIF('2.bTë ardhura-jopublik-monetare'!$G$19:$G$1015,'2.cTë ardhura-jopublik-nënatyrë'!$G610,'2.bTë ardhura-jopublik-monetare'!$H$19:$H$1015)","v":0}]
[null,null,null,null,null,null,null,null,null,{"$f":"SUMIF($G$19:$G$5015,$G611,$H$19:$H$5015)+SUMIF('2.bTë ardhura-jopublik-monetare'!$G$19:$G$1015,'2.cTë ardhura-jopublik-nënatyrë'!$G611,'2.bTë ardhura-jopublik-monetare'!$H$19:$H$1015)","v":0}]
[null,null,null,null,null,null,null,null,null,{"$f":"SUMIF($G$19:$G$5015,$G612,$H$19:$H$5015)+SUMIF('2.bTë ardhura-jopublik-monetare'!$G$19:$G$1015,'2.cTë ardhura-jopublik-nënatyrë'!$G612,'2.bTë ardhura-jopublik-monetare'!$H$19:$H$1015)","v":0}]
[null,null,null,null,null,null,null,null,null,{"$f":"SUMIF($G$19:$G$5015,$G613,$H$19:$H$5015)+SUMIF('2.bTë ardhura-jopublik-monetare'!$G$19:$G$1015,'2.cTë ardhura-jopublik-nënatyrë'!$G613,'2.bTë ardhura-jopublik-monetare'!$H$19:$H$1015)","v":0}]
[null,null,null,null,null,null,null,null,null,{"$f":"SUMIF($G$19:$G$5015,$G614,$H$19:$H$5015)+SUMIF('2.bTë ardhura-jopublik-monetare'!$G$19:$G$1015,'2.cTë ardhura-jopublik-nënatyrë'!$G614,'2.bTë ardhura-jopublik-monetare'!$H$19:$H$1015)","v":0}]
[null,null,null,null,null,null,null,null,null,{"$f":"SUMIF($G$19:$G$5015,$G615,$H$19:$H$5015)+SUMIF('2.bTë ardhura-jopublik-monetare'!$G$19:$G$1015,'2.cTë ardhura-jopublik-nënatyrë'!$G615,'2.bTë ardhura-jopublik-monetare'!$H$19:$H$1015)","v":0}]
[null,null,null,null,null,null,null,null,null,{"$f":"SUMIF($G$19:$G$5015,$G616,$H$19:$H$5015)+SUMIF('2.bTë ardhura-jopublik-monetare'!$G$19:$G$1015,'2.cTë ardhura-jopublik-nënatyrë'!$G616,'2.bTë ardhura-jopublik-monetare'!$H$19:$H$1015)","v":0}]
[null,null,null,null,null,null,null,null,null,{"$f":"SUMIF($G$19:$G$5015,$G617,$H$19:$H$5015)+SUMIF('2.bTë ardhura-jopublik-monetare'!$G$19:$G$1015,'2.cTë ardhura-jopublik-nënatyrë'!$G617,'2.bTë ardhura-jopublik-monetare'!$H$19:$H$1015)","v":0}]
[null,null,null,null,null,null,null,null,null,{"$f":"SUMIF($G$19:$G$5015,$G618,$H$19:$H$5015)+SUMIF('2.bTë ardhura-jopublik-monetare'!$G$19:$G$1015,'2.cTë ardhura-jopublik-nënatyrë'!$G618,'2.bTë ardhura-jopublik-monetare'!$H$19:$H$1015)","v":0}]
[null,null,null,null,null,null,null,null,null,{"$f":"SUMIF($G$19:$G$5015,$G619,$H$19:$H$5015)+SUMIF('2.bTë ardhura-jopublik-monetare'!$G$19:$G$1015,'2.cTë ardhura-jopublik-nënatyrë'!$G619,'2.bTë ardhura-jopublik-monetare'!$H$19:$H$1015)","v":0}]
[null,null,null,null,null,null,null,null,null,{"$f":"SUMIF($G$19:$G$5015,$G620,$H$19:$H$5015)+SUMIF('2.bTë ardhura-jopublik-monetare'!$G$19:$G$1015,'2.cTë ardhura-jopublik-nënatyrë'!$G620,'2.bTë ardhura-jopublik-monetare'!$H$19:$H$1015)","v":0}]
[null,null,null,null,null,null,null,null,null,{"$f":"SUMIF($G$19:$G$5015,$G621,$H$19:$H$5015)+SUMIF('2.bTë ardhura-jopublik-monetare'!$G$19:$G$1015,'2.cTë ardhura-jopublik-nënatyrë'!$G621,'2.bTë ardhura-jopublik-monetare'!$H$19:$H$1015)","v":0}]
[null,null,null,null,null,null,null,null,null,{"$f":"SUMIF($G$19:$G$5015,$G622,$H$19:$H$5015)+SUMIF('2.bTë ardhura-jopublik-monetare'!$G$19:$G$1015,'2.cTë ardhura-jopublik-nënatyrë'!$G622,'2.bTë ardhura-jopublik-monetare'!$H$19:$H$1015)","v":0}]
[null,null,null,null,null,null,null,null,null,{"$f":"SUMIF($G$19:$G$5015,$G623,$H$19:$H$5015)+SUMIF('2.bTë ardhura-jopublik-monetare'!$G$19:$G$1015,'2.cTë ardhura-jopublik-nënatyrë'!$G623,'2.bTë ardhura-jopublik-monetare'!$H$19:$H$1015)","v":0}]
[null,null,null,null,null,null,null,null,null,{"$f":"SUMIF($G$19:$G$5015,$G624,$H$19:$H$5015)+SUMIF('2.bTë ardhura-jopublik-monetare'!$G$19:$G$1015,'2.cTë ardhura-jopublik-nënatyrë'!$G624,'2.bTë ardhura-jopublik-monetare'!$H$19:$H$1015)","v":0}]
[null,null,null,null,null,null,null,null,null,{"$f":"SUMIF($G$19:$G$5015,$G625,$H$19:$H$5015)+SUMIF('2.bTë ardhura-jopublik-monetare'!$G$19:$G$1015,'2.cTë ardhura-jopublik-nënatyrë'!$G625,'2.bTë ardhura-jopublik-monetare'!$H$19:$H$1015)","v":0}]
[null,null,null,null,null,null,null,null,null,{"$f":"SUMIF($G$19:$G$5015,$G626,$H$19:$H$5015)+SUMIF('2.bTë ardhura-jopublik-monetare'!$G$19:$G$1015,'2.cTë ardhura-jopublik-nënatyrë'!$G626,'2.bTë ardhura-jopublik-monetare'!$H$19:$H$1015)","v":0}]
[null,null,null,null,null,null,null,null,null,{"$f":"SUMIF($G$19:$G$5015,$G627,$H$19:$H$5015)+SUMIF('2.bTë ardhura-jopublik-monetare'!$G$19:$G$1015,'2.cTë ardhura-jopublik-nënatyrë'!$G627,'2.bTë ardhura-jopublik-monetare'!$H$19:$H$1015)","v":0}]
[null,null,null,null,null,null,null,null,null,{"$f":"SUMIF($G$19:$G$5015,$G628,$H$19:$H$5015)+SUMIF('2.bTë ardhura-jopublik-monetare'!$G$19:$G$1015,'2.cTë ardhura-jopublik-nënatyrë'!$G628,'2.bTë ardhura-jopublik-monetare'!$H$19:$H$1015)","v":0}]
[null,null,null,null,null,null,null,null,null,{"$f":"SUMIF($G$19:$G$5015,$G629,$H$19:$H$5015)+SUMIF('2.bTë ardhura-jopublik-monetare'!$G$19:$G$1015,'2.cTë ardhura-jopublik-nënatyrë'!$G629,'2.bTë ardhura-jopublik-monetare'!$H$19:$H$1015)","v":0}]
[null,null,null,null,null,null,null,null,null,{"$f":"SUMIF($G$19:$G$5015,$G630,$H$19:$H$5015)+SUMIF('2.bTë ardhura-jopublik-monetare'!$G$19:$G$1015,'2.cTë ardhura-jopublik-nënatyrë'!$G630,'2.bTë ardhura-jopublik-monetare'!$H$19:$H$1015)","v":0}]
[null,null,null,null,null,null,null,null,null,{"$f":"SUMIF($G$19:$G$5015,$G631,$H$19:$H$5015)+SUMIF('2.bTë ardhura-jopublik-monetare'!$G$19:$G$1015,'2.cTë ardhura-jopublik-nënatyrë'!$G631,'2.bTë ardhura-jopublik-monetare'!$H$19:$H$1015)","v":0}]
[null,null,null,null,null,null,null,null,null,{"$f":"SUMIF($G$19:$G$5015,$G632,$H$19:$H$5015)+SUMIF('2.bTë ardhura-jopublik-monetare'!$G$19:$G$1015,'2.cTë ardhura-jopublik-nënatyrë'!$G632,'2.bTë ardhura-jopublik-monetare'!$H$19:$H$1015)","v":0}]
[null,null,null,null,null,null,null,null,null,{"$f":"SUMIF($G$19:$G$5015,$G633,$H$19:$H$5015)+SUMIF('2.bTë ardhura-jopublik-monetare'!$G$19:$G$1015,'2.cTë ardhura-jopublik-nënatyrë'!$G633,'2.bTë ardhura-jopublik-monetare'!$H$19:$H$1015)","v":0}]
[null,null,null,null,null,null,null,null,null,{"$f":"SUMIF($G$19:$G$5015,$G634,$H$19:$H$5015)+SUMIF('2.bTë ardhura-jopublik-monetare'!$G$19:$G$1015,'2.cTë ardhura-jopublik-nënatyrë'!$G634,'2.bTë ardhura-jopublik-monetare'!$H$19:$H$1015)","v":0}]
[null,null,null,null,null,null,null,null,null,{"$f":"SUMIF($G$19:$G$5015,$G635,$H$19:$H$5015)+SUMIF('2.bTë ardhura-jopublik-monetare'!$G$19:$G$1015,'2.cTë ardhura-jopublik-nënatyrë'!$G635,'2.bTë ardhura-jopublik-monetare'!$H$19:$H$1015)","v":0}]
[null,null,null,null,null,null,null,null,null,{"$f":"SUMIF($G$19:$G$5015,$G636,$H$19:$H$5015)+SUMIF('2.bTë ardhura-jopublik-monetare'!$G$19:$G$1015,'2.cTë ardhura-jopublik-nënatyrë'!$G636,'2.bTë ardhura-jopublik-monetare'!$H$19:$H$1015)","v":0}]
[null,null,null,null,null,null,null,null,null,{"$f":"SUMIF($G$19:$G$5015,$G637,$H$19:$H$5015)+SUMIF('2.bTë ardhura-jopublik-monetare'!$G$19:$G$1015,'2.cTë ardhura-jopublik-nënatyrë'!$G637,'2.bTë ardhura-jopublik-monetare'!$H$19:$H$1015)","v":0}]
[null,null,null,null,null,null,null,null,null,{"$f":"SUMIF($G$19:$G$5015,$G638,$H$19:$H$5015)+SUMIF('2.bTë ardhura-jopublik-monetare'!$G$19:$G$1015,'2.cTë ardhura-jopublik-nënatyrë'!$G638,'2.bTë ardhura-jopublik-monetare'!$H$19:$H$1015)","v":0}]
[null,null,null,null,null,null,null,null,null,{"$f":"SUMIF($G$19:$G$5015,$G639,$H$19:$H$5015)+SUMIF('2.bTë ardhura-jopublik-monetare'!$G$19:$G$1015,'2.cTë ardhura-jopublik-nënatyrë'!$G639,'2.bTë ardhura-jopublik-monetare'!$H$19:$H$1015)","v":0}]
[null,null,null,null,null,null,null,null,null,{"$f":"SUMIF($G$19:$G$5015,$G640,$H$19:$H$5015)+SUMIF('2.bTë ardhura-jopublik-monetare'!$G$19:$G$1015,'2.cTë ardhura-jopublik-nënatyrë'!$G640,'2.bTë ardhura-jopublik-monetare'!$H$19:$H$1015)","v":0}]
[null,null,null,null,null,null,null,null,null,{"$f":"SUMIF($G$19:$G$5015,$G641,$H$19:$H$5015)+SUMIF('2.bTë ardhura-jopublik-monetare'!$G$19:$G$1015,'2.cTë ardhura-jopublik-nënatyrë'!$G641,'2.bTë ardhura-jopublik-monetare'!$H$19:$H$1015)","v":0}]
[null,null,null,null,null,null,null,null,null,{"$f":"SUMIF($G$19:$G$5015,$G642,$H$19:$H$5015)+SUMIF('2.bTë ardhura-jopublik-monetare'!$G$19:$G$1015,'2.cTë ardhura-jopublik-nënatyrë'!$G642,'2.bTë ardhura-jopublik-monetare'!$H$19:$H$1015)","v":0}]
[null,null,null,null,null,null,null,null,null,{"$f":"SUMIF($G$19:$G$5015,$G643,$H$19:$H$5015)+SUMIF('2.bTë ardhura-jopublik-monetare'!$G$19:$G$1015,'2.cTë ardhura-jopublik-nënatyrë'!$G643,'2.bTë ardhura-jopublik-monetare'!$H$19:$H$1015)","v":0}]
[null,null,null,null,null,null,null,null,null,{"$f":"SUMIF($G$19:$G$5015,$G644,$H$19:$H$5015)+SUMIF('2.bTë ardhura-jopublik-monetare'!$G$19:$G$1015,'2.cTë ardhura-jopublik-nënatyrë'!$G644,'2.bTë ardhura-jopublik-monetare'!$H$19:$H$1015)","v":0}]
[null,null,null,null,null,null,null,null,null,{"$f":"SUMIF($G$19:$G$5015,$G645,$H$19:$H$5015)+SUMIF('2.bTë ardhura-jopublik-monetare'!$G$19:$G$1015,'2.cTë ardhura-jopublik-nënatyrë'!$G645,'2.bTë ardhura-jopublik-monetare'!$H$19:$H$1015)","v":0}]
[null,null,null,null,null,null,null,null,null,{"$f":"SUMIF($G$19:$G$5015,$G646,$H$19:$H$5015)+SUMIF('2.bTë ardhura-jopublik-monetare'!$G$19:$G$1015,'2.cTë ardhura-jopublik-nënatyrë'!$G646,'2.bTë ardhura-jopublik-monetare'!$H$19:$H$1015)","v":0}]
[null,null,null,null,null,null,null,null,null,{"$f":"SUMIF($G$19:$G$5015,$G647,$H$19:$H$5015)+SUMIF('2.bTë ardhura-jopublik-monetare'!$G$19:$G$1015,'2.cTë ardhura-jopublik-nënatyrë'!$G647,'2.bTë ardhura-jopublik-monetare'!$H$19:$H$1015)","v":0}]
[null,null,null,null,null,null,null,null,null,{"$f":"SUMIF($G$19:$G$5015,$G648,$H$19:$H$5015)+SUMIF('2.bTë ardhura-jopublik-monetare'!$G$19:$G$1015,'2.cTë ardhura-jopublik-nënatyrë'!$G648,'2.bTë ardhura-jopublik-monetare'!$H$19:$H$1015)","v":0}]
[null,null,null,null,null,null,null,null,null,{"$f":"SUMIF($G$19:$G$5015,$G649,$H$19:$H$5015)+SUMIF('2.bTë ardhura-jopublik-monetare'!$G$19:$G$1015,'2.cTë ardhura-jopublik-nënatyrë'!$G649,'2.bTë ardhura-jopublik-monetare'!$H$19:$H$1015)","v":0}]
[null,null,null,null,null,null,null,null,null,{"$f":"SUMIF($G$19:$G$5015,$G650,$H$19:$H$5015)+SUMIF('2.bTë ardhura-jopublik-monetare'!$G$19:$G$1015,'2.cTë ardhura-jopublik-nënatyrë'!$G650,'2.bTë ardhura-jopublik-monetare'!$H$19:$H$1015)","v":0}]
[null,null,null,null,null,null,null,null,null,{"$f":"SUMIF($G$19:$G$5015,$G651,$H$19:$H$5015)+SUMIF('2.bTë ardhura-jopublik-monetare'!$G$19:$G$1015,'2.cTë ardhura-jopublik-nënatyrë'!$G651,'2.bTë ardhura-jopublik-monetare'!$H$19:$H$1015)","v":0}]
[null,null,null,null,null,null,null,null,null,{"$f":"SUMIF($G$19:$G$5015,$G652,$H$19:$H$5015)+SUMIF('2.bTë ardhura-jopublik-monetare'!$G$19:$G$1015,'2.cTë ardhura-jopublik-nënatyrë'!$G652,'2.bTë ardhura-jopublik-monetare'!$H$19:$H$1015)","v":0}]
[null,null,null,null,null,null,null,null,null,{"$f":"SUMIF($G$19:$G$5015,$G653,$H$19:$H$5015)+SUMIF('2.bTë ardhura-jopublik-monetare'!$G$19:$G$1015,'2.cTë ardhura-jopublik-nënatyrë'!$G653,'2.bTë ardhura-jopublik-monetare'!$H$19:$H$1015)","v":0}]
[null,null,null,null,null,null,null,null,null,{"$f":"SUMIF($G$19:$G$5015,$G654,$H$19:$H$5015)+SUMIF('2.bTë ardhura-jopublik-monetare'!$G$19:$G$1015,'2.cTë ardhura-jopublik-nënatyrë'!$G654,'2.bTë ardhura-jopublik-monetare'!$H$19:$H$1015)","v":0}]
[null,null,null,null,null,null,null,null,null,{"$f":"SUMIF($G$19:$G$5015,$G655,$H$19:$H$5015)+SUMIF('2.bTë ardhura-jopublik-monetare'!$G$19:$G$1015,'2.cTë ardhura-jopublik-nënatyrë'!$G655,'2.bTë ardhura-jopublik-monetare'!$H$19:$H$1015)","v":0}]
[null,null,null,null,null,null,null,null,null,{"$f":"SUMIF($G$19:$G$5015,$G656,$H$19:$H$5015)+SUMIF('2.bTë ardhura-jopublik-monetare'!$G$19:$G$1015,'2.cTë ardhura-jopublik-nënatyrë'!$G656,'2.bTë ardhura-jopublik-monetare'!$H$19:$H$1015)","v":0}]
[null,null,null,null,null,null,null,null,null,{"$f":"SUMIF($G$19:$G$5015,$G657,$H$19:$H$5015)+SUMIF('2.bTë ardhura-jopublik-monetare'!$G$19:$G$1015,'2.cTë ardhura-jopublik-nënatyrë'!$G657,'2.bTë ardhura-jopublik-monetare'!$H$19:$H$1015)","v":0}]
[null,null,null,null,null,null,null,null,null,{"$f":"SUMIF($G$19:$G$5015,$G658,$H$19:$H$5015)+SUMIF('2.bTë ardhura-jopublik-monetare'!$G$19:$G$1015,'2.cTë ardhura-jopublik-nënatyrë'!$G658,'2.bTë ardhura-jopublik-monetare'!$H$19:$H$1015)","v":0}]
[null,null,null,null,null,null,null,null,null,{"$f":"SUMIF($G$19:$G$5015,$G659,$H$19:$H$5015)+SUMIF('2.bTë ardhura-jopublik-monetare'!$G$19:$G$1015,'2.cTë ardhura-jopublik-nënatyrë'!$G659,'2.bTë ardhura-jopublik-monetare'!$H$19:$H$1015)","v":0}]
[null,null,null,null,null,null,null,null,null,{"$f":"SUMIF($G$19:$G$5015,$G660,$H$19:$H$5015)+SUMIF('2.bTë ardhura-jopublik-monetare'!$G$19:$G$1015,'2.cTë ardhura-jopublik-nënatyrë'!$G660,'2.bTë ardhura-jopublik-monetare'!$H$19:$H$1015)","v":0}]
[null,null,null,null,null,null,null,null,null,{"$f":"SUMIF($G$19:$G$5015,$G661,$H$19:$H$5015)+SUMIF('2.bTë ardhura-jopublik-monetare'!$G$19:$G$1015,'2.cTë ardhura-jopublik-nënatyrë'!$G661,'2.bTë ardhura-jopublik-monetare'!$H$19:$H$1015)","v":0}]
[null,null,null,null,null,null,null,null,null,{"$f":"SUMIF($G$19:$G$5015,$G662,$H$19:$H$5015)+SUMIF('2.bTë ardhura-jopublik-monetare'!$G$19:$G$1015,'2.cTë ardhura-jopublik-nënatyrë'!$G662,'2.bTë ardhura-jopublik-monetare'!$H$19:$H$1015)","v":0}]
[null,null,null,null,null,null,null,null,null,{"$f":"SUMIF($G$19:$G$5015,$G663,$H$19:$H$5015)+SUMIF('2.bTë ardhura-jopublik-monetare'!$G$19:$G$1015,'2.cTë ardhura-jopublik-nënatyrë'!$G663,'2.bTë ardhura-jopublik-monetare'!$H$19:$H$1015)","v":0}]
[null,null,null,null,null,null,null,null,null,{"$f":"SUMIF($G$19:$G$5015,$G664,$H$19:$H$5015)+SUMIF('2.bTë ardhura-jopublik-monetare'!$G$19:$G$1015,'2.cTë ardhura-jopublik-nënatyrë'!$G664,'2.bTë ardhura-jopublik-monetare'!$H$19:$H$1015)","v":0}]
[null,null,null,null,null,null,null,null,null,{"$f":"SUMIF($G$19:$G$5015,$G665,$H$19:$H$5015)+SUMIF('2.bTë ardhura-jopublik-monetare'!$G$19:$G$1015,'2.cTë ardhura-jopublik-nënatyrë'!$G665,'2.bTë ardhura-jopublik-monetare'!$H$19:$H$1015)","v":0}]
[null,null,null,null,null,null,null,null,null,{"$f":"SUMIF($G$19:$G$5015,$G666,$H$19:$H$5015)+SUMIF('2.bTë ardhura-jopublik-monetare'!$G$19:$G$1015,'2.cTë ardhura-jopublik-nënatyrë'!$G666,'2.bTë ardhura-jopublik-monetare'!$H$19:$H$1015)","v":0}]
[null,null,null,null,null,null,null,null,null,{"$f":"SUMIF($G$19:$G$5015,$G667,$H$19:$H$5015)+SUMIF('2.bTë ardhura-jopublik-monetare'!$G$19:$G$1015,'2.cTë ardhura-jopublik-nënatyrë'!$G667,'2.bTë ardhura-jopublik-monetare'!$H$19:$H$1015)","v":0}]
[null,null,null,null,null,null,null,null,null,{"$f":"SUMIF($G$19:$G$5015,$G668,$H$19:$H$5015)+SUMIF('2.bTë ardhura-jopublik-monetare'!$G$19:$G$1015,'2.cTë ardhura-jopublik-nënatyrë'!$G668,'2.bTë ardhura-jopublik-monetare'!$H$19:$H$1015)","v":0}]
[null,null,null,null,null,null,null,null,null,{"$f":"SUMIF($G$19:$G$5015,$G669,$H$19:$H$5015)+SUMIF('2.bTë ardhura-jopublik-monetare'!$G$19:$G$1015,'2.cTë ardhura-jopublik-nënatyrë'!$G669,'2.bTë ardhura-jopublik-monetare'!$H$19:$H$1015)","v":0}]
[null,null,null,null,null,null,null,null,null,{"$f":"SUMIF($G$19:$G$5015,$G670,$H$19:$H$5015)+SUMIF('2.bTë ardhura-jopublik-monetare'!$G$19:$G$1015,'2.cTë ardhura-jopublik-nënatyrë'!$G670,'2.bTë ardhura-jopublik-monetare'!$H$19:$H$1015)","v":0}]
[null,null,null,null,null,null,null,null,null,{"$f":"SUMIF($G$19:$G$5015,$G671,$H$19:$H$5015)+SUMIF('2.bTë ardhura-jopublik-monetare'!$G$19:$G$1015,'2.cTë ardhura-jopublik-nënatyrë'!$G671,'2.bTë ardhura-jopublik-monetare'!$H$19:$H$1015)","v":0}]
[null,null,null,null,null,null,null,null,null,{"$f":"SUMIF($G$19:$G$5015,$G672,$H$19:$H$5015)+SUMIF('2.bTë ardhura-jopublik-monetare'!$G$19:$G$1015,'2.cTë ardhura-jopublik-nënatyrë'!$G672,'2.bTë ardhura-jopublik-monetare'!$H$19:$H$1015)","v":0}]
[null,null,null,null,null,null,null,null,null,{"$f":"SUMIF($G$19:$G$5015,$G673,$H$19:$H$5015)+SUMIF('2.bTë ardhura-jopublik-monetare'!$G$19:$G$1015,'2.cTë ardhura-jopublik-nënatyrë'!$G673,'2.bTë ardhura-jopublik-monetare'!$H$19:$H$1015)","v":0}]
[null,null,null,null,null,null,null,null,null,{"$f":"SUMIF($G$19:$G$5015,$G674,$H$19:$H$5015)+SUMIF('2.bTë ardhura-jopublik-monetare'!$G$19:$G$1015,'2.cTë ardhura-jopublik-nënatyrë'!$G674,'2.bTë ardhura-jopublik-monetare'!$H$19:$H$1015)","v":0}]
[null,null,null,null,null,null,null,null,null,{"$f":"SUMIF($G$19:$G$5015,$G675,$H$19:$H$5015)+SUMIF('2.bTë ardhura-jopublik-monetare'!$G$19:$G$1015,'2.cTë ardhura-jopublik-nënatyrë'!$G675,'2.bTë ardhura-jopublik-monetare'!$H$19:$H$1015)","v":0}]
[null,null,null,null,null,null,null,null,null,{"$f":"SUMIF($G$19:$G$5015,$G676,$H$19:$H$5015)+SUMIF('2.bTë ardhura-jopublik-monetare'!$G$19:$G$1015,'2.cTë ardhura-jopublik-nënatyrë'!$G676,'2.bTë ardhura-jopublik-monetare'!$H$19:$H$1015)","v":0}]
[null,null,null,null,null,null,null,null,null,{"$f":"SUMIF($G$19:$G$5015,$G677,$H$19:$H$5015)+SUMIF('2.bTë ardhura-jopublik-monetare'!$G$19:$G$1015,'2.cTë ardhura-jopublik-nënatyrë'!$G677,'2.bTë ardhura-jopublik-monetare'!$H$19:$H$1015)","v":0}]
[null,null,null,null,null,null,null,null,null,{"$f":"SUMIF($G$19:$G$5015,$G678,$H$19:$H$5015)+SUMIF('2.bTë ardhura-jopublik-monetare'!$G$19:$G$1015,'2.cTë ardhura-jopublik-nënatyrë'!$G678,'2.bTë ardhura-jopublik-monetare'!$H$19:$H$1015)","v":0}]
[null,null,null,null,null,null,null,null,null,{"$f":"SUMIF($G$19:$G$5015,$G679,$H$19:$H$5015)+SUMIF('2.bTë ardhura-jopublik-monetare'!$G$19:$G$1015,'2.cTë ardhura-jopublik-nënatyrë'!$G679,'2.bTë ardhura-jopublik-monetare'!$H$19:$H$1015)","v":0}]
[null,null,null,null,null,null,null,null,null,{"$f":"SUMIF($G$19:$G$5015,$G680,$H$19:$H$5015)+SUMIF('2.bTë ardhura-jopublik-monetare'!$G$19:$G$1015,'2.cTë ardhura-jopublik-nënatyrë'!$G680,'2.bTë ardhura-jopublik-monetare'!$H$19:$H$1015)","v":0}]
[null,null,null,null,null,null,null,null,null,{"$f":"SUMIF($G$19:$G$5015,$G681,$H$19:$H$5015)+SUMIF('2.bTë ardhura-jopublik-monetare'!$G$19:$G$1015,'2.cTë ardhura-jopublik-nënatyrë'!$G681,'2.bTë ardhura-jopublik-monetare'!$H$19:$H$1015)","v":0}]
[null,null,null,null,null,null,null,null,null,{"$f":"SUMIF($G$19:$G$5015,$G682,$H$19:$H$5015)+SUMIF('2.bTë ardhura-jopublik-monetare'!$G$19:$G$1015,'2.cTë ardhura-jopublik-nënatyrë'!$G682,'2.bTë ardhura-jopublik-monetare'!$H$19:$H$1015)","v":0}]
[null,null,null,null,null,null,null,null,null,{"$f":"SUMIF($G$19:$G$5015,$G683,$H$19:$H$5015)+SUMIF('2.bTë ardhura-jopublik-monetare'!$G$19:$G$1015,'2.cTë ardhura-jopublik-nënatyrë'!$G683,'2.bTë ardhura-jopublik-monetare'!$H$19:$H$1015)","v":0}]
[null,null,null,null,null,null,null,null,null,{"$f":"SUMIF($G$19:$G$5015,$G684,$H$19:$H$5015)+SUMIF('2.bTë ardhura-jopublik-monetare'!$G$19:$G$1015,'2.cTë ardhura-jopublik-nënatyrë'!$G684,'2.bTë ardhura-jopublik-monetare'!$H$19:$H$1015)","v":0}]
[null,null,null,null,null,null,null,null,null,{"$f":"SUMIF($G$19:$G$5015,$G685,$H$19:$H$5015)+SUMIF('2.bTë ardhura-jopublik-monetare'!$G$19:$G$1015,'2.cTë ardhura-jopublik-nënatyrë'!$G685,'2.bTë ardhura-jopublik-monetare'!$H$19:$H$1015)","v":0}]
[null,null,null,null,null,null,null,null,null,{"$f":"SUMIF($G$19:$G$5015,$G686,$H$19:$H$5015)+SUMIF('2.bTë ardhura-jopublik-monetare'!$G$19:$G$1015,'2.cTë ardhura-jopublik-nënatyrë'!$G686,'2.bTë ardhura-jopublik-monetare'!$H$19:$H$1015)","v":0}]
[null,null,null,null,null,null,null,null,null,{"$f":"SUMIF($G$19:$G$5015,$G687,$H$19:$H$5015)+SUMIF('2.bTë ardhura-jopublik-monetare'!$G$19:$G$1015,'2.cTë ardhura-jopublik-nënatyrë'!$G687,'2.bTë ardhura-jopublik-monetare'!$H$19:$H$1015)","v":0}]
[null,null,null,null,null,null,null,null,null,{"$f":"SUMIF($G$19:$G$5015,$G688,$H$19:$H$5015)+SUMIF('2.bTë ardhura-jopublik-monetare'!$G$19:$G$1015,'2.cTë ardhura-jopublik-nënatyrë'!$G688,'2.bTë ardhura-jopublik-monetare'!$H$19:$H$1015)","v":0}]
[null,null,null,null,null,null,null,null,null,{"$f":"SUMIF($G$19:$G$5015,$G689,$H$19:$H$5015)+SUMIF('2.bTë ardhura-jopublik-monetare'!$G$19:$G$1015,'2.cTë ardhura-jopublik-nënatyrë'!$G689,'2.bTë ardhura-jopublik-monetare'!$H$19:$H$1015)","v":0}]
[null,null,null,null,null,null,null,null,null,{"$f":"SUMIF($G$19:$G$5015,$G690,$H$19:$H$5015)+SUMIF('2.bTë ardhura-jopublik-monetare'!$G$19:$G$1015,'2.cTë ardhura-jopublik-nënatyrë'!$G690,'2.bTë ardhura-jopublik-monetare'!$H$19:$H$1015)","v":0}]
[null,null,null,null,null,null,null,null,null,{"$f":"SUMIF($G$19:$G$5015,$G691,$H$19:$H$5015)+SUMIF('2.bTë ardhura-jopublik-monetare'!$G$19:$G$1015,'2.cTë ardhura-jopublik-nënatyrë'!$G691,'2.bTë ardhura-jopublik-monetare'!$H$19:$H$1015)","v":0}]
[null,null,null,null,null,null,null,null,null,{"$f":"SUMIF($G$19:$G$5015,$G692,$H$19:$H$5015)+SUMIF('2.bTë ardhura-jopublik-monetare'!$G$19:$G$1015,'2.cTë ardhura-jopublik-nënatyrë'!$G692,'2.bTë ardhura-jopublik-monetare'!$H$19:$H$1015)","v":0}]
[null,null,null,null,null,null,null,null,null,{"$f":"SUMIF($G$19:$G$5015,$G693,$H$19:$H$5015)+SUMIF('2.bTë ardhura-jopublik-monetare'!$G$19:$G$1015,'2.cTë ardhura-jopublik-nënatyrë'!$G693,'2.bTë ardhura-jopublik-monetare'!$H$19:$H$1015)","v":0}]
[null,null,null,null,null,null,null,null,null,{"$f":"SUMIF($G$19:$G$5015,$G694,$H$19:$H$5015)+SUMIF('2.bTë ardhura-jopublik-monetare'!$G$19:$G$1015,'2.cTë ardhura-jopublik-nënatyrë'!$G694,'2.bTë ardhura-jopublik-monetare'!$H$19:$H$1015)","v":0}]
[null,null,null,null,null,null,null,null,null,{"$f":"SUMIF($G$19:$G$5015,$G695,$H$19:$H$5015)+SUMIF('2.bTë ardhura-jopublik-monetare'!$G$19:$G$1015,'2.cTë ardhura-jopublik-nënatyrë'!$G695,'2.bTë ardhura-jopublik-monetare'!$H$19:$H$1015)","v":0}]
[null,null,null,null,null,null,null,null,null,{"$f":"SUMIF($G$19:$G$5015,$G696,$H$19:$H$5015)+SUMIF('2.bTë ardhura-jopublik-monetare'!$G$19:$G$1015,'2.cTë ardhura-jopublik-nënatyrë'!$G696,'2.bTë ardhura-jopublik-monetare'!$H$19:$H$1015)","v":0}]
[null,null,null,null,null,null,null,null,null,{"$f":"SUMIF($G$19:$G$5015,$G697,$H$19:$H$5015)+SUMIF('2.bTë ardhura-jopublik-monetare'!$G$19:$G$1015,'2.cTë ardhura-jopublik-nënatyrë'!$G697,'2.bTë ardhura-jopublik-monetare'!$H$19:$H$1015)","v":0}]
[null,null,null,null,null,null,null,null,null,{"$f":"SUMIF($G$19:$G$5015,$G698,$H$19:$H$5015)+SUMIF('2.bTë ardhura-jopublik-monetare'!$G$19:$G$1015,'2.cTë ardhura-jopublik-nënatyrë'!$G698,'2.bTë ardhura-jopublik-monetare'!$H$19:$H$1015)","v":0}]
[null,null,null,null,null,null,null,null,null,{"$f":"SUMIF($G$19:$G$5015,$G699,$H$19:$H$5015)+SUMIF('2.bTë ardhura-jopublik-monetare'!$G$19:$G$1015,'2.cTë ardhura-jopublik-nënatyrë'!$G699,'2.bTë ardhura-jopublik-monetare'!$H$19:$H$1015)","v":0}]
[null,null,null,null,null,null,null,null,null,{"$f":"SUMIF($G$19:$G$5015,$G700,$H$19:$H$5015)+SUMIF('2.bTë ardhura-jopublik-monetare'!$G$19:$G$1015,'2.cTë ardhura-jopublik-nënatyrë'!$G700,'2.bTë ardhura-jopublik-monetare'!$H$19:$H$1015)","v":0}]
[null,null,null,null,null,null,null,null,null,{"$f":"SUMIF($G$19:$G$5015,$G701,$H$19:$H$5015)+SUMIF('2.bTë ardhura-jopublik-monetare'!$G$19:$G$1015,'2.cTë ardhura-jopublik-nënatyrë'!$G701,'2.bTë ardhura-jopublik-monetare'!$H$19:$H$1015)","v":0}]
[null,null,null,null,null,null,null,null,null,{"$f":"SUMIF($G$19:$G$5015,$G702,$H$19:$H$5015)+SUMIF('2.bTë ardhura-jopublik-monetare'!$G$19:$G$1015,'2.cTë ardhura-jopublik-nënatyrë'!$G702,'2.bTë ardhura-jopublik-monetare'!$H$19:$H$1015)","v":0}]
[null,null,null,null,null,null,null,null,null,{"$f":"SUMIF($G$19:$G$5015,$G703,$H$19:$H$5015)+SUMIF('2.bTë ardhura-jopublik-monetare'!$G$19:$G$1015,'2.cTë ardhura-jopublik-nënatyrë'!$G703,'2.bTë ardhura-jopublik-monetare'!$H$19:$H$1015)","v":0}]
[null,null,null,null,null,null,null,null,null,{"$f":"SUMIF($G$19:$G$5015,$G704,$H$19:$H$5015)+SUMIF('2.bTë ardhura-jopublik-monetare'!$G$19:$G$1015,'2.cTë ardhura-jopublik-nënatyrë'!$G704,'2.bTë ardhura-jopublik-monetare'!$H$19:$H$1015)","v":0}]
[null,null,null,null,null,null,null,null,null,{"$f":"SUMIF($G$19:$G$5015,$G705,$H$19:$H$5015)+SUMIF('2.bTë ardhura-jopublik-monetare'!$G$19:$G$1015,'2.cTë ardhura-jopublik-nënatyrë'!$G705,'2.bTë ardhura-jopublik-monetare'!$H$19:$H$1015)","v":0}]
[null,null,null,null,null,null,null,null,null,{"$f":"SUMIF($G$19:$G$5015,$G706,$H$19:$H$5015)+SUMIF('2.bTë ardhura-jopublik-monetare'!$G$19:$G$1015,'2.cTë ardhura-jopublik-nënatyrë'!$G706,'2.bTë ardhura-jopublik-monetare'!$H$19:$H$1015)","v":0}]
[null,null,null,null,null,null,null,null,null,{"$f":"SUMIF($G$19:$G$5015,$G707,$H$19:$H$5015)+SUMIF('2.bTë ardhura-jopublik-monetare'!$G$19:$G$1015,'2.cTë ardhura-jopublik-nënatyrë'!$G707,'2.bTë ardhura-jopublik-monetare'!$H$19:$H$1015)","v":0}]
[null,null,null,null,null,null,null,null,null,{"$f":"SUMIF($G$19:$G$5015,$G708,$H$19:$H$5015)+SUMIF('2.bTë ardhura-jopublik-monetare'!$G$19:$G$1015,'2.cTë ardhura-jopublik-nënatyrë'!$G708,'2.bTë ardhura-jopublik-monetare'!$H$19:$H$1015)","v":0}]
[null,null,null,null,null,null,null,null,null,{"$f":"SUMIF($G$19:$G$5015,$G709,$H$19:$H$5015)+SUMIF('2.bTë ardhura-jopublik-monetare'!$G$19:$G$1015,'2.cTë ardhura-jopublik-nënatyrë'!$G709,'2.bTë ardhura-jopublik-monetare'!$H$19:$H$1015)","v":0}]
[null,null,null,null,null,null,null,null,null,{"$f":"SUMIF($G$19:$G$5015,$G710,$H$19:$H$5015)+SUMIF('2.bTë ardhura-jopublik-monetare'!$G$19:$G$1015,'2.cTë ardhura-jopublik-nënatyrë'!$G710,'2.bTë ardhura-jopublik-monetare'!$H$19:$H$1015)","v":0}]
[null,null,null,null,null,null,null,null,null,{"$f":"SUMIF($G$19:$G$5015,$G711,$H$19:$H$5015)+SUMIF('2.bTë ardhura-jopublik-monetare'!$G$19:$G$1015,'2.cTë ardhura-jopublik-nënatyrë'!$G711,'2.bTë ardhura-jopublik-monetare'!$H$19:$H$1015)","v":0}]
[null,null,null,null,null,null,null,null,null,{"$f":"SUMIF($G$19:$G$5015,$G712,$H$19:$H$5015)+SUMIF('2.bTë ardhura-jopublik-monetare'!$G$19:$G$1015,'2.cTë ardhura-jopublik-nënatyrë'!$G712,'2.bTë ardhura-jopublik-monetare'!$H$19:$H$1015)","v":0}]
[null,null,null,null,null,null,null,null,null,{"$f":"SUMIF($G$19:$G$5015,$G713,$H$19:$H$5015)+SUMIF('2.bTë ardhura-jopublik-monetare'!$G$19:$G$1015,'2.cTë ardhura-jopublik-nënatyrë'!$G713,'2.bTë ardhura-jopublik-monetare'!$H$19:$H$1015)","v":0}]
[null,null,null,null,null,null,null,null,null,{"$f":"SUMIF($G$19:$G$5015,$G714,$H$19:$H$5015)+SUMIF('2.bTë ardhura-jopublik-monetare'!$G$19:$G$1015,'2.cTë ardhura-jopublik-nënatyrë'!$G714,'2.bTë ardhura-jopublik-monetare'!$H$19:$H$1015)","v":0}]
[null,null,null,null,null,null,null,null,null,{"$f":"SUMIF($G$19:$G$5015,$G715,$H$19:$H$5015)+SUMIF('2.bTë ardhura-jopublik-monetare'!$G$19:$G$1015,'2.cTë ardhura-jopublik-nënatyrë'!$G715,'2.bTë ardhura-jopublik-monetare'!$H$19:$H$1015)","v":0}]
[null,null,null,null,null,null,null,null,null,{"$f":"SUMIF($G$19:$G$5015,$G716,$H$19:$H$5015)+SUMIF('2.bTë ardhura-jopublik-monetare'!$G$19:$G$1015,'2.cTë ardhura-jopublik-nënatyrë'!$G716,'2.bTë ardhura-jopublik-monetare'!$H$19:$H$1015)","v":0}]
[null,null,null,null,null,null,null,null,null,{"$f":"SUMIF($G$19:$G$5015,$G717,$H$19:$H$5015)+SUMIF('2.bTë ardhura-jopublik-monetare'!$G$19:$G$1015,'2.cTë ardhura-jopublik-nënatyrë'!$G717,'2.bTë ardhura-jopublik-monetare'!$H$19:$H$1015)","v":0}]
[null,null,null,null,null,null,null,null,null,{"$f":"SUMIF($G$19:$G$5015,$G718,$H$19:$H$5015)+SUMIF('2.bTë ardhura-jopublik-monetare'!$G$19:$G$1015,'2.cTë ardhura-jopublik-nënatyrë'!$G718,'2.bTë ardhura-jopublik-monetare'!$H$19:$H$1015)","v":0}]
[null,null,null,null,null,null,null,null,null,{"$f":"SUMIF($G$19:$G$5015,$G719,$H$19:$H$5015)+SUMIF('2.bTë ardhura-jopublik-monetare'!$G$19:$G$1015,'2.cTë ardhura-jopublik-nënatyrë'!$G719,'2.bTë ardhura-jopublik-monetare'!$H$19:$H$1015)","v":0}]
[null,null,null,null,null,null,null,null,null,{"$f":"SUMIF($G$19:$G$5015,$G720,$H$19:$H$5015)+SUMIF('2.bTë ardhura-jopublik-monetare'!$G$19:$G$1015,'2.cTë ardhura-jopublik-nënatyrë'!$G720,'2.bTë ardhura-jopublik-monetare'!$H$19:$H$1015)","v":0}]
[null,null,null,null,null,null,null,null,null,{"$f":"SUMIF($G$19:$G$5015,$G721,$H$19:$H$5015)+SUMIF('2.bTë ardhura-jopublik-monetare'!$G$19:$G$1015,'2.cTë ardhura-jopublik-nënatyrë'!$G721,'2.bTë ardhura-jopublik-monetare'!$H$19:$H$1015)","v":0}]
[null,null,null,null,null,null,null,null,null,{"$f":"SUMIF($G$19:$G$5015,$G722,$H$19:$H$5015)+SUMIF('2.bTë ardhura-jopublik-monetare'!$G$19:$G$1015,'2.cTë ardhura-jopublik-nënatyrë'!$G722,'2.bTë ardhura-jopublik-monetare'!$H$19:$H$1015)","v":0}]
[null,null,null,null,null,null,null,null,null,{"$f":"SUMIF($G$19:$G$5015,$G723,$H$19:$H$5015)+SUMIF('2.bTë ardhura-jopublik-monetare'!$G$19:$G$1015,'2.cTë ardhura-jopublik-nënatyrë'!$G723,'2.bTë ardhura-jopublik-monetare'!$H$19:$H$1015)","v":0}]
[null,null,null,null,null,null,null,null,null,{"$f":"SUMIF($G$19:$G$5015,$G724,$H$19:$H$5015)+SUMIF('2.bTë ardhura-jopublik-monetare'!$G$19:$G$1015,'2.cTë ardhura-jopublik-nënatyrë'!$G724,'2.bTë ardhura-jopublik-monetare'!$H$19:$H$1015)","v":0}]
[null,null,null,null,null,null,null,null,null,{"$f":"SUMIF($G$19:$G$5015,$G725,$H$19:$H$5015)+SUMIF('2.bTë ardhura-jopublik-monetare'!$G$19:$G$1015,'2.cTë ardhura-jopublik-nënatyrë'!$G725,'2.bTë ardhura-jopublik-monetare'!$H$19:$H$1015)","v":0}]
[null,null,null,null,null,null,null,null,null,{"$f":"SUMIF($G$19:$G$5015,$G726,$H$19:$H$5015)+SUMIF('2.bTë ardhura-jopublik-monetare'!$G$19:$G$1015,'2.cTë ardhura-jopublik-nënatyrë'!$G726,'2.bTë ardhura-jopublik-monetare'!$H$19:$H$1015)","v":0}]
[null,null,null,null,null,null,null,null,null,{"$f":"SUMIF($G$19:$G$5015,$G727,$H$19:$H$5015)+SUMIF('2.bTë ardhura-jopublik-monetare'!$G$19:$G$1015,'2.cTë ardhura-jopublik-nënatyrë'!$G727,'2.bTë ardhura-jopublik-monetare'!$H$19:$H$1015)","v":0}]
[null,null,null,null,null,null,null,null,null,{"$f":"SUMIF($G$19:$G$5015,$G728,$H$19:$H$5015)+SUMIF('2.bTë ardhura-jopublik-monetare'!$G$19:$G$1015,'2.cTë ardhura-jopublik-nënatyrë'!$G728,'2.bTë ardhura-jopublik-monetare'!$H$19:$H$1015)","v":0}]
[null,null,null,null,null,null,null,null,null,{"$f":"SUMIF($G$19:$G$5015,$G729,$H$19:$H$5015)+SUMIF('2.bTë ardhura-jopublik-monetare'!$G$19:$G$1015,'2.cTë ardhura-jopublik-nënatyrë'!$G729,'2.bTë ardhura-jopublik-monetare'!$H$19:$H$1015)","v":0}]
[null,null,null,null,null,null,null,null,null,{"$f":"SUMIF($G$19:$G$5015,$G730,$H$19:$H$5015)+SUMIF('2.bTë ardhura-jopublik-monetare'!$G$19:$G$1015,'2.cTë ardhura-jopublik-nënatyrë'!$G730,'2.bTë ardhura-jopublik-monetare'!$H$19:$H$1015)","v":0}]
[null,null,null,null,null,null,null,null,null,{"$f":"SUMIF($G$19:$G$5015,$G731,$H$19:$H$5015)+SUMIF('2.bTë ardhura-jopublik-monetare'!$G$19:$G$1015,'2.cTë ardhura-jopublik-nënatyrë'!$G731,'2.bTë ardhura-jopublik-monetare'!$H$19:$H$1015)","v":0}]
[null,null,null,null,null,null,null,null,null,{"$f":"SUMIF($G$19:$G$5015,$G732,$H$19:$H$5015)+SUMIF('2.bTë ardhura-jopublik-monetare'!$G$19:$G$1015,'2.cTë ardhura-jopublik-nënatyrë'!$G732,'2.bTë ardhura-jopublik-monetare'!$H$19:$H$1015)","v":0}]
[null,null,null,null,null,null,null,null,null,{"$f":"SUMIF($G$19:$G$5015,$G733,$H$19:$H$5015)+SUMIF('2.bTë ardhura-jopublik-monetare'!$G$19:$G$1015,'2.cTë ardhura-jopublik-nënatyrë'!$G733,'2.bTë ardhura-jopublik-monetare'!$H$19:$H$1015)","v":0}]
[null,null,null,null,null,null,null,null,null,{"$f":"SUMIF($G$19:$G$5015,$G734,$H$19:$H$5015)+SUMIF('2.bTë ardhura-jopublik-monetare'!$G$19:$G$1015,'2.cTë ardhura-jopublik-nënatyrë'!$G734,'2.bTë ardhura-jopublik-monetare'!$H$19:$H$1015)","v":0}]
[null,null,null,null,null,null,null,null,null,{"$f":"SUMIF($G$19:$G$5015,$G735,$H$19:$H$5015)+SUMIF('2.bTë ardhura-jopublik-monetare'!$G$19:$G$1015,'2.cTë ardhura-jopublik-nënatyrë'!$G735,'2.bTë ardhura-jopublik-monetare'!$H$19:$H$1015)","v":0}]
[null,null,null,null,null,null,null,null,null,{"$f":"SUMIF($G$19:$G$5015,$G736,$H$19:$H$5015)+SUMIF('2.bTë ardhura-jopublik-monetare'!$G$19:$G$1015,'2.cTë ardhura-jopublik-nënatyrë'!$G736,'2.bTë ardhura-jopublik-monetare'!$H$19:$H$1015)","v":0}]
[null,null,null,null,null,null,null,null,null,{"$f":"SUMIF($G$19:$G$5015,$G737,$H$19:$H$5015)+SUMIF('2.bTë ardhura-jopublik-monetare'!$G$19:$G$1015,'2.cTë ardhura-jopublik-nënatyrë'!$G737,'2.bTë ardhura-jopublik-monetare'!$H$19:$H$1015)","v":0}]
[null,null,null,null,null,null,null,null,null,{"$f":"SUMIF($G$19:$G$5015,$G738,$H$19:$H$5015)+SUMIF('2.bTë ardhura-jopublik-monetare'!$G$19:$G$1015,'2.cTë ardhura-jopublik-nënatyrë'!$G738,'2.bTë ardhura-jopublik-monetare'!$H$19:$H$1015)","v":0}]
[null,null,null,null,null,null,null,null,null,{"$f":"SUMIF($G$19:$G$5015,$G739,$H$19:$H$5015)+SUMIF('2.bTë ardhura-jopublik-monetare'!$G$19:$G$1015,'2.cTë ardhura-jopublik-nënatyrë'!$G739,'2.bTë ardhura-jopublik-monetare'!$H$19:$H$1015)","v":0}]
[null,null,null,null,null,null,null,null,null,{"$f":"SUMIF($G$19:$G$5015,$G740,$H$19:$H$5015)+SUMIF('2.bTë ardhura-jopublik-monetare'!$G$19:$G$1015,'2.cTë ardhura-jopublik-nënatyrë'!$G740,'2.bTë ardhura-jopublik-monetare'!$H$19:$H$1015)","v":0}]
[null,null,null,null,null,null,null,null,null,{"$f":"SUMIF($G$19:$G$5015,$G741,$H$19:$H$5015)+SUMIF('2.bTë ardhura-jopublik-monetare'!$G$19:$G$1015,'2.cTë ardhura-jopublik-nënatyrë'!$G741,'2.bTë ardhura-jopublik-monetare'!$H$19:$H$1015)","v":0}]
[null,null,null,null,null,null,null,null,null,{"$f":"SUMIF($G$19:$G$5015,$G742,$H$19:$H$5015)+SUMIF('2.bTë ardhura-jopublik-monetare'!$G$19:$G$1015,'2.cTë ardhura-jopublik-nënatyrë'!$G742,'2.bTë ardhura-jopublik-monetare'!$H$19:$H$1015)","v":0}]
[null,null,null,null,null,null,null,null,null,{"$f":"SUMIF($G$19:$G$5015,$G743,$H$19:$H$5015)+SUMIF('2.bTë ardhura-jopublik-monetare'!$G$19:$G$1015,'2.cTë ardhura-jopublik-nënatyrë'!$G743,'2.bTë ardhura-jopublik-monetare'!$H$19:$H$1015)","v":0}]
[null,null,null,null,null,null,null,null,null,{"$f":"SUMIF($G$19:$G$5015,$G744,$H$19:$H$5015)+SUMIF('2.bTë ardhura-jopublik-monetare'!$G$19:$G$1015,'2.cTë ardhura-jopublik-nënatyrë'!$G744,'2.bTë ardhura-jopublik-monetare'!$H$19:$H$1015)","v":0}]
[null,null,null,null,null,null,null,null,null,{"$f":"SUMIF($G$19:$G$5015,$G745,$H$19:$H$5015)+SUMIF('2.bTë ardhura-jopublik-monetare'!$G$19:$G$1015,'2.cTë ardhura-jopublik-nënatyrë'!$G745,'2.bTë ardhura-jopublik-monetare'!$H$19:$H$1015)","v":0}]
[null,null,null,null,null,null,null,null,null,{"$f":"SUMIF($G$19:$G$5015,$G746,$H$19:$H$5015)+SUMIF('2.bTë ardhura-jopublik-monetare'!$G$19:$G$1015,'2.cTë ardhura-jopublik-nënatyrë'!$G746,'2.bTë ardhura-jopublik-monetare'!$H$19:$H$1015)","v":0}]
[null,null,null,null,null,null,null,null,null,{"$f":"SUMIF($G$19:$G$5015,$G747,$H$19:$H$5015)+SUMIF('2.bTë ardhura-jopublik-monetare'!$G$19:$G$1015,'2.cTë ardhura-jopublik-nënatyrë'!$G747,'2.bTë ardhura-jopublik-monetare'!$H$19:$H$1015)","v":0}]
[null,null,null,null,null,null,null,null,null,{"$f":"SUMIF($G$19:$G$5015,$G748,$H$19:$H$5015)+SUMIF('2.bTë ardhura-jopublik-monetare'!$G$19:$G$1015,'2.cTë ardhura-jopublik-nënatyrë'!$G748,'2.bTë ardhura-jopublik-monetare'!$H$19:$H$1015)","v":0}]
[null,null,null,null,null,null,null,null,null,{"$f":"SUMIF($G$19:$G$5015,$G749,$H$19:$H$5015)+SUMIF('2.bTë ardhura-jopublik-monetare'!$G$19:$G$1015,'2.cTë ardhura-jopublik-nënatyrë'!$G749,'2.bTë ardhura-jopublik-monetare'!$H$19:$H$1015)","v":0}]
[null,null,null,null,null,null,null,null,null,{"$f":"SUMIF($G$19:$G$5015,$G750,$H$19:$H$5015)+SUMIF('2.bTë ardhura-jopublik-monetare'!$G$19:$G$1015,'2.cTë ardhura-jopublik-nënatyrë'!$G750,'2.bTë ardhura-jopublik-monetare'!$H$19:$H$1015)","v":0}]
[null,null,null,null,null,null,null,null,null,{"$f":"SUMIF($G$19:$G$5015,$G751,$H$19:$H$5015)+SUMIF('2.bTë ardhura-jopublik-monetare'!$G$19:$G$1015,'2.cTë ardhura-jopublik-nënatyrë'!$G751,'2.bTë ardhura-jopublik-monetare'!$H$19:$H$1015)","v":0}]
[null,null,null,null,null,null,null,null,null,{"$f":"SUMIF($G$19:$G$5015,$G752,$H$19:$H$5015)+SUMIF('2.bTë ardhura-jopublik-monetare'!$G$19:$G$1015,'2.cTë ardhura-jopublik-nënatyrë'!$G752,'2.bTë ardhura-jopublik-monetare'!$H$19:$H$1015)","v":0}]
[null,null,null,null,null,null,null,null,null,{"$f":"SUMIF($G$19:$G$5015,$G753,$H$19:$H$5015)+SUMIF('2.bTë ardhura-jopublik-monetare'!$G$19:$G$1015,'2.cTë ardhura-jopublik-nënatyrë'!$G753,'2.bTë ardhura-jopublik-monetare'!$H$19:$H$1015)","v":0}]
[null,null,null,null,null,null,null,null,null,{"$f":"SUMIF($G$19:$G$5015,$G754,$H$19:$H$5015)+SUMIF('2.bTë ardhura-jopublik-monetare'!$G$19:$G$1015,'2.cTë ardhura-jopublik-nënatyrë'!$G754,'2.bTë ardhura-jopublik-monetare'!$H$19:$H$1015)","v":0}]
[null,null,null,null,null,null,null,null,null,{"$f":"SUMIF($G$19:$G$5015,$G755,$H$19:$H$5015)+SUMIF('2.bTë ardhura-jopublik-monetare'!$G$19:$G$1015,'2.cTë ardhura-jopublik-nënatyrë'!$G755,'2.bTë ardhura-jopublik-monetare'!$H$19:$H$1015)","v":0}]
[null,null,null,null,null,null,null,null,null,{"$f":"SUMIF($G$19:$G$5015,$G756,$H$19:$H$5015)+SUMIF('2.bTë ardhura-jopublik-monetare'!$G$19:$G$1015,'2.cTë ardhura-jopublik-nënatyrë'!$G756,'2.bTë ardhura-jopublik-monetare'!$H$19:$H$1015)","v":0}]
[null,null,null,null,null,null,null,null,null,{"$f":"SUMIF($G$19:$G$5015,$G757,$H$19:$H$5015)+SUMIF('2.bTë ardhura-jopublik-monetare'!$G$19:$G$1015,'2.cTë ardhura-jopublik-nënatyrë'!$G757,'2.bTë ardhura-jopublik-monetare'!$H$19:$H$1015)","v":0}]
[null,null,null,null,null,null,null,null,null,{"$f":"SUMIF($G$19:$G$5015,$G758,$H$19:$H$5015)+SUMIF('2.bTë ardhura-jopublik-monetare'!$G$19:$G$1015,'2.cTë ardhura-jopublik-nënatyrë'!$G758,'2.bTë ardhura-jopublik-monetare'!$H$19:$H$1015)","v":0}]
[null,null,null,null,null,null,null,null,null,{"$f":"SUMIF($G$19:$G$5015,$G759,$H$19:$H$5015)+SUMIF('2.bTë ardhura-jopublik-monetare'!$G$19:$G$1015,'2.cTë ardhura-jopublik-nënatyrë'!$G759,'2.bTë ardhura-jopublik-monetare'!$H$19:$H$1015)","v":0}]
[null,null,null,null,null,null,null,null,null,{"$f":"SUMIF($G$19:$G$5015,$G760,$H$19:$H$5015)+SUMIF('2.bTë ardhura-jopublik-monetare'!$G$19:$G$1015,'2.cTë ardhura-jopublik-nënatyrë'!$G760,'2.bTë ardhura-jopublik-monetare'!$H$19:$H$1015)","v":0}]
[null,null,null,null,null,null,null,null,null,{"$f":"SUMIF($G$19:$G$5015,$G761,$H$19:$H$5015)+SUMIF('2.bTë ardhura-jopublik-monetare'!$G$19:$G$1015,'2.cTë ardhura-jopublik-nënatyrë'!$G761,'2.bTë ardhura-jopublik-monetare'!$H$19:$H$1015)","v":0}]
[null,null,null,null,null,null,null,null,null,{"$f":"SUMIF($G$19:$G$5015,$G762,$H$19:$H$5015)+SUMIF('2.bTë ardhura-jopublik-monetare'!$G$19:$G$1015,'2.cTë ardhura-jopublik-nënatyrë'!$G762,'2.bTë ardhura-jopublik-monetare'!$H$19:$H$1015)","v":0}]
[null,null,null,null,null,null,null,null,null,{"$f":"SUMIF($G$19:$G$5015,$G763,$H$19:$H$5015)+SUMIF('2.bTë ardhura-jopublik-monetare'!$G$19:$G$1015,'2.cTë ardhura-jopublik-nënatyrë'!$G763,'2.bTë ardhura-jopublik-monetare'!$H$19:$H$1015)","v":0}]
[null,null,null,null,null,null,null,null,null,{"$f":"SUMIF($G$19:$G$5015,$G764,$H$19:$H$5015)+SUMIF('2.bTë ardhura-jopublik-monetare'!$G$19:$G$1015,'2.cTë ardhura-jopublik-nënatyrë'!$G764,'2.bTë ardhura-jopublik-monetare'!$H$19:$H$1015)","v":0}]
[null,null,null,null,null,null,null,null,null,{"$f":"SUMIF($G$19:$G$5015,$G765,$H$19:$H$5015)+SUMIF('2.bTë ardhura-jopublik-monetare'!$G$19:$G$1015,'2.cTë ardhura-jopublik-nënatyrë'!$G765,'2.bTë ardhura-jopublik-monetare'!$H$19:$H$1015)","v":0}]
[null,null,null,null,null,null,null,null,null,{"$f":"SUMIF($G$19:$G$5015,$G766,$H$19:$H$5015)+SUMIF('2.bTë ardhura-jopublik-monetare'!$G$19:$G$1015,'2.cTë ardhura-jopublik-nënatyrë'!$G766,'2.bTë ardhura-jopublik-monetare'!$H$19:$H$1015)","v":0}]
[null,null,null,null,null,null,null,null,null,{"$f":"SUMIF($G$19:$G$5015,$G767,$H$19:$H$5015)+SUMIF('2.bTë ardhura-jopublik-monetare'!$G$19:$G$1015,'2.cTë ardhura-jopublik-nënatyrë'!$G767,'2.bTë ardhura-jopublik-monetare'!$H$19:$H$1015)","v":0}]
[null,null,null,null,null,null,null,null,null,{"$f":"SUMIF($G$19:$G$5015,$G768,$H$19:$H$5015)+SUMIF('2.bTë ardhura-jopublik-monetare'!$G$19:$G$1015,'2.cTë ardhura-jopublik-nënatyrë'!$G768,'2.bTë ardhura-jopublik-monetare'!$H$19:$H$1015)","v":0}]
[null,null,null,null,null,null,null,null,null,{"$f":"SUMIF($G$19:$G$5015,$G769,$H$19:$H$5015)+SUMIF('2.bTë ardhura-jopublik-monetare'!$G$19:$G$1015,'2.cTë ardhura-jopublik-nënatyrë'!$G769,'2.bTë ardhura-jopublik-monetare'!$H$19:$H$1015)","v":0}]
[null,null,null,null,null,null,null,null,null,{"$f":"SUMIF($G$19:$G$5015,$G770,$H$19:$H$5015)+SUMIF('2.bTë ardhura-jopublik-monetare'!$G$19:$G$1015,'2.cTë ardhura-jopublik-nënatyrë'!$G770,'2.bTë ardhura-jopublik-monetare'!$H$19:$H$1015)","v":0}]
[null,null,null,null,null,null,null,null,null,{"$f":"SUMIF($G$19:$G$5015,$G771,$H$19:$H$5015)+SUMIF('2.bTë ardhura-jopublik-monetare'!$G$19:$G$1015,'2.cTë ardhura-jopublik-nënatyrë'!$G771,'2.bTë ardhura-jopublik-monetare'!$H$19:$H$1015)","v":0}]
[null,null,null,null,null,null,null,null,null,{"$f":"SUMIF($G$19:$G$5015,$G772,$H$19:$H$5015)+SUMIF('2.bTë ardhura-jopublik-monetare'!$G$19:$G$1015,'2.cTë ardhura-jopublik-nënatyrë'!$G772,'2.bTë ardhura-jopublik-monetare'!$H$19:$H$1015)","v":0}]
[null,null,null,null,null,null,null,null,null,{"$f":"SUMIF($G$19:$G$5015,$G773,$H$19:$H$5015)+SUMIF('2.bTë ardhura-jopublik-monetare'!$G$19:$G$1015,'2.cTë ardhura-jopublik-nënatyrë'!$G773,'2.bTë ardhura-jopublik-monetare'!$H$19:$H$1015)","v":0}]
[null,null,null,null,null,null,null,null,null,{"$f":"SUMIF($G$19:$G$5015,$G774,$H$19:$H$5015)+SUMIF('2.bTë ardhura-jopublik-monetare'!$G$19:$G$1015,'2.cTë ardhura-jopublik-nënatyrë'!$G774,'2.bTë ardhura-jopublik-monetare'!$H$19:$H$1015)","v":0}]
[null,null,null,null,null,null,null,null,null,{"$f":"SUMIF($G$19:$G$5015,$G775,$H$19:$H$5015)+SUMIF('2.bTë ardhura-jopublik-monetare'!$G$19:$G$1015,'2.cTë ardhura-jopublik-nënatyrë'!$G775,'2.bTë ardhura-jopublik-monetare'!$H$19:$H$1015)","v":0}]
[null,null,null,null,null,null,null,null,null,{"$f":"SUMIF($G$19:$G$5015,$G776,$H$19:$H$5015)+SUMIF('2.bTë ardhura-jopublik-monetare'!$G$19:$G$1015,'2.cTë ardhura-jopublik-nënatyrë'!$G776,'2.bTë ardhura-jopublik-monetare'!$H$19:$H$1015)","v":0}]
[null,null,null,null,null,null,null,null,null,{"$f":"SUMIF($G$19:$G$5015,$G777,$H$19:$H$5015)+SUMIF('2.bTë ardhura-jopublik-monetare'!$G$19:$G$1015,'2.cTë ardhura-jopublik-nënatyrë'!$G777,'2.bTë ardhura-jopublik-monetare'!$H$19:$H$1015)","v":0}]
[null,null,null,null,null,null,null,null,null,{"$f":"SUMIF($G$19:$G$5015,$G778,$H$19:$H$5015)+SUMIF('2.bTë ardhura-jopublik-monetare'!$G$19:$G$1015,'2.cTë ardhura-jopublik-nënatyrë'!$G778,'2.bTë ardhura-jopublik-monetare'!$H$19:$H$1015)","v":0}]
[null,null,null,null,null,null,null,null,null,{"$f":"SUMIF($G$19:$G$5015,$G779,$H$19:$H$5015)+SUMIF('2.bTë ardhura-jopublik-monetare'!$G$19:$G$1015,'2.cTë ardhura-jopublik-nënatyrë'!$G779,'2.bTë ardhura-jopublik-monetare'!$H$19:$H$1015)","v":0}]
[null,null,null,null,null,null,null,null,null,{"$f":"SUMIF($G$19:$G$5015,$G780,$H$19:$H$5015)+SUMIF('2.bTë ardhura-jopublik-monetare'!$G$19:$G$1015,'2.cTë ardhura-jopublik-nënatyrë'!$G780,'2.bTë ardhura-jopublik-monetare'!$H$19:$H$1015)","v":0}]
[null,null,null,null,null,null,null,null,null,{"$f":"SUMIF($G$19:$G$5015,$G781,$H$19:$H$5015)+SUMIF('2.bTë ardhura-jopublik-monetare'!$G$19:$G$1015,'2.cTë ardhura-jopublik-nënatyrë'!$G781,'2.bTë ardhura-jopublik-monetare'!$H$19:$H$1015)","v":0}]
[null,null,null,null,null,null,null,null,null,{"$f":"SUMIF($G$19:$G$5015,$G782,$H$19:$H$5015)+SUMIF('2.bTë ardhura-jopublik-monetare'!$G$19:$G$1015,'2.cTë ardhura-jopublik-nënatyrë'!$G782,'2.bTë ardhura-jopublik-monetare'!$H$19:$H$1015)","v":0}]
[null,null,null,null,null,null,null,null,null,{"$f":"SUMIF($G$19:$G$5015,$G783,$H$19:$H$5015)+SUMIF('2.bTë ardhura-jopublik-monetare'!$G$19:$G$1015,'2.cTë ardhura-jopublik-nënatyrë'!$G783,'2.bTë ardhura-jopublik-monetare'!$H$19:$H$1015)","v":0}]
[null,null,null,null,null,null,null,null,null,{"$f":"SUMIF($G$19:$G$5015,$G784,$H$19:$H$5015)+SUMIF('2.bTë ardhura-jopublik-monetare'!$G$19:$G$1015,'2.cTë ardhura-jopublik-nënatyrë'!$G784,'2.bTë ardhura-jopublik-monetare'!$H$19:$H$1015)","v":0}]
[null,null,null,null,null,null,null,null,null,{"$f":"SUMIF($G$19:$G$5015,$G785,$H$19:$H$5015)+SUMIF('2.bTë ardhura-jopublik-monetare'!$G$19:$G$1015,'2.cTë ardhura-jopublik-nënatyrë'!$G785,'2.bTë ardhura-jopublik-monetare'!$H$19:$H$1015)","v":0}]
[null,null,null,null,null,null,null,null,null,{"$f":"SUMIF($G$19:$G$5015,$G786,$H$19:$H$5015)+SUMIF('2.bTë ardhura-jopublik-monetare'!$G$19:$G$1015,'2.cTë ardhura-jopublik-nënatyrë'!$G786,'2.bTë ardhura-jopublik-monetare'!$H$19:$H$1015)","v":0}]
[null,null,null,null,null,null,null,null,null,{"$f":"SUMIF($G$19:$G$5015,$G787,$H$19:$H$5015)+SUMIF('2.bTë ardhura-jopublik-monetare'!$G$19:$G$1015,'2.cTë ardhura-jopublik-nënatyrë'!$G787,'2.bTë ardhura-jopublik-monetare'!$H$19:$H$1015)","v":0}]
[null,null,null,null,null,null,null,null,null,{"$f":"SUMIF($G$19:$G$5015,$G788,$H$19:$H$5015)+SUMIF('2.bTë ardhura-jopublik-monetare'!$G$19:$G$1015,'2.cTë ardhura-jopublik-nënatyrë'!$G788,'2.bTë ardhura-jopublik-monetare'!$H$19:$H$1015)","v":0}]
[null,null,null,null,null,null,null,null,null,{"$f":"SUMIF($G$19:$G$5015,$G789,$H$19:$H$5015)+SUMIF('2.bTë ardhura-jopublik-monetare'!$G$19:$G$1015,'2.cTë ardhura-jopublik-nënatyrë'!$G789,'2.bTë ardhura-jopublik-monetare'!$H$19:$H$1015)","v":0}]
[null,null,null,null,null,null,null,null,null,{"$f":"SUMIF($G$19:$G$5015,$G790,$H$19:$H$5015)+SUMIF('2.bTë ardhura-jopublik-monetare'!$G$19:$G$1015,'2.cTë ardhura-jopublik-nënatyrë'!$G790,'2.bTë ardhura-jopublik-monetare'!$H$19:$H$1015)","v":0}]
[null,null,null,null,null,null,null,null,null,{"$f":"SUMIF($G$19:$G$5015,$G791,$H$19:$H$5015)+SUMIF('2.bTë ardhura-jopublik-monetare'!$G$19:$G$1015,'2.cTë ardhura-jopublik-nënatyrë'!$G791,'2.bTë ardhura-jopublik-monetare'!$H$19:$H$1015)","v":0}]
[null,null,null,null,null,null,null,null,null,{"$f":"SUMIF($G$19:$G$5015,$G792,$H$19:$H$5015)+SUMIF('2.bTë ardhura-jopublik-monetare'!$G$19:$G$1015,'2.cTë ardhura-jopublik-nënatyrë'!$G792,'2.bTë ardhura-jopublik-monetare'!$H$19:$H$1015)","v":0}]
[null,null,null,null,null,null,null,null,null,{"$f":"SUMIF($G$19:$G$5015,$G793,$H$19:$H$5015)+SUMIF('2.bTë ardhura-jopublik-monetare'!$G$19:$G$1015,'2.cTë ardhura-jopublik-nënatyrë'!$G793,'2.bTë ardhura-jopublik-monetare'!$H$19:$H$1015)","v":0}]
[null,null,null,null,null,null,null,null,null,{"$f":"SUMIF($G$19:$G$5015,$G794,$H$19:$H$5015)+SUMIF('2.bTë ardhura-jopublik-monetare'!$G$19:$G$1015,'2.cTë ardhura-jopublik-nënatyrë'!$G794,'2.bTë ardhura-jopublik-monetare'!$H$19:$H$1015)","v":0}]
[null,null,null,null,null,null,null,null,null,{"$f":"SUMIF($G$19:$G$5015,$G795,$H$19:$H$5015)+SUMIF('2.bTë ardhura-jopublik-monetare'!$G$19:$G$1015,'2.cTë ardhura-jopublik-nënatyrë'!$G795,'2.bTë ardhura-jopublik-monetare'!$H$19:$H$1015)","v":0}]
[null,null,null,null,null,null,null,null,null,{"$f":"SUMIF($G$19:$G$5015,$G796,$H$19:$H$5015)+SUMIF('2.bTë ardhura-jopublik-monetare'!$G$19:$G$1015,'2.cTë ardhura-jopublik-nënatyrë'!$G796,'2.bTë ardhura-jopublik-monetare'!$H$19:$H$1015)","v":0}]
[null,null,null,null,null,null,null,null,null,{"$f":"SUMIF($G$19:$G$5015,$G797,$H$19:$H$5015)+SUMIF('2.bTë ardhura-jopublik-monetare'!$G$19:$G$1015,'2.cTë ardhura-jopublik-nënatyrë'!$G797,'2.bTë ardhura-jopublik-monetare'!$H$19:$H$1015)","v":0}]
[null,null,null,null,null,null,null,null,null,{"$f":"SUMIF($G$19:$G$5015,$G798,$H$19:$H$5015)+SUMIF('2.bTë ardhura-jopublik-monetare'!$G$19:$G$1015,'2.cTë ardhura-jopublik-nënatyrë'!$G798,'2.bTë ardhura-jopublik-monetare'!$H$19:$H$1015)","v":0}]
[null,null,null,null,null,null,null,null,null,{"$f":"SUMIF($G$19:$G$5015,$G799,$H$19:$H$5015)+SUMIF('2.bTë ardhura-jopublik-monetare'!$G$19:$G$1015,'2.cTë ardhura-jopublik-nënatyrë'!$G799,'2.bTë ardhura-jopublik-monetare'!$H$19:$H$1015)","v":0}]
[null,null,null,null,null,null,null,null,null,{"$f":"SUMIF($G$19:$G$5015,$G800,$H$19:$H$5015)+SUMIF('2.bTë ardhura-jopublik-monetare'!$G$19:$G$1015,'2.cTë ardhura-jopublik-nënatyrë'!$G800,'2.bTë ardhura-jopublik-monetare'!$H$19:$H$1015)","v":0}]
[null,null,null,null,null,null,null,null,null,{"$f":"SUMIF($G$19:$G$5015,$G801,$H$19:$H$5015)+SUMIF('2.bTë ardhura-jopublik-monetare'!$G$19:$G$1015,'2.cTë ardhura-jopublik-nënatyrë'!$G801,'2.bTë ardhura-jopublik-monetare'!$H$19:$H$1015)","v":0}]
[null,null,null,null,null,null,null,null,null,{"$f":"SUMIF($G$19:$G$5015,$G802,$H$19:$H$5015)+SUMIF('2.bTë ardhura-jopublik-monetare'!$G$19:$G$1015,'2.cTë ardhura-jopublik-nënatyrë'!$G802,'2.bTë ardhura-jopublik-monetare'!$H$19:$H$1015)","v":0}]
[null,null,null,null,null,null,null,null,null,{"$f":"SUMIF($G$19:$G$5015,$G803,$H$19:$H$5015)+SUMIF('2.bTë ardhura-jopublik-monetare'!$G$19:$G$1015,'2.cTë ardhura-jopublik-nënatyrë'!$G803,'2.bTë ardhura-jopublik-monetare'!$H$19:$H$1015)","v":0}]
[null,null,null,null,null,null,null,null,null,{"$f":"SUMIF($G$19:$G$5015,$G804,$H$19:$H$5015)+SUMIF('2.bTë ardhura-jopublik-monetare'!$G$19:$G$1015,'2.cTë ardhura-jopublik-nënatyrë'!$G804,'2.bTë ardhura-jopublik-monetare'!$H$19:$H$1015)","v":0}]
[null,null,null,null,null,null,null,null,null,{"$f":"SUMIF($G$19:$G$5015,$G805,$H$19:$H$5015)+SUMIF('2.bTë ardhura-jopublik-monetare'!$G$19:$G$1015,'2.cTë ardhura-jopublik-nënatyrë'!$G805,'2.bTë ardhura-jopublik-monetare'!$H$19:$H$1015)","v":0}]
[null,null,null,null,null,null,null,null,null,{"$f":"SUMIF($G$19:$G$5015,$G806,$H$19:$H$5015)+SUMIF('2.bTë ardhura-jopublik-monetare'!$G$19:$G$1015,'2.cTë ardhura-jopublik-nënatyrë'!$G806,'2.bTë ardhura-jopublik-monetare'!$H$19:$H$1015)","v":0}]
[null,null,null,null,null,null,null,null,null,{"$f":"SUMIF($G$19:$G$5015,$G807,$H$19:$H$5015)+SUMIF('2.bTë ardhura-jopublik-monetare'!$G$19:$G$1015,'2.cTë ardhura-jopublik-nënatyrë'!$G807,'2.bTë ardhura-jopublik-monetare'!$H$19:$H$1015)","v":0}]
[null,null,null,null,null,null,null,null,null,{"$f":"SUMIF($G$19:$G$5015,$G808,$H$19:$H$5015)+SUMIF('2.bTë ardhura-jopublik-monetare'!$G$19:$G$1015,'2.cTë ardhura-jopublik-nënatyrë'!$G808,'2.bTë ardhura-jopublik-monetare'!$H$19:$H$1015)","v":0}]
[null,null,null,null,null,null,null,null,null,{"$f":"SUMIF($G$19:$G$5015,$G809,$H$19:$H$5015)+SUMIF('2.bTë ardhura-jopublik-monetare'!$G$19:$G$1015,'2.cTë ardhura-jopublik-nënatyrë'!$G809,'2.bTë ardhura-jopublik-monetare'!$H$19:$H$1015)","v":0}]
[null,null,null,null,null,null,null,null,null,{"$f":"SUMIF($G$19:$G$5015,$G810,$H$19:$H$5015)+SUMIF('2.bTë ardhura-jopublik-monetare'!$G$19:$G$1015,'2.cTë ardhura-jopublik-nënatyrë'!$G810,'2.bTë ardhura-jopublik-monetare'!$H$19:$H$1015)","v":0}]
[null,null,null,null,null,null,null,null,null,{"$f":"SUMIF($G$19:$G$5015,$G811,$H$19:$H$5015)+SUMIF('2.bTë ardhura-jopublik-monetare'!$G$19:$G$1015,'2.cTë ardhura-jopublik-nënatyrë'!$G811,'2.bTë ardhura-jopublik-monetare'!$H$19:$H$1015)","v":0}]
[null,null,null,null,null,null,null,null,null,{"$f":"SUMIF($G$19:$G$5015,$G812,$H$19:$H$5015)+SUMIF('2.bTë ardhura-jopublik-monetare'!$G$19:$G$1015,'2.cTë ardhura-jopublik-nënatyrë'!$G812,'2.bTë ardhura-jopublik-monetare'!$H$19:$H$1015)","v":0}]
[null,null,null,null,null,null,null,null,null,{"$f":"SUMIF($G$19:$G$5015,$G813,$H$19:$H$5015)+SUMIF('2.bTë ardhura-jopublik-monetare'!$G$19:$G$1015,'2.cTë ardhura-jopublik-nënatyrë'!$G813,'2.bTë ardhura-jopublik-monetare'!$H$19:$H$1015)","v":0}]
[null,null,null,null,null,null,null,null,null,{"$f":"SUMIF($G$19:$G$5015,$G814,$H$19:$H$5015)+SUMIF('2.bTë ardhura-jopublik-monetare'!$G$19:$G$1015,'2.cTë ardhura-jopublik-nënatyrë'!$G814,'2.bTë ardhura-jopublik-monetare'!$H$19:$H$1015)","v":0}]
[null,null,null,null,null,null,null,null,null,{"$f":"SUMIF($G$19:$G$5015,$G815,$H$19:$H$5015)+SUMIF('2.bTë ardhura-jopublik-monetare'!$G$19:$G$1015,'2.cTë ardhura-jopublik-nënatyrë'!$G815,'2.bTë ardhura-jopublik-monetare'!$H$19:$H$1015)","v":0}]
[null,null,null,null,null,null,null,null,null,{"$f":"SUMIF($G$19:$G$5015,$G816,$H$19:$H$5015)+SUMIF('2.bTë ardhura-jopublik-monetare'!$G$19:$G$1015,'2.cTë ardhura-jopublik-nënatyrë'!$G816,'2.bTë ardhura-jopublik-monetare'!$H$19:$H$1015)","v":0}]
[null,null,null,null,null,null,null,null,null,{"$f":"SUMIF($G$19:$G$5015,$G817,$H$19:$H$5015)+SUMIF('2.bTë ardhura-jopublik-monetare'!$G$19:$G$1015,'2.cTë ardhura-jopublik-nënatyrë'!$G817,'2.bTë ardhura-jopublik-monetare'!$H$19:$H$1015)","v":0}]
[null,null,null,null,null,null,null,null,null,{"$f":"SUMIF($G$19:$G$5015,$G818,$H$19:$H$5015)+SUMIF('2.bTë ardhura-jopublik-monetare'!$G$19:$G$1015,'2.cTë ardhura-jopublik-nënatyrë'!$G818,'2.bTë ardhura-jopublik-monetare'!$H$19:$H$1015)","v":0}]
[null,null,null,null,null,null,null,null,null,{"$f":"SUMIF($G$19:$G$5015,$G819,$H$19:$H$5015)+SUMIF('2.bTë ardhura-jopublik-monetare'!$G$19:$G$1015,'2.cTë ardhura-jopublik-nënatyrë'!$G819,'2.bTë ardhura-jopublik-monetare'!$H$19:$H$1015)","v":0}]
[null,null,null,null,null,null,null,null,null,{"$f":"SUMIF($G$19:$G$5015,$G820,$H$19:$H$5015)+SUMIF('2.bTë ardhura-jopublik-monetare'!$G$19:$G$1015,'2.cTë ardhura-jopublik-nënatyrë'!$G820,'2.bTë ardhura-jopublik-monetare'!$H$19:$H$1015)","v":0}]
[null,null,null,null,null,null,null,null,null,{"$f":"SUMIF($G$19:$G$5015,$G821,$H$19:$H$5015)+SUMIF('2.bTë ardhura-jopublik-monetare'!$G$19:$G$1015,'2.cTë ardhura-jopublik-nënatyrë'!$G821,'2.bTë ardhura-jopublik-monetare'!$H$19:$H$1015)","v":0}]
[null,null,null,null,null,null,null,null,null,{"$f":"SUMIF($G$19:$G$5015,$G822,$H$19:$H$5015)+SUMIF('2.bTë ardhura-jopublik-monetare'!$G$19:$G$1015,'2.cTë ardhura-jopublik-nënatyrë'!$G822,'2.bTë ardhura-jopublik-monetare'!$H$19:$H$1015)","v":0}]
[null,null,null,null,null,null,null,null,null,{"$f":"SUMIF($G$19:$G$5015,$G823,$H$19:$H$5015)+SUMIF('2.bTë ardhura-jopublik-monetare'!$G$19:$G$1015,'2.cTë ardhura-jopublik-nënatyrë'!$G823,'2.bTë ardhura-jopublik-monetare'!$H$19:$H$1015)","v":0}]
[null,null,null,null,null,null,null,null,null,{"$f":"SUMIF($G$19:$G$5015,$G824,$H$19:$H$5015)+SUMIF('2.bTë ardhura-jopublik-monetare'!$G$19:$G$1015,'2.cTë ardhura-jopublik-nënatyrë'!$G824,'2.bTë ardhura-jopublik-monetare'!$H$19:$H$1015)","v":0}]
[null,null,null,null,null,null,null,null,null,{"$f":"SUMIF($G$19:$G$5015,$G825,$H$19:$H$5015)+SUMIF('2.bTë ardhura-jopublik-monetare'!$G$19:$G$1015,'2.cTë ardhura-jopublik-nënatyrë'!$G825,'2.bTë ardhura-jopublik-monetare'!$H$19:$H$1015)","v":0}]
[null,null,null,null,null,null,null,null,null,{"$f":"SUMIF($G$19:$G$5015,$G826,$H$19:$H$5015)+SUMIF('2.bTë ardhura-jopublik-monetare'!$G$19:$G$1015,'2.cTë ardhura-jopublik-nënatyrë'!$G826,'2.bTë ardhura-jopublik-monetare'!$H$19:$H$1015)","v":0}]
[null,null,null,null,null,null,null,null,null,{"$f":"SUMIF($G$19:$G$5015,$G827,$H$19:$H$5015)+SUMIF('2.bTë ardhura-jopublik-monetare'!$G$19:$G$1015,'2.cTë ardhura-jopublik-nënatyrë'!$G827,'2.bTë ardhura-jopublik-monetare'!$H$19:$H$1015)","v":0}]
[null,null,null,null,null,null,null,null,null,{"$f":"SUMIF($G$19:$G$5015,$G828,$H$19:$H$5015)+SUMIF('2.bTë ardhura-jopublik-monetare'!$G$19:$G$1015,'2.cTë ardhura-jopublik-nënatyrë'!$G828,'2.bTë ardhura-jopublik-monetare'!$H$19:$H$1015)","v":0}]
[null,null,null,null,null,null,null,null,null,{"$f":"SUMIF($G$19:$G$5015,$G829,$H$19:$H$5015)+SUMIF('2.bTë ardhura-jopublik-monetare'!$G$19:$G$1015,'2.cTë ardhura-jopublik-nënatyrë'!$G829,'2.bTë ardhura-jopublik-monetare'!$H$19:$H$1015)","v":0}]
[null,null,null,null,null,null,null,null,null,{"$f":"SUMIF($G$19:$G$5015,$G830,$H$19:$H$5015)+SUMIF('2.bTë ardhura-jopublik-monetare'!$G$19:$G$1015,'2.cTë ardhura-jopublik-nënatyrë'!$G830,'2.bTë ardhura-jopublik-monetare'!$H$19:$H$1015)","v":0}]
[null,null,null,null,null,null,null,null,null,{"$f":"SUMIF($G$19:$G$5015,$G831,$H$19:$H$5015)+SUMIF('2.bTë ardhura-jopublik-monetare'!$G$19:$G$1015,'2.cTë ardhura-jopublik-nënatyrë'!$G831,'2.bTë ardhura-jopublik-monetare'!$H$19:$H$1015)","v":0}]
[null,null,null,null,null,null,null,null,null,{"$f":"SUMIF($G$19:$G$5015,$G832,$H$19:$H$5015)+SUMIF('2.bTë ardhura-jopublik-monetare'!$G$19:$G$1015,'2.cTë ardhura-jopublik-nënatyrë'!$G832,'2.bTë ardhura-jopublik-monetare'!$H$19:$H$1015)","v":0}]
[null,null,null,null,null,null,null,null,null,{"$f":"SUMIF($G$19:$G$5015,$G833,$H$19:$H$5015)+SUMIF('2.bTë ardhura-jopublik-monetare'!$G$19:$G$1015,'2.cTë ardhura-jopublik-nënatyrë'!$G833,'2.bTë ardhura-jopublik-monetare'!$H$19:$H$1015)","v":0}]
[null,null,null,null,null,null,null,null,null,{"$f":"SUMIF($G$19:$G$5015,$G834,$H$19:$H$5015)+SUMIF('2.bTë ardhura-jopublik-monetare'!$G$19:$G$1015,'2.cTë ardhura-jopublik-nënatyrë'!$G834,'2.bTë ardhura-jopublik-monetare'!$H$19:$H$1015)","v":0}]
[null,null,null,null,null,null,null,null,null,{"$f":"SUMIF($G$19:$G$5015,$G835,$H$19:$H$5015)+SUMIF('2.bTë ardhura-jopublik-monetare'!$G$19:$G$1015,'2.cTë ardhura-jopublik-nënatyrë'!$G835,'2.bTë ardhura-jopublik-monetare'!$H$19:$H$1015)","v":0}]
[null,null,null,null,null,null,null,null,null,{"$f":"SUMIF($G$19:$G$5015,$G836,$H$19:$H$5015)+SUMIF('2.bTë ardhura-jopublik-monetare'!$G$19:$G$1015,'2.cTë ardhura-jopublik-nënatyrë'!$G836,'2.bTë ardhura-jopublik-monetare'!$H$19:$H$1015)","v":0}]
[null,null,null,null,null,null,null,null,null,{"$f":"SUMIF($G$19:$G$5015,$G837,$H$19:$H$5015)+SUMIF('2.bTë ardhura-jopublik-monetare'!$G$19:$G$1015,'2.cTë ardhura-jopublik-nënatyrë'!$G837,'2.bTë ardhura-jopublik-monetare'!$H$19:$H$1015)","v":0}]
[null,null,null,null,null,null,null,null,null,{"$f":"SUMIF($G$19:$G$5015,$G838,$H$19:$H$5015)+SUMIF('2.bTë ardhura-jopublik-monetare'!$G$19:$G$1015,'2.cTë ardhura-jopublik-nënatyrë'!$G838,'2.bTë ardhura-jopublik-monetare'!$H$19:$H$1015)","v":0}]
[null,null,null,null,null,null,null,null,null,{"$f":"SUMIF($G$19:$G$5015,$G839,$H$19:$H$5015)+SUMIF('2.bTë ardhura-jopublik-monetare'!$G$19:$G$1015,'2.cTë ardhura-jopublik-nënatyrë'!$G839,'2.bTë ardhura-jopublik-monetare'!$H$19:$H$1015)","v":0}]
[null,null,null,null,null,null,null,null,null,{"$f":"SUMIF($G$19:$G$5015,$G840,$H$19:$H$5015)+SUMIF('2.bTë ardhura-jopublik-monetare'!$G$19:$G$1015,'2.cTë ardhura-jopublik-nënatyrë'!$G840,'2.bTë ardhura-jopublik-monetare'!$H$19:$H$1015)","v":0}]
[null,null,null,null,null,null,null,null,null,{"$f":"SUMIF($G$19:$G$5015,$G841,$H$19:$H$5015)+SUMIF('2.bTë ardhura-jopublik-monetare'!$G$19:$G$1015,'2.cTë ardhura-jopublik-nënatyrë'!$G841,'2.bTë ardhura-jopublik-monetare'!$H$19:$H$1015)","v":0}]
[null,null,null,null,null,null,null,null,null,{"$f":"SUMIF($G$19:$G$5015,$G842,$H$19:$H$5015)+SUMIF('2.bTë ardhura-jopublik-monetare'!$G$19:$G$1015,'2.cTë ardhura-jopublik-nënatyrë'!$G842,'2.bTë ardhura-jopublik-monetare'!$H$19:$H$1015)","v":0}]
[null,null,null,null,null,null,null,null,null,{"$f":"SUMIF($G$19:$G$5015,$G843,$H$19:$H$5015)+SUMIF('2.bTë ardhura-jopublik-monetare'!$G$19:$G$1015,'2.cTë ardhura-jopublik-nënatyrë'!$G843,'2.bTë ardhura-jopublik-monetare'!$H$19:$H$1015)","v":0}]
[null,null,null,null,null,null,null,null,null,{"$f":"SUMIF($G$19:$G$5015,$G844,$H$19:$H$5015)+SUMIF('2.bTë ardhura-jopublik-monetare'!$G$19:$G$1015,'2.cTë ardhura-jopublik-nënatyrë'!$G844,'2.bTë ardhura-jopublik-monetare'!$H$19:$H$1015)","v":0}]
[null,null,null,null,null,null,null,null,null,{"$f":"SUMIF($G$19:$G$5015,$G845,$H$19:$H$5015)+SUMIF('2.bTë ardhura-jopublik-monetare'!$G$19:$G$1015,'2.cTë ardhura-jopublik-nënatyrë'!$G845,'2.bTë ardhura-jopublik-monetare'!$H$19:$H$1015)","v":0}]
[null,null,null,null,null,null,null,null,null,{"$f":"SUMIF($G$19:$G$5015,$G846,$H$19:$H$5015)+SUMIF('2.bTë ardhura-jopublik-monetare'!$G$19:$G$1015,'2.cTë ardhura-jopublik-nënatyrë'!$G846,'2.bTë ardhura-jopublik-monetare'!$H$19:$H$1015)","v":0}]
[null,null,null,null,null,null,null,null,null,{"$f":"SUMIF($G$19:$G$5015,$G847,$H$19:$H$5015)+SUMIF('2.bTë ardhura-jopublik-monetare'!$G$19:$G$1015,'2.cTë ardhura-jopublik-nënatyrë'!$G847,'2.bTë ardhura-jopublik-monetare'!$H$19:$H$1015)","v":0}]
[null,null,null,null,null,null,null,null,null,{"$f":"SUMIF($G$19:$G$5015,$G848,$H$19:$H$5015)+SUMIF('2.bTë ardhura-jopublik-monetare'!$G$19:$G$1015,'2.cTë ardhura-jopublik-nënatyrë'!$G848,'2.bTë ardhura-jopublik-monetare'!$H$19:$H$1015)","v":0}]
[null,null,null,null,null,null,null,null,null,{"$f":"SUMIF($G$19:$G$5015,$G849,$H$19:$H$5015)+SUMIF('2.bTë ardhura-jopublik-monetare'!$G$19:$G$1015,'2.cTë ardhura-jopublik-nënatyrë'!$G849,'2.bTë ardhura-jopublik-monetare'!$H$19:$H$1015)","v":0}]
[null,null,null,null,null,null,null,null,null,{"$f":"SUMIF($G$19:$G$5015,$G850,$H$19:$H$5015)+SUMIF('2.bTë ardhura-jopublik-monetare'!$G$19:$G$1015,'2.cTë ardhura-jopublik-nënatyrë'!$G850,'2.bTë ardhura-jopublik-monetare'!$H$19:$H$1015)","v":0}]
[null,null,null,null,null,null,null,null,null,{"$f":"SUMIF($G$19:$G$5015,$G851,$H$19:$H$5015)+SUMIF('2.bTë ardhura-jopublik-monetare'!$G$19:$G$1015,'2.cTë ardhura-jopublik-nënatyrë'!$G851,'2.bTë ardhura-jopublik-monetare'!$H$19:$H$1015)","v":0}]
[null,null,null,null,null,null,null,null,null,{"$f":"SUMIF($G$19:$G$5015,$G852,$H$19:$H$5015)+SUMIF('2.bTë ardhura-jopublik-monetare'!$G$19:$G$1015,'2.cTë ardhura-jopublik-nënatyrë'!$G852,'2.bTë ardhura-jopublik-monetare'!$H$19:$H$1015)","v":0}]
[null,null,null,null,null,null,null,null,null,{"$f":"SUMIF($G$19:$G$5015,$G853,$H$19:$H$5015)+SUMIF('2.bTë ardhura-jopublik-monetare'!$G$19:$G$1015,'2.cTë ardhura-jopublik-nënatyrë'!$G853,'2.bTë ardhura-jopublik-monetare'!$H$19:$H$1015)","v":0}]
[null,null,null,null,null,null,null,null,null,{"$f":"SUMIF($G$19:$G$5015,$G854,$H$19:$H$5015)+SUMIF('2.bTë ardhura-jopublik-monetare'!$G$19:$G$1015,'2.cTë ardhura-jopublik-nënatyrë'!$G854,'2.bTë ardhura-jopublik-monetare'!$H$19:$H$1015)","v":0}]
[null,null,null,null,null,null,null,null,null,{"$f":"SUMIF($G$19:$G$5015,$G855,$H$19:$H$5015)+SUMIF('2.bTë ardhura-jopublik-monetare'!$G$19:$G$1015,'2.cTë ardhura-jopublik-nënatyrë'!$G855,'2.bTë ardhura-jopublik-monetare'!$H$19:$H$1015)","v":0}]
[null,null,null,null,null,null,null,null,null,{"$f":"SUMIF($G$19:$G$5015,$G856,$H$19:$H$5015)+SUMIF('2.bTë ardhura-jopublik-monetare'!$G$19:$G$1015,'2.cTë ardhura-jopublik-nënatyrë'!$G856,'2.bTë ardhura-jopublik-monetare'!$H$19:$H$1015)","v":0}]
[null,null,null,null,null,null,null,null,null,{"$f":"SUMIF($G$19:$G$5015,$G857,$H$19:$H$5015)+SUMIF('2.bTë ardhura-jopublik-monetare'!$G$19:$G$1015,'2.cTë ardhura-jopublik-nënatyrë'!$G857,'2.bTë ardhura-jopublik-monetare'!$H$19:$H$1015)","v":0}]
[null,null,null,null,null,null,null,null,null,{"$f":"SUMIF($G$19:$G$5015,$G858,$H$19:$H$5015)+SUMIF('2.bTë ardhura-jopublik-monetare'!$G$19:$G$1015,'2.cTë ardhura-jopublik-nënatyrë'!$G858,'2.bTë ardhura-jopublik-monetare'!$H$19:$H$1015)","v":0}]
[null,null,null,null,null,null,null,null,null,{"$f":"SUMIF($G$19:$G$5015,$G859,$H$19:$H$5015)+SUMIF('2.bTë ardhura-jopublik-monetare'!$G$19:$G$1015,'2.cTë ardhura-jopublik-nënatyrë'!$G859,'2.bTë ardhura-jopublik-monetare'!$H$19:$H$1015)","v":0}]
[null,null,null,null,null,null,null,null,null,{"$f":"SUMIF($G$19:$G$5015,$G860,$H$19:$H$5015)+SUMIF('2.bTë ardhura-jopublik-monetare'!$G$19:$G$1015,'2.cTë ardhura-jopublik-nënatyrë'!$G860,'2.bTë ardhura-jopublik-monetare'!$H$19:$H$1015)","v":0}]
[null,null,null,null,null,null,null,null,null,{"$f":"SUMIF($G$19:$G$5015,$G861,$H$19:$H$5015)+SUMIF('2.bTë ardhura-jopublik-monetare'!$G$19:$G$1015,'2.cTë ardhura-jopublik-nënatyrë'!$G861,'2.bTë ardhura-jopublik-monetare'!$H$19:$H$1015)","v":0}]
[null,null,null,null,null,null,null,null,null,{"$f":"SUMIF($G$19:$G$5015,$G862,$H$19:$H$5015)+SUMIF('2.bTë ardhura-jopublik-monetare'!$G$19:$G$1015,'2.cTë ardhura-jopublik-nënatyrë'!$G862,'2.bTë ardhura-jopublik-monetare'!$H$19:$H$1015)","v":0}]
[null,null,null,null,null,null,null,null,null,{"$f":"SUMIF($G$19:$G$5015,$G863,$H$19:$H$5015)+SUMIF('2.bTë ardhura-jopublik-monetare'!$G$19:$G$1015,'2.cTë ardhura-jopublik-nënatyrë'!$G863,'2.bTë ardhura-jopublik-monetare'!$H$19:$H$1015)","v":0}]
[null,null,null,null,null,null,null,null,null,{"$f":"SUMIF($G$19:$G$5015,$G864,$H$19:$H$5015)+SUMIF('2.bTë ardhura-jopublik-monetare'!$G$19:$G$1015,'2.cTë ardhura-jopublik-nënatyrë'!$G864,'2.bTë ardhura-jopublik-monetare'!$H$19:$H$1015)","v":0}]
[null,null,null,null,null,null,null,null,null,{"$f":"SUMIF($G$19:$G$5015,$G865,$H$19:$H$5015)+SUMIF('2.bTë ardhura-jopublik-monetare'!$G$19:$G$1015,'2.cTë ardhura-jopublik-nënatyrë'!$G865,'2.bTë ardhura-jopublik-monetare'!$H$19:$H$1015)","v":0}]
[null,null,null,null,null,null,null,null,null,{"$f":"SUMIF($G$19:$G$5015,$G866,$H$19:$H$5015)+SUMIF('2.bTë ardhura-jopublik-monetare'!$G$19:$G$1015,'2.cTë ardhura-jopublik-nënatyrë'!$G866,'2.bTë ardhura-jopublik-monetare'!$H$19:$H$1015)","v":0}]
[null,null,null,null,null,null,null,null,null,{"$f":"SUMIF($G$19:$G$5015,$G867,$H$19:$H$5015)+SUMIF('2.bTë ardhura-jopublik-monetare'!$G$19:$G$1015,'2.cTë ardhura-jopublik-nënatyrë'!$G867,'2.bTë ardhura-jopublik-monetare'!$H$19:$H$1015)","v":0}]
[null,null,null,null,null,null,null,null,null,{"$f":"SUMIF($G$19:$G$5015,$G868,$H$19:$H$5015)+SUMIF('2.bTë ardhura-jopublik-monetare'!$G$19:$G$1015,'2.cTë ardhura-jopublik-nënatyrë'!$G868,'2.bTë ardhura-jopublik-monetare'!$H$19:$H$1015)","v":0}]
[null,null,null,null,null,null,null,null,null,{"$f":"SUMIF($G$19:$G$5015,$G869,$H$19:$H$5015)+SUMIF('2.bTë ardhura-jopublik-monetare'!$G$19:$G$1015,'2.cTë ardhura-jopublik-nënatyrë'!$G869,'2.bTë ardhura-jopublik-monetare'!$H$19:$H$1015)","v":0}]
[null,null,null,null,null,null,null,null,null,{"$f":"SUMIF($G$19:$G$5015,$G870,$H$19:$H$5015)+SUMIF('2.bTë ardhura-jopublik-monetare'!$G$19:$G$1015,'2.cTë ardhura-jopublik-nënatyrë'!$G870,'2.bTë ardhura-jopublik-monetare'!$H$19:$H$1015)","v":0}]
[null,null,null,null,null,null,null,null,null,{"$f":"SUMIF($G$19:$G$5015,$G871,$H$19:$H$5015)+SUMIF('2.bTë ardhura-jopublik-monetare'!$G$19:$G$1015,'2.cTë ardhura-jopublik-nënatyrë'!$G871,'2.bTë ardhura-jopublik-monetare'!$H$19:$H$1015)","v":0}]
[null,null,null,null,null,null,null,null,null,{"$f":"SUMIF($G$19:$G$5015,$G872,$H$19:$H$5015)+SUMIF('2.bTë ardhura-jopublik-monetare'!$G$19:$G$1015,'2.cTë ardhura-jopublik-nënatyrë'!$G872,'2.bTë ardhura-jopublik-monetare'!$H$19:$H$1015)","v":0}]
[null,null,null,null,null,null,null,null,null,{"$f":"SUMIF($G$19:$G$5015,$G873,$H$19:$H$5015)+SUMIF('2.bTë ardhura-jopublik-monetare'!$G$19:$G$1015,'2.cTë ardhura-jopublik-nënatyrë'!$G873,'2.bTë ardhura-jopublik-monetare'!$H$19:$H$1015)","v":0}]
[null,null,null,null,null,null,null,null,null,{"$f":"SUMIF($G$19:$G$5015,$G874,$H$19:$H$5015)+SUMIF('2.bTë ardhura-jopublik-monetare'!$G$19:$G$1015,'2.cTë ardhura-jopublik-nënatyrë'!$G874,'2.bTë ardhura-jopublik-monetare'!$H$19:$H$1015)","v":0}]
[null,null,null,null,null,null,null,null,null,{"$f":"SUMIF($G$19:$G$5015,$G875,$H$19:$H$5015)+SUMIF('2.bTë ardhura-jopublik-monetare'!$G$19:$G$1015,'2.cTë ardhura-jopublik-nënatyrë'!$G875,'2.bTë ardhura-jopublik-monetare'!$H$19:$H$1015)","v":0}]
[null,null,null,null,null,null,null,null,null,{"$f":"SUMIF($G$19:$G$5015,$G876,$H$19:$H$5015)+SUMIF('2.bTë ardhura-jopublik-monetare'!$G$19:$G$1015,'2.cTë ardhura-jopublik-nënatyrë'!$G876,'2.bTë ardhura-jopublik-monetare'!$H$19:$H$1015)","v":0}]
[null,null,null,null,null,null,null,null,null,{"$f":"SUMIF($G$19:$G$5015,$G877,$H$19:$H$5015)+SUMIF('2.bTë ardhura-jopublik-monetare'!$G$19:$G$1015,'2.cTë ardhura-jopublik-nënatyrë'!$G877,'2.bTë ardhura-jopublik-monetare'!$H$19:$H$1015)","v":0}]
[null,null,null,null,null,null,null,null,null,{"$f":"SUMIF($G$19:$G$5015,$G878,$H$19:$H$5015)+SUMIF('2.bTë ardhura-jopublik-monetare'!$G$19:$G$1015,'2.cTë ardhura-jopublik-nënatyrë'!$G878,'2.bTë ardhura-jopublik-monetare'!$H$19:$H$1015)","v":0}]
[null,null,null,null,null,null,null,null,null,{"$f":"SUMIF($G$19:$G$5015,$G879,$H$19:$H$5015)+SUMIF('2.bTë ardhura-jopublik-monetare'!$G$19:$G$1015,'2.cTë ardhura-jopublik-nënatyrë'!$G879,'2.bTë ardhura-jopublik-monetare'!$H$19:$H$1015)","v":0}]
[null,null,null,null,null,null,null,null,null,{"$f":"SUMIF($G$19:$G$5015,$G880,$H$19:$H$5015)+SUMIF('2.bTë ardhura-jopublik-monetare'!$G$19:$G$1015,'2.cTë ardhura-jopublik-nënatyrë'!$G880,'2.bTë ardhura-jopublik-monetare'!$H$19:$H$1015)","v":0}]
[null,null,null,null,null,null,null,null,null,{"$f":"SUMIF($G$19:$G$5015,$G881,$H$19:$H$5015)+SUMIF('2.bTë ardhura-jopublik-monetare'!$G$19:$G$1015,'2.cTë ardhura-jopublik-nënatyrë'!$G881,'2.bTë ardhura-jopublik-monetare'!$H$19:$H$1015)","v":0}]
[null,null,null,null,null,null,null,null,null,{"$f":"SUMIF($G$19:$G$5015,$G882,$H$19:$H$5015)+SUMIF('2.bTë ardhura-jopublik-monetare'!$G$19:$G$1015,'2.cTë ardhura-jopublik-nënatyrë'!$G882,'2.bTë ardhura-jopublik-monetare'!$H$19:$H$1015)","v":0}]
[null,null,null,null,null,null,null,null,null,{"$f":"SUMIF($G$19:$G$5015,$G883,$H$19:$H$5015)+SUMIF('2.bTë ardhura-jopublik-monetare'!$G$19:$G$1015,'2.cTë ardhura-jopublik-nënatyrë'!$G883,'2.bTë ardhura-jopublik-monetare'!$H$19:$H$1015)","v":0}]
[null,null,null,null,null,null,null,null,null,{"$f":"SUMIF($G$19:$G$5015,$G884,$H$19:$H$5015)+SUMIF('2.bTë ardhura-jopublik-monetare'!$G$19:$G$1015,'2.cTë ardhura-jopublik-nënatyrë'!$G884,'2.bTë ardhura-jopublik-monetare'!$H$19:$H$1015)","v":0}]
[null,null,null,null,null,null,null,null,null,{"$f":"SUMIF($G$19:$G$5015,$G885,$H$19:$H$5015)+SUMIF('2.bTë ardhura-jopublik-monetare'!$G$19:$G$1015,'2.cTë ardhura-jopublik-nënatyrë'!$G885,'2.bTë ardhura-jopublik-monetare'!$H$19:$H$1015)","v":0}]
[null,null,null,null,null,null,null,null,null,{"$f":"SUMIF($G$19:$G$5015,$G886,$H$19:$H$5015)+SUMIF('2.bTë ardhura-jopublik-monetare'!$G$19:$G$1015,'2.cTë ardhura-jopublik-nënatyrë'!$G886,'2.bTë ardhura-jopublik-monetare'!$H$19:$H$1015)","v":0}]
[null,null,null,null,null,null,null,null,null,{"$f":"SUMIF($G$19:$G$5015,$G887,$H$19:$H$5015)+SUMIF('2.bTë ardhura-jopublik-monetare'!$G$19:$G$1015,'2.cTë ardhura-jopublik-nënatyrë'!$G887,'2.bTë ardhura-jopublik-monetare'!$H$19:$H$1015)","v":0}]
[null,null,null,null,null,null,null,null,null,{"$f":"SUMIF($G$19:$G$5015,$G888,$H$19:$H$5015)+SUMIF('2.bTë ardhura-jopublik-monetare'!$G$19:$G$1015,'2.cTë ardhura-jopublik-nënatyrë'!$G888,'2.bTë ardhura-jopublik-monetare'!$H$19:$H$1015)","v":0}]
[null,null,null,null,null,null,null,null,null,{"$f":"SUMIF($G$19:$G$5015,$G889,$H$19:$H$5015)+SUMIF('2.bTë ardhura-jopublik-monetare'!$G$19:$G$1015,'2.cTë ardhura-jopublik-nënatyrë'!$G889,'2.bTë ardhura-jopublik-monetare'!$H$19:$H$1015)","v":0}]
[null,null,null,null,null,null,null,null,null,{"$f":"SUMIF($G$19:$G$5015,$G890,$H$19:$H$5015)+SUMIF('2.bTë ardhura-jopublik-monetare'!$G$19:$G$1015,'2.cTë ardhura-jopublik-nënatyrë'!$G890,'2.bTë ardhura-jopublik-monetare'!$H$19:$H$1015)","v":0}]
[null,null,null,null,null,null,null,null,null,{"$f":"SUMIF($G$19:$G$5015,$G891,$H$19:$H$5015)+SUMIF('2.bTë ardhura-jopublik-monetare'!$G$19:$G$1015,'2.cTë ardhura-jopublik-nënatyrë'!$G891,'2.bTë ardhura-jopublik-monetare'!$H$19:$H$1015)","v":0}]
[null,null,null,null,null,null,null,null,null,{"$f":"SUMIF($G$19:$G$5015,$G892,$H$19:$H$5015)+SUMIF('2.bTë ardhura-jopublik-monetare'!$G$19:$G$1015,'2.cTë ardhura-jopublik-nënatyrë'!$G892,'2.bTë ardhura-jopublik-monetare'!$H$19:$H$1015)","v":0}]
[null,null,null,null,null,null,null,null,null,{"$f":"SUMIF($G$19:$G$5015,$G893,$H$19:$H$5015)+SUMIF('2.bTë ardhura-jopublik-monetare'!$G$19:$G$1015,'2.cTë ardhura-jopublik-nënatyrë'!$G893,'2.bTë ardhura-jopublik-monetare'!$H$19:$H$1015)","v":0}]
[null,null,null,null,null,null,null,null,null,{"$f":"SUMIF($G$19:$G$5015,$G894,$H$19:$H$5015)+SUMIF('2.bTë ardhura-jopublik-monetare'!$G$19:$G$1015,'2.cTë ardhura-jopublik-nënatyrë'!$G894,'2.bTë ardhura-jopublik-monetare'!$H$19:$H$1015)","v":0}]
[null,null,null,null,null,null,null,null,null,{"$f":"SUMIF($G$19:$G$5015,$G895,$H$19:$H$5015)+SUMIF('2.bTë ardhura-jopublik-monetare'!$G$19:$G$1015,'2.cTë ardhura-jopublik-nënatyrë'!$G895,'2.bTë ardhura-jopublik-monetare'!$H$19:$H$1015)","v":0}]
[null,null,null,null,null,null,null,null,null,{"$f":"SUMIF($G$19:$G$5015,$G896,$H$19:$H$5015)+SUMIF('2.bTë ardhura-jopublik-monetare'!$G$19:$G$1015,'2.cTë ardhura-jopublik-nënatyrë'!$G896,'2.bTë ardhura-jopublik-monetare'!$H$19:$H$1015)","v":0}]
[null,null,null,null,null,null,null,null,null,{"$f":"SUMIF($G$19:$G$5015,$G897,$H$19:$H$5015)+SUMIF('2.bTë ardhura-jopublik-monetare'!$G$19:$G$1015,'2.cTë ardhura-jopublik-nënatyrë'!$G897,'2.bTë ardhura-jopublik-monetare'!$H$19:$H$1015)","v":0}]
[null,null,null,null,null,null,null,null,null,{"$f":"SUMIF($G$19:$G$5015,$G898,$H$19:$H$5015)+SUMIF('2.bTë ardhura-jopublik-monetare'!$G$19:$G$1015,'2.cTë ardhura-jopublik-nënatyrë'!$G898,'2.bTë ardhura-jopublik-monetare'!$H$19:$H$1015)","v":0}]
[null,null,null,null,null,null,null,null,null,{"$f":"SUMIF($G$19:$G$5015,$G899,$H$19:$H$5015)+SUMIF('2.bTë ardhura-jopublik-monetare'!$G$19:$G$1015,'2.cTë ardhura-jopublik-nënatyrë'!$G899,'2.bTë ardhura-jopublik-monetare'!$H$19:$H$1015)","v":0}]
[null,null,null,null,null,null,null,null,null,{"$f":"SUMIF($G$19:$G$5015,$G900,$H$19:$H$5015)+SUMIF('2.bTë ardhura-jopublik-monetare'!$G$19:$G$1015,'2.cTë ardhura-jopublik-nënatyrë'!$G900,'2.bTë ardhura-jopublik-monetare'!$H$19:$H$1015)","v":0}]
[null,null,null,null,null,null,null,null,null,{"$f":"SUMIF($G$19:$G$5015,$G901,$H$19:$H$5015)+SUMIF('2.bTë ardhura-jopublik-monetare'!$G$19:$G$1015,'2.cTë ardhura-jopublik-nënatyrë'!$G901,'2.bTë ardhura-jopublik-monetare'!$H$19:$H$1015)","v":0}]
[null,null,null,null,null,null,null,null,null,{"$f":"SUMIF($G$19:$G$5015,$G902,$H$19:$H$5015)+SUMIF('2.bTë ardhura-jopublik-monetare'!$G$19:$G$1015,'2.cTë ardhura-jopublik-nënatyrë'!$G902,'2.bTë ardhura-jopublik-monetare'!$H$19:$H$1015)","v":0}]
[null,null,null,null,null,null,null,null,null,{"$f":"SUMIF($G$19:$G$5015,$G903,$H$19:$H$5015)+SUMIF('2.bTë ardhura-jopublik-monetare'!$G$19:$G$1015,'2.cTë ardhura-jopublik-nënatyrë'!$G903,'2.bTë ardhura-jopublik-monetare'!$H$19:$H$1015)","v":0}]
[null,null,null,null,null,null,null,null,null,{"$f":"SUMIF($G$19:$G$5015,$G904,$H$19:$H$5015)+SUMIF('2.bTë ardhura-jopublik-monetare'!$G$19:$G$1015,'2.cTë ardhura-jopublik-nënatyrë'!$G904,'2.bTë ardhura-jopublik-monetare'!$H$19:$H$1015)","v":0}]
[null,null,null,null,null,null,null,null,null,{"$f":"SUMIF($G$19:$G$5015,$G905,$H$19:$H$5015)+SUMIF('2.bTë ardhura-jopublik-monetare'!$G$19:$G$1015,'2.cTë ardhura-jopublik-nënatyrë'!$G905,'2.bTë ardhura-jopublik-monetare'!$H$19:$H$1015)","v":0}]
[null,null,null,null,null,null,null,null,null,{"$f":"SUMIF($G$19:$G$5015,$G906,$H$19:$H$5015)+SUMIF('2.bTë ardhura-jopublik-monetare'!$G$19:$G$1015,'2.cTë ardhura-jopublik-nënatyrë'!$G906,'2.bTë ardhura-jopublik-monetare'!$H$19:$H$1015)","v":0}]
[null,null,null,null,null,null,null,null,null,{"$f":"SUMIF($G$19:$G$5015,$G907,$H$19:$H$5015)+SUMIF('2.bTë ardhura-jopublik-monetare'!$G$19:$G$1015,'2.cTë ardhura-jopublik-nënatyrë'!$G907,'2.bTë ardhura-jopublik-monetare'!$H$19:$H$1015)","v":0}]
[null,null,null,null,null,null,null,null,null,{"$f":"SUMIF($G$19:$G$5015,$G908,$H$19:$H$5015)+SUMIF('2.bTë ardhura-jopublik-monetare'!$G$19:$G$1015,'2.cTë ardhura-jopublik-nënatyrë'!$G908,'2.bTë ardhura-jopublik-monetare'!$H$19:$H$1015)","v":0}]
[null,null,null,null,null,null,null,null,null,{"$f":"SUMIF($G$19:$G$5015,$G909,$H$19:$H$5015)+SUMIF('2.bTë ardhura-jopublik-monetare'!$G$19:$G$1015,'2.cTë ardhura-jopublik-nënatyrë'!$G909,'2.bTë ardhura-jopublik-monetare'!$H$19:$H$1015)","v":0}]
[null,null,null,null,null,null,null,null,null,{"$f":"SUMIF($G$19:$G$5015,$G910,$H$19:$H$5015)+SUMIF('2.bTë ardhura-jopublik-monetare'!$G$19:$G$1015,'2.cTë ardhura-jopublik-nënatyrë'!$G910,'2.bTë ardhura-jopublik-monetare'!$H$19:$H$1015)","v":0}]
[null,null,null,null,null,null,null,null,null,{"$f":"SUMIF($G$19:$G$5015,$G911,$H$19:$H$5015)+SUMIF('2.bTë ardhura-jopublik-monetare'!$G$19:$G$1015,'2.cTë ardhura-jopublik-nënatyrë'!$G911,'2.bTë ardhura-jopublik-monetare'!$H$19:$H$1015)","v":0}]
[null,null,null,null,null,null,null,null,null,{"$f":"SUMIF($G$19:$G$5015,$G912,$H$19:$H$5015)+SUMIF('2.bTë ardhura-jopublik-monetare'!$G$19:$G$1015,'2.cTë ardhura-jopublik-nënatyrë'!$G912,'2.bTë ardhura-jopublik-monetare'!$H$19:$H$1015)","v":0}]
[null,null,null,null,null,null,null,null,null,{"$f":"SUMIF($G$19:$G$5015,$G913,$H$19:$H$5015)+SUMIF('2.bTë ardhura-jopublik-monetare'!$G$19:$G$1015,'2.cTë ardhura-jopublik-nënatyrë'!$G913,'2.bTë ardhura-jopublik-monetare'!$H$19:$H$1015)","v":0}]
[null,null,null,null,null,null,null,null,null,{"$f":"SUMIF($G$19:$G$5015,$G914,$H$19:$H$5015)+SUMIF('2.bTë ardhura-jopublik-monetare'!$G$19:$G$1015,'2.cTë ardhura-jopublik-nënatyrë'!$G914,'2.bTë ardhura-jopublik-monetare'!$H$19:$H$1015)","v":0}]
[null,null,null,null,null,null,null,null,null,{"$f":"SUMIF($G$19:$G$5015,$G915,$H$19:$H$5015)+SUMIF('2.bTë ardhura-jopublik-monetare'!$G$19:$G$1015,'2.cTë ardhura-jopublik-nënatyrë'!$G915,'2.bTë ardhura-jopublik-monetare'!$H$19:$H$1015)","v":0}]
[null,null,null,null,null,null,null,null,null,{"$f":"SUMIF($G$19:$G$5015,$G916,$H$19:$H$5015)+SUMIF('2.bTë ardhura-jopublik-monetare'!$G$19:$G$1015,'2.cTë ardhura-jopublik-nënatyrë'!$G916,'2.bTë ardhura-jopublik-monetare'!$H$19:$H$1015)","v":0}]
[null,null,null,null,null,null,null,null,null,{"$f":"SUMIF($G$19:$G$5015,$G917,$H$19:$H$5015)+SUMIF('2.bTë ardhura-jopublik-monetare'!$G$19:$G$1015,'2.cTë ardhura-jopublik-nënatyrë'!$G917,'2.bTë ardhura-jopublik-monetare'!$H$19:$H$1015)","v":0}]
[null,null,null,null,null,null,null,null,null,{"$f":"SUMIF($G$19:$G$5015,$G918,$H$19:$H$5015)+SUMIF('2.bTë ardhura-jopublik-monetare'!$G$19:$G$1015,'2.cTë ardhura-jopublik-nënatyrë'!$G918,'2.bTë ardhura-jopublik-monetare'!$H$19:$H$1015)","v":0}]
[null,null,null,null,null,null,null,null,null,{"$f":"SUMIF($G$19:$G$5015,$G919,$H$19:$H$5015)+SUMIF('2.bTë ardhura-jopublik-monetare'!$G$19:$G$1015,'2.cTë ardhura-jopublik-nënatyrë'!$G919,'2.bTë ardhura-jopublik-monetare'!$H$19:$H$1015)","v":0}]
[null,null,null,null,null,null,null,null,null,{"$f":"SUMIF($G$19:$G$5015,$G920,$H$19:$H$5015)+SUMIF('2.bTë ardhura-jopublik-monetare'!$G$19:$G$1015,'2.cTë ardhura-jopublik-nënatyrë'!$G920,'2.bTë ardhura-jopublik-monetare'!$H$19:$H$1015)","v":0}]
[null,null,null,null,null,null,null,null,null,{"$f":"SUMIF($G$19:$G$5015,$G921,$H$19:$H$5015)+SUMIF('2.bTë ardhura-jopublik-monetare'!$G$19:$G$1015,'2.cTë ardhura-jopublik-nënatyrë'!$G921,'2.bTë ardhura-jopublik-monetare'!$H$19:$H$1015)","v":0}]
[null,null,null,null,null,null,null,null,null,{"$f":"SUMIF($G$19:$G$5015,$G922,$H$19:$H$5015)+SUMIF('2.bTë ardhura-jopublik-monetare'!$G$19:$G$1015,'2.cTë ardhura-jopublik-nënatyrë'!$G922,'2.bTë ardhura-jopublik-monetare'!$H$19:$H$1015)","v":0}]
[null,null,null,null,null,null,null,null,null,{"$f":"SUMIF($G$19:$G$5015,$G923,$H$19:$H$5015)+SUMIF('2.bTë ardhura-jopublik-monetare'!$G$19:$G$1015,'2.cTë ardhura-jopublik-nënatyrë'!$G923,'2.bTë ardhura-jopublik-monetare'!$H$19:$H$1015)","v":0}]
[null,null,null,null,null,null,null,null,null,{"$f":"SUMIF($G$19:$G$5015,$G924,$H$19:$H$5015)+SUMIF('2.bTë ardhura-jopublik-monetare'!$G$19:$G$1015,'2.cTë ardhura-jopublik-nënatyrë'!$G924,'2.bTë ardhura-jopublik-monetare'!$H$19:$H$1015)","v":0}]
[null,null,null,null,null,null,null,null,null,{"$f":"SUMIF($G$19:$G$5015,$G925,$H$19:$H$5015)+SUMIF('2.bTë ardhura-jopublik-monetare'!$G$19:$G$1015,'2.cTë ardhura-jopublik-nënatyrë'!$G925,'2.bTë ardhura-jopublik-monetare'!$H$19:$H$1015)","v":0}]
[null,null,null,null,null,null,null,null,null,{"$f":"SUMIF($G$19:$G$5015,$G926,$H$19:$H$5015)+SUMIF('2.bTë ardhura-jopublik-monetare'!$G$19:$G$1015,'2.cTë ardhura-jopublik-nënatyrë'!$G926,'2.bTë ardhura-jopublik-monetare'!$H$19:$H$1015)","v":0}]
[null,null,null,null,null,null,null,null,null,{"$f":"SUMIF($G$19:$G$5015,$G927,$H$19:$H$5015)+SUMIF('2.bTë ardhura-jopublik-monetare'!$G$19:$G$1015,'2.cTë ardhura-jopublik-nënatyrë'!$G927,'2.bTë ardhura-jopublik-monetare'!$H$19:$H$1015)","v":0}]
[null,null,null,null,null,null,null,null,null,{"$f":"SUMIF($G$19:$G$5015,$G928,$H$19:$H$5015)+SUMIF('2.bTë ardhura-jopublik-monetare'!$G$19:$G$1015,'2.cTë ardhura-jopublik-nënatyrë'!$G928,'2.bTë ardhura-jopublik-monetare'!$H$19:$H$1015)","v":0}]
[null,null,null,null,null,null,null,null,null,{"$f":"SUMIF($G$19:$G$5015,$G929,$H$19:$H$5015)+SUMIF('2.bTë ardhura-jopublik-monetare'!$G$19:$G$1015,'2.cTë ardhura-jopublik-nënatyrë'!$G929,'2.bTë ardhura-jopublik-monetare'!$H$19:$H$1015)","v":0}]
[null,null,null,null,null,null,null,null,null,{"$f":"SUMIF($G$19:$G$5015,$G930,$H$19:$H$5015)+SUMIF('2.bTë ardhura-jopublik-monetare'!$G$19:$G$1015,'2.cTë ardhura-jopublik-nënatyrë'!$G930,'2.bTë ardhura-jopublik-monetare'!$H$19:$H$1015)","v":0}]
[null,null,null,null,null,null,null,null,null,{"$f":"SUMIF($G$19:$G$5015,$G931,$H$19:$H$5015)+SUMIF('2.bTë ardhura-jopublik-monetare'!$G$19:$G$1015,'2.cTë ardhura-jopublik-nënatyrë'!$G931,'2.bTë ardhura-jopublik-monetare'!$H$19:$H$1015)","v":0}]
[null,null,null,null,null,null,null,null,null,{"$f":"SUMIF($G$19:$G$5015,$G932,$H$19:$H$5015)+SUMIF('2.bTë ardhura-jopublik-monetare'!$G$19:$G$1015,'2.cTë ardhura-jopublik-nënatyrë'!$G932,'2.bTë ardhura-jopublik-monetare'!$H$19:$H$1015)","v":0}]
[null,null,null,null,null,null,null,null,null,{"$f":"SUMIF($G$19:$G$5015,$G933,$H$19:$H$5015)+SUMIF('2.bTë ardhura-jopublik-monetare'!$G$19:$G$1015,'2.cTë ardhura-jopublik-nënatyrë'!$G933,'2.bTë ardhura-jopublik-monetare'!$H$19:$H$1015)","v":0}]
[null,null,null,null,null,null,null,null,null,{"$f":"SUMIF($G$19:$G$5015,$G934,$H$19:$H$5015)+SUMIF('2.bTë ardhura-jopublik-monetare'!$G$19:$G$1015,'2.cTë ardhura-jopublik-nënatyrë'!$G934,'2.bTë ardhura-jopublik-monetare'!$H$19:$H$1015)","v":0}]
[null,null,null,null,null,null,null,null,null,{"$f":"SUMIF($G$19:$G$5015,$G935,$H$19:$H$5015)+SUMIF('2.bTë ardhura-jopublik-monetare'!$G$19:$G$1015,'2.cTë ardhura-jopublik-nënatyrë'!$G935,'2.bTë ardhura-jopublik-monetare'!$H$19:$H$1015)","v":0}]
[null,null,null,null,null,null,null,null,null,{"$f":"SUMIF($G$19:$G$5015,$G936,$H$19:$H$5015)+SUMIF('2.bTë ardhura-jopublik-monetare'!$G$19:$G$1015,'2.cTë ardhura-jopublik-nënatyrë'!$G936,'2.bTë ardhura-jopublik-monetare'!$H$19:$H$1015)","v":0}]
[null,null,null,null,null,null,null,null,null,{"$f":"SUMIF($G$19:$G$5015,$G937,$H$19:$H$5015)+SUMIF('2.bTë ardhura-jopublik-monetare'!$G$19:$G$1015,'2.cTë ardhura-jopublik-nënatyrë'!$G937,'2.bTë ardhura-jopublik-monetare'!$H$19:$H$1015)","v":0}]
[null,null,null,null,null,null,null,null,null,{"$f":"SUMIF($G$19:$G$5015,$G938,$H$19:$H$5015)+SUMIF('2.bTë ardhura-jopublik-monetare'!$G$19:$G$1015,'2.cTë ardhura-jopublik-nënatyrë'!$G938,'2.bTë ardhura-jopublik-monetare'!$H$19:$H$1015)","v":0}]
[null,null,null,null,null,null,null,null,null,{"$f":"SUMIF($G$19:$G$5015,$G939,$H$19:$H$5015)+SUMIF('2.bTë ardhura-jopublik-monetare'!$G$19:$G$1015,'2.cTë ardhura-jopublik-nënatyrë'!$G939,'2.bTë ardhura-jopublik-monetare'!$H$19:$H$1015)","v":0}]
[null,null,null,null,null,null,null,null,null,{"$f":"SUMIF($G$19:$G$5015,$G940,$H$19:$H$5015)+SUMIF('2.bTë ardhura-jopublik-monetare'!$G$19:$G$1015,'2.cTë ardhura-jopublik-nënatyrë'!$G940,'2.bTë ardhura-jopublik-monetare'!$H$19:$H$1015)","v":0}]
[null,null,null,null,null,null,null,null,null,{"$f":"SUMIF($G$19:$G$5015,$G941,$H$19:$H$5015)+SUMIF('2.bTë ardhura-jopublik-monetare'!$G$19:$G$1015,'2.cTë ardhura-jopublik-nënatyrë'!$G941,'2.bTë ardhura-jopublik-monetare'!$H$19:$H$1015)","v":0}]
[null,null,null,null,null,null,null,null,null,{"$f":"SUMIF($G$19:$G$5015,$G942,$H$19:$H$5015)+SUMIF('2.bTë ardhura-jopublik-monetare'!$G$19:$G$1015,'2.cTë ardhura-jopublik-nënatyrë'!$G942,'2.bTë ardhura-jopublik-monetare'!$H$19:$H$1015)","v":0}]
[null,null,null,null,null,null,null,null,null,{"$f":"SUMIF($G$19:$G$5015,$G943,$H$19:$H$5015)+SUMIF('2.bTë ardhura-jopublik-monetare'!$G$19:$G$1015,'2.cTë ardhura-jopublik-nënatyrë'!$G943,'2.bTë ardhura-jopublik-monetare'!$H$19:$H$1015)","v":0}]
[null,null,null,null,null,null,null,null,null,{"$f":"SUMIF($G$19:$G$5015,$G944,$H$19:$H$5015)+SUMIF('2.bTë ardhura-jopublik-monetare'!$G$19:$G$1015,'2.cTë ardhura-jopublik-nënatyrë'!$G944,'2.bTë ardhura-jopublik-monetare'!$H$19:$H$1015)","v":0}]
[null,null,null,null,null,null,null,null,null,{"$f":"SUMIF($G$19:$G$5015,$G945,$H$19:$H$5015)+SUMIF('2.bTë ardhura-jopublik-monetare'!$G$19:$G$1015,'2.cTë ardhura-jopublik-nënatyrë'!$G945,'2.bTë ardhura-jopublik-monetare'!$H$19:$H$1015)","v":0}]
[null,null,null,null,null,null,null,null,null,{"$f":"SUMIF($G$19:$G$5015,$G946,$H$19:$H$5015)+SUMIF('2.bTë ardhura-jopublik-monetare'!$G$19:$G$1015,'2.cTë ardhura-jopublik-nënatyrë'!$G946,'2.bTë ardhura-jopublik-monetare'!$H$19:$H$1015)","v":0}]
[null,null,null,null,null,null,null,null,null,{"$f":"SUMIF($G$19:$G$5015,$G947,$H$19:$H$5015)+SUMIF('2.bTë ardhura-jopublik-monetare'!$G$19:$G$1015,'2.cTë ardhura-jopublik-nënatyrë'!$G947,'2.bTë ardhura-jopublik-monetare'!$H$19:$H$1015)","v":0}]
[null,null,null,null,null,null,null,null,null,{"$f":"SUMIF($G$19:$G$5015,$G948,$H$19:$H$5015)+SUMIF('2.bTë ardhura-jopublik-monetare'!$G$19:$G$1015,'2.cTë ardhura-jopublik-nënatyrë'!$G948,'2.bTë ardhura-jopublik-monetare'!$H$19:$H$1015)","v":0}]
[null,null,null,null,null,null,null,null,null,{"$f":"SUMIF($G$19:$G$5015,$G949,$H$19:$H$5015)+SUMIF('2.bTë ardhura-jopublik-monetare'!$G$19:$G$1015,'2.cTë ardhura-jopublik-nënatyrë'!$G949,'2.bTë ardhura-jopublik-monetare'!$H$19:$H$1015)","v":0}]
[null,null,null,null,null,null,null,null,null,{"$f":"SUMIF($G$19:$G$5015,$G950,$H$19:$H$5015)+SUMIF('2.bTë ardhura-jopublik-monetare'!$G$19:$G$1015,'2.cTë ardhura-jopublik-nënatyrë'!$G950,'2.bTë ardhura-jopublik-monetare'!$H$19:$H$1015)","v":0}]
[null,null,null,null,null,null,null,null,null,{"$f":"SUMIF($G$19:$G$5015,$G951,$H$19:$H$5015)+SUMIF('2.bTë ardhura-jopublik-monetare'!$G$19:$G$1015,'2.cTë ardhura-jopublik-nënatyrë'!$G951,'2.bTë ardhura-jopublik-monetare'!$H$19:$H$1015)","v":0}]
[null,null,null,null,null,null,null,null,null,{"$f":"SUMIF($G$19:$G$5015,$G952,$H$19:$H$5015)+SUMIF('2.bTë ardhura-jopublik-monetare'!$G$19:$G$1015,'2.cTë ardhura-jopublik-nënatyrë'!$G952,'2.bTë ardhura-jopublik-monetare'!$H$19:$H$1015)","v":0}]
[null,null,null,null,null,null,null,null,null,{"$f":"SUMIF($G$19:$G$5015,$G953,$H$19:$H$5015)+SUMIF('2.bTë ardhura-jopublik-monetare'!$G$19:$G$1015,'2.cTë ardhura-jopublik-nënatyrë'!$G953,'2.bTë ardhura-jopublik-monetare'!$H$19:$H$1015)","v":0}]
[null,null,null,null,null,null,null,null,null,{"$f":"SUMIF($G$19:$G$5015,$G954,$H$19:$H$5015)+SUMIF('2.bTë ardhura-jopublik-monetare'!$G$19:$G$1015,'2.cTë ardhura-jopublik-nënatyrë'!$G954,'2.bTë ardhura-jopublik-monetare'!$H$19:$H$1015)","v":0}]
[null,null,null,null,null,null,null,null,null,{"$f":"SUMIF($G$19:$G$5015,$G955,$H$19:$H$5015)+SUMIF('2.bTë ardhura-jopublik-monetare'!$G$19:$G$1015,'2.cTë ardhura-jopublik-nënatyrë'!$G955,'2.bTë ardhura-jopublik-monetare'!$H$19:$H$1015)","v":0}]
[null,null,null,null,null,null,null,null,null,{"$f":"SUMIF($G$19:$G$5015,$G956,$H$19:$H$5015)+SUMIF('2.bTë ardhura-jopublik-monetare'!$G$19:$G$1015,'2.cTë ardhura-jopublik-nënatyrë'!$G956,'2.bTë ardhura-jopublik-monetare'!$H$19:$H$1015)","v":0}]
[null,null,null,null,null,null,null,null,null,{"$f":"SUMIF($G$19:$G$5015,$G957,$H$19:$H$5015)+SUMIF('2.bTë ardhura-jopublik-monetare'!$G$19:$G$1015,'2.cTë ardhura-jopublik-nënatyrë'!$G957,'2.bTë ardhura-jopublik-monetare'!$H$19:$H$1015)","v":0}]
[null,null,null,null,null,null,null,null,null,{"$f":"SUMIF($G$19:$G$5015,$G958,$H$19:$H$5015)+SUMIF('2.bTë ardhura-jopublik-monetare'!$G$19:$G$1015,'2.cTë ardhura-jopublik-nënatyrë'!$G958,'2.bTë ardhura-jopublik-monetare'!$H$19:$H$1015)","v":0}]
[null,null,null,null,null,null,null,null,null,{"$f":"SUMIF($G$19:$G$5015,$G959,$H$19:$H$5015)+SUMIF('2.bTë ardhura-jopublik-monetare'!$G$19:$G$1015,'2.cTë ardhura-jopublik-nënatyrë'!$G959,'2.bTë ardhura-jopublik-monetare'!$H$19:$H$1015)","v":0}]
[null,null,null,null,null,null,null,null,null,{"$f":"SUMIF($G$19:$G$5015,$G960,$H$19:$H$5015)+SUMIF('2.bTë ardhura-jopublik-monetare'!$G$19:$G$1015,'2.cTë ardhura-jopublik-nënatyrë'!$G960,'2.bTë ardhura-jopublik-monetare'!$H$19:$H$1015)","v":0}]
[null,null,null,null,null,null,null,null,null,{"$f":"SUMIF($G$19:$G$5015,$G961,$H$19:$H$5015)+SUMIF('2.bTë ardhura-jopublik-monetare'!$G$19:$G$1015,'2.cTë ardhura-jopublik-nënatyrë'!$G961,'2.bTë ardhura-jopublik-monetare'!$H$19:$H$1015)","v":0}]
[null,null,null,null,null,null,null,null,null,{"$f":"SUMIF($G$19:$G$5015,$G962,$H$19:$H$5015)+SUMIF('2.bTë ardhura-jopublik-monetare'!$G$19:$G$1015,'2.cTë ardhura-jopublik-nënatyrë'!$G962,'2.bTë ardhura-jopublik-monetare'!$H$19:$H$1015)","v":0}]
[null,null,null,null,null,null,null,null,null,{"$f":"SUMIF($G$19:$G$5015,$G963,$H$19:$H$5015)+SUMIF('2.bTë ardhura-jopublik-monetare'!$G$19:$G$1015,'2.cTë ardhura-jopublik-nënatyrë'!$G963,'2.bTë ardhura-jopublik-monetare'!$H$19:$H$1015)","v":0}]
[null,null,null,null,null,null,null,null,null,{"$f":"SUMIF($G$19:$G$5015,$G964,$H$19:$H$5015)+SUMIF('2.bTë ardhura-jopublik-monetare'!$G$19:$G$1015,'2.cTë ardhura-jopublik-nënatyrë'!$G964,'2.bTë ardhura-jopublik-monetare'!$H$19:$H$1015)","v":0}]
[null,null,null,null,null,null,null,null,null,{"$f":"SUMIF($G$19:$G$5015,$G965,$H$19:$H$5015)+SUMIF('2.bTë ardhura-jopublik-monetare'!$G$19:$G$1015,'2.cTë ardhura-jopublik-nënatyrë'!$G965,'2.bTë ardhura-jopublik-monetare'!$H$19:$H$1015)","v":0}]
[null,null,null,null,null,null,null,null,null,{"$f":"SUMIF($G$19:$G$5015,$G966,$H$19:$H$5015)+SUMIF('2.bTë ardhura-jopublik-monetare'!$G$19:$G$1015,'2.cTë ardhura-jopublik-nënatyrë'!$G966,'2.bTë ardhura-jopublik-monetare'!$H$19:$H$1015)","v":0}]
[null,null,null,null,null,null,null,null,null,{"$f":"SUMIF($G$19:$G$5015,$G967,$H$19:$H$5015)+SUMIF('2.bTë ardhura-jopublik-monetare'!$G$19:$G$1015,'2.cTë ardhura-jopublik-nënatyrë'!$G967,'2.bTë ardhura-jopublik-monetare'!$H$19:$H$1015)","v":0}]
[null,null,null,null,null,null,null,null,null,{"$f":"SUMIF($G$19:$G$5015,$G968,$H$19:$H$5015)+SUMIF('2.bTë ardhura-jopublik-monetare'!$G$19:$G$1015,'2.cTë ardhura-jopublik-nënatyrë'!$G968,'2.bTë ardhura-jopublik-monetare'!$H$19:$H$1015)","v":0}]
[null,null,null,null,null,null,null,null,null,{"$f":"SUMIF($G$19:$G$5015,$G969,$H$19:$H$5015)+SUMIF('2.bTë ardhura-jopublik-monetare'!$G$19:$G$1015,'2.cTë ardhura-jopublik-nënatyrë'!$G969,'2.bTë ardhura-jopublik-monetare'!$H$19:$H$1015)","v":0}]
[null,null,null,null,null,null,null,null,null,{"$f":"SUMIF($G$19:$G$5015,$G970,$H$19:$H$5015)+SUMIF('2.bTë ardhura-jopublik-monetare'!$G$19:$G$1015,'2.cTë ardhura-jopublik-nënatyrë'!$G970,'2.bTë ardhura-jopublik-monetare'!$H$19:$H$1015)","v":0}]
[null,null,null,null,null,null,null,null,null,{"$f":"SUMIF($G$19:$G$5015,$G971,$H$19:$H$5015)+SUMIF('2.bTë ardhura-jopublik-monetare'!$G$19:$G$1015,'2.cTë ardhura-jopublik-nënatyrë'!$G971,'2.bTë ardhura-jopublik-monetare'!$H$19:$H$1015)","v":0}]
[null,null,null,null,null,null,null,null,null,{"$f":"SUMIF($G$19:$G$5015,$G972,$H$19:$H$5015)+SUMIF('2.bTë ardhura-jopublik-monetare'!$G$19:$G$1015,'2.cTë ardhura-jopublik-nënatyrë'!$G972,'2.bTë ardhura-jopublik-monetare'!$H$19:$H$1015)","v":0}]
[null,null,null,null,null,null,null,null,null,{"$f":"SUMIF($G$19:$G$5015,$G973,$H$19:$H$5015)+SUMIF('2.bTë ardhura-jopublik-monetare'!$G$19:$G$1015,'2.cTë ardhura-jopublik-nënatyrë'!$G973,'2.bTë ardhura-jopublik-monetare'!$H$19:$H$1015)","v":0}]
[null,null,null,null,null,null,null,null,null,{"$f":"SUMIF($G$19:$G$5015,$G974,$H$19:$H$5015)+SUMIF('2.bTë ardhura-jopublik-monetare'!$G$19:$G$1015,'2.cTë ardhura-jopublik-nënatyrë'!$G974,'2.bTë ardhura-jopublik-monetare'!$H$19:$H$1015)","v":0}]
[null,null,null,null,null,null,null,null,null,{"$f":"SUMIF($G$19:$G$5015,$G975,$H$19:$H$5015)+SUMIF('2.bTë ardhura-jopublik-monetare'!$G$19:$G$1015,'2.cTë ardhura-jopublik-nënatyrë'!$G975,'2.bTë ardhura-jopublik-monetare'!$H$19:$H$1015)","v":0}]
[null,null,null,null,null,null,null,null,null,{"$f":"SUMIF($G$19:$G$5015,$G976,$H$19:$H$5015)+SUMIF('2.bTë ardhura-jopublik-monetare'!$G$19:$G$1015,'2.cTë ardhura-jopublik-nënatyrë'!$G976,'2.bTë ardhura-jopublik-monetare'!$H$19:$H$1015)","v":0}]
[null,null,null,null,null,null,null,null,null,{"$f":"SUMIF($G$19:$G$5015,$G977,$H$19:$H$5015)+SUMIF('2.bTë ardhura-jopublik-monetare'!$G$19:$G$1015,'2.cTë ardhura-jopublik-nënatyrë'!$G977,'2.bTë ardhura-jopublik-monetare'!$H$19:$H$1015)","v":0}]
[null,null,null,null,null,null,null,null,null,{"$f":"SUMIF($G$19:$G$5015,$G978,$H$19:$H$5015)+SUMIF('2.bTë ardhura-jopublik-monetare'!$G$19:$G$1015,'2.cTë ardhura-jopublik-nënatyrë'!$G978,'2.bTë ardhura-jopublik-monetare'!$H$19:$H$1015)","v":0}]
[null,null,null,null,null,null,null,null,null,{"$f":"SUMIF($G$19:$G$5015,$G979,$H$19:$H$5015)+SUMIF('2.bTë ardhura-jopublik-monetare'!$G$19:$G$1015,'2.cTë ardhura-jopublik-nënatyrë'!$G979,'2.bTë ardhura-jopublik-monetare'!$H$19:$H$1015)","v":0}]
[null,null,null,null,null,null,null,null,null,{"$f":"SUMIF($G$19:$G$5015,$G980,$H$19:$H$5015)+SUMIF('2.bTë ardhura-jopublik-monetare'!$G$19:$G$1015,'2.cTë ardhura-jopublik-nënatyrë'!$G980,'2.bTë ardhura-jopublik-monetare'!$H$19:$H$1015)","v":0}]
[null,null,null,null,null,null,null,null,null,{"$f":"SUMIF($G$19:$G$5015,$G981,$H$19:$H$5015)+SUMIF('2.bTë ardhura-jopublik-monetare'!$G$19:$G$1015,'2.cTë ardhura-jopublik-nënatyrë'!$G981,'2.bTë ardhura-jopublik-monetare'!$H$19:$H$1015)","v":0}]
[null,null,null,null,null,null,null,null,null,{"$f":"SUMIF($G$19:$G$5015,$G982,$H$19:$H$5015)+SUMIF('2.bTë ardhura-jopublik-monetare'!$G$19:$G$1015,'2.cTë ardhura-jopublik-nënatyrë'!$G982,'2.bTë ardhura-jopublik-monetare'!$H$19:$H$1015)","v":0}]
[null,null,null,null,null,null,null,null,null,{"$f":"SUMIF($G$19:$G$5015,$G983,$H$19:$H$5015)+SUMIF('2.bTë ardhura-jopublik-monetare'!$G$19:$G$1015,'2.cTë ardhura-jopublik-nënatyrë'!$G983,'2.bTë ardhura-jopublik-monetare'!$H$19:$H$1015)","v":0}]
[null,null,null,null,null,null,null,null,null,{"$f":"SUMIF($G$19:$G$5015,$G984,$H$19:$H$5015)+SUMIF('2.bTë ardhura-jopublik-monetare'!$G$19:$G$1015,'2.cTë ardhura-jopublik-nënatyrë'!$G984,'2.bTë ardhura-jopublik-monetare'!$H$19:$H$1015)","v":0}]
[null,null,null,null,null,null,null,null,null,{"$f":"SUMIF($G$19:$G$5015,$G985,$H$19:$H$5015)+SUMIF('2.bTë ardhura-jopublik-monetare'!$G$19:$G$1015,'2.cTë ardhura-jopublik-nënatyrë'!$G985,'2.bTë ardhura-jopublik-monetare'!$H$19:$H$1015)","v":0}]
[null,null,null,null,null,null,null,null,null,{"$f":"SUMIF($G$19:$G$5015,$G986,$H$19:$H$5015)+SUMIF('2.bTë ardhura-jopublik-monetare'!$G$19:$G$1015,'2.cTë ardhura-jopublik-nënatyrë'!$G986,'2.bTë ardhura-jopublik-monetare'!$H$19:$H$1015)","v":0}]
[null,null,null,null,null,null,null,null,null,{"$f":"SUMIF($G$19:$G$5015,$G987,$H$19:$H$5015)+SUMIF('2.bTë ardhura-jopublik-monetare'!$G$19:$G$1015,'2.cTë ardhura-jopublik-nënatyrë'!$G987,'2.bTë ardhura-jopublik-monetare'!$H$19:$H$1015)","v":0}]
[null,null,null,null,null,null,null,null,null,{"$f":"SUMIF($G$19:$G$5015,$G988,$H$19:$H$5015)+SUMIF('2.bTë ardhura-jopublik-monetare'!$G$19:$G$1015,'2.cTë ardhura-jopublik-nënatyrë'!$G988,'2.bTë ardhura-jopublik-monetare'!$H$19:$H$1015)","v":0}]
[null,null,null,null,null,null,null,null,null,{"$f":"SUMIF($G$19:$G$5015,$G989,$H$19:$H$5015)+SUMIF('2.bTë ardhura-jopublik-monetare'!$G$19:$G$1015,'2.cTë ardhura-jopublik-nënatyrë'!$G989,'2.bTë ardhura-jopublik-monetare'!$H$19:$H$1015)","v":0}]
[null,null,null,null,null,null,null,null,null,{"$f":"SUMIF($G$19:$G$5015,$G990,$H$19:$H$5015)+SUMIF('2.bTë ardhura-jopublik-monetare'!$G$19:$G$1015,'2.cTë ardhura-jopublik-nënatyrë'!$G990,'2.bTë ardhura-jopublik-monetare'!$H$19:$H$1015)","v":0}]
[null,null,null,null,null,null,null,null,null,{"$f":"SUMIF($G$19:$G$5015,$G991,$H$19:$H$5015)+SUMIF('2.bTë ardhura-jopublik-monetare'!$G$19:$G$1015,'2.cTë ardhura-jopublik-nënatyrë'!$G991,'2.bTë ardhura-jopublik-monetare'!$H$19:$H$1015)","v":0}]
[null,null,null,null,null,null,null,null,null,{"$f":"SUMIF($G$19:$G$5015,$G992,$H$19:$H$5015)+SUMIF('2.bTë ardhura-jopublik-monetare'!$G$19:$G$1015,'2.cTë ardhura-jopublik-nënatyrë'!$G992,'2.bTë ardhura-jopublik-monetare'!$H$19:$H$1015)","v":0}]
[null,null,null,null,null,null,null,null,null,{"$f":"SUMIF($G$19:$G$5015,$G993,$H$19:$H$5015)+SUMIF('2.bTë ardhura-jopublik-monetare'!$G$19:$G$1015,'2.cTë ardhura-jopublik-nënatyrë'!$G993,'2.bTë ardhura-jopublik-monetare'!$H$19:$H$1015)","v":0}]
[null,null,null,null,null,null,null,null,null,{"$f":"SUMIF($G$19:$G$5015,$G994,$H$19:$H$5015)+SUMIF('2.bTë ardhura-jopublik-monetare'!$G$19:$G$1015,'2.cTë ardhura-jopublik-nënatyrë'!$G994,'2.bTë ardhura-jopublik-monetare'!$H$19:$H$1015)","v":0}]
[null,null,null,null,null,null,null,null,null,{"$f":"SUMIF($G$19:$G$5015,$G995,$H$19:$H$5015)+SUMIF('2.bTë ardhura-jopublik-monetare'!$G$19:$G$1015,'2.cTë ardhura-jopublik-nënatyrë'!$G995,'2.bTë ardhura-jopublik-monetare'!$H$19:$H$1015)","v":0}]
[null,null,null,null,null,null,null,null,null,{"$f":"SUMIF($G$19:$G$5015,$G996,$H$19:$H$5015)+SUMIF('2.bTë ardhura-jopublik-monetare'!$G$19:$G$1015,'2.cTë ardhura-jopublik-nënatyrë'!$G996,'2.bTë ardhura-jopublik-monetare'!$H$19:$H$1015)","v":0}]
[null,null,null,null,null,null,null,null,null,{"$f":"SUMIF($G$19:$G$5015,$G997,$H$19:$H$5015)+SUMIF('2.bTë ardhura-jopublik-monetare'!$G$19:$G$1015,'2.cTë ardhura-jopublik-nënatyrë'!$G997,'2.bTë ardhura-jopublik-monetare'!$H$19:$H$1015)","v":0}]
[null,null,null,null,null,null,null,null,null,{"$f":"SUMIF($G$19:$G$5015,$G998,$H$19:$H$5015)+SUMIF('2.bTë ardhura-jopublik-monetare'!$G$19:$G$1015,'2.cTë ardhura-jopublik-nënatyrë'!$G998,'2.bTë ardhura-jopublik-monetare'!$H$19:$H$1015)","v":0}]
[null,null,null,null,null,null,null,null,null,{"$f":"SUMIF($G$19:$G$5015,$G999,$H$19:$H$5015)+SUMIF('2.bTë ardhura-jopublik-monetare'!$G$19:$G$1015,'2.cTë ardhura-jopublik-nënatyrë'!$G999,'2.bTë ardhura-jopublik-monetare'!$H$19:$H$1015)","v":0}]
[null,null,null,null,null,null,null,null,null,{"$f":"SUMIF($G$19:$G$5015,$G1000,$H$19:$H$5015)+SUMIF('2.bTë ardhura-jopublik-monetare'!$G$19:$G$1015,'2.cTë ardhura-jopublik-nënatyrë'!$G1000,'2.bTë ardhura-jopublik-monetare'!$H$19:$H$1015)","v":0}]
[null,null,null,null,null,null,null,null,null,{"$f":"SUMIF($G$19:$G$5015,$G1001,$H$19:$H$5015)+SUMIF('2.bTë ardhura-jopublik-monetare'!$G$19:$G$1015,'2.cTë ardhura-jopublik-nënatyrë'!$G1001,'2.bTë ardhura-jopublik-monetare'!$H$19:$H$1015)","v":0}]
[null,null,null,null,null,null,null,null,null,{"$f":"SUMIF($G$19:$G$5015,$G1002,$H$19:$H$5015)+SUMIF('2.bTë ardhura-jopublik-monetare'!$G$19:$G$1015,'2.cTë ardhura-jopublik-nënatyrë'!$G1002,'2.bTë ardhura-jopublik-monetare'!$H$19:$H$1015)","v":0}]
[null,null,null,null,null,null,null,null,null,{"$f":"SUMIF($G$19:$G$5015,$G1003,$H$19:$H$5015)+SUMIF('2.bTë ardhura-jopublik-monetare'!$G$19:$G$1015,'2.cTë ardhura-jopublik-nënatyrë'!$G1003,'2.bTë ardhura-jopublik-monetare'!$H$19:$H$1015)","v":0}]
[null,null,null,null,null,null,null,null,null,{"$f":"SUMIF($G$19:$G$5015,$G1004,$H$19:$H$5015)+SUMIF('2.bTë ardhura-jopublik-monetare'!$G$19:$G$1015,'2.cTë ardhura-jopublik-nënatyrë'!$G1004,'2.bTë ardhura-jopublik-monetare'!$H$19:$H$1015)","v":0}]
[null,null,null,null,null,null,null,null,null,{"$f":"SUMIF($G$19:$G$5015,$G1005,$H$19:$H$5015)+SUMIF('2.bTë ardhura-jopublik-monetare'!$G$19:$G$1015,'2.cTë ardhura-jopublik-nënatyrë'!$G1005,'2.bTë ardhura-jopublik-monetare'!$H$19:$H$1015)","v":0}]
[null,null,null,null,null,null,null,null,null,{"$f":"SUMIF($G$19:$G$5015,$G1006,$H$19:$H$5015)+SUMIF('2.bTë ardhura-jopublik-monetare'!$G$19:$G$1015,'2.cTë ardhura-jopublik-nënatyrë'!$G1006,'2.bTë ardhura-jopublik-monetare'!$H$19:$H$1015)","v":0}]
[null,null,null,null,null,null,null,null,null,{"$f":"SUMIF($G$19:$G$5015,$G1007,$H$19:$H$5015)+SUMIF('2.bTë ardhura-jopublik-monetare'!$G$19:$G$1015,'2.cTë ardhura-jopublik-nënatyrë'!$G1007,'2.bTë ardhura-jopublik-monetare'!$H$19:$H$1015)","v":0}]
[null,null,null,null,null,null,null,null,null,{"$f":"SUMIF($G$19:$G$5015,$G1008,$H$19:$H$5015)+SUMIF('2.bTë ardhura-jopublik-monetare'!$G$19:$G$1015,'2.cTë ardhura-jopublik-nënatyrë'!$G1008,'2.bTë ardhura-jopublik-monetare'!$H$19:$H$1015)","v":0}]
[null,null,null,null,null,null,null,null,null,{"$f":"SUMIF($G$19:$G$5015,$G1009,$H$19:$H$5015)+SUMIF('2.bTë ardhura-jopublik-monetare'!$G$19:$G$1015,'2.cTë ardhura-jopublik-nënatyrë'!$G1009,'2.bTë ardhura-jopublik-monetare'!$H$19:$H$1015)","v":0}]
[null,null,null,null,null,null,null,null,null,{"$f":"SUMIF($G$19:$G$5015,$G1010,$H$19:$H$5015)+SUMIF('2.bTë ardhura-jopublik-monetare'!$G$19:$G$1015,'2.cTë ardhura-jopublik-nënatyrë'!$G1010,'2.bTë ardhura-jopublik-monetare'!$H$19:$H$1015)","v":0}]
[null,null,null,null,null,null,null,null,null,{"$f":"SUMIF($G$19:$G$5015,$G1011,$H$19:$H$5015)+SUMIF('2.bTë ardhura-jopublik-monetare'!$G$19:$G$1015,'2.cTë ardhura-jopublik-nënatyrë'!$G1011,'2.bTë ardhura-jopublik-monetare'!$H$19:$H$1015)","v":0}]
[null,null,null,null,null,null,null,null,null,{"$f":"SUMIF($G$19:$G$5015,$G1012,$H$19:$H$5015)+SUMIF('2.bTë ardhura-jopublik-monetare'!$G$19:$G$1015,'2.cTë ardhura-jopublik-nënatyrë'!$G1012,'2.bTë ardhura-jopublik-monetare'!$H$19:$H$1015)","v":0}]
[null,null,null,null,null,null,null,null,null,{"$f":"SUMIF($G$19:$G$5015,$G1013,$H$19:$H$5015)+SUMIF('2.bTë ardhura-jopublik-monetare'!$G$19:$G$1015,'2.cTë ardhura-jopublik-nënatyrë'!$G1013,'2.bTë ardhura-jopublik-monetare'!$H$19:$H$1015)","v":0}]
[null,null,null,null,null,null,null,null,null,{"$f":"SUMIF($G$19:$G$5015,$G1014,$H$19:$H$5015)+SUMIF('2.bTë ardhura-jopublik-monetare'!$G$19:$G$1015,'2.cTë ardhura-jopublik-nënatyrë'!$G1014,'2.bTë ardhura-jopublik-monetare'!$H$19:$H$1015)","v":0}]
[null,null,null,null,null,null,null,null,null,{"$f":"SUMIF($G$19:$G$5015,$G1015,$H$19:$H$5015)+SUMIF('2.bTë ardhura-jopublik-monetare'!$G$19:$G$1015,'2.cTë ardhura-jopublik-nënatyrë'!$G1015,'2.bTë ardhura-jopublik-monetare'!$H$19:$H$1015)","v":0}]

{"sheet":"2.dTë ardhura-jopublik-krijuara","index":5,"n_rows":33,"n_cols":8,"rows_kept":33,"cut":false,"hidden":false,"merged":[[13,0,13,2]]}
[]
[]
[]
[]
[]
[]
[]
[null,null,null,null,"REPUBLIKA E SHQIPËRISË\n"]
[null,null,null,null,"KOMISIONI QENDROR I ZGJEDHJEVE"]
[]
[null,"Emri i Partisë Politike",null,null,null,"Shkronjat Nistore"]
[]
["2.d Të ardhura të krijuara nga vetë subjekti - Financime jopublike"]
[{"$f":"\"Ju lutemi konfirmoni nëse nuk keni gjë për të raportuar \"&A13","v":"Ju lutemi konfirmoni nëse nuk keni gjë për të raportuar 2.d Të ardhura të krijuara nga vetë subjekti - Financime jopublike"}]
[]
[]
[]
["A. Aktiviteti nga i cili keni krijuar të ardhura","B. Shuma e të ardhurave","C. Data në të cilën janë depozituar të ardhurat","D. Kodi bankar i llogarisë në të cilën janë depozituar të ardhurat","E. Numri i llogarisë në të cilën janë depozituar të ardhurat","F. Të ardhura të krijuara nga:","G. Emri i degës (nëse është i aplikueshëm)","H. Përshkrimi"]
[]
[]
[]
[]
[]
[]
[]
[]
[]
[]
[]
[null,null,"FINANCIERI",null,null,null,"APROVUESI"]
[]
[]
[null,null,"Emër Mbiemër Firmë",null,null,null,"Emër Mbiemër Firmë"]

{"sheet":"3. Të ardhura - Kreditë","index":6,"n_rows":35,"n_cols":12,"rows_kept":35,"cut":false,"hidden":false,"merged":[[12,0,12,2],[15,9,15,11],[11,7,11,8],[12,7,12,8],[13,7,13,8],[14,7,14,8]]}
[]
[]
[]
[]
[]
[]
[null,null,null,null,"REPUBLIKA E SHQIPËRISË\n"]
[null,null,null,null,"KOMISIONI QENDROR I ZGJEDHJEVE"]
[]
[null,"Emri i Partisë Politike",null,null,null,null,"Shkronjat Nistore"]
[]
["3. Huatë dhe Kreditë"]
[{"$f":"\"Ju lutemi konfirmoni nëse nuk keni gjë për të raportuar \"&A12","v":"Ju lutemi konfirmoni nëse nuk keni gjë për të raportuar 3. Huatë dhe Kreditë"}]
[]
[]
[null,null,null,null,null,null,null,null,null,"Termat"]
["A. Emri i Huadhënësit","B. Statusi i huadhënësit","C. Adresa e huadhënësit (rreshti 1)","D. Adresa e huadhënësit (rreshti 2)","E. Kodi postar i huadhënësit","F. Numri i identifikimit i huadhënësit","G. Numri i referencës së huasë/kredisë","H. Shuma e huasë/limiti i kredisë","I. Data e fillimit të huasë/kredisë","J. Norma e interesit","K. Data e shlyerjes","L. Kolaterali i ofruar"]
[]
[]
[]
[]
[]
[]
[]
[]
[]
[]
[]
[]
[]
[]
[null,null,null,"FINANCIERI",null,null,null,"APROVUESI"]
[]
[]
[null,null,null,"Emër Mbiemër Firmë",null,null,null,"Emër Mbiemër Firmë"]

{"sheet":"4. Shpenzimet e partisë","index":7,"n_rows":2282,"n_cols":20,"rows_kept":2282,"cut":false,"hidden":false,"merged":[[19,2,19,4],[19,5,19,6],[11,2,11,3],[12,2,12,3],[20,17,20,18],[19,9,19,10],[20,14,20,16],[16,9,16,10],[17,9,17,10],[18,9,18,10]]}
[]
[]
[]
[]
[]
[]
[]
[]
[null,null,null,null,"REPUBLIKA E SHQIPËRISË\n"]
[null,null,null,null,"KOMISIONI QENDROR I ZGJEDHJEVE"]
[]
[null,null,"Emri i Partisë Politike",null,null,"Shkronjat Nistore"]
[]
[]
[]
[]
[]
[null,null,"4. Shpenzimet e partisë"]
[]
[null,null,{"$f":"\"Ju lutemi konfirmoni nëse nuk keni gjë për të raportuar \"&C18","v":"Ju lutemi konfirmoni nëse nuk keni gjë për të raportuar 4. Shpenzimet e partisë"}]
[null,null,null,null,null,null,null,null,null,null,null,null,null,"Shpenzimet e zyrës elektorale","Mitingjet e fushatës",null,null,"Media",null,"Materiale promocionale/Media Sociale/Sondazhe/Publikime dhe reklama/Transport/Reklamime në natyrë/Konsulencë"]
["RallyNumber","RallyName","A. Kategoria e shpenzimeve","B. Shitësi/furnizuesi","C. Nr identifikimit të faturës","D. Data e faturës","E. Data e pagesës","F. Shuma e paguar","G. Shuma e papaguar (nëse ka)","H. Metoda e kryerjes së pagesës","I. Shpjegimi","J. Shpenzimi kryer nga:","K. Dega e partisë","L. Sipas bashkive","M. Vendi i mitingut","N. Ambienti","O. Data e mitingut","P. Lloji i medias","R. Pershkrimi","S. Përshkrimi"]
[{"$f":"IF(B23=\"\",\"\",MAX(A$22:A22)+1)","v":""},{"$f":"IF($C23=Reference!$J$3,CONCATENATE('4. Shpenzimet e partisë'!$O23,\"-\",'4. Shpenzimet e partisë'!$P23,\"-\",TEXT('4. Shpenzimet e partisë'!$Q23,\"dd/mm/yyyy\")),\"\")","v":""}]
[{"$f":"IF(B24=\"\",\"\",MAX(A$22:A23)+1)","v":""},{"$f":"IF($C24=Reference!$J$3,CONCATENATE('4. Shpenzimet e partisë'!$O24,\"-\",'4. Shpenzimet e partisë'!$P24,\"-\",TEXT('4. Shpenzimet e partisë'!$Q24,\"dd/mm/yyyy\")),\"\")","v":""}]
[{"$f":"IF(B25=\"\",\"\",MAX(A$22:A24)+1)","v":""},{"$f":"IF($C25=Reference!$J$3,CONCATENATE('4. Shpenzimet e partisë'!$O25,\"-\",'4. Shpenzimet e partisë'!$P25,\"-\",TEXT('4. Shpenzimet e partisë'!$Q25,\"dd/mm/yyyy\")),\"\")","v":""}]
[{"$f":"IF(B26=\"\",\"\",MAX(A$22:A25)+1)","v":""},{"$f":"IF($C26=Reference!$J$3,CONCATENATE('4. Shpenzimet e partisë'!$O26,\"-\",'4. Shpenzimet e partisë'!$P26,\"-\",TEXT('4. Shpenzimet e partisë'!$Q26,\"dd/mm/yyyy\")),\"\")","v":""}]
[{"$f":"IF(B27=\"\",\"\",MAX(A$22:A26)+1)","v":""},{"$f":"IF($C27=Reference!$J$3,CONCATENATE('4. Shpenzimet e partisë'!$O27,\"-\",'4. Shpenzimet e partisë'!$P27,\"-\",TEXT('4. Shpenzimet e partisë'!$Q27,\"dd/mm/yyyy\")),\"\")","v":""}]
[{"$f":"IF(B28=\"\",\"\",MAX(A$22:A27)+1)","v":""},{"$f":"IF($C28=Reference!$J$3,CONCATENATE('4. Shpenzimet e partisë'!$O28,\"-\",'4. Shpenzimet e partisë'!$P28,\"-\",TEXT('4. Shpenzimet e partisë'!$Q28,\"dd/mm/yyyy\")),\"\")","v":""}]
[{"$f":"IF(B29=\"\",\"\",MAX(A$22:A28)+1)","v":""},{"$f":"IF($C29=Reference!$J$3,CONCATENATE('4. Shpenzimet e partisë'!$O29,\"-\",'4. Shpenzimet e partisë'!$P29,\"-\",TEXT('4. Shpenzimet e partisë'!$Q29,\"dd/mm/yyyy\")),\"\")","v":""}]
[{"$f":"IF(B30=\"\",\"\",MAX(A$22:A29)+1)","v":""},{"$f":"IF($C30=Reference!$J$3,CONCATENATE('4. Shpenzimet e partisë'!$O30,\"-\",'4. Shpenzimet e partisë'!$P30,\"-\",TEXT('4. Shpenzimet e partisë'!$Q30,\"dd/mm/yyyy\")),\"\")","v":""}]
[{"$f":"IF(B31=\"\",\"\",MAX(A$22:A30)+1)","v":""},{"$f":"IF($C31=Reference!$J$3,CONCATENATE('4. Shpenzimet e partisë'!$O31,\"-\",'4. Shpenzimet e partisë'!$P31,\"-\",TEXT('4. Shpenzimet e partisë'!$Q31,\"dd/mm/yyyy\")),\"\")","v":""}]
[{"$f":"IF(B32=\"\",\"\",MAX(A$22:A31)+1)","v":""},{"$f":"IF($C32=Reference!$J$3,CONCATENATE('4. Shpenzimet e partisë'!$O32,\"-\",'4. Shpenzimet e partisë'!$P32,\"-\",TEXT('4. Shpenzimet e partisë'!$Q32,\"dd/mm/yyyy\")),\"\")","v":""}]
[{"$f":"IF(B33=\"\",\"\",MAX(A$22:A32)+1)","v":""},{"$f":"IF($C33=Reference!$J$3,CONCATENATE('4. Shpenzimet e partisë'!$O33,\"-\",'4. Shpenzimet e partisë'!$P33,\"-\",TEXT('4. Shpenzimet e partisë'!$Q33,\"dd/mm/yyyy\")),\"\")","v":""}]
[{"$f":"IF(B34=\"\",\"\",MAX(A$22:A33)+1)","v":""},{"$f":"IF($C34=Reference!$J$3,CONCATENATE('4. Shpenzimet e partisë'!$O34,\"-\",'4. Shpenzimet e partisë'!$P34,\"-\",TEXT('4. Shpenzimet e partisë'!$Q34,\"dd/mm/yyyy\")),\"\")","v":""}]
[{"$f":"IF(B35=\"\",\"\",MAX(A$22:A34)+1)","v":""},{"$f":"IF($C35=Reference!$J$3,CONCATENATE('4. Shpenzimet e partisë'!$O35,\"-\",'4. Shpenzimet e partisë'!$P35,\"-\",TEXT('4. Shpenzimet e partisë'!$Q35,\"dd/mm/yyyy\")),\"\")","v":""}]
[{"$f":"IF(B36=\"\",\"\",MAX(A$22:A35)+1)","v":""},{"$f":"IF($C36=Reference!$J$3,CONCATENATE('4. Shpenzimet e partisë'!$O36,\"-\",'4. Shpenzimet e partisë'!$P36,\"-\",TEXT('4. Shpenzimet e partisë'!$Q36,\"dd/mm/yyyy\")),\"\")","v":""}]
[{"$f":"IF(B37=\"\",\"\",MAX(A$22:A36)+1)","v":""},{"$f":"IF($C37=Reference!$J$3,CONCATENATE('4. Shpenzimet e partisë'!$O37,\"-\",'4. Shpenzimet e partisë'!$P37,\"-\",TEXT('4. Shpenzimet e partisë'!$Q37,\"dd/mm/yyyy\")),\"\")","v":""}]
[{"$f":"IF(B38=\"\",\"\",MAX(A$22:A37)+1)","v":""},{"$f":"IF($C38=Reference!$J$3,CONCATENATE('4. Shpenzimet e partisë'!$O38,\"-\",'4. Shpenzimet e partisë'!$P38,\"-\",TEXT('4. Shpenzimet e partisë'!$Q38,\"dd/mm/yyyy\")),\"\")","v":""}]
[{"$f":"IF(B39=\"\",\"\",MAX(A$22:A38)+1)","v":""},{"$f":"IF($C39=Reference!$J$3,CONCATENATE('4. Shpenzimet e partisë'!$O39,\"-\",'4. Shpenzimet e partisë'!$P39,\"-\",TEXT('4. Shpenzimet e partisë'!$Q39,\"dd/mm/yyyy\")),\"\")","v":""},null,null,null,"FINANCIERI",null,null,null,"APROVUESI"]
[{"$f":"IF(B40=\"\",\"\",MAX(A$22:A39)+1)","v":""},{"$f":"IF($C40=Reference!$J$3,CONCATENATE('4. Shpenzimet e partisë'!$O40,\"-\",'4. Shpenzimet e partisë'!$P40,\"-\",TEXT('4. Shpenzimet e partisë'!$Q40,\"dd/mm/yyyy\")),\"\")","v":""}]
[{"$f":"IF(B41=\"\",\"\",MAX(A$22:A40)+1)","v":""},{"$f":"IF($C41=Reference!$J$3,CONCATENATE('4. Shpenzimet e partisë'!$O41,\"-\",'4. Shpenzimet e partisë'!$P41,\"-\",TEXT('4. Shpenzimet e partisë'!$Q41,\"dd/mm/yyyy\")),\"\")","v":""}]
[{"$f":"IF(B42=\"\",\"\",MAX(A$22:A41)+1)","v":""},{"$f":"IF($C42=Reference!$J$3,CONCATENATE('4. Shpenzimet e partisë'!$O42,\"-\",'4. Shpenzimet e partisë'!$P42,\"-\",TEXT('4. Shpenzimet e partisë'!$Q42,\"dd/mm/yyyy\")),\"\")","v":""},null,null,null,"Emër Mbiemër Firmë",null,null,null,"Emër Mbiemër Firmë"]
[{"$f":"IF(B43=\"\",\"\",MAX(A$22:A42)+1)","v":""},{"$f":"IF($C43=Reference!$J$3,CONCATENATE('4. Shpenzimet e partisë'!$O43,\"-\",'4. Shpenzimet e partisë'!$P43,\"-\",TEXT('4. Shpenzimet e partisë'!$Q43,\"dd/mm/yyyy\")),\"\")","v":""}]
[{"$f":"IF(B44=\"\",\"\",MAX(A$22:A43)+1)","v":""},{"$f":"IF($C44=Reference!$J$3,CONCATENATE('4. Shpenzimet e partisë'!$O44,\"-\",'4. Shpenzimet e partisë'!$P44,\"-\",TEXT('4. Shpenzimet e partisë'!$Q44,\"dd/mm/yyyy\")),\"\")","v":""}]
[{"$f":"IF(B45=\"\",\"\",MAX(A$22:A44)+1)","v":""},{"$f":"IF($C45=Reference!$J$3,CONCATENATE('4. Shpenzimet e partisë'!$O45,\"-\",'4. Shpenzimet e partisë'!$P45,\"-\",TEXT('4. Shpenzimet e partisë'!$Q45,\"dd/mm/yyyy\")),\"\")","v":""}]
[{"$f":"IF(B46=\"\",\"\",MAX(A$22:A45)+1)","v":""},{"$f":"IF($C46=Reference!$J$3,CONCATENATE('4. Shpenzimet e partisë'!$O46,\"-\",'4. Shpenzimet e partisë'!$P46,\"-\",TEXT('4. Shpenzimet e partisë'!$Q46,\"dd/mm/yyyy\")),\"\")","v":""}]
[{"$f":"IF(B47=\"\",\"\",MAX(A$22:A46)+1)","v":""},{"$f":"IF($C47=Reference!$J$3,CONCATENATE('4. Shpenzimet e partisë'!$O47,\"-\",'4. Shpenzimet e partisë'!$P47,\"-\",TEXT('4. Shpenzimet e partisë'!$Q47,\"dd/mm/yyyy\")),\"\")","v":""}]
[{"$f":"IF(B48=\"\",\"\",MAX(A$22:A47)+1)","v":""},{"$f":"IF($C48=Reference!$J$3,CONCATENATE('4. Shpenzimet e partisë'!$O48,\"-\",'4. Shpenzimet e partisë'!$P48,\"-\",TEXT('4. Shpenzimet e partisë'!$Q48,\"dd/mm/yyyy\")),\"\")","v":""}]
[{"$f":"IF(B49=\"\",\"\",MAX(A$22:A48)+1)","v":""},{"$f":"IF($C49=Reference!$J$3,CONCATENATE('4. Shpenzimet e partisë'!$O49,\"-\",'4. Shpenzimet e partisë'!$P49,\"-\",TEXT('4. Shpenzimet e partisë'!$Q49,\"dd/mm/yyyy\")),\"\")","v":""}]
[{"$f":"IF(B50=\"\",\"\",MAX(A$22:A49)+1)","v":""},{"$f":"IF($C50=Reference!$J$3,CONCATENATE('4. Shpenzimet e partisë'!$O50,\"-\",'4. Shpenzimet e partisë'!$P50,\"-\",TEXT('4. Shpenzimet e partisë'!$Q50,\"dd/mm/yyyy\")),\"\")","v":""}]
[{"$f":"IF(B51=\"\",\"\",MAX(A$22:A50)+1)","v":""},{"$f":"IF($C51=Reference!$J$3,CONCATENATE('4. Shpenzimet e partisë'!$O51,\"-\",'4. Shpenzimet e partisë'!$P51,\"-\",TEXT('4. Shpenzimet e partisë'!$Q51,\"dd/mm/yyyy\")),\"\")","v":""}]
[{"$f":"IF(B52=\"\",\"\",MAX(A$22:A51)+1)","v":""},{"$f":"IF($C52=Reference!$J$3,CONCATENATE('4. Shpenzimet e partisë'!$O52,\"-\",'4. Shpenzimet e partisë'!$P52,\"-\",TEXT('4. Shpenzimet e partisë'!$Q52,\"dd/mm/yyyy\")),\"\")","v":""}]
[{"$f":"IF(B53=\"\",\"\",MAX(A$22:A52)+1)","v":""},{"$f":"IF($C53=Reference!$J$3,CONCATENATE('4. Shpenzimet e partisë'!$O53,\"-\",'4. Shpenzimet e partisë'!$P53,\"-\",TEXT('4. Shpenzimet e partisë'!$Q53,\"dd/mm/yyyy\")),\"\")","v":""}]
[{"$f":"IF(B54=\"\",\"\",MAX(A$22:A53)+1)","v":""},{"$f":"IF($C54=Reference!$J$3,CONCATENATE('4. Shpenzimet e partisë'!$O54,\"-\",'4. Shpenzimet e partisë'!$P54,\"-\",TEXT('4. Shpenzimet e partisë'!$Q54,\"dd/mm/yyyy\")),\"\")","v":""}]
[{"$f":"IF(B55=\"\",\"\",MAX(A$22:A54)+1)","v":""},{"$f":"IF($C55=Reference!$J$3,CONCATENATE('4. Shpenzimet e partisë'!$O55,\"-\",'4. Shpenzimet e partisë'!$P55,\"-\",TEXT('4. Shpenzimet e partisë'!$Q55,\"dd/mm/yyyy\")),\"\")","v":""}]
[{"$f":"IF(B56=\"\",\"\",MAX(A$22:A55)+1)","v":""},{"$f":"IF($C56=Reference!$J$3,CONCATENATE('4. Shpenzimet e partisë'!$O56,\"-\",'4. Shpenzimet e partisë'!$P56,\"-\",TEXT('4. Shpenzimet e partisë'!$Q56,\"dd/mm/yyyy\")),\"\")","v":""}]
[{"$f":"IF(B57=\"\",\"\",MAX(A$22:A56)+1)","v":""},{"$f":"IF($C57=Reference!$J$3,CONCATENATE('4. Shpenzimet e partisë'!$O57,\"-\",'4. Shpenzimet e partisë'!$P57,\"-\",TEXT('4. Shpenzimet e partisë'!$Q57,\"dd/mm/yyyy\")),\"\")","v":""}]
[{"$f":"IF(B58=\"\",\"\",MAX(A$22:A57)+1)","v":""},{"$f":"IF($C58=Reference!$J$3,CONCATENATE('4. Shpenzimet e partisë'!$O58,\"-\",'4. Shpenzimet e partisë'!$P58,\"-\",TEXT('4. Shpenzimet e partisë'!$Q58,\"dd/mm/yyyy\")),\"\")","v":""}]
[{"$f":"IF(B59=\"\",\"\",MAX(A$22:A58)+1)","v":""},{"$f":"IF($C59=Reference!$J$3,CONCATENATE('4. Shpenzimet e partisë'!$O59,\"-\",'4. Shpenzimet e partisë'!$P59,\"-\",TEXT('4. Shpenzimet e partisë'!$Q59,\"dd/mm/yyyy\")),\"\")","v":""}]
[{"$f":"IF(B60=\"\",\"\",MAX(A$22:A59)+1)","v":""},{"$f":"IF($C60=Reference!$J$3,CONCATENATE('4. Shpenzimet e partisë'!$O60,\"-\",'4. Shpenzimet e partisë'!$P60,\"-\",TEXT('4. Shpenzimet e partisë'!$Q60,\"dd/mm/yyyy\")),\"\")","v":""}]
[{"$f":"IF(B61=\"\",\"\",MAX(A$22:A60)+1)","v":""},{"$f":"IF($C61=Reference!$J$3,CONCATENATE('4. Shpenzimet e partisë'!$O61,\"-\",'4. Shpenzimet e partisë'!$P61,\"-\",TEXT('4. Shpenzimet e partisë'!$Q61,\"dd/mm/yyyy\")),\"\")","v":""}]
[{"$f":"IF(B62=\"\",\"\",MAX(A$22:A61)+1)","v":""},{"$f":"IF($C62=Reference!$J$3,CONCATENATE('4. Shpenzimet e partisë'!$O62,\"-\",'4. Shpenzimet e partisë'!$P62,\"-\",TEXT('4. Shpenzimet e partisë'!$Q62,\"dd/mm/yyyy\")),\"\")","v":""}]
[{"$f":"IF(B63=\"\",\"\",MAX(A$22:A62)+1)","v":""},{"$f":"IF($C63=Reference!$J$3,CONCATENATE('4. Shpenzimet e partisë'!$O63,\"-\",'4. Shpenzimet e partisë'!$P63,\"-\",TEXT('4. Shpenzimet e partisë'!$Q63,\"dd/mm/yyyy\")),\"\")","v":""}]
[{"$f":"IF(B64=\"\",\"\",MAX(A$22:A63)+1)","v":""},{"$f":"IF($C64=Reference!$J$3,CONCATENATE('4. Shpenzimet e partisë'!$O64,\"-\",'4. Shpenzimet e partisë'!$P64,\"-\",TEXT('4. Shpenzimet e partisë'!$Q64,\"dd/mm/yyyy\")),\"\")","v":""}]
[{"$f":"IF(B65=\"\",\"\",MAX(A$22:A64)+1)","v":""},{"$f":"IF($C65=Reference!$J$3,CONCATENATE('4. Shpenzimet e partisë'!$O65,\"-\",'4. Shpenzimet e partisë'!$P65,\"-\",TEXT('4. Shpenzimet e partisë'!$Q65,\"dd/mm/yyyy\")),\"\")","v":""}]
[{"$f":"IF(B66=\"\",\"\",MAX(A$22:A65)+1)","v":""},{"$f":"IF($C66=Reference!$J$3,CONCATENATE('4. Shpenzimet e partisë'!$O66,\"-\",'4. Shpenzimet e partisë'!$P66,\"-\",TEXT('4. Shpenzimet e partisë'!$Q66,\"dd/mm/yyyy\")),\"\")","v":""}]
[{"$f":"IF(B67=\"\",\"\",MAX(A$22:A66)+1)","v":""},{"$f":"IF($C67=Reference!$J$3,CONCATENATE('4. Shpenzimet e partisë'!$O67,\"-\",'4. Shpenzimet e partisë'!$P67,\"-\",TEXT('4. Shpenzimet e partisë'!$Q67,\"dd/mm/yyyy\")),\"\")","v":""}]
[{"$f":"IF(B68=\"\",\"\",MAX(A$22:A67)+1)","v":""},{"$f":"IF($C68=Reference!$J$3,CONCATENATE('4. Shpenzimet e partisë'!$O68,\"-\",'4. Shpenzimet e partisë'!$P68,\"-\",TEXT('4. Shpenzimet e partisë'!$Q68,\"dd/mm/yyyy\")),\"\")","v":""}]
[{"$f":"IF(B69=\"\",\"\",MAX(A$22:A68)+1)","v":""},{"$f":"IF($C69=Reference!$J$3,CONCATENATE('4. Shpenzimet e partisë'!$O69,\"-\",'4. Shpenzimet e partisë'!$P69,\"-\",TEXT('4. Shpenzimet e partisë'!$Q69,\"dd/mm/yyyy\")),\"\")","v":""}]
[{"$f":"IF(B70=\"\",\"\",MAX(A$22:A69)+1)","v":""},{"$f":"IF($C70=Reference!$J$3,CONCATENATE('4. Shpenzimet e partisë'!$O70,\"-\",'4. Shpenzimet e partisë'!$P70,\"-\",TEXT('4. Shpenzimet e partisë'!$Q70,\"dd/mm/yyyy\")),\"\")","v":""}]
[{"$f":"IF(B71=\"\",\"\",MAX(A$22:A70)+1)","v":""},{"$f":"IF($C71=Reference!$J$3,CONCATENATE('4. Shpenzimet e partisë'!$O71,\"-\",'4. Shpenzimet e partisë'!$P71,\"-\",TEXT('4. Shpenzimet e partisë'!$Q71,\"dd/mm/yyyy\")),\"\")","v":""}]
[{"$f":"IF(B72=\"\",\"\",MAX(A$22:A71)+1)","v":""},{"$f":"IF($C72=Reference!$J$3,CONCATENATE('4. Shpenzimet e partisë'!$O72,\"-\",'4. Shpenzimet e partisë'!$P72,\"-\",TEXT('4. Shpenzimet e partisë'!$Q72,\"dd/mm/yyyy\")),\"\")","v":""}]
[{"$f":"IF(B73=\"\",\"\",MAX(A$22:A72)+1)","v":""},{"$f":"IF($C73=Reference!$J$3,CONCATENATE('4. Shpenzimet e partisë'!$O73,\"-\",'4. Shpenzimet e partisë'!$P73,\"-\",TEXT('4. Shpenzimet e partisë'!$Q73,\"dd/mm/yyyy\")),\"\")","v":""}]
[{"$f":"IF(B74=\"\",\"\",MAX(A$22:A73)+1)","v":""},{"$f":"IF($C74=Reference!$J$3,CONCATENATE('4. Shpenzimet e partisë'!$O74,\"-\",'4. Shpenzimet e partisë'!$P74,\"-\",TEXT('4. Shpenzimet e partisë'!$Q74,\"dd/mm/yyyy\")),\"\")","v":""}]
[{"$f":"IF(B75=\"\",\"\",MAX(A$22:A74)+1)","v":""},{"$f":"IF($C75=Reference!$J$3,CONCATENATE('4. Shpenzimet e partisë'!$O75,\"-\",'4. Shpenzimet e partisë'!$P75,\"-\",TEXT('4. Shpenzimet e partisë'!$Q75,\"dd/mm/yyyy\")),\"\")","v":""}]
[{"$f":"IF(B76=\"\",\"\",MAX(A$22:A75)+1)","v":""},{"$f":"IF($C76=Reference!$J$3,CONCATENATE('4. Shpenzimet e partisë'!$O76,\"-\",'4. Shpenzimet e partisë'!$P76,\"-\",TEXT('4. Shpenzimet e partisë'!$Q76,\"dd/mm/yyyy\")),\"\")","v":""}]
[{"$f":"IF(B77=\"\",\"\",MAX(A$22:A76)+1)","v":""},{"$f":"IF($C77=Reference!$J$3,CONCATENATE('4. Shpenzimet e partisë'!$O77,\"-\",'4. Shpenzimet e partisë'!$P77,\"-\",TEXT('4. Shpenzimet e partisë'!$Q77,\"dd/mm/yyyy\")),\"\")","v":""}]
[{"$f":"IF(B78=\"\",\"\",MAX(A$22:A77)+1)","v":""},{"$f":"IF($C78=Reference!$J$3,CONCATENATE('4. Shpenzimet e partisë'!$O78,\"-\",'4. Shpenzimet e partisë'!$P78,\"-\",TEXT('4. Shpenzimet e partisë'!$Q78,\"dd/mm/yyyy\")),\"\")","v":""}]
[{"$f":"IF(B79=\"\",\"\",MAX(A$22:A78)+1)","v":""},{"$f":"IF($C79=Reference!$J$3,CONCATENATE('4. Shpenzimet e partisë'!$O79,\"-\",'4. Shpenzimet e partisë'!$P79,\"-\",TEXT('4. Shpenzimet e partisë'!$Q79,\"dd/mm/yyyy\")),\"\")","v":""}]
[{"$f":"IF(B80=\"\",\"\",MAX(A$22:A79)+1)","v":""},{"$f":"IF($C80=Reference!$J$3,CONCATENATE('4. Shpenzimet e partisë'!$O80,\"-\",'4. Shpenzimet e partisë'!$P80,\"-\",TEXT('4. Shpenzimet e partisë'!$Q80,\"dd/mm/yyyy\")),\"\")","v":""}]
[{"$f":"IF(B81=\"\",\"\",MAX(A$22:A80)+1)","v":""},{"$f":"IF($C81=Reference!$J$3,CONCATENATE('4. Shpenzimet e partisë'!$O81,\"-\",'4. Shpenzimet e partisë'!$P81,\"-\",TEXT('4. Shpenzimet e partisë'!$Q81,\"dd/mm/yyyy\")),\"\")","v":""}]
[{"$f":"IF(B82=\"\",\"\",MAX(A$22:A81)+1)","v":""},{"$f":"IF($C82=Reference!$J$3,CONCATENATE('4. Shpenzimet e partisë'!$O82,\"-\",'4. Shpenzimet e partisë'!$P82,\"-\",TEXT('4. Shpenzimet e partisë'!$Q82,\"dd/mm/yyyy\")),\"\")","v":""}]
[{"$f":"IF(B83=\"\",\"\",MAX(A$22:A82)+1)","v":""},{"$f":"IF($C83=Reference!$J$3,CONCATENATE('4. Shpenzimet e partisë'!$O83,\"-\",'4. Shpenzimet e partisë'!$P83,\"-\",TEXT('4. Shpenzimet e partisë'!$Q83,\"dd/mm/yyyy\")),\"\")","v":""}]
[{"$f":"IF(B84=\"\",\"\",MAX(A$22:A83)+1)","v":""},{"$f":"IF($C84=Reference!$J$3,CONCATENATE('4. Shpenzimet e partisë'!$O84,\"-\",'4. Shpenzimet e partisë'!$P84,\"-\",TEXT('4. Shpenzimet e partisë'!$Q84,\"dd/mm/yyyy\")),\"\")","v":""}]
[{"$f":"IF(B85=\"\",\"\",MAX(A$22:A84)+1)","v":""},{"$f":"IF($C85=Reference!$J$3,CONCATENATE('4. Shpenzimet e partisë'!$O85,\"-\",'4. Shpenzimet e partisë'!$P85,\"-\",TEXT('4. Shpenzimet e partisë'!$Q85,\"dd/mm/yyyy\")),\"\")","v":""}]
[{"$f":"IF(B86=\"\",\"\",MAX(A$22:A85)+1)","v":""},{"$f":"IF($C86=Reference!$J$3,CONCATENATE('4. Shpenzimet e partisë'!$O86,\"-\",'4. Shpenzimet e partisë'!$P86,\"-\",TEXT('4. Shpenzimet e partisë'!$Q86,\"dd/mm/yyyy\")),\"\")","v":""}]
[{"$f":"IF(B87=\"\",\"\",MAX(A$22:A86)+1)","v":""},{"$f":"IF($C87=Reference!$J$3,CONCATENATE('4. Shpenzimet e partisë'!$O87,\"-\",'4. Shpenzimet e partisë'!$P87,\"-\",TEXT('4. Shpenzimet e partisë'!$Q87,\"dd/mm/yyyy\")),\"\")","v":""}]
[{"$f":"IF(B88=\"\",\"\",MAX(A$22:A87)+1)","v":""},{"$f":"IF($C88=Reference!$J$3,CONCATENATE('4. Shpenzimet e partisë'!$O88,\"-\",'4. Shpenzimet e partisë'!$P88,\"-\",TEXT('4. Shpenzimet e partisë'!$Q88,\"dd/mm/yyyy\")),\"\")","v":""}]
[{"$f":"IF(B89=\"\",\"\",MAX(A$22:A88)+1)","v":""},{"$f":"IF($C89=Reference!$J$3,CONCATENATE('4. Shpenzimet e partisë'!$O89,\"-\",'4. Shpenzimet e partisë'!$P89,\"-\",TEXT('4. Shpenzimet e partisë'!$Q89,\"dd/mm/yyyy\")),\"\")","v":""}]
[{"$f":"IF(B90=\"\",\"\",MAX(A$22:A89)+1)","v":""},{"$f":"IF($C90=Reference!$J$3,CONCATENATE('4. Shpenzimet e partisë'!$O90,\"-\",'4. Shpenzimet e partisë'!$P90,\"-\",TEXT('4. Shpenzimet e partisë'!$Q90,\"dd/mm/yyyy\")),\"\")","v":""}]
[{"$f":"IF(B91=\"\",\"\",MAX(A$22:A90)+1)","v":""},{"$f":"IF($C91=Reference!$J$3,CONCATENATE('4. Shpenzimet e partisë'!$O91,\"-\",'4. Shpenzimet e partisë'!$P91,\"-\",TEXT('4. Shpenzimet e partisë'!$Q91,\"dd/mm/yyyy\")),\"\")","v":""}]
[{"$f":"IF(B92=\"\",\"\",MAX(A$22:A91)+1)","v":""},{"$f":"IF($C92=Reference!$J$3,CONCATENATE('4. Shpenzimet e partisë'!$O92,\"-\",'4. Shpenzimet e partisë'!$P92,\"-\",TEXT('4. Shpenzimet e partisë'!$Q92,\"dd/mm/yyyy\")),\"\")","v":""}]
[{"$f":"IF(B93=\"\",\"\",MAX(A$22:A92)+1)","v":""},{"$f":"IF($C93=Reference!$J$3,CONCATENATE('4. Shpenzimet e partisë'!$O93,\"-\",'4. Shpenzimet e partisë'!$P93,\"-\",TEXT('4. Shpenzimet e partisë'!$Q93,\"dd/mm/yyyy\")),\"\")","v":""}]
[{"$f":"IF(B94=\"\",\"\",MAX(A$22:A93)+1)","v":""},{"$f":"IF($C94=Reference!$J$3,CONCATENATE('4. Shpenzimet e partisë'!$O94,\"-\",'4. Shpenzimet e partisë'!$P94,\"-\",TEXT('4. Shpenzimet e partisë'!$Q94,\"dd/mm/yyyy\")),\"\")","v":""}]
[{"$f":"IF(B95=\"\",\"\",MAX(A$22:A94)+1)","v":""},{"$f":"IF($C95=Reference!$J$3,CONCATENATE('4. Shpenzimet e partisë'!$O95,\"-\",'4. Shpenzimet e partisë'!$P95,\"-\",TEXT('4. Shpenzimet e partisë'!$Q95,\"dd/mm/yyyy\")),\"\")","v":""}]
[{"$f":"IF(B96=\"\",\"\",MAX(A$22:A95)+1)","v":""},{"$f":"IF($C96=Reference!$J$3,CONCATENATE('4. Shpenzimet e partisë'!$O96,\"-\",'4. Shpenzimet e partisë'!$P96,\"-\",TEXT('4. Shpenzimet e partisë'!$Q96,\"dd/mm/yyyy\")),\"\")","v":""}]
[{"$f":"IF(B97=\"\",\"\",MAX(A$22:A96)+1)","v":""},{"$f":"IF($C97=Reference!$J$3,CONCATENATE('4. Shpenzimet e partisë'!$O97,\"-\",'4. Shpenzimet e partisë'!$P97,\"-\",TEXT('4. Shpenzimet e partisë'!$Q97,\"dd/mm/yyyy\")),\"\")","v":""}]
[{"$f":"IF(B98=\"\",\"\",MAX(A$22:A97)+1)","v":""},{"$f":"IF($C98=Reference!$J$3,CONCATENATE('4. Shpenzimet e partisë'!$O98,\"-\",'4. Shpenzimet e partisë'!$P98,\"-\",TEXT('4. Shpenzimet e partisë'!$Q98,\"dd/mm/yyyy\")),\"\")","v":""}]
[{"$f":"IF(B99=\"\",\"\",MAX(A$22:A98)+1)","v":""},{"$f":"IF($C99=Reference!$J$3,CONCATENATE('4. Shpenzimet e partisë'!$O99,\"-\",'4. Shpenzimet e partisë'!$P99,\"-\",TEXT('4. Shpenzimet e partisë'!$Q99,\"dd/mm/yyyy\")),\"\")","v":""}]
[{"$f":"IF(B100=\"\",\"\",MAX(A$22:A99)+1)","v":""},{"$f":"IF($C100=Reference!$J$3,CONCATENATE('4. Shpenzimet e partisë'!$O100,\"-\",'4. Shpenzimet e partisë'!$P100,\"-\",TEXT('4. Shpenzimet e partisë'!$Q100,\"dd/mm/yyyy\")),\"\")","v":""}]
[{"$f":"IF(B101=\"\",\"\",MAX(A$22:A100)+1)","v":""},{"$f":"IF($C101=Reference!$J$3,CONCATENATE('4. Shpenzimet e partisë'!$O101,\"-\",'4. Shpenzimet e partisë'!$P101,\"-\",TEXT('4. Shpenzimet e partisë'!$Q101,\"dd/mm/yyyy\")),\"\")","v":""}]
[{"$f":"IF(B102=\"\",\"\",MAX(A$22:A101)+1)","v":""},{"$f":"IF($C102=Reference!$J$3,CONCATENATE('4. Shpenzimet e partisë'!$O102,\"-\",'4. Shpenzimet e partisë'!$P102,\"-\",TEXT('4. Shpenzimet e partisë'!$Q102,\"dd/mm/yyyy\")),\"\")","v":""}]
[{"$f":"IF(B103=\"\",\"\",MAX(A$22:A102)+1)","v":""},{"$f":"IF($C103=Reference!$J$3,CONCATENATE('4. Shpenzimet e partisë'!$O103,\"-\",'4. Shpenzimet e partisë'!$P103,\"-\",TEXT('4. Shpenzimet e partisë'!$Q103,\"dd/mm/yyyy\")),\"\")","v":""}]
[{"$f":"IF(B104=\"\",\"\",MAX(A$22:A103)+1)","v":""},{"$f":"IF($C104=Reference!$J$3,CONCATENATE('4. Shpenzimet e partisë'!$O104,\"-\",'4. Shpenzimet e partisë'!$P104,\"-\",TEXT('4. Shpenzimet e partisë'!$Q104,\"dd/mm/yyyy\")),\"\")","v":""}]
[{"$f":"IF(B105=\"\",\"\",MAX(A$22:A104)+1)","v":""},{"$f":"IF($C105=Reference!$J$3,CONCATENATE('4. Shpenzimet e partisë'!$O105,\"-\",'4. Shpenzimet e partisë'!$P105,\"-\",TEXT('4. Shpenzimet e partisë'!$Q105,\"dd/mm/yyyy\")),\"\")","v":""}]
[{"$f":"IF(B106=\"\",\"\",MAX(A$22:A105)+1)","v":""},{"$f":"IF($C106=Reference!$J$3,CONCATENATE('4. Shpenzimet e partisë'!$O106,\"-\",'4. Shpenzimet e partisë'!$P106,\"-\",TEXT('4. Shpenzimet e partisë'!$Q106,\"dd/mm/yyyy\")),\"\")","v":""}]
[{"$f":"IF(B107=\"\",\"\",MAX(A$22:A106)+1)","v":""},{"$f":"IF($C107=Reference!$J$3,CONCATENATE('4. Shpenzimet e partisë'!$O107,\"-\",'4. Shpenzimet e partisë'!$P107,\"-\",TEXT('4. Shpenzimet e partisë'!$Q107,\"dd/mm/yyyy\")),\"\")","v":""}]
[{"$f":"IF(B108=\"\",\"\",MAX(A$22:A107)+1)","v":""},{"$f":"IF($C108=Reference!$J$3,CONCATENATE('4. Shpenzimet e partisë'!$O108,\"-\",'4. Shpenzimet e partisë'!$P108,\"-\",TEXT('4. Shpenzimet e partisë'!$Q108,\"dd/mm/yyyy\")),\"\")","v":""}]
[{"$f":"IF(B109=\"\",\"\",MAX(A$22:A108)+1)","v":""},{"$f":"IF($C109=Reference!$J$3,CONCATENATE('4. Shpenzimet e partisë'!$O109,\"-\",'4. Shpenzimet e partisë'!$P109,\"-\",TEXT('4. Shpenzimet e partisë'!$Q109,\"dd/mm/yyyy\")),\"\")","v":""}]
[{"$f":"IF(B110=\"\",\"\",MAX(A$22:A109)+1)","v":""},{"$f":"IF($C110=Reference!$J$3,CONCATENATE('4. Shpenzimet e partisë'!$O110,\"-\",'4. Shpenzimet e partisë'!$P110,\"-\",TEXT('4. Shpenzimet e partisë'!$Q110,\"dd/mm/yyyy\")),\"\")","v":""}]
[{"$f":"IF(B111=\"\",\"\",MAX(A$22:A110)+1)","v":""},{"$f":"IF($C111=Reference!$J$3,CONCATENATE('4. Shpenzimet e partisë'!$O111,\"-\",'4. Shpenzimet e partisë'!$P111,\"-\",TEXT('4. Shpenzimet e partisë'!$Q111,\"dd/mm/yyyy\")),\"\")","v":""}]
[{"$f":"IF(B112=\"\",\"\",MAX(A$22:A111)+1)","v":""},{"$f":"IF($C112=Reference!$J$3,CONCATENATE('4. Shpenzimet e partisë'!$O112,\"-\",'4. Shpenzimet e partisë'!$P112,\"-\",TEXT('4. Shpenzimet e partisë'!$Q112,\"dd/mm/yyyy\")),\"\")","v":""}]
[{"$f":"IF(B113=\"\",\"\",MAX(A$22:A112)+1)","v":""},{"$f":"IF($C113=Reference!$J$3,CONCATENATE('4. Shpenzimet e partisë'!$O113,\"-\",'4. Shpenzimet e partisë'!$P113,\"-\",TEXT('4. Shpenzimet e partisë'!$Q113,\"dd/mm/yyyy\")),\"\")","v":""}]
[{"$f":"IF(B114=\"\",\"\",MAX(A$22:A113)+1)","v":""},{"$f":"IF($C114=Reference!$J$3,CONCATENATE('4. Shpenzimet e partisë'!$O114,\"-\",'4. Shpenzimet e partisë'!$P114,\"-\",TEXT('4. Shpenzimet e partisë'!$Q114,\"dd/mm/yyyy\")),\"\")","v":""}]
[{"$f":"IF(B115=\"\",\"\",MAX(A$22:A114)+1)","v":""},{"$f":"IF($C115=Reference!$J$3,CONCATENATE('4. Shpenzimet e partisë'!$O115,\"-\",'4. Shpenzimet e partisë'!$P115,\"-\",TEXT('4. Shpenzimet e partisë'!$Q115,\"dd/mm/yyyy\")),\"\")","v":""}]
[{"$f":"IF(B116=\"\",\"\",MAX(A$22:A115)+1)","v":""},{"$f":"IF($C116=Reference!$J$3,CONCATENATE('4. Shpenzimet e partisë'!$O116,\"-\",'4. Shpenzimet e partisë'!$P116,\"-\",TEXT('4. Shpenzimet e partisë'!$Q116,\"dd/mm/yyyy\")),\"\")","v":""}]
[{"$f":"IF(B117=\"\",\"\",MAX(A$22:A116)+1)","v":""},{"$f":"IF($C117=Reference!$J$3,CONCATENATE('4. Shpenzimet e partisë'!$O117,\"-\",'4. Shpenzimet e partisë'!$P117,\"-\",TEXT('4. Shpenzimet e partisë'!$Q117,\"dd/mm/yyyy\")),\"\")","v":""}]
[{"$f":"IF(B118=\"\",\"\",MAX(A$22:A117)+1)","v":""},{"$f":"IF($C118=Reference!$J$3,CONCATENATE('4. Shpenzimet e partisë'!$O118,\"-\",'4. Shpenzimet e partisë'!$P118,\"-\",TEXT('4. Shpenzimet e partisë'!$Q118,\"dd/mm/yyyy\")),\"\")","v":""}]
[{"$f":"IF(B119=\"\",\"\",MAX(A$22:A118)+1)","v":""},{"$f":"IF($C119=Reference!$J$3,CONCATENATE('4. Shpenzimet e partisë'!$O119,\"-\",'4. Shpenzimet e partisë'!$P119,\"-\",TEXT('4. Shpenzimet e partisë'!$Q119,\"dd/mm/yyyy\")),\"\")","v":""}]
[{"$f":"IF(B120=\"\",\"\",MAX(A$22:A119)+1)","v":""},{"$f":"IF($C120=Reference!$J$3,CONCATENATE('4. Shpenzimet e partisë'!$O120,\"-\",'4. Shpenzimet e partisë'!$P120,\"-\",TEXT('4. Shpenzimet e partisë'!$Q120,\"dd/mm/yyyy\")),\"\")","v":""}]
[{"$f":"IF(B121=\"\",\"\",MAX(A$22:A120)+1)","v":""},{"$f":"IF($C121=Reference!$J$3,CONCATENATE('4. Shpenzimet e partisë'!$O121,\"-\",'4. Shpenzimet e partisë'!$P121,\"-\",TEXT('4. Shpenzimet e partisë'!$Q121,\"dd/mm/yyyy\")),\"\")","v":""}]
[{"$f":"IF(B122=\"\",\"\",MAX(A$22:A121)+1)","v":""},{"$f":"IF($C122=Reference!$J$3,CONCATENATE('4. Shpenzimet e partisë'!$O122,\"-\",'4. Shpenzimet e partisë'!$P122,\"-\",TEXT('4. Shpenzimet e partisë'!$Q122,\"dd/mm/yyyy\")),\"\")","v":""}]
[{"$f":"IF(B123=\"\",\"\",MAX(A$22:A122)+1)","v":""},{"$f":"IF($C123=Reference!$J$3,CONCATENATE('4. Shpenzimet e partisë'!$O123,\"-\",'4. Shpenzimet e partisë'!$P123,\"-\",TEXT('4. Shpenzimet e partisë'!$Q123,\"dd/mm/yyyy\")),\"\")","v":""}]
[{"$f":"IF(B124=\"\",\"\",MAX(A$22:A123)+1)","v":""},{"$f":"IF($C124=Reference!$J$3,CONCATENATE('4. Shpenzimet e partisë'!$O124,\"-\",'4. Shpenzimet e partisë'!$P124,\"-\",TEXT('4. Shpenzimet e partisë'!$Q124,\"dd/mm/yyyy\")),\"\")","v":""}]
[{"$f":"IF(B125=\"\",\"\",MAX(A$22:A124)+1)","v":""},{"$f":"IF($C125=Reference!$J$3,CONCATENATE('4. Shpenzimet e partisë'!$O125,\"-\",'4. Shpenzimet e partisë'!$P125,\"-\",TEXT('4. Shpenzimet e partisë'!$Q125,\"dd/mm/yyyy\")),\"\")","v":""}]
[{"$f":"IF(B126=\"\",\"\",MAX(A$22:A125)+1)","v":""},{"$f":"IF($C126=Reference!$J$3,CONCATENATE('4. Shpenzimet e partisë'!$O126,\"-\",'4. Shpenzimet e partisë'!$P126,\"-\",TEXT('4. Shpenzimet e partisë'!$Q126,\"dd/mm/yyyy\")),\"\")","v":""}]
[{"$f":"IF(B127=\"\",\"\",MAX(A$22:A126)+1)","v":""},{"$f":"IF($C127=Reference!$J$3,CONCATENATE('4. Shpenzimet e partisë'!$O127,\"-\",'4. Shpenzimet e partisë'!$P127,\"-\",TEXT('4. Shpenzimet e partisë'!$Q127,\"dd/mm/yyyy\")),\"\")","v":""}]
[{"$f":"IF(B128=\"\",\"\",MAX(A$22:A127)+1)","v":""},{"$f":"IF($C128=Reference!$J$3,CONCATENATE('4. Shpenzimet e partisë'!$O128,\"-\",'4. Shpenzimet e partisë'!$P128,\"-\",TEXT('4. Shpenzimet e partisë'!$Q128,\"dd/mm/yyyy\")),\"\")","v":""}]
[{"$f":"IF(B129=\"\",\"\",MAX(A$22:A128)+1)","v":""},{"$f":"IF($C129=Reference!$J$3,CONCATENATE('4. Shpenzimet e partisë'!$O129,\"-\",'4. Shpenzimet e partisë'!$P129,\"-\",TEXT('4. Shpenzimet e partisë'!$Q129,\"dd/mm/yyyy\")),\"\")","v":""}]
[{"$f":"IF(B130=\"\",\"\",MAX(A$22:A129)+1)","v":""},{"$f":"IF($C130=Reference!$J$3,CONCATENATE('4. Shpenzimet e partisë'!$O130,\"-\",'4. Shpenzimet e partisë'!$P130,\"-\",TEXT('4. Shpenzimet e partisë'!$Q130,\"dd/mm/yyyy\")),\"\")","v":""}]
[{"$f":"IF(B131=\"\",\"\",MAX(A$22:A130)+1)","v":""},{"$f":"IF($C131=Reference!$J$3,CONCATENATE('4. Shpenzimet e partisë'!$O131,\"-\",'4. Shpenzimet e partisë'!$P131,\"-\",TEXT('4. Shpenzimet e partisë'!$Q131,\"dd/mm/yyyy\")),\"\")","v":""}]
[{"$f":"IF(B132=\"\",\"\",MAX(A$22:A131)+1)","v":""},{"$f":"IF($C132=Reference!$J$3,CONCATENATE('4. Shpenzimet e partisë'!$O132,\"-\",'4. Shpenzimet e partisë'!$P132,\"-\",TEXT('4. Shpenzimet e partisë'!$Q132,\"dd/mm/yyyy\")),\"\")","v":""}]
[{"$f":"IF(B133=\"\",\"\",MAX(A$22:A132)+1)","v":""},{"$f":"IF($C133=Reference!$J$3,CONCATENATE('4. Shpenzimet e partisë'!$O133,\"-\",'4. Shpenzimet e partisë'!$P133,\"-\",TEXT('4. Shpenzimet e partisë'!$Q133,\"dd/mm/yyyy\")),\"\")","v":""}]
[{"$f":"IF(B134=\"\",\"\",MAX(A$22:A133)+1)","v":""},{"$f":"IF($C134=Reference!$J$3,CONCATENATE('4. Shpenzimet e partisë'!$O134,\"-\",'4. Shpenzimet e partisë'!$P134,\"-\",TEXT('4. Shpenzimet e partisë'!$Q134,\"dd/mm/yyyy\")),\"\")","v":""}]
[{"$f":"IF(B135=\"\",\"\",MAX(A$22:A134)+1)","v":""},{"$f":"IF($C135=Reference!$J$3,CONCATENATE('4. Shpenzimet e partisë'!$O135,\"-\",'4. Shpenzimet e partisë'!$P135,\"-\",TEXT('4. Shpenzimet e partisë'!$Q135,\"dd/mm/yyyy\")),\"\")","v":""}]
[{"$f":"IF(B136=\"\",\"\",MAX(A$22:A135)+1)","v":""},{"$f":"IF($C136=Reference!$J$3,CONCATENATE('4. Shpenzimet e partisë'!$O136,\"-\",'4. Shpenzimet e partisë'!$P136,\"-\",TEXT('4. Shpenzimet e partisë'!$Q136,\"dd/mm/yyyy\")),\"\")","v":""}]
[{"$f":"IF(B137=\"\",\"\",MAX(A$22:A136)+1)","v":""},{"$f":"IF($C137=Reference!$J$3,CONCATENATE('4. Shpenzimet e partisë'!$O137,\"-\",'4. Shpenzimet e partisë'!$P137,\"-\",TEXT('4. Shpenzimet e partisë'!$Q137,\"dd/mm/yyyy\")),\"\")","v":""}]
[{"$f":"IF(B138=\"\",\"\",MAX(A$22:A137)+1)","v":""},{"$f":"IF($C138=Reference!$J$3,CONCATENATE('4. Shpenzimet e partisë'!$O138,\"-\",'4. Shpenzimet e partisë'!$P138,\"-\",TEXT('4. Shpenzimet e partisë'!$Q138,\"dd/mm/yyyy\")),\"\")","v":""}]
[{"$f":"IF(B139=\"\",\"\",MAX(A$22:A138)+1)","v":""},{"$f":"IF($C139=Reference!$J$3,CONCATENATE('4. Shpenzimet e partisë'!$O139,\"-\",'4. Shpenzimet e partisë'!$P139,\"-\",TEXT('4. Shpenzimet e partisë'!$Q139,\"dd/mm/yyyy\")),\"\")","v":""}]
[{"$f":"IF(B140=\"\",\"\",MAX(A$22:A139)+1)","v":""},{"$f":"IF($C140=Reference!$J$3,CONCATENATE('4. Shpenzimet e partisë'!$O140,\"-\",'4. Shpenzimet e partisë'!$P140,\"-\",TEXT('4. Shpenzimet e partisë'!$Q140,\"dd/mm/yyyy\")),\"\")","v":""}]
[{"$f":"IF(B141=\"\",\"\",MAX(A$22:A140)+1)","v":""},{"$f":"IF($C141=Reference!$J$3,CONCATENATE('4. Shpenzimet e partisë'!$O141,\"-\",'4. Shpenzimet e partisë'!$P141,\"-\",TEXT('4. Shpenzimet e partisë'!$Q141,\"dd/mm/yyyy\")),\"\")","v":""}]
[{"$f":"IF(B142=\"\",\"\",MAX(A$22:A141)+1)","v":""},{"$f":"IF($C142=Reference!$J$3,CONCATENATE('4. Shpenzimet e partisë'!$O142,\"-\",'4. Shpenzimet e partisë'!$P142,\"-\",TEXT('4. Shpenzimet e partisë'!$Q142,\"dd/mm/yyyy\")),\"\")","v":""}]
[{"$f":"IF(B143=\"\",\"\",MAX(A$22:A142)+1)","v":""},{"$f":"IF($C143=Reference!$J$3,CONCATENATE('4. Shpenzimet e partisë'!$O143,\"-\",'4. Shpenzimet e partisë'!$P143,\"-\",TEXT('4. Shpenzimet e partisë'!$Q143,\"dd/mm/yyyy\")),\"\")","v":""}]
[{"$f":"IF(B144=\"\",\"\",MAX(A$22:A143)+1)","v":""},{"$f":"IF($C144=Reference!$J$3,CONCATENATE('4. Shpenzimet e partisë'!$O144,\"-\",'4. Shpenzimet e partisë'!$P144,\"-\",TEXT('4. Shpenzimet e partisë'!$Q144,\"dd/mm/yyyy\")),\"\")","v":""}]
[{"$f":"IF(B145=\"\",\"\",MAX(A$22:A144)+1)","v":""},{"$f":"IF($C145=Reference!$J$3,CONCATENATE('4. Shpenzimet e partisë'!$O145,\"-\",'4. Shpenzimet e partisë'!$P145,\"-\",TEXT('4. Shpenzimet e partisë'!$Q145,\"dd/mm/yyyy\")),\"\")","v":""}]
[{"$f":"IF(B146=\"\",\"\",MAX(A$22:A145)+1)","v":""},{"$f":"IF($C146=Reference!$J$3,CONCATENATE('4. Shpenzimet e partisë'!$O146,\"-\",'4. Shpenzimet e partisë'!$P146,\"-\",TEXT('4. Shpenzimet e partisë'!$Q146,\"dd/mm/yyyy\")),\"\")","v":""}]
[{"$f":"IF(B147=\"\",\"\",MAX(A$22:A146)+1)","v":""},{"$f":"IF($C147=Reference!$J$3,CONCATENATE('4. Shpenzimet e partisë'!$O147,\"-\",'4. Shpenzimet e partisë'!$P147,\"-\",TEXT('4. Shpenzimet e partisë'!$Q147,\"dd/mm/yyyy\")),\"\")","v":""}]
[{"$f":"IF(B148=\"\",\"\",MAX(A$22:A147)+1)","v":""},{"$f":"IF($C148=Reference!$J$3,CONCATENATE('4. Shpenzimet e partisë'!$O148,\"-\",'4. Shpenzimet e partisë'!$P148,\"-\",TEXT('4. Shpenzimet e partisë'!$Q148,\"dd/mm/yyyy\")),\"\")","v":""}]
[{"$f":"IF(B149=\"\",\"\",MAX(A$22:A148)+1)","v":""},{"$f":"IF($C149=Reference!$J$3,CONCATENATE('4. Shpenzimet e partisë'!$O149,\"-\",'4. Shpenzimet e partisë'!$P149,\"-\",TEXT('4. Shpenzimet e partisë'!$Q149,\"dd/mm/yyyy\")),\"\")","v":""}]
[{"$f":"IF(B150=\"\",\"\",MAX(A$22:A149)+1)","v":""},{"$f":"IF($C150=Reference!$J$3,CONCATENATE('4. Shpenzimet e partisë'!$O150,\"-\",'4. Shpenzimet e partisë'!$P150,\"-\",TEXT('4. Shpenzimet e partisë'!$Q150,\"dd/mm/yyyy\")),\"\")","v":""}]
[{"$f":"IF(B151=\"\",\"\",MAX(A$22:A150)+1)","v":""},{"$f":"IF($C151=Reference!$J$3,CONCATENATE('4. Shpenzimet e partisë'!$O151,\"-\",'4. Shpenzimet e partisë'!$P151,\"-\",TEXT('4. Shpenzimet e partisë'!$Q151,\"dd/mm/yyyy\")),\"\")","v":""}]
[{"$f":"IF(B152=\"\",\"\",MAX(A$22:A151)+1)","v":""},{"$f":"IF($C152=Reference!$J$3,CONCATENATE('4. Shpenzimet e partisë'!$O152,\"-\",'4. Shpenzimet e partisë'!$P152,\"-\",TEXT('4. Shpenzimet e partisë'!$Q152,\"dd/mm/yyyy\")),\"\")","v":""}]
[{"$f":"IF(B153=\"\",\"\",MAX(A$22:A152)+1)","v":""},{"$f":"IF($C153=Reference!$J$3,CONCATENATE('4. Shpenzimet e partisë'!$O153,\"-\",'4. Shpenzimet e partisë'!$P153,\"-\",TEXT('4. Shpenzimet e partisë'!$Q153,\"dd/mm/yyyy\")),\"\")","v":""}]
[{"$f":"IF(B154=\"\",\"\",MAX(A$22:A153)+1)","v":""},{"$f":"IF($C154=Reference!$J$3,CONCATENATE('4. Shpenzimet e partisë'!$O154,\"-\",'4. Shpenzimet e partisë'!$P154,\"-\",TEXT('4. Shpenzimet e partisë'!$Q154,\"dd/mm/yyyy\")),\"\")","v":""}]
[{"$f":"IF(B155=\"\",\"\",MAX(A$22:A154)+1)","v":""},{"$f":"IF($C155=Reference!$J$3,CONCATENATE('4. Shpenzimet e partisë'!$O155,\"-\",'4. Shpenzimet e partisë'!$P155,\"-\",TEXT('4. Shpenzimet e partisë'!$Q155,\"dd/mm/yyyy\")),\"\")","v":""}]
[{"$f":"IF(B156=\"\",\"\",MAX(A$22:A155)+1)","v":""},{"$f":"IF($C156=Reference!$J$3,CONCATENATE('4. Shpenzimet e partisë'!$O156,\"-\",'4. Shpenzimet e partisë'!$P156,\"-\",TEXT('4. Shpenzimet e partisë'!$Q156,\"dd/mm/yyyy\")),\"\")","v":""}]
[{"$f":"IF(B157=\"\",\"\",MAX(A$22:A156)+1)","v":""},{"$f":"IF($C157=Reference!$J$3,CONCATENATE('4. Shpenzimet e partisë'!$O157,\"-\",'4. Shpenzimet e partisë'!$P157,\"-\",TEXT('4. Shpenzimet e partisë'!$Q157,\"dd/mm/yyyy\")),\"\")","v":""}]
[{"$f":"IF(B158=\"\",\"\",MAX(A$22:A157)+1)","v":""},{"$f":"IF($C158=Reference!$J$3,CONCATENATE('4. Shpenzimet e partisë'!$O158,\"-\",'4. Shpenzimet e partisë'!$P158,\"-\",TEXT('4. Shpenzimet e partisë'!$Q158,\"dd/mm/yyyy\")),\"\")","v":""}]
[{"$f":"IF(B159=\"\",\"\",MAX(A$22:A158)+1)","v":""},{"$f":"IF($C159=Reference!$J$3,CONCATENATE('4. Shpenzimet e partisë'!$O159,\"-\",'4. Shpenzimet e partisë'!$P159,\"-\",TEXT('4. Shpenzimet e partisë'!$Q159,\"dd/mm/yyyy\")),\"\")","v":""}]
[{"$f":"IF(B160=\"\",\"\",MAX(A$22:A159)+1)","v":""},{"$f":"IF($C160=Reference!$J$3,CONCATENATE('4. Shpenzimet e partisë'!$O160,\"-\",'4. Shpenzimet e partisë'!$P160,\"-\",TEXT('4. Shpenzimet e partisë'!$Q160,\"dd/mm/yyyy\")),\"\")","v":""}]
[{"$f":"IF(B161=\"\",\"\",MAX(A$22:A160)+1)","v":""},{"$f":"IF($C161=Reference!$J$3,CONCATENATE('4. Shpenzimet e partisë'!$O161,\"-\",'4. Shpenzimet e partisë'!$P161,\"-\",TEXT('4. Shpenzimet e partisë'!$Q161,\"dd/mm/yyyy\")),\"\")","v":""}]
[{"$f":"IF(B162=\"\",\"\",MAX(A$22:A161)+1)","v":""},{"$f":"IF($C162=Reference!$J$3,CONCATENATE('4. Shpenzimet e partisë'!$O162,\"-\",'4. Shpenzimet e partisë'!$P162,\"-\",TEXT('4. Shpenzimet e partisë'!$Q162,\"dd/mm/yyyy\")),\"\")","v":""}]
[{"$f":"IF(B163=\"\",\"\",MAX(A$22:A162)+1)","v":""},{"$f":"IF($C163=Reference!$J$3,CONCATENATE('4. Shpenzimet e partisë'!$O163,\"-\",'4. Shpenzimet e partisë'!$P163,\"-\",TEXT('4. Shpenzimet e partisë'!$Q163,\"dd/mm/yyyy\")),\"\")","v":""}]
[{"$f":"IF(B164=\"\",\"\",MAX(A$22:A163)+1)","v":""},{"$f":"IF($C164=Reference!$J$3,CONCATENATE('4. Shpenzimet e partisë'!$O164,\"-\",'4. Shpenzimet e partisë'!$P164,\"-\",TEXT('4. Shpenzimet e partisë'!$Q164,\"dd/mm/yyyy\")),\"\")","v":""}]
[{"$f":"IF(B165=\"\",\"\",MAX(A$22:A164)+1)","v":""},{"$f":"IF($C165=Reference!$J$3,CONCATENATE('4. Shpenzimet e partisë'!$O165,\"-\",'4. Shpenzimet e partisë'!$P165,\"-\",TEXT('4. Shpenzimet e partisë'!$Q165,\"dd/mm/yyyy\")),\"\")","v":""}]
[{"$f":"IF(B166=\"\",\"\",MAX(A$22:A165)+1)","v":""},{"$f":"IF($C166=Reference!$J$3,CONCATENATE('4. Shpenzimet e partisë'!$O166,\"-\",'4. Shpenzimet e partisë'!$P166,\"-\",TEXT('4. Shpenzimet e partisë'!$Q166,\"dd/mm/yyyy\")),\"\")","v":""}]
[{"$f":"IF(B167=\"\",\"\",MAX(A$22:A166)+1)","v":""},{"$f":"IF($C167=Reference!$J$3,CONCATENATE('4. Shpenzimet e partisë'!$O167,\"-\",'4. Shpenzimet e partisë'!$P167,\"-\",TEXT('4. Shpenzimet e partisë'!$Q167,\"dd/mm/yyyy\")),\"\")","v":""}]
[{"$f":"IF(B168=\"\",\"\",MAX(A$22:A167)+1)","v":""},{"$f":"IF($C168=Reference!$J$3,CONCATENATE('4. Shpenzimet e partisë'!$O168,\"-\",'4. Shpenzimet e partisë'!$P168,\"-\",TEXT('4. Shpenzimet e partisë'!$Q168,\"dd/mm/yyyy\")),\"\")","v":""}]
[{"$f":"IF(B169=\"\",\"\",MAX(A$22:A168)+1)","v":""},{"$f":"IF($C169=Reference!$J$3,CONCATENATE('4. Shpenzimet e partisë'!$O169,\"-\",'4. Shpenzimet e partisë'!$P169,\"-\",TEXT('4. Shpenzimet e partisë'!$Q169,\"dd/mm/yyyy\")),\"\")","v":""}]
[{"$f":"IF(B170=\"\",\"\",MAX(A$22:A169)+1)","v":""},{"$f":"IF($C170=Reference!$J$3,CONCATENATE('4. Shpenzimet e partisë'!$O170,\"-\",'4. Shpenzimet e partisë'!$P170,\"-\",TEXT('4. Shpenzimet e partisë'!$Q170,\"dd/mm/yyyy\")),\"\")","v":""}]
[{"$f":"IF(B171=\"\",\"\",MAX(A$22:A170)+1)","v":""},{"$f":"IF($C171=Reference!$J$3,CONCATENATE('4. Shpenzimet e partisë'!$O171,\"-\",'4. Shpenzimet e partisë'!$P171,\"-\",TEXT('4. Shpenzimet e partisë'!$Q171,\"dd/mm/yyyy\")),\"\")","v":""}]
[{"$f":"IF(B172=\"\",\"\",MAX(A$22:A171)+1)","v":""},{"$f":"IF($C172=Reference!$J$3,CONCATENATE('4. Shpenzimet e partisë'!$O172,\"-\",'4. Shpenzimet e partisë'!$P172,\"-\",TEXT('4. Shpenzimet e partisë'!$Q172,\"dd/mm/yyyy\")),\"\")","v":""}]
[{"$f":"IF(B173=\"\",\"\",MAX(A$22:A172)+1)","v":""},{"$f":"IF($C173=Reference!$J$3,CONCATENATE('4. Shpenzimet e partisë'!$O173,\"-\",'4. Shpenzimet e partisë'!$P173,\"-\",TEXT('4. Shpenzimet e partisë'!$Q173,\"dd/mm/yyyy\")),\"\")","v":""}]
[{"$f":"IF(B174=\"\",\"\",MAX(A$22:A173)+1)","v":""},{"$f":"IF($C174=Reference!$J$3,CONCATENATE('4. Shpenzimet e partisë'!$O174,\"-\",'4. Shpenzimet e partisë'!$P174,\"-\",TEXT('4. Shpenzimet e partisë'!$Q174,\"dd/mm/yyyy\")),\"\")","v":""}]
[{"$f":"IF(B175=\"\",\"\",MAX(A$22:A174)+1)","v":""},{"$f":"IF($C175=Reference!$J$3,CONCATENATE('4. Shpenzimet e partisë'!$O175,\"-\",'4. Shpenzimet e partisë'!$P175,\"-\",TEXT('4. Shpenzimet e partisë'!$Q175,\"dd/mm/yyyy\")),\"\")","v":""}]
[{"$f":"IF(B176=\"\",\"\",MAX(A$22:A175)+1)","v":""},{"$f":"IF($C176=Reference!$J$3,CONCATENATE('4. Shpenzimet e partisë'!$O176,\"-\",'4. Shpenzimet e partisë'!$P176,\"-\",TEXT('4. Shpenzimet e partisë'!$Q176,\"dd/mm/yyyy\")),\"\")","v":""}]
[{"$f":"IF(B177=\"\",\"\",MAX(A$22:A176)+1)","v":""},{"$f":"IF($C177=Reference!$J$3,CONCATENATE('4. Shpenzimet e partisë'!$O177,\"-\",'4. Shpenzimet e partisë'!$P177,\"-\",TEXT('4. Shpenzimet e partisë'!$Q177,\"dd/mm/yyyy\")),\"\")","v":""}]
[{"$f":"IF(B178=\"\",\"\",MAX(A$22:A177)+1)","v":""},{"$f":"IF($C178=Reference!$J$3,CONCATENATE('4. Shpenzimet e partisë'!$O178,\"-\",'4. Shpenzimet e partisë'!$P178,\"-\",TEXT('4. Shpenzimet e partisë'!$Q178,\"dd/mm/yyyy\")),\"\")","v":""}]
[{"$f":"IF(B179=\"\",\"\",MAX(A$22:A178)+1)","v":""},{"$f":"IF($C179=Reference!$J$3,CONCATENATE('4. Shpenzimet e partisë'!$O179,\"-\",'4. Shpenzimet e partisë'!$P179,\"-\",TEXT('4. Shpenzimet e partisë'!$Q179,\"dd/mm/yyyy\")),\"\")","v":""}]
[{"$f":"IF(B180=\"\",\"\",MAX(A$22:A179)+1)","v":""},{"$f":"IF($C180=Reference!$J$3,CONCATENATE('4. Shpenzimet e partisë'!$O180,\"-\",'4. Shpenzimet e partisë'!$P180,\"-\",TEXT('4. Shpenzimet e partisë'!$Q180,\"dd/mm/yyyy\")),\"\")","v":""}]
[{"$f":"IF(B181=\"\",\"\",MAX(A$22:A180)+1)","v":""},{"$f":"IF($C181=Reference!$J$3,CONCATENATE('4. Shpenzimet e partisë'!$O181,\"-\",'4. Shpenzimet e partisë'!$P181,\"-\",TEXT('4. Shpenzimet e partisë'!$Q181,\"dd/mm/yyyy\")),\"\")","v":""}]
[{"$f":"IF(B182=\"\",\"\",MAX(A$22:A181)+1)","v":""},{"$f":"IF($C182=Reference!$J$3,CONCATENATE('4. Shpenzimet e partisë'!$O182,\"-\",'4. Shpenzimet e partisë'!$P182,\"-\",TEXT('4. Shpenzimet e partisë'!$Q182,\"dd/mm/yyyy\")),\"\")","v":""}]
[{"$f":"IF(B183=\"\",\"\",MAX(A$22:A182)+1)","v":""},{"$f":"IF($C183=Reference!$J$3,CONCATENATE('4. Shpenzimet e partisë'!$O183,\"-\",'4. Shpenzimet e partisë'!$P183,\"-\",TEXT('4. Shpenzimet e partisë'!$Q183,\"dd/mm/yyyy\")),\"\")","v":""}]
[{"$f":"IF(B184=\"\",\"\",MAX(A$22:A183)+1)","v":""},{"$f":"IF($C184=Reference!$J$3,CONCATENATE('4. Shpenzimet e partisë'!$O184,\"-\",'4. Shpenzimet e partisë'!$P184,\"-\",TEXT('4. Shpenzimet e partisë'!$Q184,\"dd/mm/yyyy\")),\"\")","v":""}]
[{"$f":"IF(B185=\"\",\"\",MAX(A$22:A184)+1)","v":""},{"$f":"IF($C185=Reference!$J$3,CONCATENATE('4. Shpenzimet e partisë'!$O185,\"-\",'4. Shpenzimet e partisë'!$P185,\"-\",TEXT('4. Shpenzimet e partisë'!$Q185,\"dd/mm/yyyy\")),\"\")","v":""}]
[{"$f":"IF(B186=\"\",\"\",MAX(A$22:A185)+1)","v":""},{"$f":"IF($C186=Reference!$J$3,CONCATENATE('4. Shpenzimet e partisë'!$O186,\"-\",'4. Shpenzimet e partisë'!$P186,\"-\",TEXT('4. Shpenzimet e partisë'!$Q186,\"dd/mm/yyyy\")),\"\")","v":""}]
[{"$f":"IF(B187=\"\",\"\",MAX(A$22:A186)+1)","v":""},{"$f":"IF($C187=Reference!$J$3,CONCATENATE('4. Shpenzimet e partisë'!$O187,\"-\",'4. Shpenzimet e partisë'!$P187,\"-\",TEXT('4. Shpenzimet e partisë'!$Q187,\"dd/mm/yyyy\")),\"\")","v":""}]
[{"$f":"IF(B188=\"\",\"\",MAX(A$22:A187)+1)","v":""},{"$f":"IF($C188=Reference!$J$3,CONCATENATE('4. Shpenzimet e partisë'!$O188,\"-\",'4. Shpenzimet e partisë'!$P188,\"-\",TEXT('4. Shpenzimet e partisë'!$Q188,\"dd/mm/yyyy\")),\"\")","v":""}]
[{"$f":"IF(B189=\"\",\"\",MAX(A$22:A188)+1)","v":""},{"$f":"IF($C189=Reference!$J$3,CONCATENATE('4. Shpenzimet e partisë'!$O189,\"-\",'4. Shpenzimet e partisë'!$P189,\"-\",TEXT('4. Shpenzimet e partisë'!$Q189,\"dd/mm/yyyy\")),\"\")","v":""}]
[{"$f":"IF(B190=\"\",\"\",MAX(A$22:A189)+1)","v":""},{"$f":"IF($C190=Reference!$J$3,CONCATENATE('4. Shpenzimet e partisë'!$O190,\"-\",'4. Shpenzimet e partisë'!$P190,\"-\",TEXT('4. Shpenzimet e partisë'!$Q190,\"dd/mm/yyyy\")),\"\")","v":""}]
[{"$f":"IF(B191=\"\",\"\",MAX(A$22:A190)+1)","v":""},{"$f":"IF($C191=Reference!$J$3,CONCATENATE('4. Shpenzimet e partisë'!$O191,\"-\",'4. Shpenzimet e partisë'!$P191,\"-\",TEXT('4. Shpenzimet e partisë'!$Q191,\"dd/mm/yyyy\")),\"\")","v":""}]
[{"$f":"IF(B192=\"\",\"\",MAX(A$22:A191)+1)","v":""},{"$f":"IF($C192=Reference!$J$3,CONCATENATE('4. Shpenzimet e partisë'!$O192,\"-\",'4. Shpenzimet e partisë'!$P192,\"-\",TEXT('4. Shpenzimet e partisë'!$Q192,\"dd/mm/yyyy\")),\"\")","v":""}]
[{"$f":"IF(B193=\"\",\"\",MAX(A$22:A192)+1)","v":""},{"$f":"IF($C193=Reference!$J$3,CONCATENATE('4. Shpenzimet e partisë'!$O193,\"-\",'4. Shpenzimet e partisë'!$P193,\"-\",TEXT('4. Shpenzimet e partisë'!$Q193,\"dd/mm/yyyy\")),\"\")","v":""}]
[{"$f":"IF(B194=\"\",\"\",MAX(A$22:A193)+1)","v":""},{"$f":"IF($C194=Reference!$J$3,CONCATENATE('4. Shpenzimet e partisë'!$O194,\"-\",'4. Shpenzimet e partisë'!$P194,\"-\",TEXT('4. Shpenzimet e partisë'!$Q194,\"dd/mm/yyyy\")),\"\")","v":""}]
[{"$f":"IF(B195=\"\",\"\",MAX(A$22:A194)+1)","v":""},{"$f":"IF($C195=Reference!$J$3,CONCATENATE('4. Shpenzimet e partisë'!$O195,\"-\",'4. Shpenzimet e partisë'!$P195,\"-\",TEXT('4. Shpenzimet e partisë'!$Q195,\"dd/mm/yyyy\")),\"\")","v":""}]
[{"$f":"IF(B196=\"\",\"\",MAX(A$22:A195)+1)","v":""},{"$f":"IF($C196=Reference!$J$3,CONCATENATE('4. Shpenzimet e partisë'!$O196,\"-\",'4. Shpenzimet e partisë'!$P196,\"-\",TEXT('4. Shpenzimet e partisë'!$Q196,\"dd/mm/yyyy\")),\"\")","v":""}]
[{"$f":"IF(B197=\"\",\"\",MAX(A$22:A196)+1)","v":""},{"$f":"IF($C197=Reference!$J$3,CONCATENATE('4. Shpenzimet e partisë'!$O197,\"-\",'4. Shpenzimet e partisë'!$P197,\"-\",TEXT('4. Shpenzimet e partisë'!$Q197,\"dd/mm/yyyy\")),\"\")","v":""}]
[{"$f":"IF(B198=\"\",\"\",MAX(A$22:A197)+1)","v":""},{"$f":"IF($C198=Reference!$J$3,CONCATENATE('4. Shpenzimet e partisë'!$O198,\"-\",'4. Shpenzimet e partisë'!$P198,\"-\",TEXT('4. Shpenzimet e partisë'!$Q198,\"dd/mm/yyyy\")),\"\")","v":""}]
[{"$f":"IF(B199=\"\",\"\",MAX(A$22:A198)+1)","v":""},{"$f":"IF($C199=Reference!$J$3,CONCATENATE('4. Shpenzimet e partisë'!$O199,\"-\",'4. Shpenzimet e partisë'!$P199,\"-\",TEXT('4. Shpenzimet e partisë'!$Q199,\"dd/mm/yyyy\")),\"\")","v":""}]
[{"$f":"IF(B200=\"\",\"\",MAX(A$22:A199)+1)","v":""},{"$f":"IF($C200=Reference!$J$3,CONCATENATE('4. Shpenzimet e partisë'!$O200,\"-\",'4. Shpenzimet e partisë'!$P200,\"-\",TEXT('4. Shpenzimet e partisë'!$Q200,\"dd/mm/yyyy\")),\"\")","v":""}]
[{"$f":"IF(B201=\"\",\"\",MAX(A$22:A200)+1)","v":""},{"$f":"IF($C201=Reference!$J$3,CONCATENATE('4. Shpenzimet e partisë'!$O201,\"-\",'4. Shpenzimet e partisë'!$P201,\"-\",TEXT('4. Shpenzimet e partisë'!$Q201,\"dd/mm/yyyy\")),\"\")","v":""}]
[{"$f":"IF(B202=\"\",\"\",MAX(A$22:A201)+1)","v":""},{"$f":"IF($C202=Reference!$J$3,CONCATENATE('4. Shpenzimet e partisë'!$O202,\"-\",'4. Shpenzimet e partisë'!$P202,\"-\",TEXT('4. Shpenzimet e partisë'!$Q202,\"dd/mm/yyyy\")),\"\")","v":""}]
[{"$f":"IF(B203=\"\",\"\",MAX(A$22:A202)+1)","v":""},{"$f":"IF($C203=Reference!$J$3,CONCATENATE('4. Shpenzimet e partisë'!$O203,\"-\",'4. Shpenzimet e partisë'!$P203,\"-\",TEXT('4. Shpenzimet e partisë'!$Q203,\"dd/mm/yyyy\")),\"\")","v":""}]
[{"$f":"IF(B204=\"\",\"\",MAX(A$22:A203)+1)","v":""},{"$f":"IF($C204=Reference!$J$3,CONCATENATE('4. Shpenzimet e partisë'!$O204,\"-\",'4. Shpenzimet e partisë'!$P204,\"-\",TEXT('4. Shpenzimet e partisë'!$Q204,\"dd/mm/yyyy\")),\"\")","v":""}]
[{"$f":"IF(B205=\"\",\"\",MAX(A$22:A204)+1)","v":""},{"$f":"IF($C205=Reference!$J$3,CONCATENATE('4. Shpenzimet e partisë'!$O205,\"-\",'4. Shpenzimet e partisë'!$P205,\"-\",TEXT('4. Shpenzimet e partisë'!$Q205,\"dd/mm/yyyy\")),\"\")","v":""}]
[{"$f":"IF(B206=\"\",\"\",MAX(A$22:A205)+1)","v":""},{"$f":"IF($C206=Reference!$J$3,CONCATENATE('4. Shpenzimet e partisë'!$O206,\"-\",'4. Shpenzimet e partisë'!$P206,\"-\",TEXT('4. Shpenzimet e partisë'!$Q206,\"dd/mm/yyyy\")),\"\")","v":""}]
[{"$f":"IF(B207=\"\",\"\",MAX(A$22:A206)+1)","v":""},{"$f":"IF($C207=Reference!$J$3,CONCATENATE('4. Shpenzimet e partisë'!$O207,\"-\",'4. Shpenzimet e partisë'!$P207,\"-\",TEXT('4. Shpenzimet e partisë'!$Q207,\"dd/mm/yyyy\")),\"\")","v":""}]
[{"$f":"IF(B208=\"\",\"\",MAX(A$22:A207)+1)","v":""},{"$f":"IF($C208=Reference!$J$3,CONCATENATE('4. Shpenzimet e partisë'!$O208,\"-\",'4. Shpenzimet e partisë'!$P208,\"-\",TEXT('4. Shpenzimet e partisë'!$Q208,\"dd/mm/yyyy\")),\"\")","v":""}]
[{"$f":"IF(B209=\"\",\"\",MAX(A$22:A208)+1)","v":""},{"$f":"IF($C209=Reference!$J$3,CONCATENATE('4. Shpenzimet e partisë'!$O209,\"-\",'4. Shpenzimet e partisë'!$P209,\"-\",TEXT('4. Shpenzimet e partisë'!$Q209,\"dd/mm/yyyy\")),\"\")","v":""}]
[{"$f":"IF(B210=\"\",\"\",MAX(A$22:A209)+1)","v":""},{"$f":"IF($C210=Reference!$J$3,CONCATENATE('4. Shpenzimet e partisë'!$O210,\"-\",'4. Shpenzimet e partisë'!$P210,\"-\",TEXT('4. Shpenzimet e partisë'!$Q210,\"dd/mm/yyyy\")),\"\")","v":""}]
[{"$f":"IF(B211=\"\",\"\",MAX(A$22:A210)+1)","v":""},{"$f":"IF($C211=Reference!$J$3,CONCATENATE('4. Shpenzimet e partisë'!$O211,\"-\",'4. Shpenzimet e partisë'!$P211,\"-\",TEXT('4. Shpenzimet e partisë'!$Q211,\"dd/mm/yyyy\")),\"\")","v":""}]
[{"$f":"IF(B212=\"\",\"\",MAX(A$22:A211)+1)","v":""},{"$f":"IF($C212=Reference!$J$3,CONCATENATE('4. Shpenzimet e partisë'!$O212,\"-\",'4. Shpenzimet e partisë'!$P212,\"-\",TEXT('4. Shpenzimet e partisë'!$Q212,\"dd/mm/yyyy\")),\"\")","v":""}]
[{"$f":"IF(B213=\"\",\"\",MAX(A$22:A212)+1)","v":""},{"$f":"IF($C213=Reference!$J$3,CONCATENATE('4. Shpenzimet e partisë'!$O213,\"-\",'4. Shpenzimet e partisë'!$P213,\"-\",TEXT('4. Shpenzimet e partisë'!$Q213,\"dd/mm/yyyy\")),\"\")","v":""}]
[{"$f":"IF(B214=\"\",\"\",MAX(A$22:A213)+1)","v":""},{"$f":"IF($C214=Reference!$J$3,CONCATENATE('4. Shpenzimet e partisë'!$O214,\"-\",'4. Shpenzimet e partisë'!$P214,\"-\",TEXT('4. Shpenzimet e partisë'!$Q214,\"dd/mm/yyyy\")),\"\")","v":""}]
[{"$f":"IF(B215=\"\",\"\",MAX(A$22:A214)+1)","v":""},{"$f":"IF($C215=Reference!$J$3,CONCATENATE('4. Shpenzimet e partisë'!$O215,\"-\",'4. Shpenzimet e partisë'!$P215,\"-\",TEXT('4. Shpenzimet e partisë'!$Q215,\"dd/mm/yyyy\")),\"\")","v":""}]
[{"$f":"IF(B216=\"\",\"\",MAX(A$22:A215)+1)","v":""},{"$f":"IF($C216=Reference!$J$3,CONCATENATE('4. Shpenzimet e partisë'!$O216,\"-\",'4. Shpenzimet e partisë'!$P216,\"-\",TEXT('4. Shpenzimet e partisë'!$Q216,\"dd/mm/yyyy\")),\"\")","v":""}]
[{"$f":"IF(B217=\"\",\"\",MAX(A$22:A216)+1)","v":""},{"$f":"IF($C217=Reference!$J$3,CONCATENATE('4. Shpenzimet e partisë'!$O217,\"-\",'4. Shpenzimet e partisë'!$P217,\"-\",TEXT('4. Shpenzimet e partisë'!$Q217,\"dd/mm/yyyy\")),\"\")","v":""}]
[{"$f":"IF(B218=\"\",\"\",MAX(A$22:A217)+1)","v":""},{"$f":"IF($C218=Reference!$J$3,CONCATENATE('4. Shpenzimet e partisë'!$O218,\"-\",'4. Shpenzimet e partisë'!$P218,\"-\",TEXT('4. Shpenzimet e partisë'!$Q218,\"dd/mm/yyyy\")),\"\")","v":""}]
[{"$f":"IF(B219=\"\",\"\",MAX(A$22:A218)+1)","v":""},{"$f":"IF($C219=Reference!$J$3,CONCATENATE('4. Shpenzimet e partisë'!$O219,\"-\",'4. Shpenzimet e partisë'!$P219,\"-\",TEXT('4. Shpenzimet e partisë'!$Q219,\"dd/mm/yyyy\")),\"\")","v":""}]
[{"$f":"IF(B220=\"\",\"\",MAX(A$22:A219)+1)","v":""},{"$f":"IF($C220=Reference!$J$3,CONCATENATE('4. Shpenzimet e partisë'!$O220,\"-\",'4. Shpenzimet e partisë'!$P220,\"-\",TEXT('4. Shpenzimet e partisë'!$Q220,\"dd/mm/yyyy\")),\"\")","v":""}]
[{"$f":"IF(B221=\"\",\"\",MAX(A$22:A220)+1)","v":""},{"$f":"IF($C221=Reference!$J$3,CONCATENATE('4. Shpenzimet e partisë'!$O221,\"-\",'4. Shpenzimet e partisë'!$P221,\"-\",TEXT('4. Shpenzimet e partisë'!$Q221,\"dd/mm/yyyy\")),\"\")","v":""}]
[{"$f":"IF(B222=\"\",\"\",MAX(A$22:A221)+1)","v":""},{"$f":"IF($C222=Reference!$J$3,CONCATENATE('4. Shpenzimet e partisë'!$O222,\"-\",'4. Shpenzimet e partisë'!$P222,\"-\",TEXT('4. Shpenzimet e partisë'!$Q222,\"dd/mm/yyyy\")),\"\")","v":""}]
[{"$f":"IF(B223=\"\",\"\",MAX(A$22:A222)+1)","v":""},{"$f":"IF($C223=Reference!$J$3,CONCATENATE('4. Shpenzimet e partisë'!$O223,\"-\",'4. Shpenzimet e partisë'!$P223,\"-\",TEXT('4. Shpenzimet e partisë'!$Q223,\"dd/mm/yyyy\")),\"\")","v":""}]
[{"$f":"IF(B224=\"\",\"\",MAX(A$22:A223)+1)","v":""},{"$f":"IF($C224=Reference!$J$3,CONCATENATE('4. Shpenzimet e partisë'!$O224,\"-\",'4. Shpenzimet e partisë'!$P224,\"-\",TEXT('4. Shpenzimet e partisë'!$Q224,\"dd/mm/yyyy\")),\"\")","v":""}]
[{"$f":"IF(B225=\"\",\"\",MAX(A$22:A224)+1)","v":""},{"$f":"IF($C225=Reference!$J$3,CONCATENATE('4. Shpenzimet e partisë'!$O225,\"-\",'4. Shpenzimet e partisë'!$P225,\"-\",TEXT('4. Shpenzimet e partisë'!$Q225,\"dd/mm/yyyy\")),\"\")","v":""}]
[{"$f":"IF(B226=\"\",\"\",MAX(A$22:A225)+1)","v":""},{"$f":"IF($C226=Reference!$J$3,CONCATENATE('4. Shpenzimet e partisë'!$O226,\"-\",'4. Shpenzimet e partisë'!$P226,\"-\",TEXT('4. Shpenzimet e partisë'!$Q226,\"dd/mm/yyyy\")),\"\")","v":""}]
[{"$f":"IF(B227=\"\",\"\",MAX(A$22:A226)+1)","v":""},{"$f":"IF($C227=Reference!$J$3,CONCATENATE('4. Shpenzimet e partisë'!$O227,\"-\",'4. Shpenzimet e partisë'!$P227,\"-\",TEXT('4. Shpenzimet e partisë'!$Q227,\"dd/mm/yyyy\")),\"\")","v":""}]
[{"$f":"IF(B228=\"\",\"\",MAX(A$22:A227)+1)","v":""},{"$f":"IF($C228=Reference!$J$3,CONCATENATE('4. Shpenzimet e partisë'!$O228,\"-\",'4. Shpenzimet e partisë'!$P228,\"-\",TEXT('4. Shpenzimet e partisë'!$Q228,\"dd/mm/yyyy\")),\"\")","v":""}]
[{"$f":"IF(B229=\"\",\"\",MAX(A$22:A228)+1)","v":""},{"$f":"IF($C229=Reference!$J$3,CONCATENATE('4. Shpenzimet e partisë'!$O229,\"-\",'4. Shpenzimet e partisë'!$P229,\"-\",TEXT('4. Shpenzimet e partisë'!$Q229,\"dd/mm/yyyy\")),\"\")","v":""}]
[{"$f":"IF(B230=\"\",\"\",MAX(A$22:A229)+1)","v":""},{"$f":"IF($C230=Reference!$J$3,CONCATENATE('4. Shpenzimet e partisë'!$O230,\"-\",'4. Shpenzimet e partisë'!$P230,\"-\",TEXT('4. Shpenzimet e partisë'!$Q230,\"dd/mm/yyyy\")),\"\")","v":""}]
[{"$f":"IF(B231=\"\",\"\",MAX(A$22:A230)+1)","v":""},{"$f":"IF($C231=Reference!$J$3,CONCATENATE('4. Shpenzimet e partisë'!$O231,\"-\",'4. Shpenzimet e partisë'!$P231,\"-\",TEXT('4. Shpenzimet e partisë'!$Q231,\"dd/mm/yyyy\")),\"\")","v":""}]
[{"$f":"IF(B232=\"\",\"\",MAX(A$22:A231)+1)","v":""},{"$f":"IF($C232=Reference!$J$3,CONCATENATE('4. Shpenzimet e partisë'!$O232,\"-\",'4. Shpenzimet e partisë'!$P232,\"-\",TEXT('4. Shpenzimet e partisë'!$Q232,\"dd/mm/yyyy\")),\"\")","v":""}]
[{"$f":"IF(B233=\"\",\"\",MAX(A$22:A232)+1)","v":""},{"$f":"IF($C233=Reference!$J$3,CONCATENATE('4. Shpenzimet e partisë'!$O233,\"-\",'4. Shpenzimet e partisë'!$P233,\"-\",TEXT('4. Shpenzimet e partisë'!$Q233,\"dd/mm/yyyy\")),\"\")","v":""}]
[{"$f":"IF(B234=\"\",\"\",MAX(A$22:A233)+1)","v":""},{"$f":"IF($C234=Reference!$J$3,CONCATENATE('4. Shpenzimet e partisë'!$O234,\"-\",'4. Shpenzimet e partisë'!$P234,\"-\",TEXT('4. Shpenzimet e partisë'!$Q234,\"dd/mm/yyyy\")),\"\")","v":""}]
[{"$f":"IF(B235=\"\",\"\",MAX(A$22:A234)+1)","v":""},{"$f":"IF($C235=Reference!$J$3,CONCATENATE('4. Shpenzimet e partisë'!$O235,\"-\",'4. Shpenzimet e partisë'!$P235,\"-\",TEXT('4. Shpenzimet e partisë'!$Q235,\"dd/mm/yyyy\")),\"\")","v":""}]
[{"$f":"IF(B236=\"\",\"\",MAX(A$22:A235)+1)","v":""},{"$f":"IF($C236=Reference!$J$3,CONCATENATE('4. Shpenzimet e partisë'!$O236,\"-\",'4. Shpenzimet e partisë'!$P236,\"-\",TEXT('4. Shpenzimet e partisë'!$Q236,\"dd/mm/yyyy\")),\"\")","v":""}]
[{"$f":"IF(B237=\"\",\"\",MAX(A$22:A236)+1)","v":""},{"$f":"IF($C237=Reference!$J$3,CONCATENATE('4. Shpenzimet e partisë'!$O237,\"-\",'4. Shpenzimet e partisë'!$P237,\"-\",TEXT('4. Shpenzimet e partisë'!$Q237,\"dd/mm/yyyy\")),\"\")","v":""}]
[{"$f":"IF(B238=\"\",\"\",MAX(A$22:A237)+1)","v":""},{"$f":"IF($C238=Reference!$J$3,CONCATENATE('4. Shpenzimet e partisë'!$O238,\"-\",'4. Shpenzimet e partisë'!$P238,\"-\",TEXT('4. Shpenzimet e partisë'!$Q238,\"dd/mm/yyyy\")),\"\")","v":""}]
[{"$f":"IF(B239=\"\",\"\",MAX(A$22:A238)+1)","v":""},{"$f":"IF($C239=Reference!$J$3,CONCATENATE('4. Shpenzimet e partisë'!$O239,\"-\",'4. Shpenzimet e partisë'!$P239,\"-\",TEXT('4. Shpenzimet e partisë'!$Q239,\"dd/mm/yyyy\")),\"\")","v":""}]
[{"$f":"IF(B240=\"\",\"\",MAX(A$22:A239)+1)","v":""},{"$f":"IF($C240=Reference!$J$3,CONCATENATE('4. Shpenzimet e partisë'!$O240,\"-\",'4. Shpenzimet e partisë'!$P240,\"-\",TEXT('4. Shpenzimet e partisë'!$Q240,\"dd/mm/yyyy\")),\"\")","v":""}]
[{"$f":"IF(B241=\"\",\"\",MAX(A$22:A240)+1)","v":""},{"$f":"IF($C241=Reference!$J$3,CONCATENATE('4. Shpenzimet e partisë'!$O241,\"-\",'4. Shpenzimet e partisë'!$P241,\"-\",TEXT('4. Shpenzimet e partisë'!$Q241,\"dd/mm/yyyy\")),\"\")","v":""}]
[{"$f":"IF(B242=\"\",\"\",MAX(A$22:A241)+1)","v":""},{"$f":"IF($C242=Reference!$J$3,CONCATENATE('4. Shpenzimet e partisë'!$O242,\"-\",'4. Shpenzimet e partisë'!$P242,\"-\",TEXT('4. Shpenzimet e partisë'!$Q242,\"dd/mm/yyyy\")),\"\")","v":""}]
[{"$f":"IF(B243=\"\",\"\",MAX(A$22:A242)+1)","v":""},{"$f":"IF($C243=Reference!$J$3,CONCATENATE('4. Shpenzimet e partisë'!$O243,\"-\",'4. Shpenzimet e partisë'!$P243,\"-\",TEXT('4. Shpenzimet e partisë'!$Q243,\"dd/mm/yyyy\")),\"\")","v":""}]
[{"$f":"IF(B244=\"\",\"\",MAX(A$22:A243)+1)","v":""},{"$f":"IF($C244=Reference!$J$3,CONCATENATE('4. Shpenzimet e partisë'!$O244,\"-\",'4. Shpenzimet e partisë'!$P244,\"-\",TEXT('4. Shpenzimet e partisë'!$Q244,\"dd/mm/yyyy\")),\"\")","v":""}]
[{"$f":"IF(B245=\"\",\"\",MAX(A$22:A244)+1)","v":""},{"$f":"IF($C245=Reference!$J$3,CONCATENATE('4. Shpenzimet e partisë'!$O245,\"-\",'4. Shpenzimet e partisë'!$P245,\"-\",TEXT('4. Shpenzimet e partisë'!$Q245,\"dd/mm/yyyy\")),\"\")","v":""}]
[{"$f":"IF(B246=\"\",\"\",MAX(A$22:A245)+1)","v":""},{"$f":"IF($C246=Reference!$J$3,CONCATENATE('4. Shpenzimet e partisë'!$O246,\"-\",'4. Shpenzimet e partisë'!$P246,\"-\",TEXT('4. Shpenzimet e partisë'!$Q246,\"dd/mm/yyyy\")),\"\")","v":""}]
[{"$f":"IF(B247=\"\",\"\",MAX(A$22:A246)+1)","v":""},{"$f":"IF($C247=Reference!$J$3,CONCATENATE('4. Shpenzimet e partisë'!$O247,\"-\",'4. Shpenzimet e partisë'!$P247,\"-\",TEXT('4. Shpenzimet e partisë'!$Q247,\"dd/mm/yyyy\")),\"\")","v":""}]
[{"$f":"IF(B248=\"\",\"\",MAX(A$22:A247)+1)","v":""},{"$f":"IF($C248=Reference!$J$3,CONCATENATE('4. Shpenzimet e partisë'!$O248,\"-\",'4. Shpenzimet e partisë'!$P248,\"-\",TEXT('4. Shpenzimet e partisë'!$Q248,\"dd/mm/yyyy\")),\"\")","v":""}]
[{"$f":"IF(B249=\"\",\"\",MAX(A$22:A248)+1)","v":""},{"$f":"IF($C249=Reference!$J$3,CONCATENATE('4. Shpenzimet e partisë'!$O249,\"-\",'4. Shpenzimet e partisë'!$P249,\"-\",TEXT('4. Shpenzimet e partisë'!$Q249,\"dd/mm/yyyy\")),\"\")","v":""}]
[{"$f":"IF(B250=\"\",\"\",MAX(A$22:A249)+1)","v":""},{"$f":"IF($C250=Reference!$J$3,CONCATENATE('4. Shpenzimet e partisë'!$O250,\"-\",'4. Shpenzimet e partisë'!$P250,\"-\",TEXT('4. Shpenzimet e partisë'!$Q250,\"dd/mm/yyyy\")),\"\")","v":""}]
[{"$f":"IF(B251=\"\",\"\",MAX(A$22:A250)+1)","v":""},{"$f":"IF($C251=Reference!$J$3,CONCATENATE('4. Shpenzimet e partisë'!$O251,\"-\",'4. Shpenzimet e partisë'!$P251,\"-\",TEXT('4. Shpenzimet e partisë'!$Q251,\"dd/mm/yyyy\")),\"\")","v":""}]
[{"$f":"IF(B252=\"\",\"\",MAX(A$22:A251)+1)","v":""},{"$f":"IF($C252=Reference!$J$3,CONCATENATE('4. Shpenzimet e partisë'!$O252,\"-\",'4. Shpenzimet e partisë'!$P252,\"-\",TEXT('4. Shpenzimet e partisë'!$Q252,\"dd/mm/yyyy\")),\"\")","v":""}]
[{"$f":"IF(B253=\"\",\"\",MAX(A$22:A252)+1)","v":""},{"$f":"IF($C253=Reference!$J$3,CONCATENATE('4. Shpenzimet e partisë'!$O253,\"-\",'4. Shpenzimet e partisë'!$P253,\"-\",TEXT('4. Shpenzimet e partisë'!$Q253,\"dd/mm/yyyy\")),\"\")","v":""}]
[{"$f":"IF(B254=\"\",\"\",MAX(A$22:A253)+1)","v":""},{"$f":"IF($C254=Reference!$J$3,CONCATENATE('4. Shpenzimet e partisë'!$O254,\"-\",'4. Shpenzimet e partisë'!$P254,\"-\",TEXT('4. Shpenzimet e partisë'!$Q254,\"dd/mm/yyyy\")),\"\")","v":""}]
[{"$f":"IF(B255=\"\",\"\",MAX(A$22:A254)+1)","v":""},{"$f":"IF($C255=Reference!$J$3,CONCATENATE('4. Shpenzimet e partisë'!$O255,\"-\",'4. Shpenzimet e partisë'!$P255,\"-\",TEXT('4. Shpenzimet e partisë'!$Q255,\"dd/mm/yyyy\")),\"\")","v":""}]
[{"$f":"IF(B256=\"\",\"\",MAX(A$22:A255)+1)","v":""},{"$f":"IF($C256=Reference!$J$3,CONCATENATE('4. Shpenzimet e partisë'!$O256,\"-\",'4. Shpenzimet e partisë'!$P256,\"-\",TEXT('4. Shpenzimet e partisë'!$Q256,\"dd/mm/yyyy\")),\"\")","v":""}]
[{"$f":"IF(B257=\"\",\"\",MAX(A$22:A256)+1)","v":""},{"$f":"IF($C257=Reference!$J$3,CONCATENATE('4. Shpenzimet e partisë'!$O257,\"-\",'4. Shpenzimet e partisë'!$P257,\"-\",TEXT('4. Shpenzimet e partisë'!$Q257,\"dd/mm/yyyy\")),\"\")","v":""}]
[{"$f":"IF(B258=\"\",\"\",MAX(A$22:A257)+1)","v":""},{"$f":"IF($C258=Reference!$J$3,CONCATENATE('4. Shpenzimet e partisë'!$O258,\"-\",'4. Shpenzimet e partisë'!$P258,\"-\",TEXT('4. Shpenzimet e partisë'!$Q258,\"dd/mm/yyyy\")),\"\")","v":""}]
[{"$f":"IF(B259=\"\",\"\",MAX(A$22:A258)+1)","v":""},{"$f":"IF($C259=Reference!$J$3,CONCATENATE('4. Shpenzimet e partisë'!$O259,\"-\",'4. Shpenzimet e partisë'!$P259,\"-\",TEXT('4. Shpenzimet e partisë'!$Q259,\"dd/mm/yyyy\")),\"\")","v":""}]
[{"$f":"IF(B260=\"\",\"\",MAX(A$22:A259)+1)","v":""},{"$f":"IF($C260=Reference!$J$3,CONCATENATE('4. Shpenzimet e partisë'!$O260,\"-\",'4. Shpenzimet e partisë'!$P260,\"-\",TEXT('4. Shpenzimet e partisë'!$Q260,\"dd/mm/yyyy\")),\"\")","v":""}]
[{"$f":"IF(B261=\"\",\"\",MAX(A$22:A260)+1)","v":""},{"$f":"IF($C261=Reference!$J$3,CONCATENATE('4. Shpenzimet e partisë'!$O261,\"-\",'4. Shpenzimet e partisë'!$P261,\"-\",TEXT('4. Shpenzimet e partisë'!$Q261,\"dd/mm/yyyy\")),\"\")","v":""}]
[{"$f":"IF(B262=\"\",\"\",MAX(A$22:A261)+1)","v":""},{"$f":"IF($C262=Reference!$J$3,CONCATENATE('4. Shpenzimet e partisë'!$O262,\"-\",'4. Shpenzimet e partisë'!$P262,\"-\",TEXT('4. Shpenzimet e partisë'!$Q262,\"dd/mm/yyyy\")),\"\")","v":""}]
[{"$f":"IF(B263=\"\",\"\",MAX(A$22:A262)+1)","v":""},{"$f":"IF($C263=Reference!$J$3,CONCATENATE('4. Shpenzimet e partisë'!$O263,\"-\",'4. Shpenzimet e partisë'!$P263,\"-\",TEXT('4. Shpenzimet e partisë'!$Q263,\"dd/mm/yyyy\")),\"\")","v":""}]
[{"$f":"IF(B264=\"\",\"\",MAX(A$22:A263)+1)","v":""},{"$f":"IF($C264=Reference!$J$3,CONCATENATE('4. Shpenzimet e partisë'!$O264,\"-\",'4. Shpenzimet e partisë'!$P264,\"-\",TEXT('4. Shpenzimet e partisë'!$Q264,\"dd/mm/yyyy\")),\"\")","v":""}]
[{"$f":"IF(B265=\"\",\"\",MAX(A$22:A264)+1)","v":""},{"$f":"IF($C265=Reference!$J$3,CONCATENATE('4. Shpenzimet e partisë'!$O265,\"-\",'4. Shpenzimet e partisë'!$P265,\"-\",TEXT('4. Shpenzimet e partisë'!$Q265,\"dd/mm/yyyy\")),\"\")","v":""}]
[{"$f":"IF(B266=\"\",\"\",MAX(A$22:A265)+1)","v":""},{"$f":"IF($C266=Reference!$J$3,CONCATENATE('4. Shpenzimet e partisë'!$O266,\"-\",'4. Shpenzimet e partisë'!$P266,\"-\",TEXT('4. Shpenzimet e partisë'!$Q266,\"dd/mm/yyyy\")),\"\")","v":""}]
[{"$f":"IF(B267=\"\",\"\",MAX(A$22:A266)+1)","v":""},{"$f":"IF($C267=Reference!$J$3,CONCATENATE('4. Shpenzimet e partisë'!$O267,\"-\",'4. Shpenzimet e partisë'!$P267,\"-\",TEXT('4. Shpenzimet e partisë'!$Q267,\"dd/mm/yyyy\")),\"\")","v":""}]
[{"$f":"IF(B268=\"\",\"\",MAX(A$22:A267)+1)","v":""},{"$f":"IF($C268=Reference!$J$3,CONCATENATE('4. Shpenzimet e partisë'!$O268,\"-\",'4. Shpenzimet e partisë'!$P268,\"-\",TEXT('4. Shpenzimet e partisë'!$Q268,\"dd/mm/yyyy\")),\"\")","v":""}]
[{"$f":"IF(B269=\"\",\"\",MAX(A$22:A268)+1)","v":""},{"$f":"IF($C269=Reference!$J$3,CONCATENATE('4. Shpenzimet e partisë'!$O269,\"-\",'4. Shpenzimet e partisë'!$P269,\"-\",TEXT('4. Shpenzimet e partisë'!$Q269,\"dd/mm/yyyy\")),\"\")","v":""}]
[{"$f":"IF(B270=\"\",\"\",MAX(A$22:A269)+1)","v":""},{"$f":"IF($C270=Reference!$J$3,CONCATENATE('4. Shpenzimet e partisë'!$O270,\"-\",'4. Shpenzimet e partisë'!$P270,\"-\",TEXT('4. Shpenzimet e partisë'!$Q270,\"dd/mm/yyyy\")),\"\")","v":""}]
[{"$f":"IF(B271=\"\",\"\",MAX(A$22:A270)+1)","v":""},{"$f":"IF($C271=Reference!$J$3,CONCATENATE('4. Shpenzimet e partisë'!$O271,\"-\",'4. Shpenzimet e partisë'!$P271,\"-\",TEXT('4. Shpenzimet e partisë'!$Q271,\"dd/mm/yyyy\")),\"\")","v":""}]
[{"$f":"IF(B272=\"\",\"\",MAX(A$22:A271)+1)","v":""},{"$f":"IF($C272=Reference!$J$3,CONCATENATE('4. Shpenzimet e partisë'!$O272,\"-\",'4. Shpenzimet e partisë'!$P272,\"-\",TEXT('4. Shpenzimet e partisë'!$Q272,\"dd/mm/yyyy\")),\"\")","v":""}]
[{"$f":"IF(B273=\"\",\"\",MAX(A$22:A272)+1)","v":""},{"$f":"IF($C273=Reference!$J$3,CONCATENATE('4. Shpenzimet e partisë'!$O273,\"-\",'4. Shpenzimet e partisë'!$P273,\"-\",TEXT('4. Shpenzimet e partisë'!$Q273,\"dd/mm/yyyy\")),\"\")","v":""}]
[{"$f":"IF(B274=\"\",\"\",MAX(A$22:A273)+1)","v":""},{"$f":"IF($C274=Reference!$J$3,CONCATENATE('4. Shpenzimet e partisë'!$O274,\"-\",'4. Shpenzimet e partisë'!$P274,\"-\",TEXT('4. Shpenzimet e partisë'!$Q274,\"dd/mm/yyyy\")),\"\")","v":""}]
[{"$f":"IF(B275=\"\",\"\",MAX(A$22:A274)+1)","v":""},{"$f":"IF($C275=Reference!$J$3,CONCATENATE('4. Shpenzimet e partisë'!$O275,\"-\",'4. Shpenzimet e partisë'!$P275,\"-\",TEXT('4. Shpenzimet e partisë'!$Q275,\"dd/mm/yyyy\")),\"\")","v":""}]
[{"$f":"IF(B276=\"\",\"\",MAX(A$22:A275)+1)","v":""},{"$f":"IF($C276=Reference!$J$3,CONCATENATE('4. Shpenzimet e partisë'!$O276,\"-\",'4. Shpenzimet e partisë'!$P276,\"-\",TEXT('4. Shpenzimet e partisë'!$Q276,\"dd/mm/yyyy\")),\"\")","v":""}]
[{"$f":"IF(B277=\"\",\"\",MAX(A$22:A276)+1)","v":""},{"$f":"IF($C277=Reference!$J$3,CONCATENATE('4. Shpenzimet e partisë'!$O277,\"-\",'4. Shpenzimet e partisë'!$P277,\"-\",TEXT('4. Shpenzimet e partisë'!$Q277,\"dd/mm/yyyy\")),\"\")","v":""}]
[{"$f":"IF(B278=\"\",\"\",MAX(A$22:A277)+1)","v":""},{"$f":"IF($C278=Reference!$J$3,CONCATENATE('4. Shpenzimet e partisë'!$O278,\"-\",'4. Shpenzimet e partisë'!$P278,\"-\",TEXT('4. Shpenzimet e partisë'!$Q278,\"dd/mm/yyyy\")),\"\")","v":""}]
[{"$f":"IF(B279=\"\",\"\",MAX(A$22:A278)+1)","v":""},{"$f":"IF($C279=Reference!$J$3,CONCATENATE('4. Shpenzimet e partisë'!$O279,\"-\",'4. Shpenzimet e partisë'!$P279,\"-\",TEXT('4. Shpenzimet e partisë'!$Q279,\"dd/mm/yyyy\")),\"\")","v":""}]
[{"$f":"IF(B280=\"\",\"\",MAX(A$22:A279)+1)","v":""},{"$f":"IF($C280=Reference!$J$3,CONCATENATE('4. Shpenzimet e partisë'!$O280,\"-\",'4. Shpenzimet e partisë'!$P280,\"-\",TEXT('4. Shpenzimet e partisë'!$Q280,\"dd/mm/yyyy\")),\"\")","v":""}]
[{"$f":"IF(B281=\"\",\"\",MAX(A$22:A280)+1)","v":""},{"$f":"IF($C281=Reference!$J$3,CONCATENATE('4. Shpenzimet e partisë'!$O281,\"-\",'4. Shpenzimet e partisë'!$P281,\"-\",TEXT('4. Shpenzimet e partisë'!$Q281,\"dd/mm/yyyy\")),\"\")","v":""}]
[{"$f":"IF(B282=\"\",\"\",MAX(A$22:A281)+1)","v":""},{"$f":"IF($C282=Reference!$J$3,CONCATENATE('4. Shpenzimet e partisë'!$O282,\"-\",'4. Shpenzimet e partisë'!$P282,\"-\",TEXT('4. Shpenzimet e partisë'!$Q282,\"dd/mm/yyyy\")),\"\")","v":""}]
[{"$f":"IF(B283=\"\",\"\",MAX(A$22:A282)+1)","v":""},{"$f":"IF($C283=Reference!$J$3,CONCATENATE('4. Shpenzimet e partisë'!$O283,\"-\",'4. Shpenzimet e partisë'!$P283,\"-\",TEXT('4. Shpenzimet e partisë'!$Q283,\"dd/mm/yyyy\")),\"\")","v":""}]
[{"$f":"IF(B284=\"\",\"\",MAX(A$22:A283)+1)","v":""},{"$f":"IF($C284=Reference!$J$3,CONCATENATE('4. Shpenzimet e partisë'!$O284,\"-\",'4. Shpenzimet e partisë'!$P284,\"-\",TEXT('4. Shpenzimet e partisë'!$Q284,\"dd/mm/yyyy\")),\"\")","v":""}]
[{"$f":"IF(B285=\"\",\"\",MAX(A$22:A284)+1)","v":""},{"$f":"IF($C285=Reference!$J$3,CONCATENATE('4. Shpenzimet e partisë'!$O285,\"-\",'4. Shpenzimet e partisë'!$P285,\"-\",TEXT('4. Shpenzimet e partisë'!$Q285,\"dd/mm/yyyy\")),\"\")","v":""}]
[{"$f":"IF(B286=\"\",\"\",MAX(A$22:A285)+1)","v":""},{"$f":"IF($C286=Reference!$J$3,CONCATENATE('4. Shpenzimet e partisë'!$O286,\"-\",'4. Shpenzimet e partisë'!$P286,\"-\",TEXT('4. Shpenzimet e partisë'!$Q286,\"dd/mm/yyyy\")),\"\")","v":""}]
[{"$f":"IF(B287=\"\",\"\",MAX(A$22:A286)+1)","v":""},{"$f":"IF($C287=Reference!$J$3,CONCATENATE('4. Shpenzimet e partisë'!$O287,\"-\",'4. Shpenzimet e partisë'!$P287,\"-\",TEXT('4. Shpenzimet e partisë'!$Q287,\"dd/mm/yyyy\")),\"\")","v":""}]
[{"$f":"IF(B288=\"\",\"\",MAX(A$22:A287)+1)","v":""},{"$f":"IF($C288=Reference!$J$3,CONCATENATE('4. Shpenzimet e partisë'!$O288,\"-\",'4. Shpenzimet e partisë'!$P288,\"-\",TEXT('4. Shpenzimet e partisë'!$Q288,\"dd/mm/yyyy\")),\"\")","v":""}]
[{"$f":"IF(B289=\"\",\"\",MAX(A$22:A288)+1)","v":""},{"$f":"IF($C289=Reference!$J$3,CONCATENATE('4. Shpenzimet e partisë'!$O289,\"-\",'4. Shpenzimet e partisë'!$P289,\"-\",TEXT('4. Shpenzimet e partisë'!$Q289,\"dd/mm/yyyy\")),\"\")","v":""}]
[{"$f":"IF(B290=\"\",\"\",MAX(A$22:A289)+1)","v":""},{"$f":"IF($C290=Reference!$J$3,CONCATENATE('4. Shpenzimet e partisë'!$O290,\"-\",'4. Shpenzimet e partisë'!$P290,\"-\",TEXT('4. Shpenzimet e partisë'!$Q290,\"dd/mm/yyyy\")),\"\")","v":""}]
[{"$f":"IF(B291=\"\",\"\",MAX(A$22:A290)+1)","v":""},{"$f":"IF($C291=Reference!$J$3,CONCATENATE('4. Shpenzimet e partisë'!$O291,\"-\",'4. Shpenzimet e partisë'!$P291,\"-\",TEXT('4. Shpenzimet e partisë'!$Q291,\"dd/mm/yyyy\")),\"\")","v":""}]
[{"$f":"IF(B292=\"\",\"\",MAX(A$22:A291)+1)","v":""},{"$f":"IF($C292=Reference!$J$3,CONCATENATE('4. Shpenzimet e partisë'!$O292,\"-\",'4. Shpenzimet e partisë'!$P292,\"-\",TEXT('4. Shpenzimet e partisë'!$Q292,\"dd/mm/yyyy\")),\"\")","v":""}]
[{"$f":"IF(B293=\"\",\"\",MAX(A$22:A292)+1)","v":""},{"$f":"IF($C293=Reference!$J$3,CONCATENATE('4. Shpenzimet e partisë'!$O293,\"-\",'4. Shpenzimet e partisë'!$P293,\"-\",TEXT('4. Shpenzimet e partisë'!$Q293,\"dd/mm/yyyy\")),\"\")","v":""}]
[{"$f":"IF(B294=\"\",\"\",MAX(A$22:A293)+1)","v":""},{"$f":"IF($C294=Reference!$J$3,CONCATENATE('4. Shpenzimet e partisë'!$O294,\"-\",'4. Shpenzimet e partisë'!$P294,\"-\",TEXT('4. Shpenzimet e partisë'!$Q294,\"dd/mm/yyyy\")),\"\")","v":""}]
[{"$f":"IF(B295=\"\",\"\",MAX(A$22:A294)+1)","v":""},{"$f":"IF($C295=Reference!$J$3,CONCATENATE('4. Shpenzimet e partisë'!$O295,\"-\",'4. Shpenzimet e partisë'!$P295,\"-\",TEXT('4. Shpenzimet e partisë'!$Q295,\"dd/mm/yyyy\")),\"\")","v":""}]
[{"$f":"IF(B296=\"\",\"\",MAX(A$22:A295)+1)","v":""},{"$f":"IF($C296=Reference!$J$3,CONCATENATE('4. Shpenzimet e partisë'!$O296,\"-\",'4. Shpenzimet e partisë'!$P296,\"-\",TEXT('4. Shpenzimet e partisë'!$Q296,\"dd/mm/yyyy\")),\"\")","v":""}]
[{"$f":"IF(B297=\"\",\"\",MAX(A$22:A296)+1)","v":""},{"$f":"IF($C297=Reference!$J$3,CONCATENATE('4. Shpenzimet e partisë'!$O297,\"-\",'4. Shpenzimet e partisë'!$P297,\"-\",TEXT('4. Shpenzimet e partisë'!$Q297,\"dd/mm/yyyy\")),\"\")","v":""}]
[{"$f":"IF(B298=\"\",\"\",MAX(A$22:A297)+1)","v":""},{"$f":"IF($C298=Reference!$J$3,CONCATENATE('4. Shpenzimet e partisë'!$O298,\"-\",'4. Shpenzimet e partisë'!$P298,\"-\",TEXT('4. Shpenzimet e partisë'!$Q298,\"dd/mm/yyyy\")),\"\")","v":""}]
[{"$f":"IF(B299=\"\",\"\",MAX(A$22:A298)+1)","v":""},{"$f":"IF($C299=Reference!$J$3,CONCATENATE('4. Shpenzimet e partisë'!$O299,\"-\",'4. Shpenzimet e partisë'!$P299,\"-\",TEXT('4. Shpenzimet e partisë'!$Q299,\"dd/mm/yyyy\")),\"\")","v":""}]
[{"$f":"IF(B300=\"\",\"\",MAX(A$22:A299)+1)","v":""},{"$f":"IF($C300=Reference!$J$3,CONCATENATE('4. Shpenzimet e partisë'!$O300,\"-\",'4. Shpenzimet e partisë'!$P300,\"-\",TEXT('4. Shpenzimet e partisë'!$Q300,\"dd/mm/yyyy\")),\"\")","v":""}]
[{"$f":"IF(B301=\"\",\"\",MAX(A$22:A300)+1)","v":""},{"$f":"IF($C301=Reference!$J$3,CONCATENATE('4. Shpenzimet e partisë'!$O301,\"-\",'4. Shpenzimet e partisë'!$P301,\"-\",TEXT('4. Shpenzimet e partisë'!$Q301,\"dd/mm/yyyy\")),\"\")","v":""}]
[{"$f":"IF(B302=\"\",\"\",MAX(A$22:A301)+1)","v":""},{"$f":"IF($C302=Reference!$J$3,CONCATENATE('4. Shpenzimet e partisë'!$O302,\"-\",'4. Shpenzimet e partisë'!$P302,\"-\",TEXT('4. Shpenzimet e partisë'!$Q302,\"dd/mm/yyyy\")),\"\")","v":""}]
[{"$f":"IF(B303=\"\",\"\",MAX(A$22:A302)+1)","v":""},{"$f":"IF($C303=Reference!$J$3,CONCATENATE('4. Shpenzimet e partisë'!$O303,\"-\",'4. Shpenzimet e partisë'!$P303,\"-\",TEXT('4. Shpenzimet e partisë'!$Q303,\"dd/mm/yyyy\")),\"\")","v":""}]
[{"$f":"IF(B304=\"\",\"\",MAX(A$22:A303)+1)","v":""},{"$f":"IF($C304=Reference!$J$3,CONCATENATE('4. Shpenzimet e partisë'!$O304,\"-\",'4. Shpenzimet e partisë'!$P304,\"-\",TEXT('4. Shpenzimet e partisë'!$Q304,\"dd/mm/yyyy\")),\"\")","v":""}]
[{"$f":"IF(B305=\"\",\"\",MAX(A$22:A304)+1)","v":""},{"$f":"IF($C305=Reference!$J$3,CONCATENATE('4. Shpenzimet e partisë'!$O305,\"-\",'4. Shpenzimet e partisë'!$P305,\"-\",TEXT('4. Shpenzimet e partisë'!$Q305,\"dd/mm/yyyy\")),\"\")","v":""}]
[{"$f":"IF(B306=\"\",\"\",MAX(A$22:A305)+1)","v":""},{"$f":"IF($C306=Reference!$J$3,CONCATENATE('4. Shpenzimet e partisë'!$O306,\"-\",'4. Shpenzimet e partisë'!$P306,\"-\",TEXT('4. Shpenzimet e partisë'!$Q306,\"dd/mm/yyyy\")),\"\")","v":""}]
[{"$f":"IF(B307=\"\",\"\",MAX(A$22:A306)+1)","v":""},{"$f":"IF($C307=Reference!$J$3,CONCATENATE('4. Shpenzimet e partisë'!$O307,\"-\",'4. Shpenzimet e partisë'!$P307,\"-\",TEXT('4. Shpenzimet e partisë'!$Q307,\"dd/mm/yyyy\")),\"\")","v":""}]
[{"$f":"IF(B308=\"\",\"\",MAX(A$22:A307)+1)","v":""},{"$f":"IF($C308=Reference!$J$3,CONCATENATE('4. Shpenzimet e partisë'!$O308,\"-\",'4. Shpenzimet e partisë'!$P308,\"-\",TEXT('4. Shpenzimet e partisë'!$Q308,\"dd/mm/yyyy\")),\"\")","v":""}]
[{"$f":"IF(B309=\"\",\"\",MAX(A$22:A308)+1)","v":""},{"$f":"IF($C309=Reference!$J$3,CONCATENATE('4. Shpenzimet e partisë'!$O309,\"-\",'4. Shpenzimet e partisë'!$P309,\"-\",TEXT('4. Shpenzimet e partisë'!$Q309,\"dd/mm/yyyy\")),\"\")","v":""}]
[{"$f":"IF(B310=\"\",\"\",MAX(A$22:A309)+1)","v":""},{"$f":"IF($C310=Reference!$J$3,CONCATENATE('4. Shpenzimet e partisë'!$O310,\"-\",'4. Shpenzimet e partisë'!$P310,\"-\",TEXT('4. Shpenzimet e partisë'!$Q310,\"dd/mm/yyyy\")),\"\")","v":""}]
[{"$f":"IF(B311=\"\",\"\",MAX(A$22:A310)+1)","v":""},{"$f":"IF($C311=Reference!$J$3,CONCATENATE('4. Shpenzimet e partisë'!$O311,\"-\",'4. Shpenzimet e partisë'!$P311,\"-\",TEXT('4. Shpenzimet e partisë'!$Q311,\"dd/mm/yyyy\")),\"\")","v":""}]
[{"$f":"IF(B312=\"\",\"\",MAX(A$22:A311)+1)","v":""},{"$f":"IF($C312=Reference!$J$3,CONCATENATE('4. Shpenzimet e partisë'!$O312,\"-\",'4. Shpenzimet e partisë'!$P312,\"-\",TEXT('4. Shpenzimet e partisë'!$Q312,\"dd/mm/yyyy\")),\"\")","v":""}]
[{"$f":"IF(B313=\"\",\"\",MAX(A$22:A312)+1)","v":""},{"$f":"IF($C313=Reference!$J$3,CONCATENATE('4. Shpenzimet e partisë'!$O313,\"-\",'4. Shpenzimet e partisë'!$P313,\"-\",TEXT('4. Shpenzimet e partisë'!$Q313,\"dd/mm/yyyy\")),\"\")","v":""}]
[{"$f":"IF(B314=\"\",\"\",MAX(A$22:A313)+1)","v":""},{"$f":"IF($C314=Reference!$J$3,CONCATENATE('4. Shpenzimet e partisë'!$O314,\"-\",'4. Shpenzimet e partisë'!$P314,\"-\",TEXT('4. Shpenzimet e partisë'!$Q314,\"dd/mm/yyyy\")),\"\")","v":""}]
[{"$f":"IF(B315=\"\",\"\",MAX(A$22:A314)+1)","v":""},{"$f":"IF($C315=Reference!$J$3,CONCATENATE('4. Shpenzimet e partisë'!$O315,\"-\",'4. Shpenzimet e partisë'!$P315,\"-\",TEXT('4. Shpenzimet e partisë'!$Q315,\"dd/mm/yyyy\")),\"\")","v":""}]
[{"$f":"IF(B316=\"\",\"\",MAX(A$22:A315)+1)","v":""},{"$f":"IF($C316=Reference!$J$3,CONCATENATE('4. Shpenzimet e partisë'!$O316,\"-\",'4. Shpenzimet e partisë'!$P316,\"-\",TEXT('4. Shpenzimet e partisë'!$Q316,\"dd/mm/yyyy\")),\"\")","v":""}]
[{"$f":"IF(B317=\"\",\"\",MAX(A$22:A316)+1)","v":""},{"$f":"IF($C317=Reference!$J$3,CONCATENATE('4. Shpenzimet e partisë'!$O317,\"-\",'4. Shpenzimet e partisë'!$P317,\"-\",TEXT('4. Shpenzimet e partisë'!$Q317,\"dd/mm/yyyy\")),\"\")","v":""}]
[{"$f":"IF(B318=\"\",\"\",MAX(A$22:A317)+1)","v":""},{"$f":"IF($C318=Reference!$J$3,CONCATENATE('4. Shpenzimet e partisë'!$O318,\"-\",'4. Shpenzimet e partisë'!$P318,\"-\",TEXT('4. Shpenzimet e partisë'!$Q318,\"dd/mm/yyyy\")),\"\")","v":""}]
[{"$f":"IF(B319=\"\",\"\",MAX(A$22:A318)+1)","v":""},{"$f":"IF($C319=Reference!$J$3,CONCATENATE('4. Shpenzimet e partisë'!$O319,\"-\",'4. Shpenzimet e partisë'!$P319,\"-\",TEXT('4. Shpenzimet e partisë'!$Q319,\"dd/mm/yyyy\")),\"\")","v":""}]
[{"$f":"IF(B320=\"\",\"\",MAX(A$22:A319)+1)","v":""},{"$f":"IF($C320=Reference!$J$3,CONCATENATE('4. Shpenzimet e partisë'!$O320,\"-\",'4. Shpenzimet e partisë'!$P320,\"-\",TEXT('4. Shpenzimet e partisë'!$Q320,\"dd/mm/yyyy\")),\"\")","v":""}]
[{"$f":"IF(B321=\"\",\"\",MAX(A$22:A320)+1)","v":""},{"$f":"IF($C321=Reference!$J$3,CONCATENATE('4. Shpenzimet e partisë'!$O321,\"-\",'4. Shpenzimet e partisë'!$P321,\"-\",TEXT('4. Shpenzimet e partisë'!$Q321,\"dd/mm/yyyy\")),\"\")","v":""}]
[{"$f":"IF(B322=\"\",\"\",MAX(A$22:A321)+1)","v":""},{"$f":"IF($C322=Reference!$J$3,CONCATENATE('4. Shpenzimet e partisë'!$O322,\"-\",'4. Shpenzimet e partisë'!$P322,\"-\",TEXT('4. Shpenzimet e partisë'!$Q322,\"dd/mm/yyyy\")),\"\")","v":""}]
[{"$f":"IF(B323=\"\",\"\",MAX(A$22:A322)+1)","v":""},{"$f":"IF($C323=Reference!$J$3,CONCATENATE('4. Shpenzimet e partisë'!$O323,\"-\",'4. Shpenzimet e partisë'!$P323,\"-\",TEXT('4. Shpenzimet e partisë'!$Q323,\"dd/mm/yyyy\")),\"\")","v":""}]
[{"$f":"IF(B324=\"\",\"\",MAX(A$22:A323)+1)","v":""},{"$f":"IF($C324=Reference!$J$3,CONCATENATE('4. Shpenzimet e partisë'!$O324,\"-\",'4. Shpenzimet e partisë'!$P324,\"-\",TEXT('4. Shpenzimet e partisë'!$Q324,\"dd/mm/yyyy\")),\"\")","v":""}]
[{"$f":"IF(B325=\"\",\"\",MAX(A$22:A324)+1)","v":""},{"$f":"IF($C325=Reference!$J$3,CONCATENATE('4. Shpenzimet e partisë'!$O325,\"-\",'4. Shpenzimet e partisë'!$P325,\"-\",TEXT('4. Shpenzimet e partisë'!$Q325,\"dd/mm/yyyy\")),\"\")","v":""}]
[{"$f":"IF(B326=\"\",\"\",MAX(A$22:A325)+1)","v":""},{"$f":"IF($C326=Reference!$J$3,CONCATENATE('4. Shpenzimet e partisë'!$O326,\"-\",'4. Shpenzimet e partisë'!$P326,\"-\",TEXT('4. Shpenzimet e partisë'!$Q326,\"dd/mm/yyyy\")),\"\")","v":""}]
[{"$f":"IF(B327=\"\",\"\",MAX(A$22:A326)+1)","v":""},{"$f":"IF($C327=Reference!$J$3,CONCATENATE('4. Shpenzimet e partisë'!$O327,\"-\",'4. Shpenzimet e partisë'!$P327,\"-\",TEXT('4. Shpenzimet e partisë'!$Q327,\"dd/mm/yyyy\")),\"\")","v":""}]
[{"$f":"IF(B328=\"\",\"\",MAX(A$22:A327)+1)","v":""},{"$f":"IF($C328=Reference!$J$3,CONCATENATE('4. Shpenzimet e partisë'!$O328,\"-\",'4. Shpenzimet e partisë'!$P328,\"-\",TEXT('4. Shpenzimet e partisë'!$Q328,\"dd/mm/yyyy\")),\"\")","v":""}]
[{"$f":"IF(B329=\"\",\"\",MAX(A$22:A328)+1)","v":""},{"$f":"IF($C329=Reference!$J$3,CONCATENATE('4. Shpenzimet e partisë'!$O329,\"-\",'4. Shpenzimet e partisë'!$P329,\"-\",TEXT('4. Shpenzimet e partisë'!$Q329,\"dd/mm/yyyy\")),\"\")","v":""}]
[{"$f":"IF(B330=\"\",\"\",MAX(A$22:A329)+1)","v":""},{"$f":"IF($C330=Reference!$J$3,CONCATENATE('4. Shpenzimet e partisë'!$O330,\"-\",'4. Shpenzimet e partisë'!$P330,\"-\",TEXT('4. Shpenzimet e partisë'!$Q330,\"dd/mm/yyyy\")),\"\")","v":""}]
[{"$f":"IF(B331=\"\",\"\",MAX(A$22:A330)+1)","v":""},{"$f":"IF($C331=Reference!$J$3,CONCATENATE('4. Shpenzimet e partisë'!$O331,\"-\",'4. Shpenzimet e partisë'!$P331,\"-\",TEXT('4. Shpenzimet e partisë'!$Q331,\"dd/mm/yyyy\")),\"\")","v":""}]
[{"$f":"IF(B332=\"\",\"\",MAX(A$22:A331)+1)","v":""},{"$f":"IF($C332=Reference!$J$3,CONCATENATE('4. Shpenzimet e partisë'!$O332,\"-\",'4. Shpenzimet e partisë'!$P332,\"-\",TEXT('4. Shpenzimet e partisë'!$Q332,\"dd/mm/yyyy\")),\"\")","v":""}]
[{"$f":"IF(B333=\"\",\"\",MAX(A$22:A332)+1)","v":""},{"$f":"IF($C333=Reference!$J$3,CONCATENATE('4. Shpenzimet e partisë'!$O333,\"-\",'4. Shpenzimet e partisë'!$P333,\"-\",TEXT('4. Shpenzimet e partisë'!$Q333,\"dd/mm/yyyy\")),\"\")","v":""}]
[{"$f":"IF(B334=\"\",\"\",MAX(A$22:A333)+1)","v":""},{"$f":"IF($C334=Reference!$J$3,CONCATENATE('4. Shpenzimet e partisë'!$O334,\"-\",'4. Shpenzimet e partisë'!$P334,\"-\",TEXT('4. Shpenzimet e partisë'!$Q334,\"dd/mm/yyyy\")),\"\")","v":""}]
[{"$f":"IF(B335=\"\",\"\",MAX(A$22:A334)+1)","v":""},{"$f":"IF($C335=Reference!$J$3,CONCATENATE('4. Shpenzimet e partisë'!$O335,\"-\",'4. Shpenzimet e partisë'!$P335,\"-\",TEXT('4. Shpenzimet e partisë'!$Q335,\"dd/mm/yyyy\")),\"\")","v":""}]
[{"$f":"IF(B336=\"\",\"\",MAX(A$22:A335)+1)","v":""},{"$f":"IF($C336=Reference!$J$3,CONCATENATE('4. Shpenzimet e partisë'!$O336,\"-\",'4. Shpenzimet e partisë'!$P336,\"-\",TEXT('4. Shpenzimet e partisë'!$Q336,\"dd/mm/yyyy\")),\"\")","v":""}]
[{"$f":"IF(B337=\"\",\"\",MAX(A$22:A336)+1)","v":""},{"$f":"IF($C337=Reference!$J$3,CONCATENATE('4. Shpenzimet e partisë'!$O337,\"-\",'4. Shpenzimet e partisë'!$P337,\"-\",TEXT('4. Shpenzimet e partisë'!$Q337,\"dd/mm/yyyy\")),\"\")","v":""}]
[{"$f":"IF(B338=\"\",\"\",MAX(A$22:A337)+1)","v":""},{"$f":"IF($C338=Reference!$J$3,CONCATENATE('4. Shpenzimet e partisë'!$O338,\"-\",'4. Shpenzimet e partisë'!$P338,\"-\",TEXT('4. Shpenzimet e partisë'!$Q338,\"dd/mm/yyyy\")),\"\")","v":""}]
[{"$f":"IF(B339=\"\",\"\",MAX(A$22:A338)+1)","v":""},{"$f":"IF($C339=Reference!$J$3,CONCATENATE('4. Shpenzimet e partisë'!$O339,\"-\",'4. Shpenzimet e partisë'!$P339,\"-\",TEXT('4. Shpenzimet e partisë'!$Q339,\"dd/mm/yyyy\")),\"\")","v":""}]
[{"$f":"IF(B340=\"\",\"\",MAX(A$22:A339)+1)","v":""},{"$f":"IF($C340=Reference!$J$3,CONCATENATE('4. Shpenzimet e partisë'!$O340,\"-\",'4. Shpenzimet e partisë'!$P340,\"-\",TEXT('4. Shpenzimet e partisë'!$Q340,\"dd/mm/yyyy\")),\"\")","v":""}]
[{"$f":"IF(B341=\"\",\"\",MAX(A$22:A340)+1)","v":""},{"$f":"IF($C341=Reference!$J$3,CONCATENATE('4. Shpenzimet e partisë'!$O341,\"-\",'4. Shpenzimet e partisë'!$P341,\"-\",TEXT('4. Shpenzimet e partisë'!$Q341,\"dd/mm/yyyy\")),\"\")","v":""}]
[{"$f":"IF(B342=\"\",\"\",MAX(A$22:A341)+1)","v":""},{"$f":"IF($C342=Reference!$J$3,CONCATENATE('4. Shpenzimet e partisë'!$O342,\"-\",'4. Shpenzimet e partisë'!$P342,\"-\",TEXT('4. Shpenzimet e partisë'!$Q342,\"dd/mm/yyyy\")),\"\")","v":""}]
[{"$f":"IF(B343=\"\",\"\",MAX(A$22:A342)+1)","v":""},{"$f":"IF($C343=Reference!$J$3,CONCATENATE('4. Shpenzimet e partisë'!$O343,\"-\",'4. Shpenzimet e partisë'!$P343,\"-\",TEXT('4. Shpenzimet e partisë'!$Q343,\"dd/mm/yyyy\")),\"\")","v":""}]
[{"$f":"IF(B344=\"\",\"\",MAX(A$22:A343)+1)","v":""},{"$f":"IF($C344=Reference!$J$3,CONCATENATE('4. Shpenzimet e partisë'!$O344,\"-\",'4. Shpenzimet e partisë'!$P344,\"-\",TEXT('4. Shpenzimet e partisë'!$Q344,\"dd/mm/yyyy\")),\"\")","v":""}]
[{"$f":"IF(B345=\"\",\"\",MAX(A$22:A344)+1)","v":""},{"$f":"IF($C345=Reference!$J$3,CONCATENATE('4. Shpenzimet e partisë'!$O345,\"-\",'4. Shpenzimet e partisë'!$P345,\"-\",TEXT('4. Shpenzimet e partisë'!$Q345,\"dd/mm/yyyy\")),\"\")","v":""}]
[{"$f":"IF(B346=\"\",\"\",MAX(A$22:A345)+1)","v":""},{"$f":"IF($C346=Reference!$J$3,CONCATENATE('4. Shpenzimet e partisë'!$O346,\"-\",'4. Shpenzimet e partisë'!$P346,\"-\",TEXT('4. Shpenzimet e partisë'!$Q346,\"dd/mm/yyyy\")),\"\")","v":""}]
[{"$f":"IF(B347=\"\",\"\",MAX(A$22:A346)+1)","v":""},{"$f":"IF($C347=Reference!$J$3,CONCATENATE('4. Shpenzimet e partisë'!$O347,\"-\",'4. Shpenzimet e partisë'!$P347,\"-\",TEXT('4. Shpenzimet e partisë'!$Q347,\"dd/mm/yyyy\")),\"\")","v":""}]
[{"$f":"IF(B348=\"\",\"\",MAX(A$22:A347)+1)","v":""},{"$f":"IF($C348=Reference!$J$3,CONCATENATE('4. Shpenzimet e partisë'!$O348,\"-\",'4. Shpenzimet e partisë'!$P348,\"-\",TEXT('4. Shpenzimet e partisë'!$Q348,\"dd/mm/yyyy\")),\"\")","v":""}]
[{"$f":"IF(B349=\"\",\"\",MAX(A$22:A348)+1)","v":""},{"$f":"IF($C349=Reference!$J$3,CONCATENATE('4. Shpenzimet e partisë'!$O349,\"-\",'4. Shpenzimet e partisë'!$P349,\"-\",TEXT('4. Shpenzimet e partisë'!$Q349,\"dd/mm/yyyy\")),\"\")","v":""}]
[{"$f":"IF(B350=\"\",\"\",MAX(A$22:A349)+1)","v":""},{"$f":"IF($C350=Reference!$J$3,CONCATENATE('4. Shpenzimet e partisë'!$O350,\"-\",'4. Shpenzimet e partisë'!$P350,\"-\",TEXT('4. Shpenzimet e partisë'!$Q350,\"dd/mm/yyyy\")),\"\")","v":""}]
[{"$f":"IF(B351=\"\",\"\",MAX(A$22:A350)+1)","v":""},{"$f":"IF($C351=Reference!$J$3,CONCATENATE('4. Shpenzimet e partisë'!$O351,\"-\",'4. Shpenzimet e partisë'!$P351,\"-\",TEXT('4. Shpenzimet e partisë'!$Q351,\"dd/mm/yyyy\")),\"\")","v":""}]
[{"$f":"IF(B352=\"\",\"\",MAX(A$22:A351)+1)","v":""},{"$f":"IF($C352=Reference!$J$3,CONCATENATE('4. Shpenzimet e partisë'!$O352,\"-\",'4. Shpenzimet e partisë'!$P352,\"-\",TEXT('4. Shpenzimet e partisë'!$Q352,\"dd/mm/yyyy\")),\"\")","v":""}]
[{"$f":"IF(B353=\"\",\"\",MAX(A$22:A352)+1)","v":""},{"$f":"IF($C353=Reference!$J$3,CONCATENATE('4. Shpenzimet e partisë'!$O353,\"-\",'4. Shpenzimet e partisë'!$P353,\"-\",TEXT('4. Shpenzimet e partisë'!$Q353,\"dd/mm/yyyy\")),\"\")","v":""}]
[{"$f":"IF(B354=\"\",\"\",MAX(A$22:A353)+1)","v":""},{"$f":"IF($C354=Reference!$J$3,CONCATENATE('4. Shpenzimet e partisë'!$O354,\"-\",'4. Shpenzimet e partisë'!$P354,\"-\",TEXT('4. Shpenzimet e partisë'!$Q354,\"dd/mm/yyyy\")),\"\")","v":""}]
[{"$f":"IF(B355=\"\",\"\",MAX(A$22:A354)+1)","v":""},{"$f":"IF($C355=Reference!$J$3,CONCATENATE('4. Shpenzimet e partisë'!$O355,\"-\",'4. Shpenzimet e partisë'!$P355,\"-\",TEXT('4. Shpenzimet e partisë'!$Q355,\"dd/mm/yyyy\")),\"\")","v":""}]
[{"$f":"IF(B356=\"\",\"\",MAX(A$22:A355)+1)","v":""},{"$f":"IF($C356=Reference!$J$3,CONCATENATE('4. Shpenzimet e partisë'!$O356,\"-\",'4. Shpenzimet e partisë'!$P356,\"-\",TEXT('4. Shpenzimet e partisë'!$Q356,\"dd/mm/yyyy\")),\"\")","v":""}]
[{"$f":"IF(B357=\"\",\"\",MAX(A$22:A356)+1)","v":""},{"$f":"IF($C357=Reference!$J$3,CONCATENATE('4. Shpenzimet e partisë'!$O357,\"-\",'4. Shpenzimet e partisë'!$P357,\"-\",TEXT('4. Shpenzimet e partisë'!$Q357,\"dd/mm/yyyy\")),\"\")","v":""}]
[{"$f":"IF(B358=\"\",\"\",MAX(A$22:A357)+1)","v":""},{"$f":"IF($C358=Reference!$J$3,CONCATENATE('4. Shpenzimet e partisë'!$O358,\"-\",'4. Shpenzimet e partisë'!$P358,\"-\",TEXT('4. Shpenzimet e partisë'!$Q358,\"dd/mm/yyyy\")),\"\")","v":""}]
[{"$f":"IF(B359=\"\",\"\",MAX(A$22:A358)+1)","v":""},{"$f":"IF($C359=Reference!$J$3,CONCATENATE('4. Shpenzimet e partisë'!$O359,\"-\",'4. Shpenzimet e partisë'!$P359,\"-\",TEXT('4. Shpenzimet e partisë'!$Q359,\"dd/mm/yyyy\")),\"\")","v":""}]
[{"$f":"IF(B360=\"\",\"\",MAX(A$22:A359)+1)","v":""},{"$f":"IF($C360=Reference!$J$3,CONCATENATE('4. Shpenzimet e partisë'!$O360,\"-\",'4. Shpenzimet e partisë'!$P360,\"-\",TEXT('4. Shpenzimet e partisë'!$Q360,\"dd/mm/yyyy\")),\"\")","v":""}]
[{"$f":"IF(B361=\"\",\"\",MAX(A$22:A360)+1)","v":""},{"$f":"IF($C361=Reference!$J$3,CONCATENATE('4. Shpenzimet e partisë'!$O361,\"-\",'4. Shpenzimet e partisë'!$P361,\"-\",TEXT('4. Shpenzimet e partisë'!$Q361,\"dd/mm/yyyy\")),\"\")","v":""}]
[{"$f":"IF(B362=\"\",\"\",MAX(A$22:A361)+1)","v":""},{"$f":"IF($C362=Reference!$J$3,CONCATENATE('4. Shpenzimet e partisë'!$O362,\"-\",'4. Shpenzimet e partisë'!$P362,\"-\",TEXT('4. Shpenzimet e partisë'!$Q362,\"dd/mm/yyyy\")),\"\")","v":""}]
[{"$f":"IF(B363=\"\",\"\",MAX(A$22:A362)+1)","v":""},{"$f":"IF($C363=Reference!$J$3,CONCATENATE('4. Shpenzimet e partisë'!$O363,\"-\",'4. Shpenzimet e partisë'!$P363,\"-\",TEXT('4. Shpenzimet e partisë'!$Q363,\"dd/mm/yyyy\")),\"\")","v":""}]
[{"$f":"IF(B364=\"\",\"\",MAX(A$22:A363)+1)","v":""},{"$f":"IF($C364=Reference!$J$3,CONCATENATE('4. Shpenzimet e partisë'!$O364,\"-\",'4. Shpenzimet e partisë'!$P364,\"-\",TEXT('4. Shpenzimet e partisë'!$Q364,\"dd/mm/yyyy\")),\"\")","v":""}]
[{"$f":"IF(B365=\"\",\"\",MAX(A$22:A364)+1)","v":""},{"$f":"IF($C365=Reference!$J$3,CONCATENATE('4. Shpenzimet e partisë'!$O365,\"-\",'4. Shpenzimet e partisë'!$P365,\"-\",TEXT('4. Shpenzimet e partisë'!$Q365,\"dd/mm/yyyy\")),\"\")","v":""}]
[{"$f":"IF(B366=\"\",\"\",MAX(A$22:A365)+1)","v":""},{"$f":"IF($C366=Reference!$J$3,CONCATENATE('4. Shpenzimet e partisë'!$O366,\"-\",'4. Shpenzimet e partisë'!$P366,\"-\",TEXT('4. Shpenzimet e partisë'!$Q366,\"dd/mm/yyyy\")),\"\")","v":""}]
[{"$f":"IF(B367=\"\",\"\",MAX(A$22:A366)+1)","v":""},{"$f":"IF($C367=Reference!$J$3,CONCATENATE('4. Shpenzimet e partisë'!$O367,\"-\",'4. Shpenzimet e partisë'!$P367,\"-\",TEXT('4. Shpenzimet e partisë'!$Q367,\"dd/mm/yyyy\")),\"\")","v":""}]
[{"$f":"IF(B368=\"\",\"\",MAX(A$22:A367)+1)","v":""},{"$f":"IF($C368=Reference!$J$3,CONCATENATE('4. Shpenzimet e partisë'!$O368,\"-\",'4. Shpenzimet e partisë'!$P368,\"-\",TEXT('4. Shpenzimet e partisë'!$Q368,\"dd/mm/yyyy\")),\"\")","v":""}]
[{"$f":"IF(B369=\"\",\"\",MAX(A$22:A368)+1)","v":""},{"$f":"IF($C369=Reference!$J$3,CONCATENATE('4. Shpenzimet e partisë'!$O369,\"-\",'4. Shpenzimet e partisë'!$P369,\"-\",TEXT('4. Shpenzimet e partisë'!$Q369,\"dd/mm/yyyy\")),\"\")","v":""}]
[{"$f":"IF(B370=\"\",\"\",MAX(A$22:A369)+1)","v":""},{"$f":"IF($C370=Reference!$J$3,CONCATENATE('4. Shpenzimet e partisë'!$O370,\"-\",'4. Shpenzimet e partisë'!$P370,\"-\",TEXT('4. Shpenzimet e partisë'!$Q370,\"dd/mm/yyyy\")),\"\")","v":""}]
[{"$f":"IF(B371=\"\",\"\",MAX(A$22:A370)+1)","v":""},{"$f":"IF($C371=Reference!$J$3,CONCATENATE('4. Shpenzimet e partisë'!$O371,\"-\",'4. Shpenzimet e partisë'!$P371,\"-\",TEXT('4. Shpenzimet e partisë'!$Q371,\"dd/mm/yyyy\")),\"\")","v":""}]
[{"$f":"IF(B372=\"\",\"\",MAX(A$22:A371)+1)","v":""},{"$f":"IF($C372=Reference!$J$3,CONCATENATE('4. Shpenzimet e partisë'!$O372,\"-\",'4. Shpenzimet e partisë'!$P372,\"-\",TEXT('4. Shpenzimet e partisë'!$Q372,\"dd/mm/yyyy\")),\"\")","v":""}]
[{"$f":"IF(B373=\"\",\"\",MAX(A$22:A372)+1)","v":""},{"$f":"IF($C373=Reference!$J$3,CONCATENATE('4. Shpenzimet e partisë'!$O373,\"-\",'4. Shpenzimet e partisë'!$P373,\"-\",TEXT('4. Shpenzimet e partisë'!$Q373,\"dd/mm/yyyy\")),\"\")","v":""}]
[{"$f":"IF(B374=\"\",\"\",MAX(A$22:A373)+1)","v":""},{"$f":"IF($C374=Reference!$J$3,CONCATENATE('4. Shpenzimet e partisë'!$O374,\"-\",'4. Shpenzimet e partisë'!$P374,\"-\",TEXT('4. Shpenzimet e partisë'!$Q374,\"dd/mm/yyyy\")),\"\")","v":""}]
[{"$f":"IF(B375=\"\",\"\",MAX(A$22:A374)+1)","v":""},{"$f":"IF($C375=Reference!$J$3,CONCATENATE('4. Shpenzimet e partisë'!$O375,\"-\",'4. Shpenzimet e partisë'!$P375,\"-\",TEXT('4. Shpenzimet e partisë'!$Q375,\"dd/mm/yyyy\")),\"\")","v":""}]
[{"$f":"IF(B376=\"\",\"\",MAX(A$22:A375)+1)","v":""},{"$f":"IF($C376=Reference!$J$3,CONCATENATE('4. Shpenzimet e partisë'!$O376,\"-\",'4. Shpenzimet e partisë'!$P376,\"-\",TEXT('4. Shpenzimet e partisë'!$Q376,\"dd/mm/yyyy\")),\"\")","v":""}]
[{"$f":"IF(B377=\"\",\"\",MAX(A$22:A376)+1)","v":""},{"$f":"IF($C377=Reference!$J$3,CONCATENATE('4. Shpenzimet e partisë'!$O377,\"-\",'4. Shpenzimet e partisë'!$P377,\"-\",TEXT('4. Shpenzimet e partisë'!$Q377,\"dd/mm/yyyy\")),\"\")","v":""}]
[{"$f":"IF(B378=\"\",\"\",MAX(A$22:A377)+1)","v":""},{"$f":"IF($C378=Reference!$J$3,CONCATENATE('4. Shpenzimet e partisë'!$O378,\"-\",'4. Shpenzimet e partisë'!$P378,\"-\",TEXT('4. Shpenzimet e partisë'!$Q378,\"dd/mm/yyyy\")),\"\")","v":""}]
[{"$f":"IF(B379=\"\",\"\",MAX(A$22:A378)+1)","v":""},{"$f":"IF($C379=Reference!$J$3,CONCATENATE('4. Shpenzimet e partisë'!$O379,\"-\",'4. Shpenzimet e partisë'!$P379,\"-\",TEXT('4. Shpenzimet e partisë'!$Q379,\"dd/mm/yyyy\")),\"\")","v":""}]
[{"$f":"IF(B380=\"\",\"\",MAX(A$22:A379)+1)","v":""},{"$f":"IF($C380=Reference!$J$3,CONCATENATE('4. Shpenzimet e partisë'!$O380,\"-\",'4. Shpenzimet e partisë'!$P380,\"-\",TEXT('4. Shpenzimet e partisë'!$Q380,\"dd/mm/yyyy\")),\"\")","v":""}]
[{"$f":"IF(B381=\"\",\"\",MAX(A$22:A380)+1)","v":""},{"$f":"IF($C381=Reference!$J$3,CONCATENATE('4. Shpenzimet e partisë'!$O381,\"-\",'4. Shpenzimet e partisë'!$P381,\"-\",TEXT('4. Shpenzimet e partisë'!$Q381,\"dd/mm/yyyy\")),\"\")","v":""}]
[{"$f":"IF(B382=\"\",\"\",MAX(A$22:A381)+1)","v":""},{"$f":"IF($C382=Reference!$J$3,CONCATENATE('4. Shpenzimet e partisë'!$O382,\"-\",'4. Shpenzimet e partisë'!$P382,\"-\",TEXT('4. Shpenzimet e partisë'!$Q382,\"dd/mm/yyyy\")),\"\")","v":""}]
[{"$f":"IF(B383=\"\",\"\",MAX(A$22:A382)+1)","v":""},{"$f":"IF($C383=Reference!$J$3,CONCATENATE('4. Shpenzimet e partisë'!$O383,\"-\",'4. Shpenzimet e partisë'!$P383,\"-\",TEXT('4. Shpenzimet e partisë'!$Q383,\"dd/mm/yyyy\")),\"\")","v":""}]
[{"$f":"IF(B384=\"\",\"\",MAX(A$22:A383)+1)","v":""},{"$f":"IF($C384=Reference!$J$3,CONCATENATE('4. Shpenzimet e partisë'!$O384,\"-\",'4. Shpenzimet e partisë'!$P384,\"-\",TEXT('4. Shpenzimet e partisë'!$Q384,\"dd/mm/yyyy\")),\"\")","v":""}]
[{"$f":"IF(B385=\"\",\"\",MAX(A$22:A384)+1)","v":""},{"$f":"IF($C385=Reference!$J$3,CONCATENATE('4. Shpenzimet e partisë'!$O385,\"-\",'4. Shpenzimet e partisë'!$P385,\"-\",TEXT('4. Shpenzimet e partisë'!$Q385,\"dd/mm/yyyy\")),\"\")","v":""}]
[{"$f":"IF(B386=\"\",\"\",MAX(A$22:A385)+1)","v":""},{"$f":"IF($C386=Reference!$J$3,CONCATENATE('4. Shpenzimet e partisë'!$O386,\"-\",'4. Shpenzimet e partisë'!$P386,\"-\",TEXT('4. Shpenzimet e partisë'!$Q386,\"dd/mm/yyyy\")),\"\")","v":""}]
[{"$f":"IF(B387=\"\",\"\",MAX(A$22:A386)+1)","v":""},{"$f":"IF($C387=Reference!$J$3,CONCATENATE('4. Shpenzimet e partisë'!$O387,\"-\",'4. Shpenzimet e partisë'!$P387,\"-\",TEXT('4. Shpenzimet e partisë'!$Q387,\"dd/mm/yyyy\")),\"\")","v":""}]
[{"$f":"IF(B388=\"\",\"\",MAX(A$22:A387)+1)","v":""},{"$f":"IF($C388=Reference!$J$3,CONCATENATE('4. Shpenzimet e partisë'!$O388,\"-\",'4. Shpenzimet e partisë'!$P388,\"-\",TEXT('4. Shpenzimet e partisë'!$Q388,\"dd/mm/yyyy\")),\"\")","v":""}]
[{"$f":"IF(B389=\"\",\"\",MAX(A$22:A388)+1)","v":""},{"$f":"IF($C389=Reference!$J$3,CONCATENATE('4. Shpenzimet e partisë'!$O389,\"-\",'4. Shpenzimet e partisë'!$P389,\"-\",TEXT('4. Shpenzimet e partisë'!$Q389,\"dd/mm/yyyy\")),\"\")","v":""}]
[{"$f":"IF(B390=\"\",\"\",MAX(A$22:A389)+1)","v":""},{"$f":"IF($C390=Reference!$J$3,CONCATENATE('4. Shpenzimet e partisë'!$O390,\"-\",'4. Shpenzimet e partisë'!$P390,\"-\",TEXT('4. Shpenzimet e partisë'!$Q390,\"dd/mm/yyyy\")),\"\")","v":""}]
[{"$f":"IF(B391=\"\",\"\",MAX(A$22:A390)+1)","v":""},{"$f":"IF($C391=Reference!$J$3,CONCATENATE('4. Shpenzimet e partisë'!$O391,\"-\",'4. Shpenzimet e partisë'!$P391,\"-\",TEXT('4. Shpenzimet e partisë'!$Q391,\"dd/mm/yyyy\")),\"\")","v":""}]
[{"$f":"IF(B392=\"\",\"\",MAX(A$22:A391)+1)","v":""},{"$f":"IF($C392=Reference!$J$3,CONCATENATE('4. Shpenzimet e partisë'!$O392,\"-\",'4. Shpenzimet e partisë'!$P392,\"-\",TEXT('4. Shpenzimet e partisë'!$Q392,\"dd/mm/yyyy\")),\"\")","v":""}]
[{"$f":"IF(B393=\"\",\"\",MAX(A$22:A392)+1)","v":""},{"$f":"IF($C393=Reference!$J$3,CONCATENATE('4. Shpenzimet e partisë'!$O393,\"-\",'4. Shpenzimet e partisë'!$P393,\"-\",TEXT('4. Shpenzimet e partisë'!$Q393,\"dd/mm/yyyy\")),\"\")","v":""}]
[{"$f":"IF(B394=\"\",\"\",MAX(A$22:A393)+1)","v":""},{"$f":"IF($C394=Reference!$J$3,CONCATENATE('4. Shpenzimet e partisë'!$O394,\"-\",'4. Shpenzimet e partisë'!$P394,\"-\",TEXT('4. Shpenzimet e partisë'!$Q394,\"dd/mm/yyyy\")),\"\")","v":""}]
[{"$f":"IF(B395=\"\",\"\",MAX(A$22:A394)+1)","v":""},{"$f":"IF($C395=Reference!$J$3,CONCATENATE('4. Shpenzimet e partisë'!$O395,\"-\",'4. Shpenzimet e partisë'!$P395,\"-\",TEXT('4. Shpenzimet e partisë'!$Q395,\"dd/mm/yyyy\")),\"\")","v":""}]
[{"$f":"IF(B396=\"\",\"\",MAX(A$22:A395)+1)","v":""},{"$f":"IF($C396=Reference!$J$3,CONCATENATE('4. Shpenzimet e partisë'!$O396,\"-\",'4. Shpenzimet e partisë'!$P396,\"-\",TEXT('4. Shpenzimet e partisë'!$Q396,\"dd/mm/yyyy\")),\"\")","v":""}]
[{"$f":"IF(B397=\"\",\"\",MAX(A$22:A396)+1)","v":""},{"$f":"IF($C397=Reference!$J$3,CONCATENATE('4. Shpenzimet e partisë'!$O397,\"-\",'4. Shpenzimet e partisë'!$P397,\"-\",TEXT('4. Shpenzimet e partisë'!$Q397,\"dd/mm/yyyy\")),\"\")","v":""}]
[{"$f":"IF(B398=\"\",\"\",MAX(A$22:A397)+1)","v":""},{"$f":"IF($C398=Reference!$J$3,CONCATENATE('4. Shpenzimet e partisë'!$O398,\"-\",'4. Shpenzimet e partisë'!$P398,\"-\",TEXT('4. Shpenzimet e partisë'!$Q398,\"dd/mm/yyyy\")),\"\")","v":""}]
[{"$f":"IF(B399=\"\",\"\",MAX(A$22:A398)+1)","v":""},{"$f":"IF($C399=Reference!$J$3,CONCATENATE('4. Shpenzimet e partisë'!$O399,\"-\",'4. Shpenzimet e partisë'!$P399,\"-\",TEXT('4. Shpenzimet e partisë'!$Q399,\"dd/mm/yyyy\")),\"\")","v":""}]
[{"$f":"IF(B400=\"\",\"\",MAX(A$22:A399)+1)","v":""},{"$f":"IF($C400=Reference!$J$3,CONCATENATE('4. Shpenzimet e partisë'!$O400,\"-\",'4. Shpenzimet e partisë'!$P400,\"-\",TEXT('4. Shpenzimet e partisë'!$Q400,\"dd/mm/yyyy\")),\"\")","v":""}]
[{"$f":"IF(B401=\"\",\"\",MAX(A$22:A400)+1)","v":""},{"$f":"IF($C401=Reference!$J$3,CONCATENATE('4. Shpenzimet e partisë'!$O401,\"-\",'4. Shpenzimet e partisë'!$P401,\"-\",TEXT('4. Shpenzimet e partisë'!$Q401,\"dd/mm/yyyy\")),\"\")","v":""}]
[{"$f":"IF(B402=\"\",\"\",MAX(A$22:A401)+1)","v":""},{"$f":"IF($C402=Reference!$J$3,CONCATENATE('4. Shpenzimet e partisë'!$O402,\"-\",'4. Shpenzimet e partisë'!$P402,\"-\",TEXT('4. Shpenzimet e partisë'!$Q402,\"dd/mm/yyyy\")),\"\")","v":""}]
[{"$f":"IF(B403=\"\",\"\",MAX(A$22:A402)+1)","v":""},{"$f":"IF($C403=Reference!$J$3,CONCATENATE('4. Shpenzimet e partisë'!$O403,\"-\",'4. Shpenzimet e partisë'!$P403,\"-\",TEXT('4. Shpenzimet e partisë'!$Q403,\"dd/mm/yyyy\")),\"\")","v":""}]
[{"$f":"IF(B404=\"\",\"\",MAX(A$22:A403)+1)","v":""},{"$f":"IF($C404=Reference!$J$3,CONCATENATE('4. Shpenzimet e partisë'!$O404,\"-\",'4. Shpenzimet e partisë'!$P404,\"-\",TEXT('4. Shpenzimet e partisë'!$Q404,\"dd/mm/yyyy\")),\"\")","v":""}]
[{"$f":"IF(B405=\"\",\"\",MAX(A$22:A404)+1)","v":""},{"$f":"IF($C405=Reference!$J$3,CONCATENATE('4. Shpenzimet e partisë'!$O405,\"-\",'4. Shpenzimet e partisë'!$P405,\"-\",TEXT('4. Shpenzimet e partisë'!$Q405,\"dd/mm/yyyy\")),\"\")","v":""}]
[{"$f":"IF(B406=\"\",\"\",MAX(A$22:A405)+1)","v":""},{"$f":"IF($C406=Reference!$J$3,CONCATENATE('4. Shpenzimet e partisë'!$O406,\"-\",'4. Shpenzimet e partisë'!$P406,\"-\",TEXT('4. Shpenzimet e partisë'!$Q406,\"dd/mm/yyyy\")),\"\")","v":""}]
[{"$f":"IF(B407=\"\",\"\",MAX(A$22:A406)+1)","v":""},{"$f":"IF($C407=Reference!$J$3,CONCATENATE('4. Shpenzimet e partisë'!$O407,\"-\",'4. Shpenzimet e partisë'!$P407,\"-\",TEXT('4. Shpenzimet e partisë'!$Q407,\"dd/mm/yyyy\")),\"\")","v":""}]
[{"$f":"IF(B408=\"\",\"\",MAX(A$22:A407)+1)","v":""},{"$f":"IF($C408=Reference!$J$3,CONCATENATE('4. Shpenzimet e partisë'!$O408,\"-\",'4. Shpenzimet e partisë'!$P408,\"-\",TEXT('4. Shpenzimet e partisë'!$Q408,\"dd/mm/yyyy\")),\"\")","v":""}]
[{"$f":"IF(B409=\"\",\"\",MAX(A$22:A408)+1)","v":""},{"$f":"IF($C409=Reference!$J$3,CONCATENATE('4. Shpenzimet e partisë'!$O409,\"-\",'4. Shpenzimet e partisë'!$P409,\"-\",TEXT('4. Shpenzimet e partisë'!$Q409,\"dd/mm/yyyy\")),\"\")","v":""}]
[{"$f":"IF(B410=\"\",\"\",MAX(A$22:A409)+1)","v":""},{"$f":"IF($C410=Reference!$J$3,CONCATENATE('4. Shpenzimet e partisë'!$O410,\"-\",'4. Shpenzimet e partisë'!$P410,\"-\",TEXT('4. Shpenzimet e partisë'!$Q410,\"dd/mm/yyyy\")),\"\")","v":""}]
[{"$f":"IF(B411=\"\",\"\",MAX(A$22:A410)+1)","v":""},{"$f":"IF($C411=Reference!$J$3,CONCATENATE('4. Shpenzimet e partisë'!$O411,\"-\",'4. Shpenzimet e partisë'!$P411,\"-\",TEXT('4. Shpenzimet e partisë'!$Q411,\"dd/mm/yyyy\")),\"\")","v":""}]
[{"$f":"IF(B412=\"\",\"\",MAX(A$22:A411)+1)","v":""},{"$f":"IF($C412=Reference!$J$3,CONCATENATE('4. Shpenzimet e partisë'!$O412,\"-\",'4. Shpenzimet e partisë'!$P412,\"-\",TEXT('4. Shpenzimet e partisë'!$Q412,\"dd/mm/yyyy\")),\"\")","v":""}]
[{"$f":"IF(B413=\"\",\"\",MAX(A$22:A412)+1)","v":""},{"$f":"IF($C413=Reference!$J$3,CONCATENATE('4. Shpenzimet e partisë'!$O413,\"-\",'4. Shpenzimet e partisë'!$P413,\"-\",TEXT('4. Shpenzimet e partisë'!$Q413,\"dd/mm/yyyy\")),\"\")","v":""}]
[{"$f":"IF(B414=\"\",\"\",MAX(A$22:A413)+1)","v":""},{"$f":"IF($C414=Reference!$J$3,CONCATENATE('4. Shpenzimet e partisë'!$O414,\"-\",'4. Shpenzimet e partisë'!$P414,\"-\",TEXT('4. Shpenzimet e partisë'!$Q414,\"dd/mm/yyyy\")),\"\")","v":""}]
[{"$f":"IF(B415=\"\",\"\",MAX(A$22:A414)+1)","v":""},{"$f":"IF($C415=Reference!$J$3,CONCATENATE('4. Shpenzimet e partisë'!$O415,\"-\",'4. Shpenzimet e partisë'!$P415,\"-\",TEXT('4. Shpenzimet e partisë'!$Q415,\"dd/mm/yyyy\")),\"\")","v":""}]
[{"$f":"IF(B416=\"\",\"\",MAX(A$22:A415)+1)","v":""},{"$f":"IF($C416=Reference!$J$3,CONCATENATE('4. Shpenzimet e partisë'!$O416,\"-\",'4. Shpenzimet e partisë'!$P416,\"-\",TEXT('4. Shpenzimet e partisë'!$Q416,\"dd/mm/yyyy\")),\"\")","v":""}]
[{"$f":"IF(B417=\"\",\"\",MAX(A$22:A416)+1)","v":""},{"$f":"IF($C417=Reference!$J$3,CONCATENATE('4. Shpenzimet e partisë'!$O417,\"-\",'4. Shpenzimet e partisë'!$P417,\"-\",TEXT('4. Shpenzimet e partisë'!$Q417,\"dd/mm/yyyy\")),\"\")","v":""}]
[{"$f":"IF(B418=\"\",\"\",MAX(A$22:A417)+1)","v":""},{"$f":"IF($C418=Reference!$J$3,CONCATENATE('4. Shpenzimet e partisë'!$O418,\"-\",'4. Shpenzimet e partisë'!$P418,\"-\",TEXT('4. Shpenzimet e partisë'!$Q418,\"dd/mm/yyyy\")),\"\")","v":""}]
[{"$f":"IF(B419=\"\",\"\",MAX(A$22:A418)+1)","v":""},{"$f":"IF($C419=Reference!$J$3,CONCATENATE('4. Shpenzimet e partisë'!$O419,\"-\",'4. Shpenzimet e partisë'!$P419,\"-\",TEXT('4. Shpenzimet e partisë'!$Q419,\"dd/mm/yyyy\")),\"\")","v":""}]
[{"$f":"IF(B420=\"\",\"\",MAX(A$22:A419)+1)","v":""},{"$f":"IF($C420=Reference!$J$3,CONCATENATE('4. Shpenzimet e partisë'!$O420,\"-\",'4. Shpenzimet e partisë'!$P420,\"-\",TEXT('4. Shpenzimet e partisë'!$Q420,\"dd/mm/yyyy\")),\"\")","v":""}]
[{"$f":"IF(B421=\"\",\"\",MAX(A$22:A420)+1)","v":""},{"$f":"IF($C421=Reference!$J$3,CONCATENATE('4. Shpenzimet e partisë'!$O421,\"-\",'4. Shpenzimet e partisë'!$P421,\"-\",TEXT('4. Shpenzimet e partisë'!$Q421,\"dd/mm/yyyy\")),\"\")","v":""}]
[{"$f":"IF(B422=\"\",\"\",MAX(A$22:A421)+1)","v":""},{"$f":"IF($C422=Reference!$J$3,CONCATENATE('4. Shpenzimet e partisë'!$O422,\"-\",'4. Shpenzimet e partisë'!$P422,\"-\",TEXT('4. Shpenzimet e partisë'!$Q422,\"dd/mm/yyyy\")),\"\")","v":""}]
[{"$f":"IF(B423=\"\",\"\",MAX(A$22:A422)+1)","v":""},{"$f":"IF($C423=Reference!$J$3,CONCATENATE('4. Shpenzimet e partisë'!$O423,\"-\",'4. Shpenzimet e partisë'!$P423,\"-\",TEXT('4. Shpenzimet e partisë'!$Q423,\"dd/mm/yyyy\")),\"\")","v":""}]
[{"$f":"IF(B424=\"\",\"\",MAX(A$22:A423)+1)","v":""},{"$f":"IF($C424=Reference!$J$3,CONCATENATE('4. Shpenzimet e partisë'!$O424,\"-\",'4. Shpenzimet e partisë'!$P424,\"-\",TEXT('4. Shpenzimet e partisë'!$Q424,\"dd/mm/yyyy\")),\"\")","v":""}]
[{"$f":"IF(B425=\"\",\"\",MAX(A$22:A424)+1)","v":""},{"$f":"IF($C425=Reference!$J$3,CONCATENATE('4. Shpenzimet e partisë'!$O425,\"-\",'4. Shpenzimet e partisë'!$P425,\"-\",TEXT('4. Shpenzimet e partisë'!$Q425,\"dd/mm/yyyy\")),\"\")","v":""}]
[{"$f":"IF(B426=\"\",\"\",MAX(A$22:A425)+1)","v":""},{"$f":"IF($C426=Reference!$J$3,CONCATENATE('4. Shpenzimet e partisë'!$O426,\"-\",'4. Shpenzimet e partisë'!$P426,\"-\",TEXT('4. Shpenzimet e partisë'!$Q426,\"dd/mm/yyyy\")),\"\")","v":""}]
[{"$f":"IF(B427=\"\",\"\",MAX(A$22:A426)+1)","v":""},{"$f":"IF($C427=Reference!$J$3,CONCATENATE('4. Shpenzimet e partisë'!$O427,\"-\",'4. Shpenzimet e partisë'!$P427,\"-\",TEXT('4. Shpenzimet e partisë'!$Q427,\"dd/mm/yyyy\")),\"\")","v":""}]
[{"$f":"IF(B428=\"\",\"\",MAX(A$22:A427)+1)","v":""},{"$f":"IF($C428=Reference!$J$3,CONCATENATE('4. Shpenzimet e partisë'!$O428,\"-\",'4. Shpenzimet e partisë'!$P428,\"-\",TEXT('4. Shpenzimet e partisë'!$Q428,\"dd/mm/yyyy\")),\"\")","v":""}]
[{"$f":"IF(B429=\"\",\"\",MAX(A$22:A428)+1)","v":""},{"$f":"IF($C429=Reference!$J$3,CONCATENATE('4. Shpenzimet e partisë'!$O429,\"-\",'4. Shpenzimet e partisë'!$P429,\"-\",TEXT('4. Shpenzimet e partisë'!$Q429,\"dd/mm/yyyy\")),\"\")","v":""}]
[{"$f":"IF(B430=\"\",\"\",MAX(A$22:A429)+1)","v":""},{"$f":"IF($C430=Reference!$J$3,CONCATENATE('4. Shpenzimet e partisë'!$O430,\"-\",'4. Shpenzimet e partisë'!$P430,\"-\",TEXT('4. Shpenzimet e partisë'!$Q430,\"dd/mm/yyyy\")),\"\")","v":""}]
[{"$f":"IF(B431=\"\",\"\",MAX(A$22:A430)+1)","v":""},{"$f":"IF($C431=Reference!$J$3,CONCATENATE('4. Shpenzimet e partisë'!$O431,\"-\",'4. Shpenzimet e partisë'!$P431,\"-\",TEXT('4. Shpenzimet e partisë'!$Q431,\"dd/mm/yyyy\")),\"\")","v":""}]
[{"$f":"IF(B432=\"\",\"\",MAX(A$22:A431)+1)","v":""},{"$f":"IF($C432=Reference!$J$3,CONCATENATE('4. Shpenzimet e partisë'!$O432,\"-\",'4. Shpenzimet e partisë'!$P432,\"-\",TEXT('4. Shpenzimet e partisë'!$Q432,\"dd/mm/yyyy\")),\"\")","v":""}]
[{"$f":"IF(B433=\"\",\"\",MAX(A$22:A432)+1)","v":""},{"$f":"IF($C433=Reference!$J$3,CONCATENATE('4. Shpenzimet e partisë'!$O433,\"-\",'4. Shpenzimet e partisë'!$P433,\"-\",TEXT('4. Shpenzimet e partisë'!$Q433,\"dd/mm/yyyy\")),\"\")","v":""}]
[{"$f":"IF(B434=\"\",\"\",MAX(A$22:A433)+1)","v":""},{"$f":"IF($C434=Reference!$J$3,CONCATENATE('4. Shpenzimet e partisë'!$O434,\"-\",'4. Shpenzimet e partisë'!$P434,\"-\",TEXT('4. Shpenzimet e partisë'!$Q434,\"dd/mm/yyyy\")),\"\")","v":""}]
[{"$f":"IF(B435=\"\",\"\",MAX(A$22:A434)+1)","v":""},{"$f":"IF($C435=Reference!$J$3,CONCATENATE('4. Shpenzimet e partisë'!$O435,\"-\",'4. Shpenzimet e partisë'!$P435,\"-\",TEXT('4. Shpenzimet e partisë'!$Q435,\"dd/mm/yyyy\")),\"\")","v":""}]
[{"$f":"IF(B436=\"\",\"\",MAX(A$22:A435)+1)","v":""},{"$f":"IF($C436=Reference!$J$3,CONCATENATE('4. Shpenzimet e partisë'!$O436,\"-\",'4. Shpenzimet e partisë'!$P436,\"-\",TEXT('4. Shpenzimet e partisë'!$Q436,\"dd/mm/yyyy\")),\"\")","v":""}]
[{"$f":"IF(B437=\"\",\"\",MAX(A$22:A436)+1)","v":""},{"$f":"IF($C437=Reference!$J$3,CONCATENATE('4. Shpenzimet e partisë'!$O437,\"-\",'4. Shpenzimet e partisë'!$P437,\"-\",TEXT('4. Shpenzimet e partisë'!$Q437,\"dd/mm/yyyy\")),\"\")","v":""}]
[{"$f":"IF(B438=\"\",\"\",MAX(A$22:A437)+1)","v":""},{"$f":"IF($C438=Reference!$J$3,CONCATENATE('4. Shpenzimet e partisë'!$O438,\"-\",'4. Shpenzimet e partisë'!$P438,\"-\",TEXT('4. Shpenzimet e partisë'!$Q438,\"dd/mm/yyyy\")),\"\")","v":""}]
[{"$f":"IF(B439=\"\",\"\",MAX(A$22:A438)+1)","v":""},{"$f":"IF($C439=Reference!$J$3,CONCATENATE('4. Shpenzimet e partisë'!$O439,\"-\",'4. Shpenzimet e partisë'!$P439,\"-\",TEXT('4. Shpenzimet e partisë'!$Q439,\"dd/mm/yyyy\")),\"\")","v":""}]
[{"$f":"IF(B440=\"\",\"\",MAX(A$22:A439)+1)","v":""},{"$f":"IF($C440=Reference!$J$3,CONCATENATE('4. Shpenzimet e partisë'!$O440,\"-\",'4. Shpenzimet e partisë'!$P440,\"-\",TEXT('4. Shpenzimet e partisë'!$Q440,\"dd/mm/yyyy\")),\"\")","v":""}]
[{"$f":"IF(B441=\"\",\"\",MAX(A$22:A440)+1)","v":""},{"$f":"IF($C441=Reference!$J$3,CONCATENATE('4. Shpenzimet e partisë'!$O441,\"-\",'4. Shpenzimet e partisë'!$P441,\"-\",TEXT('4. Shpenzimet e partisë'!$Q441,\"dd/mm/yyyy\")),\"\")","v":""}]
[{"$f":"IF(B442=\"\",\"\",MAX(A$22:A441)+1)","v":""},{"$f":"IF($C442=Reference!$J$3,CONCATENATE('4. Shpenzimet e partisë'!$O442,\"-\",'4. Shpenzimet e partisë'!$P442,\"-\",TEXT('4. Shpenzimet e partisë'!$Q442,\"dd/mm/yyyy\")),\"\")","v":""}]
[{"$f":"IF(B443=\"\",\"\",MAX(A$22:A442)+1)","v":""},{"$f":"IF($C443=Reference!$J$3,CONCATENATE('4. Shpenzimet e partisë'!$O443,\"-\",'4. Shpenzimet e partisë'!$P443,\"-\",TEXT('4. Shpenzimet e partisë'!$Q443,\"dd/mm/yyyy\")),\"\")","v":""}]
[{"$f":"IF(B444=\"\",\"\",MAX(A$22:A443)+1)","v":""},{"$f":"IF($C444=Reference!$J$3,CONCATENATE('4. Shpenzimet e partisë'!$O444,\"-\",'4. Shpenzimet e partisë'!$P444,\"-\",TEXT('4. Shpenzimet e partisë'!$Q444,\"dd/mm/yyyy\")),\"\")","v":""}]
[{"$f":"IF(B445=\"\",\"\",MAX(A$22:A444)+1)","v":""},{"$f":"IF($C445=Reference!$J$3,CONCATENATE('4. Shpenzimet e partisë'!$O445,\"-\",'4. Shpenzimet e partisë'!$P445,\"-\",TEXT('4. Shpenzimet e partisë'!$Q445,\"dd/mm/yyyy\")),\"\")","v":""}]
[{"$f":"IF(B446=\"\",\"\",MAX(A$22:A445)+1)","v":""},{"$f":"IF($C446=Reference!$J$3,CONCATENATE('4. Shpenzimet e partisë'!$O446,\"-\",'4. Shpenzimet e partisë'!$P446,\"-\",TEXT('4. Shpenzimet e partisë'!$Q446,\"dd/mm/yyyy\")),\"\")","v":""}]
[{"$f":"IF(B447=\"\",\"\",MAX(A$22:A446)+1)","v":""},{"$f":"IF($C447=Reference!$J$3,CONCATENATE('4. Shpenzimet e partisë'!$O447,\"-\",'4. Shpenzimet e partisë'!$P447,\"-\",TEXT('4. Shpenzimet e partisë'!$Q447,\"dd/mm/yyyy\")),\"\")","v":""}]
[{"$f":"IF(B448=\"\",\"\",MAX(A$22:A447)+1)","v":""},{"$f":"IF($C448=Reference!$J$3,CONCATENATE('4. Shpenzimet e partisë'!$O448,\"-\",'4. Shpenzimet e partisë'!$P448,\"-\",TEXT('4. Shpenzimet e partisë'!$Q448,\"dd/mm/yyyy\")),\"\")","v":""}]
[{"$f":"IF(B449=\"\",\"\",MAX(A$22:A448)+1)","v":""},{"$f":"IF($C449=Reference!$J$3,CONCATENATE('4. Shpenzimet e partisë'!$O449,\"-\",'4. Shpenzimet e partisë'!$P449,\"-\",TEXT('4. Shpenzimet e partisë'!$Q449,\"dd/mm/yyyy\")),\"\")","v":""}]
[{"$f":"IF(B450=\"\",\"\",MAX(A$22:A449)+1)","v":""},{"$f":"IF($C450=Reference!$J$3,CONCATENATE('4. Shpenzimet e partisë'!$O450,\"-\",'4. Shpenzimet e partisë'!$P450,\"-\",TEXT('4. Shpenzimet e partisë'!$Q450,\"dd/mm/yyyy\")),\"\")","v":""}]
[{"$f":"IF(B451=\"\",\"\",MAX(A$22:A450)+1)","v":""},{"$f":"IF($C451=Reference!$J$3,CONCATENATE('4. Shpenzimet e partisë'!$O451,\"-\",'4. Shpenzimet e partisë'!$P451,\"-\",TEXT('4. Shpenzimet e partisë'!$Q451,\"dd/mm/yyyy\")),\"\")","v":""}]
[{"$f":"IF(B452=\"\",\"\",MAX(A$22:A451)+1)","v":""},{"$f":"IF($C452=Reference!$J$3,CONCATENATE('4. Shpenzimet e partisë'!$O452,\"-\",'4. Shpenzimet e partisë'!$P452,\"-\",TEXT('4. Shpenzimet e partisë'!$Q452,\"dd/mm/yyyy\")),\"\")","v":""}]
[{"$f":"IF(B453=\"\",\"\",MAX(A$22:A452)+1)","v":""},{"$f":"IF($C453=Reference!$J$3,CONCATENATE('4. Shpenzimet e partisë'!$O453,\"-\",'4. Shpenzimet e partisë'!$P453,\"-\",TEXT('4. Shpenzimet e partisë'!$Q453,\"dd/mm/yyyy\")),\"\")","v":""}]
[{"$f":"IF(B454=\"\",\"\",MAX(A$22:A453)+1)","v":""},{"$f":"IF($C454=Reference!$J$3,CONCATENATE('4. Shpenzimet e partisë'!$O454,\"-\",'4. Shpenzimet e partisë'!$P454,\"-\",TEXT('4. Shpenzimet e partisë'!$Q454,\"dd/mm/yyyy\")),\"\")","v":""}]
[{"$f":"IF(B455=\"\",\"\",MAX(A$22:A454)+1)","v":""},{"$f":"IF($C455=Reference!$J$3,CONCATENATE('4. Shpenzimet e partisë'!$O455,\"-\",'4. Shpenzimet e partisë'!$P455,\"-\",TEXT('4. Shpenzimet e partisë'!$Q455,\"dd/mm/yyyy\")),\"\")","v":""}]
[{"$f":"IF(B456=\"\",\"\",MAX(A$22:A455)+1)","v":""},{"$f":"IF($C456=Reference!$J$3,CONCATENATE('4. Shpenzimet e partisë'!$O456,\"-\",'4. Shpenzimet e partisë'!$P456,\"-\",TEXT('4. Shpenzimet e partisë'!$Q456,\"dd/mm/yyyy\")),\"\")","v":""}]
[{"$f":"IF(B457=\"\",\"\",MAX(A$22:A456)+1)","v":""},{"$f":"IF($C457=Reference!$J$3,CONCATENATE('4. Shpenzimet e partisë'!$O457,\"-\",'4. Shpenzimet e partisë'!$P457,\"-\",TEXT('4. Shpenzimet e partisë'!$Q457,\"dd/mm/yyyy\")),\"\")","v":""}]
[{"$f":"IF(B458=\"\",\"\",MAX(A$22:A457)+1)","v":""},{"$f":"IF($C458=Reference!$J$3,CONCATENATE('4. Shpenzimet e partisë'!$O458,\"-\",'4. Shpenzimet e partisë'!$P458,\"-\",TEXT('4. Shpenzimet e partisë'!$Q458,\"dd/mm/yyyy\")),\"\")","v":""}]
[{"$f":"IF(B459=\"\",\"\",MAX(A$22:A458)+1)","v":""},{"$f":"IF($C459=Reference!$J$3,CONCATENATE('4. Shpenzimet e partisë'!$O459,\"-\",'4. Shpenzimet e partisë'!$P459,\"-\",TEXT('4. Shpenzimet e partisë'!$Q459,\"dd/mm/yyyy\")),\"\")","v":""}]
[{"$f":"IF(B460=\"\",\"\",MAX(A$22:A459)+1)","v":""},{"$f":"IF($C460=Reference!$J$3,CONCATENATE('4. Shpenzimet e partisë'!$O460,\"-\",'4. Shpenzimet e partisë'!$P460,\"-\",TEXT('4. Shpenzimet e partisë'!$Q460,\"dd/mm/yyyy\")),\"\")","v":""}]
[{"$f":"IF(B461=\"\",\"\",MAX(A$22:A460)+1)","v":""},{"$f":"IF($C461=Reference!$J$3,CONCATENATE('4. Shpenzimet e partisë'!$O461,\"-\",'4. Shpenzimet e partisë'!$P461,\"-\",TEXT('4. Shpenzimet e partisë'!$Q461,\"dd/mm/yyyy\")),\"\")","v":""}]
[{"$f":"IF(B462=\"\",\"\",MAX(A$22:A461)+1)","v":""},{"$f":"IF($C462=Reference!$J$3,CONCATENATE('4. Shpenzimet e partisë'!$O462,\"-\",'4. Shpenzimet e partisë'!$P462,\"-\",TEXT('4. Shpenzimet e partisë'!$Q462,\"dd/mm/yyyy\")),\"\")","v":""}]
[{"$f":"IF(B463=\"\",\"\",MAX(A$22:A462)+1)","v":""},{"$f":"IF($C463=Reference!$J$3,CONCATENATE('4. Shpenzimet e partisë'!$O463,\"-\",'4. Shpenzimet e partisë'!$P463,\"-\",TEXT('4. Shpenzimet e partisë'!$Q463,\"dd/mm/yyyy\")),\"\")","v":""}]
[{"$f":"IF(B464=\"\",\"\",MAX(A$22:A463)+1)","v":""},{"$f":"IF($C464=Reference!$J$3,CONCATENATE('4. Shpenzimet e partisë'!$O464,\"-\",'4. Shpenzimet e partisë'!$P464,\"-\",TEXT('4. Shpenzimet e partisë'!$Q464,\"dd/mm/yyyy\")),\"\")","v":""}]
[{"$f":"IF(B465=\"\",\"\",MAX(A$22:A464)+1)","v":""},{"$f":"IF($C465=Reference!$J$3,CONCATENATE('4. Shpenzimet e partisë'!$O465,\"-\",'4. Shpenzimet e partisë'!$P465,\"-\",TEXT('4. Shpenzimet e partisë'!$Q465,\"dd/mm/yyyy\")),\"\")","v":""}]
[{"$f":"IF(B466=\"\",\"\",MAX(A$22:A465)+1)","v":""},{"$f":"IF($C466=Reference!$J$3,CONCATENATE('4. Shpenzimet e partisë'!$O466,\"-\",'4. Shpenzimet e partisë'!$P466,\"-\",TEXT('4. Shpenzimet e partisë'!$Q466,\"dd/mm/yyyy\")),\"\")","v":""}]
[{"$f":"IF(B467=\"\",\"\",MAX(A$22:A466)+1)","v":""},{"$f":"IF($C467=Reference!$J$3,CONCATENATE('4. Shpenzimet e partisë'!$O467,\"-\",'4. Shpenzimet e partisë'!$P467,\"-\",TEXT('4. Shpenzimet e partisë'!$Q467,\"dd/mm/yyyy\")),\"\")","v":""}]
[{"$f":"IF(B468=\"\",\"\",MAX(A$22:A467)+1)","v":""},{"$f":"IF($C468=Reference!$J$3,CONCATENATE('4. Shpenzimet e partisë'!$O468,\"-\",'4. Shpenzimet e partisë'!$P468,\"-\",TEXT('4. Shpenzimet e partisë'!$Q468,\"dd/mm/yyyy\")),\"\")","v":""}]
[{"$f":"IF(B469=\"\",\"\",MAX(A$22:A468)+1)","v":""},{"$f":"IF($C469=Reference!$J$3,CONCATENATE('4. Shpenzimet e partisë'!$O469,\"-\",'4. Shpenzimet e partisë'!$P469,\"-\",TEXT('4. Shpenzimet e partisë'!$Q469,\"dd/mm/yyyy\")),\"\")","v":""}]
[{"$f":"IF(B470=\"\",\"\",MAX(A$22:A469)+1)","v":""},{"$f":"IF($C470=Reference!$J$3,CONCATENATE('4. Shpenzimet e partisë'!$O470,\"-\",'4. Shpenzimet e partisë'!$P470,\"-\",TEXT('4. Shpenzimet e partisë'!$Q470,\"dd/mm/yyyy\")),\"\")","v":""}]
[{"$f":"IF(B471=\"\",\"\",MAX(A$22:A470)+1)","v":""},{"$f":"IF($C471=Reference!$J$3,CONCATENATE('4. Shpenzimet e partisë'!$O471,\"-\",'4. Shpenzimet e partisë'!$P471,\"-\",TEXT('4. Shpenzimet e partisë'!$Q471,\"dd/mm/yyyy\")),\"\")","v":""}]
[{"$f":"IF(B472=\"\",\"\",MAX(A$22:A471)+1)","v":""},{"$f":"IF($C472=Reference!$J$3,CONCATENATE('4. Shpenzimet e partisë'!$O472,\"-\",'4. Shpenzimet e partisë'!$P472,\"-\",TEXT('4. Shpenzimet e partisë'!$Q472,\"dd/mm/yyyy\")),\"\")","v":""}]
[{"$f":"IF(B473=\"\",\"\",MAX(A$22:A472)+1)","v":""},{"$f":"IF($C473=Reference!$J$3,CONCATENATE('4. Shpenzimet e partisë'!$O473,\"-\",'4. Shpenzimet e partisë'!$P473,\"-\",TEXT('4. Shpenzimet e partisë'!$Q473,\"dd/mm/yyyy\")),\"\")","v":""}]
[{"$f":"IF(B474=\"\",\"\",MAX(A$22:A473)+1)","v":""},{"$f":"IF($C474=Reference!$J$3,CONCATENATE('4. Shpenzimet e partisë'!$O474,\"-\",'4. Shpenzimet e partisë'!$P474,\"-\",TEXT('4. Shpenzimet e partisë'!$Q474,\"dd/mm/yyyy\")),\"\")","v":""}]
[{"$f":"IF(B475=\"\",\"\",MAX(A$22:A474)+1)","v":""},{"$f":"IF($C475=Reference!$J$3,CONCATENATE('4. Shpenzimet e partisë'!$O475,\"-\",'4. Shpenzimet e partisë'!$P475,\"-\",TEXT('4. Shpenzimet e partisë'!$Q475,\"dd/mm/yyyy\")),\"\")","v":""}]
[{"$f":"IF(B476=\"\",\"\",MAX(A$22:A475)+1)","v":""},{"$f":"IF($C476=Reference!$J$3,CONCATENATE('4. Shpenzimet e partisë'!$O476,\"-\",'4. Shpenzimet e partisë'!$P476,\"-\",TEXT('4. Shpenzimet e partisë'!$Q476,\"dd/mm/yyyy\")),\"\")","v":""}]
[{"$f":"IF(B477=\"\",\"\",MAX(A$22:A476)+1)","v":""},{"$f":"IF($C477=Reference!$J$3,CONCATENATE('4. Shpenzimet e partisë'!$O477,\"-\",'4. Shpenzimet e partisë'!$P477,\"-\",TEXT('4. Shpenzimet e partisë'!$Q477,\"dd/mm/yyyy\")),\"\")","v":""}]
[{"$f":"IF(B478=\"\",\"\",MAX(A$22:A477)+1)","v":""},{"$f":"IF($C478=Reference!$J$3,CONCATENATE('4. Shpenzimet e partisë'!$O478,\"-\",'4. Shpenzimet e partisë'!$P478,\"-\",TEXT('4. Shpenzimet e partisë'!$Q478,\"dd/mm/yyyy\")),\"\")","v":""}]
[{"$f":"IF(B479=\"\",\"\",MAX(A$22:A478)+1)","v":""},{"$f":"IF($C479=Reference!$J$3,CONCATENATE('4. Shpenzimet e partisë'!$O479,\"-\",'4. Shpenzimet e partisë'!$P479,\"-\",TEXT('4. Shpenzimet e partisë'!$Q479,\"dd/mm/yyyy\")),\"\")","v":""}]
[{"$f":"IF(B480=\"\",\"\",MAX(A$22:A479)+1)","v":""},{"$f":"IF($C480=Reference!$J$3,CONCATENATE('4. Shpenzimet e partisë'!$O480,\"-\",'4. Shpenzimet e partisë'!$P480,\"-\",TEXT('4. Shpenzimet e partisë'!$Q480,\"dd/mm/yyyy\")),\"\")","v":""}]
[{"$f":"IF(B481=\"\",\"\",MAX(A$22:A480)+1)","v":""},{"$f":"IF($C481=Reference!$J$3,CONCATENATE('4. Shpenzimet e partisë'!$O481,\"-\",'4. Shpenzimet e partisë'!$P481,\"-\",TEXT('4. Shpenzimet e partisë'!$Q481,\"dd/mm/yyyy\")),\"\")","v":""}]
[{"$f":"IF(B482=\"\",\"\",MAX(A$22:A481)+1)","v":""},{"$f":"IF($C482=Reference!$J$3,CONCATENATE('4. Shpenzimet e partisë'!$O482,\"-\",'4. Shpenzimet e partisë'!$P482,\"-\",TEXT('4. Shpenzimet e partisë'!$Q482,\"dd/mm/yyyy\")),\"\")","v":""}]
[{"$f":"IF(B483=\"\",\"\",MAX(A$22:A482)+1)","v":""},{"$f":"IF($C483=Reference!$J$3,CONCATENATE('4. Shpenzimet e partisë'!$O483,\"-\",'4. Shpenzimet e partisë'!$P483,\"-\",TEXT('4. Shpenzimet e partisë'!$Q483,\"dd/mm/yyyy\")),\"\")","v":""}]
[{"$f":"IF(B484=\"\",\"\",MAX(A$22:A483)+1)","v":""},{"$f":"IF($C484=Reference!$J$3,CONCATENATE('4. Shpenzimet e partisë'!$O484,\"-\",'4. Shpenzimet e partisë'!$P484,\"-\",TEXT('4. Shpenzimet e partisë'!$Q484,\"dd/mm/yyyy\")),\"\")","v":""}]
[{"$f":"IF(B485=\"\",\"\",MAX(A$22:A484)+1)","v":""},{"$f":"IF($C485=Reference!$J$3,CONCATENATE('4. Shpenzimet e partisë'!$O485,\"-\",'4. Shpenzimet e partisë'!$P485,\"-\",TEXT('4. Shpenzimet e partisë'!$Q485,\"dd/mm/yyyy\")),\"\")","v":""}]
[{"$f":"IF(B486=\"\",\"\",MAX(A$22:A485)+1)","v":""},{"$f":"IF($C486=Reference!$J$3,CONCATENATE('4. Shpenzimet e partisë'!$O486,\"-\",'4. Shpenzimet e partisë'!$P486,\"-\",TEXT('4. Shpenzimet e partisë'!$Q486,\"dd/mm/yyyy\")),\"\")","v":""}]
[{"$f":"IF(B487=\"\",\"\",MAX(A$22:A486)+1)","v":""},{"$f":"IF($C487=Reference!$J$3,CONCATENATE('4. Shpenzimet e partisë'!$O487,\"-\",'4. Shpenzimet e partisë'!$P487,\"-\",TEXT('4. Shpenzimet e partisë'!$Q487,\"dd/mm/yyyy\")),\"\")","v":""}]
[{"$f":"IF(B488=\"\",\"\",MAX(A$22:A487)+1)","v":""},{"$f":"IF($C488=Reference!$J$3,CONCATENATE('4. Shpenzimet e partisë'!$O488,\"-\",'4. Shpenzimet e partisë'!$P488,\"-\",TEXT('4. Shpenzimet e partisë'!$Q488,\"dd/mm/yyyy\")),\"\")","v":""}]
[{"$f":"IF(B489=\"\",\"\",MAX(A$22:A488)+1)","v":""},{"$f":"IF($C489=Reference!$J$3,CONCATENATE('4. Shpenzimet e partisë'!$O489,\"-\",'4. Shpenzimet e partisë'!$P489,\"-\",TEXT('4. Shpenzimet e partisë'!$Q489,\"dd/mm/yyyy\")),\"\")","v":""}]
[{"$f":"IF(B490=\"\",\"\",MAX(A$22:A489)+1)","v":""},{"$f":"IF($C490=Reference!$J$3,CONCATENATE('4. Shpenzimet e partisë'!$O490,\"-\",'4. Shpenzimet e partisë'!$P490,\"-\",TEXT('4. Shpenzimet e partisë'!$Q490,\"dd/mm/yyyy\")),\"\")","v":""}]
[{"$f":"IF(B491=\"\",\"\",MAX(A$22:A490)+1)","v":""},{"$f":"IF($C491=Reference!$J$3,CONCATENATE('4. Shpenzimet e partisë'!$O491,\"-\",'4. Shpenzimet e partisë'!$P491,\"-\",TEXT('4. Shpenzimet e partisë'!$Q491,\"dd/mm/yyyy\")),\"\")","v":""}]
[{"$f":"IF(B492=\"\",\"\",MAX(A$22:A491)+1)","v":""},{"$f":"IF($C492=Reference!$J$3,CONCATENATE('4. Shpenzimet e partisë'!$O492,\"-\",'4. Shpenzimet e partisë'!$P492,\"-\",TEXT('4. Shpenzimet e partisë'!$Q492,\"dd/mm/yyyy\")),\"\")","v":""}]
[{"$f":"IF(B493=\"\",\"\",MAX(A$22:A492)+1)","v":""},{"$f":"IF($C493=Reference!$J$3,CONCATENATE('4. Shpenzimet e partisë'!$O493,\"-\",'4. Shpenzimet e partisë'!$P493,\"-\",TEXT('4. Shpenzimet e partisë'!$Q493,\"dd/mm/yyyy\")),\"\")","v":""}]
[{"$f":"IF(B494=\"\",\"\",MAX(A$22:A493)+1)","v":""},{"$f":"IF($C494=Reference!$J$3,CONCATENATE('4. Shpenzimet e partisë'!$O494,\"-\",'4. Shpenzimet e partisë'!$P494,\"-\",TEXT('4. Shpenzimet e partisë'!$Q494,\"dd/mm/yyyy\")),\"\")","v":""}]
[{"$f":"IF(B495=\"\",\"\",MAX(A$22:A494)+1)","v":""},{"$f":"IF($C495=Reference!$J$3,CONCATENATE('4. Shpenzimet e partisë'!$O495,\"-\",'4. Shpenzimet e partisë'!$P495,\"-\",TEXT('4. Shpenzimet e partisë'!$Q495,\"dd/mm/yyyy\")),\"\")","v":""}]
[{"$f":"IF(B496=\"\",\"\",MAX(A$22:A495)+1)","v":""},{"$f":"IF($C496=Reference!$J$3,CONCATENATE('4. Shpenzimet e partisë'!$O496,\"-\",'4. Shpenzimet e partisë'!$P496,\"-\",TEXT('4. Shpenzimet e partisë'!$Q496,\"dd/mm/yyyy\")),\"\")","v":""}]
[{"$f":"IF(B497=\"\",\"\",MAX(A$22:A496)+1)","v":""},{"$f":"IF($C497=Reference!$J$3,CONCATENATE('4. Shpenzimet e partisë'!$O497,\"-\",'4. Shpenzimet e partisë'!$P497,\"-\",TEXT('4. Shpenzimet e partisë'!$Q497,\"dd/mm/yyyy\")),\"\")","v":""}]
[{"$f":"IF(B498=\"\",\"\",MAX(A$22:A497)+1)","v":""},{"$f":"IF($C498=Reference!$J$3,CONCATENATE('4. Shpenzimet e partisë'!$O498,\"-\",'4. Shpenzimet e partisë'!$P498,\"-\",TEXT('4. Shpenzimet e partisë'!$Q498,\"dd/mm/yyyy\")),\"\")","v":""}]
[{"$f":"IF(B499=\"\",\"\",MAX(A$22:A498)+1)","v":""},{"$f":"IF($C499=Reference!$J$3,CONCATENATE('4. Shpenzimet e partisë'!$O499,\"-\",'4. Shpenzimet e partisë'!$P499,\"-\",TEXT('4. Shpenzimet e partisë'!$Q499,\"dd/mm/yyyy\")),\"\")","v":""}]
[{"$f":"IF(B500=\"\",\"\",MAX(A$22:A499)+1)","v":""},{"$f":"IF($C500=Reference!$J$3,CONCATENATE('4. Shpenzimet e partisë'!$O500,\"-\",'4. Shpenzimet e partisë'!$P500,\"-\",TEXT('4. Shpenzimet e partisë'!$Q500,\"dd/mm/yyyy\")),\"\")","v":""}]
[{"$f":"IF(B501=\"\",\"\",MAX(A$22:A500)+1)","v":""},{"$f":"IF($C501=Reference!$J$3,CONCATENATE('4. Shpenzimet e partisë'!$O501,\"-\",'4. Shpenzimet e partisë'!$P501,\"-\",TEXT('4. Shpenzimet e partisë'!$Q501,\"dd/mm/yyyy\")),\"\")","v":""}]
[{"$f":"IF(B502=\"\",\"\",MAX(A$22:A501)+1)","v":""},{"$f":"IF($C502=Reference!$J$3,CONCATENATE('4. Shpenzimet e partisë'!$O502,\"-\",'4. Shpenzimet e partisë'!$P502,\"-\",TEXT('4. Shpenzimet e partisë'!$Q502,\"dd/mm/yyyy\")),\"\")","v":""}]
[{"$f":"IF(B503=\"\",\"\",MAX(A$22:A502)+1)","v":""},{"$f":"IF($C503=Reference!$J$3,CONCATENATE('4. Shpenzimet e partisë'!$O503,\"-\",'4. Shpenzimet e partisë'!$P503,\"-\",TEXT('4. Shpenzimet e partisë'!$Q503,\"dd/mm/yyyy\")),\"\")","v":""}]
[{"$f":"IF(B504=\"\",\"\",MAX(A$22:A503)+1)","v":""},{"$f":"IF($C504=Reference!$J$3,CONCATENATE('4. Shpenzimet e partisë'!$O504,\"-\",'4. Shpenzimet e partisë'!$P504,\"-\",TEXT('4. Shpenzimet e partisë'!$Q504,\"dd/mm/yyyy\")),\"\")","v":""}]
[{"$f":"IF(B505=\"\",\"\",MAX(A$22:A504)+1)","v":""},{"$f":"IF($C505=Reference!$J$3,CONCATENATE('4. Shpenzimet e partisë'!$O505,\"-\",'4. Shpenzimet e partisë'!$P505,\"-\",TEXT('4. Shpenzimet e partisë'!$Q505,\"dd/mm/yyyy\")),\"\")","v":""}]
[{"$f":"IF(B506=\"\",\"\",MAX(A$22:A505)+1)","v":""},{"$f":"IF($C506=Reference!$J$3,CONCATENATE('4. Shpenzimet e partisë'!$O506,\"-\",'4. Shpenzimet e partisë'!$P506,\"-\",TEXT('4. Shpenzimet e partisë'!$Q506,\"dd/mm/yyyy\")),\"\")","v":""}]
[{"$f":"IF(B507=\"\",\"\",MAX(A$22:A506)+1)","v":""},{"$f":"IF($C507=Reference!$J$3,CONCATENATE('4. Shpenzimet e partisë'!$O507,\"-\",'4. Shpenzimet e partisë'!$P507,\"-\",TEXT('4. Shpenzimet e partisë'!$Q507,\"dd/mm/yyyy\")),\"\")","v":""}]
[{"$f":"IF(B508=\"\",\"\",MAX(A$22:A507)+1)","v":""},{"$f":"IF($C508=Reference!$J$3,CONCATENATE('4. Shpenzimet e partisë'!$O508,\"-\",'4. Shpenzimet e partisë'!$P508,\"-\",TEXT('4. Shpenzimet e partisë'!$Q508,\"dd/mm/yyyy\")),\"\")","v":""}]
[{"$f":"IF(B509=\"\",\"\",MAX(A$22:A508)+1)","v":""},{"$f":"IF($C509=Reference!$J$3,CONCATENATE('4. Shpenzimet e partisë'!$O509,\"-\",'4. Shpenzimet e partisë'!$P509,\"-\",TEXT('4. Shpenzimet e partisë'!$Q509,\"dd/mm/yyyy\")),\"\")","v":""}]
[{"$f":"IF(B510=\"\",\"\",MAX(A$22:A509)+1)","v":""},{"$f":"IF($C510=Reference!$J$3,CONCATENATE('4. Shpenzimet e partisë'!$O510,\"-\",'4. Shpenzimet e partisë'!$P510,\"-\",TEXT('4. Shpenzimet e partisë'!$Q510,\"dd/mm/yyyy\")),\"\")","v":""}]
[{"$f":"IF(B511=\"\",\"\",MAX(A$22:A510)+1)","v":""},{"$f":"IF($C511=Reference!$J$3,CONCATENATE('4. Shpenzimet e partisë'!$O511,\"-\",'4. Shpenzimet e partisë'!$P511,\"-\",TEXT('4. Shpenzimet e partisë'!$Q511,\"dd/mm/yyyy\")),\"\")","v":""}]
[{"$f":"IF(B512=\"\",\"\",MAX(A$22:A511)+1)","v":""},{"$f":"IF($C512=Reference!$J$3,CONCATENATE('4. Shpenzimet e partisë'!$O512,\"-\",'4. Shpenzimet e partisë'!$P512,\"-\",TEXT('4. Shpenzimet e partisë'!$Q512,\"dd/mm/yyyy\")),\"\")","v":""}]
[{"$f":"IF(B513=\"\",\"\",MAX(A$22:A512)+1)","v":""},{"$f":"IF($C513=Reference!$J$3,CONCATENATE('4. Shpenzimet e partisë'!$O513,\"-\",'4. Shpenzimet e partisë'!$P513,\"-\",TEXT('4. Shpenzimet e partisë'!$Q513,\"dd/mm/yyyy\")),\"\")","v":""}]
[{"$f":"IF(B514=\"\",\"\",MAX(A$22:A513)+1)","v":""},{"$f":"IF($C514=Reference!$J$3,CONCATENATE('4. Shpenzimet e partisë'!$O514,\"-\",'4. Shpenzimet e partisë'!$P514,\"-\",TEXT('4. Shpenzimet e partisë'!$Q514,\"dd/mm/yyyy\")),\"\")","v":""}]
[{"$f":"IF(B515=\"\",\"\",MAX(A$22:A514)+1)","v":""},{"$f":"IF($C515=Reference!$J$3,CONCATENATE('4. Shpenzimet e partisë'!$O515,\"-\",'4. Shpenzimet e partisë'!$P515,\"-\",TEXT('4. Shpenzimet e partisë'!$Q515,\"dd/mm/yyyy\")),\"\")","v":""}]
[{"$f":"IF(B516=\"\",\"\",MAX(A$22:A515)+1)","v":""},{"$f":"IF($C516=Reference!$J$3,CONCATENATE('4. Shpenzimet e partisë'!$O516,\"-\",'4. Shpenzimet e partisë'!$P516,\"-\",TEXT('4. Shpenzimet e partisë'!$Q516,\"dd/mm/yyyy\")),\"\")","v":""}]
[{"$f":"IF(B517=\"\",\"\",MAX(A$22:A516)+1)","v":""},{"$f":"IF($C517=Reference!$J$3,CONCATENATE('4. Shpenzimet e partisë'!$O517,\"-\",'4. Shpenzimet e partisë'!$P517,\"-\",TEXT('4. Shpenzimet e partisë'!$Q517,\"dd/mm/yyyy\")),\"\")","v":""}]
[{"$f":"IF(B518=\"\",\"\",MAX(A$22:A517)+1)","v":""},{"$f":"IF($C518=Reference!$J$3,CONCATENATE('4. Shpenzimet e partisë'!$O518,\"-\",'4. Shpenzimet e partisë'!$P518,\"-\",TEXT('4. Shpenzimet e partisë'!$Q518,\"dd/mm/yyyy\")),\"\")","v":""}]
[{"$f":"IF(B519=\"\",\"\",MAX(A$22:A518)+1)","v":""},{"$f":"IF($C519=Reference!$J$3,CONCATENATE('4. Shpenzimet e partisë'!$O519,\"-\",'4. Shpenzimet e partisë'!$P519,\"-\",TEXT('4. Shpenzimet e partisë'!$Q519,\"dd/mm/yyyy\")),\"\")","v":""}]
[{"$f":"IF(B520=\"\",\"\",MAX(A$22:A519)+1)","v":""},{"$f":"IF($C520=Reference!$J$3,CONCATENATE('4. Shpenzimet e partisë'!$O520,\"-\",'4. Shpenzimet e partisë'!$P520,\"-\",TEXT('4. Shpenzimet e partisë'!$Q520,\"dd/mm/yyyy\")),\"\")","v":""}]
[{"$f":"IF(B521=\"\",\"\",MAX(A$22:A520)+1)","v":""},{"$f":"IF($C521=Reference!$J$3,CONCATENATE('4. Shpenzimet e partisë'!$O521,\"-\",'4. Shpenzimet e partisë'!$P521,\"-\",TEXT('4. Shpenzimet e partisë'!$Q521,\"dd/mm/yyyy\")),\"\")","v":""}]
[{"$f":"IF(B522=\"\",\"\",MAX(A$22:A521)+1)","v":""},{"$f":"IF($C522=Reference!$J$3,CONCATENATE('4. Shpenzimet e partisë'!$O522,\"-\",'4. Shpenzimet e partisë'!$P522,\"-\",TEXT('4. Shpenzimet e partisë'!$Q522,\"dd/mm/yyyy\")),\"\")","v":""}]
[{"$f":"IF(B523=\"\",\"\",MAX(A$22:A522)+1)","v":""},{"$f":"IF($C523=Reference!$J$3,CONCATENATE('4. Shpenzimet e partisë'!$O523,\"-\",'4. Shpenzimet e partisë'!$P523,\"-\",TEXT('4. Shpenzimet e partisë'!$Q523,\"dd/mm/yyyy\")),\"\")","v":""}]
[{"$f":"IF(B524=\"\",\"\",MAX(A$22:A523)+1)","v":""},{"$f":"IF($C524=Reference!$J$3,CONCATENATE('4. Shpenzimet e partisë'!$O524,\"-\",'4. Shpenzimet e partisë'!$P524,\"-\",TEXT('4. Shpenzimet e partisë'!$Q524,\"dd/mm/yyyy\")),\"\")","v":""}]
[{"$f":"IF(B525=\"\",\"\",MAX(A$22:A524)+1)","v":""},{"$f":"IF($C525=Reference!$J$3,CONCATENATE('4. Shpenzimet e partisë'!$O525,\"-\",'4. Shpenzimet e partisë'!$P525,\"-\",TEXT('4. Shpenzimet e partisë'!$Q525,\"dd/mm/yyyy\")),\"\")","v":""}]
[{"$f":"IF(B526=\"\",\"\",MAX(A$22:A525)+1)","v":""},{"$f":"IF($C526=Reference!$J$3,CONCATENATE('4. Shpenzimet e partisë'!$O526,\"-\",'4. Shpenzimet e partisë'!$P526,\"-\",TEXT('4. Shpenzimet e partisë'!$Q526,\"dd/mm/yyyy\")),\"\")","v":""}]
[{"$f":"IF(B527=\"\",\"\",MAX(A$22:A526)+1)","v":""},{"$f":"IF($C527=Reference!$J$3,CONCATENATE('4. Shpenzimet e partisë'!$O527,\"-\",'4. Shpenzimet e partisë'!$P527,\"-\",TEXT('4. Shpenzimet e partisë'!$Q527,\"dd/mm/yyyy\")),\"\")","v":""}]
[{"$f":"IF(B528=\"\",\"\",MAX(A$22:A527)+1)","v":""},{"$f":"IF($C528=Reference!$J$3,CONCATENATE('4. Shpenzimet e partisë'!$O528,\"-\",'4. Shpenzimet e partisë'!$P528,\"-\",TEXT('4. Shpenzimet e partisë'!$Q528,\"dd/mm/yyyy\")),\"\")","v":""}]
[{"$f":"IF(B529=\"\",\"\",MAX(A$22:A528)+1)","v":""},{"$f":"IF($C529=Reference!$J$3,CONCATENATE('4. Shpenzimet e partisë'!$O529,\"-\",'4. Shpenzimet e partisë'!$P529,\"-\",TEXT('4. Shpenzimet e partisë'!$Q529,\"dd/mm/yyyy\")),\"\")","v":""}]
[{"$f":"IF(B530=\"\",\"\",MAX(A$22:A529)+1)","v":""},{"$f":"IF($C530=Reference!$J$3,CONCATENATE('4. Shpenzimet e partisë'!$O530,\"-\",'4. Shpenzimet e partisë'!$P530,\"-\",TEXT('4. Shpenzimet e partisë'!$Q530,\"dd/mm/yyyy\")),\"\")","v":""}]
[{"$f":"IF(B531=\"\",\"\",MAX(A$22:A530)+1)","v":""},{"$f":"IF($C531=Reference!$J$3,CONCATENATE('4. Shpenzimet e partisë'!$O531,\"-\",'4. Shpenzimet e partisë'!$P531,\"-\",TEXT('4. Shpenzimet e partisë'!$Q531,\"dd/mm/yyyy\")),\"\")","v":""}]
[{"$f":"IF(B532=\"\",\"\",MAX(A$22:A531)+1)","v":""},{"$f":"IF($C532=Reference!$J$3,CONCATENATE('4. Shpenzimet e partisë'!$O532,\"-\",'4. Shpenzimet e partisë'!$P532,\"-\",TEXT('4. Shpenzimet e partisë'!$Q532,\"dd/mm/yyyy\")),\"\")","v":""}]
[{"$f":"IF(B533=\"\",\"\",MAX(A$22:A532)+1)","v":""},{"$f":"IF($C533=Reference!$J$3,CONCATENATE('4. Shpenzimet e partisë'!$O533,\"-\",'4. Shpenzimet e partisë'!$P533,\"-\",TEXT('4. Shpenzimet e partisë'!$Q533,\"dd/mm/yyyy\")),\"\")","v":""}]
[{"$f":"IF(B534=\"\",\"\",MAX(A$22:A533)+1)","v":""},{"$f":"IF($C534=Reference!$J$3,CONCATENATE('4. Shpenzimet e partisë'!$O534,\"-\",'4. Shpenzimet e partisë'!$P534,\"-\",TEXT('4. Shpenzimet e partisë'!$Q534,\"dd/mm/yyyy\")),\"\")","v":""}]
[{"$f":"IF(B535=\"\",\"\",MAX(A$22:A534)+1)","v":""},{"$f":"IF($C535=Reference!$J$3,CONCATENATE('4. Shpenzimet e partisë'!$O535,\"-\",'4. Shpenzimet e partisë'!$P535,\"-\",TEXT('4. Shpenzimet e partisë'!$Q535,\"dd/mm/yyyy\")),\"\")","v":""}]
[{"$f":"IF(B536=\"\",\"\",MAX(A$22:A535)+1)","v":""},{"$f":"IF($C536=Reference!$J$3,CONCATENATE('4. Shpenzimet e partisë'!$O536,\"-\",'4. Shpenzimet e partisë'!$P536,\"-\",TEXT('4. Shpenzimet e partisë'!$Q536,\"dd/mm/yyyy\")),\"\")","v":""}]
[{"$f":"IF(B537=\"\",\"\",MAX(A$22:A536)+1)","v":""},{"$f":"IF($C537=Reference!$J$3,CONCATENATE('4. Shpenzimet e partisë'!$O537,\"-\",'4. Shpenzimet e partisë'!$P537,\"-\",TEXT('4. Shpenzimet e partisë'!$Q537,\"dd/mm/yyyy\")),\"\")","v":""}]
[{"$f":"IF(B538=\"\",\"\",MAX(A$22:A537)+1)","v":""},{"$f":"IF($C538=Reference!$J$3,CONCATENATE('4. Shpenzimet e partisë'!$O538,\"-\",'4. Shpenzimet e partisë'!$P538,\"-\",TEXT('4. Shpenzimet e partisë'!$Q538,\"dd/mm/yyyy\")),\"\")","v":""}]
[{"$f":"IF(B539=\"\",\"\",MAX(A$22:A538)+1)","v":""},{"$f":"IF($C539=Reference!$J$3,CONCATENATE('4. Shpenzimet e partisë'!$O539,\"-\",'4. Shpenzimet e partisë'!$P539,\"-\",TEXT('4. Shpenzimet e partisë'!$Q539,\"dd/mm/yyyy\")),\"\")","v":""}]
[{"$f":"IF(B540=\"\",\"\",MAX(A$22:A539)+1)","v":""},{"$f":"IF($C540=Reference!$J$3,CONCATENATE('4. Shpenzimet e partisë'!$O540,\"-\",'4. Shpenzimet e partisë'!$P540,\"-\",TEXT('4. Shpenzimet e partisë'!$Q540,\"dd/mm/yyyy\")),\"\")","v":""}]
[{"$f":"IF(B541=\"\",\"\",MAX(A$22:A540)+1)","v":""},{"$f":"IF($C541=Reference!$J$3,CONCATENATE('4. Shpenzimet e partisë'!$O541,\"-\",'4. Shpenzimet e partisë'!$P541,\"-\",TEXT('4. Shpenzimet e partisë'!$Q541,\"dd/mm/yyyy\")),\"\")","v":""}]
[{"$f":"IF(B542=\"\",\"\",MAX(A$22:A541)+1)","v":""},{"$f":"IF($C542=Reference!$J$3,CONCATENATE('4. Shpenzimet e partisë'!$O542,\"-\",'4. Shpenzimet e partisë'!$P542,\"-\",TEXT('4. Shpenzimet e partisë'!$Q542,\"dd/mm/yyyy\")),\"\")","v":""}]
[{"$f":"IF(B543=\"\",\"\",MAX(A$22:A542)+1)","v":""},{"$f":"IF($C543=Reference!$J$3,CONCATENATE('4. Shpenzimet e partisë'!$O543,\"-\",'4. Shpenzimet e partisë'!$P543,\"-\",TEXT('4. Shpenzimet e partisë'!$Q543,\"dd/mm/yyyy\")),\"\")","v":""}]
[{"$f":"IF(B544=\"\",\"\",MAX(A$22:A543)+1)","v":""},{"$f":"IF($C544=Reference!$J$3,CONCATENATE('4. Shpenzimet e partisë'!$O544,\"-\",'4. Shpenzimet e partisë'!$P544,\"-\",TEXT('4. Shpenzimet e partisë'!$Q544,\"dd/mm/yyyy\")),\"\")","v":""}]
[{"$f":"IF(B545=\"\",\"\",MAX(A$22:A544)+1)","v":""},{"$f":"IF($C545=Reference!$J$3,CONCATENATE('4. Shpenzimet e partisë'!$O545,\"-\",'4. Shpenzimet e partisë'!$P545,\"-\",TEXT('4. Shpenzimet e partisë'!$Q545,\"dd/mm/yyyy\")),\"\")","v":""}]
[{"$f":"IF(B546=\"\",\"\",MAX(A$22:A545)+1)","v":""},{"$f":"IF($C546=Reference!$J$3,CONCATENATE('4. Shpenzimet e partisë'!$O546,\"-\",'4. Shpenzimet e partisë'!$P546,\"-\",TEXT('4. Shpenzimet e partisë'!$Q546,\"dd/mm/yyyy\")),\"\")","v":""}]
[{"$f":"IF(B547=\"\",\"\",MAX(A$22:A546)+1)","v":""},{"$f":"IF($C547=Reference!$J$3,CONCATENATE('4. Shpenzimet e partisë'!$O547,\"-\",'4. Shpenzimet e partisë'!$P547,\"-\",TEXT('4. Shpenzimet e partisë'!$Q547,\"dd/mm/yyyy\")),\"\")","v":""}]
[{"$f":"IF(B548=\"\",\"\",MAX(A$22:A547)+1)","v":""},{"$f":"IF($C548=Reference!$J$3,CONCATENATE('4. Shpenzimet e partisë'!$O548,\"-\",'4. Shpenzimet e partisë'!$P548,\"-\",TEXT('4. Shpenzimet e partisë'!$Q548,\"dd/mm/yyyy\")),\"\")","v":""}]
[{"$f":"IF(B549=\"\",\"\",MAX(A$22:A548)+1)","v":""},{"$f":"IF($C549=Reference!$J$3,CONCATENATE('4. Shpenzimet e partisë'!$O549,\"-\",'4. Shpenzimet e partisë'!$P549,\"-\",TEXT('4. Shpenzimet e partisë'!$Q549,\"dd/mm/yyyy\")),\"\")","v":""}]
[{"$f":"IF(B550=\"\",\"\",MAX(A$22:A549)+1)","v":""},{"$f":"IF($C550=Reference!$J$3,CONCATENATE('4. Shpenzimet e partisë'!$O550,\"-\",'4. Shpenzimet e partisë'!$P550,\"-\",TEXT('4. Shpenzimet e partisë'!$Q550,\"dd/mm/yyyy\")),\"\")","v":""}]
[{"$f":"IF(B551=\"\",\"\",MAX(A$22:A550)+1)","v":""},{"$f":"IF($C551=Reference!$J$3,CONCATENATE('4. Shpenzimet e partisë'!$O551,\"-\",'4. Shpenzimet e partisë'!$P551,\"-\",TEXT('4. Shpenzimet e partisë'!$Q551,\"dd/mm/yyyy\")),\"\")","v":""}]
[{"$f":"IF(B552=\"\",\"\",MAX(A$22:A551)+1)","v":""},{"$f":"IF($C552=Reference!$J$3,CONCATENATE('4. Shpenzimet e partisë'!$O552,\"-\",'4. Shpenzimet e partisë'!$P552,\"-\",TEXT('4. Shpenzimet e partisë'!$Q552,\"dd/mm/yyyy\")),\"\")","v":""}]
[{"$f":"IF(B553=\"\",\"\",MAX(A$22:A552)+1)","v":""},{"$f":"IF($C553=Reference!$J$3,CONCATENATE('4. Shpenzimet e partisë'!$O553,\"-\",'4. Shpenzimet e partisë'!$P553,\"-\",TEXT('4. Shpenzimet e partisë'!$Q553,\"dd/mm/yyyy\")),\"\")","v":""}]
[{"$f":"IF(B554=\"\",\"\",MAX(A$22:A553)+1)","v":""},{"$f":"IF($C554=Reference!$J$3,CONCATENATE('4. Shpenzimet e partisë'!$O554,\"-\",'4. Shpenzimet e partisë'!$P554,\"-\",TEXT('4. Shpenzimet e partisë'!$Q554,\"dd/mm/yyyy\")),\"\")","v":""}]
[]
[]
[]
[]
[]
[]
[]
[]
[]
[]
[]
[]
[]
[]
[]
[]
[]
[]
[]
[]
[]
[]
[]
[]
[]
[]
[]
[]
[]
[]
[]
[]
[]
[]
[]
[]
[]
[]
[]
[]
[]
[]
[]
[]
[]
[]
[]
[]
[]
[]
[]
[]
[]
[]
[]
[]
[]
[]
[]
[]
[]
[]
[]
[]
[]
[]
[]
[]
[]
[]
[]
[]
[]
[]
[]
[]
[]
[]
[]
[]
[]
[]
[]
[]
[]
[]
[]
[]
[]
[]
[]
[]
[]
[]
[]
[]
[]
[]
[]
[]
[]
[]
[]
[]
[]
[]
[]
[]
[]
[]
[]
[]
[]
[]
[]
[]
[]
[]
[]
[]
[]
[]
[]
[]
[]
[]
[]
[]
[]
[]
[]
[]
[]
[]
[]
[]
[]
[]
[]
[]
[]
[]
[]
[]
[]
[]
[]
[]
[]
[]
[]
[]
[]
[]
[]
[]
[]
[]
[]
[]
[]
[]
[]
[]
[]
[]
[]
[]
[]
[]
[]
[]
[]
[]
[]
[]
[]
[]
[]
[]
[]
[]
[]
[]
[]
[]
[]
[]
[]
[]
[]
[]
[]
[]
[]
[]
[]
[]
[]
[]
[]
[]
[]
[]
[]
[]
[]
[]
[]
[]
[]
[]
[]
[]
[]
[]
[]
[]
[]
[]
[]
[]
[]
[]
[]
[]
[]
[]
[]
[]
[]
[]
[]
[]
[]
[]
[]
[]
[]
[]
[]
[]
[]
[]
[]
[]
[]
[]
[]
[]
[]
[]
[]
[]
[]
[]
[]
[]
[]
[]
[]
[]
[]
[]
[]
[]
[]
[]
[]
[]
[]
[]
[]
[]
[]
[]
[]
[]
[]
[]
[]
[]
[]
[]
[]
[]
[]
[]
[]
[]
[]
[]
[]
[]
[]
[]
[]
[]
[]
[]
[]
[]
[]
[]
[]
[]
[]
[]
[]
[]
[]
[]
[]
[]
[]
[]
[]
[]
[]
[]
[]
[]
[]
[]
[]
[]
[]
[]
[]
[]
[]
[]
[]
[]
[]
[]
[]
[]
[]
[]
[]
[]
[]
[]
[]
[]
[]
[]
[]
[]
[]
[]
[]
[]
[]
[]
[]
[]
[]
[]
[]
[]
[]
[]
[]
[]
[]
[]
[]
[]
[]
[]
[]
[]
[]
[]
[]
[]
[]
[]
[]
[]
[]
[]
[]
[]
[]
[]
[]
[]
[]
[]
[]
[]
[]
[]
[]
[]
[]
[]
[]
[]
[]
[]
[]
[]
[]
[]
[]
[]
[]
[]
[]
[]
[]
[]
[]
[]
[]
[]
[]
[]
[]
[]
[]
[]
[]
[]
[]
[]
[]
[]
[]
[]
[]
[]
[]
[]
[]
[]
[]
[]
[]
[]
[]
[]
[]
[]
[]
[]
[]
[]
[]
[]
[]
[]
[]
[]
[]
[]
[]
[]
[]
[]
[]
[]
[]
[]
[]
[]
[]
[]
[]
[]
[]
[]
[]
[]
[]
[]
[]
[]
[]
[]
[]
[]
[]
[]
[]
[]
[]
[]
[]
[]
[]
[]
[]
[]
[]
[]
[]
[]
[]
[]
[]
[]
[]
[]
[]
[]
[]
[]
[]
[]
[]
[]
[]
[]
[]
[]
[]
[]
[]
[]
[]
[]
[]
[]
[]
[]
[]
[]
[]
[]
[]
[]
[]
[]
[]
[]
[]
[]
[]
[]
[]
[]
[]
[]
[]
[]
[]
[]
[]
[]
[]
[]
[]
[]
[]
[]
[]
[]
[]
[]
[]
[]
[]
[]
[]
[]
[]
[]
[]
[]
[]
[]
[]
[]
[]
[]
[]
[]
[]
[]
[]
[]
[]
[]
[]
[]
[]
[]
[]
[]
[]
[]
[]
[]
[]
[]
[]
[]
[]
[]
[]
[]
[]
[]
[]
[]
[]
[]
[]
[]
[]
[]
[]
[]
[]
[]
[]
[]
[]
[]
[]
[]
[]
[]
[]
[]
[]
[]
[]
[]
[]
[]
[]
[]
[]
[]
[]
[]
[]
[]
[]
[]
[]
[]
[]
[]
[]
[]
[]
[]
[]
[]
[]
[]
[]
[]
[]
[]
[]
[]
[]
[]
[]
[]
[]
[]
[]
[]
[]
[]
[]
[]
[]
[]
[]
[]
[]
[]
[]
[]
[]
[]
[]
[]
[]
[]
[]
[]
[]
[]
[]
[]
[]
[]
[]
[]
[]
[]
[]
[]
[]
[]
[]
[]
[]
[]
[]
[]
[]
[]
[]
[]
[]
[]
[]
[]
[]
[]
[]
[]
[]
[]
[]
[]
[]
[]
[]
[]
[]
[]
[]
[]
[]
[]
[]
[]
[]
[]
[]
[]
[]
[]
[]
[]
[]
[]
[]
[]
[]
[]
[]
[]
[]
[]
[]
[]
[]
[]
[]
[]
[]
[]
[]
[]
[]
[]
[]
[]
[]
[]
[]
[]
[]
[]
[]
[]
[]
[]
[]
[]
[]
[]
[]
[]
[]
[]
[]
[]
[]
[]
[]
[]
[]
[]
[]
[]
[]
[]
[]
[]
[]
[]
[]
[]
[]
[]
[]
[]
[]
[]
[]
[]
[]
[]
[]
[]
[]
[]
[]
[]
[]
[]
[]
[]
[]
[]
[]
[]
[]
[]
[]
[]
[]
[]
[]
[]
[]
[]
[]
[]
[]
[]
[]
[]
[]
[]
[]
[]
[]
[]
[]
[]
[]
[]
[]
[]
[]
[]
[]
[]
[]
[]
[]
[]
[]
[]
[]
[]
[]
[]
[]
[]
[]
[]
[]
[]
[]
[]
[]
[]
[]
[]
[]
[]
[]
[]
[]
[]
[]
[]
[]
[]
[]
[]
[]
[]
[]
[]
[]
[]
[]
[]
[]
[]
[]
[]
[]
[]
[]
[]
[]
[]
[]
[]
[]
[]
[]
[]
[]
[]
[]
[]
[]
[]
[]
[]
[]
[]
[]
[]
[]
[]
[]
[]
[]
[]
[]
[]
[]
[]
[]
[]
[]
[]
[]
[]
[]
[]
[]
[]
[]
[]
[]
[]
[]
[]
[]
[]
[]
[]
[]
[]
[]
[]
[]
[]
[]
[]
[]
[]
[]
[]
[]
[]
[]
[]
[]
[]
[]
[]
[]
[]
[]
[]
[]
[]
[]
[]
[]
[]
[]
[]
[]
[]
[]
[]
[]
[]
[]
[]
[]
[]
[]
[]
[]
[]
[]
[]
[]
[]
[]
[]
[]
[]
[]
[]
[]
[]
[]
[]
[]
[]
[]
[]
[]
[]
[]
[]
[]
[]
[]
[]
[]
[]
[]
[]
[]
[]
[]
[]
[]
[]
[]
[]
[]
[]
[]
[]
[]
[]
[]
[]
[]
[]
[]
[]
[]
[]
[]
[]
[]
[]
[]
[]
[]
[]
[]
[]
[]
[]
[]
[]
[]
[]
[]
[]
[]
[]
[]
[]
[]
[]
[]
[]
[]
[]
[]
[]
[]
[]
[]
[]
[]
[]
[]
[]
[]
[]
[]
[]
[]
[]
[]
[]
[]
[]
[]
[]
[]
[]
[]
[]
[]
[]
[]
[]
[]
[]
[]
[]
[]
[]
[]
[]
[]
[]
[]
[]
[]
[]
[]
[]
[]
[]
[]
[]
[]
[]
[]
[]
[]
[]
[]
[]
[]
[]
[]
[]
[]
[]
[]
[]
[]
[]
[]
[]
[]
[]
[]
[]
[]
[]
[]
[]
[]
[]
[]
[]
[]
[]
[]
[]
[]
[]
[]
[]
[]
[]
[]
[]
[]
[]
[]
[]
[]
[]
[]
[]
[]
[]
[]
[]
[]
[]
[]
[]
[]
[]
[]
[]
[]
[]
[]
[]
[]
[]
[]
[]
[]
[]
[]
[]
[]
[]
[]
[]
[]
[]
[]
[]
[]
[]
[]
[]
[]
[]
[]
[]
[]
[]
[]
[]
[]
[]
[]
[]
[]
[]
[]
[]
[]
[]
[]
[]
[]
[]
[]
[]
[]
[]
[]
[]
[]
[]
[]
[]
[]
[]
[]
[]
[]
[]
[]
[]
[]
[]
[]
[]
[]
[]
[]
[]
[]
[]
[]
[]
[]
[]
[]
[]
[]
[]
[]
[]
[]
[]
[]
[]
[]
[]
[]
[]
[]
[]
[]
[]
[]
[]
[]
[]
[]
[]
[]
[]
[]
[]
[]
[]
[]
[]
[]
[]
[]
[]
[]
[]
[]
[]
[]
[]
[]
[]
[]
[]
[]
[]
[]
[]
[]
[]
[]
[]
[]
[]
[]
[]
[]
[]
[]
[]
[]
[]
[]
[]
[]
[]
[]
[]
[]
[]
[]
[]
[]
[]
[]
[]
[]
[]
[]
[]
[]
[]
[]
[]
[]
[]
[]
[]
[]
[]
[]
[]
[]
[]
[]
[]
[]
[]
[]
[]
[]
[]
[]
[]
[]
[]
[]
[]
[]
[]
[]
[]
[]
[]
[]
[]
[]
[]
[]
[]
[]
[]
[]
[]
[]
[]
[]
[]
[]
[]
[]
[]
[]
[]
[]
[]
[]
[]
[]
[]
[]
[]
[]
[]
[]
[]
[]
[]
[]
[]
[]
[]
[]
[]
[]
[]
[]
[]
[]
[]
[]
[]
[]
[]
[]
[]
[]
[]
[]
[]
[]
[]
[]
[]
[]
[]
[]
[]
[]
[]
[]
[]
[]
[]
[]
[]
[]
[]
[]
[]
[]
[]
[]
[]
[]
[]
[]
[]
[]
[]
[]
[]
[]
[]
[]
[]
[]
[]
[]
[]
[]
[]
[]
[]
[]
[]
[]
[]
[]
[]
[]
[]
[]
[]
[]
[]
[]
[]
[]
[]
[]
[]
[]
[]
[]
[]
[]
[]
[]
[]
[]
[]
[]
[]
[]
[]
[]
[]
[]
[]
[]
[]
[]
[]
[]
[]
[]
[]
[]
[]
[]
[]
[]
[]
[]
[]
[]
[]
[]
[]
[]
[]
[]
[]
[]
[]
[]
[]
[]
[]
[]
[]
[]
[]
[]
[]
[]
[]
[]
[]
[]
[]
[]
[]
[]
[]
[]
[]
[]
[]
[]
[]
[]
[]
[]
[]
[]
[]
[]
[]
[]
[]
[]
[]
[]
[]
[]
[]
[]
[]
[]
[]
[]
[]
[]
[]
[]
[]
[]
[]
[]
[]
[]
[]
[]
[]
[]
[]
[]
[]
[]
[]
[]
[]
[]
[]
[]
[]
[]
[]
[]
[]
[]
[]
[]
[]
[]
[]
[]
[]
[]
[]
[]
[]
[]
[]
[]
[]
[]
[]
[]
[]
[]
[]
[]
[]
[]
[]
[]
[]
[]
[]
[]
[]
[]
[]
[]
[]
[]
[]
[]
[]
[]
[]
[]
[]
[]
[]
[]
[]
[]
[]
[]
[]
[]
[]
[]
[]
[]
[]
[]
[]
[]
[]
[]
[]
[]
[]
[]
[]
[]
[]
[]
[]
[]
[]
[]
[]
[]
[]
[]
[]
[]
[]
[]
[]
[]
[]
[]
[]
[]
[null,null,"Shpenzime zyre elektorale"]
[null,null,"Shpenzime zyre elektorale"]
[null,null,"Shpenzimet administrative"]

{"sheet":"5.a Raportet e kandid. për Krye","index":8,"n_rows":86,"n_cols":6,"rows_kept":86,"cut":false,"hidden":false,"merged":[[8,1,8,2],[9,1,9,2],[15,7,15,8],[13,0,13,2],[13,3,13,4],[12,7,12,8],[13,7,13,8],[14,7,14,8]]}
[]
[]
[]
[]
[]
[null,null,null,"REPUBLIKA E SHQIPËRISË\n"]
[null,null,null,"KOMISIONI QENDROR I ZGJEDHJEVE"]
[]
[null,"Emri i Partisë Politike",null,null,"Shkronjat Nistore"]
[]
[]
[]
["5.a Raportet e kandidatëve për Kryetarë të Qeverisjes Vendore"]
[{"$f":"\"Ju lutemi konfirmoni nëse nuk keni gjë për të raportuar \"&A13","v":"Ju lutemi konfirmoni nëse nuk keni gjë për të raportuar 5.a Raportet e kandidatëve për Kryetarë të Qeverisjes Vendore"}]
[]
[]
[]
["A. Bashkia","B. Të ardhurat totale të kandidatëve për Kryetarë sipas secilës njësi të qeverisjes vendore","C. Shpenzimet totale të kandidatëve për Kryetarë sipas secilës njësi të qeverisjes vendore"]
["Belsh"]
["Berat"]
["Bulqizë"]
["Cërrik"]
["Delvinë"]
["Devoll"]
["Dibër"]
["Divjakë"]
["Dropull"]
["Durrës"]
["Elbasan"]
["Fier"]
["Finiq"]
["Fushë Arrëz"]
["Gjirokastër"]
["Gramsh"]
["Has"]
["Himarë"]
["Kamëz"]
["Kavajë"]
["Këlcyrë"]
["Klos"]
["Kolonjë"]
["Konispol"]
["Korçë"]
["Krujë"]
["Kuçovë"]
["Kukës"]
["Kurbin"]
["Lezhë"]
["Libohovë"]
["Librazhd"]
["Lushnjë"]
["Malësi e Madhe"]
["Maliq"]
["Mallakastër"]
["Mat"]
["Memaliaj"]
["Mirditë"]
["Patos"]
["Peqin"]
["Përmet"]
["Pogradec"]
["Polican"]
["Prrenjas"]
["Pukë"]
["Pustec"]
["Roskovec"]
["Rrogozhinë"]
["Sarandë"]
["Selenicë"]
["Shijak"]
["Shkodër"]
["Skrapar"]
["Tepelenë"]
["Tiranë"]
["Tropojë"]
["Ura Vajgurore"]
["Vau i Dejës"]
["Vlorë"]
["Vorë"]
[]
[]
[]
[null,"FINANCIERI",null,null,null,"APROVUESI"]
[]
[]
[null,"Emër Mbiemër Firmë",null,null,null,"Emër Mbiemër Firmë"]

{"sheet":"5.b Raportet e kandid. të lista","index":9,"n_rows":82,"n_cols":6,"rows_kept":82,"cut":false,"hidden":false,"merged":[[8,1,8,2],[9,1,9,2],[13,7,13,8],[10,7,10,8],[11,0,11,2],[11,3,11,4],[11,7,11,8],[12,7,12,8]]}
[]
[]
[]
[]
[]
[null,null,null,"REPUBLIKA E SHQIPËRISË\n"]
[null,null,null,"KOMISIONI QENDROR I ZGJEDHJEVE"]
[]
[null,"Emri i Partisë Politike",null,null,"Shkronjat Nistore"]
[null,{"$f":"Kreu!E13","v":0},null,null,{"$f":"Kreu!E14","v":0}]
["5.b Raportet e kandidatëve të listave shumëemërore për njësitë e qeverisjes vendore"]
[{"$f":"\"Ju lutemi konfirmoni nëse nuk keni gjë për të raportuar \"&A11","v":"Ju lutemi konfirmoni nëse nuk keni gjë për të raportuar 5.b Raportet e kandidatëve të listave shumëemërore për njësitë e qeverisjes vendore"}]
[]
[]
[]
["A. Bashkia","B. Të ardhurat totale të kandidatëve të listave shumëemërore sipas secilës njësi të qeverisjes vendore","C. Shpenzimet totale të kandidatëve të listave shumëemërore sipas seciles njësi të qeverisjes vendore"]
["Belsh"]
["Berat"]
["Bulqizë"]
["Cërrik"]
["Delvinë"]
["Devoll"]
["Dibër"]
["Divjakë"]
["Dropull"]
["Durrës"]
["Elbasan"]
["Fier"]
["Finiq"]
["Fushë Arrëz"]
["Gjirokastër"]
["Gramsh"]
["Has"]
["Himarë"]
["Kamëz"]
["Kavajë"]
["Këlcyrë"]
["Klos"]
["Kolonjë"]
["Konispol"]
["Korçë"]
["Krujë"]
["Kuçovë"]
["Kukës"]
["Kurbin"]
["Lezhë"]
["Libohovë"]
["Librazhd"]
["Lushnjë"]
["Malësi e Madhe"]
["Maliq"]
["Mallakastër"]
["Mat"]
["Memaliaj"]
["Mirditë"]
["Patos"]
["Peqin"]
["Përmet"]
["Pogradec"]
["Polican"]
["Prrenjas"]
["Pukë"]
["Pustec"]
["Roskovec"]
["Rrogozhinë"]
["Sarandë"]
["Selenicë"]
["Shijak"]
["Shkodër"]
["Skrapar"]
["Tepelenë"]
["Tiranë"]
["Tropojë"]
["Ura Vajgurore"]
["Vau i Dejës"]
["Vlorë"]
["Vorë"]
[]
[null,"FINANCIERI",null,null,null,"APROVUESI"]
[]
[]
[null,"Emër Mbiemër Firmë",null,null,null,"Emër Mbiemër Firmë"]

{"sheet":"6. Shpenzimet për mitingje","index":10,"n_rows":31,"n_cols":3,"rows_kept":31,"cut":false,"hidden":false,"merged":[[24,0,24,1],[19,2,19,3],[20,2,20,3],[21,2,21,3],[22,2,22,3]]}
[]
[]
[]
[]
[]
[]
[]
[null,"REPUBLIKA E SHQIPËRISË\n"]
[null,"KOMISIONI QENDROR I ZGJEDHJEVE"]
[]
["Emri i Partisë Politike",null,"Shkronjat Nistore"]
[]
[]
[]
[]
[]
[]
[]
["6. Shpenzimet për mitingjet e fushatës (pasqyrë)"]
[]
[]
[]
[]
[]
[{"$f":"\"Ju lutemi konfirmoni nëse nuk keni gjë për të raportuar \"&A19","v":"Ju lutemi konfirmoni nëse nuk keni gjë për të raportuar 6. Shpenzimet për mitingjet e fushatës (pasqyrë)"}]
[]
["A. Mitingjet e fushatës","B. Kategoritë e shpenzimeve për mitingje","C. Kostoja "]
[]
[]
[]
[""]

{"sheet":"Reference","index":11,"n_rows":200,"n_cols":30,"rows_kept":200,"cut":false,"hidden":false,"merged":[]}
[]
[null,"Lloji_i_zgjedhjeve",null,"Lloji_dhurimit",null,"Statusi_i_dhuruesit",null,"Metoda_e_dhurimit",null,"Lloji_i_shpenzimit",null,"Lloji_i_medias",null,"Po_Jo",null,"Data më e hershme",null,"Marrë_nga",null,"Aktiviteti_që_ka_krijuar_të_ardhura",null,"Të_pa_raportueshme",null,"Kategoria_e_shpenzimit",null,"Kategoria_shpenzimeve_të_fushatës",null,"Listamitingjevedinamike","Kryer_nga","Qarku"]
[null,"Parlamentare",null,"Dhurime monetare",null,"Person fizik",null,"Para në dorë/cash",null,"Mitingje/tubime dhe aktivitete në fushatë","*","TV",null,"Po",null,"2017-01-01",null,"Zyra qendrore",null,"Shtypi i printuar",null,"Të dhënat e mëposhtme",null,"Zërat e shpenzimeve monetare",null,"Shpenzime për vendin/ambjentin",null,{"$f":"IFERROR(INDEX('4. Shpenzimet e partisë'!$B$23:$B$554,MATCH(ROW()-ROW($AB$2),'4. Shpenzimet e partisë'!$A$23:$A$554,0)),\"\")","v":""},"Zyra qëndrore","Belsh"]
[null,"Lokale",null,"Dhurime në natyrë",null,"Person juridik",null,"Çek bankar",null,"Materiale promocionale",null,"Radio",null,"Jo",null,null,null,"Dega",null,"Shitja e publikimeve",null,"Konfirmoj se nuk kemi zëra për të raportuar",null,"Shpenzime të papaguara",null,"Shpenzime për zbavitje/argëtim",null,{"$f":"IFERROR(INDEX('4. Shpenzimet e partisë'!$B$23:$B$554,MATCH(ROW()-ROW($AB$2),'4. Shpenzimet e partisë'!$A$23:$A$554,0)),\"\")","v":""},"Dega","Berat"]
[null,null,null,"Të ardhura të krijuara nga subjekti",null,"Entitet juridik",null,"Transfertë bankare",null,"Media","*","Printime",null,null,null,null,null,null,null,"Dhënia me qera",null,null,null,null,null,"Shpenzime për pajisje",null,{"$f":"IFERROR(INDEX('4. Shpenzimet e partisë'!$B$23:$B$554,MATCH(ROW()-ROW($AB$2),'4. Shpenzimet e partisë'!$A$23:$A$554,0)),\"\")","v":""},null,"Bulqizë"]
[null,null,null,null,null,null,null,"Kartë krediti/debiti",null,"Media sociale",null,"Online",null,null,null,null,null,null,null,"Interesa bankare",null,null,null,"Detyrime financiare",null,"Shpenzime për pije",null,{"$f":"IFERROR(INDEX('4. Shpenzimet e partisë'!$B$23:$B$554,MATCH(ROW()-ROW($AB$2),'4. Shpenzimet e partisë'!$A$23:$A$554,0)),\"\")","v":""},null,"Cërrik"]
[null,null,null,null,null,null,null,null,null,"Sondazhe",null,null,null,null,null,null,null,null,null,"Kuotat e anëtarësisë",null,null,null,null,null,"Shpenzime për reklama/promocion",null,{"$f":"IFERROR(INDEX('4. Shpenzimet e partisë'!$B$23:$B$554,MATCH(ROW()-ROW($AB$2),'4. Shpenzimet e partisë'!$A$23:$A$554,0)),\"\")","v":""},null,"Delvinë"]
[null,null,null,null,null,null,null,null,null,"Botime/Publikime",null,null,null,null,null,null,null,null,null,"Transfertë nga llogaritë e partisë",null,null,null,null,null,"Shpenzime për transport",null,{"$f":"IFERROR(INDEX('4. Shpenzimet e partisë'!$B$23:$B$554,MATCH(ROW()-ROW($AB$2),'4. Shpenzimet e partisë'!$A$23:$A$554,0)),\"\")","v":""},null,"Devoll"]
[null,null,null,null,null,null,null,null,null,"Transporti",null,null,null,null,null,null,null,null,null,"Të tjera (specifikoni në kolonën e fundit)",null,null,null,null,null,"Shpenzime administrative",null,{"$f":"IFERROR(INDEX('4. Shpenzimet e partisë'!$B$23:$B$554,MATCH(ROW()-ROW($AB$2),'4. Shpenzimet e partisë'!$A$23:$A$554,0)),\"\")","v":""},null,"Dibër"]
[null,null,null,null,null,null,null,null,null,"Konsulenca",null,null,null,null,null,null,null,null,null,null,null,null,null,null,null,null,null,{"$f":"IFERROR(INDEX('4. Shpenzimet e partisë'!$B$23:$B$554,MATCH(ROW()-ROW($AB$2),'4. Shpenzimet e partisë'!$A$23:$A$554,0)),\"\")","v":""},null,"Divjakë"]
[null,null,null,null,null,null,null,null,null,"Reklamime në natyrë",null,null,null,null,null,null,null,null,null,null,null,null,null,null,null,null,null,{"$f":"IFERROR(INDEX('4. Shpenzimet e partisë'!$B$23:$B$554,MATCH(ROW()-ROW($AB$2),'4. Shpenzimet e partisë'!$A$23:$A$554,0)),\"\")","v":""},null,"Dropull"]
[null,null,null,null,null,null,null,null,null,"Shpenzime zyre elektorale",null,null,null,null,null,null,null,null,null,null,null,null,null,null,null,null,null,null,null,"Durrës"]
[null,null,null,null,null,null,null,null,null,"Shpenzimet administrative",null,null,null,null,null,null,null,null,null,null,null,null,null,null,null,null,null,{"$f":"IFERROR(INDEX('4. Shpenzimet e partisë'!$B$23:$B$554,MATCH(ROW()-ROW($AB$2),'4. Shpenzimet e partisë'!$A$23:$A$554,0)),\"\")","v":""},null,"Elbasan"]
[null,null,null,null,null,null,null,null,null,null,null,null,null,null,null,null,null,null,null,null,null,null,null,null,null,null,null,{"$f":"IFERROR(INDEX('4. Shpenzimet e partisë'!$B$23:$B$554,MATCH(ROW()-ROW($AB$2),'4. Shpenzimet e partisë'!$A$23:$A$554,0)),\"\")","v":""},null,"Fier"]
[null,null,null,null,null,null,null,null,null,null,null,null,null,null,null,null,null,null,null,null,null,null,null,null,null,null,null,{"$f":"IFERROR(INDEX('4. Shpenzimet e partisë'!$B$23:$B$554,MATCH(ROW()-ROW($AB$2),'4. Shpenzimet e partisë'!$A$23:$A$554,0)),\"\")","v":""},null,"Finiq"]
[null,null,null,null,null,null,null,null,null,null,null,null,null,null,null,null,null,null,null,null,null,null,null,null,null,null,null,{"$f":"IFERROR(INDEX('4. Shpenzimet e partisë'!$B$23:$B$554,MATCH(ROW()-ROW($AB$2),'4. Shpenzimet e partisë'!$A$23:$A$554,0)),\"\")","v":""},null,"Fushë Arrëz"]
[null,null,null,null,null,null,null,null,null,null,null,null,null,null,null,null,null,null,null,null,null,null,null,null,null,null,null,{"$f":"IFERROR(INDEX('4. Shpenzimet e partisë'!$B$23:$B$554,MATCH(ROW()-ROW($AB$2),'4. Shpenzimet e partisë'!$A$23:$A$554,0)),\"\")","v":""},null,"Gjirokastër"]
[null,null,null,null,null,null,null,null,null,null,null,null,null,null,null,null,null,null,null,null,null,null,null,null,null,null,null,{"$f":"IFERROR(INDEX('4. Shpenzimet e partisë'!$B$23:$B$554,MATCH(ROW()-ROW($AB$2),'4. Shpenzimet e partisë'!$A$23:$A$554,0)),\"\")","v":""},null,"Gramsh"]
[null,null,null,null,null,null,null,null,null,null,null,null,null,null,null,null,null,null,null,null,null,null,null,null,null,null,null,{"$f":"IFERROR(INDEX('4. Shpenzimet e partisë'!$B$23:$B$554,MATCH(ROW()-ROW($AB$2),'4. Shpenzimet e partisë'!$A$23:$A$554,0)),\"\")","v":""},null,"Has"]
[null,null,null,null,null,null,null,null,null,null,null,null,null,null,null,null,null,null,null,null,null,null,null,null,null,null,null,{"$f":"IFERROR(INDEX('4. Shpenzimet e partisë'!$B$23:$B$554,MATCH(ROW()-ROW($AB$2),'4. Shpenzimet e partisë'!$A$23:$A$554,0)),\"\")","v":""},null,"Himarë"]
[null,null,null,null,null,null,null,null,null,null,null,null,null,null,null,null,null,null,null,null,null,null,null,null,null,null,null,{"$f":"IFERROR(INDEX('4. Shpenzimet e partisë'!$B$23:$B$554,MATCH(ROW()-ROW($AB$2),'4. Shpenzimet e partisë'!$A$23:$A$554,0)),\"\")","v":""},null,"Kamëz"]
[null,null,null,null,null,null,null,null,null,null,null,null,null,null,null,null,null,null,null,null,null,null,null,null,null,null,null,{"$f":"IFERROR(INDEX('4. Shpenzimet e partisë'!$B$23:$B$554,MATCH(ROW()-ROW($AB$2),'4. Shpenzimet e partisë'!$A$23:$A$554,0)),\"\")","v":""},null,"Kavajë"]
[null,null,null,null,null,null,null,null,null,null,null,null,null,null,null,null,null,null,null,null,null,null,null,null,null,null,null,{"$f":"IFERROR(INDEX('4. Shpenzimet e partisë'!$B$23:$B$554,MATCH(ROW()-ROW($AB$2),'4. Shpenzimet e partisë'!$A$23:$A$554,0)),\"\")","v":""},null,"Këlcyrë"]
[null,null,null,null,null,null,null,null,null,null,null,null,null,null,null,null,null,null,null,null,null,null,null,null,null,null,null,{"$f":"IFERROR(INDEX('4. Shpenzimet e partisë'!$B$23:$B$554,MATCH(ROW()-ROW($AB$2),'4. Shpenzimet e partisë'!$A$23:$A$554,0)),\"\")","v":""},null,"Klos"]
[null,null,null,null,null,null,null,null,null,null,null,null,null,null,null,null,null,null,null,null,null,null,null,null,null,null,null,{"$f":"IFERROR(INDEX('4. Shpenzimet e partisë'!$B$23:$B$554,MATCH(ROW()-ROW($AB$2),'4. Shpenzimet e partisë'!$A$23:$A$554,0)),\"\")","v":""},null,"Kolonjë"]
[null,null,null,null,null,null,null,null,null,null,null,null,null,null,null,null,null,null,null,null,null,null,null,null,null,null,null,{"$f":"IFERROR(INDEX('4. Shpenzimet e partisë'!$B$23:$B$554,MATCH(ROW()-ROW($AB$2),'4. Shpenzimet e partisë'!$A$23:$A$554,0)),\"\")","v":""},null,"Konispol"]
[null,null,null,null,null,null,null,null,null,null,null,null,null,null,null,null,null,null,null,null,null,null,null,null,null,null,null,{"$f":"IFERROR(INDEX('4. Shpenzimet e partisë'!$B$23:$B$554,MATCH(ROW()-ROW($AB$2),'4. Shpenzimet e partisë'!$A$23:$A$554,0)),\"\")","v":""},null,"Korçë"]
[null,null,null,null,null,null,null,null,null,null,null,null,null,null,null,null,null,null,null,null,null,null,null,null,null,null,null,{"$f":"IFERROR(INDEX('4. Shpenzimet e partisë'!$B$23:$B$554,MATCH(ROW()-ROW($AB$2),'4. Shpenzimet e partisë'!$A$23:$A$554,0)),\"\")","v":""},null,"Krujë"]
[null,null,null,null,null,null,null,null,null,null,null,null,null,null,null,null,null,null,null,null,null,null,null,null,null,null,null,{"$f":"IFERROR(INDEX('4. Shpenzimet e partisë'!$B$23:$B$554,MATCH(ROW()-ROW($AB$2),'4. Shpenzimet e partisë'!$A$23:$A$554,0)),\"\")","v":""},null,"Kuçovë"]
[null,null,null,null,null,null,null,null,null,null,null,null,null,null,null,null,null,null,null,null,null,null,null,null,null,null,null,{"$f":"IFERROR(INDEX('4. Shpenzimet e partisë'!$B$23:$B$554,MATCH(ROW()-ROW($AB$2),'4. Shpenzimet e partisë'!$A$23:$A$554,0)),\"\")","v":""},null,"Kukës"]
[null,null,null,null,null,null,null,null,null,null,null,null,null,null,null,null,null,null,null,null,null,null,null,null,null,null,null,{"$f":"IFERROR(INDEX('4. Shpenzimet e partisë'!$B$23:$B$554,MATCH(ROW()-ROW($AB$2),'4. Shpenzimet e partisë'!$A$23:$A$554,0)),\"\")","v":""},null,"Kurbin"]
[null,null,null,null,null,null,null,null,null,null,null,null,null,null,null,null,null,null,null,null,null,null,null,null,null,null,null,{"$f":"IFERROR(INDEX('4. Shpenzimet e partisë'!$B$23:$B$554,MATCH(ROW()-ROW($AB$2),'4. Shpenzimet e partisë'!$A$23:$A$554,0)),\"\")","v":""},null,"Lezhë"]
[null,null,null,null,null,null,null,null,null,null,null,null,null,null,null,null,null,null,null,null,null,null,null,null,null,null,null,{"$f":"IFERROR(INDEX('4. Shpenzimet e partisë'!$B$23:$B$554,MATCH(ROW()-ROW($AB$2),'4. Shpenzimet e partisë'!$A$23:$A$554,0)),\"\")","v":""},null,"Libohovë"]
[null,null,null,null,null,null,null,null,null,null,null,null,null,null,null,null,null,null,null,null,null,null,null,null,null,null,null,{"$f":"IFERROR(INDEX('4. Shpenzimet e partisë'!$B$23:$B$554,MATCH(ROW()-ROW($AB$2),'4. Shpenzimet e partisë'!$A$23:$A$554,0)),\"\")","v":""},null,"Librazhd"]
[null,null,null,null,null,null,null,null,null,null,null,null,null,null,null,null,null,null,null,null,null,null,null,null,null,null,null,{"$f":"IFERROR(INDEX('4. Shpenzimet e partisë'!$B$23:$B$554,MATCH(ROW()-ROW($AB$2),'4. Shpenzimet e partisë'!$A$23:$A$554,0)),\"\")","v":""},null,"Lushnjë"]
[null,null,null,null,null,null,null,null,null,null,null,null,null,null,null,null,null,null,null,null,null,null,null,null,null,null,null,{"$f":"IFERROR(INDEX('4. Shpenzimet e partisë'!$B$23:$B$554,MATCH(ROW()-ROW($AB$2),'4. Shpenzimet e partisë'!$A$23:$A$554,0)),\"\")","v":""},null,"Malësi e Madhe"]
[null,null,null,null,null,null,null,null,null,null,null,null,null,null,null,null,null,null,null,null,null,null,null,null,null,null,null,{"$f":"IFERROR(INDEX('4. Shpenzimet e partisë'!$B$23:$B$554,MATCH(ROW()-ROW($AB$2),'4. Shpenzimet e partisë'!$A$23:$A$554,0)),\"\")","v":""},null,"Maliq"]
[null,null,null,null,null,null,null,null,null,null,null,null,null,null,null,null,null,null,null,null,null,null,null,null,null,null,null,{"$f":"IFERROR(INDEX('4. Shpenzimet e partisë'!$B$23:$B$554,MATCH(ROW()-ROW($AB$2),'4. Shpenzimet e partisë'!$A$23:$A$554,0)),\"\")","v":""},null,"Mallakastër"]
[null,null,null,null,null,null,null,null,null,null,null,null,null,null,null,null,null,null,null,null,null,null,null,null,null,null,null,{"$f":"IFERROR(INDEX('4. Shpenzimet e partisë'!$B$23:$B$554,MATCH(ROW()-ROW($AB$2),'4. Shpenzimet e partisë'!$A$23:$A$554,0)),\"\")","v":""},null,"Mat"]
[null,null,null,null,null,null,null,null,null,null,null,null,null,null,null,null,null,null,null,null,null,null,null,null,null,null,null,{"$f":"IFERROR(INDEX('4. Shpenzimet e partisë'!$B$23:$B$554,MATCH(ROW()-ROW($AB$2),'4. Shpenzimet e partisë'!$A$23:$A$554,0)),\"\")","v":""},null,"Memaliaj"]
[null,null,null,null,null,null,null,null,null,null,null,null,null,null,null,null,null,null,null,null,null,null,null,null,null,null,null,{"$f":"IFERROR(INDEX('4. Shpenzimet e partisë'!$B$23:$B$554,MATCH(ROW()-ROW($AB$2),'4. Shpenzimet e partisë'!$A$23:$A$554,0)),\"\")","v":""},null,"Mirditë"]
[null,null,null,null,null,null,null,null,null,null,null,null,null,null,null,null,null,null,null,null,null,null,null,null,null,null,null,{"$f":"IFERROR(INDEX('4. Shpenzimet e partisë'!$B$23:$B$554,MATCH(ROW()-ROW($AB$2),'4. Shpenzimet e partisë'!$A$23:$A$554,0)),\"\")","v":""},null,"Patos"]
[null,null,null,null,null,null,null,null,null,null,null,null,null,null,null,null,null,null,null,null,null,null,null,null,null,null,null,{"$f":"IFERROR(INDEX('4. Shpenzimet e partisë'!$B$23:$B$554,MATCH(ROW()-ROW($AB$2),'4. Shpenzimet e partisë'!$A$23:$A$554,0)),\"\")","v":""},null,"Peqin"]
[null,null,null,null,null,null,null,null,null,null,null,null,null,null,null,null,null,null,null,null,null,null,null,null,null,null,null,{"$f":"IFERROR(INDEX('4. Shpenzimet e partisë'!$B$23:$B$554,MATCH(ROW()-ROW($AB$2),'4. Shpenzimet e partisë'!$A$23:$A$554,0)),\"\")","v":""},null,"Përmet"]
[null,null,null,null,null,null,null,null,null,null,null,null,null,null,null,null,null,null,null,null,null,null,null,null,null,null,null,{"$f":"IFERROR(INDEX('4. Shpenzimet e partisë'!$B$23:$B$554,MATCH(ROW()-ROW($AB$2),'4. Shpenzimet e partisë'!$A$23:$A$554,0)),\"\")","v":""},null,"Pogradec"]
[null,null,null,null,null,null,null,null,null,null,null,null,null,null,null,null,null,null,null,null,null,null,null,null,null,null,null,{"$f":"IFERROR(INDEX('4. Shpenzimet e partisë'!$B$23:$B$554,MATCH(ROW()-ROW($AB$2),'4. Shpenzimet e partisë'!$A$23:$A$554,0)),\"\")","v":""},null,"Polican"]
[null,null,null,null,null,null,null,null,null,null,null,null,null,null,null,null,null,null,null,null,null,null,null,null,null,null,null,{"$f":"IFERROR(INDEX('4. Shpenzimet e partisë'!$B$23:$B$554,MATCH(ROW()-ROW($AB$2),'4. Shpenzimet e partisë'!$A$23:$A$554,0)),\"\")","v":""},null,"Prrenjas"]
[null,null,null,null,null,null,null,null,null,null,null,null,null,null,null,null,null,null,null,null,null,null,null,null,null,null,null,{"$f":"IFERROR(INDEX('4. Shpenzimet e partisë'!$B$23:$B$554,MATCH(ROW()-ROW($AB$2),'4. Shpenzimet e partisë'!$A$23:$A$554,0)),\"\")","v":""},null,"Pukë"]
[null,null,null,null,null,null,null,null,null,null,null,null,null,null,null,null,null,null,null,null,null,null,null,null,null,null,null,{"$f":"IFERROR(INDEX('4. Shpenzimet e partisë'!$B$23:$B$554,MATCH(ROW()-ROW($AB$2),'4. Shpenzimet e partisë'!$A$23:$A$554,0)),\"\")","v":""},null,"Pustec"]
[null,null,null,null,null,null,null,null,null,null,null,null,null,null,null,null,null,null,null,null,null,null,null,null,null,null,null,{"$f":"IFERROR(INDEX('4. Shpenzimet e partisë'!$B$23:$B$554,MATCH(ROW()-ROW($AB$2),'4. Shpenzimet e partisë'!$A$23:$A$554,0)),\"\")","v":""},null,"Roskovec"]
[null,null,null,null,null,null,null,null,null,null,null,null,null,null,null,null,null,null,null,null,null,null,null,null,null,null,null,{"$f":"IFERROR(INDEX('4. Shpenzimet e partisë'!$B$23:$B$554,MATCH(ROW()-ROW($AB$2),'4. Shpenzimet e partisë'!$A$23:$A$554,0)),\"\")","v":""},null,"Rrogozhinë"]
[null,null,null,null,null,null,null,null,null,null,null,null,null,null,null,null,null,null,null,null,null,null,null,null,null,null,null,{"$f":"IFERROR(INDEX('4. Shpenzimet e partisë'!$B$23:$B$554,MATCH(ROW()-ROW($AB$2),'4. Shpenzimet e partisë'!$A$23:$A$554,0)),\"\")","v":""},null,"Sarandë"]
[null,null,null,null,null,null,null,null,null,null,null,null,null,null,null,null,null,null,null,null,null,null,null,null,null,null,null,{"$f":"IFERROR(INDEX('4. Shpenzimet e partisë'!$B$23:$B$554,MATCH(ROW()-ROW($AB$2),'4. Shpenzimet e partisë'!$A$23:$A$554,0)),\"\")","v":""},null,"Selenicë"]
[null,null,null,null,null,null,null,null,null,null,null,null,null,null,null,null,null,null,null,null,null,null,null,null,null,null,null,{"$f":"IFERROR(INDEX('4. Shpenzimet e partisë'!$B$23:$B$554,MATCH(ROW()-ROW($AB$2),'4. Shpenzimet e partisë'!$A$23:$A$554,0)),\"\")","v":""},null,"Shijak"]
[null,null,null,null,null,null,null,null,null,null,null,null,null,null,null,null,null,null,null,null,null,null,null,null,null,null,null,{"$f":"IFERROR(INDEX('4. Shpenzimet e partisë'!$B$23:$B$554,MATCH(ROW()-ROW($AB$2),'4. Shpenzimet e partisë'!$A$23:$A$554,0)),\"\")","v":""},null,"Shkodër"]
[null,null,null,null,null,null,null,null,null,null,null,null,null,null,null,null,null,null,null,null,null,null,null,null,null,null,null,{"$f":"IFERROR(INDEX('4. Shpenzimet e partisë'!$B$23:$B$554,MATCH(ROW()-ROW($AB$2),'4. Shpenzimet e partisë'!$A$23:$A$554,0)),\"\")","v":""},null,"Skrapar"]
[null,null,null,null,null,null,null,null,null,null,null,null,null,null,null,null,null,null,null,null,null,null,null,null,null,null,null,{"$f":"IFERROR(INDEX('4. Shpenzimet e partisë'!$B$23:$B$554,MATCH(ROW()-ROW($AB$2),'4. Shpenzimet e partisë'!$A$23:$A$554,0)),\"\")","v":""},null,"Tepelenë"]
[null,null,null,null,null,null,null,null,null,null,null,null,null,null,null,null,null,null,null,null,null,null,null,null,null,null,null,{"$f":"IFERROR(INDEX('4. Shpenzimet e partisë'!$B$23:$B$554,MATCH(ROW()-ROW($AB$2),'4. Shpenzimet e partisë'!$A$23:$A$554,0)),\"\")","v":""},null,"Tiranë"]
[null,null,null,null,null,null,null,null,null,null,null,null,null,null,null,null,null,null,null,null,null,null,null,null,null,null,null,{"$f":"IFERROR(INDEX('4. Shpenzimet e partisë'!$B$23:$B$554,MATCH(ROW()-ROW($AB$2),'4. Shpenzimet e partisë'!$A$23:$A$554,0)),\"\")","v":""},null,"Tropojë"]
[null,null,null,null,null,null,null,null,null,null,null,null,null,null,null,null,null,null,null,null,null,null,null,null,null,null,null,{"$f":"IFERROR(INDEX('4. Shpenzimet e partisë'!$B$23:$B$554,MATCH(ROW()-ROW($AB$2),'4. Shpenzimet e partisë'!$A$23:$A$554,0)),\"\")","v":""},null,"Ura Vajgurore"]
[null,null,null,null,null,null,null,null,null,null,null,null,null,null,null,null,null,null,null,null,null,null,null,null,null,null,null,{"$f":"IFERROR(INDEX('4. Shpenzimet e partisë'!$B$23:$B$554,MATCH(ROW()-ROW($AB$2),'4. Shpenzimet e partisë'!$A$23:$A$554,0)),\"\")","v":""},null,"Vau i Dejës"]
[null,null,null,null,null,null,null,null,null,null,null,null,null,null,null,null,null,null,null,null,null,null,null,null,null,null,null,{"$f":"IFERROR(INDEX('4. Shpenzimet e partisë'!$B$23:$B$554,MATCH(ROW()-ROW($AB$2),'4. Shpenzimet e partisë'!$A$23:$A$554,0)),\"\")","v":""},null,"Vlorë"]
[null,null,null,null,null,null,null,null,null,null,null,null,null,null,null,null,null,null,null,null,null,null,null,null,null,null,null,{"$f":"IFERROR(INDEX('4. Shpenzimet e partisë'!$B$23:$B$554,MATCH(ROW()-ROW($AB$2),'4. Shpenzimet e partisë'!$A$23:$A$554,0)),\"\")","v":""},null,"Vorë"]
[null,null,null,null,null,null,null,null,null,null,null,null,null,null,null,null,null,null,null,null,null,null,null,null,null,null,null,{"$f":"IFERROR(INDEX('4. Shpenzimet e partisë'!$B$23:$B$554,MATCH(ROW()-ROW($AB$2),'4. Shpenzimet e partisë'!$A$23:$A$554,0)),\"\")","v":""}]
[null,null,null,null,null,null,null,null,null,null,null,null,null,null,null,null,null,null,null,null,null,null,null,null,null,null,null,{"$f":"IFERROR(INDEX('4. Shpenzimet e partisë'!$B$23:$B$554,MATCH(ROW()-ROW($AB$2),'4. Shpenzimet e partisë'!$A$23:$A$554,0)),\"\")","v":""}]
[null,null,null,null,null,null,null,null,null,null,null,null,null,null,null,null,null,null,null,null,null,null,null,null,null,null,null,{"$f":"IFERROR(INDEX('4. Shpenzimet e partisë'!$B$23:$B$554,MATCH(ROW()-ROW($AB$2),'4. Shpenzimet e partisë'!$A$23:$A$554,0)),\"\")","v":""}]
[null,null,null,null,null,null,null,null,null,null,null,null,null,null,null,null,null,null,null,null,null,null,null,null,null,null,null,{"$f":"IFERROR(INDEX('4. Shpenzimet e partisë'!$B$23:$B$554,MATCH(ROW()-ROW($AB$2),'4. Shpenzimet e partisë'!$A$23:$A$554,0)),\"\")","v":""}]
[null,null,null,null,null,null,null,null,null,null,null,null,null,null,null,null,null,null,null,null,null,null,null,null,null,null,null,{"$f":"IFERROR(INDEX('4. Shpenzimet e partisë'!$B$23:$B$554,MATCH(ROW()-ROW($AB$2),'4. Shpenzimet e partisë'!$A$23:$A$554,0)),\"\")","v":""}]
[null,null,null,null,null,null,null,null,null,null,null,null,null,null,null,null,null,null,null,null,null,null,null,null,null,null,null,{"$f":"IFERROR(INDEX('4. Shpenzimet e partisë'!$B$23:$B$554,MATCH(ROW()-ROW($AB$2),'4. Shpenzimet e partisë'!$A$23:$A$554,0)),\"\")","v":""}]
[null,null,null,null,null,null,null,null,null,null,null,null,null,null,null,null,null,null,null,null,null,null,null,null,null,null,null,{"$f":"IFERROR(INDEX('4. Shpenzimet e partisë'!$B$23:$B$554,MATCH(ROW()-ROW($AB$2),'4. Shpenzimet e partisë'!$A$23:$A$554,0)),\"\")","v":""}]
[null,null,null,null,null,null,null,null,null,null,null,null,null,null,null,null,null,null,null,null,null,null,null,null,null,null,null,{"$f":"IFERROR(INDEX('4. Shpenzimet e partisë'!$B$23:$B$554,MATCH(ROW()-ROW($AB$2),'4. Shpenzimet e partisë'!$A$23:$A$554,0)),\"\")","v":""}]
[null,null,null,null,null,null,null,null,null,null,null,null,null,null,null,null,null,null,null,null,null,null,null,null,null,null,null,{"$f":"IFERROR(INDEX('4. Shpenzimet e partisë'!$B$23:$B$554,MATCH(ROW()-ROW($AB$2),'4. Shpenzimet e partisë'!$A$23:$A$554,0)),\"\")","v":""}]
[null,null,null,null,null,null,null,null,null,null,null,null,null,null,null,null,null,null,null,null,null,null,null,null,null,null,null,{"$f":"IFERROR(INDEX('4. Shpenzimet e partisë'!$B$23:$B$554,MATCH(ROW()-ROW($AB$2),'4. Shpenzimet e partisë'!$A$23:$A$554,0)),\"\")","v":""}]
[null,null,null,null,null,null,null,null,null,null,null,null,null,null,null,null,null,null,null,null,null,null,null,null,null,null,null,{"$f":"IFERROR(INDEX('4. Shpenzimet e partisë'!$B$23:$B$554,MATCH(ROW()-ROW($AB$2),'4. Shpenzimet e partisë'!$A$23:$A$554,0)),\"\")","v":""}]
[null,null,null,null,null,null,null,null,null,null,null,null,null,null,null,null,null,null,null,null,null,null,null,null,null,null,null,{"$f":"IFERROR(INDEX('4. Shpenzimet e partisë'!$B$23:$B$554,MATCH(ROW()-ROW($AB$2),'4. Shpenzimet e partisë'!$A$23:$A$554,0)),\"\")","v":""}]
[null,null,null,null,null,null,null,null,null,null,null,null,null,null,null,null,null,null,null,null,null,null,null,null,null,null,null,{"$f":"IFERROR(INDEX('4. Shpenzimet e partisë'!$B$23:$B$554,MATCH(ROW()-ROW($AB$2),'4. Shpenzimet e partisë'!$A$23:$A$554,0)),\"\")","v":""}]
[null,null,null,null,null,null,null,null,null,null,null,null,null,null,null,null,null,null,null,null,null,null,null,null,null,null,null,{"$f":"IFERROR(INDEX('4. Shpenzimet e partisë'!$B$23:$B$554,MATCH(ROW()-ROW($AB$2),'4. Shpenzimet e partisë'!$A$23:$A$554,0)),\"\")","v":""}]
[null,null,null,null,null,null,null,null,null,null,null,null,null,null,null,null,null,null,null,null,null,null,null,null,null,null,null,{"$f":"IFERROR(INDEX('4. Shpenzimet e partisë'!$B$23:$B$554,MATCH(ROW()-ROW($AB$2),'4. Shpenzimet e partisë'!$A$23:$A$554,0)),\"\")","v":""}]
[null,null,null,null,null,null,null,null,null,null,null,null,null,null,null,null,null,null,null,null,null,null,null,null,null,null,null,{"$f":"IFERROR(INDEX('4. Shpenzimet e partisë'!$B$23:$B$554,MATCH(ROW()-ROW($AB$2),'4. Shpenzimet e partisë'!$A$23:$A$554,0)),\"\")","v":""}]
[null,null,null,null,null,null,null,null,null,null,null,null,null,null,null,null,null,null,null,null,null,null,null,null,null,null,null,{"$f":"IFERROR(INDEX('4. Shpenzimet e partisë'!$B$23:$B$554,MATCH(ROW()-ROW($AB$2),'4. Shpenzimet e partisë'!$A$23:$A$554,0)),\"\")","v":""}]
[null,null,null,null,null,null,null,null,null,null,null,null,null,null,null,null,null,null,null,null,null,null,null,null,null,null,null,{"$f":"IFERROR(INDEX('4. Shpenzimet e partisë'!$B$23:$B$554,MATCH(ROW()-ROW($AB$2),'4. Shpenzimet e partisë'!$A$23:$A$554,0)),\"\")","v":""}]
[null,null,null,null,null,null,null,null,null,null,null,null,null,null,null,null,null,null,null,null,null,null,null,null,null,null,null,{"$f":"IFERROR(INDEX('4. Shpenzimet e partisë'!$B$23:$B$554,MATCH(ROW()-ROW($AB$2),'4. Shpenzimet e partisë'!$A$23:$A$554,0)),\"\")","v":""}]
[null,null,null,null,null,null,null,null,null,null,null,null,null,null,null,null,null,null,null,null,null,null,null,null,null,null,null,{"$f":"IFERROR(INDEX('4. Shpenzimet e partisë'!$B$23:$B$554,MATCH(ROW()-ROW($AB$2),'4. Shpenzimet e partisë'!$A$23:$A$554,0)),\"\")","v":""}]
[null,null,null,null,null,null,null,null,null,null,null,null,null,null,null,null,null,null,null,null,null,null,null,null,null,null,null,{"$f":"IFERROR(INDEX('4. Shpenzimet e partisë'!$B$23:$B$554,MATCH(ROW()-ROW($AB$2),'4. Shpenzimet e partisë'!$A$23:$A$554,0)),\"\")","v":""}]
[null,null,null,null,null,null,null,null,null,null,null,null,null,null,null,null,null,null,null,null,null,null,null,null,null,null,null,{"$f":"IFERROR(INDEX('4. Shpenzimet e partisë'!$B$23:$B$554,MATCH(ROW()-ROW($AB$2),'4. Shpenzimet e partisë'!$A$23:$A$554,0)),\"\")","v":""}]
[null,null,null,null,null,null,null,null,null,null,null,null,null,null,null,null,null,null,null,null,null,null,null,null,null,null,null,{"$f":"IFERROR(INDEX('4. Shpenzimet e partisë'!$B$23:$B$554,MATCH(ROW()-ROW($AB$2),'4. Shpenzimet e partisë'!$A$23:$A$554,0)),\"\")","v":""}]
[null,null,null,null,null,null,null,null,null,null,null,null,null,null,null,null,null,null,null,null,null,null,null,null,null,null,null,{"$f":"IFERROR(INDEX('4. Shpenzimet e partisë'!$B$23:$B$554,MATCH(ROW()-ROW($AB$2),'4. Shpenzimet e partisë'!$A$23:$A$554,0)),\"\")","v":""}]
[null,null,null,null,null,null,null,null,null,null,null,null,null,null,null,null,null,null,null,null,null,null,null,null,null,null,null,{"$f":"IFERROR(INDEX('4. Shpenzimet e partisë'!$B$23:$B$554,MATCH(ROW()-ROW($AB$2),'4. Shpenzimet e partisë'!$A$23:$A$554,0)),\"\")","v":""}]
[null,null,null,null,null,null,null,null,null,null,null,null,null,null,null,null,null,null,null,null,null,null,null,null,null,null,null,{"$f":"IFERROR(INDEX('4. Shpenzimet e partisë'!$B$23:$B$554,MATCH(ROW()-ROW($AB$2),'4. Shpenzimet e partisë'!$A$23:$A$554,0)),\"\")","v":""}]
[null,null,null,null,null,null,null,null,null,null,null,null,null,null,null,null,null,null,null,null,null,null,null,null,null,null,null,{"$f":"IFERROR(INDEX('4. Shpenzimet e partisë'!$B$23:$B$554,MATCH(ROW()-ROW($AB$2),'4. Shpenzimet e partisë'!$A$23:$A$554,0)),\"\")","v":""}]
[null,null,null,null,null,null,null,null,null,null,null,null,null,null,null,null,null,null,null,null,null,null,null,null,null,null,null,{"$f":"IFERROR(INDEX('4. Shpenzimet e partisë'!$B$23:$B$554,MATCH(ROW()-ROW($AB$2),'4. Shpenzimet e partisë'!$A$23:$A$554,0)),\"\")","v":""}]
[null,null,null,null,null,null,null,null,null,null,null,null,null,null,null,null,null,null,null,null,null,null,null,null,null,null,null,{"$f":"IFERROR(INDEX('4. Shpenzimet e partisë'!$B$23:$B$554,MATCH(ROW()-ROW($AB$2),'4. Shpenzimet e partisë'!$A$23:$A$554,0)),\"\")","v":""}]
[null,null,null,null,null,null,null,null,null,null,null,null,null,null,null,null,null,null,null,null,null,null,null,null,null,null,null,{"$f":"IFERROR(INDEX('4. Shpenzimet e partisë'!$B$23:$B$554,MATCH(ROW()-ROW($AB$2),'4. Shpenzimet e partisë'!$A$23:$A$554,0)),\"\")","v":""}]
[null,null,null,null,null,null,null,null,null,null,null,null,null,null,null,null,null,null,null,null,null,null,null,null,null,null,null,{"$f":"IFERROR(INDEX('4. Shpenzimet e partisë'!$B$23:$B$554,MATCH(ROW()-ROW($AB$2),'4. Shpenzimet e partisë'!$A$23:$A$554,0)),\"\")","v":""}]
[null,null,null,null,null,null,null,null,null,null,null,null,null,null,null,null,null,null,null,null,null,null,null,null,null,null,null,{"$f":"IFERROR(INDEX('4. Shpenzimet e partisë'!$B$23:$B$554,MATCH(ROW()-ROW($AB$2),'4. Shpenzimet e partisë'!$A$23:$A$554,0)),\"\")","v":""}]
[null,null,null,null,null,null,null,null,null,null,null,null,null,null,null,null,null,null,null,null,null,null,null,null,null,null,null,{"$f":"IFERROR(INDEX('4. Shpenzimet e partisë'!$B$23:$B$554,MATCH(ROW()-ROW($AB$2),'4. Shpenzimet e partisë'!$A$23:$A$554,0)),\"\")","v":""}]
[null,null,null,null,null,null,null,null,null,null,null,null,null,null,null,null,null,null,null,null,null,null,null,null,null,null,null,{"$f":"IFERROR(INDEX('4. Shpenzimet e partisë'!$B$23:$B$554,MATCH(ROW()-ROW($AB$2),'4. Shpenzimet e partisë'!$A$23:$A$554,0)),\"\")","v":""}]
[null,null,null,null,null,null,null,null,null,null,null,null,null,null,null,null,null,null,null,null,null,null,null,null,null,null,null,{"$f":"IFERROR(INDEX('4. Shpenzimet e partisë'!$B$23:$B$554,MATCH(ROW()-ROW($AB$2),'4. Shpenzimet e partisë'!$A$23:$A$554,0)),\"\")","v":""}]
[null,null,null,null,null,null,null,null,null,null,null,null,null,null,null,null,null,null,null,null,null,null,null,null,null,null,null,{"$f":"IFERROR(INDEX('4. Shpenzimet e partisë'!$B$23:$B$554,MATCH(ROW()-ROW($AB$2),'4. Shpenzimet e partisë'!$A$23:$A$554,0)),\"\")","v":""}]
[null,null,null,null,null,null,null,null,null,null,null,null,null,null,null,null,null,null,null,null,null,null,null,null,null,null,null,{"$f":"IFERROR(INDEX('4. Shpenzimet e partisë'!$B$23:$B$554,MATCH(ROW()-ROW($AB$2),'4. Shpenzimet e partisë'!$A$23:$A$554,0)),\"\")","v":""}]
[null,null,null,null,null,null,null,null,null,null,null,null,null,null,null,null,null,null,null,null,null,null,null,null,null,null,null,{"$f":"IFERROR(INDEX('4. Shpenzimet e partisë'!$B$23:$B$554,MATCH(ROW()-ROW($AB$2),'4. Shpenzimet e partisë'!$A$23:$A$554,0)),\"\")","v":""}]
[null,null,null,null,null,null,null,null,null,null,null,null,null,null,null,null,null,null,null,null,null,null,null,null,null,null,null,{"$f":"IFERROR(INDEX('4. Shpenzimet e partisë'!$B$23:$B$554,MATCH(ROW()-ROW($AB$2),'4. Shpenzimet e partisë'!$A$23:$A$554,0)),\"\")","v":""}]
[null,null,null,null,null,null,null,null,null,null,null,null,null,null,null,null,null,null,null,null,null,null,null,null,null,null,null,{"$f":"IFERROR(INDEX('4. Shpenzimet e partisë'!$B$23:$B$554,MATCH(ROW()-ROW($AB$2),'4. Shpenzimet e partisë'!$A$23:$A$554,0)),\"\")","v":""}]
[null,null,null,null,null,null,null,null,null,null,null,null,null,null,null,null,null,null,null,null,null,null,null,null,null,null,null,{"$f":"IFERROR(INDEX('4. Shpenzimet e partisë'!$B$23:$B$554,MATCH(ROW()-ROW($AB$2),'4. Shpenzimet e partisë'!$A$23:$A$554,0)),\"\")","v":""}]
[null,null,null,null,null,null,null,null,null,null,null,null,null,null,null,null,null,null,null,null,null,null,null,null,null,null,null,{"$f":"IFERROR(INDEX('4. Shpenzimet e partisë'!$B$23:$B$554,MATCH(ROW()-ROW($AB$2),'4. Shpenzimet e partisë'!$A$23:$A$554,0)),\"\")","v":""}]
[null,null,null,null,null,null,null,null,null,null,null,null,null,null,null,null,null,null,null,null,null,null,null,null,null,null,null,{"$f":"IFERROR(INDEX('4. Shpenzimet e partisë'!$B$23:$B$554,MATCH(ROW()-ROW($AB$2),'4. Shpenzimet e partisë'!$A$23:$A$554,0)),\"\")","v":""}]
[null,null,null,null,null,null,null,null,null,null,null,null,null,null,null,null,null,null,null,null,null,null,null,null,null,null,null,{"$f":"IFERROR(INDEX('4. Shpenzimet e partisë'!$B$23:$B$554,MATCH(ROW()-ROW($AB$2),'4. Shpenzimet e partisë'!$A$23:$A$554,0)),\"\")","v":""}]
[null,null,null,null,null,null,null,null,null,null,null,null,null,null,null,null,null,null,null,null,null,null,null,null,null,null,null,{"$f":"IFERROR(INDEX('4. Shpenzimet e partisë'!$B$23:$B$554,MATCH(ROW()-ROW($AB$2),'4. Shpenzimet e partisë'!$A$23:$A$554,0)),\"\")","v":""}]
[null,null,null,null,null,null,null,null,null,null,null,null,null,null,null,null,null,null,null,null,null,null,null,null,null,null,null,{"$f":"IFERROR(INDEX('4. Shpenzimet e partisë'!$B$23:$B$554,MATCH(ROW()-ROW($AB$2),'4. Shpenzimet e partisë'!$A$23:$A$554,0)),\"\")","v":""}]
[null,null,null,null,null,null,null,null,null,null,null,null,null,null,null,null,null,null,null,null,null,null,null,null,null,null,null,{"$f":"IFERROR(INDEX('4. Shpenzimet e partisë'!$B$23:$B$554,MATCH(ROW()-ROW($AB$2),'4. Shpenzimet e partisë'!$A$23:$A$554,0)),\"\")","v":""}]
[null,null,null,null,null,null,null,null,null,null,null,null,null,null,null,null,null,null,null,null,null,null,null,null,null,null,null,{"$f":"IFERROR(INDEX('4. Shpenzimet e partisë'!$B$23:$B$554,MATCH(ROW()-ROW($AB$2),'4. Shpenzimet e partisë'!$A$23:$A$554,0)),\"\")","v":""}]
[null,null,null,null,null,null,null,null,null,null,null,null,null,null,null,null,null,null,null,null,null,null,null,null,null,null,null,{"$f":"IFERROR(INDEX('4. Shpenzimet e partisë'!$B$23:$B$554,MATCH(ROW()-ROW($AB$2),'4. Shpenzimet e partisë'!$A$23:$A$554,0)),\"\")","v":""}]
[null,null,null,null,null,null,null,null,null,null,null,null,null,null,null,null,null,null,null,null,null,null,null,null,null,null,null,{"$f":"IFERROR(INDEX('4. Shpenzimet e partisë'!$B$23:$B$554,MATCH(ROW()-ROW($AB$2),'4. Shpenzimet e partisë'!$A$23:$A$554,0)),\"\")","v":""}]
[null,null,null,null,null,null,null,null,null,null,null,null,null,null,null,null,null,null,null,null,null,null,null,null,null,null,null,{"$f":"IFERROR(INDEX('4. Shpenzimet e partisë'!$B$23:$B$554,MATCH(ROW()-ROW($AB$2),'4. Shpenzimet e partisë'!$A$23:$A$554,0)),\"\")","v":""}]
[null,null,null,null,null,null,null,null,null,null,null,null,null,null,null,null,null,null,null,null,null,null,null,null,null,null,null,{"$f":"IFERROR(INDEX('4. Shpenzimet e partisë'!$B$23:$B$554,MATCH(ROW()-ROW($AB$2),'4. Shpenzimet e partisë'!$A$23:$A$554,0)),\"\")","v":""}]
[null,null,null,null,null,null,null,null,null,null,null,null,null,null,null,null,null,null,null,null,null,null,null,null,null,null,null,{"$f":"IFERROR(INDEX('4. Shpenzimet e partisë'!$B$23:$B$554,MATCH(ROW()-ROW($AB$2),'4. Shpenzimet e partisë'!$A$23:$A$554,0)),\"\")","v":""}]
[null,null,null,null,null,null,null,null,null,null,null,null,null,null,null,null,null,null,null,null,null,null,null,null,null,null,null,{"$f":"IFERROR(INDEX('4. Shpenzimet e partisë'!$B$23:$B$554,MATCH(ROW()-ROW($AB$2),'4. Shpenzimet e partisë'!$A$23:$A$554,0)),\"\")","v":""}]
[null,null,null,null,null,null,null,null,null,null,null,null,null,null,null,null,null,null,null,null,null,null,null,null,null,null,null,{"$f":"IFERROR(INDEX('4. Shpenzimet e partisë'!$B$23:$B$554,MATCH(ROW()-ROW($AB$2),'4. Shpenzimet e partisë'!$A$23:$A$554,0)),\"\")","v":""}]
[null,null,null,null,null,null,null,null,null,null,null,null,null,null,null,null,null,null,null,null,null,null,null,null,null,null,null,{"$f":"IFERROR(INDEX('4. Shpenzimet e partisë'!$B$23:$B$554,MATCH(ROW()-ROW($AB$2),'4. Shpenzimet e partisë'!$A$23:$A$554,0)),\"\")","v":""}]
[null,null,null,null,null,null,null,null,null,null,null,null,null,null,null,null,null,null,null,null,null,null,null,null,null,null,null,{"$f":"IFERROR(INDEX('4. Shpenzimet e partisë'!$B$23:$B$554,MATCH(ROW()-ROW($AB$2),'4. Shpenzimet e partisë'!$A$23:$A$554,0)),\"\")","v":""}]
[null,null,null,null,null,null,null,null,null,null,null,null,null,null,null,null,null,null,null,null,null,null,null,null,null,null,null,{"$f":"IFERROR(INDEX('4. Shpenzimet e partisë'!$B$23:$B$554,MATCH(ROW()-ROW($AB$2),'4. Shpenzimet e partisë'!$A$23:$A$554,0)),\"\")","v":""}]
[null,null,null,null,null,null,null,null,null,null,null,null,null,null,null,null,null,null,null,null,null,null,null,null,null,null,null,{"$f":"IFERROR(INDEX('4. Shpenzimet e partisë'!$B$23:$B$554,MATCH(ROW()-ROW($AB$2),'4. Shpenzimet e partisë'!$A$23:$A$554,0)),\"\")","v":""}]
[null,null,null,null,null,null,null,null,null,null,null,null,null,null,null,null,null,null,null,null,null,null,null,null,null,null,null,{"$f":"IFERROR(INDEX('4. Shpenzimet e partisë'!$B$23:$B$554,MATCH(ROW()-ROW($AB$2),'4. Shpenzimet e partisë'!$A$23:$A$554,0)),\"\")","v":""}]
[null,null,null,null,null,null,null,null,null,null,null,null,null,null,null,null,null,null,null,null,null,null,null,null,null,null,null,{"$f":"IFERROR(INDEX('4. Shpenzimet e partisë'!$B$23:$B$554,MATCH(ROW()-ROW($AB$2),'4. Shpenzimet e partisë'!$A$23:$A$554,0)),\"\")","v":""}]
[null,null,null,null,null,null,null,null,null,null,null,null,null,null,null,null,null,null,null,null,null,null,null,null,null,null,null,{"$f":"IFERROR(INDEX('4. Shpenzimet e partisë'!$B$23:$B$554,MATCH(ROW()-ROW($AB$2),'4. Shpenzimet e partisë'!$A$23:$A$554,0)),\"\")","v":""}]
[null,null,null,null,null,null,null,null,null,null,null,null,null,null,null,null,null,null,null,null,null,null,null,null,null,null,null,{"$f":"IFERROR(INDEX('4. Shpenzimet e partisë'!$B$23:$B$554,MATCH(ROW()-ROW($AB$2),'4. Shpenzimet e partisë'!$A$23:$A$554,0)),\"\")","v":""}]
[null,null,null,null,null,null,null,null,null,null,null,null,null,null,null,null,null,null,null,null,null,null,null,null,null,null,null,{"$f":"IFERROR(INDEX('4. Shpenzimet e partisë'!$B$23:$B$554,MATCH(ROW()-ROW($AB$2),'4. Shpenzimet e partisë'!$A$23:$A$554,0)),\"\")","v":""}]
[null,null,null,null,null,null,null,null,null,null,null,null,null,null,null,null,null,null,null,null,null,null,null,null,null,null,null,{"$f":"IFERROR(INDEX('4. Shpenzimet e partisë'!$B$23:$B$554,MATCH(ROW()-ROW($AB$2),'4. Shpenzimet e partisë'!$A$23:$A$554,0)),\"\")","v":""}]
[null,null,null,null,null,null,null,null,null,null,null,null,null,null,null,null,null,null,null,null,null,null,null,null,null,null,null,{"$f":"IFERROR(INDEX('4. Shpenzimet e partisë'!$B$23:$B$554,MATCH(ROW()-ROW($AB$2),'4. Shpenzimet e partisë'!$A$23:$A$554,0)),\"\")","v":""}]
[null,null,null,null,null,null,null,null,null,null,null,null,null,null,null,null,null,null,null,null,null,null,null,null,null,null,null,{"$f":"IFERROR(INDEX('4. Shpenzimet e partisë'!$B$23:$B$554,MATCH(ROW()-ROW($AB$2),'4. Shpenzimet e partisë'!$A$23:$A$554,0)),\"\")","v":""}]
[null,null,null,null,null,null,null,null,null,null,null,null,null,null,null,null,null,null,null,null,null,null,null,null,null,null,null,{"$f":"IFERROR(INDEX('4. Shpenzimet e partisë'!$B$23:$B$554,MATCH(ROW()-ROW($AB$2),'4. Shpenzimet e partisë'!$A$23:$A$554,0)),\"\")","v":""}]
[null,null,null,null,null,null,null,null,null,null,null,null,null,null,null,null,null,null,null,null,null,null,null,null,null,null,null,{"$f":"IFERROR(INDEX('4. Shpenzimet e partisë'!$B$23:$B$554,MATCH(ROW()-ROW($AB$2),'4. Shpenzimet e partisë'!$A$23:$A$554,0)),\"\")","v":""}]
[null,null,null,null,null,null,null,null,null,null,null,null,null,null,null,null,null,null,null,null,null,null,null,null,null,null,null,{"$f":"IFERROR(INDEX('4. Shpenzimet e partisë'!$B$23:$B$554,MATCH(ROW()-ROW($AB$2),'4. Shpenzimet e partisë'!$A$23:$A$554,0)),\"\")","v":""}]
[null,null,null,null,null,null,null,null,null,null,null,null,null,null,null,null,null,null,null,null,null,null,null,null,null,null,null,{"$f":"IFERROR(INDEX('4. Shpenzimet e partisë'!$B$23:$B$554,MATCH(ROW()-ROW($AB$2),'4. Shpenzimet e partisë'!$A$23:$A$554,0)),\"\")","v":""}]
[null,null,null,null,null,null,null,null,null,null,null,null,null,null,null,null,null,null,null,null,null,null,null,null,null,null,null,{"$f":"IFERROR(INDEX('4. Shpenzimet e partisë'!$B$23:$B$554,MATCH(ROW()-ROW($AB$2),'4. Shpenzimet e partisë'!$A$23:$A$554,0)),\"\")","v":""}]
[null,null,null,null,null,null,null,null,null,null,null,null,null,null,null,null,null,null,null,null,null,null,null,null,null,null,null,{"$f":"IFERROR(INDEX('4. Shpenzimet e partisë'!$B$23:$B$554,MATCH(ROW()-ROW($AB$2),'4. Shpenzimet e partisë'!$A$23:$A$554,0)),\"\")","v":""}]
[null,null,null,null,null,null,null,null,null,null,null,null,null,null,null,null,null,null,null,null,null,null,null,null,null,null,null,{"$f":"IFERROR(INDEX('4. Shpenzimet e partisë'!$B$23:$B$554,MATCH(ROW()-ROW($AB$2),'4. Shpenzimet e partisë'!$A$23:$A$554,0)),\"\")","v":""}]
[null,null,null,null,null,null,null,null,null,null,null,null,null,null,null,null,null,null,null,null,null,null,null,null,null,null,null,{"$f":"IFERROR(INDEX('4. Shpenzimet e partisë'!$B$23:$B$554,MATCH(ROW()-ROW($AB$2),'4. Shpenzimet e partisë'!$A$23:$A$554,0)),\"\")","v":""}]
[null,null,null,null,null,null,null,null,null,null,null,null,null,null,null,null,null,null,null,null,null,null,null,null,null,null,null,{"$f":"IFERROR(INDEX('4. Shpenzimet e partisë'!$B$23:$B$554,MATCH(ROW()-ROW($AB$2),'4. Shpenzimet e partisë'!$A$23:$A$554,0)),\"\")","v":""}]
[null,null,null,null,null,null,null,null,null,null,null,null,null,null,null,null,null,null,null,null,null,null,null,null,null,null,null,{"$f":"IFERROR(INDEX('4. Shpenzimet e partisë'!$B$23:$B$554,MATCH(ROW()-ROW($AB$2),'4. Shpenzimet e partisë'!$A$23:$A$554,0)),\"\")","v":""}]
[null,null,null,null,null,null,null,null,null,null,null,null,null,null,null,null,null,null,null,null,null,null,null,null,null,null,null,{"$f":"IFERROR(INDEX('4. Shpenzimet e partisë'!$B$23:$B$554,MATCH(ROW()-ROW($AB$2),'4. Shpenzimet e partisë'!$A$23:$A$554,0)),\"\")","v":""}]
[null,null,null,null,null,null,null,null,null,null,null,null,null,null,null,null,null,null,null,null,null,null,null,null,null,null,null,{"$f":"IFERROR(INDEX('4. Shpenzimet e partisë'!$B$23:$B$554,MATCH(ROW()-ROW($AB$2),'4. Shpenzimet e partisë'!$A$23:$A$554,0)),\"\")","v":""}]
[null,null,null,null,null,null,null,null,null,null,null,null,null,null,null,null,null,null,null,null,null,null,null,null,null,null,null,{"$f":"IFERROR(INDEX('4. Shpenzimet e partisë'!$B$23:$B$554,MATCH(ROW()-ROW($AB$2),'4. Shpenzimet e partisë'!$A$23:$A$554,0)),\"\")","v":""}]
[null,null,null,null,null,null,null,null,null,null,null,null,null,null,null,null,null,null,null,null,null,null,null,null,null,null,null,{"$f":"IFERROR(INDEX('4. Shpenzimet e partisë'!$B$23:$B$554,MATCH(ROW()-ROW($AB$2),'4. Shpenzimet e partisë'!$A$23:$A$554,0)),\"\")","v":""}]
[null,null,null,null,null,null,null,null,null,null,null,null,null,null,null,null,null,null,null,null,null,null,null,null,null,null,null,{"$f":"IFERROR(INDEX('4. Shpenzimet e partisë'!$B$23:$B$554,MATCH(ROW()-ROW($AB$2),'4. Shpenzimet e partisë'!$A$23:$A$554,0)),\"\")","v":""}]
[null,null,null,null,null,null,null,null,null,null,null,null,null,null,null,null,null,null,null,null,null,null,null,null,null,null,null,{"$f":"IFERROR(INDEX('4. Shpenzimet e partisë'!$B$23:$B$554,MATCH(ROW()-ROW($AB$2),'4. Shpenzimet e partisë'!$A$23:$A$554,0)),\"\")","v":""}]
[null,null,null,null,null,null,null,null,null,null,null,null,null,null,null,null,null,null,null,null,null,null,null,null,null,null,null,{"$f":"IFERROR(INDEX('4. Shpenzimet e partisë'!$B$23:$B$554,MATCH(ROW()-ROW($AB$2),'4. Shpenzimet e partisë'!$A$23:$A$554,0)),\"\")","v":""}]
[null,null,null,null,null,null,null,null,null,null,null,null,null,null,null,null,null,null,null,null,null,null,null,null,null,null,null,{"$f":"IFERROR(INDEX('4. Shpenzimet e partisë'!$B$23:$B$554,MATCH(ROW()-ROW($AB$2),'4. Shpenzimet e partisë'!$A$23:$A$554,0)),\"\")","v":""}]
[null,null,null,null,null,null,null,null,null,null,null,null,null,null,null,null,null,null,null,null,null,null,null,null,null,null,null,{"$f":"IFERROR(INDEX('4. Shpenzimet e partisë'!$B$23:$B$554,MATCH(ROW()-ROW($AB$2),'4. Shpenzimet e partisë'!$A$23:$A$554,0)),\"\")","v":""}]
[null,null,null,null,null,null,null,null,null,null,null,null,null,null,null,null,null,null,null,null,null,null,null,null,null,null,null,{"$f":"IFERROR(INDEX('4. Shpenzimet e partisë'!$B$23:$B$554,MATCH(ROW()-ROW($AB$2),'4. Shpenzimet e partisë'!$A$23:$A$554,0)),\"\")","v":""}]
[null,null,null,null,null,null,null,null,null,null,null,null,null,null,null,null,null,null,null,null,null,null,null,null,null,null,null,{"$f":"IFERROR(INDEX('4. Shpenzimet e partisë'!$B$23:$B$554,MATCH(ROW()-ROW($AB$2),'4. Shpenzimet e partisë'!$A$23:$A$554,0)),\"\")","v":""}]
[null,null,null,null,null,null,null,null,null,null,null,null,null,null,null,null,null,null,null,null,null,null,null,null,null,null,null,{"$f":"IFERROR(INDEX('4. Shpenzimet e partisë'!$B$23:$B$554,MATCH(ROW()-ROW($AB$2),'4. Shpenzimet e partisë'!$A$23:$A$554,0)),\"\")","v":""}]
[null,null,null,null,null,null,null,null,null,null,null,null,null,null,null,null,null,null,null,null,null,null,null,null,null,null,null,{"$f":"IFERROR(INDEX('4. Shpenzimet e partisë'!$B$23:$B$554,MATCH(ROW()-ROW($AB$2),'4. Shpenzimet e partisë'!$A$23:$A$554,0)),\"\")","v":""}]
[null,null,null,null,null,null,null,null,null,null,null,null,null,null,null,null,null,null,null,null,null,null,null,null,null,null,null,{"$f":"IFERROR(INDEX('4. Shpenzimet e partisë'!$B$23:$B$554,MATCH(ROW()-ROW($AB$2),'4. Shpenzimet e partisë'!$A$23:$A$554,0)),\"\")","v":""}]
[null,null,null,null,null,null,null,null,null,null,null,null,null,null,null,null,null,null,null,null,null,null,null,null,null,null,null,{"$f":"IFERROR(INDEX('4. Shpenzimet e partisë'!$B$23:$B$554,MATCH(ROW()-ROW($AB$2),'4. Shpenzimet e partisë'!$A$23:$A$554,0)),\"\")","v":""}]
[null,null,null,null,null,null,null,null,null,null,null,null,null,null,null,null,null,null,null,null,null,null,null,null,null,null,null,{"$f":"IFERROR(INDEX('4. Shpenzimet e partisë'!$B$23:$B$554,MATCH(ROW()-ROW($AB$2),'4. Shpenzimet e partisë'!$A$23:$A$554,0)),\"\")","v":""}]
[null,null,null,null,null,null,null,null,null,null,null,null,null,null,null,null,null,null,null,null,null,null,null,null,null,null,null,{"$f":"IFERROR(INDEX('4. Shpenzimet e partisë'!$B$23:$B$554,MATCH(ROW()-ROW($AB$2),'4. Shpenzimet e partisë'!$A$23:$A$554,0)),\"\")","v":""}]
[null,null,null,null,null,null,null,null,null,null,null,null,null,null,null,null,null,null,null,null,null,null,null,null,null,null,null,{"$f":"IFERROR(INDEX('4. Shpenzimet e partisë'!$B$23:$B$554,MATCH(ROW()-ROW($AB$2),'4. Shpenzimet e partisë'!$A$23:$A$554,0)),\"\")","v":""}]
[null,null,null,null,null,null,null,null,null,null,null,null,null,null,null,null,null,null,null,null,null,null,null,null,null,null,null,{"$f":"IFERROR(INDEX('4. Shpenzimet e partisë'!$B$23:$B$554,MATCH(ROW()-ROW($AB$2),'4. Shpenzimet e partisë'!$A$23:$A$554,0)),\"\")","v":""}]
[null,null,null,null,null,null,null,null,null,null,null,null,null,null,null,null,null,null,null,null,null,null,null,null,null,null,null,{"$f":"IFERROR(INDEX('4. Shpenzimet e partisë'!$B$23:$B$554,MATCH(ROW()-ROW($AB$2),'4. Shpenzimet e partisë'!$A$23:$A$554,0)),\"\")","v":""}]
[null,null,null,null,null,null,null,null,null,null,null,null,null,null,null,null,null,null,null,null,null,null,null,null,null,null,null,{"$f":"IFERROR(INDEX('4. Shpenzimet e partisë'!$B$23:$B$554,MATCH(ROW()-ROW($AB$2),'4. Shpenzimet e partisë'!$A$23:$A$554,0)),\"\")","v":""}]
[null,null,null,null,null,null,null,null,null,null,null,null,null,null,null,null,null,null,null,null,null,null,null,null,null,null,null,{"$f":"IFERROR(INDEX('4. Shpenzimet e partisë'!$B$23:$B$554,MATCH(ROW()-ROW($AB$2),'4. Shpenzimet e partisë'!$A$23:$A$554,0)),\"\")","v":""}]
[null,null,null,null,null,null,null,null,null,null,null,null,null,null,null,null,null,null,null,null,null,null,null,null,null,null,null,{"$f":"IFERROR(INDEX('4. Shpenzimet e partisë'!$B$23:$B$554,MATCH(ROW()-ROW($AB$2),'4. Shpenzimet e partisë'!$A$23:$A$554,0)),\"\")","v":""}]
[null,null,null,null,null,null,null,null,null,null,null,null,null,null,null,null,null,null,null,null,null,null,null,null,null,null,null,{"$f":"IFERROR(INDEX('4. Shpenzimet e partisë'!$B$23:$B$554,MATCH(ROW()-ROW($AB$2),'4. Shpenzimet e partisë'!$A$23:$A$554,0)),\"\")","v":""}]
[null,null,null,null,null,null,null,null,null,null,null,null,null,null,null,null,null,null,null,null,null,null,null,null,null,null,null,{"$f":"IFERROR(INDEX('4. Shpenzimet e partisë'!$B$23:$B$554,MATCH(ROW()-ROW($AB$2),'4. Shpenzimet e partisë'!$A$23:$A$554,0)),\"\")","v":""}]
[null,null,null,null,null,null,null,null,null,null,null,null,null,null,null,null,null,null,null,null,null,null,null,null,null,null,null,{"$f":"IFERROR(INDEX('4. Shpenzimet e partisë'!$B$23:$B$554,MATCH(ROW()-ROW($AB$2),'4. Shpenzimet e partisë'!$A$23:$A$554,0)),\"\")","v":""}]
[null,null,null,null,null,null,null,null,null,null,null,null,null,null,null,null,null,null,null,null,null,null,null,null,null,null,null,{"$f":"IFERROR(INDEX('4. Shpenzimet e partisë'!$B$23:$B$554,MATCH(ROW()-ROW($AB$2),'4. Shpenzimet e partisë'!$A$23:$A$554,0)),\"\")","v":""}]
[null,null,null,null,null,null,null,null,null,null,null,null,null,null,null,null,null,null,null,null,null,null,null,null,null,null,null,{"$f":"IFERROR(INDEX('4. Shpenzimet e partisë'!$B$23:$B$554,MATCH(ROW()-ROW($AB$2),'4. Shpenzimet e partisë'!$A$23:$A$554,0)),\"\")","v":""}]
[null,null,null,null,null,null,null,null,null,null,null,null,null,null,null,null,null,null,null,null,null,null,null,null,null,null,null,{"$f":"IFERROR(INDEX('4. Shpenzimet e partisë'!$B$23:$B$554,MATCH(ROW()-ROW($AB$2),'4. Shpenzimet e partisë'!$A$23:$A$554,0)),\"\")","v":""}]
[null,null,null,null,null,null,null,null,null,null,null,null,null,null,null,null,null,null,null,null,null,null,null,null,null,null,null,{"$f":"IFERROR(INDEX('4. Shpenzimet e partisë'!$B$23:$B$554,MATCH(ROW()-ROW($AB$2),'4. Shpenzimet e partisë'!$A$23:$A$554,0)),\"\")","v":""}]
[null,null,null,null,null,null,null,null,null,null,null,null,null,null,null,null,null,null,null,null,null,null,null,null,null,null,null,{"$f":"IFERROR(INDEX('4. Shpenzimet e partisë'!$B$23:$B$554,MATCH(ROW()-ROW($AB$2),'4. Shpenzimet e partisë'!$A$23:$A$554,0)),\"\")","v":""}]
[null,null,null,null,null,null,null,null,null,null,null,null,null,null,null,null,null,null,null,null,null,null,null,null,null,null,null,{"$f":"IFERROR(INDEX('4. Shpenzimet e partisë'!$B$23:$B$554,MATCH(ROW()-ROW($AB$2),'4. Shpenzimet e partisë'!$A$23:$A$554,0)),\"\")","v":""}]
[null,null,null,null,null,null,null,null,null,null,null,null,null,null,null,null,null,null,null,null,null,null,null,null,null,null,null,{"$f":"IFERROR(INDEX('4. Shpenzimet e partisë'!$B$23:$B$554,MATCH(ROW()-ROW($AB$2),'4. Shpenzimet e partisë'!$A$23:$A$554,0)),\"\")","v":""}]
[null,null,null,null,null,null,null,null,null,null,null,null,null,null,null,null,null,null,null,null,null,null,null,null,null,null,null,{"$f":"IFERROR(INDEX('4. Shpenzimet e partisë'!$B$23:$B$554,MATCH(ROW()-ROW($AB$2),'4. Shpenzimet e partisë'!$A$23:$A$554,0)),\"\")","v":""}]
[null,null,null,null,null,null,null,null,null,null,null,null,null,null,null,null,null,null,null,null,null,null,null,null,null,null,null,{"$f":"IFERROR(INDEX('4. Shpenzimet e partisë'!$B$23:$B$554,MATCH(ROW()-ROW($AB$2),'4. Shpenzimet e partisë'!$A$23:$A$554,0)),\"\")","v":""}]
[null,null,null,null,null,null,null,null,null,null,null,null,null,null,null,null,null,null,null,null,null,null,null,null,null,null,null,{"$f":"IFERROR(INDEX('4. Shpenzimet e partisë'!$B$23:$B$554,MATCH(ROW()-ROW($AB$2),'4. Shpenzimet e partisë'!$A$23:$A$554,0)),\"\")","v":""}]
[null,null,null,null,null,null,null,null,null,null,null,null,null,null,null,null,null,null,null,null,null,null,null,null,null,null,null,{"$f":"IFERROR(INDEX('4. Shpenzimet e partisë'!$B$23:$B$554,MATCH(ROW()-ROW($AB$2),'4. Shpenzimet e partisë'!$A$23:$A$554,0)),\"\")","v":""}]
[null,null,null,null,null,null,null,null,null,null,null,null,null,null,null,null,null,null,null,null,null,null,null,null,null,null,null,{"$f":"IFERROR(INDEX('4. Shpenzimet e partisë'!$B$23:$B$554,MATCH(ROW()-ROW($AB$2),'4. Shpenzimet e partisë'!$A$23:$A$554,0)),\"\")","v":""}]
[null,null,null,null,null,null,null,null,null,null,null,null,null,null,null,null,null,null,null,null,null,null,null,null,null,null,null,{"$f":"IFERROR(INDEX('4. Shpenzimet e partisë'!$B$23:$B$554,MATCH(ROW()-ROW($AB$2),'4. Shpenzimet e partisë'!$A$23:$A$554,0)),\"\")","v":""}]
[null,null,null,null,null,null,null,null,null,null,null,null,null,null,null,null,null,null,null,null,null,null,null,null,null,null,null,{"$f":"IFERROR(INDEX('4. Shpenzimet e partisë'!$B$23:$B$554,MATCH(ROW()-ROW($AB$2),'4. Shpenzimet e partisë'!$A$23:$A$554,0)),\"\")","v":""}]
[null,null,null,null,null,null,null,null,null,null,null,null,null,null,null,null,null,null,null,null,null,null,null,null,null,null,null,{"$f":"IFERROR(INDEX('4. Shpenzimet e partisë'!$B$23:$B$554,MATCH(ROW()-ROW($AB$2),'4. Shpenzimet e partisë'!$A$23:$A$554,0)),\"\")","v":""}]
[null,null,null,null,null,null,null,null,null,null,null,null,null,null,null,null,null,null,null,null,null,null,null,null,null,null,null,{"$f":"IFERROR(INDEX('4. Shpenzimet e partisë'!$B$23:$B$554,MATCH(ROW()-ROW($AB$2),'4. Shpenzimet e partisë'!$A$23:$A$554,0)),\"\")","v":""}]
[null,null,null,null,null,null,null,null,null,null,null,null,null,null,null,null,null,null,null,null,null,null,null,null,null,null,null,{"$f":"IFERROR(INDEX('4. Shpenzimet e partisë'!$B$23:$B$554,MATCH(ROW()-ROW($AB$2),'4. Shpenzimet e partisë'!$A$23:$A$554,0)),\"\")","v":""}]
[null,null,null,null,null,null,null,null,null,null,null,null,null,null,null,null,null,null,null,null,null,null,null,null,null,null,null,{"$f":"IFERROR(INDEX('4. Shpenzimet e partisë'!$B$23:$B$554,MATCH(ROW()-ROW($AB$2),'4. Shpenzimet e partisë'!$A$23:$A$554,0)),\"\")","v":""}]
[null,null,null,null,null,null,null,null,null,null,null,null,null,null,null,null,null,null,null,null,null,null,null,null,null,null,null,{"$f":"IFERROR(INDEX('4. Shpenzimet e partisë'!$B$23:$B$554,MATCH(ROW()-ROW($AB$2),'4. Shpenzimet e partisë'!$A$23:$A$554,0)),\"\")","v":""}]
[null,null,null,null,null,null,null,null,null,null,null,null,null,null,null,null,null,null,null,null,null,null,null,null,null,null,null,{"$f":"IFERROR(INDEX('4. Shpenzimet e partisë'!$B$23:$B$554,MATCH(ROW()-ROW($AB$2),'4. Shpenzimet e partisë'!$A$23:$A$554,0)),\"\")","v":""}]
[null,null,null,null,null,null,null,null,null,null,null,null,null,null,null,null,null,null,null,null,null,null,null,null,null,null,null,{"$f":"IFERROR(INDEX('4. Shpenzimet e partisë'!$B$23:$B$554,MATCH(ROW()-ROW($AB$2),'4. Shpenzimet e partisë'!$A$23:$A$554,0)),\"\")","v":""}]
[null,null,null,null,null,null,null,null,null,null,null,null,null,null,null,null,null,null,null,null,null,null,null,null,null,null,null,{"$f":"IFERROR(INDEX('4. Shpenzimet e partisë'!$B$23:$B$554,MATCH(ROW()-ROW($AB$2),'4. Shpenzimet e partisë'!$A$23:$A$554,0)),\"\")","v":""}]
[null,null,null,null,null,null,null,null,null,null,null,null,null,null,null,null,null,null,null,null,null,null,null,null,null,null,null,{"$f":"IFERROR(INDEX('4. Shpenzimet e partisë'!$B$23:$B$554,MATCH(ROW()-ROW($AB$2),'4. Shpenzimet e partisë'!$A$23:$A$554,0)),\"\")","v":""}]
[null,null,null,null,null,null,null,null,null,null,null,null,null,null,null,null,null,null,null,null,null,null,null,null,null,null,null,{"$f":"IFERROR(INDEX('4. Shpenzimet e partisë'!$B$23:$B$554,MATCH(ROW()-ROW($AB$2),'4. Shpenzimet e partisë'!$A$23:$A$554,0)),\"\")","v":""}]
[null,null,null,null,null,null,null,null,null,null,null,null,null,null,null,null,null,null,null,null,null,null,null,null,null,null,null,{"$f":"IFERROR(INDEX('4. Shpenzimet e partisë'!$B$23:$B$554,MATCH(ROW()-ROW($AB$2),'4. Shpenzimet e partisë'!$A$23:$A$554,0)),\"\")","v":""}]
[null,null,null,null,null,null,null,null,null,null,null,null,null,null,null,null,null,null,null,null,null,null,null,null,null,null,null,{"$f":"IFERROR(INDEX('4. Shpenzimet e partisë'!$B$23:$B$554,MATCH(ROW()-ROW($AB$2),'4. Shpenzimet e partisë'!$A$23:$A$554,0)),\"\")","v":""}]
[null,null,null,null,null,null,null,null,null,null,null,null,null,null,null,null,null,null,null,null,null,null,null,null,null,null,null,{"$f":"IFERROR(INDEX('4. Shpenzimet e partisë'!$B$23:$B$554,MATCH(ROW()-ROW($AB$2),'4. Shpenzimet e partisë'!$A$23:$A$554,0)),\"\")","v":""}]
[null,null,null,null,null,null,null,null,null,null,null,null,null,null,null,null,null,null,null,null,null,null,null,null,null,null,null,{"$f":"IFERROR(INDEX('4. Shpenzimet e partisë'!$B$23:$B$554,MATCH(ROW()-ROW($AB$2),'4. Shpenzimet e partisë'!$A$23:$A$554,0)),\"\")","v":""}]
[null,null,null,null,null,null,null,null,null,null,null,null,null,null,null,null,null,null,null,null,null,null,null,null,null,null,null,{"$f":"IFERROR(INDEX('4. Shpenzimet e partisë'!$B$23:$B$554,MATCH(ROW()-ROW($AB$2),'4. Shpenzimet e partisë'!$A$23:$A$554,0)),\"\")","v":""}]
[null,null,null,null,null,null,null,null,null,null,null,null,null,null,null,null,null,null,null,null,null,null,null,null,null,null,null,{"$f":"IFERROR(INDEX('4. Shpenzimet e partisë'!$B$23:$B$554,MATCH(ROW()-ROW($AB$2),'4. Shpenzimet e partisë'!$A$23:$A$554,0)),\"\")","v":""}]
[null,null,null,null,null,null,null,null,null,null,null,null,null,null,null,null,null,null,null,null,null,null,null,null,null,null,null,{"$f":"IFERROR(INDEX('4. Shpenzimet e partisë'!$B$23:$B$554,MATCH(ROW()-ROW($AB$2),'4. Shpenzimet e partisë'!$A$23:$A$554,0)),\"\")","v":""}]
[null,null,null,null,null,null,null,null,null,null,null,null,null,null,null,null,null,null,null,null,null,null,null,null,null,null,null,{"$f":"IFERROR(INDEX('4. Shpenzimet e partisë'!$B$23:$B$554,MATCH(ROW()-ROW($AB$2),'4. Shpenzimet e partisë'!$A$23:$A$554,0)),\"\")","v":""}]
[null,null,null,null,null,null,null,null,null,null,null,null,null,null,null,null,null,null,null,null,null,null,null,null,null,null,null,{"$f":"IFERROR(INDEX('4. Shpenzimet e partisë'!$B$23:$B$554,MATCH(ROW()-ROW($AB$2),'4. Shpenzimet e partisë'!$A$23:$A$554,0)),\"\")","v":""}]
[null,null,null,null,null,null,null,null,null,null,null,null,null,null,null,null,null,null,null,null,null,null,null,null,null,null,null,{"$f":"IFERROR(INDEX('4. Shpenzimet e partisë'!$B$23:$B$554,MATCH(ROW()-ROW($AB$2),'4. Shpenzimet e partisë'!$A$23:$A$554,0)),\"\")","v":""}]