{"text_format":"1","workbook":"xlsx","n_sheets":9,"sheets":["Kreu","1.Detaje & Përmbledhje","2.aTë ardhura-Fondet Publike","2.bTë ardhura-jopublik-monetare","2.cTë ardhura-jopublik-nënatyrë","3. Të ardhura - Kreditë","4. Shpenzimet","5. Shpenzimet për mitingje","Referenca"],"not_rendered":{"charts":0,"images":1,"macros":1,"external_links":2,"defined_names":48,"comments":0,"pivot_tables":0},"unopened":[],"bounds":{"document_bytes":16777216,"sheet_cells":100000,"rows_first":2000,"rows_last":500,"rows_between":2000,"halvings":0,"cell_chars":16384,"cell_head_chars":4096},"cells_cut":0,"cells_raw":0,"read":"whole","date_system":"1900"}

{"sheet":"Kreu","index":0,"n_rows":40,"n_cols":6,"rows_kept":40,"cut":false,"hidden":false,"merged":[[0,5,0,7],[7,3,7,5],[39,0,39,9],[28,24,28,33],[11,1,11,3],[11,4,11,7],[12,1,12,3],[12,4,12,7],[13,1,13,3],[13,4,13,7],[14,1,14,3],[14,4,14,7],[15,1,15,3],[15,4,15,7],[16,1,16,3],[17,1,17,3],[17,5,17,7],[18,1,18,3],[18,5,18,7],[19,1,19,3],[19,5,19,7],[23,1,23,3],[23,5,23,7],[24,1,24,3],[24,5,24,7],[20,1,20,3],[20,5,20,7],[21,1,21,3],[21,5,21,7],[22,1,22,3],[22,5,22,7]]}
[null,"Shtojca 4",null,null,null,"Modeli KQZ 03-11"]
[]
[]
[]
[]
[null,null,null,null,"REPUBLIKA E SHQIPËRISË\nKOMISIONI QENDROR I ZGJEDHJEVE"]
[]
[null,null,null,"Formati tip i raportimit financiar të fushatës zgjedhore për \"Kandidatin e paraqitur nga një grup zgjedhësish\" për zgjedhjet për organet e qeverisjes vendore"]
[]
[null,null,null,null,"    "]
[]
[null,"Emri i kandidatit"]
[null,"Bashkia"]
[null,"Tel/cel"]
[null,"Email"]
[null,"Adresa"]
[]
[null,"Emri I Financierit",null,null,"Mbiemri I Financierit","Nënshkrimi"]
[]
[]
[null,"Tel/Cel I Financierit",null,null,"Email I Financierit","NID I Financierit"]
[]
[]
[null,"Emri I Aprovuesit",null,null,"Mbiemri I Aprovuesit","Nënshkrimi"]
[]
[]
[null,null,null,null,"Ky format raportimi konsiston në seksionet e mëposhtme:"]
[]
[null,null,null,null,"1. Përmbledhje Financiare"]
[null,null,null,null,{"$f":"'2.aTë ardhura-Fondet Publike'!B15","v":"2.a Të ardhura - Financime publike"}]
[null,null,null,null,{"$f":"'2.bTë ardhura-jopublik-monetare'!A13","v":" 2.b Të ardhura monetare - Financime jopublike"}]
[null,null,null,null,{"$f":"'2.cTë ardhura-jopublik-nënatyrë'!A13","v":"2.c Të ardhura, dhurime në natyrë - Financime jopublike"}]
[null,null,null,null,{"$f":"'3. Të ardhura - Kreditë'!A15","v":"3. Huatë dhe Kreditë"}]
[null,null,null,null,{"$f":"'4. Shpenzimet'!C14","v":"4. Shpenzimet "}]
[null,null,null,null,{"$f":"'5. Shpenzimet për mitingje'!A15","v":"5. Shpenzimet për mitingjet e fushatës (pasqyrë)"}]
[]
[null,null,null,null,"                                         Ju lutemi, sigurohuni që të keni plotësuar të gjitha tabelat e këtij formati tip të raportimit para se ta dorëzoni."]
[null,null,null,null,"Tabela \"Referenca\" nuk ka nevojë të plotësohet."]
[]
["Ky raport i plotësuar duhet të dorëzohet dorazi tek Drejtoria e Kontrollit Financiar dhe Auditit të Brendshëm në KQZ dhe gjithashtu me email në adresën: raportimifinanciar@kqz.gov.al"]

{"sheet":"1.Detaje & Përmbledhje","index":1,"n_rows":38,"n_cols":5,"rows_kept":38,"cut":false,"hidden":false,"merged":[[15,1,15,4],[17,1,17,2],[23,1,23,2],[25,1,25,2]]}
[]
[]
[]
[]
[]
[]
[]
[null,null,"REPUBLIKA E SHQIPËRISË\n"]
[null,null,"KOMISIONI QENDROR I ZGJEDHJEVE"]
[]
[]
[null,null,"Emri i Kandidatit",null,"Bashkia"]
[]
[]
[]
[null,"Përmbledhje financiare"]
[]
[null,"Totali i të ardhurave:",null,null,{"$f":"SUM(E21:E24)","v":0}]
[]
[null,null,"a. Totali I të ardhurave nga fondet publike",null,{"$f":"SUM(('2.aTë ardhura-Fondet Publike'!D20))","v":0}]
[null,null,"b. Totali i të ardhurave nga persona fizike",null,{"$f":"(SUMIF('2.bTë ardhura-jopublik-monetare'!$A$19:$A$1015,Referenca!$F$3,'2.bTë ardhura-jopublik-monetare'!$H$19:$H$1015))+(SUMIF('2.cTë ardhura-jopublik-nënatyrë'!$A$19:$A$5015,Referenca!$F$3,'2.cTë ardhura-jopublik-nënatyrë'!$H$19:$H$5015))","v":0}]
[null,null,"c. Totali i të ardhurave nga persona juridike",null,{"$f":"(SUMIF('2.bTë ardhura-jopublik-monetare'!$A$19:$A$1015,Referenca!$F$4,'2.bTë ardhura-jopublik-monetare'!$H$19:$H$1015))+(SUMIF('2.cTë ardhura-jopublik-nënatyrë'!$A$19:$A$5015,Referenca!$F$4,'2.cTë ardhura-jopublik-nënatyrë'!$H$19:$H$5015))","v":0}]
[]
[null,"Totali i huave:",null,null,{"$f":"SUM('3. Të ardhura - Kreditë'!H21:H318)","v":0}]
[]
[null,"Totali i shpenzimeve:",null,null,{"$f":"SUM(E28:E30)","v":0}]
[]
[null,null,"a. Totali i shpenzimeve ",null,{"$f":"SUM('4. Shpenzimet'!H19:H5014)","v":0}]
[null,null,"b. Totali i shpenzimeve indirekte",null,{"$f":"SUM('2.cTë ardhura-jopublik-nënatyrë'!H19:H5015)","v":0}]
[null,null,"c. Totale të papaguara/detyrime financiare",null,{"$f":"SUM('4. Shpenzimet'!I19:I5014)","v":0}]
[]
[]
[]
[]
[null,null,"FINANCIERI",null,"APROVUESI"]
[]
[]
[null,null,"Emër Mbiemër Firmë",null,"Emër Mbiemër Firmë"]

{"sheet":"2.aTë ardhura-Fondet Publike","index":2,"n_rows":31,"n_cols":5,"rows_kept":31,"cut":false,"hidden":false,"merged":[[19,1,20,1],[19,3,19,4],[20,3,20,4],[14,1,14,3],[15,1,15,3],[18,3,18,4]]}
[]
[]
[]
[]
[]
[]
[]
[null,null,"REPUBLIKA E SHQIPËRISË\n"]
[null,null,"KOMISIONI QENDROR I ZGJEDHJEVE"]
[]
[]
[null,null,"Emri i Kandidatit","Bashkia"]
[]
[]
[null,"2.a Të ardhura - Financime publike"]
[null,"Shuma e fondeve publike të përfituara në përputhje me nenin 89 të Kodit Zgjedhor"]
[]
[]
[null,null,"Data e kthimit të diferencës"]
[null,"b","Kompensimi financiar paszgjedhor (neni 89)"]
[null,null,"Data e marrjes së kompensimit financiar paszgjedhor"]
[]
[]
[]
[]
[]
[]
[null,null,"FINANCIERI",null,"APROVUESI"]
[]
[]
[null,null,"Emër Mbiemër Firmë",null,"Emër Mbiemër Firmë"]

{"sheet":"2.bTë ardhura-jopublik-monetare","index":3,"n_rows":389246,"n_cols":13,"rows_kept":4500,"cut":true,"hidden":false,"merged":[[15,7,15,8],[13,0,13,2],[13,3,13,4],[12,7,12,8],[13,7,13,8],[14,7,14,8]],"bounds":{"rows_first":2000,"rows_last":500,"rows_between":2000,"halvings":0}}
[]
[]
[]
[]
[]
[]
[]
[null,null,null,null,"REPUBLIKA E SHQIPËRISË\n"]
[null,null,null,null,"KOMISIONI QENDROR I ZGJEDHJEVE"]
[]
[null,"Emri I Kandidatit",null,null,null,"Bashkia"]
[]
[" 2.b Të ardhura monetare - Financime jopublike"]
[{"$f":"\"Ju lutemi konfirmoni nëse nuk keni gjë për të raportuar\"&A13","v":"Ju lutemi konfirmoni nëse nuk keni gjë për të raportuar 2.b Të ardhura monetare - Financime jopublike"}]
[]
[]
[]
["A.  Statusi i dhuruesit","B. Emri i dhuruesit","C. Mbiemri i dhuruesit","D. Adresa (rreshti 1)","E. Adresa (rreshti 2)","F. Kodi postar i adreses","G. Numri i identifikimit ","H. Shuma e dhurimit","I. Data e dhurimit","J. Totali i agreguar i dhurimeve nga dhuruesi për zgjedhjet ","K. Metoda e dhurimit","L. Kodi bankar i llogarisë në të cilën u depozitua dhurimi ","M. Numri llogarisë në të cilën u depozitua dhurimi"]
[null,null,null,null,null,null,null,null,null,{"$f":"SUMIF($G$19:$G$1015,$G19,$H$19:$H$1015)+SUMIF('2.cTë ardhura-jopublik-nënatyrë'!$G$19:$G$1015,'2.bTë ardhura-jopublik-monetare'!$G19,'2.cTë ardhura-jopublik-nënatyrë'!$H$19:$H$1015)","v":0}]
[null,null,null,null,null,null,null,null,null,{"$f":"SUMIF($G$19:$G$1015,$G20,$H$19:$H$1015)+SUMIF('2.cTë ardhura-jopublik-nënatyrë'!$G$19:$G$1015,'2.bTë ardhura-jopublik-monetare'!$G20,'2.cTë ardhura-jopublik-nënatyrë'!$H$19:$H$1015)","v":0}]
[null,null,null,null,null,null,null,null,null,{"$f":"SUMIF($G$19:$G$1015,$G21,$H$19:$H$1015)+SUMIF('2.cTë ardhura-jopublik-nënatyrë'!$G$19:$G$1015,'2.bTë ardhura-jopublik-monetare'!$G21,'2.cTë ardhura-jopublik-nënatyrë'!$H$19:$H$1015)","v":0}]
[null,null,null,null,null,null,null,null,null,{"$f":"SUMIF($G$19:$G$1015,$G22,$H$19:$H$1015)+SUMIF('2.cTë ardhura-jopublik-nënatyrë'!$G$19:$G$1015,'2.bTë ardhura-jopublik-monetare'!$G22,'2.cTë ardhura-jopublik-nënatyrë'!$H$19:$H$1015)","v":0}]
[null,null,null,null,null,null,null,null,null,{"$f":"SUMIF($G$19:$G$1015,$G23,$H$19:$H$1015)+SUMIF('2.cTë ardhura-jopublik-nënatyrë'!$G$19:$G$1015,'2.bTë ardhura-jopublik-monetare'!$G23,'2.cTë ardhura-jopublik-nënatyrë'!$H$19:$H$1015)","v":0}]
[null,null,null,null,null,null,null,null,null,{"$f":"SUMIF($G$19:$G$1015,$G24,$H$19:$H$1015)+SUMIF('2.cTë ardhura-jopublik-nënatyrë'!$G$19:$G$1015,'2.bTë ardhura-jopublik-monetare'!$G24,'2.cTë ardhura-jopublik-nënatyrë'!$H$19:$H$1015)","v":0}]
[null,null,null,null,null,null,null,null,null,{"$f":"SUMIF($G$19:$G$1015,$G25,$H$19:$H$1015)+SUMIF('2.cTë ardhura-jopublik-nënatyrë'!$G$19:$G$1015,'2.bTë ardhura-jopublik-monetare'!$G25,'2.cTë ardhura-jopublik-nënatyrë'!$H$19:$H$1015)","v":0}]
[null,null,null,null,null,null,null,null,null,{"$f":"SUMIF($G$19:$G$1015,$G26,$H$19:$H$1015)+SUMIF('2.cTë ardhura-jopublik-nënatyrë'!$G$19:$G$1015,'2.bTë ardhura-jopublik-monetare'!$G26,'2.cTë ardhura-jopublik-nënatyrë'!$H$19:$H$1015)","v":0}]
[null,null,null,null,null,null,null,null,null,{"$f":"SUMIF($G$19:$G$1015,$G27,$H$19:$H$1015)+SUMIF('2.cTë ardhura-jopublik-nënatyrë'!$G$19:$G$1015,'2.bTë ardhura-jopublik-monetare'!$G27,'2.cTë ardhura-jopublik-nënatyrë'!$H$19:$H$1015)","v":0}]
[null,null,null,null,null,null,null,null,null,{"$f":"SUMIF($G$19:$G$1015,$G28,$H$19:$H$1015)+SUMIF('2.cTë ardhura-jopublik-nënatyrë'!$G$19:$G$1015,'2.bTë ardhura-jopublik-monetare'!$G28,'2.cTë ardhura-jopublik-nënatyrë'!$H$19:$H$1015)","v":0}]
[null,null,null,null,null,null,null,null,null,{"$f":"SUMIF($G$19:$G$1015,$G29,$H$19:$H$1015)+SUMIF('2.cTë ardhura-jopublik-nënatyrë'!$G$19:$G$1015,'2.bTë ardhura-jopublik-monetare'!$G29,'2.cTë ardhura-jopublik-nënatyrë'!$H$19:$H$1015)","v":0}]
[null,null,null,null,null,null,null,null,null,{"$f":"SUMIF($G$19:$G$1015,$G30,$H$19:$H$1015)+SUMIF('2.cTë ardhura-jopublik-nënatyrë'!$G$19:$G$1015,'2.bTë ardhura-jopublik-monetare'!$G30,'2.cTë ardhura-jopublik-nënatyrë'!$H$19:$H$1015)","v":0}]
[null,null,null,null,null,null,null,null,null,{"$f":"SUMIF($G$19:$G$1015,$G31,$H$19:$H$1015)+SUMIF('2.cTë ardhura-jopublik-nënatyrë'!$G$19:$G$1015,'2.bTë ardhura-jopublik-monetare'!$G31,'2.cTë ardhura-jopublik-nënatyrë'!$H$19:$H$1015)","v":0}]
[null,null,null,null,null,null,null,null,null,{"$f":"SUMIF($G$19:$G$1015,$G32,$H$19:$H$1015)+SUMIF('2.cTë ardhura-jopublik-nënatyrë'!$G$19:$G$1015,'2.bTë ardhura-jopublik-monetare'!$G32,'2.cTë ardhura-jopublik-nënatyrë'!$H$19:$H$1015)","v":0}]
[null,null,"FINANCIERI",null,null,null,"APROVUESI",null,null,{"$f":"SUMIF($G$19:$G$1015,$G33,$H$19:$H$1015)+SUMIF('2.cTë ardhura-jopublik-nënatyrë'!$G$19:$G$1015,'2.bTë ardhura-jopublik-monetare'!$G33,'2.cTë ardhura-jopublik-nënatyrë'!$H$19:$H$1015)","v":0}]
[null,null,null,null,null,null,null,null,null,{"$f":"SUMIF($G$19:$G$1015,$G34,$H$19:$H$1015)+SUMIF('2.cTë ardhura-jopublik-nënatyrë'!$G$19:$G$1015,'2.bTë ardhura-jopublik-monetare'!$G34,'2.cTë ardhura-jopublik-nënatyrë'!$H$19:$H$1015)","v":0}]
[null,null,null,null,null,null,null,null,null,{"$f":"SUMIF($G$19:$G$1015,$G35,$H$19:$H$1015)+SUMIF('2.cTë ardhura-jopublik-nënatyrë'!$G$19:$G$1015,'2.bTë ardhura-jopublik-monetare'!$G35,'2.cTë ardhura-jopublik-nënatyrë'!$H$19:$H$1015)","v":0}]
[null,null,"Emër Mbiemër Firmë",null,null,null,"Emër Mbiemër Firmë",null,null,{"$f":"SUMIF($G$19:$G$1015,$G36,$H$19:$H$1015)+SUMIF('2.cTë ardhura-jopublik-nënatyrë'!$G$19:$G$1015,'2.bTë ardhura-jopublik-monetare'!$G36,'2.cTë ardhura-jopublik-nënatyrë'!$H$19:$H$1015)","v":0}]
[null,null,null,null,null,null,null,null,null,{"$f":"SUMIF($G$19:$G$1015,$G37,$H$19:$H$1015)+SUMIF('2.cTë ardhura-jopublik-nënatyrë'!$G$19:$G$1015,'2.bTë ardhura-jopublik-monetare'!$G37,'2.cTë ardhura-jopublik-nënatyrë'!$H$19:$H$1015)","v":0}]
[null,null,null,null,null,null,null,null,null,{"$f":"SUMIF($G$19:$G$1015,$G38,$H$19:$H$1015)+SUMIF('2.cTë ardhura-jopublik-nënatyrë'!$G$19:$G$1015,'2.bTë ardhura-jopublik-monetare'!$G38,'2.cTë ardhura-jopublik-nënatyrë'!$H$19:$H$1015)","v":0}]
[null,null,null,null,null,null,null,null,null,{"$f":"SUMIF($G$19:$G$1015,$G39,$H$19:$H$1015)+SUMIF('2.cTë ardhura-jopublik-nënatyrë'!$G$19:$G$1015,'2.bTë ardhura-jopublik-monetare'!$G39,'2.cTë ardhura-jopublik-nënatyrë'!$H$19:$H$1015)","v":0}]
[null,null,null,null,null,null,null,null,null,{"$f":"SUMIF($G$19:$G$1015,$G40,$H$19:$H$1015)+SUMIF('2.cTë ardhura-jopublik-nënatyrë'!$G$19:$G$1015,'2.bTë ardhura-jopublik-monetare'!$G40,'2.cTë ardhura-jopublik-nënatyrë'!$H$19:$H$1015)","v":0}]
[null,null,null,null,null,null,null,null,null,{"$f":"SUMIF($G$19:$G$1015,$G41,$H$19:$H$1015)+SUMIF('2.cTë ardhura-jopublik-nënatyrë'!$G$19:$G$1015,'2.bTë ardhura-jopublik-monetare'!$G41,'2.cTë ardhura-jopublik-nënatyrë'!$H$19:$H$1015)","v":0}]
[null,null,null,null,null,null,null,null,null,{"$f":"SUMIF($G$19:$G$1015,$G42,$H$19:$H$1015)+SUMIF('2.cTë ardhura-jopublik-nënatyrë'!$G$19:$G$1015,'2.bTë ardhura-jopublik-monetare'!$G42,'2.cTë ardhura-jopublik-nënatyrë'!$H$19:$H$1015)","v":0}]
[null,null,null,null,null,null,null,null,null,{"$f":"SUMIF($G$19:$G$1015,$G43,$H$19:$H$1015)+SUMIF('2.cTë ardhura-jopublik-nënatyrë'!$G$19:$G$1015,'2.bTë ardhura-jopublik-monetare'!$G43,'2.cTë ardhura-jopublik-nënatyrë'!$H$19:$H$1015)","v":0}]
[null,null,null,null,null,null,null,null,null,{"$f":"SUMIF($G$19:$G$1015,$G44,$H$19:$H$1015)+SUMIF('2.cTë ardhura-jopublik-nënatyrë'!$G$19:$G$1015,'2.bTë ardhura-jopublik-monetare'!$G44,'2.cTë ardhura-jopublik-nënatyrë'!$H$19:$H$1015)","v":0}]
[null,null,null,null,null,null,null,null,null,{"$f":"SUMIF($G$19:$G$1015,$G45,$H$19:$H$1015)+SUMIF('2.cTë ardhura-jopublik-nënatyrë'!$G$19:$G$1015,'2.bTë ardhura-jopublik-monetare'!$G45,'2.cTë ardhura-jopublik-nënatyrë'!$H$19:$H$1015)","v":0}]
[null,null,null,null,null,null,null,null,null,{"$f":"SUMIF($G$19:$G$1015,$G46,$H$19:$H$1015)+SUMIF('2.cTë ardhura-jopublik-nënatyrë'!$G$19:$G$1015,'2.bTë ardhura-jopublik-monetare'!$G46,'2.cTë ardhura-jopublik-nënatyrë'!$H$19:$H$1015)","v":0}]
[null,null,null,null,null,null,null,null,null,{"$f":"SUMIF($G$19:$G$1015,$G47,$H$19:$H$1015)+SUMIF('2.cTë ardhura-jopublik-nënatyrë'!$G$19:$G$1015,'2.bTë ardhura-jopublik-monetare'!$G47,'2.cTë ardhura-jopublik-nënatyrë'!$H$19:$H$1015)","v":0}]
[null,null,null,null,null,null,null,null,null,{"$f":"SUMIF($G$19:$G$1015,$G48,$H$19:$H$1015)+SUMIF('2.cTë ardhura-jopublik-nënatyrë'!$G$19:$G$1015,'2.bTë ardhura-jopublik-monetare'!$G48,'2.cTë ardhura-jopublik-nënatyrë'!$H$19:$H$1015)","v":0}]
[null,null,null,null,null,null,null,null,null,{"$f":"SUMIF($G$19:$G$1015,$G49,$H$19:$H$1015)+SUMIF('2.cTë ardhura-jopublik-nënatyrë'!$G$19:$G$1015,'2.bTë ardhura-jopublik-monetare'!$G49,'2.cTë ardhura-jopublik-nënatyrë'!$H$19:$H$1015)","v":0}]
[null,null,null,null,null,null,null,null,null,{"$f":"SUMIF($G$19:$G$1015,$G50,$H$19:$H$1015)+SUMIF('2.cTë ardhura-jopublik-nënatyrë'!$G$19:$G$1015,'2.bTë ardhura-jopublik-monetare'!$G50,'2.cTë ardhura-jopublik-nënatyrë'!$H$19:$H$1015)","v":0}]
[null,null,null,null,null,null,null,null,null,{"$f":"SUMIF($G$19:$G$1015,$G51,$H$19:$H$1015)+SUMIF('2.cTë ardhura-jopublik-nënatyrë'!$G$19:$G$1015,'2.bTë ardhura-jopublik-monetare'!$G51,'2.cTë ardhura-jopublik-nënatyrë'!$H$19:$H$1015)","v":0}]
[null,null,null,null,null,null,null,null,null,{"$f":"SUMIF($G$19:$G$1015,$G52,$H$19:$H$1015)+SUMIF('2.cTë ardhura-jopublik-nënatyrë'!$G$19:$G$1015,'2.bTë ardhura-jopublik-monetare'!$G52,'2.cTë ardhura-jopublik-nënatyrë'!$H$19:$H$1015)","v":0}]
[null,null,null,null,null,null,null,null,null,{"$f":"SUMIF($G$19:$G$1015,$G53,$H$19:$H$1015)+SUMIF('2.cTë ardhura-jopublik-nënatyrë'!$G$19:$G$1015,'2.bTë ardhura-jopublik-monetare'!$G53,'2.cTë ardhura-jopublik-nënatyrë'!$H$19:$H$1015)","v":0}]
[null,null,null,null,null,null,null,null,null,{"$f":"SUMIF($G$19:$G$1015,$G54,$H$19:$H$1015)+SUMIF('2.cTë ardhura-jopublik-nënatyrë'!$G$19:$G$1015,'2.bTë ardhura-jopublik-monetare'!$G54,'2.cTë ardhura-jopublik-nënatyrë'!$H$19:$H$1015)","v":0}]
[null,null,null,null,null,null,null,null,null,{"$f":"SUMIF($G$19:$G$1015,$G55,$H$19:$H$1015)+SUMIF('2.cTë ardhura-jopublik-nënatyrë'!$G$19:$G$1015,'2.bTë ardhura-jopublik-monetare'!$G55,'2.cTë ardhura-jopublik-nënatyrë'!$H$19:$H$1015)","v":0}]
[null,null,null,null,null,null,null,null,null,{"$f":"SUMIF($G$19:$G$1015,$G56,$H$19:$H$1015)+SUMIF('2.cTë ardhura-jopublik-nënatyrë'!$G$19:$G$1015,'2.bTë ardhura-jopublik-monetare'!$G56,'2.cTë ardhura-jopublik-nënatyrë'!$H$19:$H$1015)","v":0}]
[null,null,null,null,null,null,null,null,null,{"$f":"SUMIF($G$19:$G$1015,$G57,$H$19:$H$1015)+SUMIF('2.cTë ardhura-jopublik-nënatyrë'!$G$19:$G$1015,'2.bTë ardhura-jopublik-monetare'!$G57,'2.cTë ardhura-jopublik-nënatyrë'!$H$19:$H$1015)","v":0}]
[null,null,null,null,null,null,null,null,null,{"$f":"SUMIF($G$19:$G$1015,$G58,$H$19:$H$1015)+SUMIF('2.cTë ardhura-jopublik-nënatyrë'!$G$19:$G$1015,'2.bTë ardhura-jopublik-monetare'!$G58,'2.cTë ardhura-jopublik-nënatyrë'!$H$19:$H$1015)","v":0}]
[null,null,null,null,null,null,null,null,null,{"$f":"SUMIF($G$19:$G$1015,$G59,$H$19:$H$1015)+SUMIF('2.cTë ardhura-jopublik-nënatyrë'!$G$19:$G$1015,'2.bTë ardhura-jopublik-monetare'!$G59,'2.cTë ardhura-jopublik-nënatyrë'!$H$19:$H$1015)","v":0}]
[null,null,null,null,null,null,null,null,null,{"$f":"SUMIF($G$19:$G$1015,$G60,$H$19:$H$1015)+SUMIF('2.cTë ardhura-jopublik-nënatyrë'!$G$19:$G$1015,'2.bTë ardhura-jopublik-monetare'!$G60,'2.cTë ardhura-jopublik-nënatyrë'!$H$19:$H$1015)","v":0}]
[null,null,null,null,null,null,null,null,null,{"$f":"SUMIF($G$19:$G$1015,$G61,$H$19:$H$1015)+SUMIF('2.cTë ardhura-jopublik-nënatyrë'!$G$19:$G$1015,'2.bTë ardhura-jopublik-monetare'!$G61,'2.cTë ardhura-jopublik-nënatyrë'!$H$19:$H$1015)","v":0}]
[null,null,null,null,null,null,null,null,null,{"$f":"SUMIF($G$19:$G$1015,$G62,$H$19:$H$1015)+SUMIF('2.cTë ardhura-jopublik-nënatyrë'!$G$19:$G$1015,'2.bTë ardhura-jopublik-monetare'!$G62,'2.cTë ardhura-jopublik-nënatyrë'!$H$19:$H$1015)","v":0}]
[null,null,null,null,null,null,null,null,null,{"$f":"SUMIF($G$19:$G$1015,$G63,$H$19:$H$1015)+SUMIF('2.cTë ardhura-jopublik-nënatyrë'!$G$19:$G$1015,'2.bTë ardhura-jopublik-monetare'!$G63,'2.cTë ardhura-jopublik-nënatyrë'!$H$19:$H$1015)","v":0}]
[null,null,null,null,null,null,null,null,null,{"$f":"SUMIF($G$19:$G$1015,$G64,$H$19:$H$1015)+SUMIF('2.cTë ardhura-jopublik-nënatyrë'!$G$19:$G$1015,'2.bTë ardhura-jopublik-monetare'!$G64,'2.cTë ardhura-jopublik-nënatyrë'!$H$19:$H$1015)","v":0}]
[null,null,null,null,null,null,null,null,null,{"$f":"SUMIF($G$19:$G$1015,$G65,$H$19:$H$1015)+SUMIF('2.cTë ardhura-jopublik-nënatyrë'!$G$19:$G$1015,'2.bTë ardhura-jopublik-monetare'!$G65,'2.cTë ardhura-jopublik-nënatyrë'!$H$19:$H$1015)","v":0}]
[null,null,null,null,null,null,null,null,null,{"$f":"SUMIF($G$19:$G$1015,$G66,$H$19:$H$1015)+SUMIF('2.cTë ardhura-jopublik-nënatyrë'!$G$19:$G$1015,'2.bTë ardhura-jopublik-monetare'!$G66,'2.cTë ardhura-jopublik-nënatyrë'!$H$19:$H$1015)","v":0}]
[null,null,null,null,null,null,null,null,null,{"$f":"SUMIF($G$19:$G$1015,$G67,$H$19:$H$1015)+SUMIF('2.cTë ardhura-jopublik-nënatyrë'!$G$19:$G$1015,'2.bTë ardhura-jopublik-monetare'!$G67,'2.cTë ardhura-jopublik-nënatyrë'!$H$19:$H$1015)","v":0}]
[null,null,null,null,null,null,null,null,null,{"$f":"SUMIF($G$19:$G$1015,$G68,$H$19:$H$1015)+SUMIF('2.cTë ardhura-jopublik-nënatyrë'!$G$19:$G$1015,'2.bTë ardhura-jopublik-monetare'!$G68,'2.cTë ardhura-jopublik-nënatyrë'!$H$19:$H$1015)","v":0}]
[null,null,null,null,null,null,null,null,null,{"$f":"SUMIF($G$19:$G$1015,$G69,$H$19:$H$1015)+SUMIF('2.cTë ardhura-jopublik-nënatyrë'!$G$19:$G$1015,'2.bTë ardhura-jopublik-monetare'!$G69,'2.cTë ardhura-jopublik-nënatyrë'!$H$19:$H$1015)","v":0}]
[null,null,null,null,null,null,null,null,null,{"$f":"SUMIF($G$19:$G$1015,$G70,$H$19:$H$1015)+SUMIF('2.cTë ardhura-jopublik-nënatyrë'!$G$19:$G$1015,'2.bTë ardhura-jopublik-monetare'!$G70,'2.cTë ardhura-jopublik-nënatyrë'!$H$19:$H$1015)","v":0}]
[null,null,null,null,null,null,null,null,null,{"$f":"SUMIF($G$19:$G$1015,$G71,$H$19:$H$1015)+SUMIF('2.cTë ardhura-jopublik-nënatyrë'!$G$19:$G$1015,'2.bTë ardhura-jopublik-monetare'!$G71,'2.cTë ardhura-jopublik-nënatyrë'!$H$19:$H$1015)","v":0}]
[null,null,null,null,null,null,null,null,null,{"$f":"SUMIF($G$19:$G$1015,$G72,$H$19:$H$1015)+SUMIF('2.cTë ardhura-jopublik-nënatyrë'!$G$19:$G$1015,'2.bTë ardhura-jopublik-monetare'!$G72,'2.cTë ardhura-jopublik-nënatyrë'!$H$19:$H$1015)","v":0}]
[null,null,null,null,null,null,null,null,null,{"$f":"SUMIF($G$19:$G$1015,$G73,$H$19:$H$1015)+SUMIF('2.cTë ardhura-jopublik-nënatyrë'!$G$19:$G$1015,'2.bTë ardhura-jopublik-monetare'!$G73,'2.cTë ardhura-jopublik-nënatyrë'!$H$19:$H$1015)","v":0}]
[null,null,null,null,null,null,null,null,null,{"$f":"SUMIF($G$19:$G$1015,$G74,$H$19:$H$1015)+SUMIF('2.cTë ardhura-jopublik-nënatyrë'!$G$19:$G$1015,'2.bTë ardhura-jopublik-monetare'!$G74,'2.cTë ardhura-jopublik-nënatyrë'!$H$19:$H$1015)","v":0}]
[null,null,null,null,null,null,null,null,null,{"$f":"SUMIF($G$19:$G$1015,$G75,$H$19:$H$1015)+SUMIF('2.cTë ardhura-jopublik-nënatyrë'!$G$19:$G$1015,'2.bTë ardhura-jopublik-monetare'!$G75,'2.cTë ardhura-jopublik-nënatyrë'!$H$19:$H$1015)","v":0}]
[null,null,null,null,null,null,null,null,null,{"$f":"SUMIF($G$19:$G$1015,$G76,$H$19:$H$1015)+SUMIF('2.cTë ardhura-jopublik-nënatyrë'!$G$19:$G$1015,'2.bTë ardhura-jopublik-monetare'!$G76,'2.cTë ardhura-jopublik-nënatyrë'!$H$19:$H$1015)","v":0}]
[null,null,null,null,null,null,null,null,null,{"$f":"SUMIF($G$19:$G$1015,$G77,$H$19:$H$1015)+SUMIF('2.cTë ardhura-jopublik-nënatyrë'!$G$19:$G$1015,'2.bTë ardhura-jopublik-monetare'!$G77,'2.cTë ardhura-jopublik-nënatyrë'!$H$19:$H$1015)","v":0}]
[null,null,null,null,null,null,null,null,null,{"$f":"SUMIF($G$19:$G$1015,$G78,$H$19:$H$1015)+SUMIF('2.cTë ardhura-jopublik-nënatyrë'!$G$19:$G$1015,'2.bTë ardhura-jopublik-monetare'!$G78,'2.cTë ardhura-jopublik-nënatyrë'!$H$19:$H$1015)","v":0}]
[null,null,null,null,null,null,null,null,null,{"$f":"SUMIF($G$19:$G$1015,$G79,$H$19:$H$1015)+SUMIF('2.cTë ardhura-jopublik-nënatyrë'!$G$19:$G$1015,'2.bTë ardhura-jopublik-monetare'!$G79,'2.cTë ardhura-jopublik-nënatyrë'!$H$19:$H$1015)","v":0}]
[null,null,null,null,null,null,null,null,null,{"$f":"SUMIF($G$19:$G$1015,$G80,$H$19:$H$1015)+SUMIF('2.cTë ardhura-jopublik-nënatyrë'!$G$19:$G$1015,'2.bTë ardhura-jopublik-monetare'!$G80,'2.cTë ardhura-jopublik-nënatyrë'!$H$19:$H$1015)","v":0}]
[null,null,null,null,null,null,null,null,null,{"$f":"SUMIF($G$19:$G$1015,$G81,$H$19:$H$1015)+SUMIF('2.cTë ardhura-jopublik-nënatyrë'!$G$19:$G$1015,'2.bTë ardhura-jopublik-monetare'!$G81,'2.cTë ardhura-jopublik-nënatyrë'!$H$19:$H$1015)","v":0}]
[null,null,null,null,null,null,null,null,null,{"$f":"SUMIF($G$19:$G$1015,$G82,$H$19:$H$1015)+SUMIF('2.cTë ardhura-jopublik-nënatyrë'!$G$19:$G$1015,'2.bTë ardhura-jopublik-monetare'!$G82,'2.cTë ardhura-jopublik-nënatyrë'!$H$19:$H$1015)","v":0}]
[null,null,null,null,null,null,null,null,null,{"$f":"SUMIF($G$19:$G$1015,$G83,$H$19:$H$1015)+SUMIF('2.cTë ardhura-jopublik-nënatyrë'!$G$19:$G$1015,'2.bTë ardhura-jopublik-monetare'!$G83,'2.cTë ardhura-jopublik-nënatyrë'!$H$19:$H$1015)","v":0}]
[null,null,null,null,null,null,null,null,null,{"$f":"SUMIF($G$19:$G$1015,$G84,$H$19:$H$1015)+SUMIF('2.cTë ardhura-jopublik-nënatyrë'!$G$19:$G$1015,'2.bTë ardhura-jopublik-monetare'!$G84,'2.cTë ardhura-jopublik-nënatyrë'!$H$19:$H$1015)","v":0}]
[null,null,null,null,null,null,null,null,null,{"$f":"SUMIF($G$19:$G$1015,$G85,$H$19:$H$1015)+SUMIF('2.cTë ardhura-jopublik-nënatyrë'!$G$19:$G$1015,'2.bTë ardhura-jopublik-monetare'!$G85,'2.cTë ardhura-jopublik-nënatyrë'!$H$19:$H$1015)","v":0}]
[null,null,null,null,null,null,null,null,null,{"$f":"SUMIF($G$19:$G$1015,$G86,$H$19:$H$1015)+SUMIF('2.cTë ardhura-jopublik-nënatyrë'!$G$19:$G$1015,'2.bTë ardhura-jopublik-monetare'!$G86,'2.cTë ardhura-jopublik-nënatyrë'!$H$19:$H$1015)","v":0}]
[null,null,null,null,null,null,null,null,null,{"$f":"SUMIF($G$19:$G$1015,$G87,$H$19:$H$1015)+SUMIF('2.cTë ardhura-jopublik-nënatyrë'!$G$19:$G$1015,'2.bTë ardhura-jopublik-monetare'!$G87,'2.cTë ardhura-jopublik-nënatyrë'!$H$19:$H$1015)","v":0}]
[null,null,null,null,null,null,null,null,null,{"$f":"SUMIF($G$19:$G$1015,$G88,$H$19:$H$1015)+SUMIF('2.cTë ardhura-jopublik-nënatyrë'!$G$19:$G$1015,'2.bTë ardhura-jopublik-monetare'!$G88,'2.cTë ardhura-jopublik-nënatyrë'!$H$19:$H$1015)","v":0}]
[null,null,null,null,null,null,null,null,null,{"$f":"SUMIF($G$19:$G$1015,$G89,$H$19:$H$1015)+SUMIF('2.cTë ardhura-jopublik-nënatyrë'!$G$19:$G$1015,'2.bTë ardhura-jopublik-monetare'!$G89,'2.cTë ardhura-jopublik-nënatyrë'!$H$19:$H$1015)","v":0}]
[null,null,null,null,null,null,null,null,null,{"$f":"SUMIF($G$19:$G$1015,$G90,$H$19:$H$1015)+SUMIF('2.cTë ardhura-jopublik-nënatyrë'!$G$19:$G$1015,'2.bTë ardhura-jopublik-monetare'!$G90,'2.cTë ardhura-jopublik-nënatyrë'!$H$19:$H$1015)","v":0}]
[null,null,null,null,null,null,null,null,null,{"$f":"SUMIF($G$19:$G$1015,$G91,$H$19:$H$1015)+SUMIF('2.cTë ardhura-jopublik-nënatyrë'!$G$19:$G$1015,'2.bTë ardhura-jopublik-monetare'!$G91,'2.cTë ardhura-jopublik-nënatyrë'!$H$19:$H$1015)","v":0}]
[null,null,null,null,null,null,null,null,null,{"$f":"SUMIF($G$19:$G$1015,$G92,$H$19:$H$1015)+SUMIF('2.cTë ardhura-jopublik-nënatyrë'!$G$19:$G$1015,'2.bTë ardhura-jopublik-monetare'!$G92,'2.cTë ardhura-jopublik-nënatyrë'!$H$19:$H$1015)","v":0}]
[null,null,null,null,null,null,null,null,null,{"$f":"SUMIF($G$19:$G$1015,$G93,$H$19:$H$1015)+SUMIF('2.cTë ardhura-jopublik-nënatyrë'!$G$19:$G$1015,'2.bTë ardhura-jopublik-monetare'!$G93,'2.cTë ardhura-jopublik-nënatyrë'!$H$19:$H$1015)","v":0}]
[null,null,null,null,null,null,null,null,null,{"$f":"SUMIF($G$19:$G$1015,$G94,$H$19:$H$1015)+SUMIF('2.cTë ardhura-jopublik-nënatyrë'!$G$19:$G$1015,'2.bTë ardhura-jopublik-monetare'!$G94,'2.cTë ardhura-jopublik-nënatyrë'!$H$19:$H$1015)","v":0}]
[null,null,null,null,null,null,null,null,null,{"$f":"SUMIF($G$19:$G$1015,$G95,$H$19:$H$1015)+SUMIF('2.cTë ardhura-jopublik-nënatyrë'!$G$19:$G$1015,'2.bTë ardhura-jopublik-monetare'!$G95,'2.cTë ardhura-jopublik-nënatyrë'!$H$19:$H$1015)","v":0}]
[null,null,null,null,null,null,null,null,null,{"$f":"SUMIF($G$19:$G$1015,$G96,$H$19:$H$1015)+SUMIF('2.cTë ardhura-jopublik-nënatyrë'!$G$19:$G$1015,'2.bTë ardhura-jopublik-monetare'!$G96,'2.cTë ardhura-jopublik-nënatyrë'!$H$19:$H$1015)","v":0}]
[null,null,null,null,null,null,null,null,null,{"$f":"SUMIF($G$19:$G$1015,$G97,$H$19:$H$1015)+SUMIF('2.cTë ardhura-jopublik-nënatyrë'!$G$19:$G$1015,'2.bTë ardhura-jopublik-monetare'!$G97,'2.cTë ardhura-jopublik-nënatyrë'!$H$19:$H$1015)","v":0}]
[null,null,null,null,null,null,null,null,null,{"$f":"SUMIF($G$19:$G$1015,$G98,$H$19:$H$1015)+SUMIF('2.cTë ardhura-jopublik-nënatyrë'!$G$19:$G$1015,'2.bTë ardhura-jopublik-monetare'!$G98,'2.cTë ardhura-jopublik-nënatyrë'!$H$19:$H$1015)","v":0}]
[null,null,null,null,null,null,null,null,null,{"$f":"SUMIF($G$19:$G$1015,$G99,$H$19:$H$1015)+SUMIF('2.cTë ardhura-jopublik-nënatyrë'!$G$19:$G$1015,'2.bTë ardhura-jopublik-monetare'!$G99,'2.cTë ardhura-jopublik-nënatyrë'!$H$19:$H$1015)","v":0}]
[null,null,null,null,null,null,null,null,null,{"$f":"SUMIF($G$19:$G$1015,$G100,$H$19:$H$1015)+SUMIF('2.cTë ardhura-jopublik-nënatyrë'!$G$19:$G$1015,'2.bTë ardhura-jopublik-monetare'!$G100,'2.cTë ardhura-jopublik-nënatyrë'!$H$19:$H$1015)","v":0}]
[null,null,null,null,null,null,null,null,null,{"$f":"SUMIF($G$19:$G$1015,$G101,$H$19:$H$1015)+SUMIF('2.cTë ardhura-jopublik-nënatyrë'!$G$19:$G$1015,'2.bTë ardhura-jopublik-monetare'!$G101,'2.cTë ardhura-jopublik-nënatyrë'!$H$19:$H$1015)","v":0}]
[null,null,null,null,null,null,null,null,null,{"$f":"SUMIF($G$19:$G$1015,$G102,$H$19:$H$1015)+SUMIF('2.cTë ardhura-jopublik-nënatyrë'!$G$19:$G$1015,'2.bTë ardhura-jopublik-monetare'!$G102,'2.cTë ardhura-jopublik-nënatyrë'!$H$19:$H$1015)","v":0}]
[null,null,null,null,null,null,null,null,null,{"$f":"SUMIF($G$19:$G$1015,$G103,$H$19:$H$1015)+SUMIF('2.cTë ardhura-jopublik-nënatyrë'!$G$19:$G$1015,'2.bTë ardhura-jopublik-monetare'!$G103,'2.cTë ardhura-jopublik-nënatyrë'!$H$19:$H$1015)","v":0}]
[null,null,null,null,null,null,null,null,null,{"$f":"SUMIF($G$19:$G$1015,$G104,$H$19:$H$1015)+SUMIF('2.cTë ardhura-jopublik-nënatyrë'!$G$19:$G$1015,'2.bTë ardhura-jopublik-monetare'!$G104,'2.cTë ardhura-jopublik-nënatyrë'!$H$19:$H$1015)","v":0}]
[null,null,null,null,null,null,null,null,null,{"$f":"SUMIF($G$19:$G$1015,$G105,$H$19:$H$1015)+SUMIF('2.cTë ardhura-jopublik-nënatyrë'!$G$19:$G$1015,'2.bTë ardhura-jopublik-monetare'!$G105,'2.cTë ardhura-jopublik-nënatyrë'!$H$19:$H$1015)","v":0}]
[null,null,null,null,null,null,null,null,null,{"$f":"SUMIF($G$19:$G$1015,$G106,$H$19:$H$1015)+SUMIF('2.cTë ardhura-jopublik-nënatyrë'!$G$19:$G$1015,'2.bTë ardhura-jopublik-monetare'!$G106,'2.cTë ardhura-jopublik-nënatyrë'!$H$19:$H$1015)","v":0}]
[null,null,null,null,null,null,null,null,null,{"$f":"SUMIF($G$19:$G$1015,$G107,$H$19:$H$1015)+SUMIF('2.cTë ardhura-jopublik-nënatyrë'!$G$19:$G$1015,'2.bTë ardhura-jopublik-monetare'!$G107,'2.cTë ardhura-jopublik-nënatyrë'!$H$19:$H$1015)","v":0}]
[null,null,null,null,null,null,null,null,null,{"$f":"SUMIF($G$19:$G$1015,$G108,$H$19:$H$1015)+SUMIF('2.cTë ardhura-jopublik-nënatyrë'!$G$19:$G$1015,'2.bTë ardhura-jopublik-monetare'!$G108,'2.cTë ardhura-jopublik-nënatyrë'!$H$19:$H$1015)","v":0}]
[null,null,null,null,null,null,null,null,null,{"$f":"SUMIF($G$19:$G$1015,$G109,$H$19:$H$1015)+SUMIF('2.cTë ardhura-jopublik-nënatyrë'!$G$19:$G$1015,'2.bTë ardhura-jopublik-monetare'!$G109,'2.cTë ardhura-jopublik-nënatyrë'!$H$19:$H$1015)","v":0}]
[null,null,null,null,null,null,null,null,null,{"$f":"SUMIF($G$19:$G$1015,$G110,$H$19:$H$1015)+SUMIF('2.cTë ardhura-jopublik-nënatyrë'!$G$19:$G$1015,'2.bTë ardhura-jopublik-monetare'!$G110,'2.cTë ardhura-jopublik-nënatyrë'!$H$19:$H$1015)","v":0}]
[null,null,null,null,null,null,null,null,null,{"$f":"SUMIF($G$19:$G$1015,$G111,$H$19:$H$1015)+SUMIF('2.cTë ardhura-jopublik-nënatyrë'!$G$19:$G$1015,'2.bTë ardhura-jopublik-monetare'!$G111,'2.cTë ardhura-jopublik-nënatyrë'!$H$19:$H$1015)","v":0}]
[null,null,null,null,null,null,null,null,null,{"$f":"SUMIF($G$19:$G$1015,$G112,$H$19:$H$1015)+SUMIF('2.cTë ardhura-jopublik-nënatyrë'!$G$19:$G$1015,'2.bTë ardhura-jopublik-monetare'!$G112,'2.cTë ardhura-jopublik-nënatyrë'!$H$19:$H$1015)","v":0}]
[null,null,null,null,null,null,null,null,null,{"$f":"SUMIF($G$19:$G$1015,$G113,$H$19:$H$1015)+SUMIF('2.cTë ardhura-jopublik-nënatyrë'!$G$19:$G$1015,'2.bTë ardhura-jopublik-monetare'!$G113,'2.cTë ardhura-jopublik-nënatyrë'!$H$19:$H$1015)","v":0}]
[null,null,null,null,null,null,null,null,null,{"$f":"SUMIF($G$19:$G$1015,$G114,$H$19:$H$1015)+SUMIF('2.cTë ardhura-jopublik-nënatyrë'!$G$19:$G$1015,'2.bTë ardhura-jopublik-monetare'!$G114,'2.cTë ardhura-jopublik-nënatyrë'!$H$19:$H$1015)","v":0}]
[null,null,null,null,null,null,null,null,null,{"$f":"SUMIF($G$19:$G$1015,$G115,$H$19:$H$1015)+SUMIF('2.cTë ardhura-jopublik-nënatyrë'!$G$19:$G$1015,'2.bTë ardhura-jopublik-monetare'!$G115,'2.cTë ardhura-jopublik-nënatyrë'!$H$19:$H$1015)","v":0}]
[null,null,null,null,null,null,null,null,null,{"$f":"SUMIF($G$19:$G$1015,$G116,$H$19:$H$1015)+SUMIF('2.cTë ardhura-jopublik-nënatyrë'!$G$19:$G$1015,'2.bTë ardhura-jopublik-monetare'!$G116,'2.cTë ardhura-jopublik-nënatyrë'!$H$19:$H$1015)","v":0}]
[null,null,null,null,null,null,null,null,null,{"$f":"SUMIF($G$19:$G$1015,$G117,$H$19:$H$1015)+SUMIF('2.cTë ardhura-jopublik-nënatyrë'!$G$19:$G$1015,'2.bTë ardhura-jopublik-monetare'!$G117,'2.cTë ardhura-jopublik-nënatyrë'!$H$19:$H$1015)","v":0}]
[null,null,null,null,null,null,null,null,null,{"$f":"SUMIF($G$19:$G$1015,$G118,$H$19:$H$1015)+SUMIF('2.cTë ardhura-jopublik-nënatyrë'!$G$19:$G$1015,'2.bTë ardhura-jopublik-monetare'!$G118,'2.cTë ardhura-jopublik-nënatyrë'!$H$19:$H$1015)","v":0}]
[null,null,null,null,null,null,null,null,null,{"$f":"SUMIF($G$19:$G$1015,$G119,$H$19:$H$1015)+SUMIF('2.cTë ardhura-jopublik-nënatyrë'!$G$19:$G$1015,'2.bTë ardhura-jopublik-monetare'!$G119,'2.cTë ardhura-jopublik-nënatyrë'!$H$19:$H$1015)","v":0}]
[null,null,null,null,null,null,null,null,null,{"$f":"SUMIF($G$19:$G$1015,$G120,$H$19:$H$1015)+SUMIF('2.cTë ardhura-jopublik-nënatyrë'!$G$19:$G$1015,'2.bTë ardhura-jopublik-monetare'!$G120,'2.cTë ardhura-jopublik-nënatyrë'!$H$19:$H$1015)","v":0}]
[null,null,null,null,null,null,null,null,null,{"$f":"SUMIF($G$19:$G$1015,$G121,$H$19:$H$1015)+SUMIF('2.cTë ardhura-jopublik-nënatyrë'!$G$19:$G$1015,'2.bTë ardhura-jopublik-monetare'!$G121,'2.cTë ardhura-jopublik-nënatyrë'!$H$19:$H$1015)","v":0}]
[null,null,null,null,null,null,null,null,null,{"$f":"SUMIF($G$19:$G$1015,$G122,$H$19:$H$1015)+SUMIF('2.cTë ardhura-jopublik-nënatyrë'!$G$19:$G$1015,'2.bTë ardhura-jopublik-monetare'!$G122,'2.cTë ardhura-jopublik-nënatyrë'!$H$19:$H$1015)","v":0}]
[null,null,null,null,null,null,null,null,null,{"$f":"SUMIF($G$19:$G$1015,$G123,$H$19:$H$1015)+SUMIF('2.cTë ardhura-jopublik-nënatyrë'!$G$19:$G$1015,'2.bTë ardhura-jopublik-monetare'!$G123,'2.cTë ardhura-jopublik-nënatyrë'!$H$19:$H$1015)","v":0}]
[null,null,null,null,null,null,null,null,null,{"$f":"SUMIF($G$19:$G$1015,$G124,$H$19:$H$1015)+SUMIF('2.cTë ardhura-jopublik-nënatyrë'!$G$19:$G$1015,'2.bTë ardhura-jopublik-monetare'!$G124,'2.cTë ardhura-jopublik-nënatyrë'!$H$19:$H$1015)","v":0}]
[null,null,null,null,null,null,null,null,null,{"$f":"SUMIF($G$19:$G$1015,$G125,$H$19:$H$1015)+SUMIF('2.cTë ardhura-jopublik-nënatyrë'!$G$19:$G$1015,'2.bTë ardhura-jopublik-monetare'!$G125,'2.cTë ardhura-jopublik-nënatyrë'!$H$19:$H$1015)","v":0}]
[null,null,null,null,null,null,null,null,null,{"$f":"SUMIF($G$19:$G$1015,$G126,$H$19:$H$1015)+SUMIF('2.cTë ardhura-jopublik-nënatyrë'!$G$19:$G$1015,'2.bTë ardhura-jopublik-monetare'!$G126,'2.cTë ardhura-jopublik-nënatyrë'!$H$19:$H$1015)","v":0}]
[null,null,null,null,null,null,null,null,null,{"$f":"SUMIF($G$19:$G$1015,$G127,$H$19:$H$1015)+SUMIF('2.cTë ardhura-jopublik-nënatyrë'!$G$19:$G$1015,'2.bTë ardhura-jopublik-monetare'!$G127,'2.cTë ardhura-jopublik-nënatyrë'!$H$19:$H$1015)","v":0}]
[null,null,null,null,null,null,null,null,null,{"$f":"SUMIF($G$19:$G$1015,$G128,$H$19:$H$1015)+SUMIF('2.cTë ardhura-jopublik-nënatyrë'!$G$19:$G$1015,'2.bTë ardhura-jopublik-monetare'!$G128,'2.cTë ardhura-jopublik-nënatyrë'!$H$19:$H$1015)","v":0}]
[null,null,null,null,null,null,null,null,null,{"$f":"SUMIF($G$19:$G$1015,$G129,$H$19:$H$1015)+SUMIF('2.cTë ardhura-jopublik-nënatyrë'!$G$19:$G$1015,'2.bTë ardhura-jopublik-monetare'!$G129,'2.cTë ardhura-jopublik-nënatyrë'!$H$19:$H$1015)","v":0}]
[null,null,null,null,null,null,null,null,null,{"$f":"SUMIF($G$19:$G$1015,$G130,$H$19:$H$1015)+SUMIF('2.cTë ardhura-jopublik-nënatyrë'!$G$19:$G$1015,'2.bTë ardhura-jopublik-monetare'!$G130,'2.cTë ardhura-jopublik-nënatyrë'!$H$19:$H$1015)","v":0}]
[null,null,null,null,null,null,null,null,null,{"$f":"SUMIF($G$19:$G$1015,$G131,$H$19:$H$1015)+SUMIF('2.cTë ardhura-jopublik-nënatyrë'!$G$19:$G$1015,'2.bTë ardhura-jopublik-monetare'!$G131,'2.cTë ardhura-jopublik-nënatyrë'!$H$19:$H$1015)","v":0}]
[null,null,null,null,null,null,null,null,null,{"$f":"SUMIF($G$19:$G$1015,$G132,$H$19:$H$1015)+SUMIF('2.cTë ardhura-jopublik-nënatyrë'!$G$19:$G$1015,'2.bTë ardhura-jopublik-monetare'!$G132,'2.cTë ardhura-jopublik-nënatyrë'!$H$19:$H$1015)","v":0}]
[null,null,null,null,null,null,null,null,null,{"$f":"SUMIF($G$19:$G$1015,$G133,$H$19:$H$1015)+SUMIF('2.cTë ardhura-jopublik-nënatyrë'!$G$19:$G$1015,'2.bTë ardhura-jopublik-monetare'!$G133,'2.cTë ardhura-jopublik-nënatyrë'!$H$19:$H$1015)","v":0}]
[null,null,null,null,null,null,null,null,null,{"$f":"SUMIF($G$19:$G$1015,$G134,$H$19:$H$1015)+SUMIF('2.cTë ardhura-jopublik-nënatyrë'!$G$19:$G$1015,'2.bTë ardhura-jopublik-monetare'!$G134,'2.cTë ardhura-jopublik-nënatyrë'!$H$19:$H$1015)","v":0}]
[null,null,null,null,null,null,null,null,null,{"$f":"SUMIF($G$19:$G$1015,$G135,$H$19:$H$1015)+SUMIF('2.cTë ardhura-jopublik-nënatyrë'!$G$19:$G$1015,'2.bTë ardhura-jopublik-monetare'!$G135,'2.cTë ardhura-jopublik-nënatyrë'!$H$19:$H$1015)","v":0}]
[null,null,null,null,null,null,null,null,null,{"$f":"SUMIF($G$19:$G$1015,$G136,$H$19:$H$1015)+SUMIF('2.cTë ardhura-jopublik-nënatyrë'!$G$19:$G$1015,'2.bTë ardhura-jopublik-monetare'!$G136,'2.cTë ardhura-jopublik-nënatyrë'!$H$19:$H$1015)","v":0}]
[null,null,null,null,null,null,null,null,null,{"$f":"SUMIF($G$19:$G$1015,$G137,$H$19:$H$1015)+SUMIF('2.cTë ardhura-jopublik-nënatyrë'!$G$19:$G$1015,'2.bTë ardhura-jopublik-monetare'!$G137,'2.cTë ardhura-jopublik-nënatyrë'!$H$19:$H$1015)","v":0}]
[null,null,null,null,null,null,null,null,null,{"$f":"SUMIF($G$19:$G$1015,$G138,$H$19:$H$1015)+SUMIF('2.cTë ardhura-jopublik-nënatyrë'!$G$19:$G$1015,'2.bTë ardhura-jopublik-monetare'!$G138,'2.cTë ardhura-jopublik-nënatyrë'!$H$19:$H$1015)","v":0}]
[null,null,null,null,null,null,null,null,null,{"$f":"SUMIF($G$19:$G$1015,$G139,$H$19:$H$1015)+SUMIF('2.cTë ardhura-jopublik-nënatyrë'!$G$19:$G$1015,'2.bTë ardhura-jopublik-monetare'!$G139,'2.cTë ardhura-jopublik-nënatyrë'!$H$19:$H$1015)","v":0}]
[null,null,null,null,null,null,null,null,null,{"$f":"SUMIF($G$19:$G$1015,$G140,$H$19:$H$1015)+SUMIF('2.cTë ardhura-jopublik-nënatyrë'!$G$19:$G$1015,'2.bTë ardhura-jopublik-monetare'!$G140,'2.cTë ardhura-jopublik-nënatyrë'!$H$19:$H$1015)","v":0}]
[null,null,null,null,null,null,null,null,null,{"$f":"SUMIF($G$19:$G$1015,$G141,$H$19:$H$1015)+SUMIF('2.cTë ardhura-jopublik-nënatyrë'!$G$19:$G$1015,'2.bTë ardhura-jopublik-monetare'!$G141,'2.cTë ardhura-jopublik-nënatyrë'!$H$19:$H$1015)","v":0}]
[null,null,null,null,null,null,null,null,null,{"$f":"SUMIF($G$19:$G$1015,$G142,$H$19:$H$1015)+SUMIF('2.cTë ardhura-jopublik-nënatyrë'!$G$19:$G$1015,'2.bTë ardhura-jopublik-monetare'!$G142,'2.cTë ardhura-jopublik-nënatyrë'!$H$19:$H$1015)","v":0}]
[null,null,null,null,null,null,null,null,null,{"$f":"SUMIF($G$19:$G$1015,$G143,$H$19:$H$1015)+SUMIF('2.cTë ardhura-jopublik-nënatyrë'!$G$19:$G$1015,'2.bTë ardhura-jopublik-monetare'!$G143,'2.cTë ardhura-jopublik-nënatyrë'!$H$19:$H$1015)","v":0}]
[null,null,null,null,null,null,null,null,null,{"$f":"SUMIF($G$19:$G$1015,$G144,$H$19:$H$1015)+SUMIF('2.cTë ardhura-jopublik-nënatyrë'!$G$19:$G$1015,'2.bTë ardhura-jopublik-monetare'!$G144,'2.cTë ardhura-jopublik-nënatyrë'!$H$19:$H$1015)","v":0}]
[null,null,null,null,null,null,null,null,null,{"$f":"SUMIF($G$19:$G$1015,$G145,$H$19:$H$1015)+SUMIF('2.cTë ardhura-jopublik-nënatyrë'!$G$19:$G$1015,'2.bTë ardhura-jopublik-monetare'!$G145,'2.cTë ardhura-jopublik-nënatyrë'!$H$19:$H$1015)","v":0}]
[null,null,null,null,null,null,null,null,null,{"$f":"SUMIF($G$19:$G$1015,$G146,$H$19:$H$1015)+SUMIF('2.cTë ardhura-jopublik-nënatyrë'!$G$19:$G$1015,'2.bTë ardhura-jopublik-monetare'!$G146,'2.cTë ardhura-jopublik-nënatyrë'!$H$19:$H$1015)","v":0}]
[null,null,null,null,null,null,null,null,null,{"$f":"SUMIF($G$19:$G$1015,$G147,$H$19:$H$1015)+SUMIF('2.cTë ardhura-jopublik-nënatyrë'!$G$19:$G$1015,'2.bTë ardhura-jopublik-monetare'!$G147,'2.cTë ardhura-jopublik-nënatyrë'!$H$19:$H$1015)","v":0}]
[null,null,null,null,null,null,null,null,null,{"$f":"SUMIF($G$19:$G$1015,$G148,$H$19:$H$1015)+SUMIF('2.cTë ardhura-jopublik-nënatyrë'!$G$19:$G$1015,'2.bTë ardhura-jopublik-monetare'!$G148,'2.cTë ardhura-jopublik-nënatyrë'!$H$19:$H$1015)","v":0}]
[null,null,null,null,null,null,null,null,null,{"$f":"SUMIF($G$19:$G$1015,$G149,$H$19:$H$1015)+SUMIF('2.cTë ardhura-jopublik-nënatyrë'!$G$19:$G$1015,'2.bTë ardhura-jopublik-monetare'!$G149,'2.cTë ardhura-jopublik-nënatyrë'!$H$19:$H$1015)","v":0}]
[null,null,null,null,null,null,null,null,null,{"$f":"SUMIF($G$19:$G$1015,$G150,$H$19:$H$1015)+SUMIF('2.cTë ardhura-jopublik-nënatyrë'!$G$19:$G$1015,'2.bTë ardhura-jopublik-monetare'!$G150,'2.cTë ardhura-jopublik-nënatyrë'!$H$19:$H$1015)","v":0}]
[null,null,null,null,null,null,null,null,null,{"$f":"SUMIF($G$19:$G$1015,$G151,$H$19:$H$1015)+SUMIF('2.cTë ardhura-jopublik-nënatyrë'!$G$19:$G$1015,'2.bTë ardhura-jopublik-monetare'!$G151,'2.cTë ardhura-jopublik-nënatyrë'!$H$19:$H$1015)","v":0}]
[null,null,null,null,null,null,null,null,null,{"$f":"SUMIF($G$19:$G$1015,$G152,$H$19:$H$1015)+SUMIF('2.cTë ardhura-jopublik-nënatyrë'!$G$19:$G$1015,'2.bTë ardhura-jopublik-monetare'!$G152,'2.cTë ardhura-jopublik-nënatyrë'!$H$19:$H$1015)","v":0}]
[null,null,null,null,null,null,null,null,null,{"$f":"SUMIF($G$19:$G$1015,$G153,$H$19:$H$1015)+SUMIF('2.cTë ardhura-jopublik-nënatyrë'!$G$19:$G$1015,'2.bTë ardhura-jopublik-monetare'!$G153,'2.cTë ardhura-jopublik-nënatyrë'!$H$19:$H$1015)","v":0}]
[null,null,null,null,null,null,null,null,null,{"$f":"SUMIF($G$19:$G$1015,$G154,$H$19:$H$1015)+SUMIF('2.cTë ardhura-jopublik-nënatyrë'!$G$19:$G$1015,'2.bTë ardhura-jopublik-monetare'!$G154,'2.cTë ardhura-jopublik-nënatyrë'!$H$19:$H$1015)","v":0}]
[null,null,null,null,null,null,null,null,null,{"$f":"SUMIF($G$19:$G$1015,$G155,$H$19:$H$1015)+SUMIF('2.cTë ardhura-jopublik-nënatyrë'!$G$19:$G$1015,'2.bTë ardhura-jopublik-monetare'!$G155,'2.cTë ardhura-jopublik-nënatyrë'!$H$19:$H$1015)","v":0}]
[null,null,null,null,null,null,null,null,null,{"$f":"SUMIF($G$19:$G$1015,$G156,$H$19:$H$1015)+SUMIF('2.cTë ardhura-jopublik-nënatyrë'!$G$19:$G$1015,'2.bTë ardhura-jopublik-monetare'!$G156,'2.cTë ardhura-jopublik-nënatyrë'!$H$19:$H$1015)","v":0}]
[null,null,null,null,null,null,null,null,null,{"$f":"SUMIF($G$19:$G$1015,$G157,$H$19:$H$1015)+SUMIF('2.cTë ardhura-jopublik-nënatyrë'!$G$19:$G$1015,'2.bTë ardhura-jopublik-monetare'!$G157,'2.cTë ardhura-jopublik-nënatyrë'!$H$19:$H$1015)","v":0}]
[null,null,null,null,null,null,null,null,null,{"$f":"SUMIF($G$19:$G$1015,$G158,$H$19:$H$1015)+SUMIF('2.cTë ardhura-jopublik-nënatyrë'!$G$19:$G$1015,'2.bTë ardhura-jopublik-monetare'!$G158,'2.cTë ardhura-jopublik-nënatyrë'!$H$19:$H$1015)","v":0}]
[null,null,null,null,null,null,null,null,null,{"$f":"SUMIF($G$19:$G$1015,$G159,$H$19:$H$1015)+SUMIF('2.cTë ardhura-jopublik-nënatyrë'!$G$19:$G$1015,'2.bTë ardhura-jopublik-monetare'!$G159,'2.cTë ardhura-jopublik-nënatyrë'!$H$19:$H$1015)","v":0}]
[null,null,null,null,null,null,null,null,null,{"$f":"SUMIF($G$19:$G$1015,$G160,$H$19:$H$1015)+SUMIF('2.cTë ardhura-jopublik-nënatyrë'!$G$19:$G$1015,'2.bTë ardhura-jopublik-monetare'!$G160,'2.cTë ardhura-jopublik-nënatyrë'!$H$19:$H$1015)","v":0}]
[null,null,null,null,null,null,null,null,null,{"$f":"SUMIF($G$19:$G$1015,$G161,$H$19:$H$1015)+SUMIF('2.cTë ardhura-jopublik-nënatyrë'!$G$19:$G$1015,'2.bTë ardhura-jopublik-monetare'!$G161,'2.cTë ardhura-jopublik-nënatyrë'!$H$19:$H$1015)","v":0}]
[null,null,null,null,null,null,null,null,null,{"$f":"SUMIF($G$19:$G$1015,$G162,$H$19:$H$1015)+SUMIF('2.cTë ardhura-jopublik-nënatyrë'!$G$19:$G$1015,'2.bTë ardhura-jopublik-monetare'!$G162,'2.cTë ardhura-jopublik-nënatyrë'!$H$19:$H$1015)","v":0}]
[null,null,null,null,null,null,null,null,null,{"$f":"SUMIF($G$19:$G$1015,$G163,$H$19:$H$1015)+SUMIF('2.cTë ardhura-jopublik-nënatyrë'!$G$19:$G$1015,'2.bTë ardhura-jopublik-monetare'!$G163,'2.cTë ardhura-jopublik-nënatyrë'!$H$19:$H$1015)","v":0}]
[null,null,null,null,null,null,null,null,null,{"$f":"SUMIF($G$19:$G$1015,$G164,$H$19:$H$1015)+SUMIF('2.cTë ardhura-jopublik-nënatyrë'!$G$19:$G$1015,'2.bTë ardhura-jopublik-monetare'!$G164,'2.cTë ardhura-jopublik-nënatyrë'!$H$19:$H$1015)","v":0}]
[null,null,null,null,null,null,null,null,null,{"$f":"SUMIF($G$19:$G$1015,$G165,$H$19:$H$1015)+SUMIF('2.cTë ardhura-jopublik-nënatyrë'!$G$19:$G$1015,'2.bTë ardhura-jopublik-monetare'!$G165,'2.cTë ardhura-jopublik-nënatyrë'!$H$19:$H$1015)","v":0}]
[null,null,null,null,null,null,null,null,null,{"$f":"SUMIF($G$19:$G$1015,$G166,$H$19:$H$1015)+SUMIF('2.cTë ardhura-jopublik-nënatyrë'!$G$19:$G$1015,'2.bTë ardhura-jopublik-monetare'!$G166,'2.cTë ardhura-jopublik-nënatyrë'!$H$19:$H$1015)","v":0}]
[null,null,null,null,null,null,null,null,null,{"$f":"SUMIF($G$19:$G$1015,$G167,$H$19:$H$1015)+SUMIF('2.cTë ardhura-jopublik-nënatyrë'!$G$19:$G$1015,'2.bTë ardhura-jopublik-monetare'!$G167,'2.cTë ardhura-jopublik-nënatyrë'!$H$19:$H$1015)","v":0}]
[null,null,null,null,null,null,null,null,null,{"$f":"SUMIF($G$19:$G$1015,$G168,$H$19:$H$1015)+SUMIF('2.cTë ardhura-jopublik-nënatyrë'!$G$19:$G$1015,'2.bTë ardhura-jopublik-monetare'!$G168,'2.cTë ardhura-jopublik-nënatyrë'!$H$19:$H$1015)","v":0}]
[null,null,null,null,null,null,null,null,null,{"$f":"SUMIF($G$19:$G$1015,$G169,$H$19:$H$1015)+SUMIF('2.cTë ardhura-jopublik-nënatyrë'!$G$19:$G$1015,'2.bTë ardhura-jopublik-monetare'!$G169,'2.cTë ardhura-jopublik-nënatyrë'!$H$19:$H$1015)","v":0}]
[null,null,null,null,null,null,null,null,null,{"$f":"SUMIF($G$19:$G$1015,$G170,$H$19:$H$1015)+SUMIF('2.cTë ardhura-jopublik-nënatyrë'!$G$19:$G$1015,'2.bTë ardhura-jopublik-monetare'!$G170,'2.cTë ardhura-jopublik-nënatyrë'!$H$19:$H$1015)","v":0}]
[null,null,null,null,null,null,null,null,null,{"$f":"SUMIF($G$19:$G$1015,$G171,$H$19:$H$1015)+SUMIF('2.cTë ardhura-jopublik-nënatyrë'!$G$19:$G$1015,'2.bTë ardhura-jopublik-monetare'!$G171,'2.cTë ardhura-jopublik-nënatyrë'!$H$19:$H$1015)","v":0}]
[null,null,null,null,null,null,null,null,null,{"$f":"SUMIF($G$19:$G$1015,$G172,$H$19:$H$1015)+SUMIF('2.cTë ardhura-jopublik-nënatyrë'!$G$19:$G$1015,'2.bTë ardhura-jopublik-monetare'!$G172,'2.cTë ardhura-jopublik-nënatyrë'!$H$19:$H$1015)","v":0}]
[null,null,null,null,null,null,null,null,null,{"$f":"SUMIF($G$19:$G$1015,$G173,$H$19:$H$1015)+SUMIF('2.cTë ardhura-jopublik-nënatyrë'!$G$19:$G$1015,'2.bTë ardhura-jopublik-monetare'!$G173,'2.cTë ardhura-jopublik-nënatyrë'!$H$19:$H$1015)","v":0}]
[null,null,null,null,null,null,null,null,null,{"$f":"SUMIF($G$19:$G$1015,$G174,$H$19:$H$1015)+SUMIF('2.cTë ardhura-jopublik-nënatyrë'!$G$19:$G$1015,'2.bTë ardhura-jopublik-monetare'!$G174,'2.cTë ardhura-jopublik-nënatyrë'!$H$19:$H$1015)","v":0}]
[null,null,null,null,null,null,null,null,null,{"$f":"SUMIF($G$19:$G$1015,$G175,$H$19:$H$1015)+SUMIF('2.cTë ardhura-jopublik-nënatyrë'!$G$19:$G$1015,'2.bTë ardhura-jopublik-monetare'!$G175,'2.cTë ardhura-jopublik-nënatyrë'!$H$19:$H$1015)","v":0}]
[null,null,null,null,null,null,null,null,null,{"$f":"SUMIF($G$19:$G$1015,$G176,$H$19:$H$1015)+SUMIF('2.cTë ardhura-jopublik-nënatyrë'!$G$19:$G$1015,'2.bTë ardhura-jopublik-monetare'!$G176,'2.cTë ardhura-jopublik-nënatyrë'!$H$19:$H$1015)","v":0}]
[null,null,null,null,null,null,null,null,null,{"$f":"SUMIF($G$19:$G$1015,$G177,$H$19:$H$1015)+SUMIF('2.cTë ardhura-jopublik-nënatyrë'!$G$19:$G$1015,'2.bTë ardhura-jopublik-monetare'!$G177,'2.cTë ardhura-jopublik-nënatyrë'!$H$19:$H$1015)","v":0}]
[null,null,null,null,null,null,null,null,null,{"$f":"SUMIF($G$19:$G$1015,$G178,$H$19:$H$1015)+SUMIF('2.cTë ardhura-jopublik-nënatyrë'!$G$19:$G$1015,'2.bTë ardhura-jopublik-monetare'!$G178,'2.cTë ardhura-jopublik-nënatyrë'!$H$19:$H$1015)","v":0}]
[null,null,null,null,null,null,null,null,null,{"$f":"SUMIF($G$19:$G$1015,$G179,$H$19:$H$1015)+SUMIF('2.cTë ardhura-jopublik-nënatyrë'!$G$19:$G$1015,'2.bTë ardhura-jopublik-monetare'!$G179,'2.cTë ardhura-jopublik-nënatyrë'!$H$19:$H$1015)","v":0}]
[null,null,null,null,null,null,null,null,null,{"$f":"SUMIF($G$19:$G$1015,$G180,$H$19:$H$1015)+SUMIF('2.cTë ardhura-jopublik-nënatyrë'!$G$19:$G$1015,'2.bTë ardhura-jopublik-monetare'!$G180,'2.cTë ardhura-jopublik-nënatyrë'!$H$19:$H$1015)","v":0}]
[null,null,null,null,null,null,null,null,null,{"$f":"SUMIF($G$19:$G$1015,$G181,$H$19:$H$1015)+SUMIF('2.cTë ardhura-jopublik-nënatyrë'!$G$19:$G$1015,'2.bTë ardhura-jopublik-monetare'!$G181,'2.cTë ardhura-jopublik-nënatyrë'!$H$19:$H$1015)","v":0}]
[null,null,null,null,null,null,null,null,null,{"$f":"SUMIF($G$19:$G$1015,$G182,$H$19:$H$1015)+SUMIF('2.cTë ardhura-jopublik-nënatyrë'!$G$19:$G$1015,'2.bTë ardhura-jopublik-monetare'!$G182,'2.cTë ardhura-jopublik-nënatyrë'!$H$19:$H$1015)","v":0}]
[null,null,null,null,null,null,null,null,null,{"$f":"SUMIF($G$19:$G$1015,$G183,$H$19:$H$1015)+SUMIF('2.cTë ardhura-jopublik-nënatyrë'!$G$19:$G$1015,'2.bTë ardhura-jopublik-monetare'!$G183,'2.cTë ardhura-jopublik-nënatyrë'!$H$19:$H$1015)","v":0}]
[null,null,null,null,null,null,null,null,null,{"$f":"SUMIF($G$19:$G$1015,$G184,$H$19:$H$1015)+SUMIF('2.cTë ardhura-jopublik-nënatyrë'!$G$19:$G$1015,'2.bTë ardhura-jopublik-monetare'!$G184,'2.cTë ardhura-jopublik-nënatyrë'!$H$19:$H$1015)","v":0}]
[null,null,null,null,null,null,null,null,null,{"$f":"SUMIF($G$19:$G$1015,$G185,$H$19:$H$1015)+SUMIF('2.cTë ardhura-jopublik-nënatyrë'!$G$19:$G$1015,'2.bTë ardhura-jopublik-monetare'!$G185,'2.cTë ardhura-jopublik-nënatyrë'!$H$19:$H$1015)","v":0}]
[null,null,null,null,null,null,null,null,null,{"$f":"SUMIF($G$19:$G$1015,$G186,$H$19:$H$1015)+SUMIF('2.cTë ardhura-jopublik-nënatyrë'!$G$19:$G$1015,'2.bTë ardhura-jopublik-monetare'!$G186,'2.cTë ardhura-jopublik-nënatyrë'!$H$19:$H$1015)","v":0}]
[null,null,null,null,null,null,null,null,null,{"$f":"SUMIF($G$19:$G$1015,$G187,$H$19:$H$1015)+SUMIF('2.cTë ardhura-jopublik-nënatyrë'!$G$19:$G$1015,'2.bTë ardhura-jopublik-monetare'!$G187,'2.cTë ardhura-jopublik-nënatyrë'!$H$19:$H$1015)","v":0}]
[null,null,null,null,null,null,null,null,null,{"$f":"SUMIF($G$19:$G$1015,$G188,$H$19:$H$1015)+SUMIF('2.cTë ardhura-jopublik-nënatyrë'!$G$19:$G$1015,'2.bTë ardhura-jopublik-monetare'!$G188,'2.cTë ardhura-jopublik-nënatyrë'!$H$19:$H$1015)","v":0}]
[null,null,null,null,null,null,null,null,null,{"$f":"SUMIF($G$19:$G$1015,$G189,$H$19:$H$1015)+SUMIF('2.cTë ardhura-jopublik-nënatyrë'!$G$19:$G$1015,'2.bTë ardhura-jopublik-monetare'!$G189,'2.cTë ardhura-jopublik-nënatyrë'!$H$19:$H$1015)","v":0}]
[null,null,null,null,null,null,null,null,null,{"$f":"SUMIF($G$19:$G$1015,$G190,$H$19:$H$1015)+SUMIF('2.cTë ardhura-jopublik-nënatyrë'!$G$19:$G$1015,'2.bTë ardhura-jopublik-monetare'!$G190,'2.cTë ardhura-jopublik-nënatyrë'!$H$19:$H$1015)","v":0}]
[null,null,null,null,null,null,null,null,null,{"$f":"SUMIF($G$19:$G$1015,$G191,$H$19:$H$1015)+SUMIF('2.cTë ardhura-jopublik-nënatyrë'!$G$19:$G$1015,'2.bTë ardhura-jopublik-monetare'!$G191,'2.cTë ardhura-jopublik-nënatyrë'!$H$19:$H$1015)","v":0}]
[null,null,null,null,null,null,null,null,null,{"$f":"SUMIF($G$19:$G$1015,$G192,$H$19:$H$1015)+SUMIF('2.cTë ardhura-jopublik-nënatyrë'!$G$19:$G$1015,'2.bTë ardhura-jopublik-monetare'!$G192,'2.cTë ardhura-jopublik-nënatyrë'!$H$19:$H$1015)","v":0}]
[null,null,null,null,null,null,null,null,null,{"$f":"SUMIF($G$19:$G$1015,$G193,$H$19:$H$1015)+SUMIF('2.cTë ardhura-jopublik-nënatyrë'!$G$19:$G$1015,'2.bTë ardhura-jopublik-monetare'!$G193,'2.cTë ardhura-jopublik-nënatyrë'!$H$19:$H$1015)","v":0}]
[null,null,null,null,null,null,null,null,null,{"$f":"SUMIF($G$19:$G$1015,$G194,$H$19:$H$1015)+SUMIF('2.cTë ardhura-jopublik-nënatyrë'!$G$19:$G$1015,'2.bTë ardhura-jopublik-monetare'!$G194,'2.cTë ardhura-jopublik-nënatyrë'!$H$19:$H$1015)","v":0}]
[null,null,null,null,null,null,null,null,null,{"$f":"SUMIF($G$19:$G$1015,$G195,$H$19:$H$1015)+SUMIF('2.cTë ardhura-jopublik-nënatyrë'!$G$19:$G$1015,'2.bTë ardhura-jopublik-monetare'!$G195,'2.cTë ardhura-jopublik-nënatyrë'!$H$19:$H$1015)","v":0}]
[null,null,null,null,null,null,null,null,null,{"$f":"SUMIF($G$19:$G$1015,$G196,$H$19:$H$1015)+SUMIF('2.cTë ardhura-jopublik-nënatyrë'!$G$19:$G$1015,'2.bTë ardhura-jopublik-monetare'!$G196,'2.cTë ardhura-jopublik-nënatyrë'!$H$19:$H$1015)","v":0}]
[null,null,null,null,null,null,null,null,null,{"$f":"SUMIF($G$19:$G$1015,$G197,$H$19:$H$1015)+SUMIF('2.cTë ardhura-jopublik-nënatyrë'!$G$19:$G$1015,'2.bTë ardhura-jopublik-monetare'!$G197,'2.cTë ardhura-jopublik-nënatyrë'!$H$19:$H$1015)","v":0}]
[null,null,null,null,null,null,null,null,null,{"$f":"SUMIF($G$19:$G$1015,$G198,$H$19:$H$1015)+SUMIF('2.cTë ardhura-jopublik-nënatyrë'!$G$19:$G$1015,'2.bTë ardhura-jopublik-monetare'!$G198,'2.cTë ardhura-jopublik-nënatyrë'!$H$19:$H$1015)","v":0}]
[null,null,null,null,null,null,null,null,null,{"$f":"SUMIF($G$19:$G$1015,$G199,$H$19:$H$1015)+SUMIF('2.cTë ardhura-jopublik-nënatyrë'!$G$19:$G$1015,'2.bTë ardhura-jopublik-monetare'!$G199,'2.cTë ardhura-jopublik-nënatyrë'!$H$19:$H$1015)","v":0}]
[null,null,null,null,null,null,null,null,null,{"$f":"SUMIF($G$19:$G$1015,$G200,$H$19:$H$1015)+SUMIF('2.cTë ardhura-jopublik-nënatyrë'!$G$19:$G$1015,'2.bTë ardhura-jopublik-monetare'!$G200,'2.cTë ardhura-jopublik-nënatyrë'!$H$19:$H$1015)","v":0}]
[null,null,null,null,null,null,null,null,null,{"$f":"SUMIF($G$19:$G$1015,$G201,$H$19:$H$1015)+SUMIF('2.cTë ardhura-jopublik-nënatyrë'!$G$19:$G$1015,'2.bTë ardhura-jopublik-monetare'!$G201,'2.cTë ardhura-jopublik-nënatyrë'!$H$19:$H$1015)","v":0}]
[null,null,null,null,null,null,null,null,null,{"$f":"SUMIF($G$19:$G$1015,$G202,$H$19:$H$1015)+SUMIF('2.cTë ardhura-jopublik-nënatyrë'!$G$19:$G$1015,'2.bTë ardhura-jopublik-monetare'!$G202,'2.cTë ardhura-jopublik-nënatyrë'!$H$19:$H$1015)","v":0}]
[null,null,null,null,null,null,null,null,null,{"$f":"SUMIF($G$19:$G$1015,$G203,$H$19:$H$1015)+SUMIF('2.cTë ardhura-jopublik-nënatyrë'!$G$19:$G$1015,'2.bTë ardhura-jopublik-monetare'!$G203,'2.cTë ardhura-jopublik-nënatyrë'!$H$19:$H$1015)","v":0}]
[null,null,null,null,null,null,null,null,null,{"$f":"SUMIF($G$19:$G$1015,$G204,$H$19:$H$1015)+SUMIF('2.cTë ardhura-jopublik-nënatyrë'!$G$19:$G$1015,'2.bTë ardhura-jopublik-monetare'!$G204,'2.cTë ardhura-jopublik-nënatyrë'!$H$19:$H$1015)","v":0}]
[null,null,null,null,null,null,null,null,null,{"$f":"SUMIF($G$19:$G$1015,$G205,$H$19:$H$1015)+SUMIF('2.cTë ardhura-jopublik-nënatyrë'!$G$19:$G$1015,'2.bTë ardhura-jopublik-monetare'!$G205,'2.cTë ardhura-jopublik-nënatyrë'!$H$19:$H$1015)","v":0}]
[null,null,null,null,null,null,null,null,null,{"$f":"SUMIF($G$19:$G$1015,$G206,$H$19:$H$1015)+SUMIF('2.cTë ardhura-jopublik-nënatyrë'!$G$19:$G$1015,'2.bTë ardhura-jopublik-monetare'!$G206,'2.cTë ardhura-jopublik-nënatyrë'!$H$19:$H$1015)","v":0}]
[null,null,null,null,null,null,null,null,null,{"$f":"SUMIF($G$19:$G$1015,$G207,$H$19:$H$1015)+SUMIF('2.cTë ardhura-jopublik-nënatyrë'!$G$19:$G$1015,'2.bTë ardhura-jopublik-monetare'!$G207,'2.cTë ardhura-jopublik-nënatyrë'!$H$19:$H$1015)","v":0}]
[null,null,null,null,null,null,null,null,null,{"$f":"SUMIF($G$19:$G$1015,$G208,$H$19:$H$1015)+SUMIF('2.cTë ardhura-jopublik-nënatyrë'!$G$19:$G$1015,'2.bTë ardhura-jopublik-monetare'!$G208,'2.cTë ardhura-jopublik-nënatyrë'!$H$19:$H$1015)","v":0}]
[null,null,null,null,null,null,null,null,null,{"$f":"SUMIF($G$19:$G$1015,$G209,$H$19:$H$1015)+SUMIF('2.cTë ardhura-jopublik-nënatyrë'!$G$19:$G$1015,'2.bTë ardhura-jopublik-monetare'!$G209,'2.cTë ardhura-jopublik-nënatyrë'!$H$19:$H$1015)","v":0}]
[null,null,null,null,null,null,null,null,null,{"$f":"SUMIF($G$19:$G$1015,$G210,$H$19:$H$1015)+SUMIF('2.cTë ardhura-jopublik-nënatyrë'!$G$19:$G$1015,'2.bTë ardhura-jopublik-monetare'!$G210,'2.cTë ardhura-jopublik-nënatyrë'!$H$19:$H$1015)","v":0}]
[null,null,null,null,null,null,null,null,null,{"$f":"SUMIF($G$19:$G$1015,$G211,$H$19:$H$1015)+SUMIF('2.cTë ardhura-jopublik-nënatyrë'!$G$19:$G$1015,'2.bTë ardhura-jopublik-monetare'!$G211,'2.cTë ardhura-jopublik-nënatyrë'!$H$19:$H$1015)","v":0}]
[null,null,null,null,null,null,null,null,null,{"$f":"SUMIF($G$19:$G$1015,$G212,$H$19:$H$1015)+SUMIF('2.cTë ardhura-jopublik-nënatyrë'!$G$19:$G$1015,'2.bTë ardhura-jopublik-monetare'!$G212,'2.cTë ardhura-jopublik-nënatyrë'!$H$19:$H$1015)","v":0}]
[null,null,null,null,null,null,null,null,null,{"$f":"SUMIF($G$19:$G$1015,$G213,$H$19:$H$1015)+SUMIF('2.cTë ardhura-jopublik-nënatyrë'!$G$19:$G$1015,'2.bTë ardhura-jopublik-monetare'!$G213,'2.cTë ardhura-jopublik-nënatyrë'!$H$19:$H$1015)","v":0}]
[null,null,null,null,null,null,null,null,null,{"$f":"SUMIF($G$19:$G$1015,$G214,$H$19:$H$1015)+SUMIF('2.cTë ardhura-jopublik-nënatyrë'!$G$19:$G$1015,'2.bTë ardhura-jopublik-monetare'!$G214,'2.cTë ardhura-jopublik-nënatyrë'!$H$19:$H$1015)","v":0}]
[null,null,null,null,null,null,null,null,null,{"$f":"SUMIF($G$19:$G$1015,$G215,$H$19:$H$1015)+SUMIF('2.cTë ardhura-jopublik-nënatyrë'!$G$19:$G$1015,'2.bTë ardhura-jopublik-monetare'!$G215,'2.cTë ardhura-jopublik-nënatyrë'!$H$19:$H$1015)","v":0}]
[null,null,null,null,null,null,null,null,null,{"$f":"SUMIF($G$19:$G$1015,$G216,$H$19:$H$1015)+SUMIF('2.cTë ardhura-jopublik-nënatyrë'!$G$19:$G$1015,'2.bTë ardhura-jopublik-monetare'!$G216,'2.cTë ardhura-jopublik-nënatyrë'!$H$19:$H$1015)","v":0}]
[null,null,null,null,null,null,null,null,null,{"$f":"SUMIF($G$19:$G$1015,$G217,$H$19:$H$1015)+SUMIF('2.cTë ardhura-jopublik-nënatyrë'!$G$19:$G$1015,'2.bTë ardhura-jopublik-monetare'!$G217,'2.cTë ardhura-jopublik-nënatyrë'!$H$19:$H$1015)","v":0}]
[null,null,null,null,null,null,null,null,null,{"$f":"SUMIF($G$19:$G$1015,$G218,$H$19:$H$1015)+SUMIF('2.cTë ardhura-jopublik-nënatyrë'!$G$19:$G$1015,'2.bTë ardhura-jopublik-monetare'!$G218,'2.cTë ardhura-jopublik-nënatyrë'!$H$19:$H$1015)","v":0}]
[null,null,null,null,null,null,null,null,null,{"$f":"SUMIF($G$19:$G$1015,$G219,$H$19:$H$1015)+SUMIF('2.cTë ardhura-jopublik-nënatyrë'!$G$19:$G$1015,'2.bTë ardhura-jopublik-monetare'!$G219,'2.cTë ardhura-jopublik-nënatyrë'!$H$19:$H$1015)","v":0}]
[null,null,null,null,null,null,null,null,null,{"$f":"SUMIF($G$19:$G$1015,$G220,$H$19:$H$1015)+SUMIF('2.cTë ardhura-jopublik-nënatyrë'!$G$19:$G$1015,'2.bTë ardhura-jopublik-monetare'!$G220,'2.cTë ardhura-jopublik-nënatyrë'!$H$19:$H$1015)","v":0}]
[null,null,null,null,null,null,null,null,null,{"$f":"SUMIF($G$19:$G$1015,$G221,$H$19:$H$1015)+SUMIF('2.cTë ardhura-jopublik-nënatyrë'!$G$19:$G$1015,'2.bTë ardhura-jopublik-monetare'!$G221,'2.cTë ardhura-jopublik-nënatyrë'!$H$19:$H$1015)","v":0}]
[null,null,null,null,null,null,null,null,null,{"$f":"SUMIF($G$19:$G$1015,$G222,$H$19:$H$1015)+SUMIF('2.cTë ardhura-jopublik-nënatyrë'!$G$19:$G$1015,'2.bTë ardhura-jopublik-monetare'!$G222,'2.cTë ardhura-jopublik-nënatyrë'!$H$19:$H$1015)","v":0}]
[null,null,null,null,null,null,null,null,null,{"$f":"SUMIF($G$19:$G$1015,$G223,$H$19:$H$1015)+SUMIF('2.cTë ardhura-jopublik-nënatyrë'!$G$19:$G$1015,'2.bTë ardhura-jopublik-monetare'!$G223,'2.cTë ardhura-jopublik-nënatyrë'!$H$19:$H$1015)","v":0}]
[null,null,null,null,null,null,null,null,null,{"$f":"SUMIF($G$19:$G$1015,$G224,$H$19:$H$1015)+SUMIF('2.cTë ardhura-jopublik-nënatyrë'!$G$19:$G$1015,'2.bTë ardhura-jopublik-monetare'!$G224,'2.cTë ardhura-jopublik-nënatyrë'!$H$19:$H$1015)","v":0}]
[null,null,null,null,null,null,null,null,null,{"$f":"SUMIF($G$19:$G$1015,$G225,$H$19:$H$1015)+SUMIF('2.cTë ardhura-jopublik-nënatyrë'!$G$19:$G$1015,'2.bTë ardhura-jopublik-monetare'!$G225,'2.cTë ardhura-jopublik-nënatyrë'!$H$19:$H$1015)","v":0}]
[null,null,null,null,null,null,null,null,null,{"$f":"SUMIF($G$19:$G$1015,$G226,$H$19:$H$1015)+SUMIF('2.cTë ardhura-jopublik-nënatyrë'!$G$19:$G$1015,'2.bTë ardhura-jopublik-monetare'!$G226,'2.cTë ardhura-jopublik-nënatyrë'!$H$19:$H$1015)","v":0}]
[null,null,null,null,null,null,null,null,null,{"$f":"SUMIF($G$19:$G$1015,$G227,$H$19:$H$1015)+SUMIF('2.cTë ardhura-jopublik-nënatyrë'!$G$19:$G$1015,'2.bTë ardhura-jopublik-monetare'!$G227,'2.cTë ardhura-jopublik-nënatyrë'!$H$19:$H$1015)","v":0}]
[null,null,null,null,null,null,null,null,null,{"$f":"SUMIF($G$19:$G$1015,$G228,$H$19:$H$1015)+SUMIF('2.cTë ardhura-jopublik-nënatyrë'!$G$19:$G$1015,'2.bTë ardhura-jopublik-monetare'!$G228,'2.cTë ardhura-jopublik-nënatyrë'!$H$19:$H$1015)","v":0}]
[null,null,null,null,null,null,null,null,null,{"$f":"SUMIF($G$19:$G$1015,$G229,$H$19:$H$1015)+SUMIF('2.cTë ardhura-jopublik-nënatyrë'!$G$19:$G$1015,'2.bTë ardhura-jopublik-monetare'!$G229,'2.cTë ardhura-jopublik-nënatyrë'!$H$19:$H$1015)","v":0}]
[null,null,null,null,null,null,null,null,null,{"$f":"SUMIF($G$19:$G$1015,$G230,$H$19:$H$1015)+SUMIF('2.cTë ardhura-jopublik-nënatyrë'!$G$19:$G$1015,'2.bTë ardhura-jopublik-monetare'!$G230,'2.cTë ardhura-jopublik-nënatyrë'!$H$19:$H$1015)","v":0}]
[null,null,null,null,null,null,null,null,null,{"$f":"SUMIF($G$19:$G$1015,$G231,$H$19:$H$1015)+SUMIF('2.cTë ardhura-jopublik-nënatyrë'!$G$19:$G$1015,'2.bTë ardhura-jopublik-monetare'!$G231,'2.cTë ardhura-jopublik-nënatyrë'!$H$19:$H$1015)","v":0}]
[null,null,null,null,null,null,null,null,null,{"$f":"SUMIF($G$19:$G$1015,$G232,$H$19:$H$1015)+SUMIF('2.cTë ardhura-jopublik-nënatyrë'!$G$19:$G$1015,'2.bTë ardhura-jopublik-monetare'!$G232,'2.cTë ardhura-jopublik-nënatyrë'!$H$19:$H$1015)","v":0}]
[null,null,null,null,null,null,null,null,null,{"$f":"SUMIF($G$19:$G$1015,$G233,$H$19:$H$1015)+SUMIF('2.cTë ardhura-jopublik-nënatyrë'!$G$19:$G$1015,'2.bTë ardhura-jopublik-monetare'!$G233,'2.cTë ardhura-jopublik-nënatyrë'!$H$19:$H$1015)","v":0}]
[null,null,null,null,null,null,null,null,null,{"$f":"SUMIF($G$19:$G$1015,$G234,$H$19:$H$1015)+SUMIF('2.cTë ardhura-jopublik-nënatyrë'!$G$19:$G$1015,'2.bTë ardhura-jopublik-monetare'!$G234,'2.cTë ardhura-jopublik-nënatyrë'!$H$19:$H$1015)","v":0}]
[null,null,null,null,null,null,null,null,null,{"$f":"SUMIF($G$19:$G$1015,$G235,$H$19:$H$1015)+SUMIF('2.cTë ardhura-jopublik-nënatyrë'!$G$19:$G$1015,'2.bTë ardhura-jopublik-monetare'!$G235,'2.cTë ardhura-jopublik-nënatyrë'!$H$19:$H$1015)","v":0}]
[null,null,null,null,null,null,null,null,null,{"$f":"SUMIF($G$19:$G$1015,$G236,$H$19:$H$1015)+SUMIF('2.cTë ardhura-jopublik-nënatyrë'!$G$19:$G$1015,'2.bTë ardhura-jopublik-monetare'!$G236,'2.cTë ardhura-jopublik-nënatyrë'!$H$19:$H$1015)","v":0}]
[null,null,null,null,null,null,null,null,null,{"$f":"SUMIF($G$19:$G$1015,$G237,$H$19:$H$1015)+SUMIF('2.cTë ardhura-jopublik-nënatyrë'!$G$19:$G$1015,'2.bTë ardhura-jopublik-monetare'!$G237,'2.cTë ardhura-jopublik-nënatyrë'!$H$19:$H$1015)","v":0}]
[null,null,null,null,null,null,null,null,null,{"$f":"SUMIF($G$19:$G$1015,$G238,$H$19:$H$1015)+SUMIF('2.cTë ardhura-jopublik-nënatyrë'!$G$19:$G$1015,'2.bTë ardhura-jopublik-monetare'!$G238,'2.cTë ardhura-jopublik-nënatyrë'!$H$19:$H$1015)","v":0}]
[null,null,null,null,null,null,null,null,null,{"$f":"SUMIF($G$19:$G$1015,$G239,$H$19:$H$1015)+SUMIF('2.cTë ardhura-jopublik-nënatyrë'!$G$19:$G$1015,'2.bTë ardhura-jopublik-monetare'!$G239,'2.cTë ardhura-jopublik-nënatyrë'!$H$19:$H$1015)","v":0}]
[null,null,null,null,null,null,null,null,null,{"$f":"SUMIF($G$19:$G$1015,$G240,$H$19:$H$1015)+SUMIF('2.cTë ardhura-jopublik-nënatyrë'!$G$19:$G$1015,'2.bTë ardhura-jopublik-monetare'!$G240,'2.cTë ardhura-jopublik-nënatyrë'!$H$19:$H$1015)","v":0}]
[null,null,null,null,null,null,null,null,null,{"$f":"SUMIF($G$19:$G$1015,$G241,$H$19:$H$1015)+SUMIF('2.cTë ardhura-jopublik-nënatyrë'!$G$19:$G$1015,'2.bTë ardhura-jopublik-monetare'!$G241,'2.cTë ardhura-jopublik-nënatyrë'!$H$19:$H$1015)","v":0}]
[null,null,null,null,null,null,null,null,null,{"$f":"SUMIF($G$19:$G$1015,$G242,$H$19:$H$1015)+SUMIF('2.cTë ardhura-jopublik-nënatyrë'!$G$19:$G$1015,'2.bTë ardhura-jopublik-monetare'!$G242,'2.cTë ardhura-jopublik-nënatyrë'!$H$19:$H$1015)","v":0}]
[null,null,null,null,null,null,null,null,null,{"$f":"SUMIF($G$19:$G$1015,$G243,$H$19:$H$1015)+SUMIF('2.cTë ardhura-jopublik-nënatyrë'!$G$19:$G$1015,'2.bTë ardhura-jopublik-monetare'!$G243,'2.cTë ardhura-jopublik-nënatyrë'!$H$19:$H$1015)","v":0}]
[null,null,null,null,null,null,null,null,null,{"$f":"SUMIF($G$19:$G$1015,$G244,$H$19:$H$1015)+SUMIF('2.cTë ardhura-jopublik-nënatyrë'!$G$19:$G$1015,'2.bTë ardhura-jopublik-monetare'!$G244,'2.cTë ardhura-jopublik-nënatyrë'!$H$19:$H$1015)","v":0}]
[null,null,null,null,null,null,null,null,null,{"$f":"SUMIF($G$19:$G$1015,$G245,$H$19:$H$1015)+SUMIF('2.cTë ardhura-jopublik-nënatyrë'!$G$19:$G$1015,'2.bTë ardhura-jopublik-monetare'!$G245,'2.cTë ardhura-jopublik-nënatyrë'!$H$19:$H$1015)","v":0}]
[null,null,null,null,null,null,null,null,null,{"$f":"SUMIF($G$19:$G$1015,$G246,$H$19:$H$1015)+SUMIF('2.cTë ardhura-jopublik-nënatyrë'!$G$19:$G$1015,'2.bTë ardhura-jopublik-monetare'!$G246,'2.cTë ardhura-jopublik-nënatyrë'!$H$19:$H$1015)","v":0}]
[null,null,null,null,null,null,null,null,null,{"$f":"SUMIF($G$19:$G$1015,$G247,$H$19:$H$1015)+SUMIF('2.cTë ardhura-jopublik-nënatyrë'!$G$19:$G$1015,'2.bTë ardhura-jopublik-monetare'!$G247,'2.cTë ardhura-jopublik-nënatyrë'!$H$19:$H$1015)","v":0}]
[null,null,null,null,null,null,null,null,null,{"$f":"SUMIF($G$19:$G$1015,$G248,$H$19:$H$1015)+SUMIF('2.cTë ardhura-jopublik-nënatyrë'!$G$19:$G$1015,'2.bTë ardhura-jopublik-monetare'!$G248,'2.cTë ardhura-jopublik-nënatyrë'!$H$19:$H$1015)","v":0}]
[null,null,null,null,null,null,null,null,null,{"$f":"SUMIF($G$19:$G$1015,$G249,$H$19:$H$1015)+SUMIF('2.cTë ardhura-jopublik-nënatyrë'!$G$19:$G$1015,'2.bTë ardhura-jopublik-monetare'!$G249,'2.cTë ardhura-jopublik-nënatyrë'!$H$19:$H$1015)","v":0}]
[null,null,null,null,null,null,null,null,null,{"$f":"SUMIF($G$19:$G$1015,$G250,$H$19:$H$1015)+SUMIF('2.cTë ardhura-jopublik-nënatyrë'!$G$19:$G$1015,'2.bTë ardhura-jopublik-monetare'!$G250,'2.cTë ardhura-jopublik-nënatyrë'!$H$19:$H$1015)","v":0}]
[null,null,null,null,null,null,null,null,null,{"$f":"SUMIF($G$19:$G$1015,$G251,$H$19:$H$1015)+SUMIF('2.cTë ardhura-jopublik-nënatyrë'!$G$19:$G$1015,'2.bTë ardhura-jopublik-monetare'!$G251,'2.cTë ardhura-jopublik-nënatyrë'!$H$19:$H$1015)","v":0}]
[null,null,null,null,null,null,null,null,null,{"$f":"SUMIF($G$19:$G$1015,$G252,$H$19:$H$1015)+SUMIF('2.cTë ardhura-jopublik-nënatyrë'!$G$19:$G$1015,'2.bTë ardhura-jopublik-monetare'!$G252,'2.cTë ardhura-jopublik-nënatyrë'!$H$19:$H$1015)","v":0}]
[null,null,null,null,null,null,null,null,null,{"$f":"SUMIF($G$19:$G$1015,$G253,$H$19:$H$1015)+SUMIF('2.cTë ardhura-jopublik-nënatyrë'!$G$19:$G$1015,'2.bTë ardhura-jopublik-monetare'!$G253,'2.cTë ardhura-jopublik-nënatyrë'!$H$19:$H$1015)","v":0}]
[null,null,null,null,null,null,null,null,null,{"$f":"SUMIF($G$19:$G$1015,$G254,$H$19:$H$1015)+SUMIF('2.cTë ardhura-jopublik-nënatyrë'!$G$19:$G$1015,'2.bTë ardhura-jopublik-monetare'!$G254,'2.cTë ardhura-jopublik-nënatyrë'!$H$19:$H$1015)","v":0}]
[null,null,null,null,null,null,null,null,null,{"$f":"SUMIF($G$19:$G$1015,$G255,$H$19:$H$1015)+SUMIF('2.cTë ardhura-jopublik-nënatyrë'!$G$19:$G$1015,'2.bTë ardhura-jopublik-monetare'!$G255,'2.cTë ardhura-jopublik-nënatyrë'!$H$19:$H$1015)","v":0}]
[null,null,null,null,null,null,null,null,null,{"$f":"SUMIF($G$19:$G$1015,$G256,$H$19:$H$1015)+SUMIF('2.cTë ardhura-jopublik-nënatyrë'!$G$19:$G$1015,'2.bTë ardhura-jopublik-monetare'!$G256,'2.cTë ardhura-jopublik-nënatyrë'!$H$19:$H$1015)","v":0}]
[null,null,null,null,null,null,null,null,null,{"$f":"SUMIF($G$19:$G$1015,$G257,$H$19:$H$1015)+SUMIF('2.cTë ardhura-jopublik-nënatyrë'!$G$19:$G$1015,'2.bTë ardhura-jopublik-monetare'!$G257,'2.cTë ardhura-jopublik-nënatyrë'!$H$19:$H$1015)","v":0}]
[null,null,null,null,null,null,null,null,null,{"$f":"SUMIF($G$19:$G$1015,$G258,$H$19:$H$1015)+SUMIF('2.cTë ardhura-jopublik-nënatyrë'!$G$19:$G$1015,'2.bTë ardhura-jopublik-monetare'!$G258,'2.cTë ardhura-jopublik-nënatyrë'!$H$19:$H$1015)","v":0}]
[null,null,null,null,null,null,null,null,null,{"$f":"SUMIF($G$19:$G$1015,$G259,$H$19:$H$1015)+SUMIF('2.cTë ardhura-jopublik-nënatyrë'!$G$19:$G$1015,'2.bTë ardhura-jopublik-monetare'!$G259,'2.cTë ardhura-jopublik-nënatyrë'!$H$19:$H$1015)","v":0}]
[null,null,null,null,null,null,null,null,null,{"$f":"SUMIF($G$19:$G$1015,$G260,$H$19:$H$1015)+SUMIF('2.cTë ardhura-jopublik-nënatyrë'!$G$19:$G$1015,'2.bTë ardhura-jopublik-monetare'!$G260,'2.cTë ardhura-jopublik-nënatyrë'!$H$19:$H$1015)","v":0}]
[null,null,null,null,null,null,null,null,null,{"$f":"SUMIF($G$19:$G$1015,$G261,$H$19:$H$1015)+SUMIF('2.cTë ardhura-jopublik-nënatyrë'!$G$19:$G$1015,'2.bTë ardhura-jopublik-monetare'!$G261,'2.cTë ardhura-jopublik-nënatyrë'!$H$19:$H$1015)","v":0}]
[null,null,null,null,null,null,null,null,null,{"$f":"SUMIF($G$19:$G$1015,$G262,$H$19:$H$1015)+SUMIF('2.cTë ardhura-jopublik-nënatyrë'!$G$19:$G$1015,'2.bTë ardhura-jopublik-monetare'!$G262,'2.cTë ardhura-jopublik-nënatyrë'!$H$19:$H$1015)","v":0}]
[null,null,null,null,null,null,null,null,null,{"$f":"SUMIF($G$19:$G$1015,$G263,$H$19:$H$1015)+SUMIF('2.cTë ardhura-jopublik-nënatyrë'!$G$19:$G$1015,'2.bTë ardhura-jopublik-monetare'!$G263,'2.cTë ardhura-jopublik-nënatyrë'!$H$19:$H$1015)","v":0}]
[null,null,null,null,null,null,null,null,null,{"$f":"SUMIF($G$19:$G$1015,$G264,$H$19:$H$1015)+SUMIF('2.cTë ardhura-jopublik-nënatyrë'!$G$19:$G$1015,'2.bTë ardhura-jopublik-monetare'!$G264,'2.cTë ardhura-jopublik-nënatyrë'!$H$19:$H$1015)","v":0}]
[null,null,null,null,null,null,null,null,null,{"$f":"SUMIF($G$19:$G$1015,$G265,$H$19:$H$1015)+SUMIF('2.cTë ardhura-jopublik-nënatyrë'!$G$19:$G$1015,'2.bTë ardhura-jopublik-monetare'!$G265,'2.cTë ardhura-jopublik-nënatyrë'!$H$19:$H$1015)","v":0}]
[null,null,null,null,null,null,null,null,null,{"$f":"SUMIF($G$19:$G$1015,$G266,$H$19:$H$1015)+SUMIF('2.cTë ardhura-jopublik-nënatyrë'!$G$19:$G$1015,'2.bTë ardhura-jopublik-monetare'!$G266,'2.cTë ardhura-jopublik-nënatyrë'!$H$19:$H$1015)","v":0}]
[null,null,null,null,null,null,null,null,null,{"$f":"SUMIF($G$19:$G$1015,$G267,$H$19:$H$1015)+SUMIF('2.cTë ardhura-jopublik-nënatyrë'!$G$19:$G$1015,'2.bTë ardhura-jopublik-monetare'!$G267,'2.cTë ardhura-jopublik-nënatyrë'!$H$19:$H$1015)","v":0}]
[null,null,null,null,null,null,null,null,null,{"$f":"SUMIF($G$19:$G$1015,$G268,$H$19:$H$1015)+SUMIF('2.cTë ardhura-jopublik-nënatyrë'!$G$19:$G$1015,'2.bTë ardhura-jopublik-monetare'!$G268,'2.cTë ardhura-jopublik-nënatyrë'!$H$19:$H$1015)","v":0}]
[null,null,null,null,null,null,null,null,null,{"$f":"SUMIF($G$19:$G$1015,$G269,$H$19:$H$1015)+SUMIF('2.cTë ardhura-jopublik-nënatyrë'!$G$19:$G$1015,'2.bTë ardhura-jopublik-monetare'!$G269,'2.cTë ardhura-jopublik-nënatyrë'!$H$19:$H$1015)","v":0}]
[null,null,null,null,null,null,null,null,null,{"$f":"SUMIF($G$19:$G$1015,$G270,$H$19:$H$1015)+SUMIF('2.cTë ardhura-jopublik-nënatyrë'!$G$19:$G$1015,'2.bTë ardhura-jopublik-monetare'!$G270,'2.cTë ardhura-jopublik-nënatyrë'!$H$19:$H$1015)","v":0}]
[null,null,null,null,null,null,null,null,null,{"$f":"SUMIF($G$19:$G$1015,$G271,$H$19:$H$1015)+SUMIF('2.cTë ardhura-jopublik-nënatyrë'!$G$19:$G$1015,'2.bTë ardhura-jopublik-monetare'!$G271,'2.cTë ardhura-jopublik-nënatyrë'!$H$19:$H$1015)","v":0}]
[null,null,null,null,null,null,null,null,null,{"$f":"SUMIF($G$19:$G$1015,$G272,$H$19:$H$1015)+SUMIF('2.cTë ardhura-jopublik-nënatyrë'!$G$19:$G$1015,'2.bTë ardhura-jopublik-monetare'!$G272,'2.cTë ardhura-jopublik-nënatyrë'!$H$19:$H$1015)","v":0}]
[null,null,null,null,null,null,null,null,null,{"$f":"SUMIF($G$19:$G$1015,$G273,$H$19:$H$1015)+SUMIF('2.cTë ardhura-jopublik-nënatyrë'!$G$19:$G$1015,'2.bTë ardhura-jopublik-monetare'!$G273,'2.cTë ardhura-jopublik-nënatyrë'!$H$19:$H$1015)","v":0}]
[null,null,null,null,null,null,null,null,null,{"$f":"SUMIF($G$19:$G$1015,$G274,$H$19:$H$1015)+SUMIF('2.cTë ardhura-jopublik-nënatyrë'!$G$19:$G$1015,'2.bTë ardhura-jopublik-monetare'!$G274,'2.cTë ardhura-jopublik-nënatyrë'!$H$19:$H$1015)","v":0}]
[null,null,null,null,null,null,null,null,null,{"$f":"SUMIF($G$19:$G$1015,$G275,$H$19:$H$1015)+SUMIF('2.cTë ardhura-jopublik-nënatyrë'!$G$19:$G$1015,'2.bTë ardhura-jopublik-monetare'!$G275,'2.cTë ardhura-jopublik-nënatyrë'!$H$19:$H$1015)","v":0}]
[null,null,null,null,null,null,null,null,null,{"$f":"SUMIF($G$19:$G$1015,$G276,$H$19:$H$1015)+SUMIF('2.cTë ardhura-jopublik-nënatyrë'!$G$19:$G$1015,'2.bTë ardhura-jopublik-monetare'!$G276,'2.cTë ardhura-jopublik-nënatyrë'!$H$19:$H$1015)","v":0}]
[null,null,null,null,null,null,null,null,null,{"$f":"SUMIF($G$19:$G$1015,$G277,$H$19:$H$1015)+SUMIF('2.cTë ardhura-jopublik-nënatyrë'!$G$19:$G$1015,'2.bTë ardhura-jopublik-monetare'!$G277,'2.cTë ardhura-jopublik-nënatyrë'!$H$19:$H$1015)","v":0}]
[null,null,null,null,null,null,null,null,null,{"$f":"SUMIF($G$19:$G$1015,$G278,$H$19:$H$1015)+SUMIF('2.cTë ardhura-jopublik-nënatyrë'!$G$19:$G$1015,'2.bTë ardhura-jopublik-monetare'!$G278,'2.cTë ardhura-jopublik-nënatyrë'!$H$19:$H$1015)","v":0}]
[null,null,null,null,null,null,null,null,null,{"$f":"SUMIF($G$19:$G$1015,$G279,$H$19:$H$1015)+SUMIF('2.cTë ardhura-jopublik-nënatyrë'!$G$19:$G$1015,'2.bTë ardhura-jopublik-monetare'!$G279,'2.cTë ardhura-jopublik-nënatyrë'!$H$19:$H$1015)","v":0}]
[null,null,null,null,null,null,null,null,null,{"$f":"SUMIF($G$19:$G$1015,$G280,$H$19:$H$1015)+SUMIF('2.cTë ardhura-jopublik-nënatyrë'!$G$19:$G$1015,'2.bTë ardhura-jopublik-monetare'!$G280,'2.cTë ardhura-jopublik-nënatyrë'!$H$19:$H$1015)","v":0}]
[null,null,null,null,null,null,null,null,null,{"$f":"SUMIF($G$19:$G$1015,$G281,$H$19:$H$1015)+SUMIF('2.cTë ardhura-jopublik-nënatyrë'!$G$19:$G$1015,'2.bTë ardhura-jopublik-monetare'!$G281,'2.cTë ardhura-jopublik-nënatyrë'!$H$19:$H$1015)","v":0}]
[null,null,null,null,null,null,null,null,null,{"$f":"SUMIF($G$19:$G$1015,$G282,$H$19:$H$1015)+SUMIF('2.cTë ardhura-jopublik-nënatyrë'!$G$19:$G$1015,'2.bTë ardhura-jopublik-monetare'!$G282,'2.cTë ardhura-jopublik-nënatyrë'!$H$19:$H$1015)","v":0}]
[null,null,null,null,null,null,null,null,null,{"$f":"SUMIF($G$19:$G$1015,$G283,$H$19:$H$1015)+SUMIF('2.cTë ardhura-jopublik-nënatyrë'!$G$19:$G$1015,'2.bTë ardhura-jopublik-monetare'!$G283,'2.cTë ardhura-jopublik-nënatyrë'!$H$19:$H$1015)","v":0}]
[null,null,null,null,null,null,null,null,null,{"$f":"SUMIF($G$19:$G$1015,$G284,$H$19:$H$1015)+SUMIF('2.cTë ardhura-jopublik-nënatyrë'!$G$19:$G$1015,'2.bTë ardhura-jopublik-monetare'!$G284,'2.cTë ardhura-jopublik-nënatyrë'!$H$19:$H$1015)","v":0}]
[null,null,null,null,null,null,null,null,null,{"$f":"SUMIF($G$19:$G$1015,$G285,$H$19:$H$1015)+SUMIF('2.cTë ardhura-jopublik-nënatyrë'!$G$19:$G$1015,'2.bTë ardhura-jopublik-monetare'!$G285,'2.cTë ardhura-jopublik-nënatyrë'!$H$19:$H$1015)","v":0}]
[null,null,null,null,null,null,null,null,null,{"$f":"SUMIF($G$19:$G$1015,$G286,$H$19:$H$1015)+SUMIF('2.cTë ardhura-jopublik-nënatyrë'!$G$19:$G$1015,'2.bTë ardhura-jopublik-monetare'!$G286,'2.cTë ardhura-jopublik-nënatyrë'!$H$19:$H$1015)","v":0}]
[null,null,null,null,null,null,null,null,null,{"$f":"SUMIF($G$19:$G$1015,$G287,$H$19:$H$1015)+SUMIF('2.cTë ardhura-jopublik-nënatyrë'!$G$19:$G$1015,'2.bTë ardhura-jopublik-monetare'!$G287,'2.cTë ardhura-jopublik-nënatyrë'!$H$19:$H$1015)","v":0}]
[null,null,null,null,null,null,null,null,null,{"$f":"SUMIF($G$19:$G$1015,$G288,$H$19:$H$1015)+SUMIF('2.cTë ardhura-jopublik-nënatyrë'!$G$19:$G$1015,'2.bTë ardhura-jopublik-monetare'!$G288,'2.cTë ardhura-jopublik-nënatyrë'!$H$19:$H$1015)","v":0}]
[null,null,null,null,null,null,null,null,null,{"$f":"SUMIF($G$19:$G$1015,$G289,$H$19:$H$1015)+SUMIF('2.cTë ardhura-jopublik-nënatyrë'!$G$19:$G$1015,'2.bTë ardhura-jopublik-monetare'!$G289,'2.cTë ardhura-jopublik-nënatyrë'!$H$19:$H$1015)","v":0}]
[null,null,null,null,null,null,null,null,null,{"$f":"SUMIF($G$19:$G$1015,$G290,$H$19:$H$1015)+SUMIF('2.cTë ardhura-jopublik-nënatyrë'!$G$19:$G$1015,'2.bTë ardhura-jopublik-monetare'!$G290,'2.cTë ardhura-jopublik-nënatyrë'!$H$19:$H$1015)","v":0}]
[null,null,null,null,null,null,null,null,null,{"$f":"SUMIF($G$19:$G$1015,$G291,$H$19:$H$1015)+SUMIF('2.cTë ardhura-jopublik-nënatyrë'!$G$19:$G$1015,'2.bTë ardhura-jopublik-monetare'!$G291,'2.cTë ardhura-jopublik-nënatyrë'!$H$19:$H$1015)","v":0}]
[null,null,null,null,null,null,null,null,null,{"$f":"SUMIF($G$19:$G$1015,$G292,$H$19:$H$1015)+SUMIF('2.cTë ardhura-jopublik-nënatyrë'!$G$19:$G$1015,'2.bTë ardhura-jopublik-monetare'!$G292,'2.cTë ardhura-jopublik-nënatyrë'!$H$19:$H$1015)","v":0}]
[null,null,null,null,null,null,null,null,null,{"$f":"SUMIF($G$19:$G$1015,$G293,$H$19:$H$1015)+SUMIF('2.cTë ardhura-jopublik-nënatyrë'!$G$19:$G$1015,'2.bTë ardhura-jopublik-monetare'!$G293,'2.cTë ardhura-jopublik-nënatyrë'!$H$19:$H$1015)","v":0}]
[null,null,null,null,null,null,null,null,null,{"$f":"SUMIF($G$19:$G$1015,$G294,$H$19:$H$1015)+SUMIF('2.cTë ardhura-jopublik-nënatyrë'!$G$19:$G$1015,'2.bTë ardhura-jopublik-monetare'!$G294,'2.cTë ardhura-jopublik-nënatyrë'!$H$19:$H$1015)","v":0}]
[null,null,null,null,null,null,null,null,null,{"$f":"SUMIF($G$19:$G$1015,$G295,$H$19:$H$1015)+SUMIF('2.cTë ardhura-jopublik-nënatyrë'!$G$19:$G$1015,'2.bTë ardhura-jopublik-monetare'!$G295,'2.cTë ardhura-jopublik-nënatyrë'!$H$19:$H$1015)","v":0}]
[null,null,null,null,null,null,null,null,null,{"$f":"SUMIF($G$19:$G$1015,$G296,$H$19:$H$1015)+SUMIF('2.cTë ardhura-jopublik-nënatyrë'!$G$19:$G$1015,'2.bTë ardhura-jopublik-monetare'!$G296,'2.cTë ardhura-jopublik-nënatyrë'!$H$19:$H$1015)","v":0}]
[null,null,null,null,null,null,null,null,null,{"$f":"SUMIF($G$19:$G$1015,$G297,$H$19:$H$1015)+SUMIF('2.cTë ardhura-jopublik-nënatyrë'!$G$19:$G$1015,'2.bTë ardhura-jopublik-monetare'!$G297,'2.cTë ardhura-jopublik-nënatyrë'!$H$19:$H$1015)","v":0}]
[null,null,null,null,null,null,null,null,null,{"$f":"SUMIF($G$19:$G$1015,$G298,$H$19:$H$1015)+SUMIF('2.cTë ardhura-jopublik-nënatyrë'!$G$19:$G$1015,'2.bTë ardhura-jopublik-monetare'!$G298,'2.cTë ardhura-jopublik-nënatyrë'!$H$19:$H$1015)","v":0}]
[null,null,null,null,null,null,null,null,null,{"$f":"SUMIF($G$19:$G$1015,$G299,$H$19:$H$1015)+SUMIF('2.cTë ardhura-jopublik-nënatyrë'!$G$19:$G$1015,'2.bTë ardhura-jopublik-monetare'!$G299,'2.cTë ardhura-jopublik-nënatyrë'!$H$19:$H$1015)","v":0}]
[null,null,null,null,null,null,null,null,null,{"$f":"SUMIF($G$19:$G$1015,$G300,$H$19:$H$1015)+SUMIF('2.cTë ardhura-jopublik-nënatyrë'!$G$19:$G$1015,'2.bTë ardhura-jopublik-monetare'!$G300,'2.cTë ardhura-jopublik-nënatyrë'!$H$19:$H$1015)","v":0}]
[null,null,null,null,null,null,null,null,null,{"$f":"SUMIF($G$19:$G$1015,$G301,$H$19:$H$1015)+SUMIF('2.cTë ardhura-jopublik-nënatyrë'!$G$19:$G$1015,'2.bTë ardhura-jopublik-monetare'!$G301,'2.cTë ardhura-jopublik-nënatyrë'!$H$19:$H$1015)","v":0}]
[null,null,null,null,null,null,null,null,null,{"$f":"SUMIF($G$19:$G$1015,$G302,$H$19:$H$1015)+SUMIF('2.cTë ardhura-jopublik-nënatyrë'!$G$19:$G$1015,'2.bTë ardhura-jopublik-monetare'!$G302,'2.cTë ardhura-jopublik-nënatyrë'!$H$19:$H$1015)","v":0}]
[null,null,null,null,null,null,null,null,null,{"$f":"SUMIF($G$19:$G$1015,$G303,$H$19:$H$1015)+SUMIF('2.cTë ardhura-jopublik-nënatyrë'!$G$19:$G$1015,'2.bTë ardhura-jopublik-monetare'!$G303,'2.cTë ardhura-jopublik-nënatyrë'!$H$19:$H$1015)","v":0}]
[null,null,null,null,null,null,null,null,null,{"$f":"SUMIF($G$19:$G$1015,$G304,$H$19:$H$1015)+SUMIF('2.cTë ardhura-jopublik-nënatyrë'!$G$19:$G$1015,'2.bTë ardhura-jopublik-monetare'!$G304,'2.cTë ardhura-jopublik-nënatyrë'!$H$19:$H$1015)","v":0}]
[null,null,null,null,null,null,null,null,null,{"$f":"SUMIF($G$19:$G$1015,$G305,$H$19:$H$1015)+SUMIF('2.cTë ardhura-jopublik-nënatyrë'!$G$19:$G$1015,'2.bTë ardhura-jopublik-monetare'!$G305,'2.cTë ardhura-jopublik-nënatyrë'!$H$19:$H$1015)","v":0}]
[null,null,null,null,null,null,null,null,null,{"$f":"SUMIF($G$19:$G$1015,$G306,$H$19:$H$1015)+SUMIF('2.cTë ardhura-jopublik-nënatyrë'!$G$19:$G$1015,'2.bTë ardhura-jopublik-monetare'!$G306,'2.cTë ardhura-jopublik-nënatyrë'!$H$19:$H$1015)","v":0}]
[null,null,null,null,null,null,null,null,null,{"$f":"SUMIF($G$19:$G$1015,$G307,$H$19:$H$1015)+SUMIF('2.cTë ardhura-jopublik-nënatyrë'!$G$19:$G$1015,'2.bTë ardhura-jopublik-monetare'!$G307,'2.cTë ardhura-jopublik-nënatyrë'!$H$19:$H$1015)","v":0}]
[null,null,null,null,null,null,null,null,null,{"$f":"SUMIF($G$19:$G$1015,$G308,$H$19:$H$1015)+SUMIF('2.cTë ardhura-jopublik-nënatyrë'!$G$19:$G$1015,'2.bTë ardhura-jopublik-monetare'!$G308,'2.cTë ardhura-jopublik-nënatyrë'!$H$19:$H$1015)","v":0}]
[null,null,null,null,null,null,null,null,null,{"$f":"SUMIF($G$19:$G$1015,$G309,$H$19:$H$1015)+SUMIF('2.cTë ardhura-jopublik-nënatyrë'!$G$19:$G$1015,'2.bTë ardhura-jopublik-monetare'!$G309,'2.cTë ardhura-jopublik-nënatyrë'!$H$19:$H$1015)","v":0}]
[null,null,null,null,null,null,null,null,null,{"$f":"SUMIF($G$19:$G$1015,$G310,$H$19:$H$1015)+SUMIF('2.cTë ardhura-jopublik-nënatyrë'!$G$19:$G$1015,'2.bTë ardhura-jopublik-monetare'!$G310,'2.cTë ardhura-jopublik-nënatyrë'!$H$19:$H$1015)","v":0}]
[null,null,null,null,null,null,null,null,null,{"$f":"SUMIF($G$19:$G$1015,$G311,$H$19:$H$1015)+SUMIF('2.cTë ardhura-jopublik-nënatyrë'!$G$19:$G$1015,'2.bTë ardhura-jopublik-monetare'!$G311,'2.cTë ardhura-jopublik-nënatyrë'!$H$19:$H$1015)","v":0}]
[null,null,null,null,null,null,null,null,null,{"$f":"SUMIF($G$19:$G$1015,$G312,$H$19:$H$1015)+SUMIF('2.cTë ardhura-jopublik-nënatyrë'!$G$19:$G$1015,'2.bTë ardhura-jopublik-monetare'!$G312,'2.cTë ardhura-jopublik-nënatyrë'!$H$19:$H$1015)","v":0}]
[null,null,null,null,null,null,null,null,null,{"$f":"SUMIF($G$19:$G$1015,$G313,$H$19:$H$1015)+SUMIF('2.cTë ardhura-jopublik-nënatyrë'!$G$19:$G$1015,'2.bTë ardhura-jopublik-monetare'!$G313,'2.cTë ardhura-jopublik-nënatyrë'!$H$19:$H$1015)","v":0}]
[null,null,null,null,null,null,null,null,null,{"$f":"SUMIF($G$19:$G$1015,$G314,$H$19:$H$1015)+SUMIF('2.cTë ardhura-jopublik-nënatyrë'!$G$19:$G$1015,'2.bTë ardhura-jopublik-monetare'!$G314,'2.cTë ardhura-jopublik-nënatyrë'!$H$19:$H$1015)","v":0}]
[null,null,null,null,null,null,null,null,null,{"$f":"SUMIF($G$19:$G$1015,$G315,$H$19:$H$1015)+SUMIF('2.cTë ardhura-jopublik-nënatyrë'!$G$19:$G$1015,'2.bTë ardhura-jopublik-monetare'!$G315,'2.cTë ardhura-jopublik-nënatyrë'!$H$19:$H$1015)","v":0}]
[null,null,null,null,null,null,null,null,null,{"$f":"SUMIF($G$19:$G$1015,$G316,$H$19:$H$1015)+SUMIF('2.cTë ardhura-jopublik-nënatyrë'!$G$19:$G$1015,'2.bTë ardhura-jopublik-monetare'!$G316,'2.cTë ardhura-jopublik-nënatyrë'!$H$19:$H$1015)","v":0}]
[null,null,null,null,null,null,null,null,null,{"$f":"SUMIF($G$19:$G$1015,$G317,$H$19:$H$1015)+SUMIF('2.cTë ardhura-jopublik-nënatyrë'!$G$19:$G$1015,'2.bTë ardhura-jopublik-monetare'!$G317,'2.cTë ardhura-jopublik-nënatyrë'!$H$19:$H$1015)","v":0}]
[null,null,null,null,null,null,null,null,null,{"$f":"SUMIF($G$19:$G$1015,$G318,$H$19:$H$1015)+SUMIF('2.cTë ardhura-jopublik-nënatyrë'!$G$19:$G$1015,'2.bTë ardhura-jopublik-monetare'!$G318,'2.cTë ardhura-jopublik-nënatyrë'!$H$19:$H$1015)","v":0}]
[null,null,null,null,null,null,null,null,null,{"$f":"SUMIF($G$19:$G$1015,$G319,$H$19:$H$1015)+SUMIF('2.cTë ardhura-jopublik-nënatyrë'!$G$19:$G$1015,'2.bTë ardhura-jopublik-monetare'!$G319,'2.cTë ardhura-jopublik-nënatyrë'!$H$19:$H$1015)","v":0}]
[null,null,null,null,null,null,null,null,null,{"$f":"SUMIF($G$19:$G$1015,$G320,$H$19:$H$1015)+SUMIF('2.cTë ardhura-jopublik-nënatyrë'!$G$19:$G$1015,'2.bTë ardhura-jopublik-monetare'!$G320,'2.cTë ardhura-jopublik-nënatyrë'!$H$19:$H$1015)","v":0}]
[null,null,null,null,null,null,null,null,null,{"$f":"SUMIF($G$19:$G$1015,$G321,$H$19:$H$1015)+SUMIF('2.cTë ardhura-jopublik-nënatyrë'!$G$19:$G$1015,'2.bTë ardhura-jopublik-monetare'!$G321,'2.cTë ardhura-jopublik-nënatyrë'!$H$19:$H$1015)","v":0}]
[null,null,null,null,null,null,null,null,null,{"$f":"SUMIF($G$19:$G$1015,$G322,$H$19:$H$1015)+SUMIF('2.cTë ardhura-jopublik-nënatyrë'!$G$19:$G$1015,'2.bTë ardhura-jopublik-monetare'!$G322,'2.cTë ardhura-jopublik-nënatyrë'!$H$19:$H$1015)","v":0}]
[null,null,null,null,null,null,null,null,null,{"$f":"SUMIF($G$19:$G$1015,$G323,$H$19:$H$1015)+SUMIF('2.cTë ardhura-jopublik-nënatyrë'!$G$19:$G$1015,'2.bTë ardhura-jopublik-monetare'!$G323,'2.cTë ardhura-jopublik-nënatyrë'!$H$19:$H$1015)","v":0}]
[null,null,null,null,null,null,null,null,null,{"$f":"SUMIF($G$19:$G$1015,$G324,$H$19:$H$1015)+SUMIF('2.cTë ardhura-jopublik-nënatyrë'!$G$19:$G$1015,'2.bTë ardhura-jopublik-monetare'!$G324,'2.cTë ardhura-jopublik-nënatyrë'!$H$19:$H$1015)","v":0}]
[null,null,null,null,null,null,null,null,null,{"$f":"SUMIF($G$19:$G$1015,$G325,$H$19:$H$1015)+SUMIF('2.cTë ardhura-jopublik-nënatyrë'!$G$19:$G$1015,'2.bTë ardhura-jopublik-monetare'!$G325,'2.cTë ardhura-jopublik-nënatyrë'!$H$19:$H$1015)","v":0}]
[null,null,null,null,null,null,null,null,null,{"$f":"SUMIF($G$19:$G$1015,$G326,$H$19:$H$1015)+SUMIF('2.cTë ardhura-jopublik-nënatyrë'!$G$19:$G$1015,'2.bTë ardhura-jopublik-monetare'!$G326,'2.cTë ardhura-jopublik-nënatyrë'!$H$19:$H$1015)","v":0}]
[null,null,null,null,null,null,null,null,null,{"$f":"SUMIF($G$19:$G$1015,$G327,$H$19:$H$1015)+SUMIF('2.cTë ardhura-jopublik-nënatyrë'!$G$19:$G$1015,'2.bTë ardhura-jopublik-monetare'!$G327,'2.cTë ardhura-jopublik-nënatyrë'!$H$19:$H$1015)","v":0}]
[null,null,null,null,null,null,null,null,null,{"$f":"SUMIF($G$19:$G$1015,$G328,$H$19:$H$1015)+SUMIF('2.cTë ardhura-jopublik-nënatyrë'!$G$19:$G$1015,'2.bTë ardhura-jopublik-monetare'!$G328,'2.cTë ardhura-jopublik-nënatyrë'!$H$19:$H$1015)","v":0}]
[null,null,null,null,null,null,null,null,null,{"$f":"SUMIF($G$19:$G$1015,$G329,$H$19:$H$1015)+SUMIF('2.cTë ardhura-jopublik-nënatyrë'!$G$19:$G$1015,'2.bTë ardhura-jopublik-monetare'!$G329,'2.cTë ardhura-jopublik-nënatyrë'!$H$19:$H$1015)","v":0}]
[null,null,null,null,null,null,null,null,null,{"$f":"SUMIF($G$19:$G$1015,$G330,$H$19:$H$1015)+SUMIF('2.cTë ardhura-jopublik-nënatyrë'!$G$19:$G$1015,'2.bTë ardhura-jopublik-monetare'!$G330,'2.cTë ardhura-jopublik-nënatyrë'!$H$19:$H$1015)","v":0}]
[null,null,null,null,null,null,null,null,null,{"$f":"SUMIF($G$19:$G$1015,$G331,$H$19:$H$1015)+SUMIF('2.cTë ardhura-jopublik-nënatyrë'!$G$19:$G$1015,'2.bTë ardhura-jopublik-monetare'!$G331,'2.cTë ardhura-jopublik-nënatyrë'!$H$19:$H$1015)","v":0}]
[null,null,null,null,null,null,null,null,null,{"$f":"SUMIF($G$19:$G$1015,$G332,$H$19:$H$1015)+SUMIF('2.cTë ardhura-jopublik-nënatyrë'!$G$19:$G$1015,'2.bTë ardhura-jopublik-monetare'!$G332,'2.cTë ardhura-jopublik-nënatyrë'!$H$19:$H$1015)","v":0}]
[null,null,null,null,null,null,null,null,null,{"$f":"SUMIF($G$19:$G$1015,$G333,$H$19:$H$1015)+SUMIF('2.cTë ardhura-jopublik-nënatyrë'!$G$19:$G$1015,'2.bTë ardhura-jopublik-monetare'!$G333,'2.cTë ardhura-jopublik-nënatyrë'!$H$19:$H$1015)","v":0}]
[null,null,null,null,null,null,null,null,null,{"$f":"SUMIF($G$19:$G$1015,$G334,$H$19:$H$1015)+SUMIF('2.cTë ardhura-jopublik-nënatyrë'!$G$19:$G$1015,'2.bTë ardhura-jopublik-monetare'!$G334,'2.cTë ardhura-jopublik-nënatyrë'!$H$19:$H$1015)","v":0}]
[null,null,null,null,null,null,null,null,null,{"$f":"SUMIF($G$19:$G$1015,$G335,$H$19:$H$1015)+SUMIF('2.cTë ardhura-jopublik-nënatyrë'!$G$19:$G$1015,'2.bTë ardhura-jopublik-monetare'!$G335,'2.cTë ardhura-jopublik-nënatyrë'!$H$19:$H$1015)","v":0}]
[null,null,null,null,null,null,null,null,null,{"$f":"SUMIF($G$19:$G$1015,$G336,$H$19:$H$1015)+SUMIF('2.cTë ardhura-jopublik-nënatyrë'!$G$19:$G$1015,'2.bTë ardhura-jopublik-monetare'!$G336,'2.cTë ardhura-jopublik-nënatyrë'!$H$19:$H$1015)","v":0}]
[null,null,null,null,null,null,null,null,null,{"$f":"SUMIF($G$19:$G$1015,$G337,$H$19:$H$1015)+SUMIF('2.cTë ardhura-jopublik-nënatyrë'!$G$19:$G$1015,'2.bTë ardhura-jopublik-monetare'!$G337,'2.cTë ardhura-jopublik-nënatyrë'!$H$19:$H$1015)","v":0}]
[null,null,null,null,null,null,null,null,null,{"$f":"SUMIF($G$19:$G$1015,$G338,$H$19:$H$1015)+SUMIF('2.cTë ardhura-jopublik-nënatyrë'!$G$19:$G$1015,'2.bTë ardhura-jopublik-monetare'!$G338,'2.cTë ardhura-jopublik-nënatyrë'!$H$19:$H$1015)","v":0}]
[null,null,null,null,null,null,null,null,null,{"$f":"SUMIF($G$19:$G$1015,$G339,$H$19:$H$1015)+SUMIF('2.cTë ardhura-jopublik-nënatyrë'!$G$19:$G$1015,'2.bTë ardhura-jopublik-monetare'!$G339,'2.cTë ardhura-jopublik-nënatyrë'!$H$19:$H$1015)","v":0}]
[null,null,null,null,null,null,null,null,null,{"$f":"SUMIF($G$19:$G$1015,$G340,$H$19:$H$1015)+SUMIF('2.cTë ardhura-jopublik-nënatyrë'!$G$19:$G$1015,'2.bTë ardhura-jopublik-monetare'!$G340,'2.cTë ardhura-jopublik-nënatyrë'!$H$19:$H$1015)","v":0}]
[null,null,null,null,null,null,null,null,null,{"$f":"SUMIF($G$19:$G$1015,$G341,$H$19:$H$1015)+SUMIF('2.cTë ardhura-jopublik-nënatyrë'!$G$19:$G$1015,'2.bTë ardhura-jopublik-monetare'!$G341,'2.cTë ardhura-jopublik-nënatyrë'!$H$19:$H$1015)","v":0}]
[null,null,null,null,null,null,null,null,null,{"$f":"SUMIF($G$19:$G$1015,$G342,$H$19:$H$1015)+SUMIF('2.cTë ardhura-jopublik-nënatyrë'!$G$19:$G$1015,'2.bTë ardhura-jopublik-monetare'!$G342,'2.cTë ardhura-jopublik-nënatyrë'!$H$19:$H$1015)","v":0}]
[null,null,null,null,null,null,null,null,null,{"$f":"SUMIF($G$19:$G$1015,$G343,$H$19:$H$1015)+SUMIF('2.cTë ardhura-jopublik-nënatyrë'!$G$19:$G$1015,'2.bTë ardhura-jopublik-monetare'!$G343,'2.cTë ardhura-jopublik-nënatyrë'!$H$19:$H$1015)","v":0}]
[null,null,null,null,null,null,null,null,null,{"$f":"SUMIF($G$19:$G$1015,$G344,$H$19:$H$1015)+SUMIF('2.cTë ardhura-jopublik-nënatyrë'!$G$19:$G$1015,'2.bTë ardhura-jopublik-monetare'!$G344,'2.cTë ardhura-jopublik-nënatyrë'!$H$19:$H$1015)","v":0}]
[null,null,null,null,null,null,null,null,null,{"$f":"SUMIF($G$19:$G$1015,$G345,$H$19:$H$1015)+SUMIF('2.cTë ardhura-jopublik-nënatyrë'!$G$19:$G$1015,'2.bTë ardhura-jopublik-monetare'!$G345,'2.cTë ardhura-jopublik-nënatyrë'!$H$19:$H$1015)","v":0}]
[null,null,null,null,null,null,null,null,null,{"$f":"SUMIF($G$19:$G$1015,$G346,$H$19:$H$1015)+SUMIF('2.cTë ardhura-jopublik-nënatyrë'!$G$19:$G$1015,'2.bTë ardhura-jopublik-monetare'!$G346,'2.cTë ardhura-jopublik-nënatyrë'!$H$19:$H$1015)","v":0}]
[null,null,null,null,null,null,null,null,null,{"$f":"SUMIF($G$19:$G$1015,$G347,$H$19:$H$1015)+SUMIF('2.cTë ardhura-jopublik-nënatyrë'!$G$19:$G$1015,'2.bTë ardhura-jopublik-monetare'!$G347,'2.cTë ardhura-jopublik-nënatyrë'!$H$19:$H$1015)","v":0}]
[null,null,null,null,null,null,null,null,null,{"$f":"SUMIF($G$19:$G$1015,$G348,$H$19:$H$1015)+SUMIF('2.cTë ardhura-jopublik-nënatyrë'!$G$19:$G$1015,'2.bTë ardhura-jopublik-monetare'!$G348,'2.cTë ardhura-jopublik-nënatyrë'!$H$19:$H$1015)","v":0}]
[null,null,null,null,null,null,null,null,null,{"$f":"SUMIF($G$19:$G$1015,$G349,$H$19:$H$1015)+SUMIF('2.cTë ardhura-jopublik-nënatyrë'!$G$19:$G$1015,'2.bTë ardhura-jopublik-monetare'!$G349,'2.cTë ardhura-jopublik-nënatyrë'!$H$19:$H$1015)","v":0}]
[null,null,null,null,null,null,null,null,null,{"$f":"SUMIF($G$19:$G$1015,$G350,$H$19:$H$1015)+SUMIF('2.cTë ardhura-jopublik-nënatyrë'!$G$19:$G$1015,'2.bTë ardhura-jopublik-monetare'!$G350,'2.cTë ardhura-jopublik-nënatyrë'!$H$19:$H$1015)","v":0}]
[null,null,null,null,null,null,null,null,null,{"$f":"SUMIF($G$19:$G$1015,$G351,$H$19:$H$1015)+SUMIF('2.cTë ardhura-jopublik-nënatyrë'!$G$19:$G$1015,'2.bTë ardhura-jopublik-monetare'!$G351,'2.cTë ardhura-jopublik-nënatyrë'!$H$19:$H$1015)","v":0}]
[null,null,null,null,null,null,null,null,null,{"$f":"SUMIF($G$19:$G$1015,$G352,$H$19:$H$1015)+SUMIF('2.cTë ardhura-jopublik-nënatyrë'!$G$19:$G$1015,'2.bTë ardhura-jopublik-monetare'!$G352,'2.cTë ardhura-jopublik-nënatyrë'!$H$19:$H$1015)","v":0}]
[null,null,null,null,null,null,null,null,null,{"$f":"SUMIF($G$19:$G$1015,$G353,$H$19:$H$1015)+SUMIF('2.cTë ardhura-jopublik-nënatyrë'!$G$19:$G$1015,'2.bTë ardhura-jopublik-monetare'!$G353,'2.cTë ardhura-jopublik-nënatyrë'!$H$19:$H$1015)","v":0}]
[null,null,null,null,null,null,null,null,null,{"$f":"SUMIF($G$19:$G$1015,$G354,$H$19:$H$1015)+SUMIF('2.cTë ardhura-jopublik-nënatyrë'!$G$19:$G$1015,'2.bTë ardhura-jopublik-monetare'!$G354,'2.cTë ardhura-jopublik-nënatyrë'!$H$19:$H$1015)","v":0}]
[null,null,null,null,null,null,null,null,null,{"$f":"SUMIF($G$19:$G$1015,$G355,$H$19:$H$1015)+SUMIF('2.cTë ardhura-jopublik-nënatyrë'!$G$19:$G$1015,'2.bTë ardhura-jopublik-monetare'!$G355,'2.cTë ardhura-jopublik-nënatyrë'!$H$19:$H$1015)","v":0}]
[null,null,null,null,null,null,null,null,null,{"$f":"SUMIF($G$19:$G$1015,$G356,$H$19:$H$1015)+SUMIF('2.cTë ardhura-jopublik-nënatyrë'!$G$19:$G$1015,'2.bTë ardhura-jopublik-monetare'!$G356,'2.cTë ardhura-jopublik-nënatyrë'!$H$19:$H$1015)","v":0}]
[null,null,null,null,null,null,null,null,null,{"$f":"SUMIF($G$19:$G$1015,$G357,$H$19:$H$1015)+SUMIF('2.cTë ardhura-jopublik-nënatyrë'!$G$19:$G$1015,'2.bTë ardhura-jopublik-monetare'!$G357,'2.cTë ardhura-jopublik-nënatyrë'!$H$19:$H$1015)","v":0}]
[null,null,null,null,null,null,null,null,null,{"$f":"SUMIF($G$19:$G$1015,$G358,$H$19:$H$1015)+SUMIF('2.cTë ardhura-jopublik-nënatyrë'!$G$19:$G$1015,'2.bTë ardhura-jopublik-monetare'!$G358,'2.cTë ardhura-jopublik-nënatyrë'!$H$19:$H$1015)","v":0}]
[null,null,null,null,null,null,null,null,null,{"$f":"SUMIF($G$19:$G$1015,$G359,$H$19:$H$1015)+SUMIF('2.cTë ardhura-jopublik-nënatyrë'!$G$19:$G$1015,'2.bTë ardhura-jopublik-monetare'!$G359,'2.cTë ardhura-jopublik-nënatyrë'!$H$19:$H$1015)","v":0}]
[null,null,null,null,null,null,null,null,null,{"$f":"SUMIF($G$19:$G$1015,$G360,$H$19:$H$1015)+SUMIF('2.cTë ardhura-jopublik-nënatyrë'!$G$19:$G$1015,'2.bTë ardhura-jopublik-monetare'!$G360,'2.cTë ardhura-jopublik-nënatyrë'!$H$19:$H$1015)","v":0}]
[null,null,null,null,null,null,null,null,null,{"$f":"SUMIF($G$19:$G$1015,$G361,$H$19:$H$1015)+SUMIF('2.cTë ardhura-jopublik-nënatyrë'!$G$19:$G$1015,'2.bTë ardhura-jopublik-monetare'!$G361,'2.cTë ardhura-jopublik-nënatyrë'!$H$19:$H$1015)","v":0}]
[null,null,null,null,null,null,null,null,null,{"$f":"SUMIF($G$19:$G$1015,$G362,$H$19:$H$1015)+SUMIF('2.cTë ardhura-jopublik-nënatyrë'!$G$19:$G$1015,'2.bTë ardhura-jopublik-monetare'!$G362,'2.cTë ardhura-jopublik-nënatyrë'!$H$19:$H$1015)","v":0}]
[null,null,null,null,null,null,null,null,null,{"$f":"SUMIF($G$19:$G$1015,$G363,$H$19:$H$1015)+SUMIF('2.cTë ardhura-jopublik-nënatyrë'!$G$19:$G$1015,'2.bTë ardhura-jopublik-monetare'!$G363,'2.cTë ardhura-jopublik-nënatyrë'!$H$19:$H$1015)","v":0}]
[]
[]
[]
[]
[]
[]
[]
[]
[]
[]
[]
[]
[]
[]
[]
[]
[]
[]
[]
[]
[]
[]
[]
[]
[]
[]
[]
[]
[]
[]
[]
[]
[]
[]
[]
[]
[]
[]
[]
[]
[]
[]
[]
[]
[]
[]
[]
[]
[]
[]
[]
[]
[]
[]
[]
[]
[]
[]
[]
[]
[]
[]
[]
[]
[]
[]
[]
[]
[]
[]
[]
[]
[]
[]
[]
[]
[]
[]
[]
[]
[]
[]
[]
[]
[]
[]
[]
[]
[]
[]
[]
[]
[]
[]
[]
[]
[]
[]
[]
[]
[]
[]
[]
[]
[]
[]
[]
[]
[]
[]
[]
[]
[]
[]
[]
[]
[]
[]
[]
[]
[]
[]
[]
[]
[]
[]
[]
[]
[]
[]
[]
[]
[]
[]
[]
[]
[]
[]
[]
[]
[]
[]
[]
[]
[]
[]
[]
[]
[]
[]
[]
[]
[]
[]
[]
[]
[]
[]
[]
[]
[]
[]
[]
[]
[]
[]
[]
[]
[]
[]
[]
[]
[]
[]
[]
[]
[]
[]
[]
[]
[]
[]
[]
[]
[]
[]
[]
[]
[]
[]
[]
[]
[]
[]
[]
[]
[]
[]
[]
[]
[]
[]
[]
[]
[]
[]
[]
[]
[]
[]
[]
[]
[]
[]
[]
[]
[]
[]
[]
[]
[]
[]
[]
[]
[]
[]
[]
[]
[]
[]
[]
[]
[]
[]
[]
[]
[]
[]
[]
[]
[]
[]
[]
[]
[]
[]
[]
[]
[]
[]
[]
[]
[]
[]
[]
[]
[]
[]
[]
[]
[]
[]
[]
[]
[]
[]
[]
[]
[]
[]
[]
[]
[]
[]
[]
[]
[]
[]
[]
[]
[]
[]
[]
[]
[]
[]
[]
[]
[]
[]
[]
[]
[]
[]
[]
[]
[]
[]
[]
[]
[]
[]
[]
[]
[]
[]
[]
[]
[]
[]
[]
[]
[]
[]
[]
[]
[]
[]
[]
[]
[]
[]
[]
[]
[]
[]
[]
[]
[]
[]
[]
[]
[]
[]
[]
[]
[]
[]
[]
[]
[]
[]
[]
[]
[]
[]
[]
[]
[]
[]
[]
[]
[]
[]
[]
[]
[]
[]
[]
[]
[]
[]
[]
[]
[]
[]
[]
[]
[]
[]
[]
[]
[]
[]
[]
[]
[]
[]
[]
[]
[]
[]
[]
[]
[]
[]
[]
[]
[]
[]
[]
[]
[]
[]
[]
[]
[]
[]
[]
[]
[]
[]
[]
[]
[]
[]
[]
[]
[]
[]
[]
[]
[]
[]
[]
[]
[]
[]
[]
[]
[]
[]
[]
[]
[]
[]
[]
[]
[]
[]
[]
[]
[]
[]
[]
[]
[]
[]
[]
[]
[]
[]
[]
[]
[]
[]
[]
[]
[]
[]
[]
[]
[]
[]
[]
[]
[]
[]
[]
[]
[]
[]
[]
[]
[]
[]
[]
[]
[]
[]
[]
[]
[]
[]
[]
[]
[]
[]
[]
[]
[]
[]
[]
[]
[]
[]
[]
[]
[]
[]
[]
[]
[]
[]
[]
[]
[]
[]
[]
[]
[]
[]
[]
[]
[]
[]
[]
[]
[]
[]
[]
[]
[]
[]
[]
[]
[]
[]
[]
[]
[]
[]
[]
[]
[]
[]
[]
[]
[]
[]
[]
[]
[]
[]
[]
[]
[]
[]
[]
[]
[]
[]
[]
[]
[]
[]
[]
[]
[]
[]
[]
[]
[]
[]
[]
[]
[]
[]
[]
[]
[]
[]
[]
[]
[]
[]
[]
[]
[]
[]
[]
[]
[]
[]
[]
[]
[]
[]
[]
[]
[]
[]
[]
[]
[]
[]
[]
[]
[]
[]
[]
[]
[]
[]
[]
[]
[]
[]
[]
[]
[]
[]
[]
[]
[]
[]
[]
[]
[]
[]
[]
[]
[]
[]
[]
[]
[]
[]
[]
[]
[]
[]
[]
[]
[]
[]
[]
[]
[]
[]
[]
[]
[]
[]
[]
[]
[]
[]
[]
[]
[]
[]
[]
[]
[]
[]
[]
[]
[]
[]
[]
[]
[null,null,null,null,null,null,null,null,null,{"$f":"SUMIF($G$19:$G$1015,$G1016,$H$19:$H$1015)","v":0}]
[null,null,null,null,null,null,null,null,null,0]
[null,null,null,null,null,null,null,null,null,0]
[null,null,null,null,null,null,null,null,null,0]
[null,null,null,null,null,null,null,null,null,0]
[null,null,null,null,null,null,null,null,null,0]
[null,null,null,null,null,null,null,null,null,0]
[null,null,null,null,null,null,null,null,null,0]
[null,null,null,null,null,null,null,null,null,0]
[null,null,null,null,null,null,null,null,null,0]
[null,null,null,null,null,null,null,null,null,0]
[null,null,null,null,null,null,null,null,null,0]
[null,null,null,null,null,null,null,null,null,0]
[null,null,null,null,null,null,null,null,null,0]
[null,null,null,null,null,null,null,null,null,0]
[null,null,null,null,null,null,null,null,null,0]
[null,null,null,null,null,null,null,null,null,0]
[null,null,null,null,null,null,null,null,null,0]
[null,null,null,null,null,null,null,null,null,0]
[null,null,null,null,null,null,null,null,null,0]
[null,null,null,null,null,null,null,null,null,0]
[null,null,null,null,null,null,null,null,null,0]
[null,null,null,null,null,null,null,null,null,0]
[null,null,null,null,null,null,null,null,null,0]
[null,null,null,null,null,null,null,null,null,0]
[null,null,null,null,null,null,null,null,null,0]
[null,null,null,null,null,null,null,null,null,0]
[null,null,null,null,null,null,null,null,null,0]
[null,null,null,null,null,null,null,null,null,0]
[null,null,null,null,null,null,null,null,null,0]
[null,null,null,null,null,null,null,null,null,0]
[null,null,null,null,null,null,null,null,null,0]
[null,null,null,null,null,null,null,null,null,0]
[null,null,null,null,null,null,null,null,null,0]
[null,null,null,null,null,null,null,null,null,0]
[null,null,null,null,null,null,null,null,null,0]
[null,null,null,null,null,null,null,null,null,0]
[null,null,null,null,null,null,null,null,null,0]
[null,null,null,null,null,null,null,null,null,0]
[null,null,null,null,null,null,null,null,null,0]
[null,null,null,null,null,null,null,null,null,0]
[null,null,null,null,null,null,null,null,null,0]
[null,null,null,null,null,null,null,null,null,0]
[null,null,null,null,null,null,null,null,null,0]
[null,null,null,null,null,null,null,null,null,0]
[null,null,null,null,null,null,null,null,null,0]
[null,null,null,null,null,null,null,null,null,0]
[null,null,null,null,null,null,null,null,null,0]
[null,null,null,null,null,null,null,null,null,0]
[null,null,null,null,null,null,null,null,null,0]
[null,null,null,null,null,null,null,null,null,0]
[null,null,null,null,null,null,null,null,null,0]
[null,null,null,null,null,null,null,null,null,0]
[null,null,null,null,null,null,null,null,null,0]
[null,null,null,null,null,null,null,null,null,0]
[null,null,null,null,null,null,null,null,null,0]
[null,null,null,null,null,null,null,null,null,0]
[null,null,null,null,null,null,null,null,null,0]
[null,null,null,null,null,null,null,null,null,0]
[null,null,null,null,null,null,null,null,null,0]
[null,null,null,null,null,null,null,null,null,0]
[null,null,null,null,null,null,null,null,null,0]
[null,null,null,null,null,null,null,null,null,0]
[null,null,null,null,null,null,null,null,null,0]
[null,null,null,null,null,null,null,null,null,{"$f":"SUMIF($G$19:$G$1015,$G1080,$H$19:$H$1015)","v":0}]
[null,null,null,null,null,null,null,null,null,0]
[null,null,null,null,null,null,null,null,null,0]
[null,null,null,null,null,null,null,null,null,0]
[null,null,null,null,null,null,null,null,null,0]
[null,null,null,null,null,null,null,null,null,0]
[null,null,null,null,null,null,null,null,null,0]
[null,null,null,null,null,null,null,null,null,0]
[null,null,null,null,null,null,null,null,null,0]
[null,null,null,null,null,null,null,null,null,0]
[null,null,null,null,null,null,null,null,null,0]
[null,null,null,null,null,null,null,null,null,0]
[null,null,null,null,null,null,null,null,null,0]
[null,null,null,null,null,null,null,null,null,0]
[null,null,null,null,null,null,null,null,null,0]
[null,null,null,null,null,null,null,null,null,0]
[null,null,null,null,null,null,null,null,null,0]
[null,null,null,null,null,null,null,null,null,0]
[null,null,null,null,null,null,null,null,null,0]
[null,null,null,null,null,null,null,null,null,0]
[null,null,null,null,null,null,null,null,null,0]
[null,null,null,null,null,null,null,null,null,0]
[null,null,null,null,null,null,null,null,null,0]
[null,null,null,null,null,null,null,null,null,0]
[null,null,null,null,null,null,null,null,null,0]
[null,null,null,null,null,null,null,null,null,0]
[null,null,null,null,null,null,null,null,null,0]
[null,null,null,null,null,null,null,null,null,0]
[null,null,null,null,null,null,null,null,null,0]
[null,null,null,null,null,null,null,null,null,0]
[null,null,null,null,null,null,null,null,null,0]
[null,null,null,null,null,null,null,null,null,0]
[null,null,null,null,null,null,null,null,null,0]
[null,null,null,null,null,null,null,null,null,0]
[null,null,null,null,null,null,null,null,null,0]
[null,null,null,null,null,null,null,null,null,0]
[null,null,null,null,null,null,null,null,null,0]
[null,null,null,null,null,null,null,null,null,0]
[null,null,null,null,null,null,null,null,null,0]
[null,null,null,null,null,null,null,null,null,0]
[null,null,null,null,null,null,null,null,null,0]
[null,null,null,null,null,null,null,null,null,0]
[null,null,null,null,null,null,null,null,null,0]
[null,null,null,null,null,null,null,null,null,0]
[null,null,null,null,null,null,null,null,null,0]
[null,null,null,null,null,null,null,null,null,0]
[null,null,null,null,null,null,null,null,null,0]
[null,null,null,null,null,null,null,null,null,0]
[null,null,null,null,null,null,null,null,null,0]
[null,null,null,null,null,null,null,null,null,0]
[null,null,null,null,null,null,null,null,null,0]
[null,null,null,null,null,null,null,null,null,0]
[null,null,null,null,null,null,null,null,null,0]
[null,null,null,null,null,null,null,null,null,0]
[null,null,null,null,null,null,null,null,null,0]
[null,null,null,null,null,null,null,null,null,0]
[null,null,null,null,null,null,null,null,null,0]
[null,null,null,null,null,null,null,null,null,0]
[null,null,null,null,null,null,null,null,null,0]
[null,null,null,null,null,null,null,null,null,0]
[null,null,null,null,null,null,null,null,null,0]
[null,null,null,null,null,null,null,null,null,0]
[null,null,null,null,null,null,null,null,null,0]
[null,null,null,null,null,null,null,null,null,0]
[null,null,null,null,null,null,null,null,null,{"$f":"SUMIF($G$19:$G$1015,$G1144,$H$19:$H$1015)","v":0}]
[null,null,null,null,null,null,null,null,null,0]
[null,null,null,null,null,null,null,null,null,0]
[null,null,null,null,null,null,null,null,null,0]
[null,null,null,null,null,null,null,null,null,0]
[null,null,null,null,null,null,null,null,null,0]
[null,null,null,null,null,null,null,null,null,0]
[null,null,null,null,null,null,null,null,null,0]
[null,null,null,null,null,null,null,null,null,0]
[null,null,null,null,null,null,null,null,null,0]
[null,null,null,null,null,null,null,null,null,0]
[null,null,null,null,null,null,null,null,null,0]
[null,null,null,null,null,null,null,null,null,0]
[null,null,null,null,null,null,null,null,null,0]
[null,null,null,null,null,null,null,null,null,0]
[null,null,null,null,null,null,null,null,null,0]
[null,null,null,null,null,null,null,null,null,0]
[null,null,null,null,null,null,null,null,null,0]
[null,null,null,null,null,null,null,null,null,0]
[null,null,null,null,null,null,null,null,null,0]
[null,null,null,null,null,null,null,null,null,0]
[null,null,null,null,null,null,null,null,null,0]
[null,null,null,null,null,null,null,null,null,0]
[null,null,null,null,null,null,null,null,null,0]
[null,null,null,null,null,null,null,null,null,0]
[null,null,null,null,null,null,null,null,null,0]
[null,null,null,null,null,null,null,null,null,0]
[null,null,null,null,null,null,null,null,null,0]
[null,null,null,null,null,null,null,null,null,0]
[null,null,null,null,null,null,null,null,null,0]
[null,null,null,null,null,null,null,null,null,0]
[null,null,null,null,null,null,null,null,null,0]
[null,null,null,null,null,null,null,null,null,0]
[null,null,null,null,null,null,null,null,null,0]
[null,null,null,null,null,null,null,null,null,0]
[null,null,null,null,null,null,null,null,null,0]
[null,null,null,null,null,null,null,null,null,0]
[null,null,null,null,null,null,null,null,null,0]
[null,null,null,null,null,null,null,null,null,0]
[null,null,null,null,null,null,null,null,null,0]
[null,null,null,null,null,null,null,null,null,0]
[null,null,null,null,null,null,null,null,null,0]
[null,null,null,null,null,null,null,null,null,0]
[null,null,null,null,null,null,null,null,null,0]
[null,null,null,null,null,null,null,null,null,0]
[null,null,null,null,null,null,null,null,null,0]
[null,null,null,null,null,null,null,null,null,0]
[null,null,null,null,null,null,null,null,null,0]
[null,null,null,null,null,null,null,null,null,0]
[null,null,null,null,null,null,null,null,null,0]
[null,null,null,null,null,null,null,null,null,0]
[null,null,null,null,null,null,null,null,null,0]
[null,null,null,null,null,null,null,null,null,0]
[null,null,null,null,null,null,null,null,null,0]
[null,null,null,null,null,null,null,null,null,0]
[null,null,null,null,null,null,null,null,null,0]
[null,null,null,null,null,null,null,null,null,0]
[null,null,null,null,null,null,null,null,null,0]
[null,null,null,null,null,null,null,null,null,0]
[null,null,null,null,null,null,null,null,null,0]
[null,null,null,null,null,null,null,null,null,0]
[null,null,null,null,null,null,null,null,null,0]
[null,null,null,null,null,null,null,null,null,0]
[null,null,null,null,null,null,null,null,null,0]
[null,null,null,null,null,null,null,null,null,{"$f":"SUMIF($G$19:$G$1015,$G1208,$H$19:$H$1015)","v":0}]
[null,null,null,null,null,null,null,null,null,0]
[null,null,null,null,null,null,null,null,null,0]
[null,null,null,null,null,null,null,null,null,0]
[null,null,null,null,null,null,null,null,null,0]
[null,null,null,null,null,null,null,null,null,0]
[null,null,null,null,null,null,null,null,null,0]
[null,null,null,null,null,null,null,null,null,0]
[null,null,null,null,null,null,null,null,null,0]
[null,null,null,null,null,null,null,null,null,0]
[null,null,null,null,null,null,null,null,null,0]
[null,null,null,null,null,null,null,null,null,0]
[null,null,null,null,null,null,null,null,null,0]
[null,null,null,null,null,null,null,null,null,0]
[null,null,null,null,null,null,null,null,null,0]
[null,null,null,null,null,null,null,null,null,0]
[null,null,null,null,null,null,null,null,null,0]
[null,null,null,null,null,null,null,null,null,0]
[null,null,null,null,null,null,null,null,null,0]
[null,null,null,null,null,null,null,null,null,0]
[null,null,null,null,null,null,null,null,null,0]
[null,null,null,null,null,null,null,null,null,0]
[null,null,null,null,null,null,null,null,null,0]
[null,null,null,null,null,null,null,null,null,0]
[null,null,null,null,null,null,null,null,null,0]
[null,null,null,null,null,null,null,null,null,0]
[null,null,null,null,null,null,null,null,null,0]
[null,null,null,null,null,null,null,null,null,0]
[null,null,null,null,null,null,null,null,null,0]
[null,null,null,null,null,null,null,null,null,0]
[null,null,null,null,null,null,null,null,null,0]
[null,null,null,null,null,null,null,null,null,0]
[null,null,null,null,null,null,null,null,null,0]
[null,null,null,null,null,null,null,null,null,0]
[null,null,null,null,null,null,null,null,null,0]
[null,null,null,null,null,null,null,null,null,0]
[null,null,null,null,null,null,null,null,null,0]
[null,null,null,null,null,null,null,null,null,0]
[null,null,null,null,null,null,null,null,null,0]
[null,null,null,null,null,null,null,null,null,0]
[null,null,null,null,null,null,null,null,null,0]
[null,null,null,null,null,null,null,null,null,0]
[null,null,null,null,null,null,null,null,null,0]
[null,null,null,null,null,null,null,null,null,0]
[null,null,null,null,null,null,null,null,null,0]
[null,null,null,null,null,null,null,null,null,0]
[null,null,null,null,null,null,null,null,null,0]
[null,null,null,null,null,null,null,null,null,0]
[null,null,null,null,null,null,null,null,null,0]
[null,null,null,null,null,null,null,null,null,0]
[null,null,null,null,null,null,null,null,null,0]
[null,null,null,null,null,null,null,null,null,0]
[null,null,null,null,null,null,null,null,null,0]
[null,null,null,null,null,null,null,null,null,0]
[null,null,null,null,null,null,null,null,null,0]
[null,null,null,null,null,null,null,null,null,0]
[null,null,null,null,null,null,null,null,null,0]
[null,null,null,null,null,null,null,null,null,0]
[null,null,null,null,null,null,null,null,null,0]
[null,null,null,null,null,null,null,null,null,0]
[null,null,null,null,null,null,null,null,null,0]
[null,null,null,null,null,null,null,null,null,0]
[null,null,null,null,null,null,null,null,null,0]
[null,null,null,null,null,null,null,null,null,0]
[null,null,null,null,null,null,null,null,null,{"$f":"SUMIF($G$19:$G$1015,$G1272,$H$19:$H$1015)","v":0}]
[null,null,null,null,null,null,null,null,null,0]
[null,null,null,null,null,null,null,null,null,0]
[null,null,null,null,null,null,null,null,null,0]
[null,null,null,null,null,null,null,null,null,0]
[null,null,null,null,null,null,null,null,null,0]
[null,null,null,null,null,null,null,null,null,0]
[null,null,null,null,null,null,null,null,null,0]
[null,null,null,null,null,null,null,null,null,0]
[null,null,null,null,null,null,null,null,null,0]
[null,null,null,null,null,null,null,null,null,0]
[null,null,null,null,null,null,null,null,null,0]
[null,null,null,null,null,null,null,null,null,0]
[null,null,null,null,null,null,null,null,null,0]
[null,null,null,null,null,null,null,null,null,0]
[null,null,null,null,null,null,null,null,null,0]
[null,null,null,null,null,null,null,null,null,0]
[null,null,null,null,null,null,null,null,null,0]
[null,null,null,null,null,null,null,null,null,0]
[null,null,null,null,null,null,null,null,null,0]
[null,null,null,null,null,null,null,null,null,0]
[null,null,null,null,null,null,null,null,null,0]
[null,null,null,null,null,null,null,null,null,0]
[null,null,null,null,null,null,null,null,null,0]
[null,null,null,null,null,null,null,null,null,0]
[null,null,null,null,null,null,null,null,null,0]
[null,null,null,null,null,null,null,null,null,0]
[null,null,null,null,null,null,null,null,null,0]
[null,null,null,null,null,null,null,null,null,0]
[null,null,null,null,null,null,null,null,null,0]
[null,null,null,null,null,null,null,null,null,0]
[null,null,null,null,null,null,null,null,null,0]
[null,null,null,null,null,null,null,null,null,0]
[null,null,null,null,null,null,null,null,null,0]
[null,null,null,null,null,null,null,null,null,0]
[null,null,null,null,null,null,null,null,null,0]
[null,null,null,null,null,null,null,null,null,0]
[null,null,null,null,null,null,null,null,null,0]
[null,null,null,null,null,null,null,null,null,0]
[null,null,null,null,null,null,null,null,null,0]
[null,null,null,null,null,null,null,null,null,0]
[null,null,null,null,null,null,null,null,null,0]
[null,null,null,null,null,null,null,null,null,0]
[null,null,null,null,null,null,null,null,null,0]
[null,null,null,null,null,null,null,null,null,0]
[null,null,null,null,null,null,null,null,null,0]
[null,null,null,null,null,null,null,null,null,0]
[null,null,null,null,null,null,null,null,null,0]
[null,null,null,null,null,null,null,null,null,0]
[null,null,null,null,null,null,null,null,null,0]
[null,null,null,null,null,null,null,null,null,0]
[null,null,null,null,null,null,null,null,null,0]
[null,null,null,null,null,null,null,null,null,0]
[null,null,null,null,null,null,null,null,null,0]
[null,null,null,null,null,null,null,null,null,0]
[null,null,null,null,null,null,null,null,null,0]
[null,null,null,null,null,null,null,null,null,0]
[null,null,null,null,null,null,null,null,null,0]
[null,null,null,null,null,null,null,null,null,0]
[null,null,null,null,null,null,null,null,null,0]
[null,null,null,null,null,null,null,null,null,0]
[null,null,null,null,null,null,null,null,null,0]
[null,null,null,null,null,null,null,null,null,0]
[null,null,null,null,null,null,null,null,null,0]
[null,null,null,null,null,null,null,null,null,{"$f":"SUMIF($G$19:$G$1015,$G1336,$H$19:$H$1015)","v":0}]
[null,null,null,null,null,null,null,null,null,0]
[null,null,null,null,null,null,null,null,null,0]
[null,null,null,null,null,null,null,null,null,0]
[null,null,null,null,null,null,null,null,null,0]
[null,null,null,null,null,null,null,null,null,0]
[null,null,null,null,null,null,null,null,null,0]
[null,null,null,null,null,null,null,null,null,0]
[null,null,null,null,null,null,null,null,null,0]
[null,null,null,null,null,null,null,null,null,0]
[null,null,null,null,null,null,null,null,null,0]
[null,null,null,null,null,null,null,null,null,0]
[null,null,null,null,null,null,null,null,null,0]
[null,null,null,null,null,null,null,null,null,0]
[null,null,null,null,null,null,null,null,null,0]
[null,null,null,null,null,null,null,null,null,0]
[null,null,null,null,null,null,null,null,null,0]
[null,null,null,null,null,null,null,null,null,0]
[null,null,null,null,null,null,null,null,null,0]
[null,null,null,null,null,null,null,null,null,0]
[null,null,null,null,null,null,null,null,null,0]
[null,null,null,null,null,null,null,null,null,0]
[null,null,null,null,null,null,null,null,null,0]
[null,null,null,null,null,null,null,null,null,0]
[null,null,null,null,null,null,null,null,null,0]
[null,null,null,null,null,null,null,null,null,0]
[null,null,null,null,null,null,null,null,null,0]
[null,null,null,null,null,null,null,null,null,0]
[null,null,null,null,null,null,null,null,null,0]
[null,null,null,null,null,null,null,null,null,0]
[null,null,null,null,null,null,null,null,null,0]
[null,null,null,null,null,null,null,null,null,0]
[null,null,null,null,null,null,null,null,null,0]
[null,null,null,null,null,null,null,null,null,0]
[null,null,null,null,null,null,null,null,null,0]
[null,null,null,null,null,null,null,null,null,0]
[null,null,null,null,null,null,null,null,null,0]
[null,null,null,null,null,null,null,null,null,0]
[null,null,null,null,null,null,null,null,null,0]
[null,null,null,null,null,null,null,null,null,0]
[null,null,null,null,null,null,null,null,null,0]
[null,null,null,null,null,null,null,null,null,0]
[null,null,null,null,null,null,null,null,null,0]
[null,null,null,null,null,null,null,null,null,0]
[null,null,null,null,null,null,null,null,null,0]
[null,null,null,null,null,null,null,null,null,0]
[null,null,null,null,null,null,null,null,null,0]
[null,null,null,null,null,null,null,null,null,0]
[null,null,null,null,null,null,null,null,null,0]
[null,null,null,null,null,null,null,null,null,0]
[null,null,null,null,null,null,null,null,null,0]
[null,null,null,null,null,null,null,null,null,0]
[null,null,null,null,null,null,null,null,null,0]
[null,null,null,null,null,null,null,null,null,0]
[null,null,null,null,null,null,null,null,null,0]
[null,null,null,null,null,null,null,null,null,0]
[null,null,null,null,null,null,null,null,null,0]
[null,null,null,null,null,null,null,null,null,0]
[null,null,null,null,null,null,null,null,null,0]
[null,null,null,null,null,null,null,null,null,0]
[null,null,null,null,null,null,null,null,null,0]
[null,null,null,null,null,null,null,null,null,0]
[null,null,null,null,null,null,null,null,null,0]
[null,null,null,null,null,null,null,null,null,0]
[null,null,null,null,null,null,null,null,null,{"$f":"SUMIF($G$19:$G$1015,$G1400,$H$19:$H$1015)","v":0}]
[null,null,null,null,null,null,null,null,null,0]
[null,null,null,null,null,null,null,null,null,0]
[null,null,null,null,null,null,null,null,null,0]
[null,null,null,null,null,null,null,null,null,0]
[null,null,null,null,null,null,null,null,null,0]
[null,null,null,null,null,null,null,null,null,0]
[null,null,null,null,null,null,null,null,null,0]
[null,null,null,null,null,null,null,null,null,0]
[null,null,null,null,null,null,null,null,null,0]
[null,null,null,null,null,null,null,null,null,0]
[null,null,null,null,null,null,null,null,null,0]
[null,null,null,null,null,null,null,null,null,0]
[null,null,null,null,null,null,null,null,null,0]
[null,null,null,null,null,null,null,null,null,0]
[null,null,null,null,null,null,null,null,null,0]
[null,null,null,null,null,null,null,null,null,0]
[null,null,null,null,null,null,null,null,null,0]
[null,null,null,null,null,null,null,null,null,0]
[null,null,null,null,null,null,null,null,null,0]
[null,null,null,null,null,null,null,null,null,0]
[null,null,null,null,null,null,null,null,null,0]
[null,null,null,null,null,null,null,null,null,0]
[null,null,null,null,null,null,null,null,null,0]
[null,null,null,null,null,null,null,null,null,0]
[null,null,null,null,null,null,null,null,null,0]
[null,null,null,null,null,null,null,null,null,0]
[null,null,null,null,null,null,null,null,null,0]
[null,null,null,null,null,null,null,null,null,0]
[null,null,null,null,null,null,null,null,null,0]
[null,null,null,null,null,null,null,null,null,0]
[null,null,null,null,null,null,null,null,null,0]
[null,null,null,null,null,null,null,null,null,0]
[null,null,null,null,null,null,null,null,null,0]
[null,null,null,null,null,null,null,null,null,0]
[null,null,null,null,null,null,null,null,null,0]
[null,null,null,null,null,null,null,null,null,0]
[null,null,null,null,null,null,null,null,null,0]
[null,null,null,null,null,null,null,null,null,0]
[null,null,null,null,null,null,null,null,null,0]
[null,null,null,null,null,null,null,null,null,0]
[null,null,null,null,null,null,null,null,null,0]
[null,null,null,null,null,null,null,null,null,0]
[null,null,null,null,null,null,null,null,null,0]
[null,null,null,null,null,null,null,null,null,0]
[null,null,null,null,null,null,null,null,null,0]
[null,null,null,null,null,null,null,null,null,0]
[null,null,null,null,null,null,null,null,null,0]
[null,null,null,null,null,null,null,null,null,0]
[null,null,null,null,null,null,null,null,null,0]
[null,null,null,null,null,null,null,null,null,0]
[null,null,null,null,null,null,null,null,null,0]
[null,null,null,null,null,null,null,null,null,0]
[null,null,null,null,null,null,null,null,null,0]
[null,null,null,null,null,null,null,null,null,0]
[null,null,null,null,null,null,null,null,null,0]
[null,null,null,null,null,null,null,null,null,0]
[null,null,null,null,null,null,null,null,null,0]
[null,null,null,null,null,null,null,null,null,0]
[null,null,null,null,null,null,null,null,null,0]
[null,null,null,null,null,null,null,null,null,0]
[null,null,null,null,null,null,null,null,null,0]
[null,null,null,null,null,null,null,null,null,0]
[null,null,null,null,null,null,null,null,null,0]
[null,null,null,null,null,null,null,null,null,{"$f":"SUMIF($G$19:$G$1015,$G1464,$H$19:$H$1015)","v":0}]
[null,null,null,null,null,null,null,null,null,0]
[null,null,null,null,null,null,null,null,null,0]
[null,null,null,null,null,null,null,null,null,0]
[null,null,null,null,null,null,null,null,null,0]
[null,null,null,null,null,null,null,null,null,0]
[null,null,null,null,null,null,null,null,null,0]
[null,null,null,null,null,null,null,null,null,0]
[null,null,null,null,null,null,null,null,null,0]
[null,null,null,null,null,null,null,null,null,0]
[null,null,null,null,null,null,null,null,null,0]
[null,null,null,null,null,null,null,null,null,0]
[null,null,null,null,null,null,null,null,null,0]
[null,null,null,null,null,null,null,null,null,0]
[null,null,null,null,null,null,null,null,null,0]
[null,null,null,null,null,null,null,null,null,0]
[null,null,null,null,null,null,null,null,null,0]
[null,null,null,null,null,null,null,null,null,0]
[null,null,null,null,null,null,null,null,null,0]
[null,null,null,null,null,null,null,null,null,0]
[null,null,null,null,null,null,null,null,null,0]
[null,null,null,null,null,null,null,null,null,0]
[null,null,null,null,null,null,null,null,null,0]
[null,null,null,null,null,null,null,null,null,0]
[null,null,null,null,null,null,null,null,null,0]
[null,null,null,null,null,null,null,null,null,0]
[null,null,null,null,null,null,null,null,null,0]
[null,null,null,null,null,null,null,null,null,0]
[null,null,null,null,null,null,null,null,null,0]
[null,null,null,null,null,null,null,null,null,0]
[null,null,null,null,null,null,null,null,null,0]
[null,null,null,null,null,null,null,null,null,0]
[null,null,null,null,null,null,null,null,null,0]
[null,null,null,null,null,null,null,null,null,0]
[null,null,null,null,null,null,null,null,null,0]
[null,null,null,null,null,null,null,null,null,0]
[null,null,null,null,null,null,null,null,null,0]
[null,null,null,null,null,null,null,null,null,0]
[null,null,null,null,null,null,null,null,null,0]
[null,null,null,null,null,null,null,null,null,0]
[null,null,null,null,null,null,null,null,null,0]
[null,null,null,null,null,null,null,null,null,0]
[null,null,null,null,null,null,null,null,null,0]
[null,null,null,null,null,null,null,null,null,0]
[null,null,null,null,null,null,null,null,null,0]
[null,null,null,null,null,null,null,null,null,0]
[null,null,null,null,null,null,null,null,null,0]
[null,null,null,null,null,null,null,null,null,0]
[null,null,null,null,null,null,null,null,null,0]
[null,null,null,null,null,null,null,null,null,0]
[null,null,null,null,null,null,null,null,null,0]
[null,null,null,null,null,null,null,null,null,0]
[null,null,null,null,null,null,null,null,null,0]
[null,null,null,null,null,null,null,null,null,0]
[null,null,null,null,null,null,null,null,null,0]
[null,null,null,null,null,null,null,null,null,0]
[null,null,null,null,null,null,null,null,null,0]
[null,null,null,null,null,null,null,null,null,0]
[null,null,null,null,null,null,null,null,null,0]
[null,null,null,null,null,null,null,null,null,0]
[null,null,null,null,null,null,null,null,null,0]
[null,null,null,null,null,null,null,null,null,0]
[null,null,null,null,null,null,null,null,null,0]
[null,null,null,null,null,null,null,null,null,0]
[null,null,null,null,null,null,null,null,null,{"$f":"SUMIF($G$19:$G$1015,$G1528,$H$19:$H$1015)","v":0}]
[null,null,null,null,null,null,null,null,null,0]
[null,null,null,null,null,null,null,null,null,0]
[null,null,null,null,null,null,null,null,null,0]
[null,null,null,null,null,null,null,null,null,0]
[null,null,null,null,null,null,null,null,null,0]
[null,null,null,null,null,null,null,null,null,0]
[null,null,null,null,null,null,null,null,null,0]
[null,null,null,null,null,null,null,null,null,0]
[null,null,null,null,null,null,null,null,null,0]
[null,null,null,null,null,null,null,null,null,0]
[null,null,null,null,null,null,null,null,null,0]
[null,null,null,null,null,null,null,null,null,0]
[null,null,null,null,null,null,null,null,null,0]
[null,null,null,null,null,null,null,null,null,0]
[null,null,null,null,null,null,null,null,null,0]
[null,null,null,null,null,null,null,null,null,0]
[null,null,null,null,null,null,null,null,null,0]
[null,null,null,null,null,null,null,null,null,0]
[null,null,null,null,null,null,null,null,null,0]
[null,null,null,null,null,null,null,null,null,0]
[null,null,null,null,null,null,null,null,null,0]
[null,null,null,null,null,null,null,null,null,0]
[null,null,null,null,null,null,null,null,null,0]
[null,null,null,null,null,null,null,null,null,0]
[null,null,null,null,null,null,null,null,null,0]
[null,null,null,null,null,null,null,null,null,0]
[null,null,null,null,null,null,null,null,null,0]
[null,null,null,null,null,null,null,null,null,0]
[null,null,null,null,null,null,null,null,null,0]
[null,null,null,null,null,null,null,null,null,0]
[null,null,null,null,null,null,null,null,null,0]
[null,null,null,null,null,null,null,null,null,0]
[null,null,null,null,null,null,null,null,null,0]
[null,null,null,null,null,null,null,null,null,0]
[null,null,null,null,null,null,null,null,null,0]
[null,null,null,null,null,null,null,null,null,0]
[null,null,null,null,null,null,null,null,null,0]
[null,null,null,null,null,null,null,null,null,0]
[null,null,null,null,null,null,null,null,null,0]
[null,null,null,null,null,null,null,null,null,0]
[null,null,null,null,null,null,null,null,null,0]
[null,null,null,null,null,null,null,null,null,0]
[null,null,null,null,null,null,null,null,null,0]
[null,null,null,null,null,null,null,null,null,0]
[null,null,null,null,null,null,null,null,null,0]
[null,null,null,null,null,null,null,null,null,0]
[null,null,null,null,null,null,null,null,null,0]
[null,null,null,null,null,null,null,null,null,0]
[null,null,null,null,null,null,null,null,null,0]
[null,null,null,null,null,null,null,null,null,0]
[null,null,null,null,null,null,null,null,null,0]
[null,null,null,null,null,null,null,null,null,0]
[null,null,null,null,null,null,null,null,null,0]
[null,null,null,null,null,null,null,null,null,0]
[null,null,null,null,null,null,null,null,null,0]
[null,null,null,null,null,null,null,null,null,0]
[null,null,null,null,null,null,null,null,null,0]
[null,null,null,null,null,null,null,null,null,0]
[null,null,null,null,null,null,null,null,null,0]
[null,null,null,null,null,null,null,null,null,0]
[null,null,null,null,null,null,null,null,null,0]
[null,null,null,null,null,null,null,null,null,0]
[null,null,null,null,null,null,null,null,null,0]
[null,null,null,null,null,null,null,null,null,{"$f":"SUMIF($G$19:$G$1015,$G1592,$H$19:$H$1015)","v":0}]
[null,null,null,null,null,null,null,null,null,0]
[null,null,null,null,null,null,null,null,null,0]
[null,null,null,null,null,null,null,null,null,0]
[null,null,null,null,null,null,null,null,null,0]
[null,null,null,null,null,null,null,null,null,0]
[null,null,null,null,null,null,null,null,null,0]
[null,null,null,null,null,null,null,null,null,0]
[null,null,null,null,null,null,null,null,null,0]
[null,null,null,null,null,null,null,null,null,0]
[null,null,null,null,null,null,null,null,null,0]
[null,null,null,null,null,null,null,null,null,0]
[null,null,null,null,null,null,null,null,null,0]
[null,null,null,null,null,null,null,null,null,0]
[null,null,null,null,null,null,null,null,null,0]
[null,null,null,null,null,null,null,null,null,0]
[null,null,null,null,null,null,null,null,null,0]
[null,null,null,null,null,null,null,null,null,0]
[null,null,null,null,null,null,null,null,null,0]
[null,null,null,null,null,null,null,null,null,0]
[null,null,null,null,null,null,null,null,null,0]
[null,null,null,null,null,null,null,null,null,0]
[null,null,null,null,null,null,null,null,null,0]
[null,null,null,null,null,null,null,null,null,0]
[null,null,null,null,null,null,null,null,null,0]
[null,null,null,null,null,null,null,null,null,0]
[null,null,null,null,null,null,null,null,null,0]
[null,null,null,null,null,null,null,null,null,0]
[null,null,null,null,null,null,null,null,null,0]
[null,null,null,null,null,null,null,null,null,0]
[null,null,null,null,null,null,null,null,null,0]
[null,null,null,null,null,null,null,null,null,0]
[null,null,null,null,null,null,null,null,null,0]
[null,null,null,null,null,null,null,null,null,0]
[null,null,null,null,null,null,null,null,null,0]
[null,null,null,null,null,null,null,null,null,0]
[null,null,null,null,null,null,null,null,null,0]
[null,null,null,null,null,null,null,null,null,0]
[null,null,null,null,null,null,null,null,null,0]
[null,null,null,null,null,null,null,null,null,0]
[null,null,null,null,null,null,null,null,null,0]
[null,null,null,null,null,null,null,null,null,0]
[null,null,null,null,null,null,null,null,null,0]
[null,null,null,null,null,null,null,null,null,0]
[null,null,null,null,null,null,null,null,null,0]
[null,null,null,null,null,null,null,null,null,0]
[null,null,null,null,null,null,null,null,null,0]
[null,null,null,null,null,null,null,null,null,0]
[null,null,null,null,null,null,null,null,null,0]
[null,null,null,null,null,null,null,null,null,0]
[null,null,null,null,null,null,null,null,null,0]
[null,null,null,null,null,null,null,null,null,0]
[null,null,null,null,null,null,null,null,null,0]
[null,null,null,null,null,null,null,null,null,0]
[null,null,null,null,null,null,null,null,null,0]
[null,null,null,null,null,null,null,null,null,0]
[null,null,null,null,null,null,null,null,null,0]
[null,null,null,null,null,null,null,null,null,0]
[null,null,null,null,null,null,null,null,null,0]
[null,null,null,null,null,null,null,null,null,0]
[null,null,null,null,null,null,null,null,null,0]
[null,null,null,null,null,null,null,null,null,0]
[null,null,null,null,null,null,null,null,null,0]
[null,null,null,null,null,null,null,null,null,0]
[null,null,null,null,null,null,null,null,null,{"$f":"SUMIF($G$19:$G$1015,$G1656,$H$19:$H$1015)","v":0}]
[null,null,null,null,null,null,null,null,null,0]
[null,null,null,null,null,null,null,null,null,0]
[null,null,null,null,null,null,null,null,null,0]
[null,null,null,null,null,null,null,null,null,0]
[null,null,null,null,null,null,null,null,null,0]
[null,null,null,null,null,null,null,null,null,0]
[null,null,null,null,null,null,null,null,null,0]
[null,null,null,null,null,null,null,null,null,0]
[null,null,null,null,null,null,null,null,null,0]
[null,null,null,null,null,null,null,null,null,0]
[null,null,null,null,null,null,null,null,null,0]
[null,null,null,null,null,null,null,null,null,0]
[null,null,null,null,null,null,null,null,null,0]
[null,null,null,null,null,null,null,null,null,0]
[null,null,null,null,null,null,null,null,null,0]
[null,null,null,null,null,null,null,null,null,0]
[null,null,null,null,null,null,null,null,null,0]
[null,null,null,null,null,null,null,null,null,0]
[null,null,null,null,null,null,null,null,null,0]
[null,null,null,null,null,null,null,null,null,0]
[null,null,null,null,null,null,null,null,null,0]
[null,null,null,null,null,null,null,null,null,0]
[null,null,null,null,null,null,null,null,null,0]
[null,null,null,null,null,null,null,null,null,0]
[null,null,null,null,null,null,null,null,null,0]
[null,null,null,null,null,null,null,null,null,0]
[null,null,null,null,null,null,null,null,null,0]
[null,null,null,null,null,null,null,null,null,0]
[null,null,null,null,null,null,null,null,null,0]
[null,null,null,null,null,null,null,null,null,0]
[null,null,null,null,null,null,null,null,null,0]
[null,null,null,null,null,null,null,null,null,0]
[null,null,null,null,null,null,null,null,null,0]
[null,null,null,null,null,null,null,null,null,0]
[null,null,null,null,null,null,null,null,null,0]
[null,null,null,null,null,null,null,null,null,0]
[null,null,null,null,null,null,null,null,null,0]
[null,null,null,null,null,null,null,null,null,0]
[null,null,null,null,null,null,null,null,null,0]
[null,null,null,null,null,null,null,null,null,0]
[null,null,null,null,null,null,null,null,null,0]
[null,null,null,null,null,null,null,null,null,0]
[null,null,null,null,null,null,null,null,null,0]
[null,null,null,null,null,null,null,null,null,0]
[null,null,null,null,null,null,null,null,null,0]
[null,null,null,null,null,null,null,null,null,0]
[null,null,null,null,null,null,null,null,null,0]
[null,null,null,null,null,null,null,null,null,0]
[null,null,null,null,null,null,null,null,null,0]
[null,null,null,null,null,null,null,null,null,0]
[null,null,null,null,null,null,null,null,null,0]
[null,null,null,null,null,null,null,null,null,0]
[null,null,null,null,null,null,null,null,null,0]
[null,null,null,null,null,null,null,null,null,0]
[null,null,null,null,null,null,null,null,null,0]
[null,null,null,null,null,null,null,null,null,0]
[null,null,null,null,null,null,null,null,null,0]
[null,null,null,null,null,null,null,null,null,0]
[null,null,null,null,null,null,null,null,null,0]
[null,null,null,null,null,null,null,null,null,0]
[null,null,null,null,null,null,null,null,null,0]
[null,null,null,null,null,null,null,null,null,0]
[null,null,null,null,null,null,null,null,null,0]
[null,null,null,null,null,null,null,null,null,{"$f":"SUMIF($G$19:$G$1015,$G1720,$H$19:$H$1015)","v":0}]
[null,null,null,null,null,null,null,null,null,0]
[null,null,null,null,null,null,null,null,null,0]
[null,null,null,null,null,null,null,null,null,0]
[null,null,null,null,null,null,null,null,null,0]
[null,null,null,null,null,null,null,null,null,0]
[null,null,null,null,null,null,null,null,null,0]
[null,null,null,null,null,null,null,null,null,0]
[null,null,null,null,null,null,null,null,null,0]
[null,null,null,null,null,null,null,null,null,0]
[null,null,null,null,null,null,null,null,null,0]
[null,null,null,null,null,null,null,null,null,0]
[null,null,null,null,null,null,null,null,null,0]
[null,null,null,null,null,null,null,null,null,0]
[null,null,null,null,null,null,null,null,null,0]
[null,null,null,null,null,null,null,null,null,0]
[null,null,null,null,null,null,null,null,null,0]
[null,null,null,null,null,null,null,null,null,0]
[null,null,null,null,null,null,null,null,null,0]
[null,null,null,null,null,null,null,null,null,0]
[null,null,null,null,null,null,null,null,null,0]
[null,null,null,null,null,null,null,null,null,0]
[null,null,null,null,null,null,null,null,null,0]
[null,null,null,null,null,null,null,null,null,0]
[null,null,null,null,null,null,null,null,null,0]
[null,null,null,null,null,null,null,null,null,0]
[null,null,null,null,null,null,null,null,null,0]
[null,null,null,null,null,null,null,null,null,0]
[null,null,null,null,null,null,null,null,null,0]
[null,null,null,null,null,null,null,null,null,0]
[null,null,null,null,null,null,null,null,null,0]
[null,null,null,null,null,null,null,null,null,0]
[null,null,null,null,null,null,null,null,null,0]
[null,null,null,null,null,null,null,null,null,0]
[null,null,null,null,null,null,null,null,null,0]
[null,null,null,null,null,null,null,null,null,0]
[null,null,null,null,null,null,null,null,null,0]
[null,null,null,null,null,null,null,null,null,0]
[null,null,null,null,null,null,null,null,null,0]
[null,null,null,null,null,null,null,null,null,0]
[null,null,null,null,null,null,null,null,null,0]
[null,null,null,null,null,null,null,null,null,0]
[null,null,null,null,null,null,null,null,null,0]
[null,null,null,null,null,null,null,null,null,0]
[null,null,null,null,null,null,null,null,null,0]
[null,null,null,null,null,null,null,null,null,0]
[null,null,null,null,null,null,null,null,null,0]
[null,null,null,null,null,null,null,null,null,0]
[null,null,null,null,null,null,null,null,null,0]
[null,null,null,null,null,null,null,null,null,0]
[null,null,null,null,null,null,null,null,null,0]
[null,null,null,null,null,null,null,null,null,0]
[null,null,null,null,null,null,null,null,null,0]
[null,null,null,null,null,null,null,null,null,0]
[null,null,null,null,null,null,null,null,null,0]
[null,null,null,null,null,null,null,null,null,0]
[null,null,null,null,null,null,null,null,null,0]
[null,null,null,null,null,null,null,null,null,0]
[null,null,null,null,null,null,null,null,null,0]
[null,null,null,null,null,null,null,null,null,0]
[null,null,null,null,null,null,null,null,null,0]
[null,null,null,null,null,null,null,null,null,0]
[null,null,null,null,null,null,null,null,null,0]
[null,null,null,null,null,null,null,null,null,0]
[null,null,null,null,null,null,null,null,null,{"$f":"SUMIF($G$19:$G$1015,$G1784,$H$19:$H$1015)","v":0}]
[null,null,null,null,null,null,null,null,null,0]
[null,null,null,null,null,null,null,null,null,0]
[null,null,null,null,null,null,null,null,null,0]
[null,null,null,null,null,null,null,null,null,0]
[null,null,null,null,null,null,null,null,null,0]
[null,null,null,null,null,null,null,null,null,0]
[null,null,null,null,null,null,null,null,null,0]
[null,null,null,null,null,null,null,null,null,0]
[null,null,null,null,null,null,null,null,null,0]
[null,null,null,null,null,null,null,null,null,0]
[null,null,null,null,null,null,null,null,null,0]
[null,null,null,null,null,null,null,null,null,0]
[null,null,null,null,null,null,null,null,null,0]
[null,null,null,null,null,null,null,null,null,0]
[null,null,null,null,null,null,null,null,null,0]
[null,null,null,null,null,null,null,null,null,0]
[null,null,null,null,null,null,null,null,null,0]
[null,null,null,null,null,null,null,null,null,0]
[null,null,null,null,null,null,null,null,null,0]
[null,null,null,null,null,null,null,null,null,0]
[null,null,null,null,null,null,null,null,null,0]
[null,null,null,null,null,null,null,null,null,0]
[null,null,null,null,null,null,null,null,null,0]
[null,null,null,null,null,null,null,null,null,0]
[null,null,null,null,null,null,null,null,null,0]
[null,null,null,null,null,null,null,null,null,0]
[null,null,null,null,null,null,null,null,null,0]
[null,null,null,null,null,null,null,null,null,0]
[null,null,null,null,null,null,null,null,null,0]
[null,null,null,null,null,null,null,null,null,0]
[null,null,null,null,null,null,null,null,null,0]
[null,null,null,null,null,null,null,null,null,0]
[null,null,null,null,null,null,null,null,null,0]
[null,null,null,null,null,null,null,null,null,0]
[null,null,null,null,null,null,null,null,null,0]
[null,null,null,null,null,null,null,null,null,0]
[null,null,null,null,null,null,null,null,null,0]
[null,null,null,null,null,null,null,null,null,0]
[null,null,null,null,null,null,null,null,null,0]
[null,null,null,null,null,null,null,null,null,0]
[null,null,null,null,null,null,null,null,null,0]
[null,null,null,null,null,null,null,null,null,0]
[null,null,null,null,null,null,null,null,null,0]
[null,null,null,null,null,null,null,null,null,0]
[null,null,null,null,null,null,null,null,null,0]
[null,null,null,null,null,null,null,null,null,0]
[null,null,null,null,null,null,null,null,null,0]
[null,null,null,null,null,null,null,null,null,0]
[null,null,null,null,null,null,null,null,null,0]
[null,null,null,null,null,null,null,null,null,0]
[null,null,null,null,null,null,null,null,null,0]
[null,null,null,null,null,null,null,null,null,0]
[null,null,null,null,null,null,null,null,null,0]
[null,null,null,null,null,null,null,null,null,0]
[null,null,null,null,null,null,null,null,null,0]
[null,null,null,null,null,null,null,null,null,0]
[null,null,null,null,null,null,null,null,null,0]
[null,null,null,null,null,null,null,null,null,0]
[null,null,null,null,null,null,null,null,null,0]
[null,null,null,null,null,null,null,null,null,0]
[null,null,null,null,null,null,null,null,null,0]
[null,null,null,null,null,null,null,null,null,0]
[null,null,null,null,null,null,null,null,null,0]
[null,null,null,null,null,null,null,null,null,{"$f":"SUMIF($G$19:$G$1015,$G1848,$H$19:$H$1015)","v":0}]
[null,null,null,null,null,null,null,null,null,0]
[null,null,null,null,null,null,null,null,null,0]
[null,null,null,null,null,null,null,null,null,0]
[null,null,null,null,null,null,null,null,null,0]
[null,null,null,null,null,null,null,null,null,0]
[null,null,null,null,null,null,null,null,null,0]
[null,null,null,null,null,null,null,null,null,0]
[null,null,null,null,null,null,null,null,null,0]
[null,null,null,null,null,null,null,null,null,0]
[null,null,null,null,null,null,null,null,null,0]
[null,null,null,null,null,null,null,null,null,0]
[null,null,null,null,null,null,null,null,null,0]
[null,null,null,null,null,null,null,null,null,0]
[null,null,null,null,null,null,null,null,null,0]
[null,null,null,null,null,null,null,null,null,0]
[null,null,null,null,null,null,null,null,null,0]
[null,null,null,null,null,null,null,null,null,0]
[null,null,null,null,null,null,null,null,null,0]
[null,null,null,null,null,null,null,null,null,0]
[null,null,null,null,null,null,null,null,null,0]
[null,null,null,null,null,null,null,null,null,0]
[null,null,null,null,null,null,null,null,null,0]
[null,null,null,null,null,null,null,null,null,0]
[null,null,null,null,null,null,null,null,null,0]
[null,null,null,null,null,null,null,null,null,0]
[null,null,null,null,null,null,null,null,null,0]
[null,null,null,null,null,null,null,null,null,0]
[null,null,null,null,null,null,null,null,null,0]
[null,null,null,null,null,null,null,null,null,0]
[null,null,null,null,null,null,null,null,null,0]
[null,null,null,null,null,null,null,null,null,0]
[null,null,null,null,null,null,null,null,null,0]
[null,null,null,null,null,null,null,null,null,0]
[null,null,null,null,null,null,null,null,null,0]
[null,null,null,null,null,null,null,null,null,0]
[null,null,null,null,null,null,null,null,null,0]
[null,null,null,null,null,null,null,null,null,0]
[null,null,null,null,null,null,null,null,null,0]
[null,null,null,null,null,null,null,null,null,0]
[null,null,null,null,null,null,null,null,null,0]
[null,null,null,null,null,null,null,null,null,0]
[null,null,null,null,null,null,null,null,null,0]
[null,null,null,null,null,null,null,null,null,0]
[null,null,null,null,null,null,null,null,null,0]
[null,null,null,null,null,null,null,null,null,0]
[null,null,null,null,null,null,null,null,null,0]
[null,null,null,null,null,null,null,null,null,0]
[null,null,null,null,null,null,null,null,null,0]
[null,null,null,null,null,null,null,null,null,0]
[null,null,null,null,null,null,null,null,null,0]
[null,null,null,null,null,null,null,null,null,0]
[null,null,null,null,null,null,null,null,null,0]
[null,null,null,null,null,null,null,null,null,0]
[null,null,null,null,null,null,null,null,null,0]
[null,null,null,null,null,null,null,null,null,0]
[null,null,null,null,null,null,null,null,null,0]
[null,null,null,null,null,null,null,null,null,0]
[null,null,null,null,null,null,null,null,null,0]
[null,null,null,null,null,null,null,null,null,0]
[null,null,null,null,null,null,null,null,null,0]
[null,null,null,null,null,null,null,null,null,0]
[null,null,null,null,null,null,null,null,null,0]
[null,null,null,null,null,null,null,null,null,0]
[null,null,null,null,null,null,null,null,null,{"$f":"SUMIF($G$19:$G$1015,$G1912,$H$19:$H$1015)","v":0}]
[null,null,null,null,null,null,null,null,null,0]
[null,null,null,null,null,null,null,null,null,0]
[null,null,null,null,null,null,null,null,null,0]
[null,null,null,null,null,null,null,null,null,0]
[null,null,null,null,null,null,null,null,null,0]
[null,null,null,null,null,null,null,null,null,0]
[null,null,null,null,null,null,null,null,null,0]
[null,null,null,null,null,null,null,null,null,0]
[null,null,null,null,null,null,null,null,null,0]
[null,null,null,null,null,null,null,null,null,0]
[null,null,null,null,null,null,null,null,null,0]
[null,null,null,null,null,null,null,null,null,0]
[null,null,null,null,null,null,null,null,null,0]
[null,null,null,null,null,null,null,null,null,0]
[null,null,null,null,null,null,null,null,null,0]
[null,null,null,null,null,null,null,null,null,0]
[null,null,null,null,null,null,null,null,null,0]
[null,null,null,null,null,null,null,null,null,0]
[null,null,null,null,null,null,null,null,null,0]
[null,null,null,null,null,null,null,null,null,0]
[null,null,null,null,null,null,null,null,null,0]
[null,null,null,null,null,null,null,null,null,0]
[null,null,null,null,null,null,null,null,null,0]
[null,null,null,null,null,null,null,null,null,0]
[null,null,null,null,null,null,null,null,null,0]
[null,null,null,null,null,null,null,null,null,0]
[null,null,null,null,null,null,null,null,null,0]
[null,null,null,null,null,null,null,null,null,0]
[null,null,null,null,null,null,null,null,null,0]
[null,null,null,null,null,null,null,null,null,0]
[null,null,null,null,null,null,null,null,null,0]
[null,null,null,null,null,null,null,null,null,0]
[null,null,null,null,null,null,null,null,null,0]
[null,null,null,null,null,null,null,null,null,0]
[null,null,null,null,null,null,null,null,null,0]
[null,null,null,null,null,null,null,null,null,0]
[null,null,null,null,null,null,null,null,null,0]
[null,null,null,null,null,null,null,null,null,0]
[null,null,null,null,null,null,null,null,null,0]
[null,null,null,null,null,null,null,null,null,0]
[null,null,null,null,null,null,null,null,null,0]
[null,null,null,null,null,null,null,null,null,0]
[null,null,null,null,null,null,null,null,null,0]
[null,null,null,null,null,null,null,null,null,0]
[null,null,null,null,null,null,null,null,null,0]
[null,null,null,null,null,null,null,null,null,0]
[null,null,null,null,null,null,null,null,null,0]
[null,null,null,null,null,null,null,null,null,0]
[null,null,null,null,null,null,null,null,null,0]
[null,null,null,null,null,null,null,null,null,0]
[null,null,null,null,null,null,null,null,null,0]
[null,null,null,null,null,null,null,null,null,0]
[null,null,null,null,null,null,null,null,null,0]
[null,null,null,null,null,null,null,null,null,0]
[null,null,null,null,null,null,null,null,null,0]
[null,null,null,null,null,null,null,null,null,0]
[null,null,null,null,null,null,null,null,null,0]
[null,null,null,null,null,null,null,null,null,0]
[null,null,null,null,null,null,null,null,null,0]
[null,null,null,null,null,null,null,null,null,0]
[null,null,null,null,null,null,null,null,null,0]
[null,null,null,null,null,null,null,null,null,0]
[null,null,null,null,null,null,null,null,null,0]
[null,null,null,null,null,null,null,null,null,{"$f":"SUMIF($G$19:$G$1015,$G1976,$H$19:$H$1015)","v":0}]
[null,null,null,null,null,null,null,null,null,0]
[null,null,null,null,null,null,null,null,null,0]
[null,null,null,null,null,null,null,null,null,0]
[null,null,null,null,null,null,null,null,null,0]
[null,null,null,null,null,null,null,null,null,0]
[null,null,null,null,null,null,null,null,null,0]
[null,null,null,null,null,null,null,null,null,0]
[null,null,null,null,null,null,null,null,null,0]
[null,null,null,null,null,null,null,null,null,0]
[null,null,null,null,null,null,null,null,null,0]
[null,null,null,null,null,null,null,null,null,0]
[null,null,null,null,null,null,null,null,null,0]
[null,null,null,null,null,null,null,null,null,0]
[null,null,null,null,null,null,null,null,null,0]
[null,null,null,null,null,null,null,null,null,0]
[null,null,null,null,null,null,null,null,null,0]
[null,null,null,null,null,null,null,null,null,0]
[null,null,null,null,null,null,null,null,null,0]
[null,null,null,null,null,null,null,null,null,0]
[null,null,null,null,null,null,null,null,null,0]
[null,null,null,null,null,null,null,null,null,0]
[null,null,null,null,null,null,null,null,null,0]
[null,null,null,null,null,null,null,null,null,0]
[null,null,null,null,null,null,null,null,null,0]
[null,null,null,null,null,null,null,null,null,0]
[null,null,null,null,null,null,null,null,null,0]
[null,null,null,null,null,null,null,null,null,0]
[null,null,null,null,null,null,null,null,null,0]
[null,null,null,null,null,null,null,null,null,{"$f":"SUMIF($G$19:$G$1015,$G2872,$H$19:$H$1015)","v":0}]
[null,null,null,null,null,null,null,null,null,0]
[null,null,null,null,null,null,null,null,null,0]
[null,null,null,null,null,null,null,null,null,0]
[null,null,null,null,null,null,null,null,null,0]
[null,null,null,null,null,null,null,null,null,0]
[null,null,null,null,null,null,null,null,null,0]
[null,null,null,null,null,null,null,null,null,0]
[null,null,null,null,null,null,null,null,null,0]
[null,null,null,null,null,null,null,null,null,0]
[null,null,null,null,null,null,null,null,null,0]
[null,null,null,null,null,null,null,null,null,0]
[null,null,null,null,null,null,null,null,null,0]
[null,null,null,null,null,null,null,null,null,0]
[null,null,null,null,null,null,null,null,null,0]
[null,null,null,null,null,null,null,null,null,0]
[null,null,null,null,null,null,null,null,null,0]
[null,null,null,null,null,null,null,null,null,0]
[null,null,null,null,null,null,null,null,null,0]
[null,null,null,null,null,null,null,null,null,0]
[null,null,null,null,null,null,null,null,null,0]
[null,null,null,null,null,null,null,null,null,0]
[null,null,null,null,null,null,null,null,null,0]
[null,null,null,null,null,null,null,null,null,0]
[null,null,null,null,null,null,null,null,null,0]
[null,null,null,null,null,null,null,null,null,0]
[null,null,null,null,null,null,null,null,null,0]
[null,null,null,null,null,null,null,null,null,0]
[null,null,null,null,null,null,null,null,null,0]
[null,null,null,null,null,null,null,null,null,0]
[null,null,null,null,null,null,null,null,null,0]
[null,null,null,null,null,null,null,null,null,0]
[null,null,null,null,null,null,null,null,null,0]
[null,null,null,null,null,null,null,null,null,0]
[null,null,null,null,null,null,null,null,null,0]
[null,null,null,null,null,null,null,null,null,0]
[null,null,null,null,null,null,null,null,null,0]
[null,null,null,null,null,null,null,null,null,0]
[null,null,null,null,null,null,null,null,null,0]
[null,null,null,null,null,null,null,null,null,0]
[null,null,null,null,null,null,null,null,null,0]
[null,null,null,null,null,null,null,null,null,{"$f":"SUMIF($G$19:$G$1015,$G10808,$H$19:$H$1015)","v":0}]
[null,null,null,null,null,null,null,null,null,0]
[null,null,null,null,null,null,null,null,null,0]
[null,null,null,null,null,null,null,null,null,0]
[null,null,null,null,null,null,null,null,null,0]
[null,null,null,null,null,null,null,null,null,0]
[null,null,null,null,null,null,null,null,null,0]
[null,null,null,null,null,null,null,null,null,0]
[null,null,null,null,null,null,null,null,null,0]
[null,null,null,null,null,null,null,null,null,0]
[null,null,null,null,null,null,null,null,null,0]
[null,null,null,null,null,null,null,null,null,0]
[null,null,null,null,null,null,null,null,null,0]
[null,null,null,null,null,null,null,null,null,0]
[null,null,null,null,null,null,null,null,null,0]
[null,null,null,null,null,null,null,null,null,0]
[null,null,null,null,null,null,null,null,null,0]
[null,null,null,null,null,null,null,null,null,0]
[null,null,null,null,null,null,null,null,null,0]
[null,null,null,null,null,null,null,null,null,0]
[null,null,null,null,null,null,null,null,null,0]
[null,null,null,null,null,null,null,null,null,0]
[null,null,null,null,null,null,null,null,null,0]
[null,null,null,null,null,null,null,null,null,0]
[null,null,null,null,null,null,null,null,null,0]
[null,null,null,null,null,null,null,null,null,0]
[null,null,null,null,null,null,null,null,null,0]
[null,null,null,null,null,null,null,null,null,0]
[null,null,null,null,null,null,null,null,null,0]
[null,null,null,null,null,null,null,null,null,0]
[null,null,null,null,null,null,null,null,null,0]
[null,null,null,null,null,null,null,null,null,0]
[null,null,null,null,null,null,null,null,null,0]
[null,null,null,null,null,null,null,null,null,0]
[null,null,null,null,null,null,null,null,null,0]
[null,null,null,null,null,null,null,null,null,0]
[null,null,null,null,null,null,null,null,null,0]
[null,null,null,null,null,null,null,null,null,0]
[null,null,null,null,null,null,null,null,null,0]
[null,null,null,null,null,null,null,null,null,0]
[null,null,null,null,null,null,null,null,null,0]
[null,null,null,null,null,null,null,null,null,0]
[null,null,null,null,null,null,null,null,null,0]
[null,null,null,null,null,null,null,null,null,0]
[null,null,null,null,null,null,null,null,null,0]
[null,null,null,null,null,null,null,null,null,0]
[null,null,null,null,null,null,null,null,null,0]
[null,null,null,null,null,null,null,null,null,0]
[null,null,null,null,null,null,null,null,null,0]
[null,null,null,null,null,null,null,null,null,0]
[null,null,null,null,null,null,null,null,null,0]
[null,null,null,null,null,null,null,null,null,0]
[null,null,null,null,null,null,null,null,null,0]
[null,null,null,null,null,null,null,null,null,0]
[null,null,null,null,null,null,null,null,null,0]
[null,null,null,null,null,null,null,null,null,0]
[null,null,null,null,null,null,null,null,null,0]
[null,null,null,null,null,null,null,null,null,0]
[null,null,null,null,null,null,null,null,null,0]
[null,null,null,null,null,null,null,null,null,0]
[null,null,null,null,null,null,null,null,null,0]
[null,null,null,null,null,null,null,null,null,0]
[null,null,null,null,null,null,null,null,null,0]
[null,null,null,null,null,null,null,null,null,0]
[null,null,null,null,null,null,null,null,null,0]
[null,null,null,null,null,null,null,null,null,0]
[null,null,null,null,null,null,null,null,null,0]
[null,null,null,null,null,null,null,null,null,0]
[null,null,null,null,null,null,null,null,null,0]
[null,null,null,null,null,null,null,null,null,0]
[null,null,null,null,null,null,null,null,null,0]
[null,null,null,null,null,null,null,null,null,0]
[null,null,null,null,null,null,null,null,null,0]
[null,null,null,null,null,null,null,null,null,0]
[null,null,null,null,null,null,null,null,null,0]
[null,null,null,null,null,null,null,null,null,0]
[null,null,null,null,null,null,null,null,null,0]
[null,null,null,null,null,null,null,null,null,0]
[null,null,null,null,null,null,null,null,null,0]
[null,null,null,null,null,null,null,null,null,0]
[null,null,null,null,null,null,null,null,null,0]
[null,null,null,null,null,null,null,null,null,0]
[null,null,null,null,null,null,null,null,null,0]
[null,null,null,null,null,null,null,null,null,0]
[null,null,null,null,null,null,null,null,null,0]
[null,null,null,null,null,null,null,null,null,0]
[null,null,null,null,null,null,null,null,null,0]
[null,null,null,null,null,null,null,null,null,0]
[null,null,null,null,null,null,null,null,null,0]
[null,null,null,null,null,null,null,null,null,0]
[null,null,null,null,null,null,null,null,null,{"$f":"SUMIF($G$19:$G$1015,$G28280,$H$19:$H$1015)","v":0}]
[null,null,null,null,null,null,null,null,null,{"$f":"SUMIF($G$19:$G$1015,$G28472,$H$19:$H$1015)","v":0}]
[null,null,null,null,null,null,null,null,null,0]
[null,null,null,null,null,null,null,null,null,0]
[null,null,null,null,null,null,null,null,null,0]
[null,null,null,null,null,null,null,null,null,0]
[null,null,null,null,null,null,null,null,null,0]
[null,null,null,null,null,null,null,null,null,0]
[null,null,null,null,null,null,null,null,null,0]
[null,null,null,null,null,null,null,null,null,0]
[null,null,null,null,null,null,null,null,null,0]
[null,null,null,null,null,null,null,null,null,0]
[null,null,null,null,null,null,null,null,null,0]
[null,null,null,null,null,null,null,null,null,0]
[null,null,null,null,null,null,null,null,null,0]
[null,null,null,null,null,null,null,null,null,0]
[null,null,null,null,null,null,null,null,null,0]
[null,null,null,null,null,null,null,null,null,0]
[null,null,null,null,null,null,null,null,null,0]
[null,null,null,null,null,null,null,null,null,0]
[null,null,null,null,null,null,null,null,null,0]
[null,null,null,null,null,null,null,null,null,0]
[null,null,null,null,null,null,null,null,null,0]
[null,null,null,null,null,null,null,null,null,{"$f":"SUMIF($G$19:$G$1015,$G32632,$H$19:$H$1015)","v":0}]
[null,null,null,null,null,null,null,null,null,0]
[null,null,null,null,null,null,null,null,null,0]
[null,null,null,null,null,null,null,null,null,0]
[null,null,null,null,null,null,null,null,null,0]
[null,null,null,null,null,null,null,null,null,0]
[null,null,null,null,null,null,null,null,null,0]
[null,null,null,null,null,null,null,null,null,0]
[null,null,null,null,null,null,null,null,null,0]
[null,null,null,null,null,null,null,null,null,0]
[null,null,null,null,null,null,null,null,null,0]
[null,null,null,null,null,null,null,null,null,0]
[null,null,null,null,null,null,null,null,null,0]
[null,null,null,null,null,null,null,null,null,0]
[null,null,null,null,null,null,null,null,null,0]
[null,null,null,null,null,null,null,null,null,0]
[null,null,null,null,null,null,null,null,null,0]
[null,null,null,null,null,null,null,null,null,0]
[null,null,null,null,null,null,null,null,null,0]
[null,null,null,null,null,null,null,null,null,0]
[null,null,null,null,null,null,null,null,null,0]
[null,null,null,null,null,null,null,null,null,0]
[null,null,null,null,null,null,null,null,null,0]
[null,null,null,null,null,null,null,null,null,0]
[null,null,null,null,null,null,null,null,null,0]
[null,null,null,null,null,null,null,null,null,0]
[null,null,null,null,null,null,null,null,null,0]
[null,null,null,null,null,null,null,null,null,0]
[null,null,null,null,null,null,null,null,null,0]
[null,null,null,null,null,null,null,null,null,0]
[null,null,null,null,null,null,null,null,null,0]
[null,null,null,null,null,null,null,null,null,0]
[null,null,null,null,null,null,null,null,null,0]
[null,null,null,null,null,null,null,null,null,0]
[null,null,null,null,null,null,null,null,null,0]
[null,null,null,null,null,null,null,null,null,0]
[null,null,null,null,null,null,null,null,null,0]
[null,null,null,null,null,null,null,null,null,0]
[null,null,null,null,null,null,null,null,null,0]
[null,null,null,null,null,null,null,null,null,0]
[null,null,null,null,null,null,null,null,null,0]
[null,null,null,null,null,null,null,null,null,0]
[null,null,null,null,null,null,null,null,null,0]
[null,null,null,null,null,null,null,null,null,0]
[null,null,null,null,null,null,null,null,null,0]
[null,null,null,null,null,null,null,null,null,0]
[null,null,null,null,null,null,null,null,null,0]
[null,null,null,null,null,null,null,null,null,0]
[null,null,null,null,null,null,null,null,null,0]
[null,null,null,null,null,null,null,null,null,0]
[null,null,null,null,null,null,null,null,null,0]
[null,null,null,null,null,null,null,null,null,0]
[null,null,null,null,null,null,null,null,null,0]
[null,null,null,null,null,null,null,null,null,0]
[null,null,null,null,null,null,null,null,null,0]
[null,null,null,null,null,null,null,null,null,0]
[null,null,null,null,null,null,null,null,null,0]
[null,null,null,null,null,null,null,null,null,0]
[null,null,null,null,null,null,null,null,null,0]
[null,null,null,null,null,null,null,null,null,0]
[null,null,null,null,null,null,null,null,null,0]
[null,null,null,null,null,null,null,null,null,0]
[null,null,null,null,null,null,null,null,null,0]
[null,null,null,null,null,null,null,null,null,0]
[null,null,null,null,null,null,null,null,null,0]
[null,null,null,null,null,null,null,null,null,{"$f":"SUMIF($G$19:$G$1015,$G45176,$H$19:$H$1015)","v":0}]
[null,null,null,null,null,null,null,null,null,0]
[null,null,null,null,null,null,null,null,null,0]
[null,null,null,null,null,null,null,null,null,0]
[null,null,null,null,null,null,null,null,null,0]
[null,null,null,null,null,null,null,null,null,0]
[null,null,null,null,null,null,null,null,null,0]
[null,null,null,null,null,null,null,null,null,0]
[null,null,null,null,null,null,null,null,null,0]
[null,null,null,null,null,null,null,null,null,0]
[null,null,null,null,null,null,null,null,null,0]
[null,null,null,null,null,null,null,null,null,0]
[null,null,null,null,null,null,null,null,null,0]
[null,null,null,null,null,null,null,null,null,0]
[null,null,null,null,null,null,null,null,null,0]
[null,null,null,null,null,null,null,null,null,0]
[null,null,null,null,null,null,null,null,null,0]
[null,null,null,null,null,null,null,null,null,0]
[null,null,null,null,null,null,null,null,null,0]
[null,null,null,null,null,null,null,null,null,0]
[null,null,null,null,null,null,null,null,null,0]
[null,null,null,null,null,null,null,null,null,0]
[null,null,null,null,null,null,null,null,null,0]
[null,null,null,null,null,null,null,null,null,0]
[null,null,null,null,null,null,null,null,null,0]
[null,null,null,null,null,null,null,null,null,0]
[null,null,null,null,null,null,null,null,null,0]
[null,null,null,null,null,null,null,null,null,0]
[null,null,null,null,null,null,null,null,null,0]
[null,null,null,null,null,null,null,null,null,0]
[null,null,null,null,null,null,null,null,null,0]
[null,null,null,null,null,null,null,null,null,0]
[null,null,null,null,null,null,null,null,null,0]
[null,null,null,null,null,null,null,null,null,0]
[null,null,null,null,null,null,null,null,null,0]
[null,null,null,null,null,null,null,null,null,0]
[null,null,null,null,null,null,null,null,null,0]
[null,null,null,null,null,null,null,null,null,0]
[null,null,null,null,null,null,null,null,null,0]
[null,null,null,null,null,null,null,null,null,0]
[null,null,null,null,null,null,null,null,null,0]
[null,null,null,null,null,null,null,null,null,0]
[null,null,null,null,null,null,null,null,null,0]
[null,null,null,null,null,null,null,null,null,0]
[null,null,null,null,null,null,null,null,null,0]
[null,null,null,null,null,null,null,null,null,0]
[null,null,null,null,null,null,null,null,null,0]
[null,null,null,null,null,null,null,null,null,0]
[null,null,null,null,null,null,null,null,null,0]
[null,null,null,null,null,null,null,null,null,0]
[null,null,null,null,null,null,null,null,null,0]
[null,null,null,null,null,null,null,null,null,0]
[null,null,null,null,null,null,null,null,null,0]
[null,null,null,null,null,null,null,null,null,0]
[null,null,null,null,null,null,null,null,null,0]
[null,null,null,null,null,null,null,null,null,0]
[null,null,null,null,null,null,null,null,null,0]
[null,null,null,null,null,null,null,null,null,0]
[null,null,null,null,null,null,null,null,null,0]
[null,null,null,null,null,null,null,null,null,0]
[null,null,null,null,null,null,null,null,null,0]
[null,null,null,null,null,null,null,null,null,0]
[null,null,null,null,null,null,null,null,null,0]
[null,null,null,null,null,null,null,null,null,0]
[null,null,null,null,null,null,null,null,null,0]
[null,null,null,null,null,null,null,null,null,0]
[null,null,null,null,null,null,null,null,null,0]
[null,null,null,null,null,null,null,null,null,0]
[null,null,null,null,null,null,null,null,null,0]
[null,null,null,null,null,null,null,null,null,0]
[null,null,null,null,null,null,null,null,null,0]
[null,null,null,null,null,null,null,null,null,0]
[null,null,null,null,null,null,null,null,null,0]
[null,null,null,null,null,null,null,null,null,0]
[null,null,null,null,null,null,null,null,null,0]
[null,null,null,null,null,null,null,null,null,0]
[null,null,null,null,null,null,null,null,null,0]
[null,null,null,null,null,null,null,null,null,0]
[null,null,null,null,null,null,null,null,null,0]
[null,null,null,null,null,null,null,null,null,0]
[null,null,null,null,null,null,null,null,null,0]
[null,null,null,null,null,null,null,null,null,0]
[null,null,null,null,null,null,null,null,null,0]
[null,null,null,null,null,null,null,null,null,0]
[null,null,null,null,null,null,null,null,null,0]
[null,null,null,null,null,null,null,null,null,0]
[null,null,null,null,null,null,null,null,null,0]
[null,null,null,null,null,null,null,null,null,0]
[null,null,null,null,null,null,null,null,null,0]
[null,null,null,null,null,null,null,null,null,0]
[null,null,null,null,null,null,null,null,null,0]
[null,null,null,null,null,null,null,null,null,0]
[null,null,null,null,null,null,null,null,null,0]
[null,null,null,null,null,null,null,null,null,0]
[null,null,null,null,null,null,null,null,null,0]
[null,null,null,null,null,null,null,null,null,0]
[null,null,null,null,null,null,null,null,null,0]
[null,null,null,null,null,null,null,null,null,0]
[null,null,null,null,null,null,null,null,null,0]
[null,null,null,null,null,null,null,null,null,0]
[null,null,null,null,null,null,null,null,null,0]
[null,null,null,null,null,null,null,null,null,0]
[null,null,null,null,null,null,null,null,null,0]
[null,null,null,null,null,null,null,null,null,{"$f":"SUMIF($G$19:$G$1015,$G65144,$H$19:$H$1015)","v":0}]
[null,null,null,null,null,null,null,null,null,0]
[null,null,null,null,null,null,null,null,null,0]
[null,null,null,null,null,null,null,null,null,0]
[null,null,null,null,null,null,null,null,null,0]
[null,null,null,null,null,null,null,null,null,0]
[null,null,null,null,null,null,null,null,null,0]
[null,null,null,null,null,null,null,null,null,0]
[null,null,null,null,null,null,null,null,null,0]
[null,null,null,null,null,null,null,null,null,0]
[null,null,null,null,null,null,null,null,null,0]
[null,null,null,null,null,null,null,null,null,0]
[null,null,null,null,null,null,null,null,null,0]
[null,null,null,null,null,null,null,null,null,0]
[null,null,null,null,null,null,null,null,null,0]
[null,null,null,null,null,null,null,null,null,0]
[null,null,null,null,null,null,null,null,null,0]
[null,null,null,null,null,null,null,null,null,0]
[null,null,null,null,null,null,null,null,null,0]
[null,null,null,null,null,null,null,null,null,0]
[null,null,null,null,null,null,null,null,null,0]
[null,null,null,null,null,null,null,null,null,0]
[null,null,null,null,null,null,null,null,null,0]
[null,null,null,null,null,null,null,null,null,0]
[null,null,null,null,null,null,null,null,null,0]
[null,null,null,null,null,null,null,null,null,0]
[null,null,null,null,null,null,null,null,null,0]
[null,null,null,null,null,null,null,null,null,0]
[null,null,null,null,null,null,null,null,null,{"$f":"SUMIF($G$19:$G$1015,$G70584,$H$19:$H$1015)","v":0}]
[null,null,null,null,null,null,null,null,null,0]
[null,null,null,null,null,null,null,null,null,0]
[null,null,null,null,null,null,null,null,null,0]
[null,null,null,null,null,null,null,null,null,0]
[null,null,null,null,null,null,null,null,null,0]
[null,null,null,null,null,null,null,null,null,0]
[null,null,null,null,null,null,null,null,null,0]
[null,null,null,null,null,null,null,null,null,0]
[null,null,null,null,null,null,null,null,null,0]
[null,null,null,null,null,null,null,null,null,0]
[null,null,null,null,null,null,null,null,null,0]
[null,null,null,null,null,null,null,null,null,0]
[null,null,null,null,null,null,null,null,null,0]
[null,null,null,null,null,null,null,null,null,0]
[null,null,null,null,null,null,null,null,null,0]
[null,null,null,null,null,null,null,null,null,0]
[null,null,null,null,null,null,null,null,null,0]
[null,null,null,null,null,null,null,null,null,0]
[null,null,null,null,null,null,null,null,null,0]
[null,null,null,null,null,null,null,null,null,0]
[null,null,null,null,null,null,null,null,null,0]
[null,null,null,null,null,null,null,null,null,0]
[null,null,null,null,null,null,null,null,null,0]
[null,null,null,null,null,null,null,null,null,0]
[null,null,null,null,null,null,null,null,null,0]
[null,null,null,null,null,null,null,null,null,0]
[null,null,null,null,null,null,null,null,null,0]
[null,null,null,null,null,null,null,null,null,0]
[null,null,null,null,null,null,null,null,null,0]
[null,null,null,null,null,null,null,null,null,0]
[null,null,null,null,null,null,null,null,null,0]
[null,null,null,null,null,null,null,null,null,0]
[null,null,null,null,null,null,null,null,null,0]
[null,null,null,null,null,null,null,null,null,0]
[null,null,null,null,null,null,null,null,null,0]
[null,null,null,null,null,null,null,null,null,0]
[null,null,null,null,null,null,null,null,null,0]
[null,null,null,null,null,null,null,null,null,0]
[null,null,null,null,null,null,null,null,null,0]
[null,null,null,null,null,null,null,null,null,0]
[null,null,null,null,null,null,null,null,null,0]
[null,null,null,null,null,null,null,null,null,0]
[null,null,null,null,null,null,null,null,null,0]
[null,null,null,null,null,null,null,null,null,0]
[null,null,null,null,null,null,null,null,null,0]
[null,null,null,null,null,null,null,null,null,0]
[null,null,null,null,null,null,null,null,null,0]
[null,null,null,null,null,null,null,null,null,0]
[null,null,null,null,null,null,null,null,null,0]
[null,null,null,null,null,null,null,null,null,0]
[null,null,null,null,null,null,null,null,null,0]
[null,null,null,null,null,null,null,null,null,0]
[null,null,null,null,null,null,null,null,null,0]
[null,null,null,null,null,null,null,null,null,0]
[null,null,null,null,null,null,null,null,null,0]
[null,null,null,null,null,null,null,null,null,0]
[null,null,null,null,null,null,null,null,null,0]
[null,null,null,null,null,null,null,null,null,0]
[null,null,null,null,null,null,null,null,null,0]
[null,null,null,null,null,null,null,null,null,0]
[null,null,null,null,null,null,null,null,null,0]
[null,null,null,null,null,null,null,null,null,0]
[null,null,null,null,null,null,null,null,null,0]
[null,null,null,null,null,null,null,null,null,0]
[null,null,null,null,null,null,null,null,null,0]
[null,null,null,null,null,null,null,null,null,0]
[null,null,null,null,null,null,null,null,null,0]
[null,null,null,null,null,null,null,null,null,0]
[null,null,null,null,null,null,null,null,null,0]
[null,null,null,null,null,null,null,null,null,0]
[null,null,null,null,null,null,null,null,null,0]
[null,null,null,null,null,null,null,null,null,0]
[null,null,null,null,null,null,null,null,null,0]
[null,null,null,null,null,null,null,null,null,0]
[null,null,null,null,null,null,null,null,null,0]
[null,null,null,null,null,null,null,null,null,0]
[null,null,null,null,null,null,null,null,null,0]
[null,null,null,null,null,null,null,null,null,0]
[null,null,null,null,null,null,null,null,null,0]
[null,null,null,null,null,null,null,null,null,0]
[null,null,null,null,null,null,null,null,null,0]
[null,null,null,null,null,null,null,null,null,0]
[null,null,null,null,null,null,null,null,null,0]
[null,null,null,null,null,null,null,null,null,0]
[null,null,null,null,null,null,null,null,null,0]
[null,null,null,null,null,null,null,null,null,0]
[null,null,null,null,null,null,null,null,null,0]
[null,null,null,null,null,null,null,null,null,0]
[null,null,null,null,null,null,null,null,null,0]
[null,null,null,null,null,null,null,null,null,0]
[null,null,null,null,null,null,null,null,null,0]
[null,null,null,null,null,null,null,null,null,0]
[null,null,null,null,null,null,null,null,null,0]
[null,null,null,null,null,null,null,null,null,0]
[null,null,null,null,null,null,null,null,null,0]
[null,null,null,null,null,null,null,null,null,0]
[null,null,null,null,null,null,null,null,null,0]
[null,null,null,null,null,null,null,null,null,0]
[null,null,null,null,null,null,null,null,null,0]
[null,null,null,null,null,null,null,null,null,0]
[null,null,null,null,null,null,null,null,null,0]
[null,null,null,null,null,null,null,null,null,0]
[null,null,null,null,null,null,null,null,null,{"$f":"SUMIF($G$19:$G$1015,$G90552,$H$19:$H$1015)","v":0}]
[null,null,null,null,null,null,null,null,null,0]
[null,null,null,null,null,null,null,null,null,0]
[null,null,null,null,null,null,null,null,null,0]
[null,null,null,null,null,null,null,null,null,0]
[null,null,null,null,null,null,null,null,null,0]
[null,null,null,null,null,null,null,null,null,0]
[null,null,null,null,null,null,null,null,null,0]
[null,null,null,null,null,null,null,null,null,0]
[null,null,null,null,null,null,null,null,null,0]
[null,null,null,null,null,null,null,null,null,0]
[null,null,null,null,null,null,null,null,null,0]
[null,null,null,null,null,null,null,null,null,0]
[null,null,null,null,null,null,null,null,null,0]
[null,null,null,null,null,null,null,null,null,0]
[null,null,null,null,null,null,null,null,null,0]
[null,null,null,null,null,null,null,null,null,0]
[null,null,null,null,null,null,null,null,null,0]
[null,null,null,null,null,null,null,null,null,0]
[null,null,null,null,null,null,null,null,null,0]
[null,null,null,null,null,null,null,null,null,0]
[null,null,null,null,null,null,null,null,null,0]
[null,null,null,null,null,null,null,null,null,0]
[null,null,null,null,null,null,null,null,null,0]
[null,null,null,null,null,null,null,null,null,0]
[null,null,null,null,null,null,null,null,null,0]
[null,null,null,null,null,null,null,null,null,0]
[null,null,null,null,null,null,null,null,null,0]
[null,null,null,null,null,null,null,null,null,0]
[null,null,null,null,null,null,null,null,null,0]
[null,null,null,null,null,null,null,null,null,0]
[null,null,null,null,null,null,null,null,null,0]
[null,null,null,null,null,null,null,null,null,0]
[null,null,null,null,null,null,null,null,null,0]
[null,null,null,null,null,null,null,null,null,0]
[null,null,null,null,null,null,null,null,null,0]
[null,null,null,null,null,null,null,null,null,0]
[null,null,null,null,null,null,null,null,null,0]
[null,null,null,null,null,null,null,null,null,0]
[null,null,null,null,null,null,null,null,null,0]
[null,null,null,null,null,null,null,null,null,0]
[null,null,null,null,null,null,null,null,null,0]
[null,null,null,null,null,null,null,null,null,0]
[null,null,null,null,null,null,null,null,null,0]
[null,null,null,null,null,null,null,null,null,0]
[null,null,null,null,null,null,null,null,null,0]
[null,null,null,null,null,null,null,null,null,0]
[null,null,null,null,null,null,null,null,null,0]
[null,null,null,null,null,null,null,null,null,0]
[null,null,null,null,null,null,null,null,null,0]
[null,null,null,null,null,null,null,null,null,0]
[null,null,null,null,null,null,null,null,null,0]
[null,null,null,null,null,null,null,null,null,0]
[null,null,null,null,null,null,null,null,null,0]
[null,null,null,null,null,null,null,null,null,0]
[null,null,null,null,null,null,null,null,null,0]
[null,null,null,null,null,null,null,null,null,0]
[null,null,null,null,null,null,null,null,null,0]
[null,null,null,null,null,null,null,null,null,0]
[null,null,null,null,null,null,null,null,null,0]
[null,null,null,null,null,null,null,null,null,0]
[null,null,null,null,null,null,null,null,null,0]
[null,null,null,null,null,null,null,null,null,0]
[null,null,null,null,null,null,null,null,null,0]
[null,null,null,null,null,null,null,null,null,0]
[null,null,null,null,null,null,null,null,null,0]
[null,null,null,null,null,null,null,null,null,0]
[null,null,null,null,null,null,null,null,null,0]
[null,null,null,null,null,null,null,null,null,0]
[null,null,null,null,null,null,null,null,null,0]
[null,null,null,null,null,null,null,null,null,0]
[null,null,null,null,null,null,null,null,null,0]
[null,null,null,null,null,null,null,null,null,0]
[null,null,null,null,null,null,null,null,null,0]
[null,null,null,null,null,null,null,null,null,0]
[null,null,null,null,null,null,null,null,null,0]
[null,null,null,null,null,null,null,null,null,0]
[null,null,null,null,null,null,null,null,null,0]
[null,null,null,null,null,null,null,null,null,0]
[null,null,null,null,null,null,null,null,null,0]
[null,null,null,null,null,null,null,null,null,0]
[null,null,null,null,null,null,null,null,null,0]
[null,null,null,null,null,null,null,null,null,0]
[null,null,null,null,null,null,null,null,null,0]
[null,null,null,null,null,null,null,null,null,0]
[null,null,null,null,null,null,null,null,null,0]
[null,null,null,null,null,null,null,null,null,0]
[null,null,null,null,null,null,null,null,null,0]
[null,null,null,null,null,null,null,null,null,{"$f":"SUMIF($G$19:$G$1015,$G107448,$H$19:$H$1015)","v":0}]
[null,null,null,null,null,null,null,null,null,0]
[null,null,null,null,null,null,null,null,null,0]
[null,null,null,null,null,null,null,null,null,0]
[null,null,null,null,null,null,null,null,null,0]
[null,null,null,null,null,null,null,null,null,0]
[null,null,null,null,null,null,null,null,null,0]
[null,null,null,null,null,null,null,null,null,0]
[null,null,null,null,null,null,null,null,null,0]
[null,null,null,null,null,null,null,null,null,0]
[null,null,null,null,null,null,null,null,null,0]
[null,null,null,null,null,null,null,null,null,0]
[null,null,null,null,null,null,null,null,null,0]
[null,null,null,null,null,null,null,null,null,0]
[null,null,null,null,null,null,null,null,null,0]
[null,null,null,null,null,null,null,null,null,0]
[null,null,null,null,null,null,null,null,null,0]
[null,null,null,null,null,null,null,null,null,0]
[null,null,null,null,null,null,null,null,null,0]
[null,null,null,null,null,null,null,null,null,0]
[null,null,null,null,null,null,null,null,null,0]
[null,null,null,null,null,null,null,null,null,0]
[null,null,null,null,null,null,null,null,null,0]
[null,null,null,null,null,null,null,null,null,0]
[null,null,null,null,null,null,null,null,null,0]
[null,null,null,null,null,null,null,null,null,0]
[null,null,null,null,null,null,null,null,null,0]
[null,null,null,null,null,null,null,null,null,0]
[null,null,null,null,null,null,null,null,null,0]
[null,null,null,null,null,null,null,null,null,0]
[null,null,null,null,null,null,null,null,null,0]
[null,null,null,null,null,null,null,null,null,0]
[null,null,null,null,null,null,null,null,null,0]
[null,null,null,null,null,null,null,null,null,0]
[null,null,null,null,null,null,null,null,null,0]
[null,null,null,null,null,null,null,null,null,0]
[null,null,null,null,null,null,null,null,null,0]
[null,null,null,null,null,null,null,null,null,0]
[null,null,null,null,null,null,null,null,null,0]
[null,null,null,null,null,null,null,null,null,0]
[null,null,null,null,null,null,null,null,null,0]
[null,null,null,null,null,null,null,null,null,0]
[null,null,null,null,null,null,null,null,null,0]
[null,null,null,null,null,null,null,null,null,0]
[null,null,null,null,null,null,null,null,null,0]
[null,null,null,null,null,null,null,null,null,0]
[null,null,null,null,null,null,null,null,null,0]
[null,null,null,null,null,null,null,null,null,0]
[null,null,null,null,null,null,null,null,null,0]
[null,null,null,null,null,null,null,null,null,0]
[null,null,null,null,null,null,null,null,null,0]
[null,null,null,null,null,null,null,null,null,0]
[null,null,null,null,null,null,null,null,null,0]
[null,null,null,null,null,null,null,null,null,0]
[null,null,null,null,null,null,null,null,null,0]
[null,null,null,null,null,null,null,null,null,0]
[null,null,null,null,null,null,null,null,null,0]
[null,null,null,null,null,null,null,null,null,0]
[null,null,null,null,null,null,null,null,null,0]
[null,null,null,null,null,null,null,null,null,0]
[null,null,null,null,null,null,null,null,null,0]
[null,null,null,null,null,null,null,null,null,0]
[null,null,null,null,null,null,null,null,null,0]
[null,null,null,null,null,null,null,null,null,0]
[null,null,null,null,null,null,null,null,null,0]
[null,null,null,null,null,null,null,null,null,0]
[null,null,null,null,null,null,null,null,null,0]
[null,null,null,null,null,null,null,null,null,0]
[null,null,null,null,null,null,null,null,null,0]
[null,null,null,null,null,null,null,null,null,0]
[null,null,null,null,null,null,null,null,null,0]
[null,null,null,null,null,null,null,null,null,0]
[null,null,null,null,null,null,null,null,null,0]
[null,null,null,null,null,null,null,null,null,0]
[null,null,null,null,null,null,null,null,null,0]
[null,null,null,null,null,null,null,null,null,0]
[null,null,null,null,null,null,null,null,null,0]
[null,null,null,null,null,null,null,null,null,0]
[null,null,null,null,null,null,null,null,null,0]
[null,null,null,null,null,null,null,null,null,0]
[null,null,null,null,null,null,null,null,null,0]
[null,null,null,null,null,null,null,null,null,0]
[null,null,null,null,null,null,null,null,null,0]
[null,null,null,null,null,null,null,null,null,0]
[null,null,null,null,null,null,null,null,null,0]
[null,null,null,null,null,null,null,null,null,0]
[null,null,null,null,null,null,null,null,null,0]
[null,null,null,null,null,null,null,null,null,0]
[null,null,null,null,null,null,null,null,null,0]
[null,null,null,null,null,null,null,null,null,0]
[null,null,null,null,null,null,null,null,null,0]
[null,null,null,null,null,null,null,null,null,0]
[null,null,null,null,null,null,null,null,null,0]
[null,null,null,null,null,null,null,null,null,0]
[null,null,null,null,null,null,null,null,null,0]
[null,null,null,null,null,null,null,null,null,0]
[null,null,null,null,null,null,null,null,null,0]
[null,null,null,null,null,null,null,null,null,0]
[null,null,null,null,null,null,null,null,null,0]
[null,null,null,null,null,null,null,null,null,0]
[null,null,null,null,null,null,null,null,null,0]
[null,null,null,null,null,null,null,null,null,0]
[null,null,null,null,null,null,null,null,null,0]
[null,null,null,null,null,null,null,null,null,0]
[null,null,null,null,null,null,null,null,null,0]
[null,null,null,null,null,null,null,null,null,0]
[null,null,null,null,null,null,null,null,null,{"$f":"SUMIF($G$19:$G$1015,$G128056,$H$19:$H$1015)","v":0}]
[null,null,null,null,null,null,null,null,null,0]
[null,null,null,null,null,null,null,null,null,0]
[null,null,null,null,null,null,null,null,null,0]
[null,null,null,null,null,null,null,null,null,0]
[null,null,null,null,null,null,null,null,null,0]
[null,null,null,null,null,null,null,null,null,0]
[null,null,null,null,null,null,null,null,null,0]
[null,null,null,null,null,null,null,null,null,0]
[null,null,null,null,null,null,null,null,null,0]
[null,null,null,null,null,null,null,null,null,0]
[null,null,null,null,null,null,null,null,null,0]
[null,null,null,null,null,null,null,null,null,0]
[null,null,null,null,null,null,null,null,null,0]
[null,null,null,null,null,null,null,null,null,0]
[null,null,null,null,null,null,null,null,null,0]
[null,null,null,null,null,null,null,null,null,0]
[null,null,null,null,null,null,null,null,null,0]
[null,null,null,null,null,null,null,null,null,0]
[null,null,null,null,null,null,null,null,null,0]
[null,null,null,null,null,null,null,null,null,0]
[null,null,null,null,null,null,null,null,null,0]
[null,null,null,null,null,null,null,null,null,0]
[null,null,null,null,null,null,null,null,null,0]
[null,null,null,null,null,null,null,null,null,0]
[null,null,null,null,null,null,null,null,null,{"$f":"SUMIF($G$19:$G$1015,$G132856,$H$19:$H$1015)","v":0}]
[null,null,null,null,null,null,null,null,null,0]
[null,null,null,null,null,null,null,null,null,0]
[null,null,null,null,null,null,null,null,null,0]
[null,null,null,null,null,null,null,null,null,0]
[null,null,null,null,null,null,null,null,null,0]
[null,null,null,null,null,null,null,null,null,0]
[null,null,null,null,null,null,null,null,null,0]
[null,null,null,null,null,null,null,null,null,0]
[null,null,null,null,null,null,null,null,null,0]
[null,null,null,null,null,null,null,null,null,0]
[null,null,null,null,null,null,null,null,null,0]
[null,null,null,null,null,null,null,null,null,0]
[null,null,null,null,null,null,null,null,null,0]
[null,null,null,null,null,null,null,null,null,0]
[null,null,null,null,null,null,null,null,null,0]
[null,null,null,null,null,null,null,null,null,0]
[null,null,null,null,null,null,null,null,null,0]
[null,null,null,null,null,null,null,null,null,0]
[null,null,null,null,null,null,null,null,null,0]
[null,null,null,null,null,null,null,null,null,0]
[null,null,null,null,null,null,null,null,null,0]
[null,null,null,null,null,null,null,null,null,0]
[null,null,null,null,null,null,null,null,null,0]
[null,null,null,null,null,null,null,null,null,0]
[null,null,null,null,null,null,null,null,null,0]
[null,null,null,null,null,null,null,null,null,0]
[null,null,null,null,null,null,null,null,null,0]
[null,null,null,null,null,null,null,null,null,0]
[null,null,null,null,null,null,null,null,null,0]
[null,null,null,null,null,null,null,null,null,0]
[null,null,null,null,null,null,null,null,null,0]
[null,null,null,null,null,null,null,null,null,0]
[null,null,null,null,null,null,null,null,null,0]
[null,null,null,null,null,null,null,null,null,0]
[null,null,null,null,null,null,null,null,null,0]
[null,null,null,null,null,null,null,null,null,0]
[null,null,null,null,null,null,null,null,null,0]
[null,null,null,null,null,null,null,null,null,0]
[null,null,null,null,null,null,null,null,null,0]
[null,null,null,null,null,null,null,null,null,0]
[null,null,null,null,null,null,null,null,null,0]
[null,null,null,null,null,null,null,null,null,0]
[null,null,null,null,null,null,null,null,null,0]
[null,null,null,null,null,null,null,null,null,0]
[null,null,null,null,null,null,null,null,null,0]
[null,null,null,null,null,null,null,null,null,0]
[null,null,null,null,null,null,null,null,null,0]
[null,null,null,null,null,null,null,null,null,0]
[null,null,null,null,null,null,null,null,null,0]
[null,null,null,null,null,null,null,null,null,0]
[null,null,null,null,null,null,null,null,null,0]
[null,null,null,null,null,null,null,null,null,0]
[null,null,null,null,null,null,null,null,null,0]
[null,null,null,null,null,null,null,null,null,0]
[null,null,null,null,null,null,null,null,null,0]
[null,null,null,null,null,null,null,null,null,0]
[null,null,null,null,null,null,null,null,null,0]
[null,null,null,null,null,null,null,null,null,0]
[null,null,null,null,null,null,null,null,null,0]
[null,null,null,null,null,null,null,null,null,0]
[null,null,null,null,null,null,null,null,null,0]
[null,null,null,null,null,null,null,null,null,0]
[null,null,null,null,null,null,null,null,null,0]
[null,null,null,null,null,null,null,null,null,0]
[null,null,null,null,null,null,null,null,null,0]
[null,null,null,null,null,null,null,null,null,0]
[null,null,null,null,null,null,null,null,null,0]
[null,null,null,null,null,null,null,null,null,0]
[null,null,null,null,null,null,null,null,null,0]
[null,null,null,null,null,null,null,null,null,0]
[null,null,null,null,null,null,null,null,null,0]
[null,null,null,null,null,null,null,null,null,0]
[null,null,null,null,null,null,null,null,null,0]
[null,null,null,null,null,null,null,null,null,0]
[null,null,null,null,null,null,null,null,null,0]
[null,null,null,null,null,null,null,null,null,0]
[null,null,null,null,null,null,null,null,null,0]
[null,null,null,null,null,null,null,null,null,0]
[null,null,null,null,null,null,null,null,null,0]
[null,null,null,null,null,null,null,null,null,0]
[null,null,null,null,null,null,null,null,null,0]
[null,null,null,null,null,null,null,null,null,0]
[null,null,null,null,null,null,null,null,null,0]
[null,null,null,null,null,null,null,null,null,0]
[null,null,null,null,null,null,null,null,null,0]
[null,null,null,null,null,null,null,null,null,0]
[null,null,null,null,null,null,null,null,null,0]
[null,null,null,null,null,null,null,null,null,{"$f":"SUMIF($G$19:$G$1015,$G149880,$H$19:$H$1015)","v":0}]
[null,null,null,null,null,null,null,null,null,0]
[null,null,null,null,null,null,null,null,null,0]
[null,null,null,null,null,null,null,null,null,0]
[null,null,null,null,null,null,null,null,null,0]
[null,null,null,null,null,null,null,null,null,0]
[null,null,null,null,null,null,null,null,null,0]
[null,null,null,null,null,null,null,null,null,0]
[null,null,null,null,null,null,null,null,null,0]
[null,null,null,null,null,null,null,null,null,0]
[null,null,null,null,null,null,null,null,null,0]
[null,null,null,null,null,null,null,null,null,0]
[null,null,null,null,null,null,null,null,null,0]
[null,null,null,null,null,null,null,null,null,0]
[null,null,null,null,null,null,null,null,null,0]
[null,null,null,null,null,null,null,null,null,{"$f":"SUMIF($G$19:$G$1015,$G152824,$H$19:$H$1015)","v":0}]
[null,null,null,null,null,null,null,null,null,0]
[null,null,null,null,null,null,null,null,null,0]
[null,null,null,null,null,null,null,null,null,0]
[null,null,null,null,null,null,null,null,null,0]
[null,null,null,null,null,null,null,null,null,0]
[null,null,null,null,null,null,null,null,null,0]
[null,null,null,null,null,null,null,null,null,0]
[null,null,null,null,null,null,null,null,null,0]
[null,null,null,null,null,null,null,null,null,0]
[null,null,null,null,null,null,null,null,null,0]
[null,null,null,null,null,null,null,null,null,0]
[null,null,null,null,null,null,null,null,null,0]
[null,null,null,null,null,null,null,null,null,0]
[null,null,null,null,null,null,null,null,null,0]
[null,null,null,null,null,null,null,null,null,0]
[null,null,null,null,null,null,null,null,null,0]
[null,null,null,null,null,null,null,null,null,0]
[null,null,null,null,null,null,null,null,null,0]
[null,null,null,null,null,null,null,null,null,0]
[null,null,null,null,null,null,null,null,null,0]
[null,null,null,null,null,null,null,null,null,0]
[null,null,null,null,null,null,null,null,null,0]
[null,null,null,null,null,null,null,null,null,0]
[null,null,null,null,null,null,null,null,null,0]
[null,null,null,null,null,null,null,null,null,0]
[null,null,null,null,null,null,null,null,null,0]
[null,null,null,null,null,null,null,null,null,0]
[null,null,null,null,null,null,null,null,null,0]
[null,null,null,null,null,null,null,null,null,0]
[null,null,null,null,null,null,null,null,null,0]
[null,null,null,null,null,null,null,null,null,0]
[null,null,null,null,null,null,null,null,null,0]
[null,null,null,null,null,null,null,null,null,0]
[null,null,null,null,null,null,null,null,null,0]
[null,null,null,null,null,null,null,null,null,0]
[null,null,null,null,null,null,null,null,null,0]
[null,null,null,null,null,null,null,null,null,0]
[null,null,null,null,null,null,null,null,null,0]
[null,null,null,null,null,null,null,null,null,0]
[null,null,null,null,null,null,null,null,null,0]
[null,null,null,null,null,null,null,null,null,0]
[null,null,null,null,null,null,null,null,null,0]
[null,null,null,null,null,null,null,null,null,0]
[null,null,null,null,null,null,null,null,null,0]
[null,null,null,null,null,null,null,null,null,0]
[null,null,null,null,null,null,null,null,null,0]
[null,null,null,null,null,null,null,null,null,0]
[null,null,null,null,null,null,null,null,null,0]
[null,null,null,null,null,null,null,null,null,0]
[null,null,null,null,null,null,null,null,null,0]
[null,null,null,null,null,null,null,null,null,0]
[null,null,null,null,null,null,null,null,null,0]
[null,null,null,null,null,null,null,null,null,0]
[null,null,null,null,null,null,null,null,null,0]
[null,null,null,null,null,null,null,null,null,0]
[null,null,null,null,null,null,null,null,null,0]
[null,null,null,null,null,null,null,null,null,0]
[null,null,null,null,null,null,null,null,null,0]
[null,null,null,null,null,null,null,null,null,0]
[null,null,null,null,null,null,null,null,null,0]
[null,null,null,null,null,null,null,null,null,0]
[null,null,null,null,null,null,null,null,null,0]
[null,null,null,null,null,null,null,null,null,0]
[null,null,null,null,null,null,null,null,null,0]
[null,null,null,null,null,null,null,null,null,0]
[null,null,null,null,null,null,null,null,null,0]
[null,null,null,null,null,null,null,null,null,0]
[null,null,null,null,null,null,null,null,null,0]
[null,null,null,null,null,null,null,null,null,0]
[null,null,null,null,null,null,null,null,null,0]
[null,null,null,null,null,null,null,null,null,0]
[null,null,null,null,null,null,null,null,null,0]
[null,null,null,null,null,null,null,null,null,0]
[null,null,null,null,null,null,null,null,null,0]
[null,null,null,null,null,null,null,null,null,0]
[null,null,null,null,null,null,null,null,null,0]
[null,null,null,null,null,null,null,null,null,0]
[null,null,null,null,null,null,null,null,null,0]
[null,null,null,null,null,null,null,null,null,0]
[null,null,null,null,null,null,null,null,null,0]
[null,null,null,null,null,null,null,null,null,0]
[null,null,null,null,null,null,null,null,null,0]
[null,null,null,null,null,null,null,null,null,0]
[null,null,null,null,null,null,null,null,null,0]
[null,null,null,null,null,null,null,null,null,0]
[null,null,null,null,null,null,null,null,null,0]
[null,null,null,null,null,null,null,null,null,0]
[null,null,null,null,null,null,null,null,null,{"$f":"SUMIF($G$19:$G$1015,$G169720,$H$19:$H$1015)","v":0}]
[null,null,null,null,null,null,null,null,null,0]
[null,null,null,null,null,null,null,null,null,0]
[null,null,null,null,null,null,null,null,null,0]
[null,null,null,null,null,null,null,null,null,0]
[null,null,null,null,null,null,null,null,null,0]
[null,null,null,null,null,null,null,null,null,0]
[null,null,null,null,null,null,null,null,null,0]
[null,null,null,null,null,null,null,null,null,0]
[null,null,null,null,null,null,null,null,null,0]
[null,null,null,null,null,null,null,null,null,0]
[null,null,null,null,null,null,null,null,null,0]
[null,null,null,null,null,null,null,null,null,0]
[null,null,null,null,null,null,null,null,null,0]
[null,null,null,null,null,null,null,null,null,0]
[null,null,null,null,null,null,null,null,null,0]
[null,null,null,null,null,null,null,null,null,0]
[null,null,null,null,null,null,null,null,null,0]
[null,null,null,null,null,null,null,null,null,0]
[null,null,null,null,null,null,null,null,null,0]
[null,null,null,null,null,null,null,null,null,0]
[null,null,null,null,null,null,null,null,null,0]
[null,null,null,null,null,null,null,null,null,0]
[null,null,null,null,null,null,null,null,null,0]
[null,null,null,null,null,null,null,null,null,0]
[null,null,null,null,null,null,null,null,null,0]
[null,null,null,null,null,null,null,null,null,0]
[null,null,null,null,null,null,null,null,null,0]
[null,null,null,null,null,null,null,null,null,0]
[null,null,null,null,null,null,null,null,null,0]
[null,null,null,null,null,null,null,null,null,0]
[null,null,null,null,null,null,null,null,null,0]
[null,null,null,null,null,null,null,null,null,0]
[null,null,null,null,null,null,null,null,null,0]
[null,null,null,null,null,null,null,null,null,0]
[null,null,null,null,null,null,null,null,null,0]
[null,null,null,null,null,null,null,null,null,0]
[null,null,null,null,null,null,null,null,null,0]
[null,null,null,null,null,null,null,null,null,0]
[null,null,null,null,null,null,null,null,null,0]
[null,null,null,null,null,null,null,null,null,0]
[null,null,null,null,null,null,null,null,null,0]
[null,null,null,null,null,null,null,null,null,0]
[null,null,null,null,null,null,null,null,null,0]
[null,null,null,null,null,null,null,null,null,0]
[null,null,null,null,null,null,null,null,null,0]
[null,null,null,null,null,null,null,null,null,0]
[null,null,null,null,null,null,null,null,null,0]
[null,null,null,null,null,null,null,null,null,0]
[null,null,null,null,null,null,null,null,null,0]
[null,null,null,null,null,null,null,null,null,0]
[null,null,null,null,null,null,null,null,null,0]
[null,null,null,null,null,null,null,null,null,0]
[null,null,null,null,null,null,null,null,null,0]
[null,null,null,null,null,null,null,null,null,0]
[null,null,null,null,null,null,null,null,null,0]
[null,null,null,null,null,null,null,null,null,0]
[null,null,null,null,null,null,null,null,null,0]
[null,null,null,null,null,null,null,null,null,0]
[null,null,null,null,null,null,null,null,null,0]
[null,null,null,null,null,null,null,null,null,0]
[null,null,null,null,null,null,null,null,null,0]
[null,null,null,null,null,null,null,null,null,0]
[null,null,null,null,null,null,null,null,null,0]
[null,null,null,null,null,null,null,null,null,0]
[null,null,null,null,null,null,null,null,null,0]
[null,null,null,null,null,null,null,null,null,0]
[null,null,null,null,null,null,null,null,null,0]
[null,null,null,null,null,null,null,null,null,0]
[null,null,null,null,null,null,null,null,null,0]
[null,null,null,null,null,null,null,null,null,0]
[null,null,null,null,null,null,null,null,null,0]
[null,null,null,null,null,null,null,null,null,0]
[null,null,null,null,null,null,null,null,null,0]
[null,null,null,null,null,null,null,null,null,0]
[null,null,null,null,null,null,null,null,null,0]
[null,null,null,null,null,null,null,null,null,0]
[null,null,null,null,null,null,null,null,null,0]
[null,null,null,null,null,null,null,null,null,0]
[null,null,null,null,null,null,null,null,null,0]
[null,null,null,null,null,null,null,null,null,0]
[null,null,null,null,null,null,null,null,null,0]
[null,null,null,null,null,null,null,null,null,0]
[null,null,null,null,null,null,null,null,null,0]
[null,null,null,null,null,null,null,null,null,0]
[null,null,null,null,null,null,null,null,null,0]
[null,null,null,null,null,null,null,null,null,0]
[null,null,null,null,null,null,null,null,null,0]
[null,null,null,null,null,null,null,null,null,0]
[null,null,null,null,null,null,null,null,null,0]
[null,null,null,null,null,null,null,null,null,0]
[null,null,null,null,null,null,null,null,null,0]
[null,null,null,null,null,null,null,null,null,0]
[null,null,null,null,null,null,null,null,null,0]
[null,null,null,null,null,null,null,null,null,0]
[null,null,null,null,null,null,null,null,null,0]
[null,null,null,null,null,null,null,null,null,0]
[null,null,null,null,null,null,null,null,null,0]
[null,null,null,null,null,null,null,null,null,0]
[null,null,null,null,null,null,null,null,null,0]
[null,null,null,null,null,null,null,null,null,0]
[null,null,null,null,null,null,null,null,null,0]
[null,null,null,null,null,null,null,null,null,0]
[null,null,null,null,null,null,null,null,null,0]
[null,null,null,null,null,null,null,null,null,0]
[null,null,null,null,null,null,null,null,null,0]
[null,null,null,null,null,null,null,null,null,0]
[null,null,null,null,null,null,null,null,null,0]
[null,null,null,null,null,null,null,null,null,0]
[null,null,null,null,null,null,null,null,null,0]
[null,null,null,null,null,null,null,null,null,0]
[null,null,null,null,null,null,null,null,null,0]
[null,null,null,null,null,null,null,null,null,0]
[null,null,null,null,null,null,null,null,null,0]
[null,null,null,null,null,null,null,null,null,0]
[null,null,null,null,null,null,null,null,null,0]
[null,null,null,null,null,null,null,null,null,0]
[null,null,null,null,null,null,null,null,null,0]
[null,null,null,null,null,null,null,null,null,0]
[null,null,null,null,null,null,null,null,null,0]
[null,null,null,null,null,null,null,null,null,0]
[null,null,null,null,null,null,null,null,null,0]
[null,null,null,null,null,null,null,null,null,0]
[null,null,null,null,null,null,null,null,null,0]
[null,null,null,null,null,null,null,null,null,0]
[null,null,null,null,null,null,null,null,null,0]
[null,null,null,null,null,null,null,null,null,0]
[null,null,null,null,null,null,null,null,null,0]
[null,null,null,null,null,null,null,null,null,0]
[null,null,null,null,null,null,null,null,null,0]
[null,null,null,null,null,null,null,null,null,0]
[null,null,null,null,null,null,null,null,null,{"$f":"SUMIF($G$19:$G$1015,$G195128,$H$19:$H$1015)","v":0}]
[null,null,null,null,null,null,null,null,null,0]
[null,null,null,null,null,null,null,null,null,0]
[null,null,null,null,null,null,null,null,null,0]
[null,null,null,null,null,null,null,null,null,0]
[null,null,null,null,null,null,null,null,null,0]
[null,null,null,null,null,null,null,null,null,0]
[null,null,null,null,null,null,null,null,null,0]
[null,null,null,null,null,null,null,null,null,0]
[null,null,null,null,null,null,null,null,null,0]
[null,null,null,null,null,null,null,null,null,0]
[null,null,null,null,null,null,null,null,null,0]
[null,null,null,null,null,null,null,null,null,0]
[null,null,null,null,null,null,null,null,null,0]
[null,null,null,null,null,null,null,null,null,0]
[null,null,null,null,null,null,null,null,null,0]
[null,null,null,null,null,null,null,null,null,0]
[null,null,null,null,null,null,null,null,null,0]
[null,null,null,null,null,null,null,null,null,0]
[null,null,null,null,null,null,null,null,null,0]
[null,null,null,null,null,null,null,null,null,0]
[null,null,null,null,null,null,null,null,null,0]
[null,null,null,null,null,null,null,null,null,0]
[null,null,null,null,null,null,null,null,null,0]
[null,null,null,null,null,null,null,null,null,0]
[null,null,null,null,null,null,null,null,null,0]
[null,null,null,null,null,null,null,null,null,0]
[null,null,null,null,null,null,null,null,null,0]
[null,null,null,null,null,null,null,null,null,0]
[null,null,null,null,null,null,null,null,null,0]
[null,null,null,null,null,null,null,null,null,0]
[null,null,null,null,null,null,null,null,null,0]
[null,null,null,null,null,null,null,null,null,0]
[null,null,null,null,null,null,null,null,null,0]
[null,null,null,null,null,null,null,null,null,0]
[null,null,null,null,null,null,null,null,null,0]
[null,null,null,null,null,null,null,null,null,0]
[null,null,null,null,null,null,null,null,null,0]
[null,null,null,null,null,null,null,null,null,0]
[null,null,null,null,null,null,null,null,null,0]
[null,null,null,null,null,null,null,null,null,0]
[null,null,null,null,null,null,null,null,null,0]
[null,null,null,null,null,null,null,null,null,0]
[null,null,null,null,null,null,null,null,null,0]
[null,null,null,null,null,null,null,null,null,0]
[null,null,null,null,null,null,null,null,null,0]
[null,null,null,null,null,null,null,null,null,0]
[null,null,null,null,null,null,null,null,null,0]
[null,null,null,null,null,null,null,null,null,0]
[null,null,null,null,null,null,null,null,null,0]
[null,null,null,null,null,null,null,null,null,0]
[null,null,null,null,null,null,null,null,null,0]
[null,null,null,null,null,null,null,null,null,0]
[null,null,null,null,null,null,null,null,null,0]
[null,null,null,null,null,null,null,null,null,0]
[null,null,null,null,null,null,null,null,null,0]
[null,null,null,null,null,null,null,null,null,0]
[null,null,null,null,null,null,null,null,null,0]
[null,null,null,null,null,null,null,null,null,0]
[null,null,null,null,null,null,null,null,null,0]
[null,null,null,null,null,null,null,null,null,0]
[null,null,null,null,null,null,null,null,null,0]
[null,null,null,null,null,null,null,null,null,0]
[null,null,null,null,null,null,null,null,null,0]
[null,null,null,null,null,null,null,null,null,0]
[null,null,null,null,null,null,null,null,null,0]
[null,null,null,null,null,null,null,null,null,0]
[null,null,null,null,null,null,null,null,null,0]
[null,null,null,null,null,null,null,null,null,0]
[null,null,null,null,null,null,null,null,null,0]
[null,null,null,null,null,null,null,null,null,0]
[null,null,null,null,null,null,null,null,null,0]
[null,null,null,null,null,null,null,null,null,0]
[null,null,null,null,null,null,null,null,null,0]
[null,null,null,null,null,null,null,null,null,0]
[null,null,null,null,null,null,null,null,null,0]
[null,null,null,null,null,null,null,null,null,0]
[null,null,null,null,null,null,null,null,null,0]
[null,null,null,null,null,null,null,null,null,0]
[null,null,null,null,null,null,null,null,null,0]
[null,null,null,null,null,null,null,null,null,0]
[null,null,null,null,null,null,null,null,null,0]
[null,null,null,null,null,null,null,null,null,0]
[null,null,null,null,null,null,null,null,null,0]
[null,null,null,null,null,null,null,null,null,0]
[null,null,null,null,null,null,null,null,null,0]
[null,null,null,null,null,null,null,null,null,0]
[null,null,null,null,null,null,null,null,null,0]
[null,null,null,null,null,null,null,null,null,0]
[null,null,null,null,null,null,null,null,null,0]
[null,null,null,null,null,null,null,null,null,0]
[null,null,null,null,null,null,null,null,null,0]
[null,null,null,null,null,null,null,null,null,0]
[null,null,null,null,null,null,null,null,null,0]
[null,null,null,null,null,null,null,null,null,0]
[null,null,null,null,null,null,null,null,null,0]
[null,null,null,null,null,null,null,null,null,0]
[null,null,null,null,null,null,null,null,null,0]
[null,null,null,null,null,null,null,null,null,0]
[null,null,null,null,null,null,null,null,null,0]
[null,null,null,null,null,null,null,null,null,0]
[null,null,null,null,null,null,null,null,null,0]
[null,null,null,null,null,null,null,null,null,0]
[null,null,null,null,null,null,null,null,null,0]
[null,null,null,null,null,null,null,null,null,0]
[null,null,null,null,null,null,null,null,null,0]
[null,null,null,null,null,null,null,null,null,0]
[null,null,null,null,null,null,null,null,null,0]
[null,null,null,null,null,null,null,null,null,0]
[null,null,null,null,null,null,null,null,null,0]
[null,null,null,null,null,null,null,null,null,0]
[null,null,null,null,null,null,null,null,null,0]
[null,null,null,null,null,null,null,null,null,0]
[null,null,null,null,null,null,null,null,null,0]
[null,null,null,null,null,null,null,null,null,0]
[null,null,null,null,null,null,null,null,null,0]
[null,null,null,null,null,null,null,null,null,0]
[null,null,null,null,null,null,null,null,null,0]
[null,null,null,null,null,null,null,null,null,0]
[null,null,null,null,null,null,null,null,null,0]
[null,null,null,null,null,null,null,null,null,0]
[null,null,null,null,null,null,null,null,null,0]
[null,null,null,null,null,null,null,null,null,0]
[null,null,null,null,null,null,null,null,null,0]
[null,null,null,null,null,null,null,null,null,0]
[null,null,null,null,null,null,null,null,null,0]
[null,null,null,null,null,null,null,null,null,0]
[null,null,null,null,null,null,null,null,null,0]
[null,null,null,null,null,null,null,null,null,0]
[null,null,null,null,null,null,null,null,null,0]
[null,null,null,null,null,null,null,null,null,0]
[null,null,null,null,null,null,null,null,null,0]
[null,null,null,null,null,null,null,null,null,0]
[null,null,null,null,null,null,null,null,null,0]
[null,null,null,null,null,null,null,null,null,0]
[null,null,null,null,null,null,null,null,null,0]
[null,null,null,null,null,null,null,null,null,0]
[null,null,null,null,null,null,null,null,null,0]
[null,null,null,null,null,null,null,null,null,0]
[null,null,null,null,null,null,null,null,null,0]
[null,null,null,null,null,null,null,null,null,0]
[null,null,null,null,null,null,null,null,null,0]
[null,null,null,null,null,null,null,null,null,0]
[null,null,null,null,null,null,null,null,null,0]
[null,null,null,null,null,null,null,null,null,0]
[null,null,null,null,null,null,null,null,null,0]
[null,null,null,null,null,null,null,null,null,0]
[null,null,null,null,null,null,null,null,null,0]
[null,null,null,null,null,null,null,null,null,0]
[null,null,null,null,null,null,null,null,null,0]
[null,null,null,null,null,null,null,null,null,0]
[null,null,null,null,null,null,null,null,null,0]
[null,null,null,null,null,null,null,null,null,0]
[null,null,null,null,null,null,null,null,null,0]
[null,null,null,null,null,null,null,null,null,0]
[null,null,null,null,null,null,null,null,null,0]
[null,null,null,null,null,null,null,null,null,0]
[null,null,null,null,null,null,null,null,null,0]
[null,null,null,null,null,null,null,null,null,0]
[null,null,null,null,null,null,null,null,null,0]
[null,null,null,null,null,null,null,null,null,0]
[null,null,null,null,null,null,null,null,null,0]
[null,null,null,null,null,null,null,null,null,0]
[null,null,null,null,null,null,null,null,null,0]
[null,null,null,null,null,null,null,null,null,0]
[null,null,null,null,null,null,null,null,null,0]
[null,null,null,null,null,null,null,null,null,0]
[null,null,null,null,null,null,null,null,null,0]
[null,null,null,null,null,null,null,null,null,{"$f":"SUMIF($G$19:$G$1015,$G227640,$H$19:$H$1015)","v":0}]
[null,null,null,null,null,null,null,null,null,0]
[null,null,null,null,null,null,null,null,null,0]
[null,null,null,null,null,null,null,null,null,0]
[null,null,null,null,null,null,null,null,null,0]
[null,null,null,null,null,null,null,null,null,0]
[null,null,null,null,null,null,null,null,null,0]
[null,null,null,null,null,null,null,null,null,0]
[null,null,null,null,null,null,null,null,null,0]
[null,null,null,null,null,null,null,null,null,0]
[null,null,null,null,null,null,null,null,null,0]
[null,null,null,null,null,null,null,null,null,0]
[null,null,null,null,null,null,null,null,null,0]
[null,null,null,null,null,null,null,null,null,0]
[null,null,null,null,null,null,null,null,null,0]
[null,null,null,null,null,null,null,null,null,0]
[null,null,null,null,null,null,null,null,null,0]
[null,null,null,null,null,null,null,null,null,0]
[null,null,null,null,null,null,null,null,null,0]
[null,null,null,null,null,null,null,null,null,0]
[null,null,null,null,null,null,null,null,null,0]
[null,null,null,null,null,null,null,null,null,0]
[null,null,null,null,null,null,null,null,null,0]
[null,null,null,null,null,null,null,null,null,{"$f":"SUMIF($G$19:$G$1015,$G231992,$H$19:$H$1015)","v":0}]
[null,null,null,null,null,null,null,null,null,0]
[null,null,null,null,null,null,null,null,null,0]
[null,null,null,null,null,null,null,null,null,0]
[null,null,null,null,null,null,null,null,null,0]
[null,null,null,null,null,null,null,null,null,0]
[null,null,null,null,null,null,null,null,null,0]
[null,null,null,null,null,null,null,null,null,0]
[null,null,null,null,null,null,null,null,null,0]
[null,null,null,null,null,null,null,null,null,0]
[null,null,null,null,null,null,null,null,null,0]
[null,null,null,null,null,null,null,null,null,0]
[null,null,null,null,null,null,null,null,null,0]
[null,null,null,null,null,null,null,null,null,0]
[null,null,null,null,null,null,null,null,null,0]
[null,null,null,null,null,null,null,null,null,{"$f":"SUMIF($G$19:$G$1015,$G234872,$H$19:$H$1015)","v":0}]
[null,null,null,null,null,null,null,null,null,0]
[null,null,null,null,null,null,null,null,null,0]
[null,null,null,null,null,null,null,null,null,0]
[null,null,null,null,null,null,null,null,null,0]
[null,null,null,null,null,null,null,null,null,0]
[null,null,null,null,null,null,null,null,null,0]
[null,null,null,null,null,null,null,null,null,0]
[null,null,null,null,null,null,null,null,null,0]
[null,null,null,null,null,null,null,null,null,0]
[null,null,null,null,null,null,null,null,null,0]
[null,null,null,null,null,null,null,null,null,0]
[null,null,null,null,null,null,null,null,null,0]
[null,null,null,null,null,null,null,null,null,0]
[null,null,null,null,null,null,null,null,null,0]
[null,null,null,null,null,null,null,null,null,0]
[null,null,null,null,null,null,null,null,null,0]
[null,null,null,null,null,null,null,null,null,0]
[null,null,null,null,null,null,null,null,null,0]
[null,null,null,null,null,null,null,null,null,0]
[null,null,null,null,null,null,null,null,null,0]
[null,null,null,null,null,null,null,null,null,0]
[null,null,null,null,null,null,null,null,null,0]
[null,null,null,null,null,null,null,null,null,0]
[null,null,null,null,null,null,null,null,null,0]
[null,null,null,null,null,null,null,null,null,0]
[null,null,null,null,null,null,null,null,null,0]
[null,null,null,null,null,null,null,null,null,0]
[null,null,null,null,null,null,null,null,null,0]
[null,null,null,null,null,null,null,null,null,0]
[null,null,null,null,null,null,null,null,null,0]
[null,null,null,null,null,null,null,null,null,{"$f":"SUMIF($G$19:$G$1015,$G240888,$H$19:$H$1015)","v":0}]
[null,null,null,null,null,null,null,null,null,0]
[null,null,null,null,null,null,null,null,null,0]
[null,null,null,null,null,null,null,null,null,0]
[null,null,null,null,null,null,null,null,null,0]
[null,null,null,null,null,null,null,null,null,0]
[null,null,null,null,null,null,null,null,null,0]
[null,null,null,null,null,null,null,null,null,0]
[null,null,null,null,null,null,null,null,null,0]
[null,null,null,null,null,null,null,null,null,0]
[null,null,null,null,null,null,null,null,null,0]
[null,null,null,null,null,null,null,null,null,0]
[null,null,null,null,null,null,null,null,null,0]
[null,null,null,null,null,null,null,null,null,0]
[null,null,null,null,null,null,null,null,null,0]
[null,null,null,null,null,null,null,null,null,0]
[null,null,null,null,null,null,null,null,null,0]
[null,null,null,null,null,null,null,null,null,0]
[null,null,null,null,null,null,null,null,null,0]
[null,null,null,null,null,null,null,null,null,0]
[null,null,null,null,null,null,null,null,null,0]
[null,null,null,null,null,null,null,null,null,0]
[null,null,null,null,null,null,null,null,null,0]
[null,null,null,null,null,null,null,null,null,0]
[null,null,null,null,null,null,null,null,null,0]
[null,null,null,null,null,null,null,null,null,0]
[null,null,null,null,null,null,null,null,null,0]
[null,null,null,null,null,null,null,null,null,0]
[null,null,null,null,null,null,null,null,null,0]
[null,null,null,null,null,null,null,null,null,0]
[null,null,null,null,null,null,null,null,null,0]
[null,null,null,null,null,null,null,null,null,0]
[null,null,null,null,null,null,null,null,null,0]
[null,null,null,null,null,null,null,null,null,0]
[null,null,null,null,null,null,null,null,null,0]
[null,null,null,null,null,null,null,null,null,0]
[null,null,null,null,null,null,null,null,null,0]
[null,null,null,null,null,null,null,null,null,0]
[null,null,null,null,null,null,null,null,null,0]
[null,null,null,null,null,null,null,null,null,0]
[null,null,null,null,null,null,null,null,null,0]
[null,null,null,null,null,null,null,null,null,0]
[null,null,null,null,null,null,null,null,null,0]
[null,null,null,null,null,null,null,null,null,0]
[null,null,null,null,null,null,null,null,null,0]
[null,null,null,null,null,null,null,null,null,0]
[null,null,null,null,null,null,null,null,null,0]
[null,null,null,null,null,null,null,null,null,0]
[null,null,null,null,null,null,null,null,null,0]
[null,null,null,null,null,null,null,null,null,0]
[null,null,null,null,null,null,null,null,null,0]
[null,null,null,null,null,null,null,null,null,0]
[null,null,null,null,null,null,null,null,null,0]
[null,null,null,null,null,null,null,null,null,0]
[null,null,null,null,null,null,null,null,null,0]
[null,null,null,null,null,null,null,null,null,0]
[null,null,null,null,null,null,null,null,null,0]
[null,null,null,null,null,null,null,null,null,0]
[null,null,null,null,null,null,null,null,null,0]
[null,null,null,null,null,null,null,null,null,0]
[null,null,null,null,null,null,null,null,null,0]
[null,null,null,null,null,null,null,null,null,0]
[null,null,null,null,null,null,null,null,null,0]
[null,null,null,null,null,null,null,null,null,0]
[null,null,null,null,null,null,null,null,null,0]
[null,null,null,null,null,null,null,null,null,0]
[null,null,null,null,null,null,null,null,null,0]
[null,null,null,null,null,null,null,null,null,0]
[null,null,null,null,null,null,null,null,null,0]
[null,null,null,null,null,null,null,null,null,0]
[null,null,null,null,null,null,null,null,null,0]
[null,null,null,null,null,null,null,null,null,0]
[null,null,null,null,null,null,null,null,null,0]
[null,null,null,null,null,null,null,null,null,0]
[null,null,null,null,null,null,null,null,null,0]
[null,null,null,null,null,null,null,null,null,0]
[null,null,null,null,null,null,null,null,null,0]
[null,null,null,null,null,null,null,null,null,0]
[null,null,null,null,null,null,null,null,null,0]
[null,null,null,null,null,null,null,null,null,0]
[null,null,null,null,null,null,null,null,null,0]
[null,null,null,null,null,null,null,null,null,0]
[null,null,null,null,null,null,null,null,null,0]
[null,null,null,null,null,null,null,null,null,0]
[null,null,null,null,null,null,null,null,null,0]
[null,null,null,null,null,null,null,null,null,{"$f":"SUMIF($G$19:$G$1015,$G257400,$H$19:$H$1015)","v":0}]
[null,null,null,null,null,null,null,null,null,0]
[null,null,null,null,null,null,null,null,null,0]
[null,null,null,null,null,null,null,null,null,0]
[null,null,null,null,null,null,null,null,null,0]
[null,null,null,null,null,null,null,null,null,0]
[null,null,null,null,null,null,null,null,null,0]
[null,null,null,null,null,null,null,null,null,0]
[null,null,null,null,null,null,null,null,null,0]
[null,null,null,null,null,null,null,null,null,0]
[null,null,null,null,null,null,null,null,null,0]
[null,null,null,null,null,null,null,null,null,0]
[null,null,null,null,null,null,null,null,null,0]
[null,null,null,null,null,null,null,null,null,0]
[null,null,null,null,null,null,null,null,null,0]
[null,null,null,null,null,null,null,null,null,0]
[null,null,null,null,null,null,null,null,null,0]
[null,null,null,null,null,null,null,null,null,0]
[null,null,null,null,null,null,null,null,null,0]
[null,null,null,null,null,null,null,null,null,0]
[null,null,null,null,null,null,null,null,null,0]
[null,null,null,null,null,null,null,null,null,0]
[null,null,null,null,null,null,null,null,null,0]
[null,null,null,null,null,null,null,null,null,0]
[null,null,null,null,null,null,null,null,null,0]
[null,null,null,null,null,null,null,null,null,0]
[null,null,null,null,null,null,null,null,null,0]
[null,null,null,null,null,null,null,null,null,0]
[null,null,null,null,null,null,null,null,null,{"$f":"SUMIF($G$19:$G$1015,$G262712,$H$19:$H$1015)","v":0}]
[null,null,null,null,null,null,null,null,null,0]
[null,null,null,null,null,null,null,null,null,0]
[null,null,null,null,null,null,null,null,null,0]
[null,null,null,null,null,null,null,null,null,0]
[null,null,null,null,null,null,null,null,null,0]
[null,null,null,null,null,null,null,null,null,0]
[null,null,null,null,null,null,null,null,null,0]
[null,null,null,null,null,null,null,null,null,0]
[null,null,null,null,null,null,null,null,null,0]
[null,null,null,null,null,null,null,null,null,0]
[null,null,null,null,null,null,null,null,null,0]
[null,null,null,null,null,null,null,null,null,0]
[null,null,null,null,null,null,null,null,null,0]
[null,null,null,null,null,null,null,null,null,0]
[null,null,null,null,null,null,null,null,null,0]
[null,null,null,null,null,null,null,null,null,0]
[null,null,null,null,null,null,null,null,null,0]
[null,null,null,null,null,null,null,null,null,0]
[null,null,null,null,null,null,null,null,null,0]
[null,null,null,null,null,null,null,null,null,0]
[null,null,null,null,null,null,null,null,null,0]
[null,null,null,null,null,null,null,null,null,0]
[null,null,null,null,null,null,null,null,null,0]
[null,null,null,null,null,null,null,null,null,0]
[null,null,null,null,null,null,null,null,null,0]
[null,null,null,null,null,null,null,null,null,0]
[null,null,null,null,null,null,null,null,null,0]
[null,null,null,null,null,null,null,null,null,0]
[null,null,null,null,null,null,null,null,null,0]
[null,null,null,null,null,null,null,null,null,0]
[null,null,null,null,null,null,null,null,null,0]
[null,null,null,null,null,null,null,null,null,0]
[null,null,null,null,null,null,null,null,null,0]
[null,null,null,null,null,null,null,null,null,0]
[null,null,null,null,null,null,null,null,null,0]
[null,null,null,null,null,null,null,null,null,0]
[null,null,null,null,null,null,null,null,null,0]
[null,null,null,null,null,null,null,null,null,0]
[null,null,null,null,null,null,null,null,null,0]
[null,null,null,null,null,null,null,null,null,0]
[null,null,null,null,null,null,null,null,null,0]
[null,null,null,null,null,null,null,null,null,0]
[null,null,null,null,null,null,null,null,null,0]
[null,null,null,null,null,null,null,null,null,0]
[null,null,null,null,null,null,null,null,null,0]
[null,null,null,null,null,null,null,null,null,0]
[null,null,null,null,null,null,null,null,null,0]
[null,null,null,null,null,null,null,null,null,0]
[null,null,null,null,null,null,null,null,null,0]
[null,null,null,null,null,null,null,null,null,0]
[null,null,null,null,null,null,null,null,null,0]
[null,null,null,null,null,null,null,null,null,0]
[null,null,null,null,null,null,null,null,null,0]
[null,null,null,null,null,null,null,null,null,0]
[null,null,null,null,null,null,null,null,null,0]
[null,null,null,null,null,null,null,null,null,0]
[null,null,null,null,null,null,null,null,null,0]
[null,null,null,null,null,null,null,null,null,0]
[null,null,null,null,null,null,null,null,null,0]
[null,null,null,null,null,null,null,null,null,0]
[null,null,null,null,null,null,null,null,null,0]
[null,null,null,null,null,null,null,null,null,0]
[null,null,null,null,null,null,null,null,null,0]
[null,null,null,null,null,null,null,null,null,0]
[null,null,null,null,null,null,null,null,null,0]
[null,null,null,null,null,null,null,null,null,0]
[null,null,null,null,null,null,null,null,null,0]
[null,null,null,null,null,null,null,null,null,0]
[null,null,null,null,null,null,null,null,null,0]
[null,null,null,null,null,null,null,null,null,0]
[null,null,null,null,null,null,null,null,null,0]
[null,null,null,null,null,null,null,null,null,0]
[null,null,null,null,null,null,null,null,null,0]
[null,null,null,null,null,null,null,null,null,0]
[null,null,null,null,null,null,null,null,null,0]
[null,null,null,null,null,null,null,null,null,0]
[null,null,null,null,null,null,null,null,null,0]
[null,null,null,null,null,null,null,null,null,0]
[null,null,null,null,null,null,null,null,null,0]
[null,null,null,null,null,null,null,null,null,0]
[null,null,null,null,null,null,null,null,null,0]
[null,null,null,null,null,null,null,null,null,0]
[null,null,null,null,null,null,null,null,null,0]
[null,null,null,null,null,null,null,null,null,0]
[null,null,null,null,null,null,null,null,null,0]
[null,null,null,null,null,null,null,null,null,0]
[null,null,null,null,null,null,null,null,null,0]
[null,null,null,null,null,null,null,null,null,0]
[null,null,null,null,null,null,null,null,null,0]
[null,null,null,null,null,null,null,null,null,0]
[null,null,null,null,null,null,null,null,null,0]
[null,null,null,null,null,null,null,null,null,0]
[null,null,null,null,null,null,null,null,null,0]
[null,null,null,null,null,null,null,null,null,0]
[null,null,null,null,null,null,null,null,null,0]
[null,null,null,null,null,null,null,null,null,0]
[null,null,null,null,null,null,null,null,null,0]
[null,null,null,null,null,null,null,null,null,0]
[null,null,null,null,null,null,null,null,null,0]
[null,null,null,null,null,null,null,null,null,0]
[null,null,null,null,null,null,null,null,null,0]
[null,null,null,null,null,null,null,null,null,0]
[null,null,null,null,null,null,null,null,null,0]
[null,null,null,null,null,null,null,null,null,0]
[null,null,null,null,null,null,null,null,null,0]
[null,null,null,null,null,null,null,null,null,0]
[null,null,null,null,null,null,null,null,null,0]
[null,null,null,null,null,null,null,null,null,0]
[null,null,null,null,null,null,null,null,null,0]
[null,null,null,null,null,null,null,null,null,0]
[null,null,null,null,null,null,null,null,null,0]
[null,null,null,null,null,null,null,null,null,0]
[null,null,null,null,null,null,null,null,null,0]
[null,null,null,null,null,null,null,null,null,0]
[null,null,null,null,null,null,null,null,null,0]
[null,null,null,null,null,null,null,null,null,0]
[null,null,null,null,null,null,null,null,null,0]
[null,null,null,null,null,null,null,null,null,0]
[null,null,null,null,null,null,null,null,null,0]
[null,null,null,null,null,null,null,null,null,0]
[null,null,null,null,null,null,null,null,null,0]
[null,null,null,null,null,null,null,null,null,0]
[null,null,null,null,null,null,null,null,null,0]
[null,null,null,null,null,null,null,null,null,0]
[null,null,null,null,null,null,null,null,null,0]
[null,null,null,null,null,null,null,null,null,0]
[null,null,null,null,null,null,null,null,null,0]
[null,null,null,null,null,null,null,null,null,0]
[null,null,null,null,null,null,null,null,null,0]
[null,null,null,null,null,null,null,null,null,0]
[null,null,null,null,null,null,null,null,null,0]
[null,null,null,null,null,null,null,null,null,0]
[null,null,null,null,null,null,null,null,null,0]
[null,null,null,null,null,null,null,null,null,0]
[null,null,null,null,null,null,null,null,null,0]
[null,null,null,null,null,null,null,null,null,0]
[null,null,null,null,null,null,null,null,null,0]
[null,null,null,null,null,null,null,null,null,0]
[null,null,null,null,null,null,null,null,null,0]
[null,null,null,null,null,null,null,null,null,0]
[null,null,null,null,null,null,null,null,null,0]
[null,null,null,null,null,null,null,null,null,0]
[null,null,null,null,null,null,null,null,null,0]
[null,null,null,null,null,null,null,null,null,0]
[null,null,null,null,null,null,null,null,null,0]
[null,null,null,null,null,null,null,null,null,0]
[null,null,null,null,null,null,null,null,null,0]
[null,null,null,null,null,null,null,null,null,0]
[null,null,null,null,null,null,null,null,null,0]
[null,null,null,null,null,null,null,null,null,0]
[null,null,null,null,null,null,null,null,null,0]
[null,null,null,null,null,null,null,null,null,0]
[null,null,null,null,null,null,null,null,null,0]
[null,null,null,null,null,null,null,null,null,0]
[null,null,null,null,null,null,null,null,null,0]
[null,null,null,null,null,null,null,null,null,0]
[null,null,null,null,null,null,null,null,null,0]
[null,null,null,null,null,null,null,null,null,0]
[null,null,null,null,null,null,null,null,null,0]
[null,null,null,null,null,null,null,null,null,0]
[null,null,null,null,null,null,null,null,null,0]
[null,null,null,null,null,null,null,null,null,0]
[null,null,null,null,null,null,null,null,null,{"$f":"SUMIF($G$19:$G$1015,$G294264,$H$19:$H$1015)","v":0}]
[null,null,null,null,null,null,null,null,null,0]
[null,null,null,null,null,null,null,null,null,0]
[null,null,null,null,null,null,null,null,null,0]
[null,null,null,null,null,null,null,null,null,0]
[null,null,null,null,null,null,null,null,null,0]
[null,null,null,null,null,null,null,null,null,0]
[null,null,null,null,null,null,null,null,null,0]
[null,null,null,null,null,null,null,null,null,0]
[null,null,null,null,null,null,null,null,null,0]
[null,null,null,null,null,null,null,null,null,0]
[null,null,null,null,null,null,null,null,null,0]
[null,null,null,null,null,null,null,null,null,0]
[null,null,null,null,null,null,null,null,null,0]
[null,null,null,null,null,null,null,null,null,0]
[null,null,null,null,null,null,null,null,null,{"$f":"SUMIF($G$19:$G$1015,$G297144,$H$19:$H$1015)","v":0}]
[null,null,null,null,null,null,null,null,null,0]
[null,null,null,null,null,null,null,null,null,0]
[null,null,null,null,null,null,null,null,null,0]
[null,null,null,null,null,null,null,null,null,0]
[null,null,null,null,null,null,null,null,null,0]
[null,null,null,null,null,null,null,null,null,0]
[null,null,null,null,null,null,null,null,null,0]
[null,null,null,null,null,null,null,null,null,0]
[null,null,null,null,null,null,null,null,null,0]
[null,null,null,null,null,null,null,null,null,0]
[null,null,null,null,null,null,null,null,null,0]
[null,null,null,null,null,null,null,null,null,0]
[null,null,null,null,null,null,null,null,null,0]
[null,null,null,null,null,null,null,null,null,0]
[null,null,null,null,null,null,null,null,null,0]
[null,null,null,null,null,null,null,null,null,0]
[null,null,null,null,null,null,null,null,null,0]
[null,null,null,null,null,null,null,null,null,0]
[null,null,null,null,null,null,null,null,null,0]
[null,null,null,null,null,null,null,null,null,0]
[null,null,null,null,null,null,null,null,null,0]
[null,null,null,null,null,null,null,null,null,0]
[null,null,null,null,null,null,null,null,null,0]
[null,null,null,null,null,null,null,null,null,0]
[null,null,null,null,null,null,null,null,null,0]
[null,null,null,null,null,null,null,null,null,0]
[null,null,null,null,null,null,null,null,null,0]
[null,null,null,null,null,null,null,null,null,0]
[null,null,null,null,null,null,null,null,null,0]
[null,null,null,null,null,null,null,null,null,0]
[null,null,null,null,null,null,null,null,null,0]
[null,null,null,null,null,null,null,null,null,0]
[null,null,null,null,null,null,null,null,null,0]
[null,null,null,null,null,null,null,null,null,0]
[null,null,null,null,null,null,null,null,null,0]
[null,null,null,null,null,null,null,null,null,0]
[null,null,null,null,null,null,null,null,null,0]
[null,null,null,null,null,null,null,null,null,0]
[null,null,null,null,null,null,null,null,null,0]
[null,null,null,null,null,null,null,null,null,0]
[null,null,null,null,null,null,null,null,null,0]
[null,null,null,null,null,null,null,null,null,0]
[null,null,null,null,null,null,null,null,null,0]
[null,null,null,null,null,null,null,null,null,0]
[null,null,null,null,null,null,null,null,null,0]
[null,null,null,null,null,null,null,null,null,0]
[null,null,null,null,null,null,null,null,null,0]
[null,null,null,null,null,null,null,null,null,0]
[null,null,null,null,null,null,null,null,null,0]
[null,null,null,null,null,null,null,null,null,0]
[null,null,null,null,null,null,null,null,null,0]
[null,null,null,null,null,null,null,null,null,0]
[null,null,null,null,null,null,null,null,null,0]
[null,null,null,null,null,null,null,null,null,0]
[null,null,null,null,null,null,null,null,null,0]
[null,null,null,null,null,null,null,null,null,0]
[null,null,null,null,null,null,null,null,null,0]
[null,null,null,null,null,null,null,null,null,0]
[null,null,null,null,null,null,null,null,null,0]
[null,null,null,null,null,null,null,null,null,0]
[null,null,null,null,null,null,null,null,null,0]
[null,null,null,null,null,null,null,null,null,0]
[null,null,null,null,null,null,null,null,null,0]
[null,null,null,null,null,null,null,null,null,0]
[null,null,null,null,null,null,null,null,null,0]
[null,null,null,null,null,null,null,null,null,0]
[null,null,null,null,null,null,null,null,null,0]
[null,null,null,null,null,null,null,null,null,0]
[null,null,null,null,null,null,null,null,null,0]
[null,null,null,null,null,null,null,null,null,0]
[null,null,null,null,null,null,null,null,null,0]
[null,null,null,null,null,null,null,null,null,0]
[null,null,null,null,null,null,null,null,null,0]
[null,null,null,null,null,null,null,null,null,0]
[null,null,null,null,null,null,null,null,null,0]
[null,null,null,null,null,null,null,null,null,0]
[null,null,null,null,null,null,null,null,null,0]
[null,null,null,null,null,null,null,null,null,0]
[null,null,null,null,null,null,null,null,null,0]
[null,null,null,null,null,null,null,null,null,0]
[null,null,null,null,null,null,null,null,null,0]
[null,null,null,null,null,null,null,null,null,0]
[null,null,null,null,null,null,null,null,null,0]
[null,null,null,null,null,null,null,null,null,0]
[null,null,null,null,null,null,null,null,null,0]
[null,null,null,null,null,null,null,null,null,0]
[null,null,null,null,null,null,null,null,null,0]
[null,null,null,null,null,null,null,null,null,0]
[null,null,null,null,null,null,null,null,null,0]
[null,null,null,null,null,null,null,null,null,0]
[null,null,null,null,null,null,null,null,null,0]
[null,null,null,null,null,null,null,null,null,0]
[null,null,null,null,null,null,null,null,null,0]
[null,null,null,null,null,null,null,null,null,0]
[null,null,null,null,null,null,null,null,null,0]
[null,null,null,null,null,null,null,null,null,0]
[null,null,null,null,null,null,null,null,null,0]
[null,null,null,null,null,null,null,null,null,0]
[null,null,null,null,null,null,null,null,null,0]
[null,null,null,null,null,null,null,null,null,0]
[null,null,null,null,null,null,null,null,null,0]
[null,null,null,null,null,null,null,null,null,0]
[null,null,null,null,null,null,null,null,null,0]
[null,null,null,null,null,null,null,null,null,0]
[null,null,null,null,null,null,null,null,null,0]
[null,null,null,null,null,null,null,null,null,0]
[null,null,null,null,null,null,null,null,null,0]
[null,null,null,null,null,null,null,null,null,0]
[null,null,null,null,null,null,null,null,null,0]
[null,null,null,null,null,null,null,null,null,0]
[null,null,null,null,null,null,null,null,null,0]
[null,null,null,null,null,null,null,null,null,0]
[null,null,null,null,null,null,null,null,null,0]
[null,null,null,null,null,null,null,null,null,0]
[null,null,null,null,null,null,null,null,null,0]
[null,null,null,null,null,null,null,null,null,{"$f":"SUMIF($G$19:$G$1015,$G319672,$H$19:$H$1015)","v":0}]
[null,null,null,null,null,null,null,null,null,0]
[null,null,null,null,null,null,null,null,null,0]
[null,null,null,null,null,null,null,null,null,0]
[null,null,null,null,null,null,null,null,null,0]
[null,null,null,null,null,null,null,null,null,0]
[null,null,null,null,null,null,null,null,null,0]
[null,null,null,null,null,null,null,null,null,0]
[null,null,null,null,null,null,null,null,null,0]
[null,null,null,null,null,null,null,null,null,0]
[null,null,null,null,null,null,null,null,null,0]
[null,null,null,null,null,null,null,null,null,0]
[null,null,null,null,null,null,null,null,null,0]
[null,null,null,null,null,null,null,null,null,0]
[null,null,null,null,null,null,null,null,null,0]
[null,null,null,null,null,null,null,null,null,{"$f":"SUMIF($G$19:$G$1015,$G322552,$H$19:$H$1015)","v":0}]
[null,null,null,null,null,null,null,null,null,0]
[null,null,null,null,null,null,null,null,null,0]
[null,null,null,null,null,null,null,null,null,0]
[null,null,null,null,null,null,null,null,null,0]
[null,null,null,null,null,null,null,null,null,0]
[null,null,null,null,null,null,null,null,null,0]
[null,null,null,null,null,null,null,null,null,0]
[null,null,null,null,null,null,null,null,null,0]
[null,null,null,null,null,null,null,null,null,0]
[null,null,null,null,null,null,null,null,null,0]
[null,null,null,null,null,null,null,null,null,0]
[null,null,null,null,null,null,null,null,null,0]
[null,null,null,null,null,null,null,null,null,0]
[null,null,null,null,null,null,null,null,null,0]
[null,null,null,null,null,null,null,null,null,0]
[null,null,null,null,null,null,null,null,null,0]
[null,null,null,null,null,null,null,null,null,0]
[null,null,null,null,null,null,null,null,null,0]
[null,null,null,null,null,null,null,null,null,0]
[null,null,null,null,null,null,null,null,null,0]
[null,null,null,null,null,null,null,null,null,0]
[null,null,null,null,null,null,null,null,null,0]
[null,null,null,null,null,null,null,null,null,0]
[null,null,null,null,null,null,null,null,null,0]
[null,null,null,null,null,null,null,null,null,0]
[null,null,null,null,null,null,null,null,null,0]
[null,null,null,null,null,null,null,null,null,0]
[null,null,null,null,null,null,null,null,null,0]
[null,null,null,null,null,null,null,null,null,0]
[null,null,null,null,null,null,null,null,null,0]
[null,null,null,null,null,null,null,null,null,0]
[null,null,null,null,null,null,null,null,null,0]
[null,null,null,null,null,null,null,null,null,0]
[null,null,null,null,null,null,null,null,null,0]
[null,null,null,null,null,null,null,null,null,0]
[null,null,null,null,null,null,null,null,null,0]
[null,null,null,null,null,null,null,null,null,0]
[null,null,null,null,null,null,null,null,null,0]
[null,null,null,null,null,null,null,null,null,0]
[null,null,null,null,null,null,null,null,null,0]
[null,null,null,null,null,null,null,null,null,0]
[null,null,null,null,null,null,null,null,null,0]
[null,null,null,null,null,null,null,null,null,0]
[null,null,null,null,null,null,null,null,null,0]
[null,null,null,null,null,null,null,null,null,0]
[null,null,null,null,null,null,null,null,null,0]
[null,null,null,null,null,null,null,null,null,0]
[null,null,null,null,null,null,null,null,null,0]
[null,null,null,null,null,null,null,null,null,0]
[null,null,null,null,null,null,null,null,null,0]
[null,null,null,null,null,null,null,null,null,0]
[null,null,null,null,null,null,null,null,null,0]
[null,null,null,null,null,null,null,null,null,0]
[null,null,null,null,null,null,null,null,null,0]
[null,null,null,null,null,null,null,null,null,0]
[null,null,null,null,null,null,null,null,null,0]
[null,null,null,null,null,null,null,null,null,0]
[null,null,null,null,null,null,null,null,null,0]
[null,null,null,null,null,null,null,null,null,0]
[null,null,null,null,null,null,null,null,null,0]
[null,null,null,null,null,null,null,null,null,0]
[null,null,null,null,null,null,null,null,null,0]
[null,null,null,null,null,null,null,null,null,0]
[null,null,null,null,null,null,null,null,null,0]
[null,null,null,null,null,null,null,null,null,0]
[null,null,null,null,null,null,null,null,null,0]
[null,null,null,null,null,null,null,null,null,0]
[null,null,null,null,null,null,null,null,null,0]
[null,null,null,null,null,null,null,null,null,0]
[null,null,null,null,null,null,null,null,null,0]
[null,null,null,null,null,null,null,null,null,0]
[null,null,null,null,null,null,null,null,null,0]
[null,null,null,null,null,null,null,null,null,0]
[null,null,null,null,null,null,null,null,null,0]
[null,null,null,null,null,null,null,null,null,0]
[null,null,null,null,null,null,null,null,null,0]
[null,null,null,null,null,null,null,null,null,0]
[null,null,null,null,null,null,null,null,null,0]
[null,null,null,null,null,null,null,null,null,0]
[null,null,null,null,null,null,null,null,null,0]
[null,null,null,null,null,null,null,null,null,0]
[null,null,null,null,null,null,null,null,null,0]
[null,null,null,null,null,null,null,null,null,0]
[null,null,null,null,null,null,null,null,null,0]
[null,null,null,null,null,null,null,null,null,0]
[null,null,null,null,null,null,null,null,null,0]
[null,null,null,null,null,null,null,null,null,0]
[null,null,null,null,null,null,null,null,null,0]
[null,null,null,null,null,null,null,null,null,0]
[null,null,null,null,null,null,null,null,null,0]
[null,null,null,null,null,null,null,null,null,0]
[null,null,null,null,null,null,null,null,null,0]
[null,null,null,null,null,null,null,null,null,{"$f":"SUMIF($G$19:$G$1015,$G340472,$H$19:$H$1015)","v":0}]
[null,null,null,null,null,null,null,null,null,0]
[null,null,null,null,null,null,null,null,null,0]
[null,null,null,null,null,null,null,null,null,0]
[null,null,null,null,null,null,null,null,null,0]
[null,null,null,null,null,null,null,null,null,0]
[null,null,null,null,null,null,null,null,null,0]
[null,null,null,null,null,null,null,null,null,0]
[null,null,null,null,null,null,null,null,null,0]
[null,null,null,null,null,null,null,null,null,0]
[null,null,null,null,null,null,null,null,null,0]
[null,null,null,null,null,null,null,null,null,0]
[null,null,null,null,null,null,null,null,null,0]
[null,null,null,null,null,null,null,null,null,0]
[null,null,null,null,null,null,null,null,null,0]
[null,null,null,null,null,null,null,null,null,0]
[null,null,null,null,null,null,null,null,null,0]
[null,null,null,null,null,null,null,null,null,0]
[null,null,null,null,null,null,null,null,null,0]
[null,null,null,null,null,null,null,null,null,0]
[null,null,null,null,null,null,null,null,null,0]
[null,null,null,null,null,null,null,null,null,0]
[null,null,null,null,null,null,null,null,null,0]
[null,null,null,null,null,null,null,null,null,0]
[null,null,null,null,null,null,null,null,null,0]
[null,null,null,null,null,null,null,null,null,0]
[null,null,null,null,null,null,null,null,null,0]
[null,null,null,null,null,null,null,null,null,0]
[null,null,null,null,null,null,null,null,null,0]
[null,null,null,null,null,null,null,null,null,0]
[null,null,null,null,null,null,null,null,null,0]
[null,null,null,null,null,null,null,null,null,0]
[null,null,null,null,null,null,null,null,null,0]
[null,null,null,null,null,null,null,null,null,0]
[null,null,null,null,null,null,null,null,null,0]
[null,null,null,null,null,null,null,null,null,0]
[null,null,null,null,null,null,null,null,null,0]
[null,null,null,null,null,null,null,null,null,0]
[null,null,null,null,null,null,null,null,null,0]
[null,null,null,null,null,null,null,null,null,0]
[null,null,null,null,null,null,null,null,null,0]
[null,null,null,null,null,null,null,null,null,0]
[null,null,null,null,null,null,null,null,null,0]
[null,null,null,null,null,null,null,null,null,0]
[null,null,null,null,null,null,null,null,null,0]
[null,null,null,null,null,null,null,null,null,0]
[null,null,null,null,null,null,null,null,null,0]
[null,null,null,null,null,null,null,null,null,0]
[null,null,null,null,null,null,null,null,null,0]
[null,null,null,null,null,null,null,null,null,0]
[null,null,null,null,null,null,null,null,null,0]
[null,null,null,null,null,null,null,null,null,0]
[null,null,null,null,null,null,null,null,null,0]
[null,null,null,null,null,null,null,null,null,0]
[null,null,null,null,null,null,null,null,null,0]
[null,null,null,null,null,null,null,null,null,0]
[null,null,null,null,null,null,null,null,null,0]
[null,null,null,null,null,null,null,null,null,0]
[null,null,null,null,null,null,null,null,null,0]
[null,null,null,null,null,null,null,null,null,0]
[null,null,null,null,null,null,null,null,null,0]
[null,null,null,null,null,null,null,null,null,0]
[null,null,null,null,null,null,null,null,null,0]
[null,null,null,null,null,null,null,null,null,0]
[null,null,null,null,null,null,null,null,null,0]
[null,null,null,null,null,null,null,null,null,0]
[null,null,null,null,null,null,null,null,null,0]
[null,null,null,null,null,null,null,null,null,0]
[null,null,null,null,null,null,null,null,null,0]
[null,null,null,null,null,null,null,null,null,0]
[null,null,null,null,null,null,null,null,null,0]
[null,null,null,null,null,null,null,null,null,0]
[null,null,null,null,null,null,null,null,null,0]
[null,null,null,null,null,null,null,null,null,0]
[null,null,null,null,null,null,null,null,null,0]
[null,null,null,null,null,null,null,null,null,0]
[null,null,null,null,null,null,null,null,null,0]
[null,null,null,null,null,null,null,null,null,0]
[null,null,null,null,null,null,null,null,null,0]
[null,null,null,null,null,null,null,null,null,0]
[null,null,null,null,null,null,null,null,null,0]
[null,null,null,null,null,null,null,null,null,0]
[null,null,null,null,null,null,null,null,null,0]
[null,null,null,null,null,null,null,null,null,0]
[null,null,null,null,null,null,null,null,null,0]
[null,null,null,null,null,null,null,null,null,0]
[null,null,null,null,null,null,null,null,null,0]
[null,null,null,null,null,null,null,null,null,0]
[null,null,null,null,null,null,null,null,null,0]
[null,null,null,null,null,null,null,null,null,0]
[null,null,null,null,null,null,null,null,null,0]
[null,null,null,null,null,null,null,null,null,0]
[null,null,null,null,null,null,null,null,null,0]
[null,null,null,null,null,null,null,null,null,0]
[null,null,null,null,null,null,null,null,null,0]
[null,null,null,null,null,null,null,null,null,0]
[null,null,null,null,null,null,null,null,null,0]
[null,null,null,null,null,null,null,null,null,0]
[null,null,null,null,null,null,null,null,null,{"$f":"SUMIF($G$19:$G$1015,$G359416,$H$19:$H$1015)","v":0}]
[null,null,null,null,null,null,null,null,null,0]
[null,null,null,null,null,null,null,null,null,0]
[null,null,null,null,null,null,null,null,null,0]
[null,null,null,null,null,null,null,null,null,0]
[null,null,null,null,null,null,null,null,null,0]
[null,null,null,null,null,null,null,null,null,0]
[null,null,null,null,null,null,null,null,null,0]
[null,null,null,null,null,null,null,null,null,0]
[null,null,null,null,null,null,null,null,null,0]
[null,null,null,null,null,null,null,null,null,0]
[null,null,null,null,null,null,null,null,null,0]
[null,null,null,null,null,null,null,null,null,0]
[null,null,null,null,null,null,null,null,null,0]
[null,null,null,null,null,null,null,null,null,0]
[null,null,null,null,null,null,null,null,null,{"$f":"SUMIF($G$19:$G$1015,$G362296,$H$19:$H$1015)","v":0}]
[null,null,null,null,null,null,null,null,null,0]
[null,null,null,null,null,null,null,null,null,0]
[null,null,null,null,null,null,null,null,null,0]
[null,null,null,null,null,null,null,null,null,0]
[null,null,null,null,null,null,null,null,null,0]
[null,null,null,null,null,null,null,null,null,0]
[null,null,null,null,null,null,null,null,null,0]
[null,null,null,null,null,null,null,null,null,0]
[null,null,null,null,null,null,null,null,null,0]
[null,null,null,null,null,null,null,null,null,0]
[null,null,null,null,null,null,null,null,null,0]
[null,null,null,null,null,null,null,null,null,0]
[null,null,null,null,null,null,null,null,null,0]
[null,null,null,null,null,null,null,null,null,0]
[null,null,null,null,null,null,null,null,null,0]
[null,null,null,null,null,null,null,null,null,0]
[null,null,null,null,null,null,null,null,null,0]
[null,null,null,null,null,null,null,null,null,0]
[null,null,null,null,null,null,null,null,null,0]
[null,null,null,null,null,null,null,null,null,0]
[null,null,null,null,null,null,null,null,null,0]
[null,null,null,null,null,null,null,null,null,0]
[null,null,null,null,null,null,null,null,null,0]
[null,null,null,null,null,null,null,null,null,0]
[null,null,null,null,null,null,null,null,null,0]
[null,null,null,null,null,null,null,null,null,0]
[null,null,null,null,null,null,null,null,null,0]
[null,null,null,null,null,null,null,null,null,0]
[null,null,null,null,null,null,null,null,null,0]
[null,null,null,null,null,null,null,null,null,0]
[null,null,null,null,null,null,null,null,null,0]
[null,null,null,null,null,null,null,null,null,0]
[null,null,null,null,null,null,null,null,null,0]
[null,null,null,null,null,null,null,null,null,0]
[null,null,null,null,null,null,null,null,null,0]
[null,null,null,null,null,null,null,null,null,0]
[null,null,null,null,null,null,null,null,null,0]
[null,null,null,null,null,null,null,null,null,0]
[null,null,null,null,null,null,null,null,null,0]
[null,null,null,null,null,null,null,null,null,0]
[null,null,null,null,null,null,null,null,null,0]
[null,null,null,null,null,null,null,null,null,0]
[null,null,null,null,null,null,null,null,null,0]
[null,null,null,null,null,null,null,null,null,0]
[null,null,null,null,null,null,null,null,null,0]
[null,null,null,null,null,null,null,null,null,0]
[null,null,null,null,null,null,null,null,null,0]
[null,null,null,null,null,null,null,null,null,0]
[null,null,null,null,null,null,null,null,null,0]
[null,null,null,null,null,null,null,null,null,0]
[null,null,null,null,null,null,null,null,null,0]
[null,null,null,null,null,null,null,null,null,0]
[null,null,null,null,null,null,null,null,null,0]
[null,null,null,null,null,null,null,null,null,0]
[null,null,null,null,null,null,null,null,null,0]
[null,null,null,null,null,null,null,null,null,0]
[null,null,null,null,null,null,null,null,null,0]
[null,null,null,null,null,null,null,null,null,0]
[null,null,null,null,null,null,null,null,null,0]
[null,null,null,null,null,null,null,null,null,0]
[null,null,null,null,null,null,null,null,null,0]
[null,null,null,null,null,null,null,null,null,0]
[null,null,null,null,null,null,null,null,null,0]
[null,null,null,null,null,null,null,null,null,0]
[null,null,null,null,null,null,null,null,null,0]
[null,null,null,null,null,null,null,null,null,0]
[null,null,null,null,null,null,null,null,null,0]
[null,null,null,null,null,null,null,null,null,0]
[null,null,null,null,null,null,null,null,null,0]
[null,null,null,null,null,null,null,null,null,0]
[null,null,null,null,null,null,null,null,null,0]
[null,null,null,null,null,null,null,null,null,0]
[null,null,null,null,null,null,null,null,null,0]
[null,null,null,null,null,null,null,null,null,0]
[null,null,null,null,null,null,null,null,null,0]
[null,null,null,null,null,null,null,null,null,0]
[null,null,null,null,null,null,null,null,null,0]
[null,null,null,null,null,null,null,null,null,0]
[null,null,null,null,null,null,null,null,null,0]
[null,null,null,null,null,null,null,null,null,0]
[null,null,null,null,null,null,null,null,null,0]
[null,null,null,null,null,null,null,null,null,0]
[null,null,null,null,null,null,null,null,null,0]
[null,null,null,null,null,null,null,null,null,0]
[null,null,null,null,null,null,null,null,null,0]
[null,null,null,null,null,null,null,null,null,0]
[null,null,null,null,null,null,null,null,null,0]
[null,null,null,null,null,null,null,null,null,0]
[null,null,null,null,null,null,null,null,null,0]
[null,null,null,null,null,null,null,null,null,0]
[null,null,null,null,null,null,null,null,null,0]
[null,null,null,null,null,null,null,null,null,0]
[null,null,null,null,null,null,null,null,null,0]
[null,null,null,null,null,null,null,null,null,0]
[null,null,null,null,null,null,null,null,null,0]
[null,null,null,null,null,null,null,null,null,0]
[null,null,null,null,null,null,null,null,null,0]
[null,null,null,null,null,null,null,null,null,0]
[null,null,null,null,null,null,null,null,null,0]
[null,null,null,null,null,null,null,null,null,0]
[null,null,null,null,null,null,null,null,null,{"$f":"SUMIF($G$19:$G$1015,$G381944,$H$19:$H$1015)","v":0}]
[null,null,null,null,null,null,null,null,null,0]
[null,null,null,null,null,null,null,null,null,0]
[null,null,null,null,null,null,null,null,null,0]
[null,null,null,null,null,null,null,null,null,0]
[null,null,null,null,null,null,null,null,null,0]
[null,null,null,null,null,null,null,null,null,0]
[null,null,null,null,null,null,null,null,null,0]
[null,null,null,null,null,null,null,null,null,0]
[null,null,null,null,null,null,null,null,null,0]
[null,null,null,null,null,null,null,null,null,0]
[null,null,null,null,null,null,null,null,null,0]
[null,null,null,null,null,null,null,null,null,0]
[null,null,null,null,null,null,null,null,null,0]
[null,null,null,null,null,null,null,null,null,0]
[null,null,null,null,null,null,null,null,null,{"$f":"SUMIF($G$19:$G$1015,$G384824,$H$19:$H$1015)","v":0}]
[null,null,null,null,null,null,null,null,null,0]
[null,null,null,null,null,null,null,null,null,0]
[null,null,null,null,null,null,null,null,null,0]
[null,null,null,null,null,null,null,null,null,0]
[null,null,null,null,null,null,null,null,null,0]
[null,null,null,null,null,null,null,null,null,0]
[null,null,null,null,null,null,null,null,null,0]
[null,null,null,null,null,null,null,null,null,0]
[null,null,null,null,null,null,null,null,null,0]
[null,null,null,null,null,null,null,null,null,0]
[null,null,null,null,null,null,null,null,null,0]
[null,null,null,null,null,null,null,null,null,0]
[null,null,null,null,null,null,null,null,null,0]
[null,null,null,null,null,null,null,null,null,0]
[null,null,null,null,null,null,null,null,null,0]
[null,null,null,null,null,null,null,null,null,0]
[null,null,null,null,null,null,null,null,null,0]
[null,null,null,null,null,null,null,null,null,0]
[null,null,null,null,null,null,null,null,null,0]
[null,null,null,null,null,null,null,null,null,0]
[null,null,null,null,null,null,null,null,null,0]
[null,null,null,null,null,null,null,null,null,0]
[null,null,null,null,null,null,null,null,null,0]
[null,null,null,null,null,null,null,null,null,0]
[null,null,null,null,null,null,null,null,null,0]
[null,null,null,null,null,null,null,null,null,0]
[null,null,null,null,null,null,null,null,null,0]
[null,null,null,null,null,null,null,null,null,0]
[null,null,null,null,null,null,null,null,null,0]
[null,null,null,null,null,null,null,null,null,0]
[null,null,null,null,null,null,null,null,null,0]
[null,null,null,null,null,null,null,null,null,0]
[null,null,null,null,null,null,null,null,null,0]
[null,null,null,null,null,null,null,null,null,0]
[null,null,null,null,null,null,null,null,null,0]
[null,null,null,null,null,null,null,null,null,0]
[null,null,null,null,null,null,null,null,null,0]
[null,null,null,null,null,null,null,null,null,0]
[null,null,null,null,null,null,null,null,null,0]
[null,null,null,null,null,null,null,null,null,0]
[null,null,null,null,null,null,null,null,null,0]
[null,null,null,null,null,null,null,null,null,0]
[null,null,null,null,null,null,null,null,null,0]
[null,null,null,null,null,null,null,null,null,0]
[null,null,null,null,null,null,null,null,null,0]
[null,null,null,null,null,null,null,null,null,0]
[null,null,null,null,null,null,null,null,null,0]
[null,null,null,null,null,null,null,null,null,0]
[null,null,null,null,null,null,null,null,null,0]
[null,null,null,null,null,null,null,null,null,0]
[null,null,null,null,null,null,null,null,null,0]
[null,null,null,null,null,null,null,null,null,0]
[null,null,null,null,null,null,null,null,null,0]
[null,null,null,null,null,null,null,null,null,0]
[null,null,null,null,null,null,null,null,null,0]
[null,null,null,null,null,null,null,null,null,0]
[null,null,null,null,null,null,null,null,null,0]
[null,null,null,null,null,null,null,null,null,0]
[null,null,null,null,null,null,null,null,null,0]
[null,null,null,null,null,null,null,null,null,0]
[null,null,null,null,null,null,null,null,null,0]
[null,null,null,null,null,null,null,null,null,0]
[null,null,null,null,null,null,null,null,null,0]
[null,null,null,null,null,null,null,null,null,0]
[null,null,null,null,null,null,null,null,null,0]
[null,null,null,null,null,null,null,null,null,{"$f":"SUMIF($G$19:$G$1015,$G388792,$H$19:$H$1015)","v":0}]
[null,null,null,null,null,null,null,null,null,0]
[null,null,null,null,null,null,null,null,null,0]
[null,null,null,null,null,null,null,null,null,0]
[null,null,null,null,null,null,null,null,null,0]
[null,null,null,null,null,null,null,null,null,0]
[null,null,null,null,null,null,null,null,null,0]
[null,null,null,null,null,null,null,null,null,0]
[null,null,null,null,null,null,null,null,null,0]
[null,null,null,null,null,null,null,null,null,0]
[null,null,null,null,null,null,null,null,null,0]
[null,null,null,null,null,null,null,null,null,0]
[null,null,null,null,null,null,null,null,null,0]
[null,null,null,null,null,null,null,null,null,0]
[null,null,null,null,null,null,null,null,null,0]
[null,null,null,null,null,null,null,null,null,0]
[null,null,null,null,null,null,null,null,null,0]
[null,null,null,null,null,null,null,null,null,0]
[null,null,null,null,null,null,null,null,null,0]
[null,null,null,null,null,null,null,null,null,0]
[null,null,null,null,null,null,null,null,null,0]
[null,null,null,null,null,null,null,null,null,0]
[null,null,null,null,null,null,null,null,null,0]
[null,null,null,null,null,null,null,null,null,0]
[null,null,null,null,null,null,null,null,null,0]
[null,null,null,null,null,null,null,null,null,0]
[null,null,null,null,null,null,null,null,null,0]
[null,null,null,null,null,null,null,null,null,0]
[null,null,null,null,null,null,null,null,null,0]
[null,null,null,null,null,null,null,null,null,0]
[null,null,null,null,null,null,null,null,null,0]
[null,null,null,null,null,null,null,null,null,0]
[null,null,null,null,null,null,null,null,null,0]
[null,null,null,null,null,null,null,null,null,0]
[null,null,null,null,null,null,null,null,null,0]
[null,null,null,null,null,null,null,null,null,0]
[null,null,null,null,null,null,null,null,null,0]
[null,null,null,null,null,null,null,null,null,0]
[null,null,null,null,null,null,null,null,null,0]
[null,null,null,null,null,null,null,null,null,0]
[null,null,null,null,null,null,null,null,null,0]
[null,null,null,null,null,null,null,null,null,0]
[null,null,null,null,null,null,null,null,null,0]
[null,null,null,null,null,null,null,null,null,0]
[null,null,null,null,null,null,null,null,null,0]
[null,null,null,null,null,null,null,null,null,0]
[null,null,null,null,null,null,null,null,null,0]
[null,null,null,null,null,null,null,null,null,0]
[null,null,null,null,null,null,null,null,null,0]
[null,null,null,null,null,null,null,null,null,0]
[null,null,null,null,null,null,null,null,null,0]
[null,null,null,null,null,null,null,null,null,0]
[null,null,null,null,null,null,null,null,null,0]
[null,null,null,null,null,null,null,null,null,0]
[null,null,null,null,null,null,null,null,null,0]
[null,null,null,null,null,null,null,null,null,0]
[null,null,null,null,null,null,null,null,null,0]
[null,null,null,null,null,null,null,null,null,0]
[null,null,null,null,null,null,null,null,null,0]
[null,null,null,null,null,null,null,null,null,0]
[null,null,null,null,null,null,null,null,null,0]
[null,null,null,null,null,null,null,null,null,0]
[null,null,null,null,null,null,null,null,null,0]
[null,null,null,null,null,null,null,null,null,0]
[null,null,null,null,null,null,null,null,null,{"$f":"SUMIF($G$19:$G$1015,$G388856,$H$19:$H$1015)","v":0}]
[null,null,null,null,null,null,null,null,null,0]
[null,null,null,null,null,null,null,null,null,0]
[null,null,null,null,null,null,null,null,null,0]
[null,null,null,null,null,null,null,null,null,0]
[null,null,null,null,null,null,null,null,null,0]
[null,null,null,null,null,null,null,null,null,0]
[null,null,null,null,null,null,null,null,null,0]
[null,null,null,null,null,null,null,null,null,0]
[null,null,null,null,null,null,null,null,null,0]
[null,null,null,null,null,null,null,null,null,0]
[null,null,null,null,null,null,null,null,null,0]
[null,null,null,null,null,null,null,null,null,0]
[null,null,null,null,null,null,null,null,null,0]
[null,null,null,null,null,null,null,null,null,0]
[null,null,null,null,null,null,null,null,null,0]
[null,null,null,null,null,null,null,null,null,0]
[null,null,null,null,null,null,null,null,null,0]
[null,null,null,null,null,null,null,null,null,0]
[null,null,null,null,null,null,null,null,null,0]
[null,null,null,null,null,null,null,null,null,0]
[null,null,null,null,null,null,null,null,null,0]
[null,null,null,null,null,null,null,null,null,0]
[null,null,null,null,null,null,null,null,null,0]
[null,null,null,null,null,null,null,null,null,0]
[null,null,null,null,null,null,null,null,null,0]
[null,null,null,null,null,null,null,null,null,0]
[null,null,null,null,null,null,null,null,null,0]
[null,null,null,null,null,null,null,null,null,0]
[null,null,null,null,null,null,null,null,null,0]
[null,null,null,null,null,null,null,null,null,0]
[null,null,null,null,null,null,null,null,null,0]
[null,null,null,null,null,null,null,null,null,0]
[null,null,null,null,null,null,null,null,null,0]
[null,null,null,null,null,null,null,null,null,0]
[null,null,null,null,null,null,null,null,null,0]
[null,null,null,null,null,null,null,null,null,0]
[null,null,null,null,null,null,null,null,null,0]
[null,null,null,null,null,null,null,null,null,0]
[null,null,null,null,null,null,null,null,null,0]
[null,null,null,null,null,null,null,null,null,0]
[null,null,null,null,null,null,null,null,null,0]
[null,null,null,null,null,null,null,null,null,0]
[null,null,null,null,null,null,null,null,null,0]
[null,null,null,null,null,null,null,null,null,0]
[null,null,null,null,null,null,null,null,null,0]
[null,null,null,null,null,null,null,null,null,0]
[null,null,null,null,null,null,null,null,null,0]
[null,null,null,null,null,null,null,null,null,0]
[null,null,null,null,null,null,null,null,null,0]
[null,null,null,null,null,null,null,null,null,0]
[null,null,null,null,null,null,null,null,null,0]
[null,null,null,null,null,null,null,null,null,0]
[null,null,null,null,null,null,null,null,null,0]
[null,null,null,null,null,null,null,null,null,0]
[null,null,null,null,null,null,null,null,null,0]
[null,null,null,null,null,null,null,null,null,0]
[null,null,null,null,null,null,null,null,null,0]
[null,null,null,null,null,null,null,null,null,0]
[null,null,null,null,null,null,null,null,null,0]
[null,null,null,null,null,null,null,null,null,0]
[null,null,null,null,null,null,null,null,null,0]
[null,null,null,null,null,null,null,null,null,0]
[null,null,null,null,null,null,null,null,null,0]
[null,null,null,null,null,null,null,null,null,{"$f":"SUMIF($G$19:$G$1015,$G388920,$H$19:$H$1015)","v":0}]
[null,null,null,null,null,null,null,null,null,0]
[null,null,null,null,null,null,null,null,null,0]
[null,null,null,null,null,null,null,null,null,0]
[null,null,null,null,null,null,null,null,null,0]
[null,null,null,null,null,null,null,null,null,0]
[null,null,null,null,null,null,null,null,null,0]
[null,null,null,null,null,null,null,null,null,0]
[null,null,null,null,null,null,null,null,null,0]
[null,null,null,null,null,null,null,null,null,0]
[null,null,null,null,null,null,null,null,null,0]
[null,null,null,null,null,null,null,null,null,0]
[null,null,null,null,null,null,null,null,null,0]
[null,null,null,null,null,null,null,null,null,0]
[null,null,null,null,null,null,null,null,null,0]
[null,null,null,null,null,null,null,null,null,0]
[null,null,null,null,null,null,null,null,null,0]
[null,null,null,null,null,null,null,null,null,0]
[null,null,null,null,null,null,null,null,null,0]
[null,null,null,null,null,null,null,null,null,0]
[null,null,null,null,null,null,null,null,null,0]
[null,null,null,null,null,null,null,null,null,0]
[null,null,null,null,null,null,null,null,null,0]
[null,null,null,null,null,null,null,null,null,0]
[null,null,null,null,null,null,null,null,null,0]
[null,null,null,null,null,null,null,null,null,0]
[null,null,null,null,null,null,null,null,null,0]
[null,null,null,null,null,null,null,null,null,0]
[null,null,null,null,null,null,null,null,null,0]
[null,null,null,null,null,null,null,null,null,0]
[null,null,null,null,null,null,null,null,null,0]
[null,null,null,null,null,null,null,null,null,0]
[null,null,null,null,null,null,null,null,null,0]
[null,null,null,null,null,null,null,null,null,0]
[null,null,null,null,null,null,null,null,null,0]
[null,null,null,null,null,null,null,null,null,0]
[null,null,null,null,null,null,null,null,null,0]
[null,null,null,null,null,null,null,null,null,0]
[null,null,null,null,null,null,null,null,null,0]
[null,null,null,null,null,null,null,null,null,0]
[null,null,null,null,null,null,null,null,null,0]
[null,null,null,null,null,null,null,null,null,0]
[null,null,null,null,null,null,null,null,null,0]
[null,null,null,null,null,null,null,null,null,0]
[null,null,null,null,null,null,null,null,null,0]
[null,null,null,null,null,null,null,null,null,0]
[null,null,null,null,null,null,null,null,null,0]
[null,null,null,null,null,null,null,null,null,0]
[null,null,null,null,null,null,null,null,null,0]
[null,null,null,null,null,null,null,null,null,0]
[null,null,null,null,null,null,null,null,null,0]
[null,null,null,null,null,null,null,null,null,0]
[null,null,null,null,null,null,null,null,null,0]
[null,null,null,null,null,null,null,null,null,0]
[null,null,null,null,null,null,null,null,null,0]
[null,null,null,null,null,null,null,null,null,0]
[null,null,null,null,null,null,null,null,null,0]
[null,null,null,null,null,null,null,null,null,0]
[null,null,null,null,null,null,null,null,null,0]
[null,null,null,null,null,null,null,null,null,0]
[null,null,null,null,null,null,null,null,null,0]
[null,null,null,null,null,null,null,null,null,0]
[null,null,null,null,null,null,null,null,null,0]
[null,null,null,null,null,null,null,null,null,0]
[null,null,null,null,null,null,null,null,null,{"$f":"SUMIF($G$19:$G$1015,$G388984,$H$19:$H$1015)","v":0}]
[null,null,null,null,null,null,null,null,null,0]
[null,null,null,null,null,null,null,null,null,0]
[null,null,null,null,null,null,null,null,null,0]
[null,null,null,null,null,null,null,null,null,0]
[null,null,null,null,null,null,null,null,null,0]
[null,null,null,null,null,null,null,null,null,0]
[null,null,null,null,null,null,null,null,null,0]
[null,null,null,null,null,null,null,null,null,0]
[null,null,null,null,null,null,null,null,null,0]
[null,null,null,null,null,null,null,null,null,0]
[null,null,null,null,null,null,null,null,null,0]
[null,null,null,null,null,null,null,null,null,0]
[null,null,null,null,null,null,null,null,null,0]
[null,null,null,null,null,null,null,null,null,0]
[null,null,null,null,null,null,null,null,null,0]
[null,null,null,null,null,null,null,null,null,0]
[null,null,null,null,null,null,null,null,null,0]
[null,null,null,null,null,null,null,null,null,0]
[null,null,null,null,null,null,null,null,null,0]
[null,null,null,null,null,null,null,null,null,0]
[null,null,null,null,null,null,null,null,null,0]
[null,null,null,null,null,null,null,null,null,0]
[null,null,null,null,null,null,null,null,null,0]
[null,null,null,null,null,null,null,null,null,0]
[null,null,null,null,null,null,null,null,null,0]
[null,null,null,null,null,null,null,null,null,0]
[null,null,null,null,null,null,null,null,null,0]
[null,null,null,null,null,null,null,null,null,0]
[null,null,null,null,null,null,null,null,null,0]
[null,null,null,null,null,null,null,null,null,0]
[null,null,null,null,null,null,null,null,null,0]
[null,null,null,null,null,null,null,null,null,0]
[null,null,null,null,null,null,null,null,null,0]
[null,null,null,null,null,null,null,null,null,0]
[null,null,null,null,null,null,null,null,null,0]
[null,null,null,null,null,null,null,null,null,0]
[null,null,null,null,null,null,null,null,null,0]
[null,null,null,null,null,null,null,null,null,0]
[null,null,null,null,null,null,null,null,null,0]
[null,null,null,null,null,null,null,null,null,0]
[null,null,null,null,null,null,null,null,null,0]
[null,null,null,null,null,null,null,null,null,0]
[null,null,null,null,null,null,null,null,null,0]
[null,null,null,null,null,null,null,null,null,0]
[null,null,null,null,null,null,null,null,null,0]
[null,null,null,null,null,null,null,null,null,0]
[null,null,null,null,null,null,null,null,null,0]
[null,null,null,null,null,null,null,null,null,0]
[null,null,null,null,null,null,null,null,null,0]
[null,null,null,null,null,null,null,null,null,0]
[null,null,null,null,null,null,null,null,null,0]
[null,null,null,null,null,null,null,null,null,0]
[null,null,null,null,null,null,null,null,null,0]
[null,null,null,null,null,null,null,null,null,0]
[null,null,null,null,null,null,null,null,null,0]
[null,null,null,null,null,null,null,null,null,0]
[null,null,null,null,null,null,null,null,null,0]
[null,null,null,null,null,null,null,null,null,0]
[null,null,null,null,null,null,null,null,null,0]
[null,null,null,null,null,null,null,null,null,0]
[null,null,null,null,null,null,null,null,null,0]
[null,null,null,null,null,null,null,null,null,0]
[null,null,null,null,null,null,null,null,null,0]
[null,null,null,null,null,null,null,null,null,{"$f":"SUMIF($G$19:$G$1015,$G389048,$H$19:$H$1015)","v":0}]
[null,null,null,null,null,null,null,null,null,0]
[null,null,null,null,null,null,null,null,null,0]
[null,null,null,null,null,null,null,null,null,0]
[null,null,null,null,null,null,null,null,null,0]
[null,null,null,null,null,null,null,null,null,0]
[null,null,null,null,null,null,null,null,null,0]
[null,null,null,null,null,null,null,null,null,0]
[null,null,null,null,null,null,null,null,null,0]
[null,null,null,null,null,null,null,null,null,0]
[null,null,null,null,null,null,null,null,null,0]
[null,null,null,null,null,null,null,null,null,0]
[null,null,null,null,null,null,null,null,null,0]
[null,null,null,null,null,null,null,null,null,0]
[null,null,null,null,null,null,null,null,null,0]
[null,null,null,null,null,null,null,null,null,0]
[null,null,null,null,null,null,null,null,null,0]
[null,null,null,null,null,null,null,null,null,0]
[null,null,null,null,null,null,null,null,null,0]
[null,null,null,null,null,null,null,null,null,0]
[null,null,null,null,null,null,null,null,null,0]
[null,null,null,null,null,null,null,null,null,0]
[null,null,null,null,null,null,null,null,null,0]
[null,null,null,null,null,null,null,null,null,0]
[null,null,null,null,null,null,null,null,null,0]
[null,null,null,null,null,null,null,null,null,0]
[null,null,null,null,null,null,null,null,null,0]
[null,null,null,null,null,null,null,null,null,0]
[null,null,null,null,null,null,null,null,null,0]
[null,null,null,null,null,null,null,null,null,0]
[null,null,null,null,null,null,null,null,null,0]
[null,null,null,null,null,null,null,null,null,0]
[null,null,null,null,null,null,null,null,null,0]
[null,null,null,null,null,null,null,null,null,0]
[null,null,null,null,null,null,null,null,null,0]
[null,null,null,null,null,null,null,null,null,0]
[null,null,null,null,null,null,null,null,null,0]
[null,null,null,null,null,null,null,null,null,0]
[null,null,null,null,null,null,null,null,null,0]
[null,null,null,null,null,null,null,null,null,0]
[null,null,null,null,null,null,null,null,null,0]
[null,null,null,null,null,null,null,null,null,0]
[null,null,null,null,null,null,null,null,null,0]
[null,null,null,null,null,null,null,null,null,0]
[null,null,null,null,null,null,null,null,null,0]
[null,null,null,null,null,null,null,null,null,0]
[null,null,null,null,null,null,null,null,null,0]
[null,null,null,null,null,null,null,null,null,0]
[null,null,null,null,null,null,null,null,null,0]
[null,null,null,null,null,null,null,null,null,0]
[null,null,null,null,null,null,null,null,null,0]
[null,null,null,null,null,null,null,null,null,0]
[null,null,null,null,null,null,null,null,null,0]
[null,null,null,null,null,null,null,null,null,0]
[null,null,null,null,null,null,null,null,null,0]
[null,null,null,null,null,null,null,null,null,0]
[null,null,null,null,null,null,null,null,null,0]
[null,null,null,null,null,null,null,null,null,0]
[null,null,null,null,null,null,null,null,null,0]
[null,null,null,null,null,null,null,null,null,0]
[null,null,null,null,null,null,null,null,null,0]
[null,null,null,null,null,null,null,null,null,0]
[null,null,null,null,null,null,null,null,null,0]
[null,null,null,null,null,null,null,null,null,0]
[null,null,null,null,null,null,null,null,null,{"$f":"SUMIF($G$19:$G$1015,$G389112,$H$19:$H$1015)","v":0}]
[null,null,null,null,null,null,null,null,null,0]
[null,null,null,null,null,null,null,null,null,0]
[null,null,null,null,null,null,null,null,null,0]
[null,null,null,null,null,null,null,null,null,0]
[null,null,null,null,null,null,null,null,null,0]
[null,null,null,null,null,null,null,null,null,0]
[null,null,null,null,null,null,null,null,null,0]
[null,null,null,null,null,null,null,null,null,0]
[null,null,null,null,null,null,null,null,null,0]
[null,null,null,null,null,null,null,null,null,0]
[null,null,null,null,null,null,null,null,null,0]
[null,null,null,null,null,null,null,null,null,0]
[null,null,null,null,null,null,null,null,null,0]
[null,null,null,null,null,null,null,null,null,0]
[null,null,null,null,null,null,null,null,null,0]
[null,null,null,null,null,null,null,null,null,0]
[null,null,null,null,null,null,null,null,null,0]
[null,null,null,null,null,null,null,null,null,0]
[null,null,null,null,null,null,null,null,null,0]
[null,null,null,null,null,null,null,null,null,0]
[null,null,null,null,null,null,null,null,null,0]
[null,null,null,null,null,null,null,null,null,0]
[null,null,null,null,null,null,null,null,null,0]
[null,null,null,null,null,null,null,null,null,0]
[null,null,null,null,null,null,null,null,null,0]
[null,null,null,null,null,null,null,null,null,0]
[null,null,null,null,null,null,null,null,null,0]
[null,null,null,null,null,null,null,null,null,0]
[null,null,null,null,null,null,null,null,null,0]
[null,null,null,null,null,null,null,null,null,0]
[null,null,null,null,null,null,null,null,null,0]
[null,null,null,null,null,null,null,null,null,0]
[null,null,null,null,null,null,null,null,null,0]
[null,null,null,null,null,null,null,null,null,0]
[null,null,null,null,null,null,null,null,null,0]
[null,null,null,null,null,null,null,null,null,0]
[null,null,null,null,null,null,null,null,null,0]
[null,null,null,null,null,null,null,null,null,0]
[null,null,null,null,null,null,null,null,null,0]
[null,null,null,null,null,null,null,null,null,0]
[null,null,null,null,null,null,null,null,null,0]
[null,null,null,null,null,null,null,null,null,0]
[null,null,null,null,null,null,null,null,null,0]
[null,null,null,null,null,null,null,null,null,0]
[null,null,null,null,null,null,null,null,null,0]
[null,null,null,null,null,null,null,null,null,0]
[null,null,null,null,null,null,null,null,null,0]
[null,null,null,null,null,null,null,null,null,0]
[null,null,null,null,null,null,null,null,null,0]
[null,null,null,null,null,null,null,null,null,0]
[null,null,null,null,null,null,null,null,null,0]
[null,null,null,null,null,null,null,null,null,0]
[null,null,null,null,null,null,null,null,null,0]
[null,null,null,null,null,null,null,null,null,0]
[null,null,null,null,null,null,null,null,null,0]
[null,null,null,null,null,null,null,null,null,0]
[null,null,null,null,null,null,null,null,null,0]
[null,null,null,null,null,null,null,null,null,0]
[null,null,null,null,null,null,null,null,null,0]
[null,null,null,null,null,null,null,null,null,0]
[null,null,null,null,null,null,null,null,null,0]
[null,null,null,null,null,null,null,null,null,0]
[null,null,null,null,null,null,null,null,null,0]
[null,null,null,null,null,null,null,null,null,{"$f":"SUMIF($G$19:$G$1015,$G389176,$H$19:$H$1015)","v":0}]
[null,null,null,null,null,null,null,null,null,0]
[null,null,null,null,null,null,null,null,null,0]
[null,null,null,null,null,null,null,null,null,0]
[null,null,null,null,null,null,null,null,null,0]
[null,null,null,null,null,null,null,null,null,0]
[null,null,null,null,null,null,null,null,null,0]
[null,null,null,null,null,null,null,null,null,0]
[null,null,null,null,null,null,null,null,null,0]
[null,null,null,null,null,null,null,null,null,0]
[null,null,null,null,null,null,null,null,null,0]
[null,null,null,null,null,null,null,null,null,0]
[null,null,null,null,null,null,null,null,null,0]
[null,null,null,null,null,null,null,null,null,0]
[null,null,null,null,null,null,null,null,null,0]
[null,null,null,null,null,null,null,null,null,0]
[null,null,null,null,null,null,null,null,null,0]
[null,null,null,null,null,null,null,null,null,0]
[null,null,null,null,null,null,null,null,null,0]
[null,null,null,null,null,null,null,null,null,0]
[null,null,null,null,null,null,null,null,null,0]
[null,null,null,null,null,null,null,null,null,0]
[null,null,null,null,null,null,null,null,null,0]
[null,null,null,null,null,null,null,null,null,0]
[null,null,null,null,null,null,null,null,null,0]
[null,null,null,null,null,null,null,null,null,0]
[null,null,null,null,null,null,null,null,null,0]
[null,null,null,null,null,null,null,null,null,0]
[null,null,null,null,null,null,null,null,null,0]
[null,null,null,null,null,null,null,null,null,0]
[null,null,null,null,null,null,null,null,null,0]
[null,null,null,null,null,null,null,null,null,0]
[null,null,null,null,null,null,null,null,null,0]
[null,null,null,null,null,null,null,null,null,0]
[null,null,null,null,null,null,null,null,null,0]
[null,null,null,null,null,null,null,null,null,0]
[null,null,null,null,null,null,null,null,null,0]
[null,null,null,null,null,null,null,null,null,0]
[null,null,null,null,null,null,null,null,null,0]
[null,null,null,null,null,null,null,null,null,0]
[null,null,null,null,null,null,null,null,null,0]
[null,null,null,null,null,null,null,null,null,0]
[null,null,null,null,null,null,null,null,null,0]
[null,null,null,null,null,null,null,null,null,0]
[null,null,null,null,null,null,null,null,null,0]
[null,null,null,null,null,null,null,null,null,0]
[null,null,null,null,null,null,null,null,null,0]
[null,null,null,null,null,null,null,null,null,0]
[null,null,null,null,null,null,null,null,null,0]
[null,null,null,null,null,null,null,null,null,0]
[null,null,null,null,null,null,null,null,null,0]
[null,null,null,null,null,null,null,null,null,0]
[null,null,null,null,null,null,null,null,null,0]
[null,null,null,null,null,null,null,null,null,0]
[null,null,null,null,null,null,null,null,null,0]
[null,null,null,null,null,null,null,null,null,0]
[null,null,null,null,null,null,null,null,null,0]
[null,null,null,null,null,null,null,null,null,0]
[null,null,null,null,null,null,null,null,null,0]
[null,null,null,null,null,null,null,null,null,0]
[null,null,null,null,null,null,null,null,null,0]
[null,null,null,null,null,null,null,null,null,0]
[null,null,null,null,null,null,null,null,null,0]
[null,null,null,null,null,null,null,null,null,0]
[null,null,null,null,null,null,null,null,null,{"$f":"SUMIF($G$19:$G$1015,$G389240,$H$19:$H$1015)","v":0}]
[null,null,null,null,null,null,null,null,null,0]
[null,null,null,null,null,null,null,null,null,0]
[null,null,null,null,null,null,null,null,null,0]
[null,null,null,null,null,null,null,null,null,0]
[null,null,null,null,null,null,null,null,null,0]
[null,null,null,null,null,null,null,null,null,0]

{"sheet":"2.cTë ardhura-jopublik-nënatyrë","index":4,"n_rows":1015,"n_cols":11,"rows_kept":1015,"cut":false,"hidden":false,"merged":[[15,7,15,8],[14,7,14,8],[13,0,13,2],[13,3,13,4],[12,7,12,8],[13,7,13,8]]}
[]
[]
[]
[]
[]
[]
[]
[null,null,null,null,"REPUBLIKA E SHQIPËRISË\n"]
[null,null,null,null,"KOMISIONI QENDROR I ZGJEDHJEVE"]
[]
[null,"Emri I Kandidatit",null,null,null,"Bashkia"]
[null,{"$f":"Kreu!E12","v":0},null,null,null,{"$f":"Kreu!E13","v":0}]
["2.c Të ardhura, dhurime në natyrë - Financime jopublike",null,null,null,null,null,"Firma e personit përgjegjës/ përgatitur nga: (nëse ka)"]
[{"$f":"\"Ju lutemi konfirmoni nëse nuk keni gjë për të raportuar\"&A13","v":"Ju lutemi konfirmoni nëse nuk keni gjë për të raportuar2.c Të ardhura, dhurime në natyrë - Financime jopublike"},null,null,null,null,null,"Data e firmosjes:"]
[null,null,null,null,null,null,"Aprovuar/Miratuar nga:"]
[null,null,null,null,null,null,"Data e firmosjes:"]
[]
["A. Statusi i dhuruesit","B. Emri i dhuruesit","C. Mbiemri i dhuruesit","D. Adresa  (rreshti 1)","E. Adresa (rreshti 2)","F. Kodi postar i adreses","G. Numri i identifikimit","H. Vlera e dhurimit","I. Data e dhurimit","J. Totali i agreguar i dhurimeve nga dhuruesi për zgjedhjet ","K. Përshkrimi i dhurimit në natyrë"]
[null,null,null,null,null,null,null,null,null,{"$f":"SUMIF($G$19:$G$5015,$G19,$H$19:$H$5015)+SUMIF('2.bTë ardhura-jopublik-monetare'!$G$19:$G$1015,'2.cTë ardhura-jopublik-nënatyrë'!$G19,'2.bTë ardhura-jopublik-monetare'!$H$19:$H$1015)","v":0}]
[null,null,null,null,null,null,null,null,null,{"$f":"SUMIF($G$19:$G$5015,$G20,$H$19:$H$5015)+SUMIF('2.bTë ardhura-jopublik-monetare'!$G$19:$G$1015,'2.cTë ardhura-jopublik-nënatyrë'!$G20,'2.bTë ardhura-jopublik-monetare'!$H$19:$H$1015)","v":0}]
[null,null,null,null,null,null,null,null,null,{"$f":"SUMIF($G$19:$G$5015,$G21,$H$19:$H$5015)+SUMIF('2.bTë ardhura-jopublik-monetare'!$G$19:$G$1015,'2.cTë ardhura-jopublik-nënatyrë'!$G21,'2.bTë ardhura-jopublik-monetare'!$H$19:$H$1015)","v":0}]
[null,null,null,null,null,null,null,null,null,{"$f":"SUMIF($G$19:$G$5015,$G22,$H$19:$H$5015)+SUMIF('2.bTë ardhura-jopublik-monetare'!$G$19:$G$1015,'2.cTë ardhura-jopublik-nënatyrë'!$G22,'2.bTë ardhura-jopublik-monetare'!$H$19:$H$1015)","v":0}]
[null,null,null,null,null,null,null,null,null,{"$f":"SUMIF($G$19:$G$5015,$G23,$H$19:$H$5015)+SUMIF('2.bTë ardhura-jopublik-monetare'!$G$19:$G$1015,'2.cTë ardhura-jopublik-nënatyrë'!$G23,'2.bTë ardhura-jopublik-monetare'!$H$19:$H$1015)","v":0}]
[null,null,null,null,null,null,null,null,null,{"$f":"SUMIF($G$19:$G$5015,$G24,$H$19:$H$5015)+SUMIF('2.bTë ardhura-jopublik-monetare'!$G$19:$G$1015,'2.cTë ardhura-jopublik-nënatyrë'!$G24,'2.bTë ardhura-jopublik-monetare'!$H$19:$H$1015)","v":0}]
[null,null,null,null,null,null,null,null,null,{"$f":"SUMIF($G$19:$G$5015,$G25,$H$19:$H$5015)+SUMIF('2.bTë ardhura-jopublik-monetare'!$G$19:$G$1015,'2.cTë ardhura-jopublik-nënatyrë'!$G25,'2.bTë ardhura-jopublik-monetare'!$H$19:$H$1015)","v":0}]
[null,null,null,null,null,null,null,null,null,{"$f":"SUMIF($G$19:$G$5015,$G26,$H$19:$H$5015)+SUMIF('2.bTë ardhura-jopublik-monetare'!$G$19:$G$1015,'2.cTë ardhura-jopublik-nënatyrë'!$G26,'2.bTë ardhura-jopublik-monetare'!$H$19:$H$1015)","v":0}]
[null,null,null,null,null,null,null,null,null,{"$f":"SUMIF($G$19:$G$5015,$G27,$H$19:$H$5015)+SUMIF('2.bTë ardhura-jopublik-monetare'!$G$19:$G$1015,'2.cTë ardhura-jopublik-nënatyrë'!$G27,'2.bTë ardhura-jopublik-monetare'!$H$19:$H$1015)","v":0}]
[null,null,null,null,null,null,null,null,null,{"$f":"SUMIF($G$19:$G$5015,$G28,$H$19:$H$5015)+SUMIF('2.bTë ardhura-jopublik-monetare'!$G$19:$G$1015,'2.cTë ardhura-jopublik-nënatyrë'!$G28,'2.bTë ardhura-jopublik-monetare'!$H$19:$H$1015)","v":0}]
[null,null,null,null,null,null,null,null,null,{"$f":"SUMIF($G$19:$G$5015,$G29,$H$19:$H$5015)+SUMIF('2.bTë ardhura-jopublik-monetare'!$G$19:$G$1015,'2.cTë ardhura-jopublik-nënatyrë'!$G29,'2.bTë ardhura-jopublik-monetare'!$H$19:$H$1015)","v":0}]
[null,null,null,null,null,null,null,null,null,{"$f":"SUMIF($G$19:$G$5015,$G30,$H$19:$H$5015)+SUMIF('2.bTë ardhura-jopublik-monetare'!$G$19:$G$1015,'2.cTë ardhura-jopublik-nënatyrë'!$G30,'2.bTë ardhura-jopublik-monetare'!$H$19:$H$1015)","v":0}]
[null,null,null,null,null,null,null,null,null,{"$f":"SUMIF($G$19:$G$5015,$G31,$H$19:$H$5015)+SUMIF('2.bTë ardhura-jopublik-monetare'!$G$19:$G$1015,'2.cTë ardhura-jopublik-nënatyrë'!$G31,'2.bTë ardhura-jopublik-monetare'!$H$19:$H$1015)","v":0}]
[null,null,null,null,null,null,null,null,null,{"$f":"SUMIF($G$19:$G$5015,$G32,$H$19:$H$5015)+SUMIF('2.bTë ardhura-jopublik-monetare'!$G$19:$G$1015,'2.cTë ardhura-jopublik-nënatyrë'!$G32,'2.bTë ardhura-jopublik-monetare'!$H$19:$H$1015)","v":0}]
[null,null,null,null,null,null,null,null,null,{"$f":"SUMIF($G$19:$G$5015,$G33,$H$19:$H$5015)+SUMIF('2.bTë ardhura-jopublik-monetare'!$G$19:$G$1015,'2.cTë ardhura-jopublik-nënatyrë'!$G33,'2.bTë ardhura-jopublik-monetare'!$H$19:$H$1015)","v":0}]
[null,null,null,null,null,null,null,null,null,{"$f":"SUMIF($G$19:$G$5015,$G34,$H$19:$H$5015)+SUMIF('2.bTë ardhura-jopublik-monetare'!$G$19:$G$1015,'2.cTë ardhura-jopublik-nënatyrë'!$G34,'2.bTë ardhura-jopublik-monetare'!$H$19:$H$1015)","v":0}]
[null,null,null,null,null,null,null,null,null,{"$f":"SUMIF($G$19:$G$5015,$G35,$H$19:$H$5015)+SUMIF('2.bTë ardhura-jopublik-monetare'!$G$19:$G$1015,'2.cTë ardhura-jopublik-nënatyrë'!$G35,'2.bTë ardhura-jopublik-monetare'!$H$19:$H$1015)","v":0}]
[null,null,"FINANCIERI",null,null,null,"APROVUESI",null,null,{"$f":"SUMIF($G$19:$G$5015,$G36,$H$19:$H$5015)+SUMIF('2.bTë ardhura-jopublik-monetare'!$G$19:$G$1015,'2.cTë ardhura-jopublik-nënatyrë'!$G36,'2.bTë ardhura-jopublik-monetare'!$H$19:$H$1015)","v":0}]
[null,null,null,null,null,null,null,null,null,{"$f":"SUMIF($G$19:$G$5015,$G37,$H$19:$H$5015)+SUMIF('2.bTë ardhura-jopublik-monetare'!$G$19:$G$1015,'2.cTë ardhura-jopublik-nënatyrë'!$G37,'2.bTë ardhura-jopublik-monetare'!$H$19:$H$1015)","v":0}]
[null,null,null,null,null,null,null,null,null,{"$f":"SUMIF($G$19:$G$5015,$G38,$H$19:$H$5015)+SUMIF('2.bTë ardhura-jopublik-monetare'!$G$19:$G$1015,'2.cTë ardhura-jopublik-nënatyrë'!$G38,'2.bTë ardhura-jopublik-monetare'!$H$19:$H$1015)","v":0}]
[null,null,"Emër Mbiemër Firmë",null,null,null,"Emër Mbiemër Firmë",null,null,{"$f":"SUMIF($G$19:$G$5015,$G39,$H$19:$H$5015)+SUMIF('2.bTë ardhura-jopublik-monetare'!$G$19:$G$1015,'2.cTë ardhura-jopublik-nënatyrë'!$G39,'2.bTë ardhura-jopublik-monetare'!$H$19:$H$1015)","v":0}]
[null,null,null,null,null,null,null,null,null,{"$f":"SUMIF($G$19:$G$5015,$G40,$H$19:$H$5015)+SUMIF('2.bTë ardhura-jopublik-monetare'!$G$19:$G$1015,'2.cTë ardhura-jopublik-nënatyrë'!$G40,'2.bTë ardhura-jopublik-monetare'!$H$19:$H$1015)","v":0}]
[null,null,null,null,null,null,null,null,null,{"$f":"SUMIF($G$19:$G$5015,$G41,$H$19:$H$5015)+SUMIF('2.bTë ardhura-jopublik-monetare'!$G$19:$G$1015,'2.cTë ardhura-jopublik-nënatyrë'!$G41,'2.bTë ardhura-jopublik-monetare'!$H$19:$H$1015)","v":0}]
[null,null,null,null,null,null,null,null,null,{"$f":"SUMIF($G$19:$G$5015,$G42,$H$19:$H$5015)+SUMIF('2.bTë ardhura-jopublik-monetare'!$G$19:$G$1015,'2.cTë ardhura-jopublik-nënatyrë'!$G42,'2.bTë ardhura-jopublik-monetare'!$H$19:$H$1015)","v":0}]
[null,null,null,null,null,null,null,null,null,{"$f":"SUMIF($G$19:$G$5015,$G43,$H$19:$H$5015)+SUMIF('2.bTë ardhura-jopublik-monetare'!$G$19:$G$1015,'2.cTë ardhura-jopublik-nënatyrë'!$G43,'2.bTë ardhura-jopublik-monetare'!$H$19:$H$1015)","v":0}]
[null,null,null,null,null,null,null,null,null,{"$f":"SUMIF($G$19:$G$5015,$G44,$H$19:$H$5015)+SUMIF('2.bTë ardhura-jopublik-monetare'!$G$19:$G$1015,'2.cTë ardhura-jopublik-nënatyrë'!$G44,'2.bTë ardhura-jopublik-monetare'!$H$19:$H$1015)","v":0}]
[null,null,null,null,null,null,null,null,null,{"$f":"SUMIF($G$19:$G$5015,$G45,$H$19:$H$5015)+SUMIF('2.bTë ardhura-jopublik-monetare'!$G$19:$G$1015,'2.cTë ardhura-jopublik-nënatyrë'!$G45,'2.bTë ardhura-jopublik-monetare'!$H$19:$H$1015)","v":0}]
[null,null,null,null,null,null,null,null,null,{"$f":"SUMIF($G$19:$G$5015,$G46,$H$19:$H$5015)+SUMIF('2.bTë ardhura-jopublik-monetare'!$G$19:$G$1015,'2.cTë ardhura-jopublik-nënatyrë'!$G46,'2.bTë ardhura-jopublik-monetare'!$H$19:$H$1015)","v":0}]
[null,null,null,null,null,null,null,null,null,{"$f":"SUMIF($G$19:$G$5015,$G47,$H$19:$H$5015)+SUMIF('2.bTë ardhura-jopublik-monetare'!$G$19:$G$1015,'2.cTë ardhura-jopublik-nënatyrë'!$G47,'2.bTë ardhura-jopublik-monetare'!$H$19:$H$1015)","v":0}]
[null,null,null,null,null,null,null,null,null,{"$f":"SUMIF($G$19:$G$5015,$G48,$H$19:$H$5015)+SUMIF('2.bTë ardhura-jopublik-monetare'!$G$19:$G$1015,'2.cTë ardhura-jopublik-nënatyrë'!$G48,'2.bTë ardhura-jopublik-monetare'!$H$19:$H$1015)","v":0}]
[null,null,null,null,null,null,null,null,null,{"$f":"SUMIF($G$19:$G$5015,$G49,$H$19:$H$5015)+SUMIF('2.bTë ardhura-jopublik-monetare'!$G$19:$G$1015,'2.cTë ardhura-jopublik-nënatyrë'!$G49,'2.bTë ardhura-jopublik-monetare'!$H$19:$H$1015)","v":0}]
[null,null,null,null,null,null,null,null,null,{"$f":"SUMIF($G$19:$G$5015,$G50,$H$19:$H$5015)+SUMIF('2.bTë ardhura-jopublik-monetare'!$G$19:$G$1015,'2.cTë ardhura-jopublik-nënatyrë'!$G50,'2.bTë ardhura-jopublik-monetare'!$H$19:$H$1015)","v":0}]
[null,null,null,null,null,null,null,null,null,{"$f":"SUMIF($G$19:$G$5015,$G51,$H$19:$H$5015)+SUMIF('2.bTë ardhura-jopublik-monetare'!$G$19:$G$1015,'2.cTë ardhura-jopublik-nënatyrë'!$G51,'2.bTë ardhura-jopublik-monetare'!$H$19:$H$1015)","v":0}]
[null,null,null,null,null,null,null,null,null,{"$f":"SUMIF($G$19:$G$5015,$G52,$H$19:$H$5015)+SUMIF('2.bTë ardhura-jopublik-monetare'!$G$19:$G$1015,'2.cTë ardhura-jopublik-nënatyrë'!$G52,'2.bTë ardhura-jopublik-monetare'!$H$19:$H$1015)","v":0}]
[null,null,null,null,null,null,null,null,null,{"$f":"SUMIF($G$19:$G$5015,$G53,$H$19:$H$5015)+SUMIF('2.bTë ardhura-jopublik-monetare'!$G$19:$G$1015,'2.cTë ardhura-jopublik-nënatyrë'!$G53,'2.bTë ardhura-jopublik-monetare'!$H$19:$H$1015)","v":0}]
[null,null,null,null,null,null,null,null,null,{"$f":"SUMIF($G$19:$G$5015,$G54,$H$19:$H$5015)+SUMIF('2.bTë ardhura-jopublik-monetare'!$G$19:$G$1015,'2.cTë ardhura-jopublik-nënatyrë'!$G54,'2.bTë ardhura-jopublik-monetare'!$H$19:$H$1015)","v":0}]
[null,null,null,null,null,null,null,null,null,{"$f":"SUMIF($G$19:$G$5015,$G55,$H$19:$H$5015)+SUMIF('2.bTë ardhura-jopublik-monetare'!$G$19:$G$1015,'2.cTë ardhura-jopublik-nënatyrë'!$G55,'2.bTë ardhura-jopublik-monetare'!$H$19:$H$1015)","v":0}]
[null,null,null,null,null,null,null,null,null,{"$f":"SUMIF($G$19:$G$5015,$G56,$H$19:$H$5015)+SUMIF('2.bTë ardhura-jopublik-monetare'!$G$19:$G$1015,'2.cTë ardhura-jopublik-nënatyrë'!$G56,'2.bTë ardhura-jopublik-monetare'!$H$19:$H$1015)","v":0}]
[null,null,null,null,null,null,null,null,null,{"$f":"SUMIF($G$19:$G$5015,$G57,$H$19:$H$5015)+SUMIF('2.bTë ardhura-jopublik-monetare'!$G$19:$G$1015,'2.cTë ardhura-jopublik-nënatyrë'!$G57,'2.bTë ardhura-jopublik-monetare'!$H$19:$H$1015)","v":0}]
[null,null,null,null,null,null,null,null,null,{"$f":"SUMIF($G$19:$G$5015,$G58,$H$19:$H$5015)+SUMIF('2.bTë ardhura-jopublik-monetare'!$G$19:$G$1015,'2.cTë ardhura-jopublik-nënatyrë'!$G58,'2.bTë ardhura-jopublik-monetare'!$H$19:$H$1015)","v":0}]
[null,null,null,null,null,null,null,null,null,{"$f":"SUMIF($G$19:$G$5015,$G59,$H$19:$H$5015)+SUMIF('2.bTë ardhura-jopublik-monetare'!$G$19:$G$1015,'2.cTë ardhura-jopublik-nënatyrë'!$G59,'2.bTë ardhura-jopublik-monetare'!$H$19:$H$1015)","v":0}]
[null,null,null,null,null,null,null,null,null,{"$f":"SUMIF($G$19:$G$5015,$G60,$H$19:$H$5015)+SUMIF('2.bTë ardhura-jopublik-monetare'!$G$19:$G$1015,'2.cTë ardhura-jopublik-nënatyrë'!$G60,'2.bTë ardhura-jopublik-monetare'!$H$19:$H$1015)","v":0}]
[null,null,null,null,null,null,null,null,null,{"$f":"SUMIF($G$19:$G$5015,$G61,$H$19:$H$5015)+SUMIF('2.bTë ardhura-jopublik-monetare'!$G$19:$G$1015,'2.cTë ardhura-jopublik-nënatyrë'!$G61,'2.bTë ardhura-jopublik-monetare'!$H$19:$H$1015)","v":0}]
[null,null,null,null,null,null,null,null,null,{"$f":"SUMIF($G$19:$G$5015,$G62,$H$19:$H$5015)+SUMIF('2.bTë ardhura-jopublik-monetare'!$G$19:$G$1015,'2.cTë ardhura-jopublik-nënatyrë'!$G62,'2.bTë ardhura-jopublik-monetare'!$H$19:$H$1015)","v":0}]
[null,null,null,null,null,null,null,null,null,{"$f":"SUMIF($G$19:$G$5015,$G63,$H$19:$H$5015)+SUMIF('2.bTë ardhura-jopublik-monetare'!$G$19:$G$1015,'2.cTë ardhura-jopublik-nënatyrë'!$G63,'2.bTë ardhura-jopublik-monetare'!$H$19:$H$1015)","v":0}]
[null,null,null,null,null,null,null,null,null,{"$f":"SUMIF($G$19:$G$5015,$G64,$H$19:$H$5015)+SUMIF('2.bTë ardhura-jopublik-monetare'!$G$19:$G$1015,'2.cTë ardhura-jopublik-nënatyrë'!$G64,'2.bTë ardhura-jopublik-monetare'!$H$19:$H$1015)","v":0}]
[null,null,null,null,null,null,null,null,null,{"$f":"SUMIF($G$19:$G$5015,$G65,$H$19:$H$5015)+SUMIF('2.bTë ardhura-jopublik-monetare'!$G$19:$G$1015,'2.cTë ardhura-jopublik-nënatyrë'!$G65,'2.bTë ardhura-jopublik-monetare'!$H$19:$H$1015)","v":0}]
[null,null,null,null,null,null,null,null,null,{"$f":"SUMIF($G$19:$G$5015,$G66,$H$19:$H$5015)+SUMIF('2.bTë ardhura-jopublik-monetare'!$G$19:$G$1015,'2.cTë ardhura-jopublik-nënatyrë'!$G66,'2.bTë ardhura-jopublik-monetare'!$H$19:$H$1015)","v":0}]
[null,null,null,null,null,null,null,null,null,{"$f":"SUMIF($G$19:$G$5015,$G67,$H$19:$H$5015)+SUMIF('2.bTë ardhura-jopublik-monetare'!$G$19:$G$1015,'2.cTë ardhura-jopublik-nënatyrë'!$G67,'2.bTë ardhura-jopublik-monetare'!$H$19:$H$1015)","v":0}]
[null,null,null,null,null,null,null,null,null,{"$f":"SUMIF($G$19:$G$5015,$G68,$H$19:$H$5015)+SUMIF('2.bTë ardhura-jopublik-monetare'!$G$19:$G$1015,'2.cTë ardhura-jopublik-nënatyrë'!$G68,'2.bTë ardhura-jopublik-monetare'!$H$19:$H$1015)","v":0}]
[null,null,null,null,null,null,null,null,null,{"$f":"SUMIF($G$19:$G$5015,$G69,$H$19:$H$5015)+SUMIF('2.bTë ardhura-jopublik-monetare'!$G$19:$G$1015,'2.cTë ardhura-jopublik-nënatyrë'!$G69,'2.bTë ardhura-jopublik-monetare'!$H$19:$H$1015)","v":0}]
[null,null,null,null,null,null,null,null,null,{"$f":"SUMIF($G$19:$G$5015,$G70,$H$19:$H$5015)+SUMIF('2.bTë ardhura-jopublik-monetare'!$G$19:$G$1015,'2.cTë ardhura-jopublik-nënatyrë'!$G70,'2.bTë ardhura-jopublik-monetare'!$H$19:$H$1015)","v":0}]
[null,null,null,null,null,null,null,null,null,{"$f":"SUMIF($G$19:$G$5015,$G71,$H$19:$H$5015)+SUMIF('2.bTë ardhura-jopublik-monetare'!$G$19:$G$1015,'2.cTë ardhura-jopublik-nënatyrë'!$G71,'2.bTë ardhura-jopublik-monetare'!$H$19:$H$1015)","v":0}]
[null,null,null,null,null,null,null,null,null,{"$f":"SUMIF($G$19:$G$5015,$G72,$H$19:$H$5015)+SUMIF('2.bTë ardhura-jopublik-monetare'!$G$19:$G$1015,'2.cTë ardhura-jopublik-nënatyrë'!$G72,'2.bTë ardhura-jopublik-monetare'!$H$19:$H$1015)","v":0}]
[null,null,null,null,null,null,null,null,null,{"$f":"SUMIF($G$19:$G$5015,$G73,$H$19:$H$5015)+SUMIF('2.bTë ardhura-jopublik-monetare'!$G$19:$G$1015,'2.cTë ardhura-jopublik-nënatyrë'!$G73,'2.bTë ardhura-jopublik-monetare'!$H$19:$H$1015)","v":0}]
[null,null,null,null,null,null,null,null,null,{"$f":"SUMIF($G$19:$G$5015,$G74,$H$19:$H$5015)+SUMIF('2.bTë ardhura-jopublik-monetare'!$G$19:$G$1015,'2.cTë ardhura-jopublik-nënatyrë'!$G74,'2.bTë ardhura-jopublik-monetare'!$H$19:$H$1015)","v":0}]
[null,null,null,null,null,null,null,null,null,{"$f":"SUMIF($G$19:$G$5015,$G75,$H$19:$H$5015)+SUMIF('2.bTë ardhura-jopublik-monetare'!$G$19:$G$1015,'2.cTë ardhura-jopublik-nënatyrë'!$G75,'2.bTë ardhura-jopublik-monetare'!$H$19:$H$1015)","v":0}]
[null,null,null,null,null,null,null,null,null,{"$f":"SUMIF($G$19:$G$5015,$G76,$H$19:$H$5015)+SUMIF('2.bTë ardhura-jopublik-monetare'!$G$19:$G$1015,'2.cTë ardhura-jopublik-nënatyrë'!$G76,'2.bTë ardhura-jopublik-monetare'!$H$19:$H$1015)","v":0}]
[null,null,null,null,null,null,null,null,null,{"$f":"SUMIF($G$19:$G$5015,$G77,$H$19:$H$5015)+SUMIF('2.bTë ardhura-jopublik-monetare'!$G$19:$G$1015,'2.cTë ardhura-jopublik-nënatyrë'!$G77,'2.bTë ardhura-jopublik-monetare'!$H$19:$H$1015)","v":0}]
[null,null,null,null,null,null,null,null,null,{"$f":"SUMIF($G$19:$G$5015,$G78,$H$19:$H$5015)+SUMIF('2.bTë ardhura-jopublik-monetare'!$G$19:$G$1015,'2.cTë ardhura-jopublik-nënatyrë'!$G78,'2.bTë ardhura-jopublik-monetare'!$H$19:$H$1015)","v":0}]
[null,null,null,null,null,null,null,null,null,{"$f":"SUMIF($G$19:$G$5015,$G79,$H$19:$H$5015)+SUMIF('2.bTë ardhura-jopublik-monetare'!$G$19:$G$1015,'2.cTë ardhura-jopublik-nënatyrë'!$G79,'2.bTë ardhura-jopublik-monetare'!$H$19:$H$1015)","v":0}]
[null,null,null,null,null,null,null,null,null,{"$f":"SUMIF($G$19:$G$5015,$G80,$H$19:$H$5015)+SUMIF('2.bTë ardhura-jopublik-monetare'!$G$19:$G$1015,'2.cTë ardhura-jopublik-nënatyrë'!$G80,'2.bTë ardhura-jopublik-monetare'!$H$19:$H$1015)","v":0}]
[null,null,null,null,null,null,null,null,null,{"$f":"SUMIF($G$19:$G$5015,$G81,$H$19:$H$5015)+SUMIF('2.bTë ardhura-jopublik-monetare'!$G$19:$G$1015,'2.cTë ardhura-jopublik-nënatyrë'!$G81,'2.bTë ardhura-jopublik-monetare'!$H$19:$H$1015)","v":0}]
[null,null,null,null,null,null,null,null,null,{"$f":"SUMIF($G$19:$G$5015,$G82,$H$19:$H$5015)+SUMIF('2.bTë ardhura-jopublik-monetare'!$G$19:$G$1015,'2.cTë ardhura-jopublik-nënatyrë'!$G82,'2.bTë ardhura-jopublik-monetare'!$H$19:$H$1015)","v":0}]
[null,null,null,null,null,null,null,null,null,{"$f":"SUMIF($G$19:$G$5015,$G83,$H$19:$H$5015)+SUMIF('2.bTë ardhura-jopublik-monetare'!$G$19:$G$1015,'2.cTë ardhura-jopublik-nënatyrë'!$G83,'2.bTë ardhura-jopublik-monetare'!$H$19:$H$1015)","v":0}]
[null,null,null,null,null,null,null,null,null,{"$f":"SUMIF($G$19:$G$5015,$G84,$H$19:$H$5015)+SUMIF('2.bTë ardhura-jopublik-monetare'!$G$19:$G$1015,'2.cTë ardhura-jopublik-nënatyrë'!$G84,'2.bTë ardhura-jopublik-monetare'!$H$19:$H$1015)","v":0}]
[null,null,null,null,null,null,null,null,null,{"$f":"SUMIF($G$19:$G$5015,$G85,$H$19:$H$5015)+SUMIF('2.bTë ardhura-jopublik-monetare'!$G$19:$G$1015,'2.cTë ardhura-jopublik-nënatyrë'!$G85,'2.bTë ardhura-jopublik-monetare'!$H$19:$H$1015)","v":0}]
[null,null,null,null,null,null,null,null,null,{"$f":"SUMIF($G$19:$G$5015,$G86,$H$19:$H$5015)+SUMIF('2.bTë ardhura-jopublik-monetare'!$G$19:$G$1015,'2.cTë ardhura-jopublik-nënatyrë'!$G86,'2.bTë ardhura-jopublik-monetare'!$H$19:$H$1015)","v":0}]
[null,null,null,null,null,null,null,null,null,{"$f":"SUMIF($G$19:$G$5015,$G87,$H$19:$H$5015)+SUMIF('2.bTë ardhura-jopublik-monetare'!$G$19:$G$1015,'2.cTë ardhura-jopublik-nënatyrë'!$G87,'2.bTë ardhura-jopublik-monetare'!$H$19:$H$1015)","v":0}]
[null,null,null,null,null,null,null,null,null,{"$f":"SUMIF($G$19:$G$5015,$G88,$H$19:$H$5015)+SUMIF('2.bTë ardhura-jopublik-monetare'!$G$19:$G$1015,'2.cTë ardhura-jopublik-nënatyrë'!$G88,'2.bTë ardhura-jopublik-monetare'!$H$19:$H$1015)","v":0}]
[null,null,null,null,null,null,null,null,null,{"$f":"SUMIF($G$19:$G$5015,$G89,$H$19:$H$5015)+SUMIF('2.bTë ardhura-jopublik-monetare'!$G$19:$G$1015,'2.cTë ardhura-jopublik-nënatyrë'!$G89,'2.bTë ardhura-jopublik-monetare'!$H$19:$H$1015)","v":0}]
[null,null,null,null,null,null,null,null,null,{"$f":"SUMIF($G$19:$G$5015,$G90,$H$19:$H$5015)+SUMIF('2.bTë ardhura-jopublik-monetare'!$G$19:$G$1015,'2.cTë ardhura-jopublik-nënatyrë'!$G90,'2.bTë ardhura-jopublik-monetare'!$H$19:$H$1015)","v":0}]
[null,null,null,null,null,null,null,null,null,{"$f":"SUMIF($G$19:$G$5015,$G91,$H$19:$H$5015)+SUMIF('2.bTë ardhura-jopublik-monetare'!$G$19:$G$1015,'2.cTë ardhura-jopublik-nënatyrë'!$G91,'2.bTë ardhura-jopublik-monetare'!$H$19:$H$1015)","v":0}]
[null,null,null,null,null,null,null,null,null,{"$f":"SUMIF($G$19:$G$5015,$G92,$H$19:$H$5015)+SUMIF('2.bTë ardhura-jopublik-monetare'!$G$19:$G$1015,'2.cTë ardhura-jopublik-nënatyrë'!$G92,'2.bTë ardhura-jopublik-monetare'!$H$19:$H$1015)","v":0}]
[null,null,null,null,null,null,null,null,null,{"$f":"SUMIF($G$19:$G$5015,$G93,$H$19:$H$5015)+SUMIF('2.bTë ardhura-jopublik-monetare'!$G$19:$G$1015,'2.cTë ardhura-jopublik-nënatyrë'!$G93,'2.bTë ardhura-jopublik-monetare'!$H$19:$H$1015)","v":0}]
[null,null,null,null,null,null,null,null,null,{"$f":"SUMIF($G$19:$G$5015,$G94,$H$19:$H$5015)+SUMIF('2.bTë ardhura-jopublik-monetare'!$G$19:$G$1015,'2.cTë ardhura-jopublik-nënatyrë'!$G94,'2.bTë ardhura-jopublik-monetare'!$H$19:$H$1015)","v":0}]
[null,null,null,null,null,null,null,null,null,{"$f":"SUMIF($G$19:$G$5015,$G95,$H$19:$H$5015)+SUMIF('2.bTë ardhura-jopublik-monetare'!$G$19:$G$1015,'2.cTë ardhura-jopublik-nënatyrë'!$G95,'2.bTë ardhura-jopublik-monetare'!$H$19:$H$1015)","v":0}]
[null,null,null,null,null,null,null,null,null,{"$f":"SUMIF($G$19:$G$5015,$G96,$H$19:$H$5015)+SUMIF('2.bTë ardhura-jopublik-monetare'!$G$19:$G$1015,'2.cTë ardhura-jopublik-nënatyrë'!$G96,'2.bTë ardhura-jopublik-monetare'!$H$19:$H$1015)","v":0}]
[null,null,null,null,null,null,null,null,null,{"$f":"SUMIF($G$19:$G$5015,$G97,$H$19:$H$5015)+SUMIF('2.bTë ardhura-jopublik-monetare'!$G$19:$G$1015,'2.cTë ardhura-jopublik-nënatyrë'!$G97,'2.bTë ardhura-jopublik-monetare'!$H$19:$H$1015)","v":0}]
[null,null,null,null,null,null,null,null,null,{"$f":"SUMIF($G$19:$G$5015,$G98,$H$19:$H$5015)+SUMIF('2.bTë ardhura-jopublik-monetare'!$G$19:$G$1015,'2.cTë ardhura-jopublik-nënatyrë'!$G98,'2.bTë ardhura-jopublik-monetare'!$H$19:$H$1015)","v":0}]
[null,null,null,null,null,null,null,null,null,{"$f":"SUMIF($G$19:$G$5015,$G99,$H$19:$H$5015)+SUMIF('2.bTë ardhura-jopublik-monetare'!$G$19:$G$1015,'2.cTë ardhura-jopublik-nënatyrë'!$G99,'2.bTë ardhura-jopublik-monetare'!$H$19:$H$1015)","v":0}]
[null,null,null,null,null,null,null,null,null,{"$f":"SUMIF($G$19:$G$5015,$G100,$H$19:$H$5015)+SUMIF('2.bTë ardhura-jopublik-monetare'!$G$19:$G$1015,'2.cTë ardhura-jopublik-nënatyrë'!$G100,'2.bTë ardhura-jopublik-monetare'!$H$19:$H$1015)","v":0}]
[null,null,null,null,null,null,null,null,null,{"$f":"SUMIF($G$19:$G$5015,$G101,$H$19:$H$5015)+SUMIF('2.bTë ardhura-jopublik-monetare'!$G$19:$G$1015,'2.cTë ardhura-jopublik-nënatyrë'!$G101,'2.bTë ardhura-jopublik-monetare'!$H$19:$H$1015)","v":0}]
[null,null,null,null,null,null,null,null,null,{"$f":"SUMIF($G$19:$G$5015,$G102,$H$19:$H$5015)+SUMIF('2.bTë ardhura-jopublik-monetare'!$G$19:$G$1015,'2.cTë ardhura-jopublik-nënatyrë'!$G102,'2.bTë ardhura-jopublik-monetare'!$H$19:$H$1015)","v":0}]
[null,null,null,null,null,null,null,null,null,{"$f":"SUMIF($G$19:$G$5015,$G103,$H$19:$H$5015)+SUMIF('2.bTë ardhura-jopublik-monetare'!$G$19:$G$1015,'2.cTë ardhura-jopublik-nënatyrë'!$G103,'2.bTë ardhura-jopublik-monetare'!$H$19:$H$1015)","v":0}]
[null,null,null,null,null,null,null,null,null,{"$f":"SUMIF($G$19:$G$5015,$G104,$H$19:$H$5015)+SUMIF('2.bTë ardhura-jopublik-monetare'!$G$19:$G$1015,'2.cTë ardhura-jopublik-nënatyrë'!$G104,'2.bTë ardhura-jopublik-monetare'!$H$19:$H$1015)","v":0}]
[null,null,null,null,null,null,null,null,null,{"$f":"SUMIF($G$19:$G$5015,$G105,$H$19:$H$5015)+SUMIF('2.bTë ardhura-jopublik-monetare'!$G$19:$G$1015,'2.cTë ardhura-jopublik-nënatyrë'!$G105,'2.bTë ardhura-jopublik-monetare'!$H$19:$H$1015)","v":0}]
[null,null,null,null,null,null,null,null,null,{"$f":"SUMIF($G$19:$G$5015,$G106,$H$19:$H$5015)+SUMIF('2.bTë ardhura-jopublik-monetare'!$G$19:$G$1015,'2.cTë ardhura-jopublik-nënatyrë'!$G106,'2.bTë ardhura-jopublik-monetare'!$H$19:$H$1015)","v":0}]
[null,null,null,null,null,null,null,null,null,{"$f":"SUMIF($G$19:$G$5015,$G107,$H$19:$H$5015)+SUMIF('2.bTë ardhura-jopublik-monetare'!$G$19:$G$1015,'2.cTë ardhura-jopublik-nënatyrë'!$G107,'2.bTë ardhura-jopublik-monetare'!$H$19:$H$1015)","v":0}]
[null,null,null,null,null,null,null,null,null,{"$f":"SUMIF($G$19:$G$5015,$G108,$H$19:$H$5015)+SUMIF('2.bTë ardhura-jopublik-monetare'!$G$19:$G$1015,'2.cTë ardhura-jopublik-nënatyrë'!$G108,'2.bTë ardhura-jopublik-monetare'!$H$19:$H$1015)","v":0}]
[null,null,null,null,null,null,null,null,null,{"$f":"SUMIF($G$19:$G$5015,$G109,$H$19:$H$5015)+SUMIF('2.bTë ardhura-jopublik-monetare'!$G$19:$G$1015,'2.cTë ardhura-jopublik-nënatyrë'!$G109,'2.bTë ardhura-jopublik-monetare'!$H$19:$H$1015)","v":0}]
[null,null,null,null,null,null,null,null,null,{"$f":"SUMIF($G$19:$G$5015,$G110,$H$19:$H$5015)+SUMIF('2.bTë ardhura-jopublik-monetare'!$G$19:$G$1015,'2.cTë ardhura-jopublik-nënatyrë'!$G110,'2.bTë ardhura-jopublik-monetare'!$H$19:$H$1015)","v":0}]
[null,null,null,null,null,null,null,null,null,{"$f":"SUMIF($G$19:$G$5015,$G111,$H$19:$H$5015)+SUMIF('2.bTë ardhura-jopublik-monetare'!$G$19:$G$1015,'2.cTë ardhura-jopublik-nënatyrë'!$G111,'2.bTë ardhura-jopublik-monetare'!$H$19:$H$1015)","v":0}]
[null,null,null,null,null,null,null,null,null,{"$f":"SUMIF($G$19:$G$5015,$G112,$H$19:$H$5015)+SUMIF('2.bTë ardhura-jopublik-monetare'!$G$19:$G$1015,'2.cTë ardhura-jopublik-nënatyrë'!$G112,'2.bTë ardhura-jopublik-monetare'!$H$19:$H$1015)","v":0}]
[null,null,null,null,null,null,null,null,null,{"$f":"SUMIF($G$19:$G$5015,$G113,$H$19:$H$5015)+SUMIF('2.bTë ardhura-jopublik-monetare'!$G$19:$G$1015,'2.cTë ardhura-jopublik-nënatyrë'!$G113,'2.bTë ardhura-jopublik-monetare'!$H$19:$H$1015)","v":0}]
[null,null,null,null,null,null,null,null,null,{"$f":"SUMIF($G$19:$G$5015,$G114,$H$19:$H$5015)+SUMIF('2.bTë ardhura-jopublik-monetare'!$G$19:$G$1015,'2.cTë ardhura-jopublik-nënatyrë'!$G114,'2.bTë ardhura-jopublik-monetare'!$H$19:$H$1015)","v":0}]
[null,null,null,null,null,null,null,null,null,{"$f":"SUMIF($G$19:$G$5015,$G115,$H$19:$H$5015)+SUMIF('2.bTë ardhura-jopublik-monetare'!$G$19:$G$1015,'2.cTë ardhura-jopublik-nënatyrë'!$G115,'2.bTë ardhura-jopublik-monetare'!$H$19:$H$1015)","v":0}]
[null,null,null,null,null,null,null,null,null,{"$f":"SUMIF($G$19:$G$5015,$G116,$H$19:$H$5015)+SUMIF('2.bTë ardhura-jopublik-monetare'!$G$19:$G$1015,'2.cTë ardhura-jopublik-nënatyrë'!$G116,'2.bTë ardhura-jopublik-monetare'!$H$19:$H$1015)","v":0}]
[null,null,null,null,null,null,null,null,null,{"$f":"SUMIF($G$19:$G$5015,$G117,$H$19:$H$5015)+SUMIF('2.bTë ardhura-jopublik-monetare'!$G$19:$G$1015,'2.cTë ardhura-jopublik-nënatyrë'!$G117,'2.bTë ardhura-jopublik-monetare'!$H$19:$H$1015)","v":0}]
[null,null,null,null,null,null,null,null,null,{"$f":"SUMIF($G$19:$G$5015,$G118,$H$19:$H$5015)+SUMIF('2.bTë ardhura-jopublik-monetare'!$G$19:$G$1015,'2.cTë ardhura-jopublik-nënatyrë'!$G118,'2.bTë ardhura-jopublik-monetare'!$H$19:$H$1015)","v":0}]
[null,null,null,null,null,null,null,null,null,{"$f":"SUMIF($G$19:$G$5015,$G119,$H$19:$H$5015)+SUMIF('2.bTë ardhura-jopublik-monetare'!$G$19:$G$1015,'2.cTë ardhura-jopublik-nënatyrë'!$G119,'2.bTë ardhura-jopublik-monetare'!$H$19:$H$1015)","v":0}]
[null,null,null,null,null,null,null,null,null,{"$f":"SUMIF($G$19:$G$5015,$G120,$H$19:$H$5015)+SUMIF('2.bTë ardhura-jopublik-monetare'!$G$19:$G$1015,'2.cTë ardhura-jopublik-nënatyrë'!$G120,'2.bTë ardhura-jopublik-monetare'!$H$19:$H$1015)","v":0}]
[null,null,null,null,null,null,null,null,null,{"$f":"SUMIF($G$19:$G$5015,$G121,$H$19:$H$5015)+SUMIF('2.bTë ardhura-jopublik-monetare'!$G$19:$G$1015,'2.cTë ardhura-jopublik-nënatyrë'!$G121,'2.bTë ardhura-jopublik-monetare'!$H$19:$H$1015)","v":0}]
[null,null,null,null,null,null,null,null,null,{"$f":"SUMIF($G$19:$G$5015,$G122,$H$19:$H$5015)+SUMIF('2.bTë ardhura-jopublik-monetare'!$G$19:$G$1015,'2.cTë ardhura-jopublik-nënatyrë'!$G122,'2.bTë ardhura-jopublik-monetare'!$H$19:$H$1015)","v":0}]
[null,null,null,null,null,null,null,null,null,{"$f":"SUMIF($G$19:$G$5015,$G123,$H$19:$H$5015)+SUMIF('2.bTë ardhura-jopublik-monetare'!$G$19:$G$1015,'2.cTë ardhura-jopublik-nënatyrë'!$G123,'2.bTë ardhura-jopublik-monetare'!$H$19:$H$1015)","v":0}]
[null,null,null,null,null,null,null,null,null,{"$f":"SUMIF($G$19:$G$5015,$G124,$H$19:$H$5015)+SUMIF('2.bTë ardhura-jopublik-monetare'!$G$19:$G$1015,'2.cTë ardhura-jopublik-nënatyrë'!$G124,'2.bTë ardhura-jopublik-monetare'!$H$19:$H$1015)","v":0}]
[null,null,null,null,null,null,null,null,null,{"$f":"SUMIF($G$19:$G$5015,$G125,$H$19:$H$5015)+SUMIF('2.bTë ardhura-jopublik-monetare'!$G$19:$G$1015,'2.cTë ardhura-jopublik-nënatyrë'!$G125,'2.bTë ardhura-jopublik-monetare'!$H$19:$H$1015)","v":0}]
[null,null,null,null,null,null,null,null,null,{"$f":"SUMIF($G$19:$G$5015,$G126,$H$19:$H$5015)+SUMIF('2.bTë ardhura-jopublik-monetare'!$G$19:$G$1015,'2.cTë ardhura-jopublik-nënatyrë'!$G126,'2.bTë ardhura-jopublik-monetare'!$H$19:$H$1015)","v":0}]
[null,null,null,null,null,null,null,null,null,{"$f":"SUMIF($G$19:$G$5015,$G127,$H$19:$H$5015)+SUMIF('2.bTë ardhura-jopublik-monetare'!$G$19:$G$1015,'2.cTë ardhura-jopublik-nënatyrë'!$G127,'2.bTë ardhura-jopublik-monetare'!$H$19:$H$1015)","v":0}]
[null,null,null,null,null,null,null,null,null,{"$f":"SUMIF($G$19:$G$5015,$G128,$H$19:$H$5015)+SUMIF('2.bTë ardhura-jopublik-monetare'!$G$19:$G$1015,'2.cTë ardhura-jopublik-nënatyrë'!$G128,'2.bTë ardhura-jopublik-monetare'!$H$19:$H$1015)","v":0}]
[null,null,null,null,null,null,null,null,null,{"$f":"SUMIF($G$19:$G$5015,$G129,$H$19:$H$5015)+SUMIF('2.bTë ardhura-jopublik-monetare'!$G$19:$G$1015,'2.cTë ardhura-jopublik-nënatyrë'!$G129,'2.bTë ardhura-jopublik-monetare'!$H$19:$H$1015)","v":0}]
[null,null,null,null,null,null,null,null,null,{"$f":"SUMIF($G$19:$G$5015,$G130,$H$19:$H$5015)+SUMIF('2.bTë ardhura-jopublik-monetare'!$G$19:$G$1015,'2.cTë ardhura-jopublik-nënatyrë'!$G130,'2.bTë ardhura-jopublik-monetare'!$H$19:$H$1015)","v":0}]
[null,null,null,null,null,null,null,null,null,{"$f":"SUMIF($G$19:$G$5015,$G131,$H$19:$H$5015)+SUMIF('2.bTë ardhura-jopublik-monetare'!$G$19:$G$1015,'2.cTë ardhura-jopublik-nënatyrë'!$G131,'2.bTë ardhura-jopublik-monetare'!$H$19:$H$1015)","v":0}]
[null,null,null,null,null,null,null,null,null,{"$f":"SUMIF($G$19:$G$5015,$G132,$H$19:$H$5015)+SUMIF('2.bTë ardhura-jopublik-monetare'!$G$19:$G$1015,'2.cTë ardhura-jopublik-nënatyrë'!$G132,'2.bTë ardhura-jopublik-monetare'!$H$19:$H$1015)","v":0}]
[null,null,null,null,null,null,null,null,null,{"$f":"SUMIF($G$19:$G$5015,$G133,$H$19:$H$5015)+SUMIF('2.bTë ardhura-jopublik-monetare'!$G$19:$G$1015,'2.cTë ardhura-jopublik-nënatyrë'!$G133,'2.bTë ardhura-jopublik-monetare'!$H$19:$H$1015)","v":0}]
[null,null,null,null,null,null,null,null,null,{"$f":"SUMIF($G$19:$G$5015,$G134,$H$19:$H$5015)+SUMIF('2.bTë ardhura-jopublik-monetare'!$G$19:$G$1015,'2.cTë ardhura-jopublik-nënatyrë'!$G134,'2.bTë ardhura-jopublik-monetare'!$H$19:$H$1015)","v":0}]
[null,null,null,null,null,null,null,null,null,{"$f":"SUMIF($G$19:$G$5015,$G135,$H$19:$H$5015)+SUMIF('2.bTë ardhura-jopublik-monetare'!$G$19:$G$1015,'2.cTë ardhura-jopublik-nënatyrë'!$G135,'2.bTë ardhura-jopublik-monetare'!$H$19:$H$1015)","v":0}]
[null,null,null,null,null,null,null,null,null,{"$f":"SUMIF($G$19:$G$5015,$G136,$H$19:$H$5015)+SUMIF('2.bTë ardhura-jopublik-monetare'!$G$19:$G$1015,'2.cTë ardhura-jopublik-nënatyrë'!$G136,'2.bTë ardhura-jopublik-monetare'!$H$19:$H$1015)","v":0}]
[null,null,null,null,null,null,null,null,null,{"$f":"SUMIF($G$19:$G$5015,$G137,$H$19:$H$5015)+SUMIF('2.bTë ardhura-jopublik-monetare'!$G$19:$G$1015,'2.cTë ardhura-jopublik-nënatyrë'!$G137,'2.bTë ardhura-jopublik-monetare'!$H$19:$H$1015)","v":0}]
[null,null,null,null,null,null,null,null,null,{"$f":"SUMIF($G$19:$G$5015,$G138,$H$19:$H$5015)+SUMIF('2.bTë ardhura-jopublik-monetare'!$G$19:$G$1015,'2.cTë ardhura-jopublik-nënatyrë'!$G138,'2.bTë ardhura-jopublik-monetare'!$H$19:$H$1015)","v":0}]
[null,null,null,null,null,null,null,null,null,{"$f":"SUMIF($G$19:$G$5015,$G139,$H$19:$H$5015)+SUMIF('2.bTë ardhura-jopublik-monetare'!$G$19:$G$1015,'2.cTë ardhura-jopublik-nënatyrë'!$G139,'2.bTë ardhura-jopublik-monetare'!$H$19:$H$1015)","v":0}]
[null,null,null,null,null,null,null,null,null,{"$f":"SUMIF($G$19:$G$5015,$G140,$H$19:$H$5015)+SUMIF('2.bTë ardhura-jopublik-monetare'!$G$19:$G$1015,'2.cTë ardhura-jopublik-nënatyrë'!$G140,'2.bTë ardhura-jopublik-monetare'!$H$19:$H$1015)","v":0}]
[null,null,null,null,null,null,null,null,null,{"$f":"SUMIF($G$19:$G$5015,$G141,$H$19:$H$5015)+SUMIF('2.bTë ardhura-jopublik-monetare'!$G$19:$G$1015,'2.cTë ardhura-jopublik-nënatyrë'!$G141,'2.bTë ardhura-jopublik-monetare'!$H$19:$H$1015)","v":0}]
[null,null,null,null,null,null,null,null,null,{"$f":"SUMIF($G$19:$G$5015,$G142,$H$19:$H$5015)+SUMIF('2.bTë ardhura-jopublik-monetare'!$G$19:$G$1015,'2.cTë ardhura-jopublik-nënatyrë'!$G142,'2.bTë ardhura-jopublik-monetare'!$H$19:$H$1015)","v":0}]
[null,null,null,null,null,null,null,null,null,{"$f":"SUMIF($G$19:$G$5015,$G143,$H$19:$H$5015)+SUMIF('2.bTë ardhura-jopublik-monetare'!$G$19:$G$1015,'2.cTë ardhura-jopublik-nënatyrë'!$G143,'2.bTë ardhura-jopublik-monetare'!$H$19:$H$1015)","v":0}]
[null,null,null,null,null,null,null,null,null,{"$f":"SUMIF($G$19:$G$5015,$G144,$H$19:$H$5015)+SUMIF('2.bTë ardhura-jopublik-monetare'!$G$19:$G$1015,'2.cTë ardhura-jopublik-nënatyrë'!$G144,'2.bTë ardhura-jopublik-monetare'!$H$19:$H$1015)","v":0}]
[null,null,null,null,null,null,null,null,null,{"$f":"SUMIF($G$19:$G$5015,$G145,$H$19:$H$5015)+SUMIF('2.bTë ardhura-jopublik-monetare'!$G$19:$G$1015,'2.cTë ardhura-jopublik-nënatyrë'!$G145,'2.bTë ardhura-jopublik-monetare'!$H$19:$H$1015)","v":0}]
[null,null,null,null,null,null,null,null,null,{"$f":"SUMIF($G$19:$G$5015,$G146,$H$19:$H$5015)+SUMIF('2.bTë ardhura-jopublik-monetare'!$G$19:$G$1015,'2.cTë ardhura-jopublik-nënatyrë'!$G146,'2.bTë ardhura-jopublik-monetare'!$H$19:$H$1015)","v":0}]
[null,null,null,null,null,null,null,null,null,{"$f":"SUMIF($G$19:$G$5015,$G147,$H$19:$H$5015)+SUMIF('2.bTë ardhura-jopublik-monetare'!$G$19:$G$1015,'2.cTë ardhura-jopublik-nënatyrë'!$G147,'2.bTë ardhura-jopublik-monetare'!$H$19:$H$1015)","v":0}]
[null,null,null,null,null,null,null,null,null,{"$f":"SUMIF($G$19:$G$5015,$G148,$H$19:$H$5015)+SUMIF('2.bTë ardhura-jopublik-monetare'!$G$19:$G$1015,'2.cTë ardhura-jopublik-nënatyrë'!$G148,'2.bTë ardhura-jopublik-monetare'!$H$19:$H$1015)","v":0}]
[null,null,null,null,null,null,null,null,null,{"$f":"SUMIF($G$19:$G$5015,$G149,$H$19:$H$5015)+SUMIF('2.bTë ardhura-jopublik-monetare'!$G$19:$G$1015,'2.cTë ardhura-jopublik-nënatyrë'!$G149,'2.bTë ardhura-jopublik-monetare'!$H$19:$H$1015)","v":0}]
[null,null,null,null,null,null,null,null,null,{"$f":"SUMIF($G$19:$G$5015,$G150,$H$19:$H$5015)+SUMIF('2.bTë ardhura-jopublik-monetare'!$G$19:$G$1015,'2.cTë ardhura-jopublik-nënatyrë'!$G150,'2.bTë ardhura-jopublik-monetare'!$H$19:$H$1015)","v":0}]
[null,null,null,null,null,null,null,null,null,{"$f":"SUMIF($G$19:$G$5015,$G151,$H$19:$H$5015)+SUMIF('2.bTë ardhura-jopublik-monetare'!$G$19:$G$1015,'2.cTë ardhura-jopublik-nënatyrë'!$G151,'2.bTë ardhura-jopublik-monetare'!$H$19:$H$1015)","v":0}]
[null,null,null,null,null,null,null,null,null,{"$f":"SUMIF($G$19:$G$5015,$G152,$H$19:$H$5015)+SUMIF('2.bTë ardhura-jopublik-monetare'!$G$19:$G$1015,'2.cTë ardhura-jopublik-nënatyrë'!$G152,'2.bTë ardhura-jopublik-monetare'!$H$19:$H$1015)","v":0}]
[null,null,null,null,null,null,null,null,null,{"$f":"SUMIF($G$19:$G$5015,$G153,$H$19:$H$5015)+SUMIF('2.bTë ardhura-jopublik-monetare'!$G$19:$G$1015,'2.cTë ardhura-jopublik-nënatyrë'!$G153,'2.bTë ardhura-jopublik-monetare'!$H$19:$H$1015)","v":0}]
[null,null,null,null,null,null,null,null,null,{"$f":"SUMIF($G$19:$G$5015,$G154,$H$19:$H$5015)+SUMIF('2.bTë ardhura-jopublik-monetare'!$G$19:$G$1015,'2.cTë ardhura-jopublik-nënatyrë'!$G154,'2.bTë ardhura-jopublik-monetare'!$H$19:$H$1015)","v":0}]
[null,null,null,null,null,null,null,null,null,{"$f":"SUMIF($G$19:$G$5015,$G155,$H$19:$H$5015)+SUMIF('2.bTë ardhura-jopublik-monetare'!$G$19:$G$1015,'2.cTë ardhura-jopublik-nënatyrë'!$G155,'2.bTë ardhura-jopublik-monetare'!$H$19:$H$1015)","v":0}]
[null,null,null,null,null,null,null,null,null,{"$f":"SUMIF($G$19:$G$5015,$G156,$H$19:$H$5015)+SUMIF('2.bTë ardhura-jopublik-monetare'!$G$19:$G$1015,'2.cTë ardhura-jopublik-nënatyrë'!$G156,'2.bTë ardhura-jopublik-monetare'!$H$19:$H$1015)","v":0}]
[null,null,null,null,null,null,null,null,null,{"$f":"SUMIF($G$19:$G$5015,$G157,$H$19:$H$5015)+SUMIF('2.bTë ardhura-jopublik-monetare'!$G$19:$G$1015,'2.cTë ardhura-jopublik-nënatyrë'!$G157,'2.bTë ardhura-jopublik-monetare'!$H$19:$H$1015)","v":0}]
[null,null,null,null,null,null,null,null,null,{"$f":"SUMIF($G$19:$G$5015,$G158,$H$19:$H$5015)+SUMIF('2.bTë ardhura-jopublik-monetare'!$G$19:$G$1015,'2.cTë ardhura-jopublik-nënatyrë'!$G158,'2.bTë ardhura-jopublik-monetare'!$H$19:$H$1015)","v":0}]
[null,null,null,null,null,null,null,null,null,{"$f":"SUMIF($G$19:$G$5015,$G159,$H$19:$H$5015)+SUMIF('2.bTë ardhura-jopublik-monetare'!$G$19:$G$1015,'2.cTë ardhura-jopublik-nënatyrë'!$G159,'2.bTë ardhura-jopublik-monetare'!$H$19:$H$1015)","v":0}]
[null,null,null,null,null,null,null,null,null,{"$f":"SUMIF($G$19:$G$5015,$G160,$H$19:$H$5015)+SUMIF('2.bTë ardhura-jopublik-monetare'!$G$19:$G$1015,'2.cTë ardhura-jopublik-nënatyrë'!$G160,'2.bTë ardhura-jopublik-monetare'!$H$19:$H$1015)","v":0}]
[null,null,null,null,null,null,null,null,null,{"$f":"SUMIF($G$19:$G$5015,$G161,$H$19:$H$5015)+SUMIF('2.bTë ardhura-jopublik-monetare'!$G$19:$G$1015,'2.cTë ardhura-jopublik-nënatyrë'!$G161,'2.bTë ardhura-jopublik-monetare'!$H$19:$H$1015)","v":0}]
[null,null,null,null,null,null,null,null,null,{"$f":"SUMIF($G$19:$G$5015,$G162,$H$19:$H$5015)+SUMIF('2.bTë ardhura-jopublik-monetare'!$G$19:$G$1015,'2.cTë ardhura-jopublik-nënatyrë'!$G162,'2.bTë ardhura-jopublik-monetare'!$H$19:$H$1015)","v":0}]
[null,null,null,null,null,null,null,null,null,{"$f":"SUMIF($G$19:$G$5015,$G163,$H$19:$H$5015)+SUMIF('2.bTë ardhura-jopublik-monetare'!$G$19:$G$1015,'2.cTë ardhura-jopublik-nënatyrë'!$G163,'2.bTë ardhura-jopublik-monetare'!$H$19:$H$1015)","v":0}]
[null,null,null,null,null,null,null,null,null,{"$f":"SUMIF($G$19:$G$5015,$G164,$H$19:$H$5015)+SUMIF('2.bTë ardhura-jopublik-monetare'!$G$19:$G$1015,'2.cTë ardhura-jopublik-nënatyrë'!$G164,'2.bTë ardhura-jopublik-monetare'!$H$19:$H$1015)","v":0}]
[null,null,null,null,null,null,null,null,null,{"$f":"SUMIF($G$19:$G$5015,$G165,$H$19:$H$5015)+SUMIF('2.bTë ardhura-jopublik-monetare'!$G$19:$G$1015,'2.cTë ardhura-jopublik-nënatyrë'!$G165,'2.bTë ardhura-jopublik-monetare'!$H$19:$H$1015)","v":0}]
[null,null,null,null,null,null,null,null,null,{"$f":"SUMIF($G$19:$G$5015,$G166,$H$19:$H$5015)+SUMIF('2.bTë ardhura-jopublik-monetare'!$G$19:$G$1015,'2.cTë ardhura-jopublik-nënatyrë'!$G166,'2.bTë ardhura-jopublik-monetare'!$H$19:$H$1015)","v":0}]
[null,null,null,null,null,null,null,null,null,{"$f":"SUMIF($G$19:$G$5015,$G167,$H$19:$H$5015)+SUMIF('2.bTë ardhura-jopublik-monetare'!$G$19:$G$1015,'2.cTë ardhura-jopublik-nënatyrë'!$G167,'2.bTë ardhura-jopublik-monetare'!$H$19:$H$1015)","v":0}]
[null,null,null,null,null,null,null,null,null,{"$f":"SUMIF($G$19:$G$5015,$G168,$H$19:$H$5015)+SUMIF('2.bTë ardhura-jopublik-monetare'!$G$19:$G$1015,'2.cTë ardhura-jopublik-nënatyrë'!$G168,'2.bTë ardhura-jopublik-monetare'!$H$19:$H$1015)","v":0}]
[null,null,null,null,null,null,null,null,null,{"$f":"SUMIF($G$19:$G$5015,$G169,$H$19:$H$5015)+SUMIF('2.bTë ardhura-jopublik-monetare'!$G$19:$G$1015,'2.cTë ardhura-jopublik-nënatyrë'!$G169,'2.bTë ardhura-jopublik-monetare'!$H$19:$H$1015)","v":0}]
[null,null,null,null,null,null,null,null,null,{"$f":"SUMIF($G$19:$G$5015,$G170,$H$19:$H$5015)+SUMIF('2.bTë ardhura-jopublik-monetare'!$G$19:$G$1015,'2.cTë ardhura-jopublik-nënatyrë'!$G170,'2.bTë ardhura-jopublik-monetare'!$H$19:$H$1015)","v":0}]
[null,null,null,null,null,null,null,null,null,{"$f":"SUMIF($G$19:$G$5015,$G171,$H$19:$H$5015)+SUMIF('2.bTë ardhura-jopublik-monetare'!$G$19:$G$1015,'2.cTë ardhura-jopublik-nënatyrë'!$G171,'2.bTë ardhura-jopublik-monetare'!$H$19:$H$1015)","v":0}]
[null,null,null,null,null,null,null,null,null,{"$f":"SUMIF($G$19:$G$5015,$G172,$H$19:$H$5015)+SUMIF('2.bTë ardhura-jopublik-monetare'!$G$19:$G$1015,'2.cTë ardhura-jopublik-nënatyrë'!$G172,'2.bTë ardhura-jopublik-monetare'!$H$19:$H$1015)","v":0}]
[null,null,null,null,null,null,null,null,null,{"$f":"SUMIF($G$19:$G$5015,$G173,$H$19:$H$5015)+SUMIF('2.bTë ardhura-jopublik-monetare'!$G$19:$G$1015,'2.cTë ardhura-jopublik-nënatyrë'!$G173,'2.bTë ardhura-jopublik-monetare'!$H$19:$H$1015)","v":0}]
[null,null,null,null,null,null,null,null,null,{"$f":"SUMIF($G$19:$G$5015,$G174,$H$19:$H$5015)+SUMIF('2.bTë ardhura-jopublik-monetare'!$G$19:$G$1015,'2.cTë ardhura-jopublik-nënatyrë'!$G174,'2.bTë ardhura-jopublik-monetare'!$H$19:$H$1015)","v":0}]
[null,null,null,null,null,null,null,null,null,{"$f":"SUMIF($G$19:$G$5015,$G175,$H$19:$H$5015)+SUMIF('2.bTë ardhura-jopublik-monetare'!$G$19:$G$1015,'2.cTë ardhura-jopublik-nënatyrë'!$G175,'2.bTë ardhura-jopublik-monetare'!$H$19:$H$1015)","v":0}]
[null,null,null,null,null,null,null,null,null,{"$f":"SUMIF($G$19:$G$5015,$G176,$H$19:$H$5015)+SUMIF('2.bTë ardhura-jopublik-monetare'!$G$19:$G$1015,'2.cTë ardhura-jopublik-nënatyrë'!$G176,'2.bTë ardhura-jopublik-monetare'!$H$19:$H$1015)","v":0}]
[null,null,null,null,null,null,null,null,null,{"$f":"SUMIF($G$19:$G$5015,$G177,$H$19:$H$5015)+SUMIF('2.bTë ardhura-jopublik-monetare'!$G$19:$G$1015,'2.cTë ardhura-jopublik-nënatyrë'!$G177,'2.bTë ardhura-jopublik-monetare'!$H$19:$H$1015)","v":0}]
[null,null,null,null,null,null,null,null,null,{"$f":"SUMIF($G$19:$G$5015,$G178,$H$19:$H$5015)+SUMIF('2.bTë ardhura-jopublik-monetare'!$G$19:$G$1015,'2.cTë ardhura-jopublik-nënatyrë'!$G178,'2.bTë ardhura-jopublik-monetare'!$H$19:$H$1015)","v":0}]
[null,null,null,null,null,null,null,null,null,{"$f":"SUMIF($G$19:$G$5015,$G179,$H$19:$H$5015)+SUMIF('2.bTë ardhura-jopublik-monetare'!$G$19:$G$1015,'2.cTë ardhura-jopublik-nënatyrë'!$G179,'2.bTë ardhura-jopublik-monetare'!$H$19:$H$1015)","v":0}]
[null,null,null,null,null,null,null,null,null,{"$f":"SUMIF($G$19:$G$5015,$G180,$H$19:$H$5015)+SUMIF('2.bTë ardhura-jopublik-monetare'!$G$19:$G$1015,'2.cTë ardhura-jopublik-nënatyrë'!$G180,'2.bTë ardhura-jopublik-monetare'!$H$19:$H$1015)","v":0}]
[null,null,null,null,null,null,null,null,null,{"$f":"SUMIF($G$19:$G$5015,$G181,$H$19:$H$5015)+SUMIF('2.bTë ardhura-jopublik-monetare'!$G$19:$G$1015,'2.cTë ardhura-jopublik-nënatyrë'!$G181,'2.bTë ardhura-jopublik-monetare'!$H$19:$H$1015)","v":0}]
[null,null,null,null,null,null,null,null,null,{"$f":"SUMIF($G$19:$G$5015,$G182,$H$19:$H$5015)+SUMIF('2.bTë ardhura-jopublik-monetare'!$G$19:$G$1015,'2.cTë ardhura-jopublik-nënatyrë'!$G182,'2.bTë ardhura-jopublik-monetare'!$H$19:$H$1015)","v":0}]
[null,null,null,null,null,null,null,null,null,{"$f":"SUMIF($G$19:$G$5015,$G183,$H$19:$H$5015)+SUMIF('2.bTë ardhura-jopublik-monetare'!$G$19:$G$1015,'2.cTë ardhura-jopublik-nënatyrë'!$G183,'2.bTë ardhura-jopublik-monetare'!$H$19:$H$1015)","v":0}]
[null,null,null,null,null,null,null,null,null,{"$f":"SUMIF($G$19:$G$5015,$G184,$H$19:$H$5015)+SUMIF('2.bTë ardhura-jopublik-monetare'!$G$19:$G$1015,'2.cTë ardhura-jopublik-nënatyrë'!$G184,'2.bTë ardhura-jopublik-monetare'!$H$19:$H$1015)","v":0}]
[null,null,null,null,null,null,null,null,null,{"$f":"SUMIF($G$19:$G$5015,$G185,$H$19:$H$5015)+SUMIF('2.bTë ardhura-jopublik-monetare'!$G$19:$G$1015,'2.cTë ardhura-jopublik-nënatyrë'!$G185,'2.bTë ardhura-jopublik-monetare'!$H$19:$H$1015)","v":0}]
[null,null,null,null,null,null,null,null,null,{"$f":"SUMIF($G$19:$G$5015,$G186,$H$19:$H$5015)+SUMIF('2.bTë ardhura-jopublik-monetare'!$G$19:$G$1015,'2.cTë ardhura-jopublik-nënatyrë'!$G186,'2.bTë ardhura-jopublik-monetare'!$H$19:$H$1015)","v":0}]
[null,null,null,null,null,null,null,null,null,{"$f":"SUMIF($G$19:$G$5015,$G187,$H$19:$H$5015)+SUMIF('2.bTë ardhura-jopublik-monetare'!$G$19:$G$1015,'2.cTë ardhura-jopublik-nënatyrë'!$G187,'2.bTë ardhura-jopublik-monetare'!$H$19:$H$1015)","v":0}]
[null,null,null,null,null,null,null,null,null,{"$f":"SUMIF($G$19:$G$5015,$G188,$H$19:$H$5015)+SUMIF('2.bTë ardhura-jopublik-monetare'!$G$19:$G$1015,'2.cTë ardhura-jopublik-nënatyrë'!$G188,'2.bTë ardhura-jopublik-monetare'!$H$19:$H$1015)","v":0}]
[null,null,null,null,null,null,null,null,null,{"$f":"SUMIF($G$19:$G$5015,$G189,$H$19:$H$5015)+SUMIF('2.bTë ardhura-jopublik-monetare'!$G$19:$G$1015,'2.cTë ardhura-jopublik-nënatyrë'!$G189,'2.bTë ardhura-jopublik-monetare'!$H$19:$H$1015)","v":0}]
[null,null,null,null,null,null,null,null,null,{"$f":"SUMIF($G$19:$G$5015,$G190,$H$19:$H$5015)+SUMIF('2.bTë ardhura-jopublik-monetare'!$G$19:$G$1015,'2.cTë ardhura-jopublik-nënatyrë'!$G190,'2.bTë ardhura-jopublik-monetare'!$H$19:$H$1015)","v":0}]
[null,null,null,null,null,null,null,null,null,{"$f":"SUMIF($G$19:$G$5015,$G191,$H$19:$H$5015)+SUMIF('2.bTë ardhura-jopublik-monetare'!$G$19:$G$1015,'2.cTë ardhura-jopublik-nënatyrë'!$G191,'2.bTë ardhura-jopublik-monetare'!$H$19:$H$1015)","v":0}]
[null,null,null,null,null,null,null,null,null,{"$f":"SUMIF($G$19:$G$5015,$G192,$H$19:$H$5015)+SUMIF('2.bTë ardhura-jopublik-monetare'!$G$19:$G$1015,'2.cTë ardhura-jopublik-nënatyrë'!$G192,'2.bTë ardhura-jopublik-monetare'!$H$19:$H$1015)","v":0}]
[null,null,null,null,null,null,null,null,null,{"$f":"SUMIF($G$19:$G$5015,$G193,$H$19:$H$5015)+SUMIF('2.bTë ardhura-jopublik-monetare'!$G$19:$G$1015,'2.cTë ardhura-jopublik-nënatyrë'!$G193,'2.bTë ardhura-jopublik-monetare'!$H$19:$H$1015)","v":0}]
[null,null,null,null,null,null,null,null,null,{"$f":"SUMIF($G$19:$G$5015,$G194,$H$19:$H$5015)+SUMIF('2.bTë ardhura-jopublik-monetare'!$G$19:$G$1015,'2.cTë ardhura-jopublik-nënatyrë'!$G194,'2.bTë ardhura-jopublik-monetare'!$H$19:$H$1015)","v":0}]
[null,null,null,null,null,null,null,null,null,{"$f":"SUMIF($G$19:$G$5015,$G195,$H$19:$H$5015)+SUMIF('2.bTë ardhura-jopublik-monetare'!$G$19:$G$1015,'2.cTë ardhura-jopublik-nënatyrë'!$G195,'2.bTë ardhura-jopublik-monetare'!$H$19:$H$1015)","v":0}]
[null,null,null,null,null,null,null,null,null,{"$f":"SUMIF($G$19:$G$5015,$G196,$H$19:$H$5015)+SUMIF('2.bTë ardhura-jopublik-monetare'!$G$19:$G$1015,'2.cTë ardhura-jopublik-nënatyrë'!$G196,'2.bTë ardhura-jopublik-monetare'!$H$19:$H$1015)","v":0}]
[null,null,null,null,null,null,null,null,null,{"$f":"SUMIF($G$19:$G$5015,$G197,$H$19:$H$5015)+SUMIF('2.bTë ardhura-jopublik-monetare'!$G$19:$G$1015,'2.cTë ardhura-jopublik-nënatyrë'!$G197,'2.bTë ardhura-jopublik-monetare'!$H$19:$H$1015)","v":0}]
[null,null,null,null,null,null,null,null,null,{"$f":"SUMIF($G$19:$G$5015,$G198,$H$19:$H$5015)+SUMIF('2.bTë ardhura-jopublik-monetare'!$G$19:$G$1015,'2.cTë ardhura-jopublik-nënatyrë'!$G198,'2.bTë ardhura-jopublik-monetare'!$H$19:$H$1015)","v":0}]
[null,null,null,null,null,null,null,null,null,{"$f":"SUMIF($G$19:$G$5015,$G199,$H$19:$H$5015)+SUMIF('2.bTë ardhura-jopublik-monetare'!$G$19:$G$1015,'2.cTë ardhura-jopublik-nënatyrë'!$G199,'2.bTë ardhura-jopublik-monetare'!$H$19:$H$1015)","v":0}]
[null,null,null,null,null,null,null,null,null,{"$f":"SUMIF($G$19:$G$5015,$G200,$H$19:$H$5015)+SUMIF('2.bTë ardhura-jopublik-monetare'!$G$19:$G$1015,'2.cTë ardhura-jopublik-nënatyrë'!$G200,'2.bTë ardhura-jopublik-monetare'!$H$19:$H$1015)","v":0}]
[null,null,null,null,null,null,null,null,null,{"$f":"SUMIF($G$19:$G$5015,$G201,$H$19:$H$5015)+SUMIF('2.bTë ardhura-jopublik-monetare'!$G$19:$G$1015,'2.cTë ardhura-jopublik-nënatyrë'!$G201,'2.bTë ardhura-jopublik-monetare'!$H$19:$H$1015)","v":0}]
[null,null,null,null,null,null,null,null,null,{"$f":"SUMIF($G$19:$G$5015,$G202,$H$19:$H$5015)+SUMIF('2.bTë ardhura-jopublik-monetare'!$G$19:$G$1015,'2.cTë ardhura-jopublik-nënatyrë'!$G202,'2.bTë ardhura-jopublik-monetare'!$H$19:$H$1015)","v":0}]
[null,null,null,null,null,null,null,null,null,{"$f":"SUMIF($G$19:$G$5015,$G203,$H$19:$H$5015)+SUMIF('2.bTë ardhura-jopublik-monetare'!$G$19:$G$1015,'2.cTë ardhura-jopublik-nënatyrë'!$G203,'2.bTë ardhura-jopublik-monetare'!$H$19:$H$1015)","v":0}]
[null,null,null,null,null,null,null,null,null,{"$f":"SUMIF($G$19:$G$5015,$G204,$H$19:$H$5015)+SUMIF('2.bTë ardhura-jopublik-monetare'!$G$19:$G$1015,'2.cTë ardhura-jopublik-nënatyrë'!$G204,'2.bTë ardhura-jopublik-monetare'!$H$19:$H$1015)","v":0}]
[null,null,null,null,null,null,null,null,null,{"$f":"SUMIF($G$19:$G$5015,$G205,$H$19:$H$5015)+SUMIF('2.bTë ardhura-jopublik-monetare'!$G$19:$G$1015,'2.cTë ardhura-jopublik-nënatyrë'!$G205,'2.bTë ardhura-jopublik-monetare'!$H$19:$H$1015)","v":0}]
[null,null,null,null,null,null,null,null,null,{"$f":"SUMIF($G$19:$G$5015,$G206,$H$19:$H$5015)+SUMIF('2.bTë ardhura-jopublik-monetare'!$G$19:$G$1015,'2.cTë ardhura-jopublik-nënatyrë'!$G206,'2.bTë ardhura-jopublik-monetare'!$H$19:$H$1015)","v":0}]
[null,null,null,null,null,null,null,null,null,{"$f":"SUMIF($G$19:$G$5015,$G207,$H$19:$H$5015)+SUMIF('2.bTë ardhura-jopublik-monetare'!$G$19:$G$1015,'2.cTë ardhura-jopublik-nënatyrë'!$G207,'2.bTë ardhura-jopublik-monetare'!$H$19:$H$1015)","v":0}]
[null,null,null,null,null,null,null,null,null,{"$f":"SUMIF($G$19:$G$5015,$G208,$H$19:$H$5015)+SUMIF('2.bTë ardhura-jopublik-monetare'!$G$19:$G$1015,'2.cTë ardhura-jopublik-nënatyrë'!$G208,'2.bTë ardhura-jopublik-monetare'!$H$19:$H$1015)","v":0}]
[null,null,null,null,null,null,null,null,null,{"$f":"SUMIF($G$19:$G$5015,$G209,$H$19:$H$5015)+SUMIF('2.bTë ardhura-jopublik-monetare'!$G$19:$G$1015,'2.cTë ardhura-jopublik-nënatyrë'!$G209,'2.bTë ardhura-jopublik-monetare'!$H$19:$H$1015)","v":0}]
[null,null,null,null,null,null,null,null,null,{"$f":"SUMIF($G$19:$G$5015,$G210,$H$19:$H$5015)+SUMIF('2.bTë ardhura-jopublik-monetare'!$G$19:$G$1015,'2.cTë ardhura-jopublik-nënatyrë'!$G210,'2.bTë ardhura-jopublik-monetare'!$H$19:$H$1015)","v":0}]
[null,null,null,null,null,null,null,null,null,{"$f":"SUMIF($G$19:$G$5015,$G211,$H$19:$H$5015)+SUMIF('2.bTë ardhura-jopublik-monetare'!$G$19:$G$1015,'2.cTë ardhura-jopublik-nënatyrë'!$G211,'2.bTë ardhura-jopublik-monetare'!$H$19:$H$1015)","v":0}]
[null,null,null,null,null,null,null,null,null,{"$f":"SUMIF($G$19:$G$5015,$G212,$H$19:$H$5015)+SUMIF('2.bTë ardhura-jopublik-monetare'!$G$19:$G$1015,'2.cTë ardhura-jopublik-nënatyrë'!$G212,'2.bTë ardhura-jopublik-monetare'!$H$19:$H$1015)","v":0}]
[null,null,null,null,null,null,null,null,null,{"$f":"SUMIF($G$19:$G$5015,$G213,$H$19:$H$5015)+SUMIF('2.bTë ardhura-jopublik-monetare'!$G$19:$G$1015,'2.cTë ardhura-jopublik-nënatyrë'!$G213,'2.bTë ardhura-jopublik-monetare'!$H$19:$H$1015)","v":0}]
[null,null,null,null,null,null,null,null,null,{"$f":"SUMIF($G$19:$G$5015,$G214,$H$19:$H$5015)+SUMIF('2.bTë ardhura-jopublik-monetare'!$G$19:$G$1015,'2.cTë ardhura-jopublik-nënatyrë'!$G214,'2.bTë ardhura-jopublik-monetare'!$H$19:$H$1015)","v":0}]
[null,null,null,null,null,null,null,null,null,{"$f":"SUMIF($G$19:$G$5015,$G215,$H$19:$H$5015)+SUMIF('2.bTë ardhura-jopublik-monetare'!$G$19:$G$1015,'2.cTë ardhura-jopublik-nënatyrë'!$G215,'2.bTë ardhura-jopublik-monetare'!$H$19:$H$1015)","v":0}]
[null,null,null,null,null,null,null,null,null,{"$f":"SUMIF($G$19:$G$5015,$G216,$H$19:$H$5015)+SUMIF('2.bTë ardhura-jopublik-monetare'!$G$19:$G$1015,'2.cTë ardhura-jopublik-nënatyrë'!$G216,'2.bTë ardhura-jopublik-monetare'!$H$19:$H$1015)","v":0}]
[null,null,null,null,null,null,null,null,null,{"$f":"SUMIF($G$19:$G$5015,$G217,$H$19:$H$5015)+SUMIF('2.bTë ardhura-jopublik-monetare'!$G$19:$G$1015,'2.cTë ardhura-jopublik-nënatyrë'!$G217,'2.bTë ardhura-jopublik-monetare'!$H$19:$H$1015)","v":0}]
[null,null,null,null,null,null,null,null,null,{"$f":"SUMIF($G$19:$G$5015,$G218,$H$19:$H$5015)+SUMIF('2.bTë ardhura-jopublik-monetare'!$G$19:$G$1015,'2.cTë ardhura-jopublik-nënatyrë'!$G218,'2.bTë ardhura-jopublik-monetare'!$H$19:$H$1015)","v":0}]
[null,null,null,null,null,null,null,null,null,{"$f":"SUMIF($G$19:$G$5015,$G219,$H$19:$H$5015)+SUMIF('2.bTë ardhura-jopublik-monetare'!$G$19:$G$1015,'2.cTë ardhura-jopublik-nënatyrë'!$G219,'2.bTë ardhura-jopublik-monetare'!$H$19:$H$1015)","v":0}]
[null,null,null,null,null,null,null,null,null,{"$f":"SUMIF($G$19:$G$5015,$G220,$H$19:$H$5015)+SUMIF('2.bTë ardhura-jopublik-monetare'!$G$19:$G$1015,'2.cTë ardhura-jopublik-nënatyrë'!$G220,'2.bTë ardhura-jopublik-monetare'!$H$19:$H$1015)","v":0}]
[null,null,null,null,null,null,null,null,null,{"$f":"SUMIF($G$19:$G$5015,$G221,$H$19:$H$5015)+SUMIF('2.bTë ardhura-jopublik-monetare'!$G$19:$G$1015,'2.cTë ardhura-jopublik-nënatyrë'!$G221,'2.bTë ardhura-jopublik-monetare'!$H$19:$H$1015)","v":0}]
[null,null,null,null,null,null,null,null,null,{"$f":"SUMIF($G$19:$G$5015,$G222,$H$19:$H$5015)+SUMIF('2.bTë ardhura-jopublik-monetare'!$G$19:$G$1015,'2.cTë ardhura-jopublik-nënatyrë'!$G222,'2.bTë ardhura-jopublik-monetare'!$H$19:$H$1015)","v":0}]
[null,null,null,null,null,null,null,null,null,{"$f":"SUMIF($G$19:$G$5015,$G223,$H$19:$H$5015)+SUMIF('2.bTë ardhura-jopublik-monetare'!$G$19:$G$1015,'2.cTë ardhura-jopublik-nënatyrë'!$G223,'2.bTë ardhura-jopublik-monetare'!$H$19:$H$1015)","v":0}]
[null,null,null,null,null,null,null,null,null,{"$f":"SUMIF($G$19:$G$5015,$G224,$H$19:$H$5015)+SUMIF('2.bTë ardhura-jopublik-monetare'!$G$19:$G$1015,'2.cTë ardhura-jopublik-nënatyrë'!$G224,'2.bTë ardhura-jopublik-monetare'!$H$19:$H$1015)","v":0}]
[null,null,null,null,null,null,null,null,null,{"$f":"SUMIF($G$19:$G$5015,$G225,$H$19:$H$5015)+SUMIF('2.bTë ardhura-jopublik-monetare'!$G$19:$G$1015,'2.cTë ardhura-jopublik-nënatyrë'!$G225,'2.bTë ardhura-jopublik-monetare'!$H$19:$H$1015)","v":0}]
[null,null,null,null,null,null,null,null,null,{"$f":"SUMIF($G$19:$G$5015,$G226,$H$19:$H$5015)+SUMIF('2.bTë ardhura-jopublik-monetare'!$G$19:$G$1015,'2.cTë ardhura-jopublik-nënatyrë'!$G226,'2.bTë ardhura-jopublik-monetare'!$H$19:$H$1015)","v":0}]
[null,null,null,null,null,null,null,null,null,{"$f":"SUMIF($G$19:$G$5015,$G227,$H$19:$H$5015)+SUMIF('2.bTë ardhura-jopublik-monetare'!$G$19:$G$1015,'2.cTë ardhura-jopublik-nënatyrë'!$G227,'2.bTë ardhura-jopublik-monetare'!$H$19:$H$1015)","v":0}]
[null,null,null,null,null,null,null,null,null,{"$f":"SUMIF($G$19:$G$5015,$G228,$H$19:$H$5015)+SUMIF('2.bTë ardhura-jopublik-monetare'!$G$19:$G$1015,'2.cTë ardhura-jopublik-nënatyrë'!$G228,'2.bTë ardhura-jopublik-monetare'!$H$19:$H$1015)","v":0}]
[null,null,null,null,null,null,null,null,null,{"$f":"SUMIF($G$19:$G$5015,$G229,$H$19:$H$5015)+SUMIF('2.bTë ardhura-jopublik-monetare'!$G$19:$G$1015,'2.cTë ardhura-jopublik-nënatyrë'!$G229,'2.bTë ardhura-jopublik-monetare'!$H$19:$H$1015)","v":0}]
[null,null,null,null,null,null,null,null,null,{"$f":"SUMIF($G$19:$G$5015,$G230,$H$19:$H$5015)+SUMIF('2.bTë ardhura-jopublik-monetare'!$G$19:$G$1015,'2.cTë ardhura-jopublik-nënatyrë'!$G230,'2.bTë ardhura-jopublik-monetare'!$H$19:$H$1015)","v":0}]
[null,null,null,null,null,null,null,null,null,{"$f":"SUMIF($G$19:$G$5015,$G231,$H$19:$H$5015)+SUMIF('2.bTë ardhura-jopublik-monetare'!$G$19:$G$1015,'2.cTë ardhura-jopublik-nënatyrë'!$G231,'2.bTë ardhura-jopublik-monetare'!$H$19:$H$1015)","v":0}]
[null,null,null,null,null,null,null,null,null,{"$f":"SUMIF($G$19:$G$5015,$G232,$H$19:$H$5015)+SUMIF('2.bTë ardhura-jopublik-monetare'!$G$19:$G$1015,'2.cTë ardhura-jopublik-nënatyrë'!$G232,'2.bTë ardhura-jopublik-monetare'!$H$19:$H$1015)","v":0}]
[null,null,null,null,null,null,null,null,null,{"$f":"SUMIF($G$19:$G$5015,$G233,$H$19:$H$5015)+SUMIF('2.bTë ardhura-jopublik-monetare'!$G$19:$G$1015,'2.cTë ardhura-jopublik-nënatyrë'!$G233,'2.bTë ardhura-jopublik-monetare'!$H$19:$H$1015)","v":0}]
[null,null,null,null,null,null,null,null,null,{"$f":"SUMIF($G$19:$G$5015,$G234,$H$19:$H$5015)+SUMIF('2.bTë ardhura-jopublik-monetare'!$G$19:$G$1015,'2.cTë ardhura-jopublik-nënatyrë'!$G234,'2.bTë ardhura-jopublik-monetare'!$H$19:$H$1015)","v":0}]
[null,null,null,null,null,null,null,null,null,{"$f":"SUMIF($G$19:$G$5015,$G235,$H$19:$H$5015)+SUMIF('2.bTë ardhura-jopublik-monetare'!$G$19:$G$1015,'2.cTë ardhura-jopublik-nënatyrë'!$G235,'2.bTë ardhura-jopublik-monetare'!$H$19:$H$1015)","v":0}]
[null,null,null,null,null,null,null,null,null,{"$f":"SUMIF($G$19:$G$5015,$G236,$H$19:$H$5015)+SUMIF('2.bTë ardhura-jopublik-monetare'!$G$19:$G$1015,'2.cTë ardhura-jopublik-nënatyrë'!$G236,'2.bTë ardhura-jopublik-monetare'!$H$19:$H$1015)","v":0}]
[null,null,null,null,null,null,null,null,null,{"$f":"SUMIF($G$19:$G$5015,$G237,$H$19:$H$5015)+SUMIF('2.bTë ardhura-jopublik-monetare'!$G$19:$G$1015,'2.cTë ardhura-jopublik-nënatyrë'!$G237,'2.bTë ardhura-jopublik-monetare'!$H$19:$H$1015)","v":0}]
[null,null,null,null,null,null,null,null,null,{"$f":"SUMIF($G$19:$G$5015,$G238,$H$19:$H$5015)+SUMIF('2.bTë ardhura-jopublik-monetare'!$G$19:$G$1015,'2.cTë ardhura-jopublik-nënatyrë'!$G238,'2.bTë ardhura-jopublik-monetare'!$H$19:$H$1015)","v":0}]
[null,null,null,null,null,null,null,null,null,{"$f":"SUMIF($G$19:$G$5015,$G239,$H$19:$H$5015)+SUMIF('2.bTë ardhura-jopublik-monetare'!$G$19:$G$1015,'2.cTë ardhura-jopublik-nënatyrë'!$G239,'2.bTë ardhura-jopublik-monetare'!$H$19:$H$1015)","v":0}]
[null,null,null,null,null,null,null,null,null,{"$f":"SUMIF($G$19:$G$5015,$G240,$H$19:$H$5015)+SUMIF('2.bTë ardhura-jopublik-monetare'!$G$19:$G$1015,'2.cTë ardhura-jopublik-nënatyrë'!$G240,'2.bTë ardhura-jopublik-monetare'!$H$19:$H$1015)","v":0}]
[null,null,null,null,null,null,null,null,null,{"$f":"SUMIF($G$19:$G$5015,$G241,$H$19:$H$5015)+SUMIF('2.bTë ardhura-jopublik-monetare'!$G$19:$G$1015,'2.cTë ardhura-jopublik-nënatyrë'!$G241,'2.bTë ardhura-jopublik-monetare'!$H$19:$H$1015)","v":0}]
[null,null,null,null,null,null,null,null,null,{"$f":"SUMIF($G$19:$G$5015,$G242,$H$19:$H$5015)+SUMIF('2.bTë ardhura-jopublik-monetare'!$G$19:$G$1015,'2.cTë ardhura-jopublik-nënatyrë'!$G242,'2.bTë ardhura-jopublik-monetare'!$H$19:$H$1015)","v":0}]
[null,null,null,null,null,null,null,null,null,{"$f":"SUMIF($G$19:$G$5015,$G243,$H$19:$H$5015)+SUMIF('2.bTë ardhura-jopublik-monetare'!$G$19:$G$1015,'2.cTë ardhura-jopublik-nënatyrë'!$G243,'2.bTë ardhura-jopublik-monetare'!$H$19:$H$1015)","v":0}]
[null,null,null,null,null,null,null,null,null,{"$f":"SUMIF($G$19:$G$5015,$G244,$H$19:$H$5015)+SUMIF('2.bTë ardhura-jopublik-monetare'!$G$19:$G$1015,'2.cTë ardhura-jopublik-nënatyrë'!$G244,'2.bTë ardhura-jopublik-monetare'!$H$19:$H$1015)","v":0}]
[null,null,null,null,null,null,null,null,null,{"$f":"SUMIF($G$19:$G$5015,$G245,$H$19:$H$5015)+SUMIF('2.bTë ardhura-jopublik-monetare'!$G$19:$G$1015,'2.cTë ardhura-jopublik-nënatyrë'!$G245,'2.bTë ardhura-jopublik-monetare'!$H$19:$H$1015)","v":0}]
[null,null,null,null,null,null,null,null,null,{"$f":"SUMIF($G$19:$G$5015,$G246,$H$19:$H$5015)+SUMIF('2.bTë ardhura-jopublik-monetare'!$G$19:$G$1015,'2.cTë ardhura-jopublik-nënatyrë'!$G246,'2.bTë ardhura-jopublik-monetare'!$H$19:$H$1015)","v":0}]
[null,null,null,null,null,null,null,null,null,{"$f":"SUMIF($G$19:$G$5015,$G247,$H$19:$H$5015)+SUMIF('2.bTë ardhura-jopublik-monetare'!$G$19:$G$1015,'2.cTë ardhura-jopublik-nënatyrë'!$G247,'2.bTë ardhura-jopublik-monetare'!$H$19:$H$1015)","v":0}]
[null,null,null,null,null,null,null,null,null,{"$f":"SUMIF($G$19:$G$5015,$G248,$H$19:$H$5015)+SUMIF('2.bTë ardhura-jopublik-monetare'!$G$19:$G$1015,'2.cTë ardhura-jopublik-nënatyrë'!$G248,'2.bTë ardhura-jopublik-monetare'!$H$19:$H$1015)","v":0}]
[null,null,null,null,null,null,null,null,null,{"$f":"SUMIF($G$19:$G$5015,$G249,$H$19:$H$5015)+SUMIF('2.bTë ardhura-jopublik-monetare'!$G$19:$G$1015,'2.cTë ardhura-jopublik-nënatyrë'!$G249,'2.bTë ardhura-jopublik-monetare'!$H$19:$H$1015)","v":0}]
[null,null,null,null,null,null,null,null,null,{"$f":"SUMIF($G$19:$G$5015,$G250,$H$19:$H$5015)+SUMIF('2.bTë ardhura-jopublik-monetare'!$G$19:$G$1015,'2.cTë ardhura-jopublik-nënatyrë'!$G250,'2.bTë ardhura-jopublik-monetare'!$H$19:$H$1015)","v":0}]
[null,null,null,null,null,null,null,null,null,{"$f":"SUMIF($G$19:$G$5015,$G251,$H$19:$H$5015)+SUMIF('2.bTë ardhura-jopublik-monetare'!$G$19:$G$1015,'2.cTë ardhura-jopublik-nënatyrë'!$G251,'2.bTë ardhura-jopublik-monetare'!$H$19:$H$1015)","v":0}]
[null,null,null,null,null,null,null,null,null,{"$f":"SUMIF($G$19:$G$5015,$G252,$H$19:$H$5015)+SUMIF('2.bTë ardhura-jopublik-monetare'!$G$19:$G$1015,'2.cTë ardhura-jopublik-nënatyrë'!$G252,'2.bTë ardhura-jopublik-monetare'!$H$19:$H$1015)","v":0}]
[null,null,null,null,null,null,null,null,null,{"$f":"SUMIF($G$19:$G$5015,$G253,$H$19:$H$5015)+SUMIF('2.bTë ardhura-jopublik-monetare'!$G$19:$G$1015,'2.cTë ardhura-jopublik-nënatyrë'!$G253,'2.bTë ardhura-jopublik-monetare'!$H$19:$H$1015)","v":0}]
[null,null,null,null,null,null,null,null,null,{"$f":"SUMIF($G$19:$G$5015,$G254,$H$19:$H$5015)+SUMIF('2.bTë ardhura-jopublik-monetare'!$G$19:$G$1015,'2.cTë ardhura-jopublik-nënatyrë'!$G254,'2.bTë ardhura-jopublik-monetare'!$H$19:$H$1015)","v":0}]
[null,null,null,null,null,null,null,null,null,{"$f":"SUMIF($G$19:$G$5015,$G255,$H$19:$H$5015)+SUMIF('2.bTë ardhura-jopublik-monetare'!$G$19:$G$1015,'2.cTë ardhura-jopublik-nënatyrë'!$G255,'2.bTë ardhura-jopublik-monetare'!$H$19:$H$1015)","v":0}]
[null,null,null,null,null,null,null,null,null,{"$f":"SUMIF($G$19:$G$5015,$G256,$H$19:$H$5015)+SUMIF('2.bTë ardhura-jopublik-monetare'!$G$19:$G$1015,'2.cTë ardhura-jopublik-nënatyrë'!$G256,'2.bTë ardhura-jopublik-monetare'!$H$19:$H$1015)","v":0}]
[null,null,null,null,null,null,null,null,null,{"$f":"SUMIF($G$19:$G$5015,$G257,$H$19:$H$5015)+SUMIF('2.bTë ardhura-jopublik-monetare'!$G$19:$G$1015,'2.cTë ardhura-jopublik-nënatyrë'!$G257,'2.bTë ardhura-jopublik-monetare'!$H$19:$H$1015)","v":0}]
[null,null,null,null,null,null,null,null,null,{"$f":"SUMIF($G$19:$G$5015,$G258,$H$19:$H$5015)+SUMIF('2.bTë ardhura-jopublik-monetare'!$G$19:$G$1015,'2.cTë ardhura-jopublik-nënatyrë'!$G258,'2.bTë ardhura-jopublik-monetare'!$H$19:$H$1015)","v":0}]
[null,null,null,null,null,null,null,null,null,{"$f":"SUMIF($G$19:$G$5015,$G259,$H$19:$H$5015)+SUMIF('2.bTë ardhura-jopublik-monetare'!$G$19:$G$1015,'2.cTë ardhura-jopublik-nënatyrë'!$G259,'2.bTë ardhura-jopublik-monetare'!$H$19:$H$1015)","v":0}]
[null,null,null,null,null,null,null,null,null,{"$f":"SUMIF($G$19:$G$5015,$G260,$H$19:$H$5015)+SUMIF('2.bTë ardhura-jopublik-monetare'!$G$19:$G$1015,'2.cTë ardhura-jopublik-nënatyrë'!$G260,'2.bTë ardhura-jopublik-monetare'!$H$19:$H$1015)","v":0}]
[null,null,null,null,null,null,null,null,null,{"$f":"SUMIF($G$19:$G$5015,$G261,$H$19:$H$5015)+SUMIF('2.bTë ardhura-jopublik-monetare'!$G$19:$G$1015,'2.cTë ardhura-jopublik-nënatyrë'!$G261,'2.bTë ardhura-jopublik-monetare'!$H$19:$H$1015)","v":0}]
[null,null,null,null,null,null,null,null,null,{"$f":"SUMIF($G$19:$G$5015,$G262,$H$19:$H$5015)+SUMIF('2.bTë ardhura-jopublik-monetare'!$G$19:$G$1015,'2.cTë ardhura-jopublik-nënatyrë'!$G262,'2.bTë ardhura-jopublik-monetare'!$H$19:$H$1015)","v":0}]
[null,null,null,null,null,null,null,null,null,{"$f":"SUMIF($G$19:$G$5015,$G263,$H$19:$H$5015)+SUMIF('2.bTë ardhura-jopublik-monetare'!$G$19:$G$1015,'2.cTë ardhura-jopublik-nënatyrë'!$G263,'2.bTë ardhura-jopublik-monetare'!$H$19:$H$1015)","v":0}]
[null,null,null,null,null,null,null,null,null,{"$f":"SUMIF($G$19:$G$5015,$G264,$H$19:$H$5015)+SUMIF('2.bTë ardhura-jopublik-monetare'!$G$19:$G$1015,'2.cTë ardhura-jopublik-nënatyrë'!$G264,'2.bTë ardhura-jopublik-monetare'!$H$19:$H$1015)","v":0}]
[null,null,null,null,null,null,null,null,null,{"$f":"SUMIF($G$19:$G$5015,$G265,$H$19:$H$5015)+SUMIF('2.bTë ardhura-jopublik-monetare'!$G$19:$G$1015,'2.cTë ardhura-jopublik-nënatyrë'!$G265,'2.bTë ardhura-jopublik-monetare'!$H$19:$H$1015)","v":0}]
[null,null,null,null,null,null,null,null,null,{"$f":"SUMIF($G$19:$G$5015,$G266,$H$19:$H$5015)+SUMIF('2.bTë ardhura-jopublik-monetare'!$G$19:$G$1015,'2.cTë ardhura-jopublik-nënatyrë'!$G266,'2.bTë ardhura-jopublik-monetare'!$H$19:$H$1015)","v":0}]
[null,null,null,null,null,null,null,null,null,{"$f":"SUMIF($G$19:$G$5015,$G267,$H$19:$H$5015)+SUMIF('2.bTë ardhura-jopublik-monetare'!$G$19:$G$1015,'2.cTë ardhura-jopublik-nënatyrë'!$G267,'2.bTë ardhura-jopublik-monetare'!$H$19:$H$1015)","v":0}]
[null,null,null,null,null,null,null,null,null,{"$f":"SUMIF($G$19:$G$5015,$G268,$H$19:$H$5015)+SUMIF('2.bTë ardhura-jopublik-monetare'!$G$19:$G$1015,'2.cTë ardhura-jopublik-nënatyrë'!$G268,'2.bTë ardhura-jopublik-monetare'!$H$19:$H$1015)","v":0}]
[null,null,null,null,null,null,null,null,null,{"$f":"SUMIF($G$19:$G$5015,$G269,$H$19:$H$5015)+SUMIF('2.bTë ardhura-jopublik-monetare'!$G$19:$G$1015,'2.cTë ardhura-jopublik-nënatyrë'!$G269,'2.bTë ardhura-jopublik-monetare'!$H$19:$H$1015)","v":0}]
[null,null,null,null,null,null,null,null,null,{"$f":"SUMIF($G$19:$G$5015,$G270,$H$19:$H$5015)+SUMIF('2.bTë ardhura-jopublik-monetare'!$G$19:$G$1015,'2.cTë ardhura-jopublik-nënatyrë'!$G270,'2.bTë ardhura-jopublik-monetare'!$H$19:$H$1015)","v":0}]
[null,null,null,null,null,null,null,null,null,{"$f":"SUMIF($G$19:$G$5015,$G271,$H$19:$H$5015)+SUMIF('2.bTë ardhura-jopublik-monetare'!$G$19:$G$1015,'2.cTë ardhura-jopublik-nënatyrë'!$G271,'2.bTë ardhura-jopublik-monetare'!$H$19:$H$1015)","v":0}]
[null,null,null,null,null,null,null,null,null,{"$f":"SUMIF($G$19:$G$5015,$G272,$H$19:$H$5015)+SUMIF('2.bTë ardhura-jopublik-monetare'!$G$19:$G$1015,'2.cTë ardhura-jopublik-nënatyrë'!$G272,'2.bTë ardhura-jopublik-monetare'!$H$19:$H$1015)","v":0}]
[null,null,null,null,null,null,null,null,null,{"$f":"SUMIF($G$19:$G$5015,$G273,$H$19:$H$5015)+SUMIF('2.bTë ardhura-jopublik-monetare'!$G$19:$G$1015,'2.cTë ardhura-jopublik-nënatyrë'!$G273,'2.bTë ardhura-jopublik-monetare'!$H$19:$H$1015)","v":0}]
[null,null,null,null,null,null,null,null,null,{"$f":"SUMIF($G$19:$G$5015,$G274,$H$19:$H$5015)+SUMIF('2.bTë ardhura-jopublik-monetare'!$G$19:$G$1015,'2.cTë ardhura-jopublik-nënatyrë'!$G274,'2.bTë ardhura-jopublik-monetare'!$H$19:$H$1015)","v":0}]
[null,null,null,null,null,null,null,null,null,{"$f":"SUMIF($G$19:$G$5015,$G275,$H$19:$H$5015)+SUMIF('2.bTë ardhura-jopublik-monetare'!$G$19:$G$1015,'2.cTë ardhura-jopublik-nënatyrë'!$G275,'2.bTë ardhura-jopublik-monetare'!$H$19:$H$1015)","v":0}]
[null,null,null,null,null,null,null,null,null,{"$f":"SUMIF($G$19:$G$5015,$G276,$H$19:$H$5015)+SUMIF('2.bTë ardhura-jopublik-monetare'!$G$19:$G$1015,'2.cTë ardhura-jopublik-nënatyrë'!$G276,'2.bTë ardhura-jopublik-monetare'!$H$19:$H$1015)","v":0}]
[null,null,null,null,null,null,null,null,null,{"$f":"SUMIF($G$19:$G$5015,$G277,$H$19:$H$5015)+SUMIF('2.bTë ardhura-jopublik-monetare'!$G$19:$G$1015,'2.cTë ardhura-jopublik-nënatyrë'!$G277,'2.bTë ardhura-jopublik-monetare'!$H$19:$H$1015)","v":0}]
[null,null,null,null,null,null,null,null,null,{"$f":"SUMIF($G$19:$G$5015,$G278,$H$19:$H$5015)+SUMIF('2.bTë ardhura-jopublik-monetare'!$G$19:$G$1015,'2.cTë ardhura-jopublik-nënatyrë'!$G278,'2.bTë ardhura-jopublik-monetare'!$H$19:$H$1015)","v":0}]
[null,null,null,null,null,null,null,null,null,{"$f":"SUMIF($G$19:$G$5015,$G279,$H$19:$H$5015)+SUMIF('2.bTë ardhura-jopublik-monetare'!$G$19:$G$1015,'2.cTë ardhura-jopublik-nënatyrë'!$G279,'2.bTë ardhura-jopublik-monetare'!$H$19:$H$1015)","v":0}]
[null,null,null,null,null,null,null,null,null,{"$f":"SUMIF($G$19:$G$5015,$G280,$H$19:$H$5015)+SUMIF('2.bTë ardhura-jopublik-monetare'!$G$19:$G$1015,'2.cTë ardhura-jopublik-nënatyrë'!$G280,'2.bTë ardhura-jopublik-monetare'!$H$19:$H$1015)","v":0}]
[null,null,null,null,null,null,null,null,null,{"$f":"SUMIF($G$19:$G$5015,$G281,$H$19:$H$5015)+SUMIF('2.bTë ardhura-jopublik-monetare'!$G$19:$G$1015,'2.cTë ardhura-jopublik-nënatyrë'!$G281,'2.bTë ardhura-jopublik-monetare'!$H$19:$H$1015)","v":0}]
[null,null,null,null,null,null,null,null,null,{"$f":"SUMIF($G$19:$G$5015,$G282,$H$19:$H$5015)+SUMIF('2.bTë ardhura-jopublik-monetare'!$G$19:$G$1015,'2.cTë ardhura-jopublik-nënatyrë'!$G282,'2.bTë ardhura-jopublik-monetare'!$H$19:$H$1015)","v":0}]
[null,null,null,null,null,null,null,null,null,{"$f":"SUMIF($G$19:$G$5015,$G283,$H$19:$H$5015)+SUMIF('2.bTë ardhura-jopublik-monetare'!$G$19:$G$1015,'2.cTë ardhura-jopublik-nënatyrë'!$G283,'2.bTë ardhura-jopublik-monetare'!$H$19:$H$1015)","v":0}]
[null,null,null,null,null,null,null,null,null,{"$f":"SUMIF($G$19:$G$5015,$G284,$H$19:$H$5015)+SUMIF('2.bTë ardhura-jopublik-monetare'!$G$19:$G$1015,'2.cTë ardhura-jopublik-nënatyrë'!$G284,'2.bTë ardhura-jopublik-monetare'!$H$19:$H$1015)","v":0}]
[null,null,null,null,null,null,null,null,null,{"$f":"SUMIF($G$19:$G$5015,$G285,$H$19:$H$5015)+SUMIF('2.bTë ardhura-jopublik-monetare'!$G$19:$G$1015,'2.cTë ardhura-jopublik-nënatyrë'!$G285,'2.bTë ardhura-jopublik-monetare'!$H$19:$H$1015)","v":0}]
[null,null,null,null,null,null,null,null,null,{"$f":"SUMIF($G$19:$G$5015,$G286,$H$19:$H$5015)+SUMIF('2.bTë ardhura-jopublik-monetare'!$G$19:$G$1015,'2.cTë ardhura-jopublik-nënatyrë'!$G286,'2.bTë ardhura-jopublik-monetare'!$H$19:$H$1015)","v":0}]
[null,null,null,null,null,null,null,null,null,{"$f":"SUMIF($G$19:$G$5015,$G287,$H$19:$H$5015)+SUMIF('2.bTë ardhura-jopublik-monetare'!$G$19:$G$1015,'2.cTë ardhura-jopublik-nënatyrë'!$G287,'2.bTë ardhura-jopublik-monetare'!$H$19:$H$1015)","v":0}]
[null,null,null,null,null,null,null,null,null,{"$f":"SUMIF($G$19:$G$5015,$G288,$H$19:$H$5015)+SUMIF('2.bTë ardhura-jopublik-monetare'!$G$19:$G$1015,'2.cTë ardhura-jopublik-nënatyrë'!$G288,'2.bTë ardhura-jopublik-monetare'!$H$19:$H$1015)","v":0}]
[null,null,null,null,null,null,null,null,null,{"$f":"SUMIF($G$19:$G$5015,$G289,$H$19:$H$5015)+SUMIF('2.bTë ardhura-jopublik-monetare'!$G$19:$G$1015,'2.cTë ardhura-jopublik-nënatyrë'!$G289,'2.bTë ardhura-jopublik-monetare'!$H$19:$H$1015)","v":0}]
[null,null,null,null,null,null,null,null,null,{"$f":"SUMIF($G$19:$G$5015,$G290,$H$19:$H$5015)+SUMIF('2.bTë ardhura-jopublik-monetare'!$G$19:$G$1015,'2.cTë ardhura-jopublik-nënatyrë'!$G290,'2.bTë ardhura-jopublik-monetare'!$H$19:$H$1015)","v":0}]
[null,null,null,null,null,null,null,null,null,{"$f":"SUMIF($G$19:$G$5015,$G291,$H$19:$H$5015)+SUMIF('2.bTë ardhura-jopublik-monetare'!$G$19:$G$1015,'2.cTë ardhura-jopublik-nënatyrë'!$G291,'2.bTë ardhura-jopublik-monetare'!$H$19:$H$1015)","v":0}]
[null,null,null,null,null,null,null,null,null,{"$f":"SUMIF($G$19:$G$5015,$G292,$H$19:$H$5015)+SUMIF('2.bTë ardhura-jopublik-monetare'!$G$19:$G$1015,'2.cTë ardhura-jopublik-nënatyrë'!$G292,'2.bTë ardhura-jopublik-monetare'!$H$19:$H$1015)","v":0}]
[null,null,null,null,null,null,null,null,null,{"$f":"SUMIF($G$19:$G$5015,$G293,$H$19:$H$5015)+SUMIF('2.bTë ardhura-jopublik-monetare'!$G$19:$G$1015,'2.cTë ardhura-jopublik-nënatyrë'!$G293,'2.bTë ardhura-jopublik-monetare'!$H$19:$H$1015)","v":0}]
[null,null,null,null,null,null,null,null,null,{"$f":"SUMIF($G$19:$G$5015,$G294,$H$19:$H$5015)+SUMIF('2.bTë ardhura-jopublik-monetare'!$G$19:$G$1015,'2.cTë ardhura-jopublik-nënatyrë'!$G294,'2.bTë ardhura-jopublik-monetare'!$H$19:$H$1015)","v":0}]
[null,null,null,null,null,null,null,null,null,{"$f":"SUMIF($G$19:$G$5015,$G295,$H$19:$H$5015)+SUMIF('2.bTë ardhura-jopublik-monetare'!$G$19:$G$1015,'2.cTë ardhura-jopublik-nënatyrë'!$G295,'2.bTë ardhura-jopublik-monetare'!$H$19:$H$1015)","v":0}]
[null,null,null,null,null,null,null,null,null,{"$f":"SUMIF($G$19:$G$5015,$G296,$H$19:$H$5015)+SUMIF('2.bTë ardhura-jopublik-monetare'!$G$19:$G$1015,'2.cTë ardhura-jopublik-nënatyrë'!$G296,'2.bTë ardhura-jopublik-monetare'!$H$19:$H$1015)","v":0}]
[null,null,null,null,null,null,null,null,null,{"$f":"SUMIF($G$19:$G$5015,$G297,$H$19:$H$5015)+SUMIF('2.bTë ardhura-jopublik-monetare'!$G$19:$G$1015,'2.cTë ardhura-jopublik-nënatyrë'!$G297,'2.bTë ardhura-jopublik-monetare'!$H$19:$H$1015)","v":0}]
[null,null,null,null,null,null,null,null,null,{"$f":"SUMIF($G$19:$G$5015,$G298,$H$19:$H$5015)+SUMIF('2.bTë ardhura-jopublik-monetare'!$G$19:$G$1015,'2.cTë ardhura-jopublik-nënatyrë'!$G298,'2.bTë ardhura-jopublik-monetare'!$H$19:$H$1015)","v":0}]
[null,null,null,null,null,null,null,null,null,{"$f":"SUMIF($G$19:$G$5015,$G299,$H$19:$H$5015)+SUMIF('2.bTë ardhura-jopublik-monetare'!$G$19:$G$1015,'2.cTë ardhura-jopublik-nënatyrë'!$G299,'2.bTë ardhura-jopublik-monetare'!$H$19:$H$1015)","v":0}]
[null,null,null,null,null,null,null,null,null,{"$f":"SUMIF($G$19:$G$5015,$G300,$H$19:$H$5015)+SUMIF('2.bTë ardhura-jopublik-monetare'!$G$19:$G$1015,'2.cTë ardhura-jopublik-nënatyrë'!$G300,'2.bTë ardhura-jopublik-monetare'!$H$19:$H$1015)","v":0}]
[null,null,null,null,null,null,null,null,null,{"$f":"SUMIF($G$19:$G$5015,$G301,$H$19:$H$5015)+SUMIF('2.bTë ardhura-jopublik-monetare'!$G$19:$G$1015,'2.cTë ardhura-jopublik-nënatyrë'!$G301,'2.bTë ardhura-jopublik-monetare'!$H$19:$H$1015)","v":0}]
[null,null,null,null,null,null,null,null,null,{"$f":"SUMIF($G$19:$G$5015,$G302,$H$19:$H$5015)+SUMIF('2.bTë ardhura-jopublik-monetare'!$G$19:$G$1015,'2.cTë ardhura-jopublik-nënatyrë'!$G302,'2.bTë ardhura-jopublik-monetare'!$H$19:$H$1015)","v":0}]
[null,null,null,null,null,null,null,null,null,{"$f":"SUMIF($G$19:$G$5015,$G303,$H$19:$H$5015)+SUMIF('2.bTë ardhura-jopublik-monetare'!$G$19:$G$1015,'2.cTë ardhura-jopublik-nënatyrë'!$G303,'2.bTë ardhura-jopublik-monetare'!$H$19:$H$1015)","v":0}]
[null,null,null,null,null,null,null,null,null,{"$f":"SUMIF($G$19:$G$5015,$G304,$H$19:$H$5015)+SUMIF('2.bTë ardhura-jopublik-monetare'!$G$19:$G$1015,'2.cTë ardhura-jopublik-nënatyrë'!$G304,'2.bTë ardhura-jopublik-monetare'!$H$19:$H$1015)","v":0}]
[null,null,null,null,null,null,null,null,null,{"$f":"SUMIF($G$19:$G$5015,$G305,$H$19:$H$5015)+SUMIF('2.bTë ardhura-jopublik-monetare'!$G$19:$G$1015,'2.cTë ardhura-jopublik-nënatyrë'!$G305,'2.bTë ardhura-jopublik-monetare'!$H$19:$H$1015)","v":0}]
[null,null,null,null,null,null,null,null,null,{"$f":"SUMIF($G$19:$G$5015,$G306,$H$19:$H$5015)+SUMIF('2.bTë ardhura-jopublik-monetare'!$G$19:$G$1015,'2.cTë ardhura-jopublik-nënatyrë'!$G306,'2.bTë ardhura-jopublik-monetare'!$H$19:$H$1015)","v":0}]
[null,null,null,null,null,null,null,null,null,{"$f":"SUMIF($G$19:$G$5015,$G307,$H$19:$H$5015)+SUMIF('2.bTë ardhura-jopublik-monetare'!$G$19:$G$1015,'2.cTë ardhura-jopublik-nënatyrë'!$G307,'2.bTë ardhura-jopublik-monetare'!$H$19:$H$1015)","v":0}]
[null,null,null,null,null,null,null,null,null,{"$f":"SUMIF($G$19:$G$5015,$G308,$H$19:$H$5015)+SUMIF('2.bTë ardhura-jopublik-monetare'!$G$19:$G$1015,'2.cTë ardhura-jopublik-nënatyrë'!$G308,'2.bTë ardhura-jopublik-monetare'!$H$19:$H$1015)","v":0}]
[null,null,null,null,null,null,null,null,null,{"$f":"SUMIF($G$19:$G$5015,$G309,$H$19:$H$5015)+SUMIF('2.bTë ardhura-jopublik-monetare'!$G$19:$G$1015,'2.cTë ardhura-jopublik-nënatyrë'!$G309,'2.bTë ardhura-jopublik-monetare'!$H$19:$H$1015)","v":0}]
[null,null,null,null,null,null,null,null,null,{"$f":"SUMIF($G$19:$G$5015,$G310,$H$19:$H$5015)+SUMIF('2.bTë ardhura-jopublik-monetare'!$G$19:$G$1015,'2.cTë ardhura-jopublik-nënatyrë'!$G310,'2.bTë ardhura-jopublik-monetare'!$H$19:$H$1015)","v":0}]
[null,null,null,null,null,null,null,null,null,{"$f":"SUMIF($G$19:$G$5015,$G311,$H$19:$H$5015)+SUMIF('2.bTë ardhura-jopublik-monetare'!$G$19:$G$1015,'2.cTë ardhura-jopublik-nënatyrë'!$G311,'2.bTë ardhura-jopublik-monetare'!$H$19:$H$1015)","v":0}]
[null,null,null,null,null,null,null,null,null,{"$f":"SUMIF($G$19:$G$5015,$G312,$H$19:$H$5015)+SUMIF('2.bTë ardhura-jopublik-monetare'!$G$19:$G$1015,'2.cTë ardhura-jopublik-nënatyrë'!$G312,'2.bTë ardhura-jopublik-monetare'!$H$19:$H$1015)","v":0}]
[null,null,null,null,null,null,null,null,null,{"$f":"SUMIF($G$19:$G$5015,$G313,$H$19:$H$5015)+SUMIF('2.bTë ardhura-jopublik-monetare'!$G$19:$G$1015,'2.cTë ardhura-jopublik-nënatyrë'!$G313,'2.bTë ardhura-jopublik-monetare'!$H$19:$H$1015)","v":0}]
[null,null,null,null,null,null,null,null,null,{"$f":"SUMIF($G$19:$G$5015,$G314,$H$19:$H$5015)+SUMIF('2.bTë ardhura-jopublik-monetare'!$G$19:$G$1015,'2.cTë ardhura-jopublik-nënatyrë'!$G314,'2.bTë ardhura-jopublik-monetare'!$H$19:$H$1015)","v":0}]
[null,null,null,null,null,null,null,null,null,{"$f":"SUMIF($G$19:$G$5015,$G315,$H$19:$H$5015)+SUMIF('2.bTë ardhura-jopublik-monetare'!$G$19:$G$1015,'2.cTë ardhura-jopublik-nënatyrë'!$G315,'2.bTë ardhura-jopublik-monetare'!$H$19:$H$1015)","v":0}]
[null,null,null,null,null,null,null,null,null,{"$f":"SUMIF($G$19:$G$5015,$G316,$H$19:$H$5015)+SUMIF('2.bTë ardhura-jopublik-monetare'!$G$19:$G$1015,'2.cTë ardhura-jopublik-nënatyrë'!$G316,'2.bTë ardhura-jopublik-monetare'!$H$19:$H$1015)","v":0}]
[null,null,null,null,null,null,null,null,null,{"$f":"SUMIF($G$19:$G$5015,$G317,$H$19:$H$5015)+SUMIF('2.bTë ardhura-jopublik-monetare'!$G$19:$G$1015,'2.cTë ardhura-jopublik-nënatyrë'!$G317,'2.bTë ardhura-jopublik-monetare'!$H$19:$H$1015)","v":0}]
[null,null,null,null,null,null,null,null,null,{"$f":"SUMIF($G$19:$G$5015,$G318,$H$19:$H$5015)+SUMIF('2.bTë ardhura-jopublik-monetare'!$G$19:$G$1015,'2.cTë ardhura-jopublik-nënatyrë'!$G318,'2.bTë ardhura-jopublik-monetare'!$H$19:$H$1015)","v":0}]
[null,null,null,null,null,null,null,null,null,{"$f":"SUMIF($G$19:$G$5015,$G319,$H$19:$H$5015)+SUMIF('2.bTë ardhura-jopublik-monetare'!$G$19:$G$1015,'2.cTë ardhura-jopublik-nënatyrë'!$G319,'2.bTë ardhura-jopublik-monetare'!$H$19:$H$1015)","v":0}]
[null,null,null,null,null,null,null,null,null,{"$f":"SUMIF($G$19:$G$5015,$G320,$H$19:$H$5015)+SUMIF('2.bTë ardhura-jopublik-monetare'!$G$19:$G$1015,'2.cTë ardhura-jopublik-nënatyrë'!$G320,'2.bTë ardhura-jopublik-monetare'!$H$19:$H$1015)","v":0}]
[null,null,null,null,null,null,null,null,null,{"$f":"SUMIF($G$19:$G$5015,$G321,$H$19:$H$5015)+SUMIF('2.bTë ardhura-jopublik-monetare'!$G$19:$G$1015,'2.cTë ardhura-jopublik-nënatyrë'!$G321,'2.bTë ardhura-jopublik-monetare'!$H$19:$H$1015)","v":0}]
[null,null,null,null,null,null,null,null,null,{"$f":"SUMIF($G$19:$G$5015,$G322,$H$19:$H$5015)+SUMIF('2.bTë ardhura-jopublik-monetare'!$G$19:$G$1015,'2.cTë ardhura-jopublik-nënatyrë'!$G322,'2.bTë ardhura-jopublik-monetare'!$H$19:$H$1015)","v":0}]
[null,null,null,null,null,null,null,null,null,{"$f":"SUMIF($G$19:$G$5015,$G323,$H$19:$H$5015)+SUMIF('2.bTë ardhura-jopublik-monetare'!$G$19:$G$1015,'2.cTë ardhura-jopublik-nënatyrë'!$G323,'2.bTë ardhura-jopublik-monetare'!$H$19:$H$1015)","v":0}]
[null,null,null,null,null,null,null,null,null,{"$f":"SUMIF($G$19:$G$5015,$G324,$H$19:$H$5015)+SUMIF('2.bTë ardhura-jopublik-monetare'!$G$19:$G$1015,'2.cTë ardhura-jopublik-nënatyrë'!$G324,'2.bTë ardhura-jopublik-monetare'!$H$19:$H$1015)","v":0}]
[null,null,null,null,null,null,null,null,null,{"$f":"SUMIF($G$19:$G$5015,$G325,$H$19:$H$5015)+SUMIF('2.bTë ardhura-jopublik-monetare'!$G$19:$G$1015,'2.cTë ardhura-jopublik-nënatyrë'!$G325,'2.bTë ardhura-jopublik-monetare'!$H$19:$H$1015)","v":0}]
[null,null,null,null,null,null,null,null,null,{"$f":"SUMIF($G$19:$G$5015,$G326,$H$19:$H$5015)+SUMIF('2.bTë ardhura-jopublik-monetare'!$G$19:$G$1015,'2.cTë ardhura-jopublik-nënatyrë'!$G326,'2.bTë ardhura-jopublik-monetare'!$H$19:$H$1015)","v":0}]
[null,null,null,null,null,null,null,null,null,{"$f":"SUMIF($G$19:$G$5015,$G327,$H$19:$H$5015)+SUMIF('2.bTë ardhura-jopublik-monetare'!$G$19:$G$1015,'2.cTë ardhura-jopublik-nënatyrë'!$G327,'2.bTë ardhura-jopublik-monetare'!$H$19:$H$1015)","v":0}]
[null,null,null,null,null,null,null,null,null,{"$f":"SUMIF($G$19:$G$5015,$G328,$H$19:$H$5015)+SUMIF('2.bTë ardhura-jopublik-monetare'!$G$19:$G$1015,'2.cTë ardhura-jopublik-nënatyrë'!$G328,'2.bTë ardhura-jopublik-monetare'!$H$19:$H$1015)","v":0}]
[null,null,null,null,null,null,null,null,null,{"$f":"SUMIF($G$19:$G$5015,$G329,$H$19:$H$5015)+SUMIF('2.bTë ardhura-jopublik-monetare'!$G$19:$G$1015,'2.cTë ardhura-jopublik-nënatyrë'!$G329,'2.bTë ardhura-jopublik-monetare'!$H$19:$H$1015)","v":0}]
[null,null,null,null,null,null,null,null,null,{"$f":"SUMIF($G$19:$G$5015,$G330,$H$19:$H$5015)+SUMIF('2.bTë ardhura-jopublik-monetare'!$G$19:$G$1015,'2.cTë ardhura-jopublik-nënatyrë'!$G330,'2.bTë ardhura-jopublik-monetare'!$H$19:$H$1015)","v":0}]
[null,null,null,null,null,null,null,null,null,{"$f":"SUMIF($G$19:$G$5015,$G331,$H$19:$H$5015)+SUMIF('2.bTë ardhura-jopublik-monetare'!$G$19:$G$1015,'2.cTë ardhura-jopublik-nënatyrë'!$G331,'2.bTë ardhura-jopublik-monetare'!$H$19:$H$1015)","v":0}]
[null,null,null,null,null,null,null,null,null,{"$f":"SUMIF($G$19:$G$5015,$G332,$H$19:$H$5015)+SUMIF('2.bTë ardhura-jopublik-monetare'!$G$19:$G$1015,'2.cTë ardhura-jopublik-nënatyrë'!$G332,'2.bTë ardhura-jopublik-monetare'!$H$19:$H$1015)","v":0}]
[null,null,null,null,null,null,null,null,null,{"$f":"SUMIF($G$19:$G$5015,$G333,$H$19:$H$5015)+SUMIF('2.bTë ardhura-jopublik-monetare'!$G$19:$G$1015,'2.cTë ardhura-jopublik-nënatyrë'!$G333,'2.bTë ardhura-jopublik-monetare'!$H$19:$H$1015)","v":0}]
[null,null,null,null,null,null,null,null,null,{"$f":"SUMIF($G$19:$G$5015,$G334,$H$19:$H$5015)+SUMIF('2.bTë ardhura-jopublik-monetare'!$G$19:$G$1015,'2.cTë ardhura-jopublik-nënatyrë'!$G334,'2.bTë ardhura-jopublik-monetare'!$H$19:$H$1015)","v":0}]
[null,null,null,null,null,null,null,null,null,{"$f":"SUMIF($G$19:$G$5015,$G335,$H$19:$H$5015)+SUMIF('2.bTë ardhura-jopublik-monetare'!$G$19:$G$1015,'2.cTë ardhura-jopublik-nënatyrë'!$G335,'2.bTë ardhura-jopublik-monetare'!$H$19:$H$1015)","v":0}]
[null,null,null,null,null,null,null,null,null,{"$f":"SUMIF($G$19:$G$5015,$G336,$H$19:$H$5015)+SUMIF('2.bTë ardhura-jopublik-monetare'!$G$19:$G$1015,'2.cTë ardhura-jopublik-nënatyrë'!$G336,'2.bTë ardhura-jopublik-monetare'!$H$19:$H$1015)","v":0}]
[null,null,null,null,null,null,null,null,null,{"$f":"SUMIF($G$19:$G$5015,$G337,$H$19:$H$5015)+SUMIF('2.bTë ardhura-jopublik-monetare'!$G$19:$G$1015,'2.cTë ardhura-jopublik-nënatyrë'!$G337,'2.bTë ardhura-jopublik-monetare'!$H$19:$H$1015)","v":0}]
[null,null,null,null,null,null,null,null,null,{"$f":"SUMIF($G$19:$G$5015,$G338,$H$19:$H$5015)+SUMIF('2.bTë ardhura-jopublik-monetare'!$G$19:$G$1015,'2.cTë ardhura-jopublik-nënatyrë'!$G338,'2.bTë ardhura-jopublik-monetare'!$H$19:$H$1015)","v":0}]
[null,null,null,null,null,null,null,null,null,{"$f":"SUMIF($G$19:$G$5015,$G339,$H$19:$H$5015)+SUMIF('2.bTë ardhura-jopublik-monetare'!$G$19:$G$1015,'2.cTë ardhura-jopublik-nënatyrë'!$G339,'2.bTë ardhura-jopublik-monetare'!$H$19:$H$1015)","v":0}]
[null,null,null,null,null,null,null,null,null,{"$f":"SUMIF($G$19:$G$5015,$G340,$H$19:$H$5015)+SUMIF('2.bTë ardhura-jopublik-monetare'!$G$19:$G$1015,'2.cTë ardhura-jopublik-nënatyrë'!$G340,'2.bTë ardhura-jopublik-monetare'!$H$19:$H$1015)","v":0}]
[null,null,null,null,null,null,null,null,null,{"$f":"SUMIF($G$19:$G$5015,$G341,$H$19:$H$5015)+SUMIF('2.bTë ardhura-jopublik-monetare'!$G$19:$G$1015,'2.cTë ardhura-jopublik-nënatyrë'!$G341,'2.bTë ardhura-jopublik-monetare'!$H$19:$H$1015)","v":0}]
[null,null,null,null,null,null,null,null,null,{"$f":"SUMIF($G$19:$G$5015,$G342,$H$19:$H$5015)+SUMIF('2.bTë ardhura-jopublik-monetare'!$G$19:$G$1015,'2.cTë ardhura-jopublik-nënatyrë'!$G342,'2.bTë ardhura-jopublik-monetare'!$H$19:$H$1015)","v":0}]
[null,null,null,null,null,null,null,null,null,{"$f":"SUMIF($G$19:$G$5015,$G343,$H$19:$H$5015)+SUMIF('2.bTë ardhura-jopublik-monetare'!$G$19:$G$1015,'2.cTë ardhura-jopublik-nënatyrë'!$G343,'2.bTë ardhura-jopublik-monetare'!$H$19:$H$1015)","v":0}]
[null,null,null,null,null,null,null,null,null,{"$f":"SUMIF($G$19:$G$5015,$G344,$H$19:$H$5015)+SUMIF('2.bTë ardhura-jopublik-monetare'!$G$19:$G$1015,'2.cTë ardhura-jopublik-nënatyrë'!$G344,'2.bTë ardhura-jopublik-monetare'!$H$19:$H$1015)","v":0}]
[null,null,null,null,null,null,null,null,null,{"$f":"SUMIF($G$19:$G$5015,$G345,$H$19:$H$5015)+SUMIF('2.bTë ardhura-jopublik-monetare'!$G$19:$G$1015,'2.cTë ardhura-jopublik-nënatyrë'!$G345,'2.bTë ardhura-jopublik-monetare'!$H$19:$H$1015)","v":0}]
[null,null,null,null,null,null,null,null,null,{"$f":"SUMIF($G$19:$G$5015,$G346,$H$19:$H$5015)+SUMIF('2.bTë ardhura-jopublik-monetare'!$G$19:$G$1015,'2.cTë ardhura-jopublik-nënatyrë'!$G346,'2.bTë ardhura-jopublik-monetare'!$H$19:$H$1015)","v":0}]
[null,null,null,null,null,null,null,null,null,{"$f":"SUMIF($G$19:$G$5015,$G347,$H$19:$H$5015)+SUMIF('2.bTë ardhura-jopublik-monetare'!$G$19:$G$1015,'2.cTë ardhura-jopublik-nënatyrë'!$G347,'2.bTë ardhura-jopublik-monetare'!$H$19:$H$1015)","v":0}]
[null,null,null,null,null,null,null,null,null,{"$f":"SUMIF($G$19:$G$5015,$G348,$H$19:$H$5015)+SUMIF('2.bTë ardhura-jopublik-monetare'!$G$19:$G$1015,'2.cTë ardhura-jopublik-nënatyrë'!$G348,'2.bTë ardhura-jopublik-monetare'!$H$19:$H$1015)","v":0}]
[null,null,null,null,null,null,null,null,null,{"$f":"SUMIF($G$19:$G$5015,$G349,$H$19:$H$5015)+SUMIF('2.bTë ardhura-jopublik-monetare'!$G$19:$G$1015,'2.cTë ardhura-jopublik-nënatyrë'!$G349,'2.bTë ardhura-jopublik-monetare'!$H$19:$H$1015)","v":0}]
[null,null,null,null,null,null,null,null,null,{"$f":"SUMIF($G$19:$G$5015,$G350,$H$19:$H$5015)+SUMIF('2.bTë ardhura-jopublik-monetare'!$G$19:$G$1015,'2.cTë ardhura-jopublik-nënatyrë'!$G350,'2.bTë ardhura-jopublik-monetare'!$H$19:$H$1015)","v":0}]
[null,null,null,null,null,null,null,null,null,{"$f":"SUMIF($G$19:$G$5015,$G351,$H$19:$H$5015)+SUMIF('2.bTë ardhura-jopublik-monetare'!$G$19:$G$1015,'2.cTë ardhura-jopublik-nënatyrë'!$G351,'2.bTë ardhura-jopublik-monetare'!$H$19:$H$1015)","v":0}]
[null,null,null,null,null,null,null,null,null,{"$f":"SUMIF($G$19:$G$5015,$G352,$H$19:$H$5015)+SUMIF('2.bTë ardhura-jopublik-monetare'!$G$19:$G$1015,'2.cTë ardhura-jopublik-nënatyrë'!$G352,'2.bTë ardhura-jopublik-monetare'!$H$19:$H$1015)","v":0}]
[null,null,null,null,null,null,null,null,null,{"$f":"SUMIF($G$19:$G$5015,$G353,$H$19:$H$5015)+SUMIF('2.bTë ardhura-jopublik-monetare'!$G$19:$G$1015,'2.cTë ardhura-jopublik-nënatyrë'!$G353,'2.bTë ardhura-jopublik-monetare'!$H$19:$H$1015)","v":0}]
[null,null,null,null,null,null,null,null,null,{"$f":"SUMIF($G$19:$G$5015,$G354,$H$19:$H$5015)+SUMIF('2.bTë ardhura-jopublik-monetare'!$G$19:$G$1015,'2.cTë ardhura-jopublik-nënatyrë'!$G354,'2.bTë ardhura-jopublik-monetare'!$H$19:$H$1015)","v":0}]
[null,null,null,null,null,null,null,null,null,{"$f":"SUMIF($G$19:$G$5015,$G355,$H$19:$H$5015)+SUMIF('2.bTë ardhura-jopublik-monetare'!$G$19:$G$1015,'2.cTë ardhura-jopublik-nënatyrë'!$G355,'2.bTë ardhura-jopublik-monetare'!$H$19:$H$1015)","v":0}]
[null,null,null,null,null,null,null,null,null,{"$f":"SUMIF($G$19:$G$5015,$G356,$H$19:$H$5015)+SUMIF('2.bTë ardhura-jopublik-monetare'!$G$19:$G$1015,'2.cTë ardhura-jopublik-nënatyrë'!$G356,'2.bTë ardhura-jopublik-monetare'!$H$19:$H$1015)","v":0}]
[null,null,null,null,null,null,null,null,null,{"$f":"SUMIF($G$19:$G$5015,$G357,$H$19:$H$5015)+SUMIF('2.bTë ardhura-jopublik-monetare'!$G$19:$G$1015,'2.cTë ardhura-jopublik-nënatyrë'!$G357,'2.bTë ardhura-jopublik-monetare'!$H$19:$H$1015)","v":0}]
[null,null,null,null,null,null,null,null,null,{"$f":"SUMIF($G$19:$G$5015,$G358,$H$19:$H$5015)+SUMIF('2.bTë ardhura-jopublik-monetare'!$G$19:$G$1015,'2.cTë ardhura-jopublik-nënatyrë'!$G358,'2.bTë ardhura-jopublik-monetare'!$H$19:$H$1015)","v":0}]
[null,null,null,null,null,null,null,null,null,{"$f":"SUMIF($G$19:$G$5015,$G359,$H$19:$H$5015)+SUMIF('2.bTë ardhura-jopublik-monetare'!$G$19:$G$1015,'2.cTë ardhura-jopublik-nënatyrë'!$G359,'2.bTë ardhura-jopublik-monetare'!$H$19:$H$1015)","v":0}]
[null,null,null,null,null,null,null,null,null,{"$f":"SUMIF($G$19:$G$5015,$G360,$H$19:$H$5015)+SUMIF('2.bTë ardhura-jopublik-monetare'!$G$19:$G$1015,'2.cTë ardhura-jopublik-nënatyrë'!$G360,'2.bTë ardhura-jopublik-monetare'!$H$19:$H$1015)","v":0}]
[null,null,null,null,null,null,null,null,null,{"$f":"SUMIF($G$19:$G$5015,$G361,$H$19:$H$5015)+SUMIF('2.bTë ardhura-jopublik-monetare'!$G$19:$G$1015,'2.cTë ardhura-jopublik-nënatyrë'!$G361,'2.bTë ardhura-jopublik-monetare'!$H$19:$H$1015)","v":0}]
[null,null,null,null,null,null,null,null,null,{"$f":"SUMIF($G$19:$G$5015,$G362,$H$19:$H$5015)+SUMIF('2.bTë ardhura-jopublik-monetare'!$G$19:$G$1015,'2.cTë ardhura-jopublik-nënatyrë'!$G362,'2.bTë ardhura-jopublik-monetare'!$H$19:$H$1015)","v":0}]
[null,null,null,null,null,null,null,null,null,{"$f":"SUMIF($G$19:$G$5015,$G363,$H$19:$H$5015)+SUMIF('2.bTë ardhura-jopublik-monetare'!$G$19:$G$1015,'2.cTë ardhura-jopublik-nënatyrë'!$G363,'2.bTë ardhura-jopublik-monetare'!$H$19:$H$1015)","v":0}]
[null,null,null,null,null,null,null,null,null,{"$f":"SUMIF($G$19:$G$5015,$G364,$H$19:$H$5015)+SUMIF('2.bTë ardhura-jopublik-monetare'!$G$19:$G$1015,'2.cTë ardhura-jopublik-nënatyrë'!$G364,'2.bTë ardhura-jopublik-monetare'!$H$19:$H$1015)","v":0}]
[null,null,null,null,null,null,null,null,null,{"$f":"SUMIF($G$19:$G$5015,$G365,$H$19:$H$5015)+SUMIF('2.bTë ardhura-jopublik-monetare'!$G$19:$G$1015,'2.cTë ardhura-jopublik-nënatyrë'!$G365,'2.bTë ardhura-jopublik-monetare'!$H$19:$H$1015)","v":0}]
[null,null,null,null,null,null,null,null,null,{"$f":"SUMIF($G$19:$G$5015,$G366,$H$19:$H$5015)+SUMIF('2.bTë ardhura-jopublik-monetare'!$G$19:$G$1015,'2.cTë ardhura-jopublik-nënatyrë'!$G366,'2.bTë ardhura-jopublik-monetare'!$H$19:$H$1015)","v":0}]
[null,null,null,null,null,null,null,null,null,{"$f":"SUMIF($G$19:$G$5015,$G367,$H$19:$H$5015)+SUMIF('2.bTë ardhura-jopublik-monetare'!$G$19:$G$1015,'2.cTë ardhura-jopublik-nënatyrë'!$G367,'2.bTë ardhura-jopublik-monetare'!$H$19:$H$1015)","v":0}]
[null,null,null,null,null,null,null,null,null,{"$f":"SUMIF($G$19:$G$5015,$G368,$H$19:$H$5015)+SUMIF('2.bTë ardhura-jopublik-monetare'!$G$19:$G$1015,'2.cTë ardhura-jopublik-nënatyrë'!$G368,'2.bTë ardhura-jopublik-monetare'!$H$19:$H$1015)","v":0}]
[null,null,null,null,null,null,null,null,null,{"$f":"SUMIF($G$19:$G$5015,$G369,$H$19:$H$5015)+SUMIF('2.bTë ardhura-jopublik-monetare'!$G$19:$G$1015,'2.cTë ardhura-jopublik-nënatyrë'!$G369,'2.bTë ardhura-jopublik-monetare'!$H$19:$H$1015)","v":0}]
[null,null,null,null,null,null,null,null,null,{"$f":"SUMIF($G$19:$G$5015,$G370,$H$19:$H$5015)+SUMIF('2.bTë ardhura-jopublik-monetare'!$G$19:$G$1015,'2.cTë ardhura-jopublik-nënatyrë'!$G370,'2.bTë ardhura-jopublik-monetare'!$H$19:$H$1015)","v":0}]
[null,null,null,null,null,null,null,null,null,{"$f":"SUMIF($G$19:$G$5015,$G371,$H$19:$H$5015)+SUMIF('2.bTë ardhura-jopublik-monetare'!$G$19:$G$1015,'2.cTë ardhura-jopublik-nënatyrë'!$G371,'2.bTë ardhura-jopublik-monetare'!$H$19:$H$1015)","v":0}]
[null,null,null,null,null,null,null,null,null,{"$f":"SUMIF($G$19:$G$5015,$G372,$H$19:$H$5015)+SUMIF('2.bTë ardhura-jopublik-monetare'!$G$19:$G$1015,'2.cTë ardhura-jopublik-nënatyrë'!$G372,'2.bTë ardhura-jopublik-monetare'!$H$19:$H$1015)","v":0}]
[null,null,null,null,null,null,null,null,null,{"$f":"SUMIF($G$19:$G$5015,$G373,$H$19:$H$5015)+SUMIF('2.bTë ardhura-jopublik-monetare'!$G$19:$G$1015,'2.cTë ardhura-jopublik-nënatyrë'!$G373,'2.bTë ardhura-jopublik-monetare'!$H$19:$H$1015)","v":0}]
[null,null,null,null,null,null,null,null,null,{"$f":"SUMIF($G$19:$G$5015,$G374,$H$19:$H$5015)+SUMIF('2.bTë ardhura-jopublik-monetare'!$G$19:$G$1015,'2.cTë ardhura-jopublik-nënatyrë'!$G374,'2.bTë ardhura-jopublik-monetare'!$H$19:$H$1015)","v":0}]
[null,null,null,null,null,null,null,null,null,{"$f":"SUMIF($G$19:$G$5015,$G375,$H$19:$H$5015)+SUMIF('2.bTë ardhura-jopublik-monetare'!$G$19:$G$1015,'2.cTë ardhura-jopublik-nënatyrë'!$G375,'2.bTë ardhura-jopublik-monetare'!$H$19:$H$1015)","v":0}]
[null,null,null,null,null,null,null,null,null,{"$f":"SUMIF($G$19:$G$5015,$G376,$H$19:$H$5015)+SUMIF('2.bTë ardhura-jopublik-monetare'!$G$19:$G$1015,'2.cTë ardhura-jopublik-nënatyrë'!$G376,'2.bTë ardhura-jopublik-monetare'!$H$19:$H$1015)","v":0}]
[null,null,null,null,null,null,null,null,null,{"$f":"SUMIF($G$19:$G$5015,$G377,$H$19:$H$5015)+SUMIF('2.bTë ardhura-jopublik-monetare'!$G$19:$G$1015,'2.cTë ardhura-jopublik-nënatyrë'!$G377,'2.bTë ardhura-jopublik-monetare'!$H$19:$H$1015)","v":0}]
[null,null,null,null,null,null,null,null,null,{"$f":"SUMIF($G$19:$G$5015,$G378,$H$19:$H$5015)+SUMIF('2.bTë ardhura-jopublik-monetare'!$G$19:$G$1015,'2.cTë ardhura-jopublik-nënatyrë'!$G378,'2.bTë ardhura-jopublik-monetare'!$H$19:$H$1015)","v":0}]
[null,null,null,null,null,null,null,null,null,{"$f":"SUMIF($G$19:$G$5015,$G379,$H$19:$H$5015)+SUMIF('2.bTë ardhura-jopublik-monetare'!$G$19:$G$1015,'2.cTë ardhura-jopublik-nënatyrë'!$G379,'2.bTë ardhura-jopublik-monetare'!$H$19:$H$1015)","v":0}]
[null,null,null,null,null,null,null,null,null,{"$f":"SUMIF($G$19:$G$5015,$G380,$H$19:$H$5015)+SUMIF('2.bTë ardhura-jopublik-monetare'!$G$19:$G$1015,'2.cTë ardhura-jopublik-nënatyrë'!$G380,'2.bTë ardhura-jopublik-monetare'!$H$19:$H$1015)","v":0}]
[null,null,null,null,null,null,null,null,null,{"$f":"SUMIF($G$19:$G$5015,$G381,$H$19:$H$5015)+SUMIF('2.bTë ardhura-jopublik-monetare'!$G$19:$G$1015,'2.cTë ardhura-jopublik-nënatyrë'!$G381,'2.bTë ardhura-jopublik-monetare'!$H$19:$H$1015)","v":0}]
[null,null,null,null,null,null,null,null,null,{"$f":"SUMIF($G$19:$G$5015,$G382,$H$19:$H$5015)+SUMIF('2.bTë ardhura-jopublik-monetare'!$G$19:$G$1015,'2.cTë ardhura-jopublik-nënatyrë'!$G382,'2.bTë ardhura-jopublik-monetare'!$H$19:$H$1015)","v":0}]
[null,null,null,null,null,null,null,null,null,{"$f":"SUMIF($G$19:$G$5015,$G383,$H$19:$H$5015)+SUMIF('2.bTë ardhura-jopublik-monetare'!$G$19:$G$1015,'2.cTë ardhura-jopublik-nënatyrë'!$G383,'2.bTë ardhura-jopublik-monetare'!$H$19:$H$1015)","v":0}]
[null,null,null,null,null,null,null,null,null,{"$f":"SUMIF($G$19:$G$5015,$G384,$H$19:$H$5015)+SUMIF('2.bTë ardhura-jopublik-monetare'!$G$19:$G$1015,'2.cTë ardhura-jopublik-nënatyrë'!$G384,'2.bTë ardhura-jopublik-monetare'!$H$19:$H$1015)","v":0}]
[null,null,null,null,null,null,null,null,null,{"$f":"SUMIF($G$19:$G$5015,$G385,$H$19:$H$5015)+SUMIF('2.bTë ardhura-jopublik-monetare'!$G$19:$G$1015,'2.cTë ardhura-jopublik-nënatyrë'!$G385,'2.bTë ardhura-jopublik-monetare'!$H$19:$H$1015)","v":0}]
[null,null,null,null,null,null,null,null,null,{"$f":"SUMIF($G$19:$G$5015,$G386,$H$19:$H$5015)+SUMIF('2.bTë ardhura-jopublik-monetare'!$G$19:$G$1015,'2.cTë ardhura-jopublik-nënatyrë'!$G386,'2.bTë ardhura-jopublik-monetare'!$H$19:$H$1015)","v":0}]
[null,null,null,null,null,null,null,null,null,{"$f":"SUMIF($G$19:$G$5015,$G387,$H$19:$H$5015)+SUMIF('2.bTë ardhura-jopublik-monetare'!$G$19:$G$1015,'2.cTë ardhura-jopublik-nënatyrë'!$G387,'2.bTë ardhura-jopublik-monetare'!$H$19:$H$1015)","v":0}]
[null,null,null,null,null,null,null,null,null,{"$f":"SUMIF($G$19:$G$5015,$G388,$H$19:$H$5015)+SUMIF('2.bTë ardhura-jopublik-monetare'!$G$19:$G$1015,'2.cTë ardhura-jopublik-nënatyrë'!$G388,'2.bTë ardhura-jopublik-monetare'!$H$19:$H$1015)","v":0}]
[null,null,null,null,null,null,null,null,null,{"$f":"SUMIF($G$19:$G$5015,$G389,$H$19:$H$5015)+SUMIF('2.bTë ardhura-jopublik-monetare'!$G$19:$G$1015,'2.cTë ardhura-jopublik-nënatyrë'!$G389,'2.bTë ardhura-jopublik-monetare'!$H$19:$H$1015)","v":0}]
[null,null,null,null,null,null,null,null,null,{"$f":"SUMIF($G$19:$G$5015,$G390,$H$19:$H$5015)+SUMIF('2.bTë ardhura-jopublik-monetare'!$G$19:$G$1015,'2.cTë ardhura-jopublik-nënatyrë'!$G390,'2.bTë ardhura-jopublik-monetare'!$H$19:$H$1015)","v":0}]
[null,null,null,null,null,null,null,null,null,{"$f":"SUMIF($G$19:$G$5015,$G391,$H$19:$H$5015)+SUMIF('2.bTë ardhura-jopublik-monetare'!$G$19:$G$1015,'2.cTë ardhura-jopublik-nënatyrë'!$G391,'2.bTë ardhura-jopublik-monetare'!$H$19:$H$1015)","v":0}]
[null,null,null,null,null,null,null,null,null,{"$f":"SUMIF($G$19:$G$5015,$G392,$H$19:$H$5015)+SUMIF('2.bTë ardhura-jopublik-monetare'!$G$19:$G$1015,'2.cTë ardhura-jopublik-nënatyrë'!$G392,'2.bTë ardhura-jopublik-monetare'!$H$19:$H$1015)","v":0}]
[null,null,null,null,null,null,null,null,null,{"$f":"SUMIF($G$19:$G$5015,$G393,$H$19:$H$5015)+SUMIF('2.bTë ardhura-jopublik-monetare'!$G$19:$G$1015,'2.cTë ardhura-jopublik-nënatyrë'!$G393,'2.bTë ardhura-jopublik-monetare'!$H$19:$H$1015)","v":0}]
[null,null,null,null,null,null,null,null,null,{"$f":"SUMIF($G$19:$G$5015,$G394,$H$19:$H$5015)+SUMIF('2.bTë ardhura-jopublik-monetare'!$G$19:$G$1015,'2.cTë ardhura-jopublik-nënatyrë'!$G394,'2.bTë ardhura-jopublik-monetare'!$H$19:$H$1015)","v":0}]
[null,null,null,null,null,null,null,null,null,{"$f":"SUMIF($G$19:$G$5015,$G395,$H$19:$H$5015)+SUMIF('2.bTë ardhura-jopublik-monetare'!$G$19:$G$1015,'2.cTë ardhura-jopublik-nënatyrë'!$G395,'2.bTë ardhura-jopublik-monetare'!$H$19:$H$1015)","v":0}]
[null,null,null,null,null,null,null,null,null,{"$f":"SUMIF($G$19:$G$5015,$G396,$H$19:$H$5015)+SUMIF('2.bTë ardhura-jopublik-monetare'!$G$19:$G$1015,'2.cTë ardhura-jopublik-nënatyrë'!$G396,'2.bTë ardhura-jopublik-monetare'!$H$19:$H$1015)","v":0}]
[null,null,null,null,null,null,null,null,null,{"$f":"SUMIF($G$19:$G$5015,$G397,$H$19:$H$5015)+SUMIF('2.bTë ardhura-jopublik-monetare'!$G$19:$G$1015,'2.cTë ardhura-jopublik-nënatyrë'!$G397,'2.bTë ardhura-jopublik-monetare'!$H$19:$H$1015)","v":0}]
[null,null,null,null,null,null,null,null,null,{"$f":"SUMIF($G$19:$G$5015,$G398,$H$19:$H$5015)+SUMIF('2.bTë ardhura-jopublik-monetare'!$G$19:$G$1015,'2.cTë ardhura-jopublik-nënatyrë'!$G398,'2.bTë ardhura-jopublik-monetare'!$H$19:$H$1015)","v":0}]
[null,null,null,null,null,null,null,null,null,{"$f":"SUMIF($G$19:$G$5015,$G399,$H$19:$H$5015)+SUMIF('2.bTë ardhura-jopublik-monetare'!$G$19:$G$1015,'2.cTë ardhura-jopublik-nënatyrë'!$G399,'2.bTë ardhura-jopublik-monetare'!$H$19:$H$1015)","v":0}]
[null,null,null,null,null,null,null,null,null,{"$f":"SUMIF($G$19:$G$5015,$G400,$H$19:$H$5015)+SUMIF('2.bTë ardhura-jopublik-monetare'!$G$19:$G$1015,'2.cTë ardhura-jopublik-nënatyrë'!$G400,'2.bTë ardhura-jopublik-monetare'!$H$19:$H$1015)","v":0}]
[null,null,null,null,null,null,null,null,null,{"$f":"SUMIF($G$19:$G$5015,$G401,$H$19:$H$5015)+SUMIF('2.bTë ardhura-jopublik-monetare'!$G$19:$G$1015,'2.cTë ardhura-jopublik-nënatyrë'!$G401,'2.bTë ardhura-jopublik-monetare'!$H$19:$H$1015)","v":0}]
[null,null,null,null,null,null,null,null,null,{"$f":"SUMIF($G$19:$G$5015,$G402,$H$19:$H$5015)+SUMIF('2.bTë ardhura-jopublik-monetare'!$G$19:$G$1015,'2.cTë ardhura-jopublik-nënatyrë'!$G402,'2.bTë ardhura-jopublik-monetare'!$H$19:$H$1015)","v":0}]
[null,null,null,null,null,null,null,null,null,{"$f":"SUMIF($G$19:$G$5015,$G403,$H$19:$H$5015)+SUMIF('2.bTë ardhura-jopublik-monetare'!$G$19:$G$1015,'2.cTë ardhura-jopublik-nënatyrë'!$G403,'2.bTë ardhura-jopublik-monetare'!$H$19:$H$1015)","v":0}]
[null,null,null,null,null,null,null,null,null,{"$f":"SUMIF($G$19:$G$5015,$G404,$H$19:$H$5015)+SUMIF('2.bTë ardhura-jopublik-monetare'!$G$19:$G$1015,'2.cTë ardhura-jopublik-nënatyrë'!$G404,'2.bTë ardhura-jopublik-monetare'!$H$19:$H$1015)","v":0}]
[null,null,null,null,null,null,null,null,null,{"$f":"SUMIF($G$19:$G$5015,$G405,$H$19:$H$5015)+SUMIF('2.bTë ardhura-jopublik-monetare'!$G$19:$G$1015,'2.cTë ardhura-jopublik-nënatyrë'!$G405,'2.bTë ardhura-jopublik-monetare'!$H$19:$H$1015)","v":0}]
[null,null,null,null,null,null,null,null,null,{"$f":"SUMIF($G$19:$G$5015,$G406,$H$19:$H$5015)+SUMIF('2.bTë ardhura-jopublik-monetare'!$G$19:$G$1015,'2.cTë ardhura-jopublik-nënatyrë'!$G406,'2.bTë ardhura-jopublik-monetare'!$H$19:$H$1015)","v":0}]
[null,null,null,null,null,null,null,null,null,{"$f":"SUMIF($G$19:$G$5015,$G407,$H$19:$H$5015)+SUMIF('2.bTë ardhura-jopublik-monetare'!$G$19:$G$1015,'2.cTë ardhura-jopublik-nënatyrë'!$G407,'2.bTë ardhura-jopublik-monetare'!$H$19:$H$1015)","v":0}]
[null,null,null,null,null,null,null,null,null,{"$f":"SUMIF($G$19:$G$5015,$G408,$H$19:$H$5015)+SUMIF('2.bTë ardhura-jopublik-monetare'!$G$19:$G$1015,'2.cTë ardhura-jopublik-nënatyrë'!$G408,'2.bTë ardhura-jopublik-monetare'!$H$19:$H$1015)","v":0}]
[null,null,null,null,null,null,null,null,null,{"$f":"SUMIF($G$19:$G$5015,$G409,$H$19:$H$5015)+SUMIF('2.bTë ardhura-jopublik-monetare'!$G$19:$G$1015,'2.cTë ardhura-jopublik-nënatyrë'!$G409,'2.bTë ardhura-jopublik-monetare'!$H$19:$H$1015)","v":0}]
[null,null,null,null,null,null,null,null,null,{"$f":"SUMIF($G$19:$G$5015,$G410,$H$19:$H$5015)+SUMIF('2.bTë ardhura-jopublik-monetare'!$G$19:$G$1015,'2.cTë ardhura-jopublik-nënatyrë'!$G410,'2.bTë ardhura-jopublik-monetare'!$H$19:$H$1015)","v":0}]
[null,null,null,null,null,null,null,null,null,{"$f":"SUMIF($G$19:$G$5015,$G411,$H$19:$H$5015)+SUMIF('2.bTë ardhura-jopublik-monetare'!$G$19:$G$1015,'2.cTë ardhura-jopublik-nënatyrë'!$G411,'2.bTë ardhura-jopublik-monetare'!$H$19:$H$1015)","v":0}]
[null,null,null,null,null,null,null,null,null,{"$f":"SUMIF($G$19:$G$5015,$G412,$H$19:$H$5015)+SUMIF('2.bTë ardhura-jopublik-monetare'!$G$19:$G$1015,'2.cTë ardhura-jopublik-nënatyrë'!$G412,'2.bTë ardhura-jopublik-monetare'!$H$19:$H$1015)","v":0}]
[null,null,null,null,null,null,null,null,null,{"$f":"SUMIF($G$19:$G$5015,$G413,$H$19:$H$5015)+SUMIF('2.bTë ardhura-jopublik-monetare'!$G$19:$G$1015,'2.cTë ardhura-jopublik-nënatyrë'!$G413,'2.bTë ardhura-jopublik-monetare'!$H$19:$H$1015)","v":0}]
[null,null,null,null,null,null,null,null,null,{"$f":"SUMIF($G$19:$G$5015,$G414,$H$19:$H$5015)+SUMIF('2.bTë ardhura-jopublik-monetare'!$G$19:$G$1015,'2.cTë ardhura-jopublik-nënatyrë'!$G414,'2.bTë ardhura-jopublik-monetare'!$H$19:$H$1015)","v":0}]
[null,null,null,null,null,null,null,null,null,{"$f":"SUMIF($G$19:$G$5015,$G415,$H$19:$H$5015)+SUMIF('2.bTë ardhura-jopublik-monetare'!$G$19:$G$1015,'2.cTë ardhura-jopublik-nënatyrë'!$G415,'2.bTë ardhura-jopublik-monetare'!$H$19:$H$1015)","v":0}]
[null,null,null,null,null,null,null,null,null,{"$f":"SUMIF($G$19:$G$5015,$G416,$H$19:$H$5015)+SUMIF('2.bTë ardhura-jopublik-monetare'!$G$19:$G$1015,'2.cTë ardhura-jopublik-nënatyrë'!$G416,'2.bTë ardhura-jopublik-monetare'!$H$19:$H$1015)","v":0}]
[null,null,null,null,null,null,null,null,null,{"$f":"SUMIF($G$19:$G$5015,$G417,$H$19:$H$5015)+SUMIF('2.bTë ardhura-jopublik-monetare'!$G$19:$G$1015,'2.cTë ardhura-jopublik-nënatyrë'!$G417,'2.bTë ardhura-jopublik-monetare'!$H$19:$H$1015)","v":0}]
[null,null,null,null,null,null,null,null,null,{"$f":"SUMIF($G$19:$G$5015,$G418,$H$19:$H$5015)+SUMIF('2.bTë ardhura-jopublik-monetare'!$G$19:$G$1015,'2.cTë ardhura-jopublik-nënatyrë'!$G418,'2.bTë ardhura-jopublik-monetare'!$H$19:$H$1015)","v":0}]
[null,null,null,null,null,null,null,null,null,{"$f":"SUMIF($G$19:$G$5015,$G419,$H$19:$H$5015)+SUMIF('2.bTë ardhura-jopublik-monetare'!$G$19:$G$1015,'2.cTë ardhura-jopublik-nënatyrë'!$G419,'2.bTë ardhura-jopublik-monetare'!$H$19:$H$1015)","v":0}]
[null,null,null,null,null,null,null,null,null,{"$f":"SUMIF($G$19:$G$5015,$G420,$H$19:$H$5015)+SUMIF('2.bTë ardhura-jopublik-monetare'!$G$19:$G$1015,'2.cTë ardhura-jopublik-nënatyrë'!$G420,'2.bTë ardhura-jopublik-monetare'!$H$19:$H$1015)","v":0}]
[null,null,null,null,null,null,null,null,null,{"$f":"SUMIF($G$19:$G$5015,$G421,$H$19:$H$5015)+SUMIF('2.bTë ardhura-jopublik-monetare'!$G$19:$G$1015,'2.cTë ardhura-jopublik-nënatyrë'!$G421,'2.bTë ardhura-jopublik-monetare'!$H$19:$H$1015)","v":0}]
[null,null,null,null,null,null,null,null,null,{"$f":"SUMIF($G$19:$G$5015,$G422,$H$19:$H$5015)+SUMIF('2.bTë ardhura-jopublik-monetare'!$G$19:$G$1015,'2.cTë ardhura-jopublik-nënatyrë'!$G422,'2.bTë ardhura-jopublik-monetare'!$H$19:$H$1015)","v":0}]
[null,null,null,null,null,null,null,null,null,{"$f":"SUMIF($G$19:$G$5015,$G423,$H$19:$H$5015)+SUMIF('2.bTë ardhura-jopublik-monetare'!$G$19:$G$1015,'2.cTë ardhura-jopublik-nënatyrë'!$G423,'2.bTë ardhura-jopublik-monetare'!$H$19:$H$1015)","v":0}]
[null,null,null,null,null,null,null,null,null,{"$f":"SUMIF($G$19:$G$5015,$G424,$H$19:$H$5015)+SUMIF('2.bTë ardhura-jopublik-monetare'!$G$19:$G$1015,'2.cTë ardhura-jopublik-nënatyrë'!$G424,'2.bTë ardhura-jopublik-monetare'!$H$19:$H$1015)","v":0}]
[null,null,null,null,null,null,null,null,null,{"$f":"SUMIF($G$19:$G$5015,$G425,$H$19:$H$5015)+SUMIF('2.bTë ardhura-jopublik-monetare'!$G$19:$G$1015,'2.cTë ardhura-jopublik-nënatyrë'!$G425,'2.bTë ardhura-jopublik-monetare'!$H$19:$H$1015)","v":0}]
[null,null,null,null,null,null,null,null,null,{"$f":"SUMIF($G$19:$G$5015,$G426,$H$19:$H$5015)+SUMIF('2.bTë ardhura-jopublik-monetare'!$G$19:$G$1015,'2.cTë ardhura-jopublik-nënatyrë'!$G426,'2.bTë ardhura-jopublik-monetare'!$H$19:$H$1015)","v":0}]
[null,null,null,null,null,null,null,null,null,{"$f":"SUMIF($G$19:$G$5015,$G427,$H$19:$H$5015)+SUMIF('2.bTë ardhura-jopublik-monetare'!$G$19:$G$1015,'2.cTë ardhura-jopublik-nënatyrë'!$G427,'2.bTë ardhura-jopublik-monetare'!$H$19:$H$1015)","v":0}]
[null,null,null,null,null,null,null,null,null,{"$f":"SUMIF($G$19:$G$5015,$G428,$H$19:$H$5015)+SUMIF('2.bTë ardhura-jopublik-monetare'!$G$19:$G$1015,'2.cTë ardhura-jopublik-nënatyrë'!$G428,'2.bTë ardhura-jopublik-monetare'!$H$19:$H$1015)","v":0}]
[null,null,null,null,null,null,null,null,null,{"$f":"SUMIF($G$19:$G$5015,$G429,$H$19:$H$5015)+SUMIF('2.bTë ardhura-jopublik-monetare'!$G$19:$G$1015,'2.cTë ardhura-jopublik-nënatyrë'!$G429,'2.bTë ardhura-jopublik-monetare'!$H$19:$H$1015)","v":0}]
[null,null,null,null,null,null,null,null,null,{"$f":"SUMIF($G$19:$G$5015,$G430,$H$19:$H$5015)+SUMIF('2.bTë ardhura-jopublik-monetare'!$G$19:$G$1015,'2.cTë ardhura-jopublik-nënatyrë'!$G430,'2.bTë ardhura-jopublik-monetare'!$H$19:$H$1015)","v":0}]
[null,null,null,null,null,null,null,null,null,{"$f":"SUMIF($G$19:$G$5015,$G431,$H$19:$H$5015)+SUMIF('2.bTë ardhura-jopublik-monetare'!$G$19:$G$1015,'2.cTë ardhura-jopublik-nënatyrë'!$G431,'2.bTë ardhura-jopublik-monetare'!$H$19:$H$1015)","v":0}]
[null,null,null,null,null,null,null,null,null,{"$f":"SUMIF($G$19:$G$5015,$G432,$H$19:$H$5015)+SUMIF('2.bTë ardhura-jopublik-monetare'!$G$19:$G$1015,'2.cTë ardhura-jopublik-nënatyrë'!$G432,'2.bTë ardhura-jopublik-monetare'!$H$19:$H$1015)","v":0}]
[null,null,null,null,null,null,null,null,null,{"$f":"SUMIF($G$19:$G$5015,$G433,$H$19:$H$5015)+SUMIF('2.bTë ardhura-jopublik-monetare'!$G$19:$G$1015,'2.cTë ardhura-jopublik-nënatyrë'!$G433,'2.bTë ardhura-jopublik-monetare'!$H$19:$H$1015)","v":0}]
[null,null,null,null,null,null,null,null,null,{"$f":"SUMIF($G$19:$G$5015,$G434,$H$19:$H$5015)+SUMIF('2.bTë ardhura-jopublik-monetare'!$G$19:$G$1015,'2.cTë ardhura-jopublik-nënatyrë'!$G434,'2.bTë ardhura-jopublik-monetare'!$H$19:$H$1015)","v":0}]
[null,null,null,null,null,null,null,null,null,{"$f":"SUMIF($G$19:$G$5015,$G435,$H$19:$H$5015)+SUMIF('2.bTë ardhura-jopublik-monetare'!$G$19:$G$1015,'2.cTë ardhura-jopublik-nënatyrë'!$G435,'2.bTë ardhura-jopublik-monetare'!$H$19:$H$1015)","v":0}]
[null,null,null,null,null,null,null,null,null,{"$f":"SUMIF($G$19:$G$5015,$G436,$H$19:$H$5015)+SUMIF('2.bTë ardhura-jopublik-monetare'!$G$19:$G$1015,'2.cTë ardhura-jopublik-nënatyrë'!$G436,'2.bTë ardhura-jopublik-monetare'!$H$19:$H$1015)","v":0}]
[null,null,null,null,null,null,null,null,null,{"$f":"SUMIF($G$19:$G$5015,$G437,$H$19:$H$5015)+SUMIF('2.bTë ardhura-jopublik-monetare'!$G$19:$G$1015,'2.cTë ardhura-jopublik-nënatyrë'!$G437,'2.bTë ardhura-jopublik-monetare'!$H$19:$H$1015)","v":0}]
[null,null,null,null,null,null,null,null,null,{"$f":"SUMIF($G$19:$G$5015,$G438,$H$19:$H$5015)+SUMIF('2.bTë ardhura-jopublik-monetare'!$G$19:$G$1015,'2.cTë ardhura-jopublik-nënatyrë'!$G438,'2.bTë ardhura-jopublik-monetare'!$H$19:$H$1015)","v":0}]
[null,null,null,null,null,null,null,null,null,{"$f":"SUMIF($G$19:$G$5015,$G439,$H$19:$H$5015)+SUMIF('2.bTë ardhura-jopublik-monetare'!$G$19:$G$1015,'2.cTë ardhura-jopublik-nënatyrë'!$G439,'2.bTë ardhura-jopublik-monetare'!$H$19:$H$1015)","v":0}]
[null,null,null,null,null,null,null,null,null,{"$f":"SUMIF($G$19:$G$5015,$G440,$H$19:$H$5015)+SUMIF('2.bTë ardhura-jopublik-monetare'!$G$19:$G$1015,'2.cTë ardhura-jopublik-nënatyrë'!$G440,'2.bTë ardhura-jopublik-monetare'!$H$19:$H$1015)","v":0}]
[null,null,null,null,null,null,null,null,null,{"$f":"SUMIF($G$19:$G$5015,$G441,$H$19:$H$5015)+SUMIF('2.bTë ardhura-jopublik-monetare'!$G$19:$G$1015,'2.cTë ardhura-jopublik-nënatyrë'!$G441,'2.bTë ardhura-jopublik-monetare'!$H$19:$H$1015)","v":0}]
[null,null,null,null,null,null,null,null,null,{"$f":"SUMIF($G$19:$G$5015,$G442,$H$19:$H$5015)+SUMIF('2.bTë ardhura-jopublik-monetare'!$G$19:$G$1015,'2.cTë ardhura-jopublik-nënatyrë'!$G442,'2.bTë ardhura-jopublik-monetare'!$H$19:$H$1015)","v":0}]
[null,null,null,null,null,null,null,null,null,{"$f":"SUMIF($G$19:$G$5015,$G443,$H$19:$H$5015)+SUMIF('2.bTë ardhura-jopublik-monetare'!$G$19:$G$1015,'2.cTë ardhura-jopublik-nënatyrë'!$G443,'2.bTë ardhura-jopublik-monetare'!$H$19:$H$1015)","v":0}]
[null,null,null,null,null,null,null,null,null,{"$f":"SUMIF($G$19:$G$5015,$G444,$H$19:$H$5015)+SUMIF('2.bTë ardhura-jopublik-monetare'!$G$19:$G$1015,'2.cTë ardhura-jopublik-nënatyrë'!$G444,'2.bTë ardhura-jopublik-monetare'!$H$19:$H$1015)","v":0}]
[null,null,null,null,null,null,null,null,null,{"$f":"SUMIF($G$19:$G$5015,$G445,$H$19:$H$5015)+SUMIF('2.bTë ardhura-jopublik-monetare'!$G$19:$G$1015,'2.cTë ardhura-jopublik-nënatyrë'!$G445,'2.bTë ardhura-jopublik-monetare'!$H$19:$H$1015)","v":0}]
[null,null,null,null,null,null,null,null,null,{"$f":"SUMIF($G$19:$G$5015,$G446,$H$19:$H$5015)+SUMIF('2.bTë ardhura-jopublik-monetare'!$G$19:$G$1015,'2.cTë ardhura-jopublik-nënatyrë'!$G446,'2.bTë ardhura-jopublik-monetare'!$H$19:$H$1015)","v":0}]
[null,null,null,null,null,null,null,null,null,{"$f":"SUMIF($G$19:$G$5015,$G447,$H$19:$H$5015)+SUMIF('2.bTë ardhura-jopublik-monetare'!$G$19:$G$1015,'2.cTë ardhura-jopublik-nënatyrë'!$G447,'2.bTë ardhura-jopublik-monetare'!$H$19:$H$1015)","v":0}]
[null,null,null,null,null,null,null,null,null,{"$f":"SUMIF($G$19:$G$5015,$G448,$H$19:$H$5015)+SUMIF('2.bTë ardhura-jopublik-monetare'!$G$19:$G$1015,'2.cTë ardhura-jopublik-nënatyrë'!$G448,'2.bTë ardhura-jopublik-monetare'!$H$19:$H$1015)","v":0}]
[null,null,null,null,null,null,null,null,null,{"$f":"SUMIF($G$19:$G$5015,$G449,$H$19:$H$5015)+SUMIF('2.bTë ardhura-jopublik-monetare'!$G$19:$G$1015,'2.cTë ardhura-jopublik-nënatyrë'!$G449,'2.bTë ardhura-jopublik-monetare'!$H$19:$H$1015)","v":0}]
[null,null,null,null,null,null,null,null,null,{"$f":"SUMIF($G$19:$G$5015,$G450,$H$19:$H$5015)+SUMIF('2.bTë ardhura-jopublik-monetare'!$G$19:$G$1015,'2.cTë ardhura-jopublik-nënatyrë'!$G450,'2.bTë ardhura-jopublik-monetare'!$H$19:$H$1015)","v":0}]
[null,null,null,null,null,null,null,null,null,{"$f":"SUMIF($G$19:$G$5015,$G451,$H$19:$H$5015)+SUMIF('2.bTë ardhura-jopublik-monetare'!$G$19:$G$1015,'2.cTë ardhura-jopublik-nënatyrë'!$G451,'2.bTë ardhura-jopublik-monetare'!$H$19:$H$1015)","v":0}]
[null,null,null,null,null,null,null,null,null,{"$f":"SUMIF($G$19:$G$5015,$G452,$H$19:$H$5015)+SUMIF('2.bTë ardhura-jopublik-monetare'!$G$19:$G$1015,'2.cTë ardhura-jopublik-nënatyrë'!$G452,'2.bTë ardhura-jopublik-monetare'!$H$19:$H$1015)","v":0}]
[null,null,null,null,null,null,null,null,null,{"$f":"SUMIF($G$19:$G$5015,$G453,$H$19:$H$5015)+SUMIF('2.bTë ardhura-jopublik-monetare'!$G$19:$G$1015,'2.cTë ardhura-jopublik-nënatyrë'!$G453,'2.bTë ardhura-jopublik-monetare'!$H$19:$H$1015)","v":0}]
[null,null,null,null,null,null,null,null,null,{"$f":"SUMIF($G$19:$G$5015,$G454,$H$19:$H$5015)+SUMIF('2.bTë ardhura-jopublik-monetare'!$G$19:$G$1015,'2.cTë ardhura-jopublik-nënatyrë'!$G454,'2.bTë ardhura-jopublik-monetare'!$H$19:$H$1015)","v":0}]
[null,null,null,null,null,null,null,null,null,{"$f":"SUMIF($G$19:$G$5015,$G455,$H$19:$H$5015)+SUMIF('2.bTë ardhura-jopublik-monetare'!$G$19:$G$1015,'2.cTë ardhura-jopublik-nënatyrë'!$G455,'2.bTë ardhura-jopublik-monetare'!$H$19:$H$1015)","v":0}]
[null,null,null,null,null,null,null,null,null,{"$f":"SUMIF($G$19:$G$5015,$G456,$H$19:$H$5015)+SUMIF('2.bTë ardhura-jopublik-monetare'!$G$19:$G$1015,'2.cTë ardhura-jopublik-nënatyrë'!$G456,'2.bTë ardhura-jopublik-monetare'!$H$19:$H$1015)","v":0}]
[null,null,null,null,null,null,null,null,null,{"$f":"SUMIF($G$19:$G$5015,$G457,$H$19:$H$5015)+SUMIF('2.bTë ardhura-jopublik-monetare'!$G$19:$G$1015,'2.cTë ardhura-jopublik-nënatyrë'!$G457,'2.bTë ardhura-jopublik-monetare'!$H$19:$H$1015)","v":0}]
[null,null,null,null,null,null,null,null,null,{"$f":"SUMIF($G$19:$G$5015,$G458,$H$19:$H$5015)+SUMIF('2.bTë ardhura-jopublik-monetare'!$G$19:$G$1015,'2.cTë ardhura-jopublik-nënatyrë'!$G458,'2.bTë ardhura-jopublik-monetare'!$H$19:$H$1015)","v":0}]
[null,null,null,null,null,null,null,null,null,{"$f":"SUMIF($G$19:$G$5015,$G459,$H$19:$H$5015)+SUMIF('2.bTë ardhura-jopublik-monetare'!$G$19:$G$1015,'2.cTë ardhura-jopublik-nënatyrë'!$G459,'2.bTë ardhura-jopublik-monetare'!$H$19:$H$1015)","v":0}]
[null,null,null,null,null,null,null,null,null,{"$f":"SUMIF($G$19:$G$5015,$G460,$H$19:$H$5015)+SUMIF('2.bTë ardhura-jopublik-monetare'!$G$19:$G$1015,'2.cTë ardhura-jopublik-nënatyrë'!$G460,'2.bTë ardhura-jopublik-monetare'!$H$19:$H$1015)","v":0}]
[null,null,null,null,null,null,null,null,null,{"$f":"SUMIF($G$19:$G$5015,$G461,$H$19:$H$5015)+SUMIF('2.bTë ardhura-jopublik-monetare'!$G$19:$G$1015,'2.cTë ardhura-jopublik-nënatyrë'!$G461,'2.bTë ardhura-jopublik-monetare'!$H$19:$H$1015)","v":0}]
[null,null,null,null,null,null,null,null,null,{"$f":"SUMIF($G$19:$G$5015,$G462,$H$19:$H$5015)+SUMIF('2.bTë ardhura-jopublik-monetare'!$G$19:$G$1015,'2.cTë ardhura-jopublik-nënatyrë'!$G462,'2.bTë ardhura-jopublik-monetare'!$H$19:$H$1015)","v":0}]
[null,null,null,null,null,null,null,null,null,{"$f":"SUMIF($G$19:$G$5015,$G463,$H$19:$H$5015)+SUMIF('2.bTë ardhura-jopublik-monetare'!$G$19:$G$1015,'2.cTë ardhura-jopublik-nënatyrë'!$G463,'2.bTë ardhura-jopublik-monetare'!$H$19:$H$1015)","v":0}]
[null,null,null,null,null,null,null,null,null,{"$f":"SUMIF($G$19:$G$5015,$G464,$H$19:$H$5015)+SUMIF('2.bTë ardhura-jopublik-monetare'!$G$19:$G$1015,'2.cTë ardhura-jopublik-nënatyrë'!$G464,'2.bTë ardhura-jopublik-monetare'!$H$19:$H$1015)","v":0}]
[null,null,null,null,null,null,null,null,null,{"$f":"SUMIF($G$19:$G$5015,$G465,$H$19:$H$5015)+SUMIF('2.bTë ardhura-jopublik-monetare'!$G$19:$G$1015,'2.cTë ardhura-jopublik-nënatyrë'!$G465,'2.bTë ardhura-jopublik-monetare'!$H$19:$H$1015)","v":0}]
[null,null,null,null,null,null,null,null,null,{"$f":"SUMIF($G$19:$G$5015,$G466,$H$19:$H$5015)+SUMIF('2.bTë ardhura-jopublik-monetare'!$G$19:$G$1015,'2.cTë ardhura-jopublik-nënatyrë'!$G466,'2.bTë ardhura-jopublik-monetare'!$H$19:$H$1015)","v":0}]
[null,null,null,null,null,null,null,null,null,{"$f":"SUMIF($G$19:$G$5015,$G467,$H$19:$H$5015)+SUMIF('2.bTë ardhura-jopublik-monetare'!$G$19:$G$1015,'2.cTë ardhura-jopublik-nënatyrë'!$G467,'2.bTë ardhura-jopublik-monetare'!$H$19:$H$1015)","v":0}]
[null,null,null,null,null,null,null,null,null,{"$f":"SUMIF($G$19:$G$5015,$G468,$H$19:$H$5015)+SUMIF('2.bTë ardhura-jopublik-monetare'!$G$19:$G$1015,'2.cTë ardhura-jopublik-nënatyrë'!$G468,'2.bTë ardhura-jopublik-monetare'!$H$19:$H$1015)","v":0}]
[null,null,null,null,null,null,null,null,null,{"$f":"SUMIF($G$19:$G$5015,$G469,$H$19:$H$5015)+SUMIF('2.bTë ardhura-jopublik-monetare'!$G$19:$G$1015,'2.cTë ardhura-jopublik-nënatyrë'!$G469,'2.bTë ardhura-jopublik-monetare'!$H$19:$H$1015)","v":0}]
[null,null,null,null,null,null,null,null,null,{"$f":"SUMIF($G$19:$G$5015,$G470,$H$19:$H$5015)+SUMIF('2.bTë ardhura-jopublik-monetare'!$G$19:$G$1015,'2.cTë ardhura-jopublik-nënatyrë'!$G470,'2.bTë ardhura-jopublik-monetare'!$H$19:$H$1015)","v":0}]
[null,null,null,null,null,null,null,null,null,{"$f":"SUMIF($G$19:$G$5015,$G471,$H$19:$H$5015)+SUMIF('2.bTë ardhura-jopublik-monetare'!$G$19:$G$1015,'2.cTë ardhura-jopublik-nënatyrë'!$G471,'2.bTë ardhura-jopublik-monetare'!$H$19:$H$1015)","v":0}]
[null,null,null,null,null,null,null,null,null,{"$f":"SUMIF($G$19:$G$5015,$G472,$H$19:$H$5015)+SUMIF('2.bTë ardhura-jopublik-monetare'!$G$19:$G$1015,'2.cTë ardhura-jopublik-nënatyrë'!$G472,'2.bTë ardhura-jopublik-monetare'!$H$19:$H$1015)","v":0}]
[null,null,null,null,null,null,null,null,null,{"$f":"SUMIF($G$19:$G$5015,$G473,$H$19:$H$5015)+SUMIF('2.bTë ardhura-jopublik-monetare'!$G$19:$G$1015,'2.cTë ardhura-jopublik-nënatyrë'!$G473,'2.bTë ardhura-jopublik-monetare'!$H$19:$H$1015)","v":0}]
[null,null,null,null,null,null,null,null,null,{"$f":"SUMIF($G$19:$G$5015,$G474,$H$19:$H$5015)+SUMIF('2.bTë ardhura-jopublik-monetare'!$G$19:$G$1015,'2.cTë ardhura-jopublik-nënatyrë'!$G474,'2.bTë ardhura-jopublik-monetare'!$H$19:$H$1015)","v":0}]
[null,null,null,null,null,null,null,null,null,{"$f":"SUMIF($G$19:$G$5015,$G475,$H$19:$H$5015)+SUMIF('2.bTë ardhura-jopublik-monetare'!$G$19:$G$1015,'2.cTë ardhura-jopublik-nënatyrë'!$G475,'2.bTë ardhura-jopublik-monetare'!$H$19:$H$1015)","v":0}]
[null,null,null,null,null,null,null,null,null,{"$f":"SUMIF($G$19:$G$5015,$G476,$H$19:$H$5015)+SUMIF('2.bTë ardhura-jopublik-monetare'!$G$19:$G$1015,'2.cTë ardhura-jopublik-nënatyrë'!$G476,'2.bTë ardhura-jopublik-monetare'!$H$19:$H$1015)","v":0}]
[null,null,null,null,null,null,null,null,null,{"$f":"SUMIF($G$19:$G$5015,$G477,$H$19:$H$5015)+SUMIF('2.bTë ardhura-jopublik-monetare'!$G$19:$G$1015,'2.cTë ardhura-jopublik-nënatyrë'!$G477,'2.bTë ardhura-jopublik-monetare'!$H$19:$H$1015)","v":0}]
[null,null,null,null,null,null,null,null,null,{"$f":"SUMIF($G$19:$G$5015,$G478,$H$19:$H$5015)+SUMIF('2.bTë ardhura-jopublik-monetare'!$G$19:$G$1015,'2.cTë ardhura-jopublik-nënatyrë'!$G478,'2.bTë ardhura-jopublik-monetare'!$H$19:$H$1015)","v":0}]
[null,null,null,null,null,null,null,null,null,{"$f":"SUMIF($G$19:$G$5015,$G479,$H$19:$H$5015)+SUMIF('2.bTë ardhura-jopublik-monetare'!$G$19:$G$1015,'2.cTë ardhura-jopublik-nënatyrë'!$G479,'2.bTë ardhura-jopublik-monetare'!$H$19:$H$1015)","v":0}]
[null,null,null,null,null,null,null,null,null,{"$f":"SUMIF($G$19:$G$5015,$G480,$H$19:$H$5015)+SUMIF('2.bTë ardhura-jopublik-monetare'!$G$19:$G$1015,'2.cTë ardhura-jopublik-nënatyrë'!$G480,'2.bTë ardhura-jopublik-monetare'!$H$19:$H$1015)","v":0}]
[null,null,null,null,null,null,null,null,null,{"$f":"SUMIF($G$19:$G$5015,$G481,$H$19:$H$5015)+SUMIF('2.bTë ardhura-jopublik-monetare'!$G$19:$G$1015,'2.cTë ardhura-jopublik-nënatyrë'!$G481,'2.bTë ardhura-jopublik-monetare'!$H$19:$H$1015)","v":0}]
[null,null,null,null,null,null,null,null,null,{"$f":"SUMIF($G$19:$G$5015,$G482,$H$19:$H$5015)+SUMIF('2.bTë ardhura-jopublik-monetare'!$G$19:$G$1015,'2.cTë ardhura-jopublik-nënatyrë'!$G482,'2.bTë ardhura-jopublik-monetare'!$H$19:$H$1015)","v":0}]
[null,null,null,null,null,null,null,null,null,{"$f":"SUMIF($G$19:$G$5015,$G483,$H$19:$H$5015)+SUMIF('2.bTë ardhura-jopublik-monetare'!$G$19:$G$1015,'2.cTë ardhura-jopublik-nënatyrë'!$G483,'2.bTë ardhura-jopublik-monetare'!$H$19:$H$1015)","v":0}]
[null,null,null,null,null,null,null,null,null,{"$f":"SUMIF($G$19:$G$5015,$G484,$H$19:$H$5015)+SUMIF('2.bTë ardhura-jopublik-monetare'!$G$19:$G$1015,'2.cTë ardhura-jopublik-nënatyrë'!$G484,'2.bTë ardhura-jopublik-monetare'!$H$19:$H$1015)","v":0}]
[null,null,null,null,null,null,null,null,null,{"$f":"SUMIF($G$19:$G$5015,$G485,$H$19:$H$5015)+SUMIF('2.bTë ardhura-jopublik-monetare'!$G$19:$G$1015,'2.cTë ardhura-jopublik-nënatyrë'!$G485,'2.bTë ardhura-jopublik-monetare'!$H$19:$H$1015)","v":0}]
[null,null,null,null,null,null,null,null,null,{"$f":"SUMIF($G$19:$G$5015,$G486,$H$19:$H$5015)+SUMIF('2.bTë ardhura-jopublik-monetare'!$G$19:$G$1015,'2.cTë ardhura-jopublik-nënatyrë'!$G486,'2.bTë ardhura-jopublik-monetare'!$H$19:$H$1015)","v":0}]
[null,null,null,null,null,null,null,null,null,{"$f":"SUMIF($G$19:$G$5015,$G487,$H$19:$H$5015)+SUMIF('2.bTë ardhura-jopublik-monetare'!$G$19:$G$1015,'2.cTë ardhura-jopublik-nënatyrë'!$G487,'2.bTë ardhura-jopublik-monetare'!$H$19:$H$1015)","v":0}]
[null,null,null,null,null,null,null,null,null,{"$f":"SUMIF($G$19:$G$5015,$G488,$H$19:$H$5015)+SUMIF('2.bTë ardhura-jopublik-monetare'!$G$19:$G$1015,'2.cTë ardhura-jopublik-nënatyrë'!$G488,'2.bTë ardhura-jopublik-monetare'!$H$19:$H$1015)","v":0}]
[null,null,null,null,null,null,null,null,null,{"$f":"SUMIF($G$19:$G$5015,$G489,$H$19:$H$5015)+SUMIF('2.bTë ardhura-jopublik-monetare'!$G$19:$G$1015,'2.cTë ardhura-jopublik-nënatyrë'!$G489,'2.bTë ardhura-jopublik-monetare'!$H$19:$H$1015)","v":0}]
[null,null,null,null,null,null,null,null,null,{"$f":"SUMIF($G$19:$G$5015,$G490,$H$19:$H$5015)+SUMIF('2.bTë ardhura-jopublik-monetare'!$G$19:$G$1015,'2.cTë ardhura-jopublik-nënatyrë'!$G490,'2.bTë ardhura-jopublik-monetare'!$H$19:$H$1015)","v":0}]
[null,null,null,null,null,null,null,null,null,{"$f":"SUMIF($G$19:$G$5015,$G491,$H$19:$H$5015)+SUMIF('2.bTë ardhura-jopublik-monetare'!$G$19:$G$1015,'2.cTë ardhura-jopublik-nënatyrë'!$G491,'2.bTë ardhura-jopublik-monetare'!$H$19:$H$1015)","v":0}]
[null,null,null,null,null,null,null,null,null,{"$f":"SUMIF($G$19:$G$5015,$G492,$H$19:$H$5015)+SUMIF('2.bTë ardhura-jopublik-monetare'!$G$19:$G$1015,'2.cTë ardhura-jopublik-nënatyrë'!$G492,'2.bTë ardhura-jopublik-monetare'!$H$19:$H$1015)","v":0}]
[null,null,null,null,null,null,null,null,null,{"$f":"SUMIF($G$19:$G$5015,$G493,$H$19:$H$5015)+SUMIF('2.bTë ardhura-jopublik-monetare'!$G$19:$G$1015,'2.cTë ardhura-jopublik-nënatyrë'!$G493,'2.bTë ardhura-jopublik-monetare'!$H$19:$H$1015)","v":0}]
[null,null,null,null,null,null,null,null,null,{"$f":"SUMIF($G$19:$G$5015,$G494,$H$19:$H$5015)+SUMIF('2.bTë ardhura-jopublik-monetare'!$G$19:$G$1015,'2.cTë ardhura-jopublik-nënatyrë'!$G494,'2.bTë ardhura-jopublik-monetare'!$H$19:$H$1015)","v":0}]
[null,null,null,null,null,null,null,null,null,{"$f":"SUMIF($G$19:$G$5015,$G495,$H$19:$H$5015)+SUMIF('2.bTë ardhura-jopublik-monetare'!$G$19:$G$1015,'2.cTë ardhura-jopublik-nënatyrë'!$G495,'2.bTë ardhura-jopublik-monetare'!$H$19:$H$1015)","v":0}]
[null,null,null,null,null,null,null,null,null,{"$f":"SUMIF($G$19:$G$5015,$G496,$H$19:$H$5015)+SUMIF('2.bTë ardhura-jopublik-monetare'!$G$19:$G$1015,'2.cTë ardhura-jopublik-nënatyrë'!$G496,'2.bTë ardhura-jopublik-monetare'!$H$19:$H$1015)","v":0}]
[null,null,null,null,null,null,null,null,null,{"$f":"SUMIF($G$19:$G$5015,$G497,$H$19:$H$5015)+SUMIF('2.bTë ardhura-jopublik-monetare'!$G$19:$G$1015,'2.cTë ardhura-jopublik-nënatyrë'!$G497,'2.bTë ardhura-jopublik-monetare'!$H$19:$H$1015)","v":0}]
[null,null,null,null,null,null,null,null,null,{"$f":"SUMIF($G$19:$G$5015,$G498,$H$19:$H$5015)+SUMIF('2.bTë ardhura-jopublik-monetare'!$G$19:$G$1015,'2.cTë ardhura-jopublik-nënatyrë'!$G498,'2.bTë ardhura-jopublik-monetare'!$H$19:$H$1015)","v":0}]
[null,null,null,null,null,null,null,null,null,{"$f":"SUMIF($G$19:$G$5015,$G499,$H$19:$H$5015)+SUMIF('2.bTë ardhura-jopublik-monetare'!$G$19:$G$1015,'2.cTë ardhura-jopublik-nënatyrë'!$G499,'2.bTë ardhura-jopublik-monetare'!$H$19:$H$1015)","v":0}]
[null,null,null,null,null,null,null,null,null,{"$f":"SUMIF($G$19:$G$5015,$G500,$H$19:$H$5015)+SUMIF('2.bTë ardhura-jopublik-monetare'!$G$19:$G$1015,'2.cTë ardhura-jopublik-nënatyrë'!$G500,'2.bTë ardhura-jopublik-monetare'!$H$19:$H$1015)","v":0}]
[null,null,null,null,null,null,null,null,null,{"$f":"SUMIF($G$19:$G$5015,$G501,$H$19:$H$5015)+SUMIF('2.bTë ardhura-jopublik-monetare'!$G$19:$G$1015,'2.cTë ardhura-jopublik-nënatyrë'!$G501,'2.bTë ardhura-jopublik-monetare'!$H$19:$H$1015)","v":0}]
[null,null,null,null,null,null,null,null,null,{"$f":"SUMIF($G$19:$G$5015,$G502,$H$19:$H$5015)+SUMIF('2.bTë ardhura-jopublik-monetare'!$G$19:$G$1015,'2.cTë ardhura-jopublik-nënatyrë'!$G502,'2.bTë ardhura-jopublik-monetare'!$H$19:$H$1015)","v":0}]
[null,null,null,null,null,null,null,null,null,{"$f":"SUMIF($G$19:$G$5015,$G503,$H$19:$H$5015)+SUMIF('2.bTë ardhura-jopublik-monetare'!$G$19:$G$1015,'2.cTë ardhura-jopublik-nënatyrë'!$G503,'2.bTë ardhura-jopublik-monetare'!$H$19:$H$1015)","v":0}]
[null,null,null,null,null,null,null,null,null,{"$f":"SUMIF($G$19:$G$5015,$G504,$H$19:$H$5015)+SUMIF('2.bTë ardhura-jopublik-monetare'!$G$19:$G$1015,'2.cTë ardhura-jopublik-nënatyrë'!$G504,'2.bTë ardhura-jopublik-monetare'!$H$19:$H$1015)","v":0}]
[null,null,null,null,null,null,null,null,null,{"$f":"SUMIF($G$19:$G$5015,$G505,$H$19:$H$5015)+SUMIF('2.bTë ardhura-jopublik-monetare'!$G$19:$G$1015,'2.cTë ardhura-jopublik-nënatyrë'!$G505,'2.bTë ardhura-jopublik-monetare'!$H$19:$H$1015)","v":0}]
[null,null,null,null,null,null,null,null,null,{"$f":"SUMIF($G$19:$G$5015,$G506,$H$19:$H$5015)+SUMIF('2.bTë ardhura-jopublik-monetare'!$G$19:$G$1015,'2.cTë ardhura-jopublik-nënatyrë'!$G506,'2.bTë ardhura-jopublik-monetare'!$H$19:$H$1015)","v":0}]
[null,null,null,null,null,null,null,null,null,{"$f":"SUMIF($G$19:$G$5015,$G507,$H$19:$H$5015)+SUMIF('2.bTë ardhura-jopublik-monetare'!$G$19:$G$1015,'2.cTë ardhura-jopublik-nënatyrë'!$G507,'2.bTë ardhura-jopublik-monetare'!$H$19:$H$1015)","v":0}]
[null,null,null,null,null,null,null,null,null,{"$f":"SUMIF($G$19:$G$5015,$G508,$H$19:$H$5015)+SUMIF('2.bTë ardhura-jopublik-monetare'!$G$19:$G$1015,'2.cTë ardhura-jopublik-nënatyrë'!$G508,'2.bTë ardhura-jopublik-monetare'!$H$19:$H$1015)","v":0}]
[null,null,null,null,null,null,null,null,null,{"$f":"SUMIF($G$19:$G$5015,$G509,$H$19:$H$5015)+SUMIF('2.bTë ardhura-jopublik-monetare'!$G$19:$G$1015,'2.cTë ardhura-jopublik-nënatyrë'!$G509,'2.bTë ardhura-jopublik-monetare'!$H$19:$H$1015)","v":0}]
[null,null,null,null,null,null,null,null,null,{"$f":"SUMIF($G$19:$G$5015,$G510,$H$19:$H$5015)+SUMIF('2.bTë ardhura-jopublik-monetare'!$G$19:$G$1015,'2.cTë ardhura-jopublik-nënatyrë'!$G510,'2.bTë ardhura-jopublik-monetare'!$H$19:$H$1015)","v":0}]
[null,null,null,null,null,null,null,null,null,{"$f":"SUMIF($G$19:$G$5015,$G511,$H$19:$H$5015)+SUMIF('2.bTë ardhura-jopublik-monetare'!$G$19:$G$1015,'2.cTë ardhura-jopublik-nënatyrë'!$G511,'2.bTë ardhura-jopublik-monetare'!$H$19:$H$1015)","v":0}]
[null,null,null,null,null,null,null,null,null,{"$f":"SUMIF($G$19:$G$5015,$G512,$H$19:$H$5015)+SUMIF('2.bTë ardhura-jopublik-monetare'!$G$19:$G$1015,'2.cTë ardhura-jopublik-nënatyrë'!$G512,'2.bTë ardhura-jopublik-monetare'!$H$19:$H$1015)","v":0}]
[null,null,null,null,null,null,null,null,null,{"$f":"SUMIF($G$19:$G$5015,$G513,$H$19:$H$5015)+SUMIF('2.bTë ardhura-jopublik-monetare'!$G$19:$G$1015,'2.cTë ardhura-jopublik-nënatyrë'!$G513,'2.bTë ardhura-jopublik-monetare'!$H$19:$H$1015)","v":0}]
[null,null,null,null,null,null,null,null,null,{"$f":"SUMIF($G$19:$G$5015,$G514,$H$19:$H$5015)+SUMIF('2.bTë ardhura-jopublik-monetare'!$G$19:$G$1015,'2.cTë ardhura-jopublik-nënatyrë'!$G514,'2.bTë ardhura-jopublik-monetare'!$H$19:$H$1015)","v":0}]
[null,null,null,null,null,null,null,null,null,{"$f":"SUMIF($G$19:$G$5015,$G515,$H$19:$H$5015)+SUMIF('2.bTë ardhura-jopublik-monetare'!$G$19:$G$1015,'2.cTë ardhura-jopublik-nënatyrë'!$G515,'2.bTë ardhura-jopublik-monetare'!$H$19:$H$1015)","v":0}]
[null,null,null,null,null,null,null,null,null,{"$f":"SUMIF($G$19:$G$5015,$G516,$H$19:$H$5015)+SUMIF('2.bTë ardhura-jopublik-monetare'!$G$19:$G$1015,'2.cTë ardhura-jopublik-nënatyrë'!$G516,'2.bTë ardhura-jopublik-monetare'!$H$19:$H$1015)","v":0}]
[null,null,null,null,null,null,null,null,null,{"$f":"SUMIF($G$19:$G$5015,$G517,$H$19:$H$5015)+SUMIF('2.bTë ardhura-jopublik-monetare'!$G$19:$G$1015,'2.cTë ardhura-jopublik-nënatyrë'!$G517,'2.bTë ardhura-jopublik-monetare'!$H$19:$H$1015)","v":0}]
[null,null,null,null,null,null,null,null,null,{"$f":"SUMIF($G$19:$G$5015,$G518,$H$19:$H$5015)+SUMIF('2.bTë ardhura-jopublik-monetare'!$G$19:$G$1015,'2.cTë ardhura-jopublik-nënatyrë'!$G518,'2.bTë ardhura-jopublik-monetare'!$H$19:$H$1015)","v":0}]
[null,null,null,null,null,null,null,null,null,{"$f":"SUMIF($G$19:$G$5015,$G519,$H$19:$H$5015)+SUMIF('2.bTë ardhura-jopublik-monetare'!$G$19:$G$1015,'2.cTë ardhura-jopublik-nënatyrë'!$G519,'2.bTë ardhura-jopublik-monetare'!$H$19:$H$1015)","v":0}]
[null,null,null,null,null,null,null,null,null,{"$f":"SUMIF($G$19:$G$5015,$G520,$H$19:$H$5015)+SUMIF('2.bTë ardhura-jopublik-monetare'!$G$19:$G$1015,'2.cTë ardhura-jopublik-nënatyrë'!$G520,'2.bTë ardhura-jopublik-monetare'!$H$19:$H$1015)","v":0}]
[null,null,null,null,null,null,null,null,null,{"$f":"SUMIF($G$19:$G$5015,$G521,$H$19:$H$5015)+SUMIF('2.bTë ardhura-jopublik-monetare'!$G$19:$G$1015,'2.cTë ardhura-jopublik-nënatyrë'!$G521,'2.bTë ardhura-jopublik-monetare'!$H$19:$H$1015)","v":0}]
[null,null,null,null,null,null,null,null,null,{"$f":"SUMIF($G$19:$G$5015,$G522,$H$19:$H$5015)+SUMIF('2.bTë ardhura-jopublik-monetare'!$G$19:$G$1015,'2.cTë ardhura-jopublik-nënatyrë'!$G522,'2.bTë ardhura-jopublik-monetare'!$H$19:$H$1015)","v":0}]
[null,null,null,null,null,null,null,null,null,{"$f":"SUMIF($G$19:$G$5015,$G523,$H$19:$H$5015)+SUMIF('2.bTë ardhura-jopublik-monetare'!$G$19:$G$1015,'2.cTë ardhura-jopublik-nënatyrë'!$G523,'2.bTë ardhura-jopublik-monetare'!$H$19:$H$1015)","v":0}]
[null,null,null,null,null,null,null,null,null,{"$f":"SUMIF($G$19:$G$5015,$G524,$H$19:$H$5015)+SUMIF('2.bTë ardhura-jopublik-monetare'!$G$19:$G$1015,'2.cTë ardhura-jopublik-nënatyrë'!$G524,'2.bTë ardhura-jopublik-monetare'!$H$19:$H$1015)","v":0}]
[null,null,null,null,null,null,null,null,null,{"$f":"SUMIF($G$19:$G$5015,$G525,$H$19:$H$5015)+SUMIF('2.bTë ardhura-jopublik-monetare'!$G$19:$G$1015,'2.cTë ardhura-jopublik-nënatyrë'!$G525,'2.bTë ardhura-jopublik-monetare'!$H$19:$H$1015)","v":0}]
[null,null,null,null,null,null,null,null,null,{"$f":"SUMIF($G$19:$G$5015,$G526,$H$19:$H$5015)+SUMIF('2.bTë ardhura-jopublik-monetare'!$G$19:$G$1015,'2.cTë ardhura-jopublik-nënatyrë'!$G526,'2.bTë ardhura-jopublik-monetare'!$H$19:$H$1015)","v":0}]
[null,null,null,null,null,null,null,null,null,{"$f":"SUMIF($G$19:$G$5015,$G527,$H$19:$H$5015)+SUMIF('2.bTë ardhura-jopublik-monetare'!$G$19:$G$1015,'2.cTë ardhura-jopublik-nënatyrë'!$G527,'2.bTë ardhura-jopublik-monetare'!$H$19:$H$1015)","v":0}]
[null,null,null,null,null,null,null,null,null,{"$f":"SUMIF($G$19:$G$5015,$G528,$H$19:$H$5015)+SUMIF('2.bTë ardhura-jopublik-monetare'!$G$19:$G$1015,'2.cTë ardhura-jopublik-nënatyrë'!$G528,'2.bTë ardhura-jopublik-monetare'!$H$19:$H$1015)","v":0}]
[null,null,null,null,null,null,null,null,null,{"$f":"SUMIF($G$19:$G$5015,$G529,$H$19:$H$5015)+SUMIF('2.bTë ardhura-jopublik-monetare'!$G$19:$G$1015,'2.cTë ardhura-jopublik-nënatyrë'!$G529,'2.bTë ardhura-jopublik-monetare'!$H$19:$H$1015)","v":0}]
[null,null,null,null,null,null,null,null,null,{"$f":"SUMIF($G$19:$G$5015,$G530,$H$19:$H$5015)+SUMIF('2.bTë ardhura-jopublik-monetare'!$G$19:$G$1015,'2.cTë ardhura-jopublik-nënatyrë'!$G530,'2.bTë ardhura-jopublik-monetare'!$H$19:$H$1015)","v":0}]
[null,null,null,null,null,null,null,null,null,{"$f":"SUMIF($G$19:$G$5015,$G531,$H$19:$H$5015)+SUMIF('2.bTë ardhura-jopublik-monetare'!$G$19:$G$1015,'2.cTë ardhura-jopublik-nënatyrë'!$G531,'2.bTë ardhura-jopublik-monetare'!$H$19:$H$1015)","v":0}]
[null,null,null,null,null,null,null,null,null,{"$f":"SUMIF($G$19:$G$5015,$G532,$H$19:$H$5015)+SUMIF('2.bTë ardhura-jopublik-monetare'!$G$19:$G$1015,'2.cTë ardhura-jopublik-nënatyrë'!$G532,'2.bTë ardhura-jopublik-monetare'!$H$19:$H$1015)","v":0}]
[null,null,null,null,null,null,null,null,null,{"$f":"SUMIF($G$19:$G$5015,$G533,$H$19:$H$5015)+SUMIF('2.bTë ardhura-jopublik-monetare'!$G$19:$G$1015,'2.cTë ardhura-jopublik-nënatyrë'!$G533,'2.bTë ardhura-jopublik-monetare'!$H$19:$H$1015)","v":0}]
[null,null,null,null,null,null,null,null,null,{"$f":"SUMIF($G$19:$G$5015,$G534,$H$19:$H$5015)+SUMIF('2.bTë ardhura-jopublik-monetare'!$G$19:$G$1015,'2.cTë ardhura-jopublik-nënatyrë'!$G534,'2.bTë ardhura-jopublik-monetare'!$H$19:$H$1015)","v":0}]
[null,null,null,null,null,null,null,null,null,{"$f":"SUMIF($G$19:$G$5015,$G535,$H$19:$H$5015)+SUMIF('2.bTë ardhura-jopublik-monetare'!$G$19:$G$1015,'2.cTë ardhura-jopublik-nënatyrë'!$G535,'2.bTë ardhura-jopublik-monetare'!$H$19:$H$1015)","v":0}]
[null,null,null,null,null,null,null,null,null,{"$f":"SUMIF($G$19:$G$5015,$G536,$H$19:$H$5015)+SUMIF('2.bTë ardhura-jopublik-monetare'!$G$19:$G$1015,'2.cTë ardhura-jopublik-nënatyrë'!$G536,'2.bTë ardhura-jopublik-monetare'!$H$19:$H$1015)","v":0}]
[null,null,null,null,null,null,null,null,null,{"$f":"SUMIF($G$19:$G$5015,$G537,$H$19:$H$5015)+SUMIF('2.bTë ardhura-jopublik-monetare'!$G$19:$G$1015,'2.cTë ardhura-jopublik-nënatyrë'!$G537,'2.bTë ardhura-jopublik-monetare'!$H$19:$H$1015)","v":0}]
[null,null,null,null,null,null,null,null,null,{"$f":"SUMIF($G$19:$G$5015,$G538,$H$19:$H$5015)+SUMIF('2.bTë ardhura-jopublik-monetare'!$G$19:$G$1015,'2.cTë ardhura-jopublik-nënatyrë'!$G538,'2.bTë ardhura-jopublik-monetare'!$H$19:$H$1015)","v":0}]
[null,null,null,null,null,null,null,null,null,{"$f":"SUMIF($G$19:$G$5015,$G539,$H$19:$H$5015)+SUMIF('2.bTë ardhura-jopublik-monetare'!$G$19:$G$1015,'2.cTë ardhura-jopublik-nënatyrë'!$G539,'2.bTë ardhura-jopublik-monetare'!$H$19:$H$1015)","v":0}]
[null,null,null,null,null,null,null,null,null,{"$f":"SUMIF($G$19:$G$5015,$G540,$H$19:$H$5015)+SUMIF('2.bTë ardhura-jopublik-monetare'!$G$19:$G$1015,'2.cTë ardhura-jopublik-nënatyrë'!$G540,'2.bTë ardhura-jopublik-monetare'!$H$19:$H$1015)","v":0}]
[null,null,null,null,null,null,null,null,null,{"$f":"SUMIF($G$19:$G$5015,$G541,$H$19:$H$5015)+SUMIF('2.bTë ardhura-jopublik-monetare'!$G$19:$G$1015,'2.cTë ardhura-jopublik-nënatyrë'!$G541,'2.bTë ardhura-jopublik-monetare'!$H$19:$H$1015)","v":0}]
[null,null,null,null,null,null,null,null,null,{"$f":"SUMIF($G$19:$G$5015,$G542,$H$19:$H$5015)+SUMIF('2.bTë ardhura-jopublik-monetare'!$G$19:$G$1015,'2.cTë ardhura-jopublik-nënatyrë'!$G542,'2.bTë ardhura-jopublik-monetare'!$H$19:$H$1015)","v":0}]
[null,null,null,null,null,null,null,null,null,{"$f":"SUMIF($G$19:$G$5015,$G543,$H$19:$H$5015)+SUMIF('2.bTë ardhura-jopublik-monetare'!$G$19:$G$1015,'2.cTë ardhura-jopublik-nënatyrë'!$G543,'2.bTë ardhura-jopublik-monetare'!$H$19:$H$1015)","v":0}]
[null,null,null,null,null,null,null,null,null,{"$f":"SUMIF($G$19:$G$5015,$G544,$H$19:$H$5015)+SUMIF('2.bTë ardhura-jopublik-monetare'!$G$19:$G$1015,'2.cTë ardhura-jopublik-nënatyrë'!$G544,'2.bTë ardhura-jopublik-monetare'!$H$19:$H$1015)","v":0}]
[null,null,null,null,null,null,null,null,null,{"$f":"SUMIF($G$19:$G$5015,$G545,$H$19:$H$5015)+SUMIF('2.bTë ardhura-jopublik-monetare'!$G$19:$G$1015,'2.cTë ardhura-jopublik-nënatyrë'!$G545,'2.bTë ardhura-jopublik-monetare'!$H$19:$H$1015)","v":0}]
[null,null,null,null,null,null,null,null,null,{"$f":"SUMIF($G$19:$G$5015,$G546,$H$19:$H$5015)+SUMIF('2.bTë ardhura-jopublik-monetare'!$G$19:$G$1015,'2.cTë ardhura-jopublik-nënatyrë'!$G546,'2.bTë ardhura-jopublik-monetare'!$H$19:$H$1015)","v":0}]
[null,null,null,null,null,null,null,null,null,{"$f":"SUMIF($G$19:$G$5015,$G547,$H$19:$H$5015)+SUMIF('2.bTë ardhura-jopublik-monetare'!$G$19:$G$1015,'2.cTë ardhura-jopublik-nënatyrë'!$G547,'2.bTë ardhura-jopublik-monetare'!$H$19:$H$1015)","v":0}]
[null,null,null,null,null,null,null,null,null,{"$f":"SUMIF($G$19:$G$5015,$G548,$H$19:$H$5015)+SUMIF('2.bTë ardhura-jopublik-monetare'!$G$19:$G$1015,'2.cTë ardhura-jopublik-nënatyrë'!$G548,'2.bTë ardhura-jopublik-monetare'!$H$19:$H$1015)","v":0}]
[null,null,null,null,null,null,null,null,null,{"$f":"SUMIF($G$19:$G$5015,$G549,$H$19:$H$5015)+SUMIF('2.bTë ardhura-jopublik-monetare'!$G$19:$G$1015,'2.cTë ardhura-jopublik-nënatyrë'!$G549,'2.bTë ardhura-jopublik-monetare'!$H$19:$H$1015)","v":0}]
[null,null,null,null,null,null,null,null,null,{"$f":"SUMIF($G$19:$G$5015,$G550,$H$19:$H$5015)+SUMIF('2.bTë ardhura-jopublik-monetare'!$G$19:$G$1015,'2.cTë ardhura-jopublik-nënatyrë'!$G550,'2.bTë ardhura-jopublik-monetare'!$H$19:$H$1015)","v":0}]
[null,null,null,null,null,null,null,null,null,{"$f":"SUMIF($G$19:$G$5015,$G551,$H$19:$H$5015)+SUMIF('2.bTë ardhura-jopublik-monetare'!$G$19:$G$1015,'2.cTë ardhura-jopublik-nënatyrë'!$G551,'2.bTë ardhura-jopublik-monetare'!$H$19:$H$1015)","v":0}]
[null,null,null,null,null,null,null,null,null,{"$f":"SUMIF($G$19:$G$5015,$G552,$H$19:$H$5015)+SUMIF('2.bTë ardhura-jopublik-monetare'!$G$19:$G$1015,'2.cTë ardhura-jopublik-nënatyrë'!$G552,'2.bTë ardhura-jopublik-monetare'!$H$19:$H$1015)","v":0}]
[null,null,null,null,null,null,null,null,null,{"$f":"SUMIF($G$19:$G$5015,$G553,$H$19:$H$5015)+SUMIF('2.bTë ardhura-jopublik-monetare'!$G$19:$G$1015,'2.cTë ardhura-jopublik-nënatyrë'!$G553,'2.bTë ardhura-jopublik-monetare'!$H$19:$H$1015)","v":0}]
[null,null,null,null,null,null,null,null,null,{"$f":"SUMIF($G$19:$G$5015,$G554,$H$19:$H$5015)+SUMIF('2.bTë ardhura-jopublik-monetare'!$G$19:$G$1015,'2.cTë ardhura-jopublik-nënatyrë'!$G554,'2.bTë ardhura-jopublik-monetare'!$H$19:$H$1015)","v":0}]
[null,null,null,null,null,null,null,null,null,{"$f":"SUMIF($G$19:$G$5015,$G555,$H$19:$H$5015)+SUMIF('2.bTë ardhura-jopublik-monetare'!$G$19:$G$1015,'2.cTë ardhura-jopublik-nënatyrë'!$G555,'2.bTë ardhura-jopublik-monetare'!$H$19:$H$1015)","v":0}]
[null,null,null,null,null,null,null,null,null,{"$f":"SUMIF($G$19:$G$5015,$G556,$H$19:$H$5015)+SUMIF('2.bTë ardhura-jopublik-monetare'!$G$19:$G$1015,'2.cTë ardhura-jopublik-nënatyrë'!$G556,'2.bTë ardhura-jopublik-monetare'!$H$19:$H$1015)","v":0}]
[null,null,null,null,null,null,null,null,null,{"$f":"SUMIF($G$19:$G$5015,$G557,$H$19:$H$5015)+SUMIF('2.bTë ardhura-jopublik-monetare'!$G$19:$G$1015,'2.cTë ardhura-jopublik-nënatyrë'!$G557,'2.bTë ardhura-jopublik-monetare'!$H$19:$H$1015)","v":0}]
[null,null,null,null,null,null,null,null,null,{"$f":"SUMIF($G$19:$G$5015,$G558,$H$19:$H$5015)+SUMIF('2.bTë ardhura-jopublik-monetare'!$G$19:$G$1015,'2.cTë ardhura-jopublik-nënatyrë'!$G558,'2.bTë ardhura-jopublik-monetare'!$H$19:$H$1015)","v":0}]
[null,null,null,null,null,null,null,null,null,{"$f":"SUMIF($G$19:$G$5015,$G559,$H$19:$H$5015)+SUMIF('2.bTë ardhura-jopublik-monetare'!$G$19:$G$1015,'2.cTë ardhura-jopublik-nënatyrë'!$G559,'2.bTë ardhura-jopublik-monetare'!$H$19:$H$1015)","v":0}]
[null,null,null,null,null,null,null,null,null,{"$f":"SUMIF($G$19:$G$5015,$G560,$H$19:$H$5015)+SUMIF('2.bTë ardhura-jopublik-monetare'!$G$19:$G$1015,'2.cTë ardhura-jopublik-nënatyrë'!$G560,'2.bTë ardhura-jopublik-monetare'!$H$19:$H$1015)","v":0}]
[null,null,null,null,null,null,null,null,null,{"$f":"SUMIF($G$19:$G$5015,$G561,$H$19:$H$5015)+SUMIF('2.bTë ardhura-jopublik-monetare'!$G$19:$G$1015,'2.cTë ardhura-jopublik-nënatyrë'!$G561,'2.bTë ardhura-jopublik-monetare'!$H$19:$H$1015)","v":0}]
[null,null,null,null,null,null,null,null,null,{"$f":"SUMIF($G$19:$G$5015,$G562,$H$19:$H$5015)+SUMIF('2.bTë ardhura-jopublik-monetare'!$G$19:$G$1015,'2.cTë ardhura-jopublik-nënatyrë'!$G562,'2.bTë ardhura-jopublik-monetare'!$H$19:$H$1015)","v":0}]
[null,null,null,null,null,null,null,null,null,{"$f":"SUMIF($G$19:$G$5015,$G563,$H$19:$H$5015)+SUMIF('2.bTë ardhura-jopublik-monetare'!$G$19:$G$1015,'2.cTë ardhura-jopublik-nënatyrë'!$G563,'2.bTë ardhura-jopublik-monetare'!$H$19:$H$1015)","v":0}]
[null,null,null,null,null,null,null,null,null,{"$f":"SUMIF($G$19:$G$5015,$G564,$H$19:$H$5015)+SUMIF('2.bTë ardhura-jopublik-monetare'!$G$19:$G$1015,'2.cTë ardhura-jopublik-nënatyrë'!$G564,'2.bTë ardhura-jopublik-monetare'!$H$19:$H$1015)","v":0}]
[null,null,null,null,null,null,null,null,null,{"$f":"SUMIF($G$19:$G$5015,$G565,$H$19:$H$5015)+SUMIF('2.bTë ardhura-jopublik-monetare'!$G$19:$G$1015,'2.cTë ardhura-jopublik-nënatyrë'!$G565,'2.bTë ardhura-jopublik-monetare'!$H$19:$H$1015)","v":0}]
[null,null,null,null,null,null,null,null,null,{"$f":"SUMIF($G$19:$G$5015,$G566,$H$19:$H$5015)+SUMIF('2.bTë ardhura-jopublik-monetare'!$G$19:$G$1015,'2.cTë ardhura-jopublik-nënatyrë'!$G566,'2.bTë ardhura-jopublik-monetare'!$H$19:$H$1015)","v":0}]
[null,null,null,null,null,null,null,null,null,{"$f":"SUMIF($G$19:$G$5015,$G567,$H$19:$H$5015)+SUMIF('2.bTë ardhura-jopublik-monetare'!$G$19:$G$1015,'2.cTë ardhura-jopublik-nënatyrë'!$G567,'2.bTë ardhura-jopublik-monetare'!$H$19:$H$1015)","v":0}]
[null,null,null,null,null,null,null,null,null,{"$f":"SUMIF($G$19:$G$5015,$G568,$H$19:$H$5015)+SUMIF('2.bTë ardhura-jopublik-monetare'!$G$19:$G$1015,'2.cTë ardhura-jopublik-nënatyrë'!$G568,'2.bTë ardhura-jopublik-monetare'!$H$19:$H$1015)","v":0}]
[null,null,null,null,null,null,null,null,null,{"$f":"SUMIF($G$19:$G$5015,$G569,$H$19:$H$5015)+SUMIF('2.bTë ardhura-jopublik-monetare'!$G$19:$G$1015,'2.cTë ardhura-jopublik-nënatyrë'!$G569,'2.bTë ardhura-jopublik-monetare'!$H$19:$H$1015)","v":0}]
[null,null,null,null,null,null,null,null,null,{"$f":"SUMIF($G$19:$G$5015,$G570,$H$19:$H$5015)+SUMIF('2.bTë ardhura-jopublik-monetare'!$G$19:$G$1015,'2.cTë ardhura-jopublik-nënatyrë'!$G570,'2.bTë ardhura-jopublik-monetare'!$H$19:$H$1015)","v":0}]
[null,null,null,null,null,null,null,null,null,{"$f":"SUMIF($G$19:$G$5015,$G571,$H$19:$H$5015)+SUMIF('2.bTë ardhura-jopublik-monetare'!$G$19:$G$1015,'2.cTë ardhura-jopublik-nënatyrë'!$G571,'2.bTë ardhura-jopublik-monetare'!$H$19:$H$1015)","v":0}]
[null,null,null,null,null,null,null,null,null,{"$f":"SUMIF($G$19:$G$5015,$G572,$H$19:$H$5015)+SUMIF('2.bTë ardhura-jopublik-monetare'!$G$19:$G$1015,'2.cTë ardhura-jopublik-nënatyrë'!$G572,'2.bTë ardhura-jopublik-monetare'!$H$19:$H$1015)","v":0}]
[null,null,null,null,null,null,null,null,null,{"$f":"SUMIF($G$19:$G$5015,$G573,$H$19:$H$5015)+SUMIF('2.bTë ardhura-jopublik-monetare'!$G$19:$G$1015,'2.cTë ardhura-jopublik-nënatyrë'!$G573,'2.bTë ardhura-jopublik-monetare'!$H$19:$H$1015)","v":0}]
[null,null,null,null,null,null,null,null,null,{"$f":"SUMIF($G$19:$G$5015,$G574,$H$19:$H$5015)+SUMIF('2.bTë ardhura-jopublik-monetare'!$G$19:$G$1015,'2.cTë ardhura-jopublik-nënatyrë'!$G574,'2.bTë ardhura-jopublik-monetare'!$H$19:$H$1015)","v":0}]
[null,null,null,null,null,null,null,null,null,{"$f":"SUMIF($G$19:$G$5015,$G575,$H$19:$H$5015)+SUMIF('2.bTë ardhura-jopublik-monetare'!$G$19:$G$1015,'2.cTë ardhura-jopublik-nënatyrë'!$G575,'2.bTë ardhura-jopublik-monetare'!$H$19:$H$1015)","v":0}]
[null,null,null,null,null,null,null,null,null,{"$f":"SUMIF($G$19:$G$5015,$G576,$H$19:$H$5015)+SUMIF('2.bTë ardhura-jopublik-monetare'!$G$19:$G$1015,'2.cTë ardhura-jopublik-nënatyrë'!$G576,'2.bTë ardhura-jopublik-monetare'!$H$19:$H$1015)","v":0}]
[null,null,null,null,null,null,null,null,null,{"$f":"SUMIF($G$19:$G$5015,$G577,$H$19:$H$5015)+SUMIF('2.bTë ardhura-jopublik-monetare'!$G$19:$G$1015,'2.cTë ardhura-jopublik-nënatyrë'!$G577,'2.bTë ardhura-jopublik-monetare'!$H$19:$H$1015)","v":0}]
[null,null,null,null,null,null,null,null,null,{"$f":"SUMIF($G$19:$G$5015,$G578,$H$19:$H$5015)+SUMIF('2.bTë ardhura-jopublik-monetare'!$G$19:$G$1015,'2.cTë ardhura-jopublik-nënatyrë'!$G578,'2.bTë ardhura-jopublik-monetare'!$H$19:$H$1015)","v":0}]
[null,null,null,null,null,null,null,null,null,{"$f":"SUMIF($G$19:$G$5015,$G579,$H$19:$H$5015)+SUMIF('2.bTë ardhura-jopublik-monetare'!$G$19:$G$1015,'2.cTë ardhura-jopublik-nënatyrë'!$G579,'2.bTë ardhura-jopublik-monetare'!$H$19:$H$1015)","v":0}]
[null,null,null,null,null,null,null,null,null,{"$f":"SUMIF($G$19:$G$5015,$G580,$H$19:$H$5015)+SUMIF('2.bTë ardhura-jopublik-monetare'!$G$19:$G$1015,'2.cTë ardhura-jopublik-nënatyrë'!$G580,'2.bTë ardhura-jopublik-monetare'!$H$19:$H$1015)","v":0}]
[null,null,null,null,null,null,null,null,null,{"$f":"SUMIF($G$19:$G$5015,$G581,$H$19:$H$5015)+SUMIF('2.bTë ardhura-jopublik-monetare'!$G$19:$G$1015,'2.cTë ardhura-jopublik-nënatyrë'!$G581,'2.bTë ardhura-jopublik-monetare'!$H$19:$H$1015)","v":0}]
[null,null,null,null,null,null,null,null,null,{"$f":"SUMIF($G$19:$G$5015,$G582,$H$19:$H$5015)+SUMIF('2.bTë ardhura-jopublik-monetare'!$G$19:$G$1015,'2.cTë ardhura-jopublik-nënatyrë'!$G582,'2.bTë ardhura-jopublik-monetare'!$H$19:$H$1015)","v":0}]
[null,null,null,null,null,null,null,null,null,{"$f":"SUMIF($G$19:$G$5015,$G583,$H$19:$H$5015)+SUMIF('2.bTë ardhura-jopublik-monetare'!$G$19:$G$1015,'2.cTë ardhura-jopublik-nënatyrë'!$G583,'2.bTë ardhura-jopublik-monetare'!$H$19:$H$1015)","v":0}]
[null,null,null,null,null,null,null,null,null,{"$f":"SUMIF($G$19:$G$5015,$G584,$H$19:$H$5015)+SUMIF('2.bTë ardhura-jopublik-monetare'!$G$19:$G$1015,'2.cTë ardhura-jopublik-nënatyrë'!$G584,'2.bTë ardhura-jopublik-monetare'!$H$19:$H$1015)","v":0}]
[null,null,null,null,null,null,null,null,null,{"$f":"SUMIF($G$19:$G$5015,$G585,$H$19:$H$5015)+SUMIF('2.bTë ardhura-jopublik-monetare'!$G$19:$G$1015,'2.cTë ardhura-jopublik-nënatyrë'!$G585,'2.bTë ardhura-jopublik-monetare'!$H$19:$H$1015)","v":0}]
[null,null,null,null,null,null,null,null,null,{"$f":"SUMIF($G$19:$G$5015,$G586,$H$19:$H$5015)+SUMIF('2.bTë ardhura-jopublik-monetare'!$G$19:$G$1015,'2.cTë ardhura-jopublik-nënatyrë'!$G586,'2.bTë ardhura-jopublik-monetare'!$H$19:$H$1015)","v":0}]
[null,null,null,null,null,null,null,null,null,{"$f":"SUMIF($G$19:$G$5015,$G587,$H$19:$H$5015)+SUMIF('2.bTë ardhura-jopublik-monetare'!$G$19:$G$1015,'2.cTë ardhura-jopublik-nënatyrë'!$G587,'2.bTë ardhura-jopublik-monetare'!$H$19:$H$1015)","v":0}]
[null,null,null,null,null,null,null,null,null,{"$f":"SUMIF($G$19:$G$5015,$G588,$H$19:$H$5015)+SUMIF('2.bTë ardhura-jopublik-monetare'!$G$19:$G$1015,'2.cTë ardhura-jopublik-nënatyrë'!$G588,'2.bTë ardhura-jopublik-monetare'!$H$19:$H$1015)","v":0}]
[null,null,null,null,null,null,null,null,null,{"$f":"SUMIF($G$19:$G$5015,$G589,$H$19:$H$5015)+SUMIF('2.bTë ardhura-jopublik-monetare'!$G$19:$G$1015,'2.cTë ardhura-jopublik-nënatyrë'!$G589,'2.bTë ardhura-jopublik-monetare'!$H$19:$H$1015)","v":0}]
[null,null,null,null,null,null,null,null,null,{"$f":"SUMIF($G$19:$G$5015,$G590,$H$19:$H$5015)+SUMIF('2.bTë ardhura-jopublik-monetare'!$G$19:$G$1015,'2.cTë ardhura-jopublik-nënatyrë'!$G590,'2.bTë ardhura-jopublik-monetare'!$H$19:$H$1015)","v":0}]
[null,null,null,null,null,null,null,null,null,{"$f":"SUMIF($G$19:$G$5015,$G591,$H$19:$H$5015)+SUMIF('2.bTë ardhura-jopublik-monetare'!$G$19:$G$1015,'2.cTë ardhura-jopublik-nënatyrë'!$G591,'2.bTë ardhura-jopublik-monetare'!$H$19:$H$1015)","v":0}]
[null,null,null,null,null,null,null,null,null,{"$f":"SUMIF($G$19:$G$5015,$G592,$H$19:$H$5015)+SUMIF('2.bTë ardhura-jopublik-monetare'!$G$19:$G$1015,'2.cTë ardhura-jopublik-nënatyrë'!$G592,'2.bTë ardhura-jopublik-monetare'!$H$19:$H$1015)","v":0}]
[null,null,null,null,null,null,null,null,null,{"$f":"SUMIF($G$19:$G$5015,$G593,$H$19:$H$5015)+SUMIF('2.bTë ardhura-jopublik-monetare'!$G$19:$G$1015,'2.cTë ardhura-jopublik-nënatyrë'!$G593,'2.bTë ardhura-jopublik-monetare'!$H$19:$H$1015)","v":0}]
[null,null,null,null,null,null,null,null,null,{"$f":"SUMIF($G$19:$G$5015,$G594,$H$19:$H$5015)+SUMIF('2.bTë ardhura-jopublik-monetare'!$G$19:$G$1015,'2.cTë ardhura-jopublik-nënatyrë'!$G594,'2.bTë ardhura-jopublik-monetare'!$H$19:$H$1015)","v":0}]
[null,null,null,null,null,null,null,null,null,{"$f":"SUMIF($G$19:$G$5015,$G595,$H$19:$H$5015)+SUMIF('2.bTë ardhura-jopublik-monetare'!$G$19:$G$1015,'2.cTë ardhura-jopublik-nënatyrë'!$G595,'2.bTë ardhura-jopublik-monetare'!$H$19:$H$1015)","v":0}]
[null,null,null,null,null,null,null,null,null,{"$f":"SUMIF($G$19:$G$5015,$G596,$H$19:$H$5015)+SUMIF('2.bTë ardhura-jopublik-monetare'!$G$19:$G$1015,'2.cTë ardhura-jopublik-nënatyrë'!$G596,'2.bTë ardhura-jopublik-monetare'!$H$19:$H$1015)","v":0}]
[null,null,null,null,null,null,null,null,null,{"$f":"SUMIF($G$19:$G$5015,$G597,$H$19:$H$5015)+SUMIF('2.bTë ardhura-jopublik-monetare'!$G$19:$G$1015,'2.cTë ardhura-jopublik-nënatyrë'!$G597,'2.bTë ardhura-jopublik-monetare'!$H$19:$H$1015)","v":0}]
[null,null,null,null,null,null,null,null,null,{"$f":"SUMIF($G$19:$G$5015,$G598,$H$19:$H$5015)+SUMIF('2.bTë ardhura-jopublik-monetare'!$G$19:$G$1015,'2.cTë ardhura-jopublik-nënatyrë'!$G598,'2.bTë ardhura-jopublik-monetare'!$H$19:$H$1015)","v":0}]
[null,null,null,null,null,null,null,null,null,{"$f":"SUMIF($G$19:$G$5015,$G599,$H$19:$H$5015)+SUMIF('2.bTë ardhura-jopublik-monetare'!$G$19:$G$1015,'2.cTë ardhura-jopublik-nënatyrë'!$G599,'2.bTë ardhura-jopublik-monetare'!$H$19:$H$1015)","v":0}]
[null,null,null,null,null,null,null,null,null,{"$f":"SUMIF($G$19:$G$5015,$G600,$H$19:$H$5015)+SUMIF('2.bTë ardhura-jopublik-monetare'!$G$19:$G$1015,'2.cTë ardhura-jopublik-nënatyrë'!$G600,'2.bTë ardhura-jopublik-monetare'!$H$19:$H$1015)","v":0}]
[null,null,null,null,null,null,null,null,null,{"$f":"SUMIF($G$19:$G$5015,$G601,$H$19:$H$5015)+SUMIF('2.bTë ardhura-jopublik-monetare'!$G$19:$G$1015,'2.cTë ardhura-jopublik-nënatyrë'!$G601,'2.bTë ardhura-jopublik-monetare'!$H$19:$H$1015)","v":0}]
[null,null,null,null,null,null,null,null,null,{"$f":"SUMIF($G$19:$G$5015,$G602,$H$19:$H$5015)+SUMIF('2.bTë ardhura-jopublik-monetare'!$G$19:$G$1015,'2.cTë ardhura-jopublik-nënatyrë'!$G602,'2.bTë ardhura-jopublik-monetare'!$H$19:$H$1015)","v":0}]
[null,null,null,null,null,null,null,null,null,{"$f":"SUMIF($G$19:$G$5015,$G603,$H$19:$H$5015)+SUMIF('2.bTë ardhura-jopublik-monetare'!$G$19:$G$1015,'2.cTë ardhura-jopublik-nënatyrë'!$G603,'2.bTë ardhura-jopublik-monetare'!$H$19:$H$1015)","v":0}]
[null,null,null,null,null,null,null,null,null,{"$f":"SUMIF($G$19:$G$5015,$G604,$H$19:$H$5015)+SUMIF('2.bTë ardhura-jopublik-monetare'!$G$19:$G$1015,'2.cTë ardhura-jopublik-nënatyrë'!$G604,'2.bTë ardhura-jopublik-monetare'!$H$19:$H$1015)","v":0}]
[null,null,null,null,null,null,null,null,null,{"$f":"SUMIF($G$19:$G$5015,$G605,$H$19:$H$5015)+SUMIF('2.bTë ardhura-jopublik-monetare'!$G$19:$G$1015,'2.cTë ardhura-jopublik-nënatyrë'!$G605,'2.bTë ardhura-jopublik-monetare'!$H$19:$H$1015)","v":0}]
[null,null,null,null,null,null,null,null,null,{"$f":"SUMIF($G$19:$G$5015,$G606,$H$19:$H$5015)+SUMIF('2.bTë ardhura-jopublik-monetare'!$G$19:$G$1015,'2.cTë ardhura-jopublik-nënatyrë'!$G606,'2.bTë ardhura-jopublik-monetare'!$H$19:$H$1015)","v":0}]
[null,null,null,null,null,null,null,null,null,{"$f":"SUMIF($G$19:$G$5015,$G607,$H$19:$H$5015)+SUMIF('2.bTë ardhura-jopublik-monetare'!$G$19:$G$1015,'2.cTë ardhura-jopublik-nënatyrë'!$G607,'2.bTë ardhura-jopublik-monetare'!$H$19:$H$1015)","v":0}]
[null,null,null,null,null,null,null,null,null,{"$f":"SUMIF($G$19:$G$5015,$G608,$H$19:$H$5015)+SUMIF('2.bTë ardhura-jopublik-monetare'!$G$19:$G$1015,'2.cTë ardhura-jopublik-nënatyrë'!$G608,'2.bTë ardhura-jopublik-monetare'!$H$19:$H$1015)","v":0}]
[null,null,null,null,null,null,null,null,null,{"$f":"SUMIF($G$19:$G$5015,$G609,$H$19:$H$5015)+SUMIF('2.bTë ardhura-jopublik-monetare'!$G$19:$G$1015,'2.cTë ardhura-jopublik-nënatyrë'!$G609,'2.bTë ardhura-jopublik-monetare'!$H$19:$H$1015)","v":0}]
[null,null,null,null,null,null,null,null,null,{"$f":"SUMIF($G$19:$G$5015,$G610,$H$19:$H$5015)+SUMIF('2.bTë ardhura-jopublik-monetare'!$G$19:$G$1015,'2.cTë ardhura-jopublik-nënatyrë'!$G610,'2.bTë ardhura-jopublik-monetare'!$H$19:$H$1015)","v":0}]
[null,null,null,null,null,null,null,null,null,{"$f":"SUMIF($G$19:$G$5015,$G611,$H$19:$H$5015)+SUMIF('2.bTë ardhura-jopublik-monetare'!$G$19:$G$1015,'2.cTë ardhura-jopublik-nënatyrë'!$G611,'2.bTë ardhura-jopublik-monetare'!$H$19:$H$1015)","v":0}]
[null,null,null,null,null,null,null,null,null,{"$f":"SUMIF($G$19:$G$5015,$G612,$H$19:$H$5015)+SUMIF('2.bTë ardhura-jopublik-monetare'!$G$19:$G$1015,'2.cTë ardhura-jopublik-nënatyrë'!$G612,'2.bTë ardhura-jopublik-monetare'!$H$19:$H$1015)","v":0}]
[null,null,null,null,null,null,null,null,null,{"$f":"SUMIF($G$19:$G$5015,$G613,$H$19:$H$5015)+SUMIF('2.bTë ardhura-jopublik-monetare'!$G$19:$G$1015,'2.cTë ardhura-jopublik-nënatyrë'!$G613,'2.bTë ardhura-jopublik-monetare'!$H$19:$H$1015)","v":0}]
[null,null,null,null,null,null,null,null,null,{"$f":"SUMIF($G$19:$G$5015,$G614,$H$19:$H$5015)+SUMIF('2.bTë ardhura-jopublik-monetare'!$G$19:$G$1015,'2.cTë ardhura-jopublik-nënatyrë'!$G614,'2.bTë ardhura-jopublik-monetare'!$H$19:$H$1015)","v":0}]
[null,null,null,null,null,null,null,null,null,{"$f":"SUMIF($G$19:$G$5015,$G615,$H$19:$H$5015)+SUMIF('2.bTë ardhura-jopublik-monetare'!$G$19:$G$1015,'2.cTë ardhura-jopublik-nënatyrë'!$G615,'2.bTë ardhura-jopublik-monetare'!$H$19:$H$1015)","v":0}]
[null,null,null,null,null,null,null,null,null,{"$f":"SUMIF($G$19:$G$5015,$G616,$H$19:$H$5015)+SUMIF('2.bTë ardhura-jopublik-monetare'!$G$19:$G$1015,'2.cTë ardhura-jopublik-nënatyrë'!$G616,'2.bTë ardhura-jopublik-monetare'!$H$19:$H$1015)","v":0}]
[null,null,null,null,null,null,null,null,null,{"$f":"SUMIF($G$19:$G$5015,$G617,$H$19:$H$5015)+SUMIF('2.bTë ardhura-jopublik-monetare'!$G$19:$G$1015,'2.cTë ardhura-jopublik-nënatyrë'!$G617,'2.bTë ardhura-jopublik-monetare'!$H$19:$H$1015)","v":0}]
[null,null,null,null,null,null,null,null,null,{"$f":"SUMIF($G$19:$G$5015,$G618,$H$19:$H$5015)+SUMIF('2.bTë ardhura-jopublik-monetare'!$G$19:$G$1015,'2.cTë ardhura-jopublik-nënatyrë'!$G618,'2.bTë ardhura-jopublik-monetare'!$H$19:$H$1015)","v":0}]
[null,null,null,null,null,null,null,null,null,{"$f":"SUMIF($G$19:$G$5015,$G619,$H$19:$H$5015)+SUMIF('2.bTë ardhura-jopublik-monetare'!$G$19:$G$1015,'2.cTë ardhura-jopublik-nënatyrë'!$G619,'2.bTë ardhura-jopublik-monetare'!$H$19:$H$1015)","v":0}]
[null,null,null,null,null,null,null,null,null,{"$f":"SUMIF($G$19:$G$5015,$G620,$H$19:$H$5015)+SUMIF('2.bTë ardhura-jopublik-monetare'!$G$19:$G$1015,'2.cTë ardhura-jopublik-nënatyrë'!$G620,'2.bTë ardhura-jopublik-monetare'!$H$19:$H$1015)","v":0}]
[null,null,null,null,null,null,null,null,null,{"$f":"SUMIF($G$19:$G$5015,$G621,$H$19:$H$5015)+SUMIF('2.bTë ardhura-jopublik-monetare'!$G$19:$G$1015,'2.cTë ardhura-jopublik-nënatyrë'!$G621,'2.bTë ardhura-jopublik-monetare'!$H$19:$H$1015)","v":0}]
[null,null,null,null,null,null,null,null,null,{"$f":"SUMIF($G$19:$G$5015,$G622,$H$19:$H$5015)+SUMIF('2.bTë ardhura-jopublik-monetare'!$G$19:$G$1015,'2.cTë ardhura-jopublik-nënatyrë'!$G622,'2.bTë ardhura-jopublik-monetare'!$H$19:$H$1015)","v":0}]
[null,null,null,null,null,null,null,null,null,{"$f":"SUMIF($G$19:$G$5015,$G623,$H$19:$H$5015)+SUMIF('2.bTë ardhura-jopublik-monetare'!$G$19:$G$1015,'2.cTë ardhura-jopublik-nënatyrë'!$G623,'2.bTë ardhura-jopublik-monetare'!$H$19:$H$1015)","v":0}]
[null,null,null,null,null,null,null,null,null,{"$f":"SUMIF($G$19:$G$5015,$G624,$H$19:$H$5015)+SUMIF('2.bTë ardhura-jopublik-monetare'!$G$19:$G$1015,'2.cTë ardhura-jopublik-nënatyrë'!$G624,'2.bTë ardhura-jopublik-monetare'!$H$19:$H$1015)","v":0}]
[null,null,null,null,null,null,null,null,null,{"$f":"SUMIF($G$19:$G$5015,$G625,$H$19:$H$5015)+SUMIF('2.bTë ardhura-jopublik-monetare'!$G$19:$G$1015,'2.cTë ardhura-jopublik-nënatyrë'!$G625,'2.bTë ardhura-jopublik-monetare'!$H$19:$H$1015)","v":0}]
[null,null,null,null,null,null,null,null,null,{"$f":"SUMIF($G$19:$G$5015,$G626,$H$19:$H$5015)+SUMIF('2.bTë ardhura-jopublik-monetare'!$G$19:$G$1015,'2.cTë ardhura-jopublik-nënatyrë'!$G626,'2.bTë ardhura-jopublik-monetare'!$H$19:$H$1015)","v":0}]
[null,null,null,null,null,null,null,null,null,{"$f":"SUMIF($G$19:$G$5015,$G627,$H$19:$H$5015)+SUMIF('2.bTë ardhura-jopublik-monetare'!$G$19:$G$1015,'2.cTë ardhura-jopublik-nënatyrë'!$G627,'2.bTë ardhura-jopublik-monetare'!$H$19:$H$1015)","v":0}]
[null,null,null,null,null,null,null,null,null,{"$f":"SUMIF($G$19:$G$5015,$G628,$H$19:$H$5015)+SUMIF('2.bTë ardhura-jopublik-monetare'!$G$19:$G$1015,'2.cTë ardhura-jopublik-nënatyrë'!$G628,'2.bTë ardhura-jopublik-monetare'!$H$19:$H$1015)","v":0}]
[null,null,null,null,null,null,null,null,null,{"$f":"SUMIF($G$19:$G$5015,$G629,$H$19:$H$5015)+SUMIF('2.bTë ardhura-jopublik-monetare'!$G$19:$G$1015,'2.cTë ardhura-jopublik-nënatyrë'!$G629,'2.bTë ardhura-jopublik-monetare'!$H$19:$H$1015)","v":0}]
[null,null,null,null,null,null,null,null,null,{"$f":"SUMIF($G$19:$G$5015,$G630,$H$19:$H$5015)+SUMIF('2.bTë ardhura-jopublik-monetare'!$G$19:$G$1015,'2.cTë ardhura-jopublik-nënatyrë'!$G630,'2.bTë ardhura-jopublik-monetare'!$H$19:$H$1015)","v":0}]
[null,null,null,null,null,null,null,null,null,{"$f":"SUMIF($G$19:$G$5015,$G631,$H$19:$H$5015)+SUMIF('2.bTë ardhura-jopublik-monetare'!$G$19:$G$1015,'2.cTë ardhura-jopublik-nënatyrë'!$G631,'2.bTë ardhura-jopublik-monetare'!$H$19:$H$1015)","v":0}]
[null,null,null,null,null,null,null,null,null,{"$f":"SUMIF($G$19:$G$5015,$G632,$H$19:$H$5015)+SUMIF('2.bTë ardhura-jopublik-monetare'!$G$19:$G$1015,'2.cTë ardhura-jopublik-nënatyrë'!$G632,'2.bTë ardhura-jopublik-monetare'!$H$19:$H$1015)","v":0}]
[null,null,null,null,null,null,null,null,null,{"$f":"SUMIF($G$19:$G$5015,$G633,$H$19:$H$5015)+SUMIF('2.bTë ardhura-jopublik-monetare'!$G$19:$G$1015,'2.cTë ardhura-jopublik-nënatyrë'!$G633,'2.bTë ardhura-jopublik-monetare'!$H$19:$H$1015)","v":0}]
[null,null,null,null,null,null,null,null,null,{"$f":"SUMIF($G$19:$G$5015,$G634,$H$19:$H$5015)+SUMIF('2.bTë ardhura-jopublik-monetare'!$G$19:$G$1015,'2.cTë ardhura-jopublik-nënatyrë'!$G634,'2.bTë ardhura-jopublik-monetare'!$H$19:$H$1015)","v":0}]
[null,null,null,null,null,null,null,null,null,{"$f":"SUMIF($G$19:$G$5015,$G635,$H$19:$H$5015)+SUMIF('2.bTë ardhura-jopublik-monetare'!$G$19:$G$1015,'2.cTë ardhura-jopublik-nënatyrë'!$G635,'2.bTë ardhura-jopublik-monetare'!$H$19:$H$1015)","v":0}]
[null,null,null,null,null,null,null,null,null,{"$f":"SUMIF($G$19:$G$5015,$G636,$H$19:$H$5015)+SUMIF('2.bTë ardhura-jopublik-monetare'!$G$19:$G$1015,'2.cTë ardhura-jopublik-nënatyrë'!$G636,'2.bTë ardhura-jopublik-monetare'!$H$19:$H$1015)","v":0}]
[null,null,null,null,null,null,null,null,null,{"$f":"SUMIF($G$19:$G$5015,$G637,$H$19:$H$5015)+SUMIF('2.bTë ardhura-jopublik-monetare'!$G$19:$G$1015,'2.cTë ardhura-jopublik-nënatyrë'!$G637,'2.bTë ardhura-jopublik-monetare'!$H$19:$H$1015)","v":0}]
[null,null,null,null,null,null,null,null,null,{"$f":"SUMIF($G$19:$G$5015,$G638,$H$19:$H$5015)+SUMIF('2.bTë ardhura-jopublik-monetare'!$G$19:$G$1015,'2.cTë ardhura-jopublik-nënatyrë'!$G638,'2.bTë ardhura-jopublik-monetare'!$H$19:$H$1015)","v":0}]
[null,null,null,null,null,null,null,null,null,{"$f":"SUMIF($G$19:$G$5015,$G639,$H$19:$H$5015)+SUMIF('2.bTë ardhura-jopublik-monetare'!$G$19:$G$1015,'2.cTë ardhura-jopublik-nënatyrë'!$G639,'2.bTë ardhura-jopublik-monetare'!$H$19:$H$1015)","v":0}]
[null,null,null,null,null,null,null,null,null,{"$f":"SUMIF($G$19:$G$5015,$G640,$H$19:$H$5015)+SUMIF('2.bTë ardhura-jopublik-monetare'!$G$19:$G$1015,'2.cTë ardhura-jopublik-nënatyrë'!$G640,'2.bTë ardhura-jopublik-monetare'!$H$19:$H$1015)","v":0}]
[null,null,null,null,null,null,null,null,null,{"$f":"SUMIF($G$19:$G$5015,$G641,$H$19:$H$5015)+SUMIF('2.bTë ardhura-jopublik-monetare'!$G$19:$G$1015,'2.cTë ardhura-jopublik-nënatyrë'!$G641,'2.bTë ardhura-jopublik-monetare'!$H$19:$H$1015)","v":0}]
[null,null,null,null,null,null,null,null,null,{"$f":"SUMIF($G$19:$G$5015,$G642,$H$19:$H$5015)+SUMIF('2.bTë ardhura-jopublik-monetare'!$G$19:$G$1015,'2.cTë ardhura-jopublik-nënatyrë'!$G642,'2.bTë ardhura-jopublik-monetare'!$H$19:$H$1015)","v":0}]
[null,null,null,null,null,null,null,null,null,{"$f":"SUMIF($G$19:$G$5015,$G643,$H$19:$H$5015)+SUMIF('2.bTë ardhura-jopublik-monetare'!$G$19:$G$1015,'2.cTë ardhura-jopublik-nënatyrë'!$G643,'2.bTë ardhura-jopublik-monetare'!$H$19:$H$1015)","v":0}]
[null,null,null,null,null,null,null,null,null,{"$f":"SUMIF($G$19:$G$5015,$G644,$H$19:$H$5015)+SUMIF('2.bTë ardhura-jopublik-monetare'!$G$19:$G$1015,'2.cTë ardhura-jopublik-nënatyrë'!$G644,'2.bTë ardhura-jopublik-monetare'!$H$19:$H$1015)","v":0}]
[null,null,null,null,null,null,null,null,null,{"$f":"SUMIF($G$19:$G$5015,$G645,$H$19:$H$5015)+SUMIF('2.bTë ardhura-jopublik-monetare'!$G$19:$G$1015,'2.cTë ardhura-jopublik-nënatyrë'!$G645,'2.bTë ardhura-jopublik-monetare'!$H$19:$H$1015)","v":0}]
[null,null,null,null,null,null,null,null,null,{"$f":"SUMIF($G$19:$G$5015,$G646,$H$19:$H$5015)+SUMIF('2.bTë ardhura-jopublik-monetare'!$G$19:$G$1015,'2.cTë ardhura-jopublik-nënatyrë'!$G646,'2.bTë ardhura-jopublik-monetare'!$H$19:$H$1015)","v":0}]
[null,null,null,null,null,null,null,null,null,{"$f":"SUMIF($G$19:$G$5015,$G647,$H$19:$H$5015)+SUMIF('2.bTë ardhura-jopublik-monetare'!$G$19:$G$1015,'2.cTë ardhura-jopublik-nënatyrë'!$G647,'2.bTë ardhura-jopublik-monetare'!$H$19:$H$1015)","v":0}]
[null,null,null,null,null,null,null,null,null,{"$f":"SUMIF($G$19:$G$5015,$G648,$H$19:$H$5015)+SUMIF('2.bTë ardhura-jopublik-monetare'!$G$19:$G$1015,'2.cTë ardhura-jopublik-nënatyrë'!$G648,'2.bTë ardhura-jopublik-monetare'!$H$19:$H$1015)","v":0}]
[null,null,null,null,null,null,null,null,null,{"$f":"SUMIF($G$19:$G$5015,$G649,$H$19:$H$5015)+SUMIF('2.bTë ardhura-jopublik-monetare'!$G$19:$G$1015,'2.cTë ardhura-jopublik-nënatyrë'!$G649,'2.bTë ardhura-jopublik-monetare'!$H$19:$H$1015)","v":0}]
[null,null,null,null,null,null,null,null,null,{"$f":"SUMIF($G$19:$G$5015,$G650,$H$19:$H$5015)+SUMIF('2.bTë ardhura-jopublik-monetare'!$G$19:$G$1015,'2.cTë ardhura-jopublik-nënatyrë'!$G650,'2.bTë ardhura-jopublik-monetare'!$H$19:$H$1015)","v":0}]
[null,null,null,null,null,null,null,null,null,{"$f":"SUMIF($G$19:$G$5015,$G651,$H$19:$H$5015)+SUMIF('2.bTë ardhura-jopublik-monetare'!$G$19:$G$1015,'2.cTë ardhura-jopublik-nënatyrë'!$G651,'2.bTë ardhura-jopublik-monetare'!$H$19:$H$1015)","v":0}]
[null,null,null,null,null,null,null,null,null,{"$f":"SUMIF($G$19:$G$5015,$G652,$H$19:$H$5015)+SUMIF('2.bTë ardhura-jopublik-monetare'!$G$19:$G$1015,'2.cTë ardhura-jopublik-nënatyrë'!$G652,'2.bTë ardhura-jopublik-monetare'!$H$19:$H$1015)","v":0}]
[null,null,null,null,null,null,null,null,null,{"$f":"SUMIF($G$19:$G$5015,$G653,$H$19:$H$5015)+SUMIF('2.bTë ardhura-jopublik-monetare'!$G$19:$G$1015,'2.cTë ardhura-jopublik-nënatyrë'!$G653,'2.bTë ardhura-jopublik-monetare'!$H$19:$H$1015)","v":0}]
[null,null,null,null,null,null,null,null,null,{"$f":"SUMIF($G$19:$G$5015,$G654,$H$19:$H$5015)+SUMIF('2.bTë ardhura-jopublik-monetare'!$G$19:$G$1015,'2.cTë ardhura-jopublik-nënatyrë'!$G654,'2.bTë ardhura-jopublik-monetare'!$H$19:$H$1015)","v":0}]
[null,null,null,null,null,null,null,null,null,{"$f":"SUMIF($G$19:$G$5015,$G655,$H$19:$H$5015)+SUMIF('2.bTë ardhura-jopublik-monetare'!$G$19:$G$1015,'2.cTë ardhura-jopublik-nënatyrë'!$G655,'2.bTë ardhura-jopublik-monetare'!$H$19:$H$1015)","v":0}]
[null,null,null,null,null,null,null,null,null,{"$f":"SUMIF($G$19:$G$5015,$G656,$H$19:$H$5015)+SUMIF('2.bTë ardhura-jopublik-monetare'!$G$19:$G$1015,'2.cTë ardhura-jopublik-nënatyrë'!$G656,'2.bTë ardhura-jopublik-monetare'!$H$19:$H$1015)","v":0}]
[null,null,null,null,null,null,null,null,null,{"$f":"SUMIF($G$19:$G$5015,$G657,$H$19:$H$5015)+SUMIF('2.bTë ardhura-jopublik-monetare'!$G$19:$G$1015,'2.cTë ardhura-jopublik-nënatyrë'!$G657,'2.bTë ardhura-jopublik-monetare'!$H$19:$H$1015)","v":0}]
[null,null,null,null,null,null,null,null,null,{"$f":"SUMIF($G$19:$G$5015,$G658,$H$19:$H$5015)+SUMIF('2.bTë ardhura-jopublik-monetare'!$G$19:$G$1015,'2.cTë ardhura-jopublik-nënatyrë'!$G658,'2.bTë ardhura-jopublik-monetare'!$H$19:$H$1015)","v":0}]
[null,null,null,null,null,null,null,null,null,{"$f":"SUMIF($G$19:$G$5015,$G659,$H$19:$H$5015)+SUMIF('2.bTë ardhura-jopublik-monetare'!$G$19:$G$1015,'2.cTë ardhura-jopublik-nënatyrë'!$G659,'2.bTë ardhura-jopublik-monetare'!$H$19:$H$1015)","v":0}]
[null,null,null,null,null,null,null,null,null,{"$f":"SUMIF($G$19:$G$5015,$G660,$H$19:$H$5015)+SUMIF('2.bTë ardhura-jopublik-monetare'!$G$19:$G$1015,'2.cTë ardhura-jopublik-nënatyrë'!$G660,'2.bTë ardhura-jopublik-monetare'!$H$19:$H$1015)","v":0}]
[null,null,null,null,null,null,null,null,null,{"$f":"SUMIF($G$19:$G$5015,$G661,$H$19:$H$5015)+SUMIF('2.bTë ardhura-jopublik-monetare'!$G$19:$G$1015,'2.cTë ardhura-jopublik-nënatyrë'!$G661,'2.bTë ardhura-jopublik-monetare'!$H$19:$H$1015)","v":0}]
[null,null,null,null,null,null,null,null,null,{"$f":"SUMIF($G$19:$G$5015,$G662,$H$19:$H$5015)+SUMIF('2.bTë ardhura-jopublik-monetare'!$G$19:$G$1015,'2.cTë ardhura-jopublik-nënatyrë'!$G662,'2.bTë ardhura-jopublik-monetare'!$H$19:$H$1015)","v":0}]
[null,null,null,null,null,null,null,null,null,{"$f":"SUMIF($G$19:$G$5015,$G663,$H$19:$H$5015)+SUMIF('2.bTë ardhura-jopublik-monetare'!$G$19:$G$1015,'2.cTë ardhura-jopublik-nënatyrë'!$G663,'2.bTë ardhura-jopublik-monetare'!$H$19:$H$1015)","v":0}]
[null,null,null,null,null,null,null,null,null,{"$f":"SUMIF($G$19:$G$5015,$G664,$H$19:$H$5015)+SUMIF('2.bTë ardhura-jopublik-monetare'!$G$19:$G$1015,'2.cTë ardhura-jopublik-nënatyrë'!$G664,'2.bTë ardhura-jopublik-monetare'!$H$19:$H$1015)","v":0}]
[null,null,null,null,null,null,null,null,null,{"$f":"SUMIF($G$19:$G$5015,$G665,$H$19:$H$5015)+SUMIF('2.bTë ardhura-jopublik-monetare'!$G$19:$G$1015,'2.cTë ardhura-jopublik-nënatyrë'!$G665,'2.bTë ardhura-jopublik-monetare'!$H$19:$H$1015)","v":0}]
[null,null,null,null,null,null,null,null,null,{"$f":"SUMIF($G$19:$G$5015,$G666,$H$19:$H$5015)+SUMIF('2.bTë ardhura-jopublik-monetare'!$G$19:$G$1015,'2.cTë ardhura-jopublik-nënatyrë'!$G666,'2.bTë ardhura-jopublik-monetare'!$H$19:$H$1015)","v":0}]
[null,null,null,null,null,null,null,null,null,{"$f":"SUMIF($G$19:$G$5015,$G667,$H$19:$H$5015)+SUMIF('2.bTë ardhura-jopublik-monetare'!$G$19:$G$1015,'2.cTë ardhura-jopublik-nënatyrë'!$G667,'2.bTë ardhura-jopublik-monetare'!$H$19:$H$1015)","v":0}]
[null,null,null,null,null,null,null,null,null,{"$f":"SUMIF($G$19:$G$5015,$G668,$H$19:$H$5015)+SUMIF('2.bTë ardhura-jopublik-monetare'!$G$19:$G$1015,'2.cTë ardhura-jopublik-nënatyrë'!$G668,'2.bTë ardhura-jopublik-monetare'!$H$19:$H$1015)","v":0}]
[null,null,null,null,null,null,null,null,null,{"$f":"SUMIF($G$19:$G$5015,$G669,$H$19:$H$5015)+SUMIF('2.bTë ardhura-jopublik-monetare'!$G$19:$G$1015,'2.cTë ardhura-jopublik-nënatyrë'!$G669,'2.bTë ardhura-jopublik-monetare'!$H$19:$H$1015)","v":0}]
[null,null,null,null,null,null,null,null,null,{"$f":"SUMIF($G$19:$G$5015,$G670,$H$19:$H$5015)+SUMIF('2.bTë ardhura-jopublik-monetare'!$G$19:$G$1015,'2.cTë ardhura-jopublik-nënatyrë'!$G670,'2.bTë ardhura-jopublik-monetare'!$H$19:$H$1015)","v":0}]
[null,null,null,null,null,null,null,null,null,{"$f":"SUMIF($G$19:$G$5015,$G671,$H$19:$H$5015)+SUMIF('2.bTë ardhura-jopublik-monetare'!$G$19:$G$1015,'2.cTë ardhura-jopublik-nënatyrë'!$G671,'2.bTë ardhura-jopublik-monetare'!$H$19:$H$1015)","v":0}]
[null,null,null,null,null,null,null,null,null,{"$f":"SUMIF($G$19:$G$5015,$G672,$H$19:$H$5015)+SUMIF('2.bTë ardhura-jopublik-monetare'!$G$19:$G$1015,'2.cTë ardhura-jopublik-nënatyrë'!$G672,'2.bTë ardhura-jopublik-monetare'!$H$19:$H$1015)","v":0}]
[null,null,null,null,null,null,null,null,null,{"$f":"SUMIF($G$19:$G$5015,$G673,$H$19:$H$5015)+SUMIF('2.bTë ardhura-jopublik-monetare'!$G$19:$G$1015,'2.cTë ardhura-jopublik-nënatyrë'!$G673,'2.bTë ardhura-jopublik-monetare'!$H$19:$H$1015)","v":0}]
[null,null,null,null,null,null,null,null,null,{"$f":"SUMIF($G$19:$G$5015,$G674,$H$19:$H$5015)+SUMIF('2.bTë ardhura-jopublik-monetare'!$G$19:$G$1015,'2.cTë ardhura-jopublik-nënatyrë'!$G674,'2.bTë ardhura-jopublik-monetare'!$H$19:$H$1015)","v":0}]
[null,null,null,null,null,null,null,null,null,{"$f":"SUMIF($G$19:$G$5015,$G675,$H$19:$H$5015)+SUMIF('2.bTë ardhura-jopublik-monetare'!$G$19:$G$1015,'2.cTë ardhura-jopublik-nënatyrë'!$G675,'2.bTë ardhura-jopublik-monetare'!$H$19:$H$1015)","v":0}]
[null,null,null,null,null,null,null,null,null,{"$f":"SUMIF($G$19:$G$5015,$G676,$H$19:$H$5015)+SUMIF('2.bTë ardhura-jopublik-monetare'!$G$19:$G$1015,'2.cTë ardhura-jopublik-nënatyrë'!$G676,'2.bTë ardhura-jopublik-monetare'!$H$19:$H$1015)","v":0}]
[null,null,null,null,null,null,null,null,null,{"$f":"SUMIF($G$19:$G$5015,$G677,$H$19:$H$5015)+SUMIF('2.bTë ardhura-jopublik-monetare'!$G$19:$G$1015,'2.cTë ardhura-jopublik-nënatyrë'!$G677,'2.bTë ardhura-jopublik-monetare'!$H$19:$H$1015)","v":0}]
[null,null,null,null,null,null,null,null,null,{"$f":"SUMIF($G$19:$G$5015,$G678,$H$19:$H$5015)+SUMIF('2.bTë ardhura-jopublik-monetare'!$G$19:$G$1015,'2.cTë ardhura-jopublik-nënatyrë'!$G678,'2.bTë ardhura-jopublik-monetare'!$H$19:$H$1015)","v":0}]
[null,null,null,null,null,null,null,null,null,{"$f":"SUMIF($G$19:$G$5015,$G679,$H$19:$H$5015)+SUMIF('2.bTë ardhura-jopublik-monetare'!$G$19:$G$1015,'2.cTë ardhura-jopublik-nënatyrë'!$G679,'2.bTë ardhura-jopublik-monetare'!$H$19:$H$1015)","v":0}]
[null,null,null,null,null,null,null,null,null,{"$f":"SUMIF($G$19:$G$5015,$G680,$H$19:$H$5015)+SUMIF('2.bTë ardhura-jopublik-monetare'!$G$19:$G$1015,'2.cTë ardhura-jopublik-nënatyrë'!$G680,'2.bTë ardhura-jopublik-monetare'!$H$19:$H$1015)","v":0}]
[null,null,null,null,null,null,null,null,null,{"$f":"SUMIF($G$19:$G$5015,$G681,$H$19:$H$5015)+SUMIF('2.bTë ardhura-jopublik-monetare'!$G$19:$G$1015,'2.cTë ardhura-jopublik-nënatyrë'!$G681,'2.bTë ardhura-jopublik-monetare'!$H$19:$H$1015)","v":0}]
[null,null,null,null,null,null,null,null,null,{"$f":"SUMIF($G$19:$G$5015,$G682,$H$19:$H$5015)+SUMIF('2.bTë ardhura-jopublik-monetare'!$G$19:$G$1015,'2.cTë ardhura-jopublik-nënatyrë'!$G682,'2.bTë ardhura-jopublik-monetare'!$H$19:$H$1015)","v":0}]
[null,null,null,null,null,null,null,null,null,{"$f":"SUMIF($G$19:$G$5015,$G683,$H$19:$H$5015)+SUMIF('2.bTë ardhura-jopublik-monetare'!$G$19:$G$1015,'2.cTë ardhura-jopublik-nënatyrë'!$G683,'2.bTë ardhura-jopublik-monetare'!$H$19:$H$1015)","v":0}]
[null,null,null,null,null,null,null,null,null,{"$f":"SUMIF($G$19:$G$5015,$G684,$H$19:$H$5015)+SUMIF('2.bTë ardhura-jopublik-monetare'!$G$19:$G$1015,'2.cTë ardhura-jopublik-nënatyrë'!$G684,'2.bTë ardhura-jopublik-monetare'!$H$19:$H$1015)","v":0}]
[null,null,null,null,null,null,null,null,null,{"$f":"SUMIF($G$19:$G$5015,$G685,$H$19:$H$5015)+SUMIF('2.bTë ardhura-jopublik-monetare'!$G$19:$G$1015,'2.cTë ardhura-jopublik-nënatyrë'!$G685,'2.bTë ardhura-jopublik-monetare'!$H$19:$H$1015)","v":0}]
[null,null,null,null,null,null,null,null,null,{"$f":"SUMIF($G$19:$G$5015,$G686,$H$19:$H$5015)+SUMIF('2.bTë ardhura-jopublik-monetare'!$G$19:$G$1015,'2.cTë ardhura-jopublik-nënatyrë'!$G686,'2.bTë ardhura-jopublik-monetare'!$H$19:$H$1015)","v":0}]
[null,null,null,null,null,null,null,null,null,{"$f":"SUMIF($G$19:$G$5015,$G687,$H$19:$H$5015)+SUMIF('2.bTë ardhura-jopublik-monetare'!$G$19:$G$1015,'2.cTë ardhura-jopublik-nënatyrë'!$G687,'2.bTë ardhura-jopublik-monetare'!$H$19:$H$1015)","v":0}]
[null,null,null,null,null,null,null,null,null,{"$f":"SUMIF($G$19:$G$5015,$G688,$H$19:$H$5015)+SUMIF('2.bTë ardhura-jopublik-monetare'!$G$19:$G$1015,'2.cTë ardhura-jopublik-nënatyrë'!$G688,'2.bTë ardhura-jopublik-monetare'!$H$19:$H$1015)","v":0}]
[null,null,null,null,null,null,null,null,null,{"$f":"SUMIF($G$19:$G$5015,$G689,$H$19:$H$5015)+SUMIF('2.bTë ardhura-jopublik-monetare'!$G$19:$G$1015,'2.cTë ardhura-jopublik-nënatyrë'!$G689,'2.bTë ardhura-jopublik-monetare'!$H$19:$H$1015)","v":0}]
[null,null,null,null,null,null,null,null,null,{"$f":"SUMIF($G$19:$G$5015,$G690,$H$19:$H$5015)+SUMIF('2.bTë ardhura-jopublik-monetare'!$G$19:$G$1015,'2.cTë ardhura-jopublik-nënatyrë'!$G690,'2.bTë ardhura-jopublik-monetare'!$H$19:$H$1015)","v":0}]
[null,null,null,null,null,null,null,null,null,{"$f":"SUMIF($G$19:$G$5015,$G691,$H$19:$H$5015)+SUMIF('2.bTë ardhura-jopublik-monetare'!$G$19:$G$1015,'2.cTë ardhura-jopublik-nënatyrë'!$G691,'2.bTë ardhura-jopublik-monetare'!$H$19:$H$1015)","v":0}]
[null,null,null,null,null,null,null,null,null,{"$f":"SUMIF($G$19:$G$5015,$G692,$H$19:$H$5015)+SUMIF('2.bTë ardhura-jopublik-monetare'!$G$19:$G$1015,'2.cTë ardhura-jopublik-nënatyrë'!$G692,'2.bTë ardhura-jopublik-monetare'!$H$19:$H$1015)","v":0}]
[null,null,null,null,null,null,null,null,null,{"$f":"SUMIF($G$19:$G$5015,$G693,$H$19:$H$5015)+SUMIF('2.bTë ardhura-jopublik-monetare'!$G$19:$G$1015,'2.cTë ardhura-jopublik-nënatyrë'!$G693,'2.bTë ardhura-jopublik-monetare'!$H$19:$H$1015)","v":0}]
[null,null,null,null,null,null,null,null,null,{"$f":"SUMIF($G$19:$G$5015,$G694,$H$19:$H$5015)+SUMIF('2.bTë ardhura-jopublik-monetare'!$G$19:$G$1015,'2.cTë ardhura-jopublik-nënatyrë'!$G694,'2.bTë ardhura-jopublik-monetare'!$H$19:$H$1015)","v":0}]
[null,null,null,null,null,null,null,null,null,{"$f":"SUMIF($G$19:$G$5015,$G695,$H$19:$H$5015)+SUMIF('2.bTë ardhura-jopublik-monetare'!$G$19:$G$1015,'2.cTë ardhura-jopublik-nënatyrë'!$G695,'2.bTë ardhura-jopublik-monetare'!$H$19:$H$1015)","v":0}]
[null,null,null,null,null,null,null,null,null,{"$f":"SUMIF($G$19:$G$5015,$G696,$H$19:$H$5015)+SUMIF('2.bTë ardhura-jopublik-monetare'!$G$19:$G$1015,'2.cTë ardhura-jopublik-nënatyrë'!$G696,'2.bTë ardhura-jopublik-monetare'!$H$19:$H$1015)","v":0}]
[null,null,null,null,null,null,null,null,null,{"$f":"SUMIF($G$19:$G$5015,$G697,$H$19:$H$5015)+SUMIF('2.bTë ardhura-jopublik-monetare'!$G$19:$G$1015,'2.cTë ardhura-jopublik-nënatyrë'!$G697,'2.bTë ardhura-jopublik-monetare'!$H$19:$H$1015)","v":0}]
[null,null,null,null,null,null,null,null,null,{"$f":"SUMIF($G$19:$G$5015,$G698,$H$19:$H$5015)+SUMIF('2.bTë ardhura-jopublik-monetare'!$G$19:$G$1015,'2.cTë ardhura-jopublik-nënatyrë'!$G698,'2.bTë ardhura-jopublik-monetare'!$H$19:$H$1015)","v":0}]
[null,null,null,null,null,null,null,null,null,{"$f":"SUMIF($G$19:$G$5015,$G699,$H$19:$H$5015)+SUMIF('2.bTë ardhura-jopublik-monetare'!$G$19:$G$1015,'2.cTë ardhura-jopublik-nënatyrë'!$G699,'2.bTë ardhura-jopublik-monetare'!$H$19:$H$1015)","v":0}]
[null,null,null,null,null,null,null,null,null,{"$f":"SUMIF($G$19:$G$5015,$G700,$H$19:$H$5015)+SUMIF('2.bTë ardhura-jopublik-monetare'!$G$19:$G$1015,'2.cTë ardhura-jopublik-nënatyrë'!$G700,'2.bTë ardhura-jopublik-monetare'!$H$19:$H$1015)","v":0}]
[null,null,null,null,null,null,null,null,null,{"$f":"SUMIF($G$19:$G$5015,$G701,$H$19:$H$5015)+SUMIF('2.bTë ardhura-jopublik-monetare'!$G$19:$G$1015,'2.cTë ardhura-jopublik-nënatyrë'!$G701,'2.bTë ardhura-jopublik-monetare'!$H$19:$H$1015)","v":0}]
[null,null,null,null,null,null,null,null,null,{"$f":"SUMIF($G$19:$G$5015,$G702,$H$19:$H$5015)+SUMIF('2.bTë ardhura-jopublik-monetare'!$G$19:$G$1015,'2.cTë ardhura-jopublik-nënatyrë'!$G702,'2.bTë ardhura-jopublik-monetare'!$H$19:$H$1015)","v":0}]
[null,null,null,null,null,null,null,null,null,{"$f":"SUMIF($G$19:$G$5015,$G703,$H$19:$H$5015)+SUMIF('2.bTë ardhura-jopublik-monetare'!$G$19:$G$1015,'2.cTë ardhura-jopublik-nënatyrë'!$G703,'2.bTë ardhura-jopublik-monetare'!$H$19:$H$1015)","v":0}]
[null,null,null,null,null,null,null,null,null,{"$f":"SUMIF($G$19:$G$5015,$G704,$H$19:$H$5015)+SUMIF('2.bTë ardhura-jopublik-monetare'!$G$19:$G$1015,'2.cTë ardhura-jopublik-nënatyrë'!$G704,'2.bTë ardhura-jopublik-monetare'!$H$19:$H$1015)","v":0}]
[null,null,null,null,null,null,null,null,null,{"$f":"SUMIF($G$19:$G$5015,$G705,$H$19:$H$5015)+SUMIF('2.bTë ardhura-jopublik-monetare'!$G$19:$G$1015,'2.cTë ardhura-jopublik-nënatyrë'!$G705,'2.bTë ardhura-jopublik-monetare'!$H$19:$H$1015)","v":0}]
[null,null,null,null,null,null,null,null,null,{"$f":"SUMIF($G$19:$G$5015,$G706,$H$19:$H$5015)+SUMIF('2.bTë ardhura-jopublik-monetare'!$G$19:$G$1015,'2.cTë ardhura-jopublik-nënatyrë'!$G706,'2.bTë ardhura-jopublik-monetare'!$H$19:$H$1015)","v":0}]
[null,null,null,null,null,null,null,null,null,{"$f":"SUMIF($G$19:$G$5015,$G707,$H$19:$H$5015)+SUMIF('2.bTë ardhura-jopublik-monetare'!$G$19:$G$1015,'2.cTë ardhura-jopublik-nënatyrë'!$G707,'2.bTë ardhura-jopublik-monetare'!$H$19:$H$1015)","v":0}]
[null,null,null,null,null,null,null,null,null,{"$f":"SUMIF($G$19:$G$5015,$G708,$H$19:$H$5015)+SUMIF('2.bTë ardhura-jopublik-monetare'!$G$19:$G$1015,'2.cTë ardhura-jopublik-nënatyrë'!$G708,'2.bTë ardhura-jopublik-monetare'!$H$19:$H$1015)","v":0}]
[null,null,null,null,null,null,null,null,null,{"$f":"SUMIF($G$19:$G$5015,$G709,$H$19:$H$5015)+SUMIF('2.bTë ardhura-jopublik-monetare'!$G$19:$G$1015,'2.cTë ardhura-jopublik-nënatyrë'!$G709,'2.bTë ardhura-jopublik-monetare'!$H$19:$H$1015)","v":0}]
[null,null,null,null,null,null,null,null,null,{"$f":"SUMIF($G$19:$G$5015,$G710,$H$19:$H$5015)+SUMIF('2.bTë ardhura-jopublik-monetare'!$G$19:$G$1015,'2.cTë ardhura-jopublik-nënatyrë'!$G710,'2.bTë ardhura-jopublik-monetare'!$H$19:$H$1015)","v":0}]
[null,null,null,null,null,null,null,null,null,{"$f":"SUMIF($G$19:$G$5015,$G711,$H$19:$H$5015)+SUMIF('2.bTë ardhura-jopublik-monetare'!$G$19:$G$1015,'2.cTë ardhura-jopublik-nënatyrë'!$G711,'2.bTë ardhura-jopublik-monetare'!$H$19:$H$1015)","v":0}]
[null,null,null,null,null,null,null,null,null,{"$f":"SUMIF($G$19:$G$5015,$G712,$H$19:$H$5015)+SUMIF('2.bTë ardhura-jopublik-monetare'!$G$19:$G$1015,'2.cTë ardhura-jopublik-nënatyrë'!$G712,'2.bTë ardhura-jopublik-monetare'!$H$19:$H$1015)","v":0}]
[null,null,null,null,null,null,null,null,null,{"$f":"SUMIF($G$19:$G$5015,$G713,$H$19:$H$5015)+SUMIF('2.bTë ardhura-jopublik-monetare'!$G$19:$G$1015,'2.cTë ardhura-jopublik-nënatyrë'!$G713,'2.bTë ardhura-jopublik-monetare'!$H$19:$H$1015)","v":0}]
[null,null,null,null,null,null,null,null,null,{"$f":"SUMIF($G$19:$G$5015,$G714,$H$19:$H$5015)+SUMIF('2.bTë ardhura-jopublik-monetare'!$G$19:$G$1015,'2.cTë ardhura-jopublik-nënatyrë'!$G714,'2.bTë ardhura-jopublik-monetare'!$H$19:$H$1015)","v":0}]
[null,null,null,null,null,null,null,null,null,{"$f":"SUMIF($G$19:$G$5015,$G715,$H$19:$H$5015)+SUMIF('2.bTë ardhura-jopublik-monetare'!$G$19:$G$1015,'2.cTë ardhura-jopublik-nënatyrë'!$G715,'2.bTë ardhura-jopublik-monetare'!$H$19:$H$1015)","v":0}]
[null,null,null,null,null,null,null,null,null,{"$f":"SUMIF($G$19:$G$5015,$G716,$H$19:$H$5015)+SUMIF('2.bTë ardhura-jopublik-monetare'!$G$19:$G$1015,'2.cTë ardhura-jopublik-nënatyrë'!$G716,'2.bTë ardhura-jopublik-monetare'!$H$19:$H$1015)","v":0}]
[null,null,null,null,null,null,null,null,null,{"$f":"SUMIF($G$19:$G$5015,$G717,$H$19:$H$5015)+SUMIF('2.bTë ardhura-jopublik-monetare'!$G$19:$G$1015,'2.cTë ardhura-jopublik-nënatyrë'!$G717,'2.bTë ardhura-jopublik-monetare'!$H$19:$H$1015)","v":0}]
[null,null,null,null,null,null,null,null,null,{"$f":"SUMIF($G$19:$G$5015,$G718,$H$19:$H$5015)+SUMIF('2.bTë ardhura-jopublik-monetare'!$G$19:$G$1015,'2.cTë ardhura-jopublik-nënatyrë'!$G718,'2.bTë ardhura-jopublik-monetare'!$H$19:$H$1015)","v":0}]
[null,null,null,null,null,null,null,null,null,{"$f":"SUMIF($G$19:$G$5015,$G719,$H$19:$H$5015)+SUMIF('2.bTë ardhura-jopublik-monetare'!$G$19:$G$1015,'2.cTë ardhura-jopublik-nënatyrë'!$G719,'2.bTë ardhura-jopublik-monetare'!$H$19:$H$1015)","v":0}]
[null,null,null,null,null,null,null,null,null,{"$f":"SUMIF($G$19:$G$5015,$G720,$H$19:$H$5015)+SUMIF('2.bTë ardhura-jopublik-monetare'!$G$19:$G$1015,'2.cTë ardhura-jopublik-nënatyrë'!$G720,'2.bTë ardhura-jopublik-monetare'!$H$19:$H$1015)","v":0}]
[null,null,null,null,null,null,null,null,null,{"$f":"SUMIF($G$19:$G$5015,$G721,$H$19:$H$5015)+SUMIF('2.bTë ardhura-jopublik-monetare'!$G$19:$G$1015,'2.cTë ardhura-jopublik-nënatyrë'!$G721,'2.bTë ardhura-jopublik-monetare'!$H$19:$H$1015)","v":0}]
[null,null,null,null,null,null,null,null,null,{"$f":"SUMIF($G$19:$G$5015,$G722,$H$19:$H$5015)+SUMIF('2.bTë ardhura-jopublik-monetare'!$G$19:$G$1015,'2.cTë ardhura-jopublik-nënatyrë'!$G722,'2.bTë ardhura-jopublik-monetare'!$H$19:$H$1015)","v":0}]
[null,null,null,null,null,null,null,null,null,{"$f":"SUMIF($G$19:$G$5015,$G723,$H$19:$H$5015)+SUMIF('2.bTë ardhura-jopublik-monetare'!$G$19:$G$1015,'2.cTë ardhura-jopublik-nënatyrë'!$G723,'2.bTë ardhura-jopublik-monetare'!$H$19:$H$1015)","v":0}]
[null,null,null,null,null,null,null,null,null,{"$f":"SUMIF($G$19:$G$5015,$G724,$H$19:$H$5015)+SUMIF('2.bTë ardhura-jopublik-monetare'!$G$19:$G$1015,'2.cTë ardhura-jopublik-nënatyrë'!$G724,'2.bTë ardhura-jopublik-monetare'!$H$19:$H$1015)","v":0}]
[null,null,null,null,null,null,null,null,null,{"$f":"SUMIF($G$19:$G$5015,$G725,$H$19:$H$5015)+SUMIF('2.bTë ardhura-jopublik-monetare'!$G$19:$G$1015,'2.cTë ardhura-jopublik-nënatyrë'!$G725,'2.bTë ardhura-jopublik-monetare'!$H$19:$H$1015)","v":0}]
[null,null,null,null,null,null,null,null,null,{"$f":"SUMIF($G$19:$G$5015,$G726,$H$19:$H$5015)+SUMIF('2.bTë ardhura-jopublik-monetare'!$G$19:$G$1015,'2.cTë ardhura-jopublik-nënatyrë'!$G726,'2.bTë ardhura-jopublik-monetare'!$H$19:$H$1015)","v":0}]
[null,null,null,null,null,null,null,null,null,{"$f":"SUMIF($G$19:$G$5015,$G727,$H$19:$H$5015)+SUMIF('2.bTë ardhura-jopublik-monetare'!$G$19:$G$1015,'2.cTë ardhura-jopublik-nënatyrë'!$G727,'2.bTë ardhura-jopublik-monetare'!$H$19:$H$1015)","v":0}]
[null,null,null,null,null,null,null,null,null,{"$f":"SUMIF($G$19:$G$5015,$G728,$H$19:$H$5015)+SUMIF('2.bTë ardhura-jopublik-monetare'!$G$19:$G$1015,'2.cTë ardhura-jopublik-nënatyrë'!$G728,'2.bTë ardhura-jopublik-monetare'!$H$19:$H$1015)","v":0}]
[null,null,null,null,null,null,null,null,null,{"$f":"SUMIF($G$19:$G$5015,$G729,$H$19:$H$5015)+SUMIF('2.bTë ardhura-jopublik-monetare'!$G$19:$G$1015,'2.cTë ardhura-jopublik-nënatyrë'!$G729,'2.bTë ardhura-jopublik-monetare'!$H$19:$H$1015)","v":0}]
[null,null,null,null,null,null,null,null,null,{"$f":"SUMIF($G$19:$G$5015,$G730,$H$19:$H$5015)+SUMIF('2.bTë ardhura-jopublik-monetare'!$G$19:$G$1015,'2.cTë ardhura-jopublik-nënatyrë'!$G730,'2.bTë ardhura-jopublik-monetare'!$H$19:$H$1015)","v":0}]
[null,null,null,null,null,null,null,null,null,{"$f":"SUMIF($G$19:$G$5015,$G731,$H$19:$H$5015)+SUMIF('2.bTë ardhura-jopublik-monetare'!$G$19:$G$1015,'2.cTë ardhura-jopublik-nënatyrë'!$G731,'2.bTë ardhura-jopublik-monetare'!$H$19:$H$1015)","v":0}]
[null,null,null,null,null,null,null,null,null,{"$f":"SUMIF($G$19:$G$5015,$G732,$H$19:$H$5015)+SUMIF('2.bTë ardhura-jopublik-monetare'!$G$19:$G$1015,'2.cTë ardhura-jopublik-nënatyrë'!$G732,'2.bTë ardhura-jopublik-monetare'!$H$19:$H$1015)","v":0}]
[null,null,null,null,null,null,null,null,null,{"$f":"SUMIF($G$19:$G$5015,$G733,$H$19:$H$5015)+SUMIF('2.bTë ardhura-jopublik-monetare'!$G$19:$G$1015,'2.cTë ardhura-jopublik-nënatyrë'!$G733,'2.bTë ardhura-jopublik-monetare'!$H$19:$H$1015)","v":0}]
[null,null,null,null,null,null,null,null,null,{"$f":"SUMIF($G$19:$G$5015,$G734,$H$19:$H$5015)+SUMIF('2.bTë ardhura-jopublik-monetare'!$G$19:$G$1015,'2.cTë ardhura-jopublik-nënatyrë'!$G734,'2.bTë ardhura-jopublik-monetare'!$H$19:$H$1015)","v":0}]
[null,null,null,null,null,null,null,null,null,{"$f":"SUMIF($G$19:$G$5015,$G735,$H$19:$H$5015)+SUMIF('2.bTë ardhura-jopublik-monetare'!$G$19:$G$1015,'2.cTë ardhura-jopublik-nënatyrë'!$G735,'2.bTë ardhura-jopublik-monetare'!$H$19:$H$1015)","v":0}]
[null,null,null,null,null,null,null,null,null,{"$f":"SUMIF($G$19:$G$5015,$G736,$H$19:$H$5015)+SUMIF('2.bTë ardhura-jopublik-monetare'!$G$19:$G$1015,'2.cTë ardhura-jopublik-nënatyrë'!$G736,'2.bTë ardhura-jopublik-monetare'!$H$19:$H$1015)","v":0}]
[null,null,null,null,null,null,null,null,null,{"$f":"SUMIF($G$19:$G$5015,$G737,$H$19:$H$5015)+SUMIF('2.bTë ardhura-jopublik-monetare'!$G$19:$G$1015,'2.cTë ardhura-jopublik-nënatyrë'!$G737,'2.bTë ardhura-jopublik-monetare'!$H$19:$H$1015)","v":0}]
[null,null,null,null,null,null,null,null,null,{"$f":"SUMIF($G$19:$G$5015,$G738,$H$19:$H$5015)+SUMIF('2.bTë ardhura-jopublik-monetare'!$G$19:$G$1015,'2.cTë ardhura-jopublik-nënatyrë'!$G738,'2.bTë ardhura-jopublik-monetare'!$H$19:$H$1015)","v":0}]
[null,null,null,null,null,null,null,null,null,{"$f":"SUMIF($G$19:$G$5015,$G739,$H$19:$H$5015)+SUMIF('2.bTë ardhura-jopublik-monetare'!$G$19:$G$1015,'2.cTë ardhura-jopublik-nënatyrë'!$G739,'2.bTë ardhura-jopublik-monetare'!$H$19:$H$1015)","v":0}]
[null,null,null,null,null,null,null,null,null,{"$f":"SUMIF($G$19:$G$5015,$G740,$H$19:$H$5015)+SUMIF('2.bTë ardhura-jopublik-monetare'!$G$19:$G$1015,'2.cTë ardhura-jopublik-nënatyrë'!$G740,'2.bTë ardhura-jopublik-monetare'!$H$19:$H$1015)","v":0}]
[null,null,null,null,null,null,null,null,null,{"$f":"SUMIF($G$19:$G$5015,$G741,$H$19:$H$5015)+SUMIF('2.bTë ardhura-jopublik-monetare'!$G$19:$G$1015,'2.cTë ardhura-jopublik-nënatyrë'!$G741,'2.bTë ardhura-jopublik-monetare'!$H$19:$H$1015)","v":0}]
[null,null,null,null,null,null,null,null,null,{"$f":"SUMIF($G$19:$G$5015,$G742,$H$19:$H$5015)+SUMIF('2.bTë ardhura-jopublik-monetare'!$G$19:$G$1015,'2.cTë ardhura-jopublik-nënatyrë'!$G742,'2.bTë ardhura-jopublik-monetare'!$H$19:$H$1015)","v":0}]
[null,null,null,null,null,null,null,null,null,{"$f":"SUMIF($G$19:$G$5015,$G743,$H$19:$H$5015)+SUMIF('2.bTë ardhura-jopublik-monetare'!$G$19:$G$1015,'2.cTë ardhura-jopublik-nënatyrë'!$G743,'2.bTë ardhura-jopublik-monetare'!$H$19:$H$1015)","v":0}]
[null,null,null,null,null,null,null,null,null,{"$f":"SUMIF($G$19:$G$5015,$G744,$H$19:$H$5015)+SUMIF('2.bTë ardhura-jopublik-monetare'!$G$19:$G$1015,'2.cTë ardhura-jopublik-nënatyrë'!$G744,'2.bTë ardhura-jopublik-monetare'!$H$19:$H$1015)","v":0}]
[null,null,null,null,null,null,null,null,null,{"$f":"SUMIF($G$19:$G$5015,$G745,$H$19:$H$5015)+SUMIF('2.bTë ardhura-jopublik-monetare'!$G$19:$G$1015,'2.cTë ardhura-jopublik-nënatyrë'!$G745,'2.bTë ardhura-jopublik-monetare'!$H$19:$H$1015)","v":0}]
[null,null,null,null,null,null,null,null,null,{"$f":"SUMIF($G$19:$G$5015,$G746,$H$19:$H$5015)+SUMIF('2.bTë ardhura-jopublik-monetare'!$G$19:$G$1015,'2.cTë ardhura-jopublik-nënatyrë'!$G746,'2.bTë ardhura-jopublik-monetare'!$H$19:$H$1015)","v":0}]
[null,null,null,null,null,null,null,null,null,{"$f":"SUMIF($G$19:$G$5015,$G747,$H$19:$H$5015)+SUMIF('2.bTë ardhura-jopublik-monetare'!$G$19:$G$1015,'2.cTë ardhura-jopublik-nënatyrë'!$G747,'2.bTë ardhura-jopublik-monetare'!$H$19:$H$1015)","v":0}]
[null,null,null,null,null,null,null,null,null,{"$f":"SUMIF($G$19:$G$5015,$G748,$H$19:$H$5015)+SUMIF('2.bTë ardhura-jopublik-monetare'!$G$19:$G$1015,'2.cTë ardhura-jopublik-nënatyrë'!$G748,'2.bTë ardhura-jopublik-monetare'!$H$19:$H$1015)","v":0}]
[null,null,null,null,null,null,null,null,null,{"$f":"SUMIF($G$19:$G$5015,$G749,$H$19:$H$5015)+SUMIF('2.bTë ardhura-jopublik-monetare'!$G$19:$G$1015,'2.cTë ardhura-jopublik-nënatyrë'!$G749,'2.bTë ardhura-jopublik-monetare'!$H$19:$H$1015)","v":0}]
[null,null,null,null,null,null,null,null,null,{"$f":"SUMIF($G$19:$G$5015,$G750,$H$19:$H$5015)+SUMIF('2.bTë ardhura-jopublik-monetare'!$G$19:$G$1015,'2.cTë ardhura-jopublik-nënatyrë'!$G750,'2.bTë ardhura-jopublik-monetare'!$H$19:$H$1015)","v":0}]
[null,null,null,null,null,null,null,null,null,{"$f":"SUMIF($G$19:$G$5015,$G751,$H$19:$H$5015)+SUMIF('2.bTë ardhura-jopublik-monetare'!$G$19:$G$1015,'2.cTë ardhura-jopublik-nënatyrë'!$G751,'2.bTë ardhura-jopublik-monetare'!$H$19:$H$1015)","v":0}]
[null,null,null,null,null,null,null,null,null,{"$f":"SUMIF($G$19:$G$5015,$G752,$H$19:$H$5015)+SUMIF('2.bTë ardhura-jopublik-monetare'!$G$19:$G$1015,'2.cTë ardhura-jopublik-nënatyrë'!$G752,'2.bTë ardhura-jopublik-monetare'!$H$19:$H$1015)","v":0}]
[null,null,null,null,null,null,null,null,null,{"$f":"SUMIF($G$19:$G$5015,$G753,$H$19:$H$5015)+SUMIF('2.bTë ardhura-jopublik-monetare'!$G$19:$G$1015,'2.cTë ardhura-jopublik-nënatyrë'!$G753,'2.bTë ardhura-jopublik-monetare'!$H$19:$H$1015)","v":0}]
[null,null,null,null,null,null,null,null,null,{"$f":"SUMIF($G$19:$G$5015,$G754,$H$19:$H$5015)+SUMIF('2.bTë ardhura-jopublik-monetare'!$G$19:$G$1015,'2.cTë ardhura-jopublik-nënatyrë'!$G754,'2.bTë ardhura-jopublik-monetare'!$H$19:$H$1015)","v":0}]
[null,null,null,null,null,null,null,null,null,{"$f":"SUMIF($G$19:$G$5015,$G755,$H$19:$H$5015)+SUMIF('2.bTë ardhura-jopublik-monetare'!$G$19:$G$1015,'2.cTë ardhura-jopublik-nënatyrë'!$G755,'2.bTë ardhura-jopublik-monetare'!$H$19:$H$1015)","v":0}]
[null,null,null,null,null,null,null,null,null,{"$f":"SUMIF($G$19:$G$5015,$G756,$H$19:$H$5015)+SUMIF('2.bTë ardhura-jopublik-monetare'!$G$19:$G$1015,'2.cTë ardhura-jopublik-nënatyrë'!$G756,'2.bTë ardhura-jopublik-monetare'!$H$19:$H$1015)","v":0}]
[null,null,null,null,null,null,null,null,null,{"$f":"SUMIF($G$19:$G$5015,$G757,$H$19:$H$5015)+SUMIF('2.bTë ardhura-jopublik-monetare'!$G$19:$G$1015,'2.cTë ardhura-jopublik-nënatyrë'!$G757,'2.bTë ardhura-jopublik-monetare'!$H$19:$H$1015)","v":0}]
[null,null,null,null,null,null,null,null,null,{"$f":"SUMIF($G$19:$G$5015,$G758,$H$19:$H$5015)+SUMIF('2.bTë ardhura-jopublik-monetare'!$G$19:$G$1015,'2.cTë ardhura-jopublik-nënatyrë'!$G758,'2.bTë ardhura-jopublik-monetare'!$H$19:$H$1015)","v":0}]
[null,null,null,null,null,null,null,null,null,{"$f":"SUMIF($G$19:$G$5015,$G759,$H$19:$H$5015)+SUMIF('2.bTë ardhura-jopublik-monetare'!$G$19:$G$1015,'2.cTë ardhura-jopublik-nënatyrë'!$G759,'2.bTë ardhura-jopublik-monetare'!$H$19:$H$1015)","v":0}]
[null,null,null,null,null,null,null,null,null,{"$f":"SUMIF($G$19:$G$5015,$G760,$H$19:$H$5015)+SUMIF('2.bTë ardhura-jopublik-monetare'!$G$19:$G$1015,'2.cTë ardhura-jopublik-nënatyrë'!$G760,'2.bTë ardhura-jopublik-monetare'!$H$19:$H$1015)","v":0}]
[null,null,null,null,null,null,null,null,null,{"$f":"SUMIF($G$19:$G$5015,$G761,$H$19:$H$5015)+SUMIF('2.bTë ardhura-jopublik-monetare'!$G$19:$G$1015,'2.cTë ardhura-jopublik-nënatyrë'!$G761,'2.bTë ardhura-jopublik-monetare'!$H$19:$H$1015)","v":0}]
[null,null,null,null,null,null,null,null,null,{"$f":"SUMIF($G$19:$G$5015,$G762,$H$19:$H$5015)+SUMIF('2.bTë ardhura-jopublik-monetare'!$G$19:$G$1015,'2.cTë ardhura-jopublik-nënatyrë'!$G762,'2.bTë ardhura-jopublik-monetare'!$H$19:$H$1015)","v":0}]
[null,null,null,null,null,null,null,null,null,{"$f":"SUMIF($G$19:$G$5015,$G763,$H$19:$H$5015)+SUMIF('2.bTë ardhura-jopublik-monetare'!$G$19:$G$1015,'2.cTë ardhura-jopublik-nënatyrë'!$G763,'2.bTë ardhura-jopublik-monetare'!$H$19:$H$1015)","v":0}]
[null,null,null,null,null,null,null,null,null,{"$f":"SUMIF($G$19:$G$5015,$G764,$H$19:$H$5015)+SUMIF('2.bTë ardhura-jopublik-monetare'!$G$19:$G$1015,'2.cTë ardhura-jopublik-nënatyrë'!$G764,'2.bTë ardhura-jopublik-monetare'!$H$19:$H$1015)","v":0}]
[null,null,null,null,null,null,null,null,null,{"$f":"SUMIF($G$19:$G$5015,$G765,$H$19:$H$5015)+SUMIF('2.bTë ardhura-jopublik-monetare'!$G$19:$G$1015,'2.cTë ardhura-jopublik-nënatyrë'!$G765,'2.bTë ardhura-jopublik-monetare'!$H$19:$H$1015)","v":0}]
[null,null,null,null,null,null,null,null,null,{"$f":"SUMIF($G$19:$G$5015,$G766,$H$19:$H$5015)+SUMIF('2.bTë ardhura-jopublik-monetare'!$G$19:$G$1015,'2.cTë ardhura-jopublik-nënatyrë'!$G766,'2.bTë ardhura-jopublik-monetare'!$H$19:$H$1015)","v":0}]
[null,null,null,null,null,null,null,null,null,{"$f":"SUMIF($G$19:$G$5015,$G767,$H$19:$H$5015)+SUMIF('2.bTë ardhura-jopublik-monetare'!$G$19:$G$1015,'2.cTë ardhura-jopublik-nënatyrë'!$G767,'2.bTë ardhura-jopublik-monetare'!$H$19:$H$1015)","v":0}]
[null,null,null,null,null,null,null,null,null,{"$f":"SUMIF($G$19:$G$5015,$G768,$H$19:$H$5015)+SUMIF('2.bTë ardhura-jopublik-monetare'!$G$19:$G$1015,'2.cTë ardhura-jopublik-nënatyrë'!$G768,'2.bTë ardhura-jopublik-monetare'!$H$19:$H$1015)","v":0}]
[null,null,null,null,null,null,null,null,null,{"$f":"SUMIF($G$19:$G$5015,$G769,$H$19:$H$5015)+SUMIF('2.bTë ardhura-jopublik-monetare'!$G$19:$G$1015,'2.cTë ardhura-jopublik-nënatyrë'!$G769,'2.bTë ardhura-jopublik-monetare'!$H$19:$H$1015)","v":0}]
[null,null,null,null,null,null,null,null,null,{"$f":"SUMIF($G$19:$G$5015,$G770,$H$19:$H$5015)+SUMIF('2.bTë ardhura-jopublik-monetare'!$G$19:$G$1015,'2.cTë ardhura-jopublik-nënatyrë'!$G770,'2.bTë ardhura-jopublik-monetare'!$H$19:$H$1015)","v":0}]
[null,null,null,null,null,null,null,null,null,{"$f":"SUMIF($G$19:$G$5015,$G771,$H$19:$H$5015)+SUMIF('2.bTë ardhura-jopublik-monetare'!$G$19:$G$1015,'2.cTë ardhura-jopublik-nënatyrë'!$G771,'2.bTë ardhura-jopublik-monetare'!$H$19:$H$1015)","v":0}]
[null,null,null,null,null,null,null,null,null,{"$f":"SUMIF($G$19:$G$5015,$G772,$H$19:$H$5015)+SUMIF('2.bTë ardhura-jopublik-monetare'!$G$19:$G$1015,'2.cTë ardhura-jopublik-nënatyrë'!$G772,'2.bTë ardhura-jopublik-monetare'!$H$19:$H$1015)","v":0}]
[null,null,null,null,null,null,null,null,null,{"$f":"SUMIF($G$19:$G$5015,$G773,$H$19:$H$5015)+SUMIF('2.bTë ardhura-jopublik-monetare'!$G$19:$G$1015,'2.cTë ardhura-jopublik-nënatyrë'!$G773,'2.bTë ardhura-jopublik-monetare'!$H$19:$H$1015)","v":0}]
[null,null,null,null,null,null,null,null,null,{"$f":"SUMIF($G$19:$G$5015,$G774,$H$19:$H$5015)+SUMIF('2.bTë ardhura-jopublik-monetare'!$G$19:$G$1015,'2.cTë ardhura-jopublik-nënatyrë'!$G774,'2.bTë ardhura-jopublik-monetare'!$H$19:$H$1015)","v":0}]
[null,null,null,null,null,null,null,null,null,{"$f":"SUMIF($G$19:$G$5015,$G775,$H$19:$H$5015)+SUMIF('2.bTë ardhura-jopublik-monetare'!$G$19:$G$1015,'2.cTë ardhura-jopublik-nënatyrë'!$G775,'2.bTë ardhura-jopublik-monetare'!$H$19:$H$1015)","v":0}]
[null,null,null,null,null,null,null,null,null,{"$f":"SUMIF($G$19:$G$5015,$G776,$H$19:$H$5015)+SUMIF('2.bTë ardhura-jopublik-monetare'!$G$19:$G$1015,'2.cTë ardhura-jopublik-nënatyrë'!$G776,'2.bTë ardhura-jopublik-monetare'!$H$19:$H$1015)","v":0}]
[null,null,null,null,null,null,null,null,null,{"$f":"SUMIF($G$19:$G$5015,$G777,$H$19:$H$5015)+SUMIF('2.bTë ardhura-jopublik-monetare'!$G$19:$G$1015,'2.cTë ardhura-jopublik-nënatyrë'!$G777,'2.bTë ardhura-jopublik-monetare'!$H$19:$H$1015)","v":0}]
[null,null,null,null,null,null,null,null,null,{"$f":"SUMIF($G$19:$G$5015,$G778,$H$19:$H$5015)+SUMIF('2.bTë ardhura-jopublik-monetare'!$G$19:$G$1015,'2.cTë ardhura-jopublik-nënatyrë'!$G778,'2.bTë ardhura-jopublik-monetare'!$H$19:$H$1015)","v":0}]
[null,null,null,null,null,null,null,null,null,{"$f":"SUMIF($G$19:$G$5015,$G779,$H$19:$H$5015)+SUMIF('2.bTë ardhura-jopublik-monetare'!$G$19:$G$1015,'2.cTë ardhura-jopublik-nënatyrë'!$G779,'2.bTë ardhura-jopublik-monetare'!$H$19:$H$1015)","v":0}]
[null,null,null,null,null,null,null,null,null,{"$f":"SUMIF($G$19:$G$5015,$G780,$H$19:$H$5015)+SUMIF('2.bTë ardhura-jopublik-monetare'!$G$19:$G$1015,'2.cTë ardhura-jopublik-nënatyrë'!$G780,'2.bTë ardhura-jopublik-monetare'!$H$19:$H$1015)","v":0}]
[null,null,null,null,null,null,null,null,null,{"$f":"SUMIF($G$19:$G$5015,$G781,$H$19:$H$5015)+SUMIF('2.bTë ardhura-jopublik-monetare'!$G$19:$G$1015,'2.cTë ardhura-jopublik-nënatyrë'!$G781,'2.bTë ardhura-jopublik-monetare'!$H$19:$H$1015)","v":0}]
[null,null,null,null,null,null,null,null,null,{"$f":"SUMIF($G$19:$G$5015,$G782,$H$19:$H$5015)+SUMIF('2.bTë ardhura-jopublik-monetare'!$G$19:$G$1015,'2.cTë ardhura-jopublik-nënatyrë'!$G782,'2.bTë ardhura-jopublik-monetare'!$H$19:$H$1015)","v":0}]
[null,null,null,null,null,null,null,null,null,{"$f":"SUMIF($G$19:$G$5015,$G783,$H$19:$H$5015)+SUMIF('2.bTë ardhura-jopublik-monetare'!$G$19:$G$1015,'2.cTë ardhura-jopublik-nënatyrë'!$G783,'2.bTë ardhura-jopublik-monetare'!$H$19:$H$1015)","v":0}]
[null,null,null,null,null,null,null,null,null,{"$f":"SUMIF($G$19:$G$5015,$G784,$H$19:$H$5015)+SUMIF('2.bTë ardhura-jopublik-monetare'!$G$19:$G$1015,'2.cTë ardhura-jopublik-nënatyrë'!$G784,'2.bTë ardhura-jopublik-monetare'!$H$19:$H$1015)","v":0}]
[null,null,null,null,null,null,null,null,null,{"$f":"SUMIF($G$19:$G$5015,$G785,$H$19:$H$5015)+SUMIF('2.bTë ardhura-jopublik-monetare'!$G$19:$G$1015,'2.cTë ardhura-jopublik-nënatyrë'!$G785,'2.bTë ardhura-jopublik-monetare'!$H$19:$H$1015)","v":0}]
[null,null,null,null,null,null,null,null,null,{"$f":"SUMIF($G$19:$G$5015,$G786,$H$19:$H$5015)+SUMIF('2.bTë ardhura-jopublik-monetare'!$G$19:$G$1015,'2.cTë ardhura-jopublik-nënatyrë'!$G786,'2.bTë ardhura-jopublik-monetare'!$H$19:$H$1015)","v":0}]
[null,null,null,null,null,null,null,null,null,{"$f":"SUMIF($G$19:$G$5015,$G787,$H$19:$H$5015)+SUMIF('2.bTë ardhura-jopublik-monetare'!$G$19:$G$1015,'2.cTë ardhura-jopublik-nënatyrë'!$G787,'2.bTë ardhura-jopublik-monetare'!$H$19:$H$1015)","v":0}]
[null,null,null,null,null,null,null,null,null,{"$f":"SUMIF($G$19:$G$5015,$G788,$H$19:$H$5015)+SUMIF('2.bTë ardhura-jopublik-monetare'!$G$19:$G$1015,'2.cTë ardhura-jopublik-nënatyrë'!$G788,'2.bTë ardhura-jopublik-monetare'!$H$19:$H$1015)","v":0}]
[null,null,null,null,null,null,null,null,null,{"$f":"SUMIF($G$19:$G$5015,$G789,$H$19:$H$5015)+SUMIF('2.bTë ardhura-jopublik-monetare'!$G$19:$G$1015,'2.cTë ardhura-jopublik-nënatyrë'!$G789,'2.bTë ardhura-jopublik-monetare'!$H$19:$H$1015)","v":0}]
[null,null,null,null,null,null,null,null,null,{"$f":"SUMIF($G$19:$G$5015,$G790,$H$19:$H$5015)+SUMIF('2.bTë ardhura-jopublik-monetare'!$G$19:$G$1015,'2.cTë ardhura-jopublik-nënatyrë'!$G790,'2.bTë ardhura-jopublik-monetare'!$H$19:$H$1015)","v":0}]
[null,null,null,null,null,null,null,null,null,{"$f":"SUMIF($G$19:$G$5015,$G791,$H$19:$H$5015)+SUMIF('2.bTë ardhura-jopublik-monetare'!$G$19:$G$1015,'2.cTë ardhura-jopublik-nënatyrë'!$G791,'2.bTë ardhura-jopublik-monetare'!$H$19:$H$1015)","v":0}]
[null,null,null,null,null,null,null,null,null,{"$f":"SUMIF($G$19:$G$5015,$G792,$H$19:$H$5015)+SUMIF('2.bTë ardhura-jopublik-monetare'!$G$19:$G$1015,'2.cTë ardhura-jopublik-nënatyrë'!$G792,'2.bTë ardhura-jopublik-monetare'!$H$19:$H$1015)","v":0}]
[null,null,null,null,null,null,null,null,null,{"$f":"SUMIF($G$19:$G$5015,$G793,$H$19:$H$5015)+SUMIF('2.bTë ardhura-jopublik-monetare'!$G$19:$G$1015,'2.cTë ardhura-jopublik-nënatyrë'!$G793,'2.bTë ardhura-jopublik-monetare'!$H$19:$H$1015)","v":0}]
[null,null,null,null,null,null,null,null,null,{"$f":"SUMIF($G$19:$G$5015,$G794,$H$19:$H$5015)+SUMIF('2.bTë ardhura-jopublik-monetare'!$G$19:$G$1015,'2.cTë ardhura-jopublik-nënatyrë'!$G794,'2.bTë ardhura-jopublik-monetare'!$H$19:$H$1015)","v":0}]
[null,null,null,null,null,null,null,null,null,{"$f":"SUMIF($G$19:$G$5015,$G795,$H$19:$H$5015)+SUMIF('2.bTë ardhura-jopublik-monetare'!$G$19:$G$1015,'2.cTë ardhura-jopublik-nënatyrë'!$G795,'2.bTë ardhura-jopublik-monetare'!$H$19:$H$1015)","v":0}]
[null,null,null,null,null,null,null,null,null,{"$f":"SUMIF($G$19:$G$5015,$G796,$H$19:$H$5015)+SUMIF('2.bTë ardhura-jopublik-monetare'!$G$19:$G$1015,'2.cTë ardhura-jopublik-nënatyrë'!$G796,'2.bTë ardhura-jopublik-monetare'!$H$19:$H$1015)","v":0}]
[null,null,null,null,null,null,null,null,null,{"$f":"SUMIF($G$19:$G$5015,$G797,$H$19:$H$5015)+SUMIF('2.bTë ardhura-jopublik-monetare'!$G$19:$G$1015,'2.cTë ardhura-jopublik-nënatyrë'!$G797,'2.bTë ardhura-jopublik-monetare'!$H$19:$H$1015)","v":0}]
[null,null,null,null,null,null,null,null,null,{"$f":"SUMIF($G$19:$G$5015,$G798,$H$19:$H$5015)+SUMIF('2.bTë ardhura-jopublik-monetare'!$G$19:$G$1015,'2.cTë ardhura-jopublik-nënatyrë'!$G798,'2.bTë ardhura-jopublik-monetare'!$H$19:$H$1015)","v":0}]
[null,null,null,null,null,null,null,null,null,{"$f":"SUMIF($G$19:$G$5015,$G799,$H$19:$H$5015)+SUMIF('2.bTë ardhura-jopublik-monetare'!$G$19:$G$1015,'2.cTë ardhura-jopublik-nënatyrë'!$G799,'2.bTë ardhura-jopublik-monetare'!$H$19:$H$1015)","v":0}]
[null,null,null,null,null,null,null,null,null,{"$f":"SUMIF($G$19:$G$5015,$G800,$H$19:$H$5015)+SUMIF('2.bTë ardhura-jopublik-monetare'!$G$19:$G$1015,'2.cTë ardhura-jopublik-nënatyrë'!$G800,'2.bTë ardhura-jopublik-monetare'!$H$19:$H$1015)","v":0}]
[null,null,null,null,null,null,null,null,null,{"$f":"SUMIF($G$19:$G$5015,$G801,$H$19:$H$5015)+SUMIF('2.bTë ardhura-jopublik-monetare'!$G$19:$G$1015,'2.cTë ardhura-jopublik-nënatyrë'!$G801,'2.bTë ardhura-jopublik-monetare'!$H$19:$H$1015)","v":0}]
[null,null,null,null,null,null,null,null,null,{"$f":"SUMIF($G$19:$G$5015,$G802,$H$19:$H$5015)+SUMIF('2.bTë ardhura-jopublik-monetare'!$G$19:$G$1015,'2.cTë ardhura-jopublik-nënatyrë'!$G802,'2.bTë ardhura-jopublik-monetare'!$H$19:$H$1015)","v":0}]
[null,null,null,null,null,null,null,null,null,{"$f":"SUMIF($G$19:$G$5015,$G803,$H$19:$H$5015)+SUMIF('2.bTë ardhura-jopublik-monetare'!$G$19:$G$1015,'2.cTë ardhura-jopublik-nënatyrë'!$G803,'2.bTë ardhura-jopublik-monetare'!$H$19:$H$1015)","v":0}]
[null,null,null,null,null,null,null,null,null,{"$f":"SUMIF($G$19:$G$5015,$G804,$H$19:$H$5015)+SUMIF('2.bTë ardhura-jopublik-monetare'!$G$19:$G$1015,'2.cTë ardhura-jopublik-nënatyrë'!$G804,'2.bTë ardhura-jopublik-monetare'!$H$19:$H$1015)","v":0}]
[null,null,null,null,null,null,null,null,null,{"$f":"SUMIF($G$19:$G$5015,$G805,$H$19:$H$5015)+SUMIF('2.bTë ardhura-jopublik-monetare'!$G$19:$G$1015,'2.cTë ardhura-jopublik-nënatyrë'!$G805,'2.bTë ardhura-jopublik-monetare'!$H$19:$H$1015)","v":0}]
[null,null,null,null,null,null,null,null,null,{"$f":"SUMIF($G$19:$G$5015,$G806,$H$19:$H$5015)+SUMIF('2.bTë ardhura-jopublik-monetare'!$G$19:$G$1015,'2.cTë ardhura-jopublik-nënatyrë'!$G806,'2.bTë ardhura-jopublik-monetare'!$H$19:$H$1015)","v":0}]
[null,null,null,null,null,null,null,null,null,{"$f":"SUMIF($G$19:$G$5015,$G807,$H$19:$H$5015)+SUMIF('2.bTë ardhura-jopublik-monetare'!$G$19:$G$1015,'2.cTë ardhura-jopublik-nënatyrë'!$G807,'2.bTë ardhura-jopublik-monetare'!$H$19:$H$1015)","v":0}]
[null,null,null,null,null,null,null,null,null,{"$f":"SUMIF($G$19:$G$5015,$G808,$H$19:$H$5015)+SUMIF('2.bTë ardhura-jopublik-monetare'!$G$19:$G$1015,'2.cTë ardhura-jopublik-nënatyrë'!$G808,'2.bTë ardhura-jopublik-monetare'!$H$19:$H$1015)","v":0}]
[null,null,null,null,null,null,null,null,null,{"$f":"SUMIF($G$19:$G$5015,$G809,$H$19:$H$5015)+SUMIF('2.bTë ardhura-jopublik-monetare'!$G$19:$G$1015,'2.cTë ardhura-jopublik-nënatyrë'!$G809,'2.bTë ardhura-jopublik-monetare'!$H$19:$H$1015)","v":0}]
[null,null,null,null,null,null,null,null,null,{"$f":"SUMIF($G$19:$G$5015,$G810,$H$19:$H$5015)+SUMIF('2.bTë ardhura-jopublik-monetare'!$G$19:$G$1015,'2.cTë ardhura-jopublik-nënatyrë'!$G810,'2.bTë ardhura-jopublik-monetare'!$H$19:$H$1015)","v":0}]
[null,null,null,null,null,null,null,null,null,{"$f":"SUMIF($G$19:$G$5015,$G811,$H$19:$H$5015)+SUMIF('2.bTë ardhura-jopublik-monetare'!$G$19:$G$1015,'2.cTë ardhura-jopublik-nënatyrë'!$G811,'2.bTë ardhura-jopublik-monetare'!$H$19:$H$1015)","v":0}]
[null,null,null,null,null,null,null,null,null,{"$f":"SUMIF($G$19:$G$5015,$G812,$H$19:$H$5015)+SUMIF('2.bTë ardhura-jopublik-monetare'!$G$19:$G$1015,'2.cTë ardhura-jopublik-nënatyrë'!$G812,'2.bTë ardhura-jopublik-monetare'!$H$19:$H$1015)","v":0}]
[null,null,null,null,null,null,null,null,null,{"$f":"SUMIF($G$19:$G$5015,$G813,$H$19:$H$5015)+SUMIF('2.bTë ardhura-jopublik-monetare'!$G$19:$G$1015,'2.cTë ardhura-jopublik-nënatyrë'!$G813,'2.bTë ardhura-jopublik-monetare'!$H$19:$H$1015)","v":0}]
[null,null,null,null,null,null,null,null,null,{"$f":"SUMIF($G$19:$G$5015,$G814,$H$19:$H$5015)+SUMIF('2.bTë ardhura-jopublik-monetare'!$G$19:$G$1015,'2.cTë ardhura-jopublik-nënatyrë'!$G814,'2.bTë ardhura-jopublik-monetare'!$H$19:$H$1015)","v":0}]
[null,null,null,null,null,null,null,null,null,{"$f":"SUMIF($G$19:$G$5015,$G815,$H$19:$H$5015)+SUMIF('2.bTë ardhura-jopublik-monetare'!$G$19:$G$1015,'2.cTë ardhura-jopublik-nënatyrë'!$G815,'2.bTë ardhura-jopublik-monetare'!$H$19:$H$1015)","v":0}]
[null,null,null,null,null,null,null,null,null,{"$f":"SUMIF($G$19:$G$5015,$G816,$H$19:$H$5015)+SUMIF('2.bTë ardhura-jopublik-monetare'!$G$19:$G$1015,'2.cTë ardhura-jopublik-nënatyrë'!$G816,'2.bTë ardhura-jopublik-monetare'!$H$19:$H$1015)","v":0}]
[null,null,null,null,null,null,null,null,null,{"$f":"SUMIF($G$19:$G$5015,$G817,$H$19:$H$5015)+SUMIF('2.bTë ardhura-jopublik-monetare'!$G$19:$G$1015,'2.cTë ardhura-jopublik-nënatyrë'!$G817,'2.bTë ardhura-jopublik-monetare'!$H$19:$H$1015)","v":0}]
[null,null,null,null,null,null,null,null,null,{"$f":"SUMIF($G$19:$G$5015,$G818,$H$19:$H$5015)+SUMIF('2.bTë ardhura-jopublik-monetare'!$G$19:$G$1015,'2.cTë ardhura-jopublik-nënatyrë'!$G818,'2.bTë ardhura-jopublik-monetare'!$H$19:$H$1015)","v":0}]
[null,null,null,null,null,null,null,null,null,{"$f":"SUMIF($G$19:$G$5015,$G819,$H$19:$H$5015)+SUMIF('2.bTë ardhura-jopublik-monetare'!$G$19:$G$1015,'2.cTë ardhura-jopublik-nënatyrë'!$G819,'2.bTë ardhura-jopublik-monetare'!$H$19:$H$1015)","v":0}]
[null,null,null,null,null,null,null,null,null,{"$f":"SUMIF($G$19:$G$5015,$G820,$H$19:$H$5015)+SUMIF('2.bTë ardhura-jopublik-monetare'!$G$19:$G$1015,'2.cTë ardhura-jopublik-nënatyrë'!$G820,'2.bTë ardhura-jopublik-monetare'!$H$19:$H$1015)","v":0}]
[null,null,null,null,null,null,null,null,null,{"$f":"SUMIF($G$19:$G$5015,$G821,$H$19:$H$5015)+SUMIF('2.bTë ardhura-jopublik-monetare'!$G$19:$G$1015,'2.cTë ardhura-jopublik-nënatyrë'!$G821,'2.bTë ardhura-jopublik-monetare'!$H$19:$H$1015)","v":0}]
[null,null,null,null,null,null,null,null,null,{"$f":"SUMIF($G$19:$G$5015,$G822,$H$19:$H$5015)+SUMIF('2.bTë ardhura-jopublik-monetare'!$G$19:$G$1015,'2.cTë ardhura-jopublik-nënatyrë'!$G822,'2.bTë ardhura-jopublik-monetare'!$H$19:$H$1015)","v":0}]
[null,null,null,null,null,null,null,null,null,{"$f":"SUMIF($G$19:$G$5015,$G823,$H$19:$H$5015)+SUMIF('2.bTë ardhura-jopublik-monetare'!$G$19:$G$1015,'2.cTë ardhura-jopublik-nënatyrë'!$G823,'2.bTë ardhura-jopublik-monetare'!$H$19:$H$1015)","v":0}]
[null,null,null,null,null,null,null,null,null,{"$f":"SUMIF($G$19:$G$5015,$G824,$H$19:$H$5015)+SUMIF('2.bTë ardhura-jopublik-monetare'!$G$19:$G$1015,'2.cTë ardhura-jopublik-nënatyrë'!$G824,'2.bTë ardhura-jopublik-monetare'!$H$19:$H$1015)","v":0}]
[null,null,null,null,null,null,null,null,null,{"$f":"SUMIF($G$19:$G$5015,$G825,$H$19:$H$5015)+SUMIF('2.bTë ardhura-jopublik-monetare'!$G$19:$G$1015,'2.cTë ardhura-jopublik-nënatyrë'!$G825,'2.bTë ardhura-jopublik-monetare'!$H$19:$H$1015)","v":0}]
[null,null,null,null,null,null,null,null,null,{"$f":"SUMIF($G$19:$G$5015,$G826,$H$19:$H$5015)+SUMIF('2.bTë ardhura-jopublik-monetare'!$G$19:$G$1015,'2.cTë ardhura-jopublik-nënatyrë'!$G826,'2.bTë ardhura-jopublik-monetare'!$H$19:$H$1015)","v":0}]
[null,null,null,null,null,null,null,null,null,{"$f":"SUMIF($G$19:$G$5015,$G827,$H$19:$H$5015)+SUMIF('2.bTë ardhura-jopublik-monetare'!$G$19:$G$1015,'2.cTë ardhura-jopublik-nënatyrë'!$G827,'2.bTë ardhura-jopublik-monetare'!$H$19:$H$1015)","v":0}]
[null,null,null,null,null,null,null,null,null,{"$f":"SUMIF($G$19:$G$5015,$G828,$H$19:$H$5015)+SUMIF('2.bTë ardhura-jopublik-monetare'!$G$19:$G$1015,'2.cTë ardhura-jopublik-nënatyrë'!$G828,'2.bTë ardhura-jopublik-monetare'!$H$19:$H$1015)","v":0}]
[null,null,null,null,null,null,null,null,null,{"$f":"SUMIF($G$19:$G$5015,$G829,$H$19:$H$5015)+SUMIF('2.bTë ardhura-jopublik-monetare'!$G$19:$G$1015,'2.cTë ardhura-jopublik-nënatyrë'!$G829,'2.bTë ardhura-jopublik-monetare'!$H$19:$H$1015)","v":0}]
[null,null,null,null,null,null,null,null,null,{"$f":"SUMIF($G$19:$G$5015,$G830,$H$19:$H$5015)+SUMIF('2.bTë ardhura-jopublik-monetare'!$G$19:$G$1015,'2.cTë ardhura-jopublik-nënatyrë'!$G830,'2.bTë ardhura-jopublik-monetare'!$H$19:$H$1015)","v":0}]
[null,null,null,null,null,null,null,null,null,{"$f":"SUMIF($G$19:$G$5015,$G831,$H$19:$H$5015)+SUMIF('2.bTë ardhura-jopublik-monetare'!$G$19:$G$1015,'2.cTë ardhura-jopublik-nënatyrë'!$G831,'2.bTë ardhura-jopublik-monetare'!$H$19:$H$1015)","v":0}]
[null,null,null,null,null,null,null,null,null,{"$f":"SUMIF($G$19:$G$5015,$G832,$H$19:$H$5015)+SUMIF('2.bTë ardhura-jopublik-monetare'!$G$19:$G$1015,'2.cTë ardhura-jopublik-nënatyrë'!$G832,'2.bTë ardhura-jopublik-monetare'!$H$19:$H$1015)","v":0}]
[null,null,null,null,null,null,null,null,null,{"$f":"SUMIF($G$19:$G$5015,$G833,$H$19:$H$5015)+SUMIF('2.bTë ardhura-jopublik-monetare'!$G$19:$G$1015,'2.cTë ardhura-jopublik-nënatyrë'!$G833,'2.bTë ardhura-jopublik-monetare'!$H$19:$H$1015)","v":0}]
[null,null,null,null,null,null,null,null,null,{"$f":"SUMIF($G$19:$G$5015,$G834,$H$19:$H$5015)+SUMIF('2.bTë ardhura-jopublik-monetare'!$G$19:$G$1015,'2.cTë ardhura-jopublik-nënatyrë'!$G834,'2.bTë ardhura-jopublik-monetare'!$H$19:$H$1015)","v":0}]
[null,null,null,null,null,null,null,null,null,{"$f":"SUMIF($G$19:$G$5015,$G835,$H$19:$H$5015)+SUMIF('2.bTë ardhura-jopublik-monetare'!$G$19:$G$1015,'2.cTë ardhura-jopublik-nënatyrë'!$G835,'2.bTë ardhura-jopublik-monetare'!$H$19:$H$1015)","v":0}]
[null,null,null,null,null,null,null,null,null,{"$f":"SUMIF($G$19:$G$5015,$G836,$H$19:$H$5015)+SUMIF('2.bTë ardhura-jopublik-monetare'!$G$19:$G$1015,'2.cTë ardhura-jopublik-nënatyrë'!$G836,'2.bTë ardhura-jopublik-monetare'!$H$19:$H$1015)","v":0}]
[null,null,null,null,null,null,null,null,null,{"$f":"SUMIF($G$19:$G$5015,$G837,$H$19:$H$5015)+SUMIF('2.bTë ardhura-jopublik-monetare'!$G$19:$G$1015,'2.cTë ardhura-jopublik-nënatyrë'!$G837,'2.bTë ardhura-jopublik-monetare'!$H$19:$H$1015)","v":0}]
[null,null,null,null,null,null,null,null,null,{"$f":"SUMIF($G$19:$G$5015,$G838,$H$19:$H$5015)+SUMIF('2.bTë ardhura-jopublik-monetare'!$G$19:$G$1015,'2.cTë ardhura-jopublik-nënatyrë'!$G838,'2.bTë ardhura-jopublik-monetare'!$H$19:$H$1015)","v":0}]
[null,null,null,null,null,null,null,null,null,{"$f":"SUMIF($G$19:$G$5015,$G839,$H$19:$H$5015)+SUMIF('2.bTë ardhura-jopublik-monetare'!$G$19:$G$1015,'2.cTë ardhura-jopublik-nënatyrë'!$G839,'2.bTë ardhura-jopublik-monetare'!$H$19:$H$1015)","v":0}]
[null,null,null,null,null,null,null,null,null,{"$f":"SUMIF($G$19:$G$5015,$G840,$H$19:$H$5015)+SUMIF('2.bTë ardhura-jopublik-monetare'!$G$19:$G$1015,'2.cTë ardhura-jopublik-nënatyrë'!$G840,'2.bTë ardhura-jopublik-monetare'!$H$19:$H$1015)","v":0}]
[null,null,null,null,null,null,null,null,null,{"$f":"SUMIF($G$19:$G$5015,$G841,$H$19:$H$5015)+SUMIF('2.bTë ardhura-jopublik-monetare'!$G$19:$G$1015,'2.cTë ardhura-jopublik-nënatyrë'!$G841,'2.bTë ardhura-jopublik-monetare'!$H$19:$H$1015)","v":0}]
[null,null,null,null,null,null,null,null,null,{"$f":"SUMIF($G$19:$G$5015,$G842,$H$19:$H$5015)+SUMIF('2.bTë ardhura-jopublik-monetare'!$G$19:$G$1015,'2.cTë ardhura-jopublik-nënatyrë'!$G842,'2.bTë ardhura-jopublik-monetare'!$H$19:$H$1015)","v":0}]
[null,null,null,null,null,null,null,null,null,{"$f":"SUMIF($G$19:$G$5015,$G843,$H$19:$H$5015)+SUMIF('2.bTë ardhura-jopublik-monetare'!$G$19:$G$1015,'2.cTë ardhura-jopublik-nënatyrë'!$G843,'2.bTë ardhura-jopublik-monetare'!$H$19:$H$1015)","v":0}]
[null,null,null,null,null,null,null,null,null,{"$f":"SUMIF($G$19:$G$5015,$G844,$H$19:$H$5015)+SUMIF('2.bTë ardhura-jopublik-monetare'!$G$19:$G$1015,'2.cTë ardhura-jopublik-nënatyrë'!$G844,'2.bTë ardhura-jopublik-monetare'!$H$19:$H$1015)","v":0}]
[null,null,null,null,null,null,null,null,null,{"$f":"SUMIF($G$19:$G$5015,$G845,$H$19:$H$5015)+SUMIF('2.bTë ardhura-jopublik-monetare'!$G$19:$G$1015,'2.cTë ardhura-jopublik-nënatyrë'!$G845,'2.bTë ardhura-jopublik-monetare'!$H$19:$H$1015)","v":0}]
[null,null,null,null,null,null,null,null,null,{"$f":"SUMIF($G$19:$G$5015,$G846,$H$19:$H$5015)+SUMIF('2.bTë ardhura-jopublik-monetare'!$G$19:$G$1015,'2.cTë ardhura-jopublik-nënatyrë'!$G846,'2.bTë ardhura-jopublik-monetare'!$H$19:$H$1015)","v":0}]
[null,null,null,null,null,null,null,null,null,{"$f":"SUMIF($G$19:$G$5015,$G847,$H$19:$H$5015)+SUMIF('2.bTë ardhura-jopublik-monetare'!$G$19:$G$1015,'2.cTë ardhura-jopublik-nënatyrë'!$G847,'2.bTë ardhura-jopublik-monetare'!$H$19:$H$1015)","v":0}]
[null,null,null,null,null,null,null,null,null,{"$f":"SUMIF($G$19:$G$5015,$G848,$H$19:$H$5015)+SUMIF('2.bTë ardhura-jopublik-monetare'!$G$19:$G$1015,'2.cTë ardhura-jopublik-nënatyrë'!$G848,'2.bTë ardhura-jopublik-monetare'!$H$19:$H$1015)","v":0}]
[null,null,null,null,null,null,null,null,null,{"$f":"SUMIF($G$19:$G$5015,$G849,$H$19:$H$5015)+SUMIF('2.bTë ardhura-jopublik-monetare'!$G$19:$G$1015,'2.cTë ardhura-jopublik-nënatyrë'!$G849,'2.bTë ardhura-jopublik-monetare'!$H$19:$H$1015)","v":0}]
[null,null,null,null,null,null,null,null,null,{"$f":"SUMIF($G$19:$G$5015,$G850,$H$19:$H$5015)+SUMIF('2.bTë ardhura-jopublik-monetare'!$G$19:$G$1015,'2.cTë ardhura-jopublik-nënatyrë'!$G850,'2.bTë ardhura-jopublik-monetare'!$H$19:$H$1015)","v":0}]
[null,null,null,null,null,null,null,null,null,{"$f":"SUMIF($G$19:$G$5015,$G851,$H$19:$H$5015)+SUMIF('2.bTë ardhura-jopublik-monetare'!$G$19:$G$1015,'2.cTë ardhura-jopublik-nënatyrë'!$G851,'2.bTë ardhura-jopublik-monetare'!$H$19:$H$1015)","v":0}]
[null,null,null,null,null,null,null,null,null,{"$f":"SUMIF($G$19:$G$5015,$G852,$H$19:$H$5015)+SUMIF('2.bTë ardhura-jopublik-monetare'!$G$19:$G$1015,'2.cTë ardhura-jopublik-nënatyrë'!$G852,'2.bTë ardhura-jopublik-monetare'!$H$19:$H$1015)","v":0}]
[null,null,null,null,null,null,null,null,null,{"$f":"SUMIF($G$19:$G$5015,$G853,$H$19:$H$5015)+SUMIF('2.bTë ardhura-jopublik-monetare'!$G$19:$G$1015,'2.cTë ardhura-jopublik-nënatyrë'!$G853,'2.bTë ardhura-jopublik-monetare'!$H$19:$H$1015)","v":0}]
[null,null,null,null,null,null,null,null,null,{"$f":"SUMIF($G$19:$G$5015,$G854,$H$19:$H$5015)+SUMIF('2.bTë ardhura-jopublik-monetare'!$G$19:$G$1015,'2.cTë ardhura-jopublik-nënatyrë'!$G854,'2.bTë ardhura-jopublik-monetare'!$H$19:$H$1015)","v":0}]
[null,null,null,null,null,null,null,null,null,{"$f":"SUMIF($G$19:$G$5015,$G855,$H$19:$H$5015)+SUMIF('2.bTë ardhura-jopublik-monetare'!$G$19:$G$1015,'2.cTë ardhura-jopublik-nënatyrë'!$G855,'2.bTë ardhura-jopublik-monetare'!$H$19:$H$1015)","v":0}]
[null,null,null,null,null,null,null,null,null,{"$f":"SUMIF($G$19:$G$5015,$G856,$H$19:$H$5015)+SUMIF('2.bTë ardhura-jopublik-monetare'!$G$19:$G$1015,'2.cTë ardhura-jopublik-nënatyrë'!$G856,'2.bTë ardhura-jopublik-monetare'!$H$19:$H$1015)","v":0}]
[null,null,null,null,null,null,null,null,null,{"$f":"SUMIF($G$19:$G$5015,$G857,$H$19:$H$5015)+SUMIF('2.bTë ardhura-jopublik-monetare'!$G$19:$G$1015,'2.cTë ardhura-jopublik-nënatyrë'!$G857,'2.bTë ardhura-jopublik-monetare'!$H$19:$H$1015)","v":0}]
[null,null,null,null,null,null,null,null,null,{"$f":"SUMIF($G$19:$G$5015,$G858,$H$19:$H$5015)+SUMIF('2.bTë ardhura-jopublik-monetare'!$G$19:$G$1015,'2.cTë ardhura-jopublik-nënatyrë'!$G858,'2.bTë ardhura-jopublik-monetare'!$H$19:$H$1015)","v":0}]
[null,null,null,null,null,null,null,null,null,{"$f":"SUMIF($G$19:$G$5015,$G859,$H$19:$H$5015)+SUMIF('2.bTë ardhura-jopublik-monetare'!$G$19:$G$1015,'2.cTë ardhura-jopublik-nënatyrë'!$G859,'2.bTë ardhura-jopublik-monetare'!$H$19:$H$1015)","v":0}]
[null,null,null,null,null,null,null,null,null,{"$f":"SUMIF($G$19:$G$5015,$G860,$H$19:$H$5015)+SUMIF('2.bTë ardhura-jopublik-monetare'!$G$19:$G$1015,'2.cTë ardhura-jopublik-nënatyrë'!$G860,'2.bTë ardhura-jopublik-monetare'!$H$19:$H$1015)","v":0}]
[null,null,null,null,null,null,null,null,null,{"$f":"SUMIF($G$19:$G$5015,$G861,$H$19:$H$5015)+SUMIF('2.bTë ardhura-jopublik-monetare'!$G$19:$G$1015,'2.cTë ardhura-jopublik-nënatyrë'!$G861,'2.bTë ardhura-jopublik-monetare'!$H$19:$H$1015)","v":0}]
[null,null,null,null,null,null,null,null,null,{"$f":"SUMIF($G$19:$G$5015,$G862,$H$19:$H$5015)+SUMIF('2.bTë ardhura-jopublik-monetare'!$G$19:$G$1015,'2.cTë ardhura-jopublik-nënatyrë'!$G862,'2.bTë ardhura-jopublik-monetare'!$H$19:$H$1015)","v":0}]
[null,null,null,null,null,null,null,null,null,{"$f":"SUMIF($G$19:$G$5015,$G863,$H$19:$H$5015)+SUMIF('2.bTë ardhura-jopublik-monetare'!$G$19:$G$1015,'2.cTë ardhura-jopublik-nënatyrë'!$G863,'2.bTë ardhura-jopublik-monetare'!$H$19:$H$1015)","v":0}]
[null,null,null,null,null,null,null,null,null,{"$f":"SUMIF($G$19:$G$5015,$G864,$H$19:$H$5015)+SUMIF('2.bTë ardhura-jopublik-monetare'!$G$19:$G$1015,'2.cTë ardhura-jopublik-nënatyrë'!$G864,'2.bTë ardhura-jopublik-monetare'!$H$19:$H$1015)","v":0}]
[null,null,null,null,null,null,null,null,null,{"$f":"SUMIF($G$19:$G$5015,$G865,$H$19:$H$5015)+SUMIF('2.bTë ardhura-jopublik-monetare'!$G$19:$G$1015,'2.cTë ardhura-jopublik-nënatyrë'!$G865,'2.bTë ardhura-jopublik-monetare'!$H$19:$H$1015)","v":0}]
[null,null,null,null,null,null,null,null,null,{"$f":"SUMIF($G$19:$G$5015,$G866,$H$19:$H$5015)+SUMIF('2.bTë ardhura-jopublik-monetare'!$G$19:$G$1015,'2.cTë ardhura-jopublik-nënatyrë'!$G866,'2.bTë ardhura-jopublik-monetare'!$H$19:$H$1015)","v":0}]
[null,null,null,null,null,null,null,null,null,{"$f":"SUMIF($G$19:$G$5015,$G867,$H$19:$H$5015)+SUMIF('2.bTë ardhura-jopublik-monetare'!$G$19:$G$1015,'2.cTë ardhura-jopublik-nënatyrë'!$G867,'2.bTë ardhura-jopublik-monetare'!$H$19:$H$1015)","v":0}]
[null,null,null,null,null,null,null,null,null,{"$f":"SUMIF($G$19:$G$5015,$G868,$H$19:$H$5015)+SUMIF('2.bTë ardhura-jopublik-monetare'!$G$19:$G$1015,'2.cTë ardhura-jopublik-nënatyrë'!$G868,'2.bTë ardhura-jopublik-monetare'!$H$19:$H$1015)","v":0}]
[null,null,null,null,null,null,null,null,null,{"$f":"SUMIF($G$19:$G$5015,$G869,$H$19:$H$5015)+SUMIF('2.bTë ardhura-jopublik-monetare'!$G$19:$G$1015,'2.cTë ardhura-jopublik-nënatyrë'!$G869,'2.bTë ardhura-jopublik-monetare'!$H$19:$H$1015)","v":0}]
[null,null,null,null,null,null,null,null,null,{"$f":"SUMIF($G$19:$G$5015,$G870,$H$19:$H$5015)+SUMIF('2.bTë ardhura-jopublik-monetare'!$G$19:$G$1015,'2.cTë ardhura-jopublik-nënatyrë'!$G870,'2.bTë ardhura-jopublik-monetare'!$H$19:$H$1015)","v":0}]
[null,null,null,null,null,null,null,null,null,{"$f":"SUMIF($G$19:$G$5015,$G871,$H$19:$H$5015)+SUMIF('2.bTë ardhura-jopublik-monetare'!$G$19:$G$1015,'2.cTë ardhura-jopublik-nënatyrë'!$G871,'2.bTë ardhura-jopublik-monetare'!$H$19:$H$1015)","v":0}]
[null,null,null,null,null,null,null,null,null,{"$f":"SUMIF($G$19:$G$5015,$G872,$H$19:$H$5015)+SUMIF('2.bTë ardhura-jopublik-monetare'!$G$19:$G$1015,'2.cTë ardhura-jopublik-nënatyrë'!$G872,'2.bTë ardhura-jopublik-monetare'!$H$19:$H$1015)","v":0}]
[null,null,null,null,null,null,null,null,null,{"$f":"SUMIF($G$19:$G$5015,$G873,$H$19:$H$5015)+SUMIF('2.bTë ardhura-jopublik-monetare'!$G$19:$G$1015,'2.cTë ardhura-jopublik-nënatyrë'!$G873,'2.bTë ardhura-jopublik-monetare'!$H$19:$H$1015)","v":0}]
[null,null,null,null,null,null,null,null,null,{"$f":"SUMIF($G$19:$G$5015,$G874,$H$19:$H$5015)+SUMIF('2.bTë ardhura-jopublik-monetare'!$G$19:$G$1015,'2.cTë ardhura-jopublik-nënatyrë'!$G874,'2.bTë ardhura-jopublik-monetare'!$H$19:$H$1015)","v":0}]
[null,null,null,null,null,null,null,null,null,{"$f":"SUMIF($G$19:$G$5015,$G875,$H$19:$H$5015)+SUMIF('2.bTë ardhura-jopublik-monetare'!$G$19:$G$1015,'2.cTë ardhura-jopublik-nënatyrë'!$G875,'2.bTë ardhura-jopublik-monetare'!$H$19:$H$1015)","v":0}]
[null,null,null,null,null,null,null,null,null,{"$f":"SUMIF($G$19:$G$5015,$G876,$H$19:$H$5015)+SUMIF('2.bTë ardhura-jopublik-monetare'!$G$19:$G$1015,'2.cTë ardhura-jopublik-nënatyrë'!$G876,'2.bTë ardhura-jopublik-monetare'!$H$19:$H$1015)","v":0}]
[null,null,null,null,null,null,null,null,null,{"$f":"SUMIF($G$19:$G$5015,$G877,$H$19:$H$5015)+SUMIF('2.bTë ardhura-jopublik-monetare'!$G$19:$G$1015,'2.cTë ardhura-jopublik-nënatyrë'!$G877,'2.bTë ardhura-jopublik-monetare'!$H$19:$H$1015)","v":0}]
[null,null,null,null,null,null,null,null,null,{"$f":"SUMIF($G$19:$G$5015,$G878,$H$19:$H$5015)+SUMIF('2.bTë ardhura-jopublik-monetare'!$G$19:$G$1015,'2.cTë ardhura-jopublik-nënatyrë'!$G878,'2.bTë ardhura-jopublik-monetare'!$H$19:$H$1015)","v":0}]
[null,null,null,null,null,null,null,null,null,{"$f":"SUMIF($G$19:$G$5015,$G879,$H$19:$H$5015)+SUMIF('2.bTë ardhura-jopublik-monetare'!$G$19:$G$1015,'2.cTë ardhura-jopublik-nënatyrë'!$G879,'2.bTë ardhura-jopublik-monetare'!$H$19:$H$1015)","v":0}]
[null,null,null,null,null,null,null,null,null,{"$f":"SUMIF($G$19:$G$5015,$G880,$H$19:$H$5015)+SUMIF('2.bTë ardhura-jopublik-monetare'!$G$19:$G$1015,'2.cTë ardhura-jopublik-nënatyrë'!$G880,'2.bTë ardhura-jopublik-monetare'!$H$19:$H$1015)","v":0}]
[null,null,null,null,null,null,null,null,null,{"$f":"SUMIF($G$19:$G$5015,$G881,$H$19:$H$5015)+SUMIF('2.bTë ardhura-jopublik-monetare'!$G$19:$G$1015,'2.cTë ardhura-jopublik-nënatyrë'!$G881,'2.bTë ardhura-jopublik-monetare'!$H$19:$H$1015)","v":0}]
[null,null,null,null,null,null,null,null,null,{"$f":"SUMIF($G$19:$G$5015,$G882,$H$19:$H$5015)+SUMIF('2.bTë ardhura-jopublik-monetare'!$G$19:$G$1015,'2.cTë ardhura-jopublik-nënatyrë'!$G882,'2.bTë ardhura-jopublik-monetare'!$H$19:$H$1015)","v":0}]
[null,null,null,null,null,null,null,null,null,{"$f":"SUMIF($G$19:$G$5015,$G883,$H$19:$H$5015)+SUMIF('2.bTë ardhura-jopublik-monetare'!$G$19:$G$1015,'2.cTë ardhura-jopublik-nënatyrë'!$G883,'2.bTë ardhura-jopublik-monetare'!$H$19:$H$1015)","v":0}]
[null,null,null,null,null,null,null,null,null,{"$f":"SUMIF($G$19:$G$5015,$G884,$H$19:$H$5015)+SUMIF('2.bTë ardhura-jopublik-monetare'!$G$19:$G$1015,'2.cTë ardhura-jopublik-nënatyrë'!$G884,'2.bTë ardhura-jopublik-monetare'!$H$19:$H$1015)","v":0}]
[null,null,null,null,null,null,null,null,null,{"$f":"SUMIF($G$19:$G$5015,$G885,$H$19:$H$5015)+SUMIF('2.bTë ardhura-jopublik-monetare'!$G$19:$G$1015,'2.cTë ardhura-jopublik-nënatyrë'!$G885,'2.bTë ardhura-jopublik-monetare'!$H$19:$H$1015)","v":0}]
[null,null,null,null,null,null,null,null,null,{"$f":"SUMIF($G$19:$G$5015,$G886,$H$19:$H$5015)+SUMIF('2.bTë ardhura-jopublik-monetare'!$G$19:$G$1015,'2.cTë ardhura-jopublik-nënatyrë'!$G886,'2.bTë ardhura-jopublik-monetare'!$H$19:$H$1015)","v":0}]
[null,null,null,null,null,null,null,null,null,{"$f":"SUMIF($G$19:$G$5015,$G887,$H$19:$H$5015)+SUMIF('2.bTë ardhura-jopublik-monetare'!$G$19:$G$1015,'2.cTë ardhura-jopublik-nënatyrë'!$G887,'2.bTë ardhura-jopublik-monetare'!$H$19:$H$1015)","v":0}]
[null,null,null,null,null,null,null,null,null,{"$f":"SUMIF($G$19:$G$5015,$G888,$H$19:$H$5015)+SUMIF('2.bTë ardhura-jopublik-monetare'!$G$19:$G$1015,'2.cTë ardhura-jopublik-nënatyrë'!$G888,'2.bTë ardhura-jopublik-monetare'!$H$19:$H$1015)","v":0}]
[null,null,null,null,null,null,null,null,null,{"$f":"SUMIF($G$19:$G$5015,$G889,$H$19:$H$5015)+SUMIF('2.bTë ardhura-jopublik-monetare'!$G$19:$G$1015,'2.cTë ardhura-jopublik-nënatyrë'!$G889,'2.bTë ardhura-jopublik-monetare'!$H$19:$H$1015)","v":0}]
[null,null,null,null,null,null,null,null,null,{"$f":"SUMIF($G$19:$G$5015,$G890,$H$19:$H$5015)+SUMIF('2.bTë ardhura-jopublik-monetare'!$G$19:$G$1015,'2.cTë ardhura-jopublik-nënatyrë'!$G890,'2.bTë ardhura-jopublik-monetare'!$H$19:$H$1015)","v":0}]
[null,null,null,null,null,null,null,null,null,{"$f":"SUMIF($G$19:$G$5015,$G891,$H$19:$H$5015)+SUMIF('2.bTë ardhura-jopublik-monetare'!$G$19:$G$1015,'2.cTë ardhura-jopublik-nënatyrë'!$G891,'2.bTë ardhura-jopublik-monetare'!$H$19:$H$1015)","v":0}]
[null,null,null,null,null,null,null,null,null,{"$f":"SUMIF($G$19:$G$5015,$G892,$H$19:$H$5015)+SUMIF('2.bTë ardhura-jopublik-monetare'!$G$19:$G$1015,'2.cTë ardhura-jopublik-nënatyrë'!$G892,'2.bTë ardhura-jopublik-monetare'!$H$19:$H$1015)","v":0}]
[null,null,null,null,null,null,null,null,null,{"$f":"SUMIF($G$19:$G$5015,$G893,$H$19:$H$5015)+SUMIF('2.bTë ardhura-jopublik-monetare'!$G$19:$G$1015,'2.cTë ardhura-jopublik-nënatyrë'!$G893,'2.bTë ardhura-jopublik-monetare'!$H$19:$H$1015)","v":0}]
[null,null,null,null,null,null,null,null,null,{"$f":"SUMIF($G$19:$G$5015,$G894,$H$19:$H$5015)+SUMIF('2.bTë ardhura-jopublik-monetare'!$G$19:$G$1015,'2.cTë ardhura-jopublik-nënatyrë'!$G894,'2.bTë ardhura-jopublik-monetare'!$H$19:$H$1015)","v":0}]
[null,null,null,null,null,null,null,null,null,{"$f":"SUMIF($G$19:$G$5015,$G895,$H$19:$H$5015)+SUMIF('2.bTë ardhura-jopublik-monetare'!$G$19:$G$1015,'2.cTë ardhura-jopublik-nënatyrë'!$G895,'2.bTë ardhura-jopublik-monetare'!$H$19:$H$1015)","v":0}]
[null,null,null,null,null,null,null,null,null,{"$f":"SUMIF($G$19:$G$5015,$G896,$H$19:$H$5015)+SUMIF('2.bTë ardhura-jopublik-monetare'!$G$19:$G$1015,'2.cTë ardhura-jopublik-nënatyrë'!$G896,'2.bTë ardhura-jopublik-monetare'!$H$19:$H$1015)","v":0}]
[null,null,null,null,null,null,null,null,null,{"$f":"SUMIF($G$19:$G$5015,$G897,$H$19:$H$5015)+SUMIF('2.bTë ardhura-jopublik-monetare'!$G$19:$G$1015,'2.cTë ardhura-jopublik-nënatyrë'!$G897,'2.bTë ardhura-jopublik-monetare'!$H$19:$H$1015)","v":0}]
[null,null,null,null,null,null,null,null,null,{"$f":"SUMIF($G$19:$G$5015,$G898,$H$19:$H$5015)+SUMIF('2.bTë ardhura-jopublik-monetare'!$G$19:$G$1015,'2.cTë ardhura-jopublik-nënatyrë'!$G898,'2.bTë ardhura-jopublik-monetare'!$H$19:$H$1015)","v":0}]
[null,null,null,null,null,null,null,null,null,{"$f":"SUMIF($G$19:$G$5015,$G899,$H$19:$H$5015)+SUMIF('2.bTë ardhura-jopublik-monetare'!$G$19:$G$1015,'2.cTë ardhura-jopublik-nënatyrë'!$G899,'2.bTë ardhura-jopublik-monetare'!$H$19:$H$1015)","v":0}]
[null,null,null,null,null,null,null,null,null,{"$f":"SUMIF($G$19:$G$5015,$G900,$H$19:$H$5015)+SUMIF('2.bTë ardhura-jopublik-monetare'!$G$19:$G$1015,'2.cTë ardhura-jopublik-nënatyrë'!$G900,'2.bTë ardhura-jopublik-monetare'!$H$19:$H$1015)","v":0}]
[null,null,null,null,null,null,null,null,null,{"$f":"SUMIF($G$19:$G$5015,$G901,$H$19:$H$5015)+SUMIF('2.bTë ardhura-jopublik-monetare'!$G$19:$G$1015,'2.cTë ardhura-jopublik-nënatyrë'!$G901,'2.bTë ardhura-jopublik-monetare'!$H$19:$H$1015)","v":0}]
[null,null,null,null,null,null,null,null,null,{"$f":"SUMIF($G$19:$G$5015,$G902,$H$19:$H$5015)+SUMIF('2.bTë ardhura-jopublik-monetare'!$G$19:$G$1015,'2.cTë ardhura-jopublik-nënatyrë'!$G902,'2.bTë ardhura-jopublik-monetare'!$H$19:$H$1015)","v":0}]
[null,null,null,null,null,null,null,null,null,{"$f":"SUMIF($G$19:$G$5015,$G903,$H$19:$H$5015)+SUMIF('2.bTë ardhura-jopublik-monetare'!$G$19:$G$1015,'2.cTë ardhura-jopublik-nënatyrë'!$G903,'2.bTë ardhura-jopublik-monetare'!$H$19:$H$1015)","v":0}]
[null,null,null,null,null,null,null,null,null,{"$f":"SUMIF($G$19:$G$5015,$G904,$H$19:$H$5015)+SUMIF('2.bTë ardhura-jopublik-monetare'!$G$19:$G$1015,'2.cTë ardhura-jopublik-nënatyrë'!$G904,'2.bTë ardhura-jopublik-monetare'!$H$19:$H$1015)","v":0}]
[null,null,null,null,null,null,null,null,null,{"$f":"SUMIF($G$19:$G$5015,$G905,$H$19:$H$5015)+SUMIF('2.bTë ardhura-jopublik-monetare'!$G$19:$G$1015,'2.cTë ardhura-jopublik-nënatyrë'!$G905,'2.bTë ardhura-jopublik-monetare'!$H$19:$H$1015)","v":0}]
[null,null,null,null,null,null,null,null,null,{"$f":"SUMIF($G$19:$G$5015,$G906,$H$19:$H$5015)+SUMIF('2.bTë ardhura-jopublik-monetare'!$G$19:$G$1015,'2.cTë ardhura-jopublik-nënatyrë'!$G906,'2.bTë ardhura-jopublik-monetare'!$H$19:$H$1015)","v":0}]
[null,null,null,null,null,null,null,null,null,{"$f":"SUMIF($G$19:$G$5015,$G907,$H$19:$H$5015)+SUMIF('2.bTë ardhura-jopublik-monetare'!$G$19:$G$1015,'2.cTë ardhura-jopublik-nënatyrë'!$G907,'2.bTë ardhura-jopublik-monetare'!$H$19:$H$1015)","v":0}]
[null,null,null,null,null,null,null,null,null,{"$f":"SUMIF($G$19:$G$5015,$G908,$H$19:$H$5015)+SUMIF('2.bTë ardhura-jopublik-monetare'!$G$19:$G$1015,'2.cTë ardhura-jopublik-nënatyrë'!$G908,'2.bTë ardhura-jopublik-monetare'!$H$19:$H$1015)","v":0}]
[null,null,null,null,null,null,null,null,null,{"$f":"SUMIF($G$19:$G$5015,$G909,$H$19:$H$5015)+SUMIF('2.bTë ardhura-jopublik-monetare'!$G$19:$G$1015,'2.cTë ardhura-jopublik-nënatyrë'!$G909,'2.bTë ardhura-jopublik-monetare'!$H$19:$H$1015)","v":0}]
[null,null,null,null,null,null,null,null,null,{"$f":"SUMIF($G$19:$G$5015,$G910,$H$19:$H$5015)+SUMIF('2.bTë ardhura-jopublik-monetare'!$G$19:$G$1015,'2.cTë ardhura-jopublik-nënatyrë'!$G910,'2.bTë ardhura-jopublik-monetare'!$H$19:$H$1015)","v":0}]
[null,null,null,null,null,null,null,null,null,{"$f":"SUMIF($G$19:$G$5015,$G911,$H$19:$H$5015)+SUMIF('2.bTë ardhura-jopublik-monetare'!$G$19:$G$1015,'2.cTë ardhura-jopublik-nënatyrë'!$G911,'2.bTë ardhura-jopublik-monetare'!$H$19:$H$1015)","v":0}]
[null,null,null,null,null,null,null,null,null,{"$f":"SUMIF($G$19:$G$5015,$G912,$H$19:$H$5015)+SUMIF('2.bTë ardhura-jopublik-monetare'!$G$19:$G$1015,'2.cTë ardhura-jopublik-nënatyrë'!$G912,'2.bTë ardhura-jopublik-monetare'!$H$19:$H$1015)","v":0}]
[null,null,null,null,null,null,null,null,null,{"$f":"SUMIF($G$19:$G$5015,$G913,$H$19:$H$5015)+SUMIF('2.bTë ardhura-jopublik-monetare'!$G$19:$G$1015,'2.cTë ardhura-jopublik-nënatyrë'!$G913,'2.bTë ardhura-jopublik-monetare'!$H$19:$H$1015)","v":0}]
[null,null,null,null,null,null,null,null,null,{"$f":"SUMIF($G$19:$G$5015,$G914,$H$19:$H$5015)+SUMIF('2.bTë ardhura-jopublik-monetare'!$G$19:$G$1015,'2.cTë ardhura-jopublik-nënatyrë'!$G914,'2.bTë ardhura-jopublik-monetare'!$H$19:$H$1015)","v":0}]
[null,null,null,null,null,null,null,null,null,{"$f":"SUMIF($G$19:$G$5015,$G915,$H$19:$H$5015)+SUMIF('2.bTë ardhura-jopublik-monetare'!$G$19:$G$1015,'2.cTë ardhura-jopublik-nënatyrë'!$G915,'2.bTë ardhura-jopublik-monetare'!$H$19:$H$1015)","v":0}]
[null,null,null,null,null,null,null,null,null,{"$f":"SUMIF($G$19:$G$5015,$G916,$H$19:$H$5015)+SUMIF('2.bTë ardhura-jopublik-monetare'!$G$19:$G$1015,'2.cTë ardhura-jopublik-nënatyrë'!$G916,'2.bTë ardhura-jopublik-monetare'!$H$19:$H$1015)","v":0}]
[null,null,null,null,null,null,null,null,null,{"$f":"SUMIF($G$19:$G$5015,$G917,$H$19:$H$5015)+SUMIF('2.bTë ardhura-jopublik-monetare'!$G$19:$G$1015,'2.cTë ardhura-jopublik-nënatyrë'!$G917,'2.bTë ardhura-jopublik-monetare'!$H$19:$H$1015)","v":0}]
[null,null,null,null,null,null,null,null,null,{"$f":"SUMIF($G$19:$G$5015,$G918,$H$19:$H$5015)+SUMIF('2.bTë ardhura-jopublik-monetare'!$G$19:$G$1015,'2.cTë ardhura-jopublik-nënatyrë'!$G918,'2.bTë ardhura-jopublik-monetare'!$H$19:$H$1015)","v":0}]
[null,null,null,null,null,null,null,null,null,{"$f":"SUMIF($G$19:$G$5015,$G919,$H$19:$H$5015)+SUMIF('2.bTë ardhura-jopublik-monetare'!$G$19:$G$1015,'2.cTë ardhura-jopublik-nënatyrë'!$G919,'2.bTë ardhura-jopublik-monetare'!$H$19:$H$1015)","v":0}]
[null,null,null,null,null,null,null,null,null,{"$f":"SUMIF($G$19:$G$5015,$G920,$H$19:$H$5015)+SUMIF('2.bTë ardhura-jopublik-monetare'!$G$19:$G$1015,'2.cTë ardhura-jopublik-nënatyrë'!$G920,'2.bTë ardhura-jopublik-monetare'!$H$19:$H$1015)","v":0}]
[null,null,null,null,null,null,null,null,null,{"$f":"SUMIF($G$19:$G$5015,$G921,$H$19:$H$5015)+SUMIF('2.bTë ardhura-jopublik-monetare'!$G$19:$G$1015,'2.cTë ardhura-jopublik-nënatyrë'!$G921,'2.bTë ardhura-jopublik-monetare'!$H$19:$H$1015)","v":0}]
[null,null,null,null,null,null,null,null,null,{"$f":"SUMIF($G$19:$G$5015,$G922,$H$19:$H$5015)+SUMIF('2.bTë ardhura-jopublik-monetare'!$G$19:$G$1015,'2.cTë ardhura-jopublik-nënatyrë'!$G922,'2.bTë ardhura-jopublik-monetare'!$H$19:$H$1015)","v":0}]
[null,null,null,null,null,null,null,null,null,{"$f":"SUMIF($G$19:$G$5015,$G923,$H$19:$H$5015)+SUMIF('2.bTë ardhura-jopublik-monetare'!$G$19:$G$1015,'2.cTë ardhura-jopublik-nënatyrë'!$G923,'2.bTë ardhura-jopublik-monetare'!$H$19:$H$1015)","v":0}]
[null,null,null,null,null,null,null,null,null,{"$f":"SUMIF($G$19:$G$5015,$G924,$H$19:$H$5015)+SUMIF('2.bTë ardhura-jopublik-monetare'!$G$19:$G$1015,'2.cTë ardhura-jopublik-nënatyrë'!$G924,'2.bTë ardhura-jopublik-monetare'!$H$19:$H$1015)","v":0}]
[null,null,null,null,null,null,null,null,null,{"$f":"SUMIF($G$19:$G$5015,$G925,$H$19:$H$5015)+SUMIF('2.bTë ardhura-jopublik-monetare'!$G$19:$G$1015,'2.cTë ardhura-jopublik-nënatyrë'!$G925,'2.bTë ardhura-jopublik-monetare'!$H$19:$H$1015)","v":0}]
[null,null,null,null,null,null,null,null,null,{"$f":"SUMIF($G$19:$G$5015,$G926,$H$19:$H$5015)+SUMIF('2.bTë ardhura-jopublik-monetare'!$G$19:$G$1015,'2.cTë ardhura-jopublik-nënatyrë'!$G926,'2.bTë ardhura-jopublik-monetare'!$H$19:$H$1015)","v":0}]
[null,null,null,null,null,null,null,null,null,{"$f":"SUMIF($G$19:$G$5015,$G927,$H$19:$H$5015)+SUMIF('2.bTë ardhura-jopublik-monetare'!$G$19:$G$1015,'2.cTë ardhura-jopublik-nënatyrë'!$G927,'2.bTë ardhura-jopublik-monetare'!$H$19:$H$1015)","v":0}]
[null,null,null,null,null,null,null,null,null,{"$f":"SUMIF($G$19:$G$5015,$G928,$H$19:$H$5015)+SUMIF('2.bTë ardhura-jopublik-monetare'!$G$19:$G$1015,'2.cTë ardhura-jopublik-nënatyrë'!$G928,'2.bTë ardhura-jopublik-monetare'!$H$19:$H$1015)","v":0}]
[null,null,null,null,null,null,null,null,null,{"$f":"SUMIF($G$19:$G$5015,$G929,$H$19:$H$5015)+SUMIF('2.bTë ardhura-jopublik-monetare'!$G$19:$G$1015,'2.cTë ardhura-jopublik-nënatyrë'!$G929,'2.bTë ardhura-jopublik-monetare'!$H$19:$H$1015)","v":0}]
[null,null,null,null,null,null,null,null,null,{"$f":"SUMIF($G$19:$G$5015,$G930,$H$19:$H$5015)+SUMIF('2.bTë ardhura-jopublik-monetare'!$G$19:$G$1015,'2.cTë ardhura-jopublik-nënatyrë'!$G930,'2.bTë ardhura-jopublik-monetare'!$H$19:$H$1015)","v":0}]
[null,null,null,null,null,null,null,null,null,{"$f":"SUMIF($G$19:$G$5015,$G931,$H$19:$H$5015)+SUMIF('2.bTë ardhura-jopublik-monetare'!$G$19:$G$1015,'2.cTë ardhura-jopublik-nënatyrë'!$G931,'2.bTë ardhura-jopublik-monetare'!$H$19:$H$1015)","v":0}]
[null,null,null,null,null,null,null,null,null,{"$f":"SUMIF($G$19:$G$5015,$G932,$H$19:$H$5015)+SUMIF('2.bTë ardhura-jopublik-monetare'!$G$19:$G$1015,'2.cTë ardhura-jopublik-nënatyrë'!$G932,'2.bTë ardhura-jopublik-monetare'!$H$19:$H$1015)","v":0}]
[null,null,null,null,null,null,null,null,null,{"$f":"SUMIF($G$19:$G$5015,$G933,$H$19:$H$5015)+SUMIF('2.bTë ardhura-jopublik-monetare'!$G$19:$G$1015,'2.cTë ardhura-jopublik-nënatyrë'!$G933,'2.bTë ardhura-jopublik-monetare'!$H$19:$H$1015)","v":0}]
[null,null,null,null,null,null,null,null,null,{"$f":"SUMIF($G$19:$G$5015,$G934,$H$19:$H$5015)+SUMIF('2.bTë ardhura-jopublik-monetare'!$G$19:$G$1015,'2.cTë ardhura-jopublik-nënatyrë'!$G934,'2.bTë ardhura-jopublik-monetare'!$H$19:$H$1015)","v":0}]
[null,null,null,null,null,null,null,null,null,{"$f":"SUMIF($G$19:$G$5015,$G935,$H$19:$H$5015)+SUMIF('2.bTë ardhura-jopublik-monetare'!$G$19:$G$1015,'2.cTë ardhura-jopublik-nënatyrë'!$G935,'2.bTë ardhura-jopublik-monetare'!$H$19:$H$1015)","v":0}]
[null,null,null,null,null,null,null,null,null,{"$f":"SUMIF($G$19:$G$5015,$G936,$H$19:$H$5015)+SUMIF('2.bTë ardhura-jopublik-monetare'!$G$19:$G$1015,'2.cTë ardhura-jopublik-nënatyrë'!$G936,'2.bTë ardhura-jopublik-monetare'!$H$19:$H$1015)","v":0}]
[null,null,null,null,null,null,null,null,null,{"$f":"SUMIF($G$19:$G$5015,$G937,$H$19:$H$5015)+SUMIF('2.bTë ardhura-jopublik-monetare'!$G$19:$G$1015,'2.cTë ardhura-jopublik-nënatyrë'!$G937,'2.bTë ardhura-jopublik-monetare'!$H$19:$H$1015)","v":0}]
[null,null,null,null,null,null,null,null,null,{"$f":"SUMIF($G$19:$G$5015,$G938,$H$19:$H$5015)+SUMIF('2.bTë ardhura-jopublik-monetare'!$G$19:$G$1015,'2.cTë ardhura-jopublik-nënatyrë'!$G938,'2.bTë ardhura-jopublik-monetare'!$H$19:$H$1015)","v":0}]
[null,null,null,null,null,null,null,null,null,{"$f":"SUMIF($G$19:$G$5015,$G939,$H$19:$H$5015)+SUMIF('2.bTë ardhura-jopublik-monetare'!$G$19:$G$1015,'2.cTë ardhura-jopublik-nënatyrë'!$G939,'2.bTë ardhura-jopublik-monetare'!$H$19:$H$1015)","v":0}]
[null,null,null,null,null,null,null,null,null,{"$f":"SUMIF($G$19:$G$5015,$G940,$H$19:$H$5015)+SUMIF('2.bTë ardhura-jopublik-monetare'!$G$19:$G$1015,'2.cTë ardhura-jopublik-nënatyrë'!$G940,'2.bTë ardhura-jopublik-monetare'!$H$19:$H$1015)","v":0}]
[null,null,null,null,null,null,null,null,null,{"$f":"SUMIF($G$19:$G$5015,$G941,$H$19:$H$5015)+SUMIF('2.bTë ardhura-jopublik-monetare'!$G$19:$G$1015,'2.cTë ardhura-jopublik-nënatyrë'!$G941,'2.bTë ardhura-jopublik-monetare'!$H$19:$H$1015)","v":0}]
[null,null,null,null,null,null,null,null,null,{"$f":"SUMIF($G$19:$G$5015,$G942,$H$19:$H$5015)+SUMIF('2.bTë ardhura-jopublik-monetare'!$G$19:$G$1015,'2.cTë ardhura-jopublik-nënatyrë'!$G942,'2.bTë ardhura-jopublik-monetare'!$H$19:$H$1015)","v":0}]
[null,null,null,null,null,null,null,null,null,{"$f":"SUMIF($G$19:$G$5015,$G943,$H$19:$H$5015)+SUMIF('2.bTë ardhura-jopublik-monetare'!$G$19:$G$1015,'2.cTë ardhura-jopublik-nënatyrë'!$G943,'2.bTë ardhura-jopublik-monetare'!$H$19:$H$1015)","v":0}]
[null,null,null,null,null,null,null,null,null,{"$f":"SUMIF($G$19:$G$5015,$G944,$H$19:$H$5015)+SUMIF('2.bTë ardhura-jopublik-monetare'!$G$19:$G$1015,'2.cTë ardhura-jopublik-nënatyrë'!$G944,'2.bTë ardhura-jopublik-monetare'!$H$19:$H$1015)","v":0}]
[null,null,null,null,null,null,null,null,null,{"$f":"SUMIF($G$19:$G$5015,$G945,$H$19:$H$5015)+SUMIF('2.bTë ardhura-jopublik-monetare'!$G$19:$G$1015,'2.cTë ardhura-jopublik-nënatyrë'!$G945,'2.bTë ardhura-jopublik-monetare'!$H$19:$H$1015)","v":0}]
[null,null,null,null,null,null,null,null,null,{"$f":"SUMIF($G$19:$G$5015,$G946,$H$19:$H$5015)+SUMIF('2.bTë ardhura-jopublik-monetare'!$G$19:$G$1015,'2.cTë ardhura-jopublik-nënatyrë'!$G946,'2.bTë ardhura-jopublik-monetare'!$H$19:$H$1015)","v":0}]
[null,null,null,null,null,null,null,null,null,{"$f":"SUMIF($G$19:$G$5015,$G947,$H$19:$H$5015)+SUMIF('2.bTë ardhura-jopublik-monetare'!$G$19:$G$1015,'2.cTë ardhura-jopublik-nënatyrë'!$G947,'2.bTë ardhura-jopublik-monetare'!$H$19:$H$1015)","v":0}]
[null,null,null,null,null,null,null,null,null,{"$f":"SUMIF($G$19:$G$5015,$G948,$H$19:$H$5015)+SUMIF('2.bTë ardhura-jopublik-monetare'!$G$19:$G$1015,'2.cTë ardhura-jopublik-nënatyrë'!$G948,'2.bTë ardhura-jopublik-monetare'!$H$19:$H$1015)","v":0}]
[null,null,null,null,null,null,null,null,null,{"$f":"SUMIF($G$19:$G$5015,$G949,$H$19:$H$5015)+SUMIF('2.bTë ardhura-jopublik-monetare'!$G$19:$G$1015,'2.cTë ardhura-jopublik-nënatyrë'!$G949,'2.bTë ardhura-jopublik-monetare'!$H$19:$H$1015)","v":0}]
[null,null,null,null,null,null,null,null,null,{"$f":"SUMIF($G$19:$G$5015,$G950,$H$19:$H$5015)+SUMIF('2.bTë ardhura-jopublik-monetare'!$G$19:$G$1015,'2.cTë ardhura-jopublik-nënatyrë'!$G950,'2.bTë ardhura-jopublik-monetare'!$H$19:$H$1015)","v":0}]
[null,null,null,null,null,null,null,null,null,{"$f":"SUMIF($G$19:$G$5015,$G951,$H$19:$H$5015)+SUMIF('2.bTë ardhura-jopublik-monetare'!$G$19:$G$1015,'2.cTë ardhura-jopublik-nënatyrë'!$G951,'2.bTë ardhura-jopublik-monetare'!$H$19:$H$1015)","v":0}]
[null,null,null,null,null,null,null,null,null,{"$f":"SUMIF($G$19:$G$5015,$G952,$H$19:$H$5015)+SUMIF('2.bTë ardhura-jopublik-monetare'!$G$19:$G$1015,'2.cTë ardhura-jopublik-nënatyrë'!$G952,'2.bTë ardhura-jopublik-monetare'!$H$19:$H$1015)","v":0}]
[null,null,null,null,null,null,null,null,null,{"$f":"SUMIF($G$19:$G$5015,$G953,$H$19:$H$5015)+SUMIF('2.bTë ardhura-jopublik-monetare'!$G$19:$G$1015,'2.cTë ardhura-jopublik-nënatyrë'!$G953,'2.bTë ardhura-jopublik-monetare'!$H$19:$H$1015)","v":0}]
[null,null,null,null,null,null,null,null,null,{"$f":"SUMIF($G$19:$G$5015,$G954,$H$19:$H$5015)+SUMIF('2.bTë ardhura-jopublik-monetare'!$G$19:$G$1015,'2.cTë ardhura-jopublik-nënatyrë'!$G954,'2.bTë ardhura-jopublik-monetare'!$H$19:$H$1015)","v":0}]
[null,null,null,null,null,null,null,null,null,{"$f":"SUMIF($G$19:$G$5015,$G955,$H$19:$H$5015)+SUMIF('2.bTë ardhura-jopublik-monetare'!$G$19:$G$1015,'2.cTë ardhura-jopublik-nënatyrë'!$G955,'2.bTë ardhura-jopublik-monetare'!$H$19:$H$1015)","v":0}]
[null,null,null,null,null,null,null,null,null,{"$f":"SUMIF($G$19:$G$5015,$G956,$H$19:$H$5015)+SUMIF('2.bTë ardhura-jopublik-monetare'!$G$19:$G$1015,'2.cTë ardhura-jopublik-nënatyrë'!$G956,'2.bTë ardhura-jopublik-monetare'!$H$19:$H$1015)","v":0}]
[null,null,null,null,null,null,null,null,null,{"$f":"SUMIF($G$19:$G$5015,$G957,$H$19:$H$5015)+SUMIF('2.bTë ardhura-jopublik-monetare'!$G$19:$G$1015,'2.cTë ardhura-jopublik-nënatyrë'!$G957,'2.bTë ardhura-jopublik-monetare'!$H$19:$H$1015)","v":0}]
[null,null,null,null,null,null,null,null,null,{"$f":"SUMIF($G$19:$G$5015,$G958,$H$19:$H$5015)+SUMIF('2.bTë ardhura-jopublik-monetare'!$G$19:$G$1015,'2.cTë ardhura-jopublik-nënatyrë'!$G958,'2.bTë ardhura-jopublik-monetare'!$H$19:$H$1015)","v":0}]
[null,null,null,null,null,null,null,null,null,{"$f":"SUMIF($G$19:$G$5015,$G959,$H$19:$H$5015)+SUMIF('2.bTë ardhura-jopublik-monetare'!$G$19:$G$1015,'2.cTë ardhura-jopublik-nënatyrë'!$G959,'2.bTë ardhura-jopublik-monetare'!$H$19:$H$1015)","v":0}]
[null,null,null,null,null,null,null,null,null,{"$f":"SUMIF($G$19:$G$5015,$G960,$H$19:$H$5015)+SUMIF('2.bTë ardhura-jopublik-monetare'!$G$19:$G$1015,'2.cTë ardhura-jopublik-nënatyrë'!$G960,'2.bTë ardhura-jopublik-monetare'!$H$19:$H$1015)","v":0}]
[null,null,null,null,null,null,null,null,null,{"$f":"SUMIF($G$19:$G$5015,$G961,$H$19:$H$5015)+SUMIF('2.bTë ardhura-jopublik-monetare'!$G$19:$G$1015,'2.cTë ardhura-jopublik-nënatyrë'!$G961,'2.bTë ardhura-jopublik-monetare'!$H$19:$H$1015)","v":0}]
[null,null,null,null,null,null,null,null,null,{"$f":"SUMIF($G$19:$G$5015,$G962,$H$19:$H$5015)+SUMIF('2.bTë ardhura-jopublik-monetare'!$G$19:$G$1015,'2.cTë ardhura-jopublik-nënatyrë'!$G962,'2.bTë ardhura-jopublik-monetare'!$H$19:$H$1015)","v":0}]
[null,null,null,null,null,null,null,null,null,{"$f":"SUMIF($G$19:$G$5015,$G963,$H$19:$H$5015)+SUMIF('2.bTë ardhura-jopublik-monetare'!$G$19:$G$1015,'2.cTë ardhura-jopublik-nënatyrë'!$G963,'2.bTë ardhura-jopublik-monetare'!$H$19:$H$1015)","v":0}]
[null,null,null,null,null,null,null,null,null,{"$f":"SUMIF($G$19:$G$5015,$G964,$H$19:$H$5015)+SUMIF('2.bTë ardhura-jopublik-monetare'!$G$19:$G$1015,'2.cTë ardhura-jopublik-nënatyrë'!$G964,'2.bTë ardhura-jopublik-monetare'!$H$19:$H$1015)","v":0}]
[null,null,null,null,null,null,null,null,null,{"$f":"SUMIF($G$19:$G$5015,$G965,$H$19:$H$5015)+SUMIF('2.bTë ardhura-jopublik-monetare'!$G$19:$G$1015,'2.cTë ardhura-jopublik-nënatyrë'!$G965,'2.bTë ardhura-jopublik-monetare'!$H$19:$H$1015)","v":0}]
[null,null,null,null,null,null,null,null,null,{"$f":"SUMIF($G$19:$G$5015,$G966,$H$19:$H$5015)+SUMIF('2.bTë ardhura-jopublik-monetare'!$G$19:$G$1015,'2.cTë ardhura-jopublik-nënatyrë'!$G966,'2.bTë ardhura-jopublik-monetare'!$H$19:$H$1015)","v":0}]
[null,null,null,null,null,null,null,null,null,{"$f":"SUMIF($G$19:$G$5015,$G967,$H$19:$H$5015)+SUMIF('2.bTë ardhura-jopublik-monetare'!$G$19:$G$1015,'2.cTë ardhura-jopublik-nënatyrë'!$G967,'2.bTë ardhura-jopublik-monetare'!$H$19:$H$1015)","v":0}]
[null,null,null,null,null,null,null,null,null,{"$f":"SUMIF($G$19:$G$5015,$G968,$H$19:$H$5015)+SUMIF('2.bTë ardhura-jopublik-monetare'!$G$19:$G$1015,'2.cTë ardhura-jopublik-nënatyrë'!$G968,'2.bTë ardhura-jopublik-monetare'!$H$19:$H$1015)","v":0}]
[null,null,null,null,null,null,null,null,null,{"$f":"SUMIF($G$19:$G$5015,$G969,$H$19:$H$5015)+SUMIF('2.bTë ardhura-jopublik-monetare'!$G$19:$G$1015,'2.cTë ardhura-jopublik-nënatyrë'!$G969,'2.bTë ardhura-jopublik-monetare'!$H$19:$H$1015)","v":0}]
[null,null,null,null,null,null,null,null,null,{"$f":"SUMIF($G$19:$G$5015,$G970,$H$19:$H$5015)+SUMIF('2.bTë ardhura-jopublik-monetare'!$G$19:$G$1015,'2.cTë ardhura-jopublik-nënatyrë'!$G970,'2.bTë ardhura-jopublik-monetare'!$H$19:$H$1015)","v":0}]
[null,null,null,null,null,null,null,null,null,{"$f":"SUMIF($G$19:$G$5015,$G971,$H$19:$H$5015)+SUMIF('2.bTë ardhura-jopublik-monetare'!$G$19:$G$1015,'2.cTë ardhura-jopublik-nënatyrë'!$G971,'2.bTë ardhura-jopublik-monetare'!$H$19:$H$1015)","v":0}]
[null,null,null,null,null,null,null,null,null,{"$f":"SUMIF($G$19:$G$5015,$G972,$H$19:$H$5015)+SUMIF('2.bTë ardhura-jopublik-monetare'!$G$19:$G$1015,'2.cTë ardhura-jopublik-nënatyrë'!$G972,'2.bTë ardhura-jopublik-monetare'!$H$19:$H$1015)","v":0}]
[null,null,null,null,null,null,null,null,null,{"$f":"SUMIF($G$19:$G$5015,$G973,$H$19:$H$5015)+SUMIF('2.bTë ardhura-jopublik-monetare'!$G$19:$G$1015,'2.cTë ardhura-jopublik-nënatyrë'!$G973,'2.bTë ardhura-jopublik-monetare'!$H$19:$H$1015)","v":0}]
[null,null,null,null,null,null,null,null,null,{"$f":"SUMIF($G$19:$G$5015,$G974,$H$19:$H$5015)+SUMIF('2.bTë ardhura-jopublik-monetare'!$G$19:$G$1015,'2.cTë ardhura-jopublik-nënatyrë'!$G974,'2.bTë ardhura-jopublik-monetare'!$H$19:$H$1015)","v":0}]
[null,null,null,null,null,null,null,null,null,{"$f":"SUMIF($G$19:$G$5015,$G975,$H$19:$H$5015)+SUMIF('2.bTë ardhura-jopublik-monetare'!$G$19:$G$1015,'2.cTë ardhura-jopublik-nënatyrë'!$G975,'2.bTë ardhura-jopublik-monetare'!$H$19:$H$1015)","v":0}]
[null,null,null,null,null,null,null,null,null,{"$f":"SUMIF($G$19:$G$5015,$G976,$H$19:$H$5015)+SUMIF('2.bTë ardhura-jopublik-monetare'!$G$19:$G$1015,'2.cTë ardhura-jopublik-nënatyrë'!$G976,'2.bTë ardhura-jopublik-monetare'!$H$19:$H$1015)","v":0}]
[null,null,null,null,null,null,null,null,null,{"$f":"SUMIF($G$19:$G$5015,$G977,$H$19:$H$5015)+SUMIF('2.bTë ardhura-jopublik-monetare'!$G$19:$G$1015,'2.cTë ardhura-jopublik-nënatyrë'!$G977,'2.bTë ardhura-jopublik-monetare'!$H$19:$H$1015)","v":0}]
[null,null,null,null,null,null,null,null,null,{"$f":"SUMIF($G$19:$G$5015,$G978,$H$19:$H$5015)+SUMIF('2.bTë ardhura-jopublik-monetare'!$G$19:$G$1015,'2.cTë ardhura-jopublik-nënatyrë'!$G978,'2.bTë ardhura-jopublik-monetare'!$H$19:$H$1015)","v":0}]
[null,null,null,null,null,null,null,null,null,{"$f":"SUMIF($G$19:$G$5015,$G979,$H$19:$H$5015)+SUMIF('2.bTë ardhura-jopublik-monetare'!$G$19:$G$1015,'2.cTë ardhura-jopublik-nënatyrë'!$G979,'2.bTë ardhura-jopublik-monetare'!$H$19:$H$1015)","v":0}]
[null,null,null,null,null,null,null,null,null,{"$f":"SUMIF($G$19:$G$5015,$G980,$H$19:$H$5015)+SUMIF('2.bTë ardhura-jopublik-monetare'!$G$19:$G$1015,'2.cTë ardhura-jopublik-nënatyrë'!$G980,'2.bTë ardhura-jopublik-monetare'!$H$19:$H$1015)","v":0}]
[null,null,null,null,null,null,null,null,null,{"$f":"SUMIF($G$19:$G$5015,$G981,$H$19:$H$5015)+SUMIF('2.bTë ardhura-jopublik-monetare'!$G$19:$G$1015,'2.cTë ardhura-jopublik-nënatyrë'!$G981,'2.bTë ardhura-jopublik-monetare'!$H$19:$H$1015)","v":0}]
[null,null,null,null,null,null,null,null,null,{"$f":"SUMIF($G$19:$G$5015,$G982,$H$19:$H$5015)+SUMIF('2.bTë ardhura-jopublik-monetare'!$G$19:$G$1015,'2.cTë ardhura-jopublik-nënatyrë'!$G982,'2.bTë ardhura-jopublik-monetare'!$H$19:$H$1015)","v":0}]
[null,null,null,null,null,null,null,null,null,{"$f":"SUMIF($G$19:$G$5015,$G983,$H$19:$H$5015)+SUMIF('2.bTë ardhura-jopublik-monetare'!$G$19:$G$1015,'2.cTë ardhura-jopublik-nënatyrë'!$G983,'2.bTë ardhura-jopublik-monetare'!$H$19:$H$1015)","v":0}]
[null,null,null,null,null,null,null,null,null,{"$f":"SUMIF($G$19:$G$5015,$G984,$H$19:$H$5015)+SUMIF('2.bTë ardhura-jopublik-monetare'!$G$19:$G$1015,'2.cTë ardhura-jopublik-nënatyrë'!$G984,'2.bTë ardhura-jopublik-monetare'!$H$19:$H$1015)","v":0}]
[null,null,null,null,null,null,null,null,null,{"$f":"SUMIF($G$19:$G$5015,$G985,$H$19:$H$5015)+SUMIF('2.bTë ardhura-jopublik-monetare'!$G$19:$G$1015,'2.cTë ardhura-jopublik-nënatyrë'!$G985,'2.bTë ardhura-jopublik-monetare'!$H$19:$H$1015)","v":0}]
[null,null,null,null,null,null,null,null,null,{"$f":"SUMIF($G$19:$G$5015,$G986,$H$19:$H$5015)+SUMIF('2.bTë ardhura-jopublik-monetare'!$G$19:$G$1015,'2.cTë ardhura-jopublik-nënatyrë'!$G986,'2.bTë ardhura-jopublik-monetare'!$H$19:$H$1015)","v":0}]
[null,null,null,null,null,null,null,null,null,{"$f":"SUMIF($G$19:$G$5015,$G987,$H$19:$H$5015)+SUMIF('2.bTë ardhura-jopublik-monetare'!$G$19:$G$1015,'2.cTë ardhura-jopublik-nënatyrë'!$G987,'2.bTë ardhura-jopublik-monetare'!$H$19:$H$1015)","v":0}]
[null,null,null,null,null,null,null,null,null,{"$f":"SUMIF($G$19:$G$5015,$G988,$H$19:$H$5015)+SUMIF('2.bTë ardhura-jopublik-monetare'!$G$19:$G$1015,'2.cTë ardhura-jopublik-nënatyrë'!$G988,'2.bTë ardhura-jopublik-monetare'!$H$19:$H$1015)","v":0}]
[null,null,null,null,null,null,null,null,null,{"$f":"SUMIF($G$19:$G$5015,$G989,$H$19:$H$5015)+SUMIF('2.bTë ardhura-jopublik-monetare'!$G$19:$G$1015,'2.cTë ardhura-jopublik-nënatyrë'!$G989,'2.bTë ardhura-jopublik-monetare'!$H$19:$H$1015)","v":0}]
[null,null,null,null,null,null,null,null,null,{"$f":"SUMIF($G$19:$G$5015,$G990,$H$19:$H$5015)+SUMIF('2.bTë ardhura-jopublik-monetare'!$G$19:$G$1015,'2.cTë ardhura-jopublik-nënatyrë'!$G990,'2.bTë ardhura-jopublik-monetare'!$H$19:$H$1015)","v":0}]
[null,null,null,null,null,null,null,null,null,{"$f":"SUMIF($G$19:$G$5015,$G991,$H$19:$H$5015)+SUMIF('2.bTë ardhura-jopublik-monetare'!$G$19:$G$1015,'2.cTë ardhura-jopublik-nënatyrë'!$G991,'2.bTë ardhura-jopublik-monetare'!$H$19:$H$1015)","v":0}]
[null,null,null,null,null,null,null,null,null,{"$f":"SUMIF($G$19:$G$5015,$G992,$H$19:$H$5015)+SUMIF('2.bTë ardhura-jopublik-monetare'!$G$19:$G$1015,'2.cTë ardhura-jopublik-nënatyrë'!$G992,'2.bTë ardhura-jopublik-monetare'!$H$19:$H$1015)","v":0}]
[null,null,null,null,null,null,null,null,null,{"$f":"SUMIF($G$19:$G$5015,$G993,$H$19:$H$5015)+SUMIF('2.bTë ardhura-jopublik-monetare'!$G$19:$G$1015,'2.cTë ardhura-jopublik-nënatyrë'!$G993,'2.bTë ardhura-jopublik-monetare'!$H$19:$H$1015)","v":0}]
[null,null,null,null,null,null,null,null,null,{"$f":"SUMIF($G$19:$G$5015,$G994,$H$19:$H$5015)+SUMIF('2.bTë ardhura-jopublik-monetare'!$G$19:$G$1015,'2.cTë ardhura-jopublik-nënatyrë'!$G994,'2.bTë ardhura-jopublik-monetare'!$H$19:$H$1015)","v":0}]
[null,null,null,null,null,null,null,null,null,{"$f":"SUMIF($G$19:$G$5015,$G995,$H$19:$H$5015)+SUMIF('2.bTë ardhura-jopublik-monetare'!$G$19:$G$1015,'2.cTë ardhura-jopublik-nënatyrë'!$G995,'2.bTë ardhura-jopublik-monetare'!$H$19:$H$1015)","v":0}]
[null,null,null,null,null,null,null,null,null,{"$f":"SUMIF($G$19:$G$5015,$G996,$H$19:$H$5015)+SUMIF('2.bTë ardhura-jopublik-monetare'!$G$19:$G$1015,'2.cTë ardhura-jopublik-nënatyrë'!$G996,'2.bTë ardhura-jopublik-monetare'!$H$19:$H$1015)","v":0}]
[null,null,null,null,null,null,null,null,null,{"$f":"SUMIF($G$19:$G$5015,$G997,$H$19:$H$5015)+SUMIF('2.bTë ardhura-jopublik-monetare'!$G$19:$G$1015,'2.cTë ardhura-jopublik-nënatyrë'!$G997,'2.bTë ardhura-jopublik-monetare'!$H$19:$H$1015)","v":0}]
[null,null,null,null,null,null,null,null,null,{"$f":"SUMIF($G$19:$G$5015,$G998,$H$19:$H$5015)+SUMIF('2.bTë ardhura-jopublik-monetare'!$G$19:$G$1015,'2.cTë ardhura-jopublik-nënatyrë'!$G998,'2.bTë ardhura-jopublik-monetare'!$H$19:$H$1015)","v":0}]
[null,null,null,null,null,null,null,null,null,{"$f":"SUMIF($G$19:$G$5015,$G999,$H$19:$H$5015)+SUMIF('2.bTë ardhura-jopublik-monetare'!$G$19:$G$1015,'2.cTë ardhura-jopublik-nënatyrë'!$G999,'2.bTë ardhura-jopublik-monetare'!$H$19:$H$1015)","v":0}]
[null,null,null,null,null,null,null,null,null,{"$f":"SUMIF($G$19:$G$5015,$G1000,$H$19:$H$5015)+SUMIF('2.bTë ardhura-jopublik-monetare'!$G$19:$G$1015,'2.cTë ardhura-jopublik-nënatyrë'!$G1000,'2.bTë ardhura-jopublik-monetare'!$H$19:$H$1015)","v":0}]
[null,null,null,null,null,null,null,null,null,{"$f":"SUMIF($G$19:$G$5015,$G1001,$H$19:$H$5015)+SUMIF('2.bTë ardhura-jopublik-monetare'!$G$19:$G$1015,'2.cTë ardhura-jopublik-nënatyrë'!$G1001,'2.bTë ardhura-jopublik-monetare'!$H$19:$H$1015)","v":0}]
[null,null,null,null,null,null,null,null,null,{"$f":"SUMIF($G$19:$G$5015,$G1002,$H$19:$H$5015)+SUMIF('2.bTë ardhura-jopublik-monetare'!$G$19:$G$1015,'2.cTë ardhura-jopublik-nënatyrë'!$G1002,'2.bTë ardhura-jopublik-monetare'!$H$19:$H$1015)","v":0}]
[null,null,null,null,null,null,null,null,null,{"$f":"SUMIF($G$19:$G$5015,$G1003,$H$19:$H$5015)+SUMIF('2.bTë ardhura-jopublik-monetare'!$G$19:$G$1015,'2.cTë ardhura-jopublik-nënatyrë'!$G1003,'2.bTë ardhura-jopublik-monetare'!$H$19:$H$1015)","v":0}]
[null,null,null,null,null,null,null,null,null,{"$f":"SUMIF($G$19:$G$5015,$G1004,$H$19:$H$5015)+SUMIF('2.bTë ardhura-jopublik-monetare'!$G$19:$G$1015,'2.cTë ardhura-jopublik-nënatyrë'!$G1004,'2.bTë ardhura-jopublik-monetare'!$H$19:$H$1015)","v":0}]
[null,null,null,null,null,null,null,null,null,{"$f":"SUMIF($G$19:$G$5015,$G1005,$H$19:$H$5015)+SUMIF('2.bTë ardhura-jopublik-monetare'!$G$19:$G$1015,'2.cTë ardhura-jopublik-nënatyrë'!$G1005,'2.bTë ardhura-jopublik-monetare'!$H$19:$H$1015)","v":0}]
[null,null,null,null,null,null,null,null,null,{"$f":"SUMIF($G$19:$G$5015,$G1006,$H$19:$H$5015)+SUMIF('2.bTë ardhura-jopublik-monetare'!$G$19:$G$1015,'2.cTë ardhura-jopublik-nënatyrë'!$G1006,'2.bTë ardhura-jopublik-monetare'!$H$19:$H$1015)","v":0}]
[null,null,null,null,null,null,null,null,null,{"$f":"SUMIF($G$19:$G$5015,$G1007,$H$19:$H$5015)+SUMIF('2.bTë ardhura-jopublik-monetare'!$G$19:$G$1015,'2.cTë ardhura-jopublik-nënatyrë'!$G1007,'2.bTë ardhura-jopublik-monetare'!$H$19:$H$1015)","v":0}]
[null,null,null,null,null,null,null,null,null,{"$f":"SUMIF($G$19:$G$5015,$G1008,$H$19:$H$5015)+SUMIF('2.bTë ardhura-jopublik-monetare'!$G$19:$G$1015,'2.cTë ardhura-jopublik-nënatyrë'!$G1008,'2.bTë ardhura-jopublik-monetare'!$H$19:$H$1015)","v":0}]
[null,null,null,null,null,null,null,null,null,{"$f":"SUMIF($G$19:$G$5015,$G1009,$H$19:$H$5015)+SUMIF('2.bTë ardhura-jopublik-monetare'!$G$19:$G$1015,'2.cTë ardhura-jopublik-nënatyrë'!$G1009,'2.bTë ardhura-jopublik-monetare'!$H$19:$H$1015)","v":0}]
[null,null,null,null,null,null,null,null,null,{"$f":"SUMIF($G$19:$G$5015,$G1010,$H$19:$H$5015)+SUMIF('2.bTë ardhura-jopublik-monetare'!$G$19:$G$1015,'2.cTë ardhura-jopublik-nënatyrë'!$G1010,'2.bTë ardhura-jopublik-monetare'!$H$19:$H$1015)","v":0}]
[null,null,null,null,null,null,null,null,null,{"$f":"SUMIF($G$19:$G$5015,$G1011,$H$19:$H$5015)+SUMIF('2.bTë ardhura-jopublik-monetare'!$G$19:$G$1015,'2.cTë ardhura-jopublik-nënatyrë'!$G1011,'2.bTë ardhura-jopublik-monetare'!$H$19:$H$1015)","v":0}]
[null,null,null,null,null,null,null,null,null,{"$f":"SUMIF($G$19:$G$5015,$G1012,$H$19:$H$5015)+SUMIF('2.bTë ardhura-jopublik-monetare'!$G$19:$G$1015,'2.cTë ardhura-jopublik-nënatyrë'!$G1012,'2.bTë ardhura-jopublik-monetare'!$H$19:$H$1015)","v":0}]
[null,null,null,null,null,null,null,null,null,{"$f":"SUMIF($G$19:$G$5015,$G1013,$H$19:$H$5015)+SUMIF('2.bTë ardhura-jopublik-monetare'!$G$19:$G$1015,'2.cTë ardhura-jopublik-nënatyrë'!$G1013,'2.bTë ardhura-jopublik-monetare'!$H$19:$H$1015)","v":0}]
[null,null,null,null,null,null,null,null,null,{"$f":"SUMIF($G$19:$G$5015,$G1014,$H$19:$H$5015)+SUMIF('2.bTë ardhura-jopublik-monetare'!$G$19:$G$1015,'2.cTë ardhura-jopublik-nënatyrë'!$G1014,'2.bTë ardhura-jopublik-monetare'!$H$19:$H$1015)","v":0}]
[null,null,null,null,null,null,null,null,null,{"$f":"SUMIF($G$19:$G$5015,$G1015,$H$19:$H$5015)+SUMIF('2.bTë ardhura-jopublik-monetare'!$G$19:$G$1015,'2.cTë ardhura-jopublik-nënatyrë'!$G1015,'2.bTë ardhura-jopublik-monetare'!$H$19:$H$1015)","v":0}]

{"sheet":"3. Të ardhura - Kreditë","index":5,"n_rows":64,"n_cols":12,"rows_kept":64,"cut":false,"hidden":false,"merged":[[15,0,15,2],[18,9,18,11],[14,7,14,8],[15,7,15,8],[16,7,16,8],[17,7,17,8]]}
[]
[]
[]
[]
[]
[]
[]
[]
[null,null,null,null,"REPUBLIKA E SHQIPËRISË\n"]
[null,null,null,null,"KOMISIONI QENDROR I ZGJEDHJEVE"]
[]
[null,null,null,"Emri I Kandidatit",null,"Bashkia"]
[null,null,null,{"$f":"Kreu!E12","v":0},null,{"$f":"Kreu!E13","v":0}]
[]
["3. Huatë dhe Kreditë",null,null,null,null,null,"Firma e personit përgjegjës/ përgatitur nga: (nëse ka)"]
[{"$f":"\"Ju lutemi konfirmoni nëse nuk keni gjë për të raportuar \"&A15","v":"Ju lutemi konfirmoni nëse nuk keni gjë për të raportuar 3. Huatë dhe Kreditë"},null,null,null,null,null,"Data e firmosjes:"]
[null,null,null,null,null,null,"Aprovuar/Miratuar nga:"]
[null,null,null,null,null,null,"Data e firmosjes:"]
[null,null,null,null,null,null,null,null,null,"Termat"]
["A. Emri i Huadhënësit","B. Statusi i huadhënësit","C. Adresa e huadhënësit (rreshti 1)","D. Adresa e huadhënësit (rreshti 2)","E. Kodi postar i huadhënësit","F. Numri i identifikimit i huadhënësit","G. Numri i referencës së huasë/kredisë","H. Shuma e huasë/limiti i kredisë","I. Data e fillimit të huasë/kredisë","J. Norma e interesit","K. Data e shlyerjes","L. Kolaterali i ofruar"]
[]
[]
[]
[]
[]
[]
[]
[]
[]
[]
[]
[]
[]
[]
[]
[]
[]
[]
[]
[]
[]
[]
[]
[]
[]
[]
[]
[]
[]
[]
[]
[]
[]
[]
[]
[]
[]
[]
[]
[]
[null,null,null,null,"FINANCIERI",null,null,null,"APROVUESI"]
[]
[]
[null,null,null,null,"Emër Mbiemër Firmë",null,null,null,"Emër Mbiemër Firmë"]

{"sheet":"4. Shpenzimet","index":6,"n_rows":2278,"n_cols":18,"rows_kept":2278,"cut":false,"hidden":false,"merged":[[15,2,15,4],[15,5,15,6],[16,15,16,16],[13,9,13,10],[14,9,14,10],[15,9,15,10],[16,9,16,10],[16,12,16,14]]}
[]
[]
[]
[]
[]
[]
[]
[]
[null,null,null,null,null,"REPUBLIKA E SHQIPËRISË\n"]
[null,null,null,null,null,"KOMISIONI QENDROR I ZGJEDHJEVE"]
[]
[null,null,null,"Emri I Kandidatit",null,null,"Bashkia"]
[]
[null,null,"4. Shpenzimet ",null,null,null,null,null,"Firma e personit përgjegjës/ përgatitur nga: (nëse ka)"]
[null,null,null,null,null,null,null,null,"Data e firmosjes:"]
[null,null,{"$f":"\"Ju lutemi konfirmoni nëse nuk keni gjë për të raportuar \"&C14","v":"Ju lutemi konfirmoni nëse nuk keni gjë për të raportuar 4. Shpenzimet "},null,null,null,null,null,"Aprovuar/Miratuar nga:"]
[null,null,null,null,null,null,null,null,"Data e firmosjes:",null,null,"Shpenzimet e zyrës elektorale","Mitingjet e fushatës",null,null,"Media",null,"Materiale promocionale/Media Sociale/Sondazhe/Publikime dhe reklama/Transport/Reklamime në natyrë/Konsulencë"]
["RallyNumber","RallyName","A. Kategoria e shpenzimeve","B. Shitësi/furnizuesi","C. Nr identifikimit të faturës","D. Data e faturës","E. Data e pagesës","F. Shuma e paguar","G. Shuma e papaguar (nëse ka)","H. Metoda e kryerjes së pagesës","I. Shpjegimi","j. Sipas bashkive","K. Vendi i mitingut","L. Ambienti","M. Data e mitingut","N. Lloji i medias","O. Pershkrimi","P. Përshkrimi"]
[{"$f":"IF(B19=\"\",\"\",MAX(A$18:A18)+1)","v":""},{"$f":"IF($C19=Referenca!$J$3,CONCATENATE('4. Shpenzimet'!$M19,\"-\",'4. Shpenzimet'!$N19,\"-\",TEXT('4. Shpenzimet'!$O19,\"dd/mm/yyyy\")),\"\")","v":""}]
[{"$f":"IF(B20=\"\",\"\",MAX(A$18:A19)+1)","v":""},{"$f":"IF($C20=Referenca!$J$3,CONCATENATE('4. Shpenzimet'!$M20,\"-\",'4. Shpenzimet'!$N20,\"-\",TEXT('4. Shpenzimet'!$O20,\"dd/mm/yyyy\")),\"\")","v":""}]
[{"$f":"IF(B21=\"\",\"\",MAX(A$18:A20)+1)","v":""},{"$f":"IF($C21=Referenca!$J$3,CONCATENATE('4. Shpenzimet'!$M21,\"-\",'4. Shpenzimet'!$N21,\"-\",TEXT('4. Shpenzimet'!$O21,\"dd/mm/yyyy\")),\"\")","v":""}]
[{"$f":"IF(B22=\"\",\"\",MAX(A$18:A21)+1)","v":""},{"$f":"IF($C22=Referenca!$J$3,CONCATENATE('4. Shpenzimet'!$M22,\"-\",'4. Shpenzimet'!$N22,\"-\",TEXT('4. Shpenzimet'!$O22,\"dd/mm/yyyy\")),\"\")","v":""}]
[{"$f":"IF(B23=\"\",\"\",MAX(A$18:A22)+1)","v":""},{"$f":"IF($C23=Referenca!$J$3,CONCATENATE('4. Shpenzimet'!$M23,\"-\",'4. Shpenzimet'!$N23,\"-\",TEXT('4. Shpenzimet'!$O23,\"dd/mm/yyyy\")),\"\")","v":""}]
[{"$f":"IF(B24=\"\",\"\",MAX(A$18:A23)+1)","v":""},{"$f":"IF($C24=Referenca!$J$3,CONCATENATE('4. Shpenzimet'!$M24,\"-\",'4. Shpenzimet'!$N24,\"-\",TEXT('4. Shpenzimet'!$O24,\"dd/mm/yyyy\")),\"\")","v":""}]
[{"$f":"IF(B25=\"\",\"\",MAX(A$18:A24)+1)","v":""},{"$f":"IF($C25=Referenca!$J$3,CONCATENATE('4. Shpenzimet'!$M25,\"-\",'4. Shpenzimet'!$N25,\"-\",TEXT('4. Shpenzimet'!$O25,\"dd/mm/yyyy\")),\"\")","v":""}]
[{"$f":"IF(B26=\"\",\"\",MAX(A$18:A25)+1)","v":""},{"$f":"IF($C26=Referenca!$J$3,CONCATENATE('4. Shpenzimet'!$M26,\"-\",'4. Shpenzimet'!$N26,\"-\",TEXT('4. Shpenzimet'!$O26,\"dd/mm/yyyy\")),\"\")","v":""}]
[{"$f":"IF(B27=\"\",\"\",MAX(A$18:A26)+1)","v":""},{"$f":"IF($C27=Referenca!$J$3,CONCATENATE('4. Shpenzimet'!$M27,\"-\",'4. Shpenzimet'!$N27,\"-\",TEXT('4. Shpenzimet'!$O27,\"dd/mm/yyyy\")),\"\")","v":""}]
[{"$f":"IF(B28=\"\",\"\",MAX(A$18:A27)+1)","v":""},{"$f":"IF($C28=Referenca!$J$3,CONCATENATE('4. Shpenzimet'!$M28,\"-\",'4. Shpenzimet'!$N28,\"-\",TEXT('4. Shpenzimet'!$O28,\"dd/mm/yyyy\")),\"\")","v":""}]
[{"$f":"IF(B29=\"\",\"\",MAX(A$18:A28)+1)","v":""},{"$f":"IF($C29=Referenca!$J$3,CONCATENATE('4. Shpenzimet'!$M29,\"-\",'4. Shpenzimet'!$N29,\"-\",TEXT('4. Shpenzimet'!$O29,\"dd/mm/yyyy\")),\"\")","v":""}]
[{"$f":"IF(B30=\"\",\"\",MAX(A$18:A29)+1)","v":""},{"$f":"IF($C30=Referenca!$J$3,CONCATENATE('4. Shpenzimet'!$M30,\"-\",'4. Shpenzimet'!$N30,\"-\",TEXT('4. Shpenzimet'!$O30,\"dd/mm/yyyy\")),\"\")","v":""}]
[{"$f":"IF(B31=\"\",\"\",MAX(A$18:A30)+1)","v":""},{"$f":"IF($C31=Referenca!$J$3,CONCATENATE('4. Shpenzimet'!$M31,\"-\",'4. Shpenzimet'!$N31,\"-\",TEXT('4. Shpenzimet'!$O31,\"dd/mm/yyyy\")),\"\")","v":""}]
[{"$f":"IF(B32=\"\",\"\",MAX(A$18:A31)+1)","v":""},{"$f":"IF($C32=Referenca!$J$3,CONCATENATE('4. Shpenzimet'!$M32,\"-\",'4. Shpenzimet'!$N32,\"-\",TEXT('4. Shpenzimet'!$O32,\"dd/mm/yyyy\")),\"\")","v":""}]
[{"$f":"IF(B33=\"\",\"\",MAX(A$18:A32)+1)","v":""},{"$f":"IF($C33=Referenca!$J$3,CONCATENATE('4. Shpenzimet'!$M33,\"-\",'4. Shpenzimet'!$N33,\"-\",TEXT('4. Shpenzimet'!$O33,\"dd/mm/yyyy\")),\"\")","v":""}]
[{"$f":"IF(B34=\"\",\"\",MAX(A$18:A33)+1)","v":""},{"$f":"IF($C34=Referenca!$J$3,CONCATENATE('4. Shpenzimet'!$M34,\"-\",'4. Shpenzimet'!$N34,\"-\",TEXT('4. Shpenzimet'!$O34,\"dd/mm/yyyy\")),\"\")","v":""}]
[{"$f":"IF(B35=\"\",\"\",MAX(A$18:A34)+1)","v":""},{"$f":"IF($C35=Referenca!$J$3,CONCATENATE('4. Shpenzimet'!$M35,\"-\",'4. Shpenzimet'!$N35,\"-\",TEXT('4. Shpenzimet'!$O35,\"dd/mm/yyyy\")),\"\")","v":""}]
[{"$f":"IF(B36=\"\",\"\",MAX(A$18:A35)+1)","v":""},{"$f":"IF($C36=Referenca!$J$3,CONCATENATE('4. Shpenzimet'!$M36,\"-\",'4. Shpenzimet'!$N36,\"-\",TEXT('4. Shpenzimet'!$O36,\"dd/mm/yyyy\")),\"\")","v":""}]
[{"$f":"IF(B37=\"\",\"\",MAX(A$18:A36)+1)","v":""},{"$f":"IF($C37=Referenca!$J$3,CONCATENATE('4. Shpenzimet'!$M37,\"-\",'4. Shpenzimet'!$N37,\"-\",TEXT('4. Shpenzimet'!$O37,\"dd/mm/yyyy\")),\"\")","v":""}]
[{"$f":"IF(B38=\"\",\"\",MAX(A$18:A37)+1)","v":""},{"$f":"IF($C38=Referenca!$J$3,CONCATENATE('4. Shpenzimet'!$M38,\"-\",'4. Shpenzimet'!$N38,\"-\",TEXT('4. Shpenzimet'!$O38,\"dd/mm/yyyy\")),\"\")","v":""}]
[{"$f":"IF(B39=\"\",\"\",MAX(A$18:A38)+1)","v":""},{"$f":"IF($C39=Referenca!$J$3,CONCATENATE('4. Shpenzimet'!$M39,\"-\",'4. Shpenzimet'!$N39,\"-\",TEXT('4. Shpenzimet'!$O39,\"dd/mm/yyyy\")),\"\")","v":""}]
[{"$f":"IF(B40=\"\",\"\",MAX(A$18:A39)+1)","v":""},{"$f":"IF($C40=Referenca!$J$3,CONCATENATE('4. Shpenzimet'!$M40,\"-\",'4. Shpenzimet'!$N40,\"-\",TEXT('4. Shpenzimet'!$O40,\"dd/mm/yyyy\")),\"\")","v":""}]
[{"$f":"IF(B41=\"\",\"\",MAX(A$18:A40)+1)","v":""},{"$f":"IF($C41=Referenca!$J$3,CONCATENATE('4. Shpenzimet'!$M41,\"-\",'4. Shpenzimet'!$N41,\"-\",TEXT('4. Shpenzimet'!$O41,\"dd/mm/yyyy\")),\"\")","v":""}]
[{"$f":"IF(B42=\"\",\"\",MAX(A$18:A41)+1)","v":""},{"$f":"IF($C42=Referenca!$J$3,CONCATENATE('4. Shpenzimet'!$M42,\"-\",'4. Shpenzimet'!$N42,\"-\",TEXT('4. Shpenzimet'!$O42,\"dd/mm/yyyy\")),\"\")","v":""}]
[{"$f":"IF(B43=\"\",\"\",MAX(A$18:A42)+1)","v":""},{"$f":"IF($C43=Referenca!$J$3,CONCATENATE('4. Shpenzimet'!$M43,\"-\",'4. Shpenzimet'!$N43,\"-\",TEXT('4. Shpenzimet'!$O43,\"dd/mm/yyyy\")),\"\")","v":""}]
[{"$f":"IF(B44=\"\",\"\",MAX(A$18:A43)+1)","v":""},{"$f":"IF($C44=Referenca!$J$3,CONCATENATE('4. Shpenzimet'!$M44,\"-\",'4. Shpenzimet'!$N44,\"-\",TEXT('4. Shpenzimet'!$O44,\"dd/mm/yyyy\")),\"\")","v":""}]
[{"$f":"IF(B45=\"\",\"\",MAX(A$18:A44)+1)","v":""},{"$f":"IF($C45=Referenca!$J$3,CONCATENATE('4. Shpenzimet'!$M45,\"-\",'4. Shpenzimet'!$N45,\"-\",TEXT('4. Shpenzimet'!$O45,\"dd/mm/yyyy\")),\"\")","v":""}]
[{"$f":"IF(B46=\"\",\"\",MAX(A$18:A45)+1)","v":""},{"$f":"IF($C46=Referenca!$J$3,CONCATENATE('4. Shpenzimet'!$M46,\"-\",'4. Shpenzimet'!$N46,\"-\",TEXT('4. Shpenzimet'!$O46,\"dd/mm/yyyy\")),\"\")","v":""}]
[{"$f":"IF(B47=\"\",\"\",MAX(A$18:A46)+1)","v":""},{"$f":"IF($C47=Referenca!$J$3,CONCATENATE('4. Shpenzimet'!$M47,\"-\",'4. Shpenzimet'!$N47,\"-\",TEXT('4. Shpenzimet'!$O47,\"dd/mm/yyyy\")),\"\")","v":""}]
[{"$f":"IF(B48=\"\",\"\",MAX(A$18:A47)+1)","v":""},{"$f":"IF($C48=Referenca!$J$3,CONCATENATE('4. Shpenzimet'!$M48,\"-\",'4. Shpenzimet'!$N48,\"-\",TEXT('4. Shpenzimet'!$O48,\"dd/mm/yyyy\")),\"\")","v":""}]
[{"$f":"IF(B49=\"\",\"\",MAX(A$18:A48)+1)","v":""},{"$f":"IF($C49=Referenca!$J$3,CONCATENATE('4. Shpenzimet'!$M49,\"-\",'4. Shpenzimet'!$N49,\"-\",TEXT('4. Shpenzimet'!$O49,\"dd/mm/yyyy\")),\"\")","v":""}]
[{"$f":"IF(B50=\"\",\"\",MAX(A$18:A49)+1)","v":""},{"$f":"IF($C50=Referenca!$J$3,CONCATENATE('4. Shpenzimet'!$M50,\"-\",'4. Shpenzimet'!$N50,\"-\",TEXT('4. Shpenzimet'!$O50,\"dd/mm/yyyy\")),\"\")","v":""}]
[{"$f":"IF(B51=\"\",\"\",MAX(A$18:A50)+1)","v":""},{"$f":"IF($C51=Referenca!$J$3,CONCATENATE('4. Shpenzimet'!$M51,\"-\",'4. Shpenzimet'!$N51,\"-\",TEXT('4. Shpenzimet'!$O51,\"dd/mm/yyyy\")),\"\")","v":""}]
[{"$f":"IF(B52=\"\",\"\",MAX(A$18:A51)+1)","v":""},{"$f":"IF($C52=Referenca!$J$3,CONCATENATE('4. Shpenzimet'!$M52,\"-\",'4. Shpenzimet'!$N52,\"-\",TEXT('4. Shpenzimet'!$O52,\"dd/mm/yyyy\")),\"\")","v":""}]
[{"$f":"IF(B53=\"\",\"\",MAX(A$18:A52)+1)","v":""},{"$f":"IF($C53=Referenca!$J$3,CONCATENATE('4. Shpenzimet'!$M53,\"-\",'4. Shpenzimet'!$N53,\"-\",TEXT('4. Shpenzimet'!$O53,\"dd/mm/yyyy\")),\"\")","v":""}]
[{"$f":"IF(B54=\"\",\"\",MAX(A$18:A53)+1)","v":""},{"$f":"IF($C54=Referenca!$J$3,CONCATENATE('4. Shpenzimet'!$M54,\"-\",'4. Shpenzimet'!$N54,\"-\",TEXT('4. Shpenzimet'!$O54,\"dd/mm/yyyy\")),\"\")","v":""}]
[{"$f":"IF(B55=\"\",\"\",MAX(A$18:A54)+1)","v":""},{"$f":"IF($C55=Referenca!$J$3,CONCATENATE('4. Shpenzimet'!$M55,\"-\",'4. Shpenzimet'!$N55,\"-\",TEXT('4. Shpenzimet'!$O55,\"dd/mm/yyyy\")),\"\")","v":""}]
[{"$f":"IF(B56=\"\",\"\",MAX(A$18:A55)+1)","v":""},{"$f":"IF($C56=Referenca!$J$3,CONCATENATE('4. Shpenzimet'!$M56,\"-\",'4. Shpenzimet'!$N56,\"-\",TEXT('4. Shpenzimet'!$O56,\"dd/mm/yyyy\")),\"\")","v":""}]
[{"$f":"IF(B57=\"\",\"\",MAX(A$18:A56)+1)","v":""},{"$f":"IF($C57=Referenca!$J$3,CONCATENATE('4. Shpenzimet'!$M57,\"-\",'4. Shpenzimet'!$N57,\"-\",TEXT('4. Shpenzimet'!$O57,\"dd/mm/yyyy\")),\"\")","v":""}]
[{"$f":"IF(B58=\"\",\"\",MAX(A$18:A57)+1)","v":""},{"$f":"IF($C58=Referenca!$J$3,CONCATENATE('4. Shpenzimet'!$M58,\"-\",'4. Shpenzimet'!$N58,\"-\",TEXT('4. Shpenzimet'!$O58,\"dd/mm/yyyy\")),\"\")","v":""}]
[{"$f":"IF(B59=\"\",\"\",MAX(A$18:A58)+1)","v":""},{"$f":"IF($C59=Referenca!$J$3,CONCATENATE('4. Shpenzimet'!$M59,\"-\",'4. Shpenzimet'!$N59,\"-\",TEXT('4. Shpenzimet'!$O59,\"dd/mm/yyyy\")),\"\")","v":""}]
[{"$f":"IF(B60=\"\",\"\",MAX(A$18:A59)+1)","v":""},{"$f":"IF($C60=Referenca!$J$3,CONCATENATE('4. Shpenzimet'!$M60,\"-\",'4. Shpenzimet'!$N60,\"-\",TEXT('4. Shpenzimet'!$O60,\"dd/mm/yyyy\")),\"\")","v":""}]
[{"$f":"IF(B61=\"\",\"\",MAX(A$18:A60)+1)","v":""},{"$f":"IF($C61=Referenca!$J$3,CONCATENATE('4. Shpenzimet'!$M61,\"-\",'4. Shpenzimet'!$N61,\"-\",TEXT('4. Shpenzimet'!$O61,\"dd/mm/yyyy\")),\"\")","v":""},null,null,null,"FINANCIERI",null,null,null,"APROVUESI"]
[{"$f":"IF(B62=\"\",\"\",MAX(A$18:A61)+1)","v":""},{"$f":"IF($C62=Referenca!$J$3,CONCATENATE('4. Shpenzimet'!$M62,\"-\",'4. Shpenzimet'!$N62,\"-\",TEXT('4. Shpenzimet'!$O62,\"dd/mm/yyyy\")),\"\")","v":""}]
[{"$f":"IF(B63=\"\",\"\",MAX(A$18:A62)+1)","v":""},{"$f":"IF($C63=Referenca!$J$3,CONCATENATE('4. Shpenzimet'!$M63,\"-\",'4. Shpenzimet'!$N63,\"-\",TEXT('4. Shpenzimet'!$O63,\"dd/mm/yyyy\")),\"\")","v":""}]
[{"$f":"IF(B64=\"\",\"\",MAX(A$18:A63)+1)","v":""},{"$f":"IF($C64=Referenca!$J$3,CONCATENATE('4. Shpenzimet'!$M64,\"-\",'4. Shpenzimet'!$N64,\"-\",TEXT('4. Shpenzimet'!$O64,\"dd/mm/yyyy\")),\"\")","v":""},null,null,null,"Emër Mbiemër Firmë",null,null,null,"Emër Mbiemër Firmë"]
[{"$f":"IF(B65=\"\",\"\",MAX(A$18:A64)+1)","v":""},{"$f":"IF($C65=Referenca!$J$3,CONCATENATE('4. Shpenzimet'!$M65,\"-\",'4. Shpenzimet'!$N65,\"-\",TEXT('4. Shpenzimet'!$O65,\"dd/mm/yyyy\")),\"\")","v":""}]
[{"$f":"IF(B66=\"\",\"\",MAX(A$18:A65)+1)","v":""},{"$f":"IF($C66=Referenca!$J$3,CONCATENATE('4. Shpenzimet'!$M66,\"-\",'4. Shpenzimet'!$N66,\"-\",TEXT('4. Shpenzimet'!$O66,\"dd/mm/yyyy\")),\"\")","v":""}]
[{"$f":"IF(B67=\"\",\"\",MAX(A$18:A66)+1)","v":""},{"$f":"IF($C67=Referenca!$J$3,CONCATENATE('4. Shpenzimet'!$M67,\"-\",'4. Shpenzimet'!$N67,\"-\",TEXT('4. Shpenzimet'!$O67,\"dd/mm/yyyy\")),\"\")","v":""}]
[{"$f":"IF(B68=\"\",\"\",MAX(A$18:A67)+1)","v":""},{"$f":"IF($C68=Referenca!$J$3,CONCATENATE('4. Shpenzimet'!$M68,\"-\",'4. Shpenzimet'!$N68,\"-\",TEXT('4. Shpenzimet'!$O68,\"dd/mm/yyyy\")),\"\")","v":""}]
[{"$f":"IF(B69=\"\",\"\",MAX(A$18:A68)+1)","v":""},{"$f":"IF($C69=Referenca!$J$3,CONCATENATE('4. Shpenzimet'!$M69,\"-\",'4. Shpenzimet'!$N69,\"-\",TEXT('4. Shpenzimet'!$O69,\"dd/mm/yyyy\")),\"\")","v":""}]
[{"$f":"IF(B70=\"\",\"\",MAX(A$18:A69)+1)","v":""},{"$f":"IF($C70=Referenca!$J$3,CONCATENATE('4. Shpenzimet'!$M70,\"-\",'4. Shpenzimet'!$N70,\"-\",TEXT('4. Shpenzimet'!$O70,\"dd/mm/yyyy\")),\"\")","v":""}]
[{"$f":"IF(B71=\"\",\"\",MAX(A$18:A70)+1)","v":""},{"$f":"IF($C71=Referenca!$J$3,CONCATENATE('4. Shpenzimet'!$M71,\"-\",'4. Shpenzimet'!$N71,\"-\",TEXT('4. Shpenzimet'!$O71,\"dd/mm/yyyy\")),\"\")","v":""}]
[{"$f":"IF(B72=\"\",\"\",MAX(A$18:A71)+1)","v":""},{"$f":"IF($C72=Referenca!$J$3,CONCATENATE('4. Shpenzimet'!$M72,\"-\",'4. Shpenzimet'!$N72,\"-\",TEXT('4. Shpenzimet'!$O72,\"dd/mm/yyyy\")),\"\")","v":""}]
[{"$f":"IF(B73=\"\",\"\",MAX(A$18:A72)+1)","v":""},{"$f":"IF($C73=Referenca!$J$3,CONCATENATE('4. Shpenzimet'!$M73,\"-\",'4. Shpenzimet'!$N73,\"-\",TEXT('4. Shpenzimet'!$O73,\"dd/mm/yyyy\")),\"\")","v":""}]
[{"$f":"IF(B74=\"\",\"\",MAX(A$18:A73)+1)","v":""},{"$f":"IF($C74=Referenca!$J$3,CONCATENATE('4. Shpenzimet'!$M74,\"-\",'4. Shpenzimet'!$N74,\"-\",TEXT('4. Shpenzimet'!$O74,\"dd/mm/yyyy\")),\"\")","v":""}]
[{"$f":"IF(B75=\"\",\"\",MAX(A$18:A74)+1)","v":""},{"$f":"IF($C75=Referenca!$J$3,CONCATENATE('4. Shpenzimet'!$M75,\"-\",'4. Shpenzimet'!$N75,\"-\",TEXT('4. Shpenzimet'!$O75,\"dd/mm/yyyy\")),\"\")","v":""}]
[{"$f":"IF(B76=\"\",\"\",MAX(A$18:A75)+1)","v":""},{"$f":"IF($C76=Referenca!$J$3,CONCATENATE('4. Shpenzimet'!$M76,\"-\",'4. Shpenzimet'!$N76,\"-\",TEXT('4. Shpenzimet'!$O76,\"dd/mm/yyyy\")),\"\")","v":""}]
[{"$f":"IF(B77=\"\",\"\",MAX(A$18:A76)+1)","v":""},{"$f":"IF($C77=Referenca!$J$3,CONCATENATE('4. Shpenzimet'!$M77,\"-\",'4. Shpenzimet'!$N77,\"-\",TEXT('4. Shpenzimet'!$O77,\"dd/mm/yyyy\")),\"\")","v":""}]
[{"$f":"IF(B78=\"\",\"\",MAX(A$18:A77)+1)","v":""},{"$f":"IF($C78=Referenca!$J$3,CONCATENATE('4. Shpenzimet'!$M78,\"-\",'4. Shpenzimet'!$N78,\"-\",TEXT('4. Shpenzimet'!$O78,\"dd/mm/yyyy\")),\"\")","v":""}]
[{"$f":"IF(B79=\"\",\"\",MAX(A$18:A78)+1)","v":""},{"$f":"IF($C79=Referenca!$J$3,CONCATENATE('4. Shpenzimet'!$M79,\"-\",'4. Shpenzimet'!$N79,\"-\",TEXT('4. Shpenzimet'!$O79,\"dd/mm/yyyy\")),\"\")","v":""}]
[{"$f":"IF(B80=\"\",\"\",MAX(A$18:A79)+1)","v":""},{"$f":"IF($C80=Referenca!$J$3,CONCATENATE('4. Shpenzimet'!$M80,\"-\",'4. Shpenzimet'!$N80,\"-\",TEXT('4. Shpenzimet'!$O80,\"dd/mm/yyyy\")),\"\")","v":""}]
[{"$f":"IF(B81=\"\",\"\",MAX(A$18:A80)+1)","v":""},{"$f":"IF($C81=Referenca!$J$3,CONCATENATE('4. Shpenzimet'!$M81,\"-\",'4. Shpenzimet'!$N81,\"-\",TEXT('4. Shpenzimet'!$O81,\"dd/mm/yyyy\")),\"\")","v":""}]
[{"$f":"IF(B82=\"\",\"\",MAX(A$18:A81)+1)","v":""},{"$f":"IF($C82=Referenca!$J$3,CONCATENATE('4. Shpenzimet'!$M82,\"-\",'4. Shpenzimet'!$N82,\"-\",TEXT('4. Shpenzimet'!$O82,\"dd/mm/yyyy\")),\"\")","v":""}]
[{"$f":"IF(B83=\"\",\"\",MAX(A$18:A82)+1)","v":""},{"$f":"IF($C83=Referenca!$J$3,CONCATENATE('4. Shpenzimet'!$M83,\"-\",'4. Shpenzimet'!$N83,\"-\",TEXT('4. Shpenzimet'!$O83,\"dd/mm/yyyy\")),\"\")","v":""}]
[{"$f":"IF(B84=\"\",\"\",MAX(A$18:A83)+1)","v":""},{"$f":"IF($C84=Referenca!$J$3,CONCATENATE('4. Shpenzimet'!$M84,\"-\",'4. Shpenzimet'!$N84,\"-\",TEXT('4. Shpenzimet'!$O84,\"dd/mm/yyyy\")),\"\")","v":""}]
[{"$f":"IF(B85=\"\",\"\",MAX(A$18:A84)+1)","v":""},{"$f":"IF($C85=Referenca!$J$3,CONCATENATE('4. Shpenzimet'!$M85,\"-\",'4. Shpenzimet'!$N85,\"-\",TEXT('4. Shpenzimet'!$O85,\"dd/mm/yyyy\")),\"\")","v":""}]
[{"$f":"IF(B86=\"\",\"\",MAX(A$18:A85)+1)","v":""},{"$f":"IF($C86=Referenca!$J$3,CONCATENATE('4. Shpenzimet'!$M86,\"-\",'4. Shpenzimet'!$N86,\"-\",TEXT('4. Shpenzimet'!$O86,\"dd/mm/yyyy\")),\"\")","v":""}]
[{"$f":"IF(B87=\"\",\"\",MAX(A$18:A86)+1)","v":""},{"$f":"IF($C87=Referenca!$J$3,CONCATENATE('4. Shpenzimet'!$M87,\"-\",'4. Shpenzimet'!$N87,\"-\",TEXT('4. Shpenzimet'!$O87,\"dd/mm/yyyy\")),\"\")","v":""}]
[{"$f":"IF(B88=\"\",\"\",MAX(A$18:A87)+1)","v":""},{"$f":"IF($C88=Referenca!$J$3,CONCATENATE('4. Shpenzimet'!$M88,\"-\",'4. Shpenzimet'!$N88,\"-\",TEXT('4. Shpenzimet'!$O88,\"dd/mm/yyyy\")),\"\")","v":""}]
[{"$f":"IF(B89=\"\",\"\",MAX(A$18:A88)+1)","v":""},{"$f":"IF($C89=Referenca!$J$3,CONCATENATE('4. Shpenzimet'!$M89,\"-\",'4. Shpenzimet'!$N89,\"-\",TEXT('4. Shpenzimet'!$O89,\"dd/mm/yyyy\")),\"\")","v":""}]
[{"$f":"IF(B90=\"\",\"\",MAX(A$18:A89)+1)","v":""},{"$f":"IF($C90=Referenca!$J$3,CONCATENATE('4. Shpenzimet'!$M90,\"-\",'4. Shpenzimet'!$N90,\"-\",TEXT('4. Shpenzimet'!$O90,\"dd/mm/yyyy\")),\"\")","v":""}]
[{"$f":"IF(B91=\"\",\"\",MAX(A$18:A90)+1)","v":""},{"$f":"IF($C91=Referenca!$J$3,CONCATENATE('4. Shpenzimet'!$M91,\"-\",'4. Shpenzimet'!$N91,\"-\",TEXT('4. Shpenzimet'!$O91,\"dd/mm/yyyy\")),\"\")","v":""}]
[{"$f":"IF(B92=\"\",\"\",MAX(A$18:A91)+1)","v":""},{"$f":"IF($C92=Referenca!$J$3,CONCATENATE('4. Shpenzimet'!$M92,\"-\",'4. Shpenzimet'!$N92,\"-\",TEXT('4. Shpenzimet'!$O92,\"dd/mm/yyyy\")),\"\")","v":""}]
[{"$f":"IF(B93=\"\",\"\",MAX(A$18:A92)+1)","v":""},{"$f":"IF($C93=Referenca!$J$3,CONCATENATE('4. Shpenzimet'!$M93,\"-\",'4. Shpenzimet'!$N93,\"-\",TEXT('4. Shpenzimet'!$O93,\"dd/mm/yyyy\")),\"\")","v":""}]
[{"$f":"IF(B94=\"\",\"\",MAX(A$18:A93)+1)","v":""},{"$f":"IF($C94=Referenca!$J$3,CONCATENATE('4. Shpenzimet'!$M94,\"-\",'4. Shpenzimet'!$N94,\"-\",TEXT('4. Shpenzimet'!$O94,\"dd/mm/yyyy\")),\"\")","v":""}]
[{"$f":"IF(B95=\"\",\"\",MAX(A$18:A94)+1)","v":""},{"$f":"IF($C95=Referenca!$J$3,CONCATENATE('4. Shpenzimet'!$M95,\"-\",'4. Shpenzimet'!$N95,\"-\",TEXT('4. Shpenzimet'!$O95,\"dd/mm/yyyy\")),\"\")","v":""}]
[{"$f":"IF(B96=\"\",\"\",MAX(A$18:A95)+1)","v":""},{"$f":"IF($C96=Referenca!$J$3,CONCATENATE('4. Shpenzimet'!$M96,\"-\",'4. Shpenzimet'!$N96,\"-\",TEXT('4. Shpenzimet'!$O96,\"dd/mm/yyyy\")),\"\")","v":""}]
[{"$f":"IF(B97=\"\",\"\",MAX(A$18:A96)+1)","v":""},{"$f":"IF($C97=Referenca!$J$3,CONCATENATE('4. Shpenzimet'!$M97,\"-\",'4. Shpenzimet'!$N97,\"-\",TEXT('4. Shpenzimet'!$O97,\"dd/mm/yyyy\")),\"\")","v":""}]
[{"$f":"IF(B98=\"\",\"\",MAX(A$18:A97)+1)","v":""},{"$f":"IF($C98=Referenca!$J$3,CONCATENATE('4. Shpenzimet'!$M98,\"-\",'4. Shpenzimet'!$N98,\"-\",TEXT('4. Shpenzimet'!$O98,\"dd/mm/yyyy\")),\"\")","v":""}]
[{"$f":"IF(B99=\"\",\"\",MAX(A$18:A98)+1)","v":""},{"$f":"IF($C99=Referenca!$J$3,CONCATENATE('4. Shpenzimet'!$M99,\"-\",'4. Shpenzimet'!$N99,\"-\",TEXT('4. Shpenzimet'!$O99,\"dd/mm/yyyy\")),\"\")","v":""}]
[{"$f":"IF(B100=\"\",\"\",MAX(A$18:A99)+1)","v":""},{"$f":"IF($C100=Referenca!$J$3,CONCATENATE('4. Shpenzimet'!$M100,\"-\",'4. Shpenzimet'!$N100,\"-\",TEXT('4. Shpenzimet'!$O100,\"dd/mm/yyyy\")),\"\")","v":""}]
[{"$f":"IF(B101=\"\",\"\",MAX(A$18:A100)+1)","v":""},{"$f":"IF($C101=Referenca!$J$3,CONCATENATE('4. Shpenzimet'!$M101,\"-\",'4. Shpenzimet'!$N101,\"-\",TEXT('4. Shpenzimet'!$O101,\"dd/mm/yyyy\")),\"\")","v":""}]
[{"$f":"IF(B102=\"\",\"\",MAX(A$18:A101)+1)","v":""},{"$f":"IF($C102=Referenca!$J$3,CONCATENATE('4. Shpenzimet'!$M102,\"-\",'4. Shpenzimet'!$N102,\"-\",TEXT('4. Shpenzimet'!$O102,\"dd/mm/yyyy\")),\"\")","v":""}]
[{"$f":"IF(B103=\"\",\"\",MAX(A$18:A102)+1)","v":""},{"$f":"IF($C103=Referenca!$J$3,CONCATENATE('4. Shpenzimet'!$M103,\"-\",'4. Shpenzimet'!$N103,\"-\",TEXT('4. Shpenzimet'!$O103,\"dd/mm/yyyy\")),\"\")","v":""}]
[{"$f":"IF(B104=\"\",\"\",MAX(A$18:A103)+1)","v":""},{"$f":"IF($C104=Referenca!$J$3,CONCATENATE('4. Shpenzimet'!$M104,\"-\",'4. Shpenzimet'!$N104,\"-\",TEXT('4. Shpenzimet'!$O104,\"dd/mm/yyyy\")),\"\")","v":""}]
[{"$f":"IF(B105=\"\",\"\",MAX(A$18:A104)+1)","v":""},{"$f":"IF($C105=Referenca!$J$3,CONCATENATE('4. Shpenzimet'!$M105,\"-\",'4. Shpenzimet'!$N105,\"-\",TEXT('4. Shpenzimet'!$O105,\"dd/mm/yyyy\")),\"\")","v":""}]
[{"$f":"IF(B106=\"\",\"\",MAX(A$18:A105)+1)","v":""},{"$f":"IF($C106=Referenca!$J$3,CONCATENATE('4. Shpenzimet'!$M106,\"-\",'4. Shpenzimet'!$N106,\"-\",TEXT('4. Shpenzimet'!$O106,\"dd/mm/yyyy\")),\"\")","v":""}]
[{"$f":"IF(B107=\"\",\"\",MAX(A$18:A106)+1)","v":""},{"$f":"IF($C107=Referenca!$J$3,CONCATENATE('4. Shpenzimet'!$M107,\"-\",'4. Shpenzimet'!$N107,\"-\",TEXT('4. Shpenzimet'!$O107,\"dd/mm/yyyy\")),\"\")","v":""}]
[{"$f":"IF(B108=\"\",\"\",MAX(A$18:A107)+1)","v":""},{"$f":"IF($C108=Referenca!$J$3,CONCATENATE('4. Shpenzimet'!$M108,\"-\",'4. Shpenzimet'!$N108,\"-\",TEXT('4. Shpenzimet'!$O108,\"dd/mm/yyyy\")),\"\")","v":""}]
[{"$f":"IF(B109=\"\",\"\",MAX(A$18:A108)+1)","v":""},{"$f":"IF($C109=Referenca!$J$3,CONCATENATE('4. Shpenzimet'!$M109,\"-\",'4. Shpenzimet'!$N109,\"-\",TEXT('4. Shpenzimet'!$O109,\"dd/mm/yyyy\")),\"\")","v":""}]
[{"$f":"IF(B110=\"\",\"\",MAX(A$18:A109)+1)","v":""},{"$f":"IF($C110=Referenca!$J$3,CONCATENATE('4. Shpenzimet'!$M110,\"-\",'4. Shpenzimet'!$N110,\"-\",TEXT('4. Shpenzimet'!$O110,\"dd/mm/yyyy\")),\"\")","v":""}]
[{"$f":"IF(B111=\"\",\"\",MAX(A$18:A110)+1)","v":""},{"$f":"IF($C111=Referenca!$J$3,CONCATENATE('4. Shpenzimet'!$M111,\"-\",'4. Shpenzimet'!$N111,\"-\",TEXT('4. Shpenzimet'!$O111,\"dd/mm/yyyy\")),\"\")","v":""}]
[{"$f":"IF(B112=\"\",\"\",MAX(A$18:A111)+1)","v":""},{"$f":"IF($C112=Referenca!$J$3,CONCATENATE('4. Shpenzimet'!$M112,\"-\",'4. Shpenzimet'!$N112,\"-\",TEXT('4. Shpenzimet'!$O112,\"dd/mm/yyyy\")),\"\")","v":""}]
[{"$f":"IF(B113=\"\",\"\",MAX(A$18:A112)+1)","v":""},{"$f":"IF($C113=Referenca!$J$3,CONCATENATE('4. Shpenzimet'!$M113,\"-\",'4. Shpenzimet'!$N113,\"-\",TEXT('4. Shpenzimet'!$O113,\"dd/mm/yyyy\")),\"\")","v":""}]
[{"$f":"IF(B114=\"\",\"\",MAX(A$18:A113)+1)","v":""},{"$f":"IF($C114=Referenca!$J$3,CONCATENATE('4. Shpenzimet'!$M114,\"-\",'4. Shpenzimet'!$N114,\"-\",TEXT('4. Shpenzimet'!$O114,\"dd/mm/yyyy\")),\"\")","v":""}]
[{"$f":"IF(B115=\"\",\"\",MAX(A$18:A114)+1)","v":""},{"$f":"IF($C115=Referenca!$J$3,CONCATENATE('4. Shpenzimet'!$M115,\"-\",'4. Shpenzimet'!$N115,\"-\",TEXT('4. Shpenzimet'!$O115,\"dd/mm/yyyy\")),\"\")","v":""}]
[{"$f":"IF(B116=\"\",\"\",MAX(A$18:A115)+1)","v":""},{"$f":"IF($C116=Referenca!$J$3,CONCATENATE('4. Shpenzimet'!$M116,\"-\",'4. Shpenzimet'!$N116,\"-\",TEXT('4. Shpenzimet'!$O116,\"dd/mm/yyyy\")),\"\")","v":""}]
[{"$f":"IF(B117=\"\",\"\",MAX(A$18:A116)+1)","v":""},{"$f":"IF($C117=Referenca!$J$3,CONCATENATE('4. Shpenzimet'!$M117,\"-\",'4. Shpenzimet'!$N117,\"-\",TEXT('4. Shpenzimet'!$O117,\"dd/mm/yyyy\")),\"\")","v":""}]
[{"$f":"IF(B118=\"\",\"\",MAX(A$18:A117)+1)","v":""},{"$f":"IF($C118=Referenca!$J$3,CONCATENATE('4. Shpenzimet'!$M118,\"-\",'4. Shpenzimet'!$N118,\"-\",TEXT('4. Shpenzimet'!$O118,\"dd/mm/yyyy\")),\"\")","v":""}]
[{"$f":"IF(B119=\"\",\"\",MAX(A$18:A118)+1)","v":""},{"$f":"IF($C119=Referenca!$J$3,CONCATENATE('4. Shpenzimet'!$M119,\"-\",'4. Shpenzimet'!$N119,\"-\",TEXT('4. Shpenzimet'!$O119,\"dd/mm/yyyy\")),\"\")","v":""}]
[{"$f":"IF(B120=\"\",\"\",MAX(A$18:A119)+1)","v":""},{"$f":"IF($C120=Referenca!$J$3,CONCATENATE('4. Shpenzimet'!$M120,\"-\",'4. Shpenzimet'!$N120,\"-\",TEXT('4. Shpenzimet'!$O120,\"dd/mm/yyyy\")),\"\")","v":""}]
[{"$f":"IF(B121=\"\",\"\",MAX(A$18:A120)+1)","v":""},{"$f":"IF($C121=Referenca!$J$3,CONCATENATE('4. Shpenzimet'!$M121,\"-\",'4. Shpenzimet'!$N121,\"-\",TEXT('4. Shpenzimet'!$O121,\"dd/mm/yyyy\")),\"\")","v":""}]
[{"$f":"IF(B122=\"\",\"\",MAX(A$18:A121)+1)","v":""},{"$f":"IF($C122=Referenca!$J$3,CONCATENATE('4. Shpenzimet'!$M122,\"-\",'4. Shpenzimet'!$N122,\"-\",TEXT('4. Shpenzimet'!$O122,\"dd/mm/yyyy\")),\"\")","v":""}]
[{"$f":"IF(B123=\"\",\"\",MAX(A$18:A122)+1)","v":""},{"$f":"IF($C123=Referenca!$J$3,CONCATENATE('4. Shpenzimet'!$M123,\"-\",'4. Shpenzimet'!$N123,\"-\",TEXT('4. Shpenzimet'!$O123,\"dd/mm/yyyy\")),\"\")","v":""}]
[{"$f":"IF(B124=\"\",\"\",MAX(A$18:A123)+1)","v":""},{"$f":"IF($C124=Referenca!$J$3,CONCATENATE('4. Shpenzimet'!$M124,\"-\",'4. Shpenzimet'!$N124,\"-\",TEXT('4. Shpenzimet'!$O124,\"dd/mm/yyyy\")),\"\")","v":""}]
[{"$f":"IF(B125=\"\",\"\",MAX(A$18:A124)+1)","v":""},{"$f":"IF($C125=Referenca!$J$3,CONCATENATE('4. Shpenzimet'!$M125,\"-\",'4. Shpenzimet'!$N125,\"-\",TEXT('4. Shpenzimet'!$O125,\"dd/mm/yyyy\")),\"\")","v":""}]
[{"$f":"IF(B126=\"\",\"\",MAX(A$18:A125)+1)","v":""},{"$f":"IF($C126=Referenca!$J$3,CONCATENATE('4. Shpenzimet'!$M126,\"-\",'4. Shpenzimet'!$N126,\"-\",TEXT('4. Shpenzimet'!$O126,\"dd/mm/yyyy\")),\"\")","v":""}]
[{"$f":"IF(B127=\"\",\"\",MAX(A$18:A126)+1)","v":""},{"$f":"IF($C127=Referenca!$J$3,CONCATENATE('4. Shpenzimet'!$M127,\"-\",'4. Shpenzimet'!$N127,\"-\",TEXT('4. Shpenzimet'!$O127,\"dd/mm/yyyy\")),\"\")","v":""}]
[{"$f":"IF(B128=\"\",\"\",MAX(A$18:A127)+1)","v":""},{"$f":"IF($C128=Referenca!$J$3,CONCATENATE('4. Shpenzimet'!$M128,\"-\",'4. Shpenzimet'!$N128,\"-\",TEXT('4. Shpenzimet'!$O128,\"dd/mm/yyyy\")),\"\")","v":""}]
[{"$f":"IF(B129=\"\",\"\",MAX(A$18:A128)+1)","v":""},{"$f":"IF($C129=Referenca!$J$3,CONCATENATE('4. Shpenzimet'!$M129,\"-\",'4. Shpenzimet'!$N129,\"-\",TEXT('4. Shpenzimet'!$O129,\"dd/mm/yyyy\")),\"\")","v":""}]
[{"$f":"IF(B130=\"\",\"\",MAX(A$18:A129)+1)","v":""},{"$f":"IF($C130=Referenca!$J$3,CONCATENATE('4. Shpenzimet'!$M130,\"-\",'4. Shpenzimet'!$N130,\"-\",TEXT('4. Shpenzimet'!$O130,\"dd/mm/yyyy\")),\"\")","v":""}]
[{"$f":"IF(B131=\"\",\"\",MAX(A$18:A130)+1)","v":""},{"$f":"IF($C131=Referenca!$J$3,CONCATENATE('4. Shpenzimet'!$M131,\"-\",'4. Shpenzimet'!$N131,\"-\",TEXT('4. Shpenzimet'!$O131,\"dd/mm/yyyy\")),\"\")","v":""}]
[{"$f":"IF(B132=\"\",\"\",MAX(A$18:A131)+1)","v":""},{"$f":"IF($C132=Referenca!$J$3,CONCATENATE('4. Shpenzimet'!$M132,\"-\",'4. Shpenzimet'!$N132,\"-\",TEXT('4. Shpenzimet'!$O132,\"dd/mm/yyyy\")),\"\")","v":""}]
[{"$f":"IF(B133=\"\",\"\",MAX(A$18:A132)+1)","v":""},{"$f":"IF($C133=Referenca!$J$3,CONCATENATE('4. Shpenzimet'!$M133,\"-\",'4. Shpenzimet'!$N133,\"-\",TEXT('4. Shpenzimet'!$O133,\"dd/mm/yyyy\")),\"\")","v":""}]
[{"$f":"IF(B134=\"\",\"\",MAX(A$18:A133)+1)","v":""},{"$f":"IF($C134=Referenca!$J$3,CONCATENATE('4. Shpenzimet'!$M134,\"-\",'4. Shpenzimet'!$N134,\"-\",TEXT('4. Shpenzimet'!$O134,\"dd/mm/yyyy\")),\"\")","v":""}]
[{"$f":"IF(B135=\"\",\"\",MAX(A$18:A134)+1)","v":""},{"$f":"IF($C135=Referenca!$J$3,CONCATENATE('4. Shpenzimet'!$M135,\"-\",'4. Shpenzimet'!$N135,\"-\",TEXT('4. Shpenzimet'!$O135,\"dd/mm/yyyy\")),\"\")","v":""}]
[{"$f":"IF(B136=\"\",\"\",MAX(A$18:A135)+1)","v":""},{"$f":"IF($C136=Referenca!$J$3,CONCATENATE('4. Shpenzimet'!$M136,\"-\",'4. Shpenzimet'!$N136,\"-\",TEXT('4. Shpenzimet'!$O136,\"dd/mm/yyyy\")),\"\")","v":""}]
[{"$f":"IF(B137=\"\",\"\",MAX(A$18:A136)+1)","v":""},{"$f":"IF($C137=Referenca!$J$3,CONCATENATE('4. Shpenzimet'!$M137,\"-\",'4. Shpenzimet'!$N137,\"-\",TEXT('4. Shpenzimet'!$O137,\"dd/mm/yyyy\")),\"\")","v":""}]
[{"$f":"IF(B138=\"\",\"\",MAX(A$18:A137)+1)","v":""},{"$f":"IF($C138=Referenca!$J$3,CONCATENATE('4. Shpenzimet'!$M138,\"-\",'4. Shpenzimet'!$N138,\"-\",TEXT('4. Shpenzimet'!$O138,\"dd/mm/yyyy\")),\"\")","v":""}]
[{"$f":"IF(B139=\"\",\"\",MAX(A$18:A138)+1)","v":""},{"$f":"IF($C139=Referenca!$J$3,CONCATENATE('4. Shpenzimet'!$M139,\"-\",'4. Shpenzimet'!$N139,\"-\",TEXT('4. Shpenzimet'!$O139,\"dd/mm/yyyy\")),\"\")","v":""}]
[{"$f":"IF(B140=\"\",\"\",MAX(A$18:A139)+1)","v":""},{"$f":"IF($C140=Referenca!$J$3,CONCATENATE('4. Shpenzimet'!$M140,\"-\",'4. Shpenzimet'!$N140,\"-\",TEXT('4. Shpenzimet'!$O140,\"dd/mm/yyyy\")),\"\")","v":""}]
[{"$f":"IF(B141=\"\",\"\",MAX(A$18:A140)+1)","v":""},{"$f":"IF($C141=Referenca!$J$3,CONCATENATE('4. Shpenzimet'!$M141,\"-\",'4. Shpenzimet'!$N141,\"-\",TEXT('4. Shpenzimet'!$O141,\"dd/mm/yyyy\")),\"\")","v":""}]
[{"$f":"IF(B142=\"\",\"\",MAX(A$18:A141)+1)","v":""},{"$f":"IF($C142=Referenca!$J$3,CONCATENATE('4. Shpenzimet'!$M142,\"-\",'4. Shpenzimet'!$N142,\"-\",TEXT('4. Shpenzimet'!$O142,\"dd/mm/yyyy\")),\"\")","v":""}]
[{"$f":"IF(B143=\"\",\"\",MAX(A$18:A142)+1)","v":""},{"$f":"IF($C143=Referenca!$J$3,CONCATENATE('4. Shpenzimet'!$M143,\"-\",'4. Shpenzimet'!$N143,\"-\",TEXT('4. Shpenzimet'!$O143,\"dd/mm/yyyy\")),\"\")","v":""}]
[{"$f":"IF(B144=\"\",\"\",MAX(A$18:A143)+1)","v":""},{"$f":"IF($C144=Referenca!$J$3,CONCATENATE('4. Shpenzimet'!$M144,\"-\",'4. Shpenzimet'!$N144,\"-\",TEXT('4. Shpenzimet'!$O144,\"dd/mm/yyyy\")),\"\")","v":""}]
[{"$f":"IF(B145=\"\",\"\",MAX(A$18:A144)+1)","v":""},{"$f":"IF($C145=Referenca!$J$3,CONCATENATE('4. Shpenzimet'!$M145,\"-\",'4. Shpenzimet'!$N145,\"-\",TEXT('4. Shpenzimet'!$O145,\"dd/mm/yyyy\")),\"\")","v":""}]
[{"$f":"IF(B146=\"\",\"\",MAX(A$18:A145)+1)","v":""},{"$f":"IF($C146=Referenca!$J$3,CONCATENATE('4. Shpenzimet'!$M146,\"-\",'4. Shpenzimet'!$N146,\"-\",TEXT('4. Shpenzimet'!$O146,\"dd/mm/yyyy\")),\"\")","v":""}]
[{"$f":"IF(B147=\"\",\"\",MAX(A$18:A146)+1)","v":""},{"$f":"IF($C147=Referenca!$J$3,CONCATENATE('4. Shpenzimet'!$M147,\"-\",'4. Shpenzimet'!$N147,\"-\",TEXT('4. Shpenzimet'!$O147,\"dd/mm/yyyy\")),\"\")","v":""}]
[{"$f":"IF(B148=\"\",\"\",MAX(A$18:A147)+1)","v":""},{"$f":"IF($C148=Referenca!$J$3,CONCATENATE('4. Shpenzimet'!$M148,\"-\",'4. Shpenzimet'!$N148,\"-\",TEXT('4. Shpenzimet'!$O148,\"dd/mm/yyyy\")),\"\")","v":""}]
[{"$f":"IF(B149=\"\",\"\",MAX(A$18:A148)+1)","v":""},{"$f":"IF($C149=Referenca!$J$3,CONCATENATE('4. Shpenzimet'!$M149,\"-\",'4. Shpenzimet'!$N149,\"-\",TEXT('4. Shpenzimet'!$O149,\"dd/mm/yyyy\")),\"\")","v":""}]
[{"$f":"IF(B150=\"\",\"\",MAX(A$18:A149)+1)","v":""},{"$f":"IF($C150=Referenca!$J$3,CONCATENATE('4. Shpenzimet'!$M150,\"-\",'4. Shpenzimet'!$N150,\"-\",TEXT('4. Shpenzimet'!$O150,\"dd/mm/yyyy\")),\"\")","v":""}]
[{"$f":"IF(B151=\"\",\"\",MAX(A$18:A150)+1)","v":""},{"$f":"IF($C151=Referenca!$J$3,CONCATENATE('4. Shpenzimet'!$M151,\"-\",'4. Shpenzimet'!$N151,\"-\",TEXT('4. Shpenzimet'!$O151,\"dd/mm/yyyy\")),\"\")","v":""}]
[{"$f":"IF(B152=\"\",\"\",MAX(A$18:A151)+1)","v":""},{"$f":"IF($C152=Referenca!$J$3,CONCATENATE('4. Shpenzimet'!$M152,\"-\",'4. Shpenzimet'!$N152,\"-\",TEXT('4. Shpenzimet'!$O152,\"dd/mm/yyyy\")),\"\")","v":""}]
[{"$f":"IF(B153=\"\",\"\",MAX(A$18:A152)+1)","v":""},{"$f":"IF($C153=Referenca!$J$3,CONCATENATE('4. Shpenzimet'!$M153,\"-\",'4. Shpenzimet'!$N153,\"-\",TEXT('4. Shpenzimet'!$O153,\"dd/mm/yyyy\")),\"\")","v":""}]
[{"$f":"IF(B154=\"\",\"\",MAX(A$18:A153)+1)","v":""},{"$f":"IF($C154=Referenca!$J$3,CONCATENATE('4. Shpenzimet'!$M154,\"-\",'4. Shpenzimet'!$N154,\"-\",TEXT('4. Shpenzimet'!$O154,\"dd/mm/yyyy\")),\"\")","v":""}]
[{"$f":"IF(B155=\"\",\"\",MAX(A$18:A154)+1)","v":""},{"$f":"IF($C155=Referenca!$J$3,CONCATENATE('4. Shpenzimet'!$M155,\"-\",'4. Shpenzimet'!$N155,\"-\",TEXT('4. Shpenzimet'!$O155,\"dd/mm/yyyy\")),\"\")","v":""}]
[{"$f":"IF(B156=\"\",\"\",MAX(A$18:A155)+1)","v":""},{"$f":"IF($C156=Referenca!$J$3,CONCATENATE('4. Shpenzimet'!$M156,\"-\",'4. Shpenzimet'!$N156,\"-\",TEXT('4. Shpenzimet'!$O156,\"dd/mm/yyyy\")),\"\")","v":""}]
[{"$f":"IF(B157=\"\",\"\",MAX(A$18:A156)+1)","v":""},{"$f":"IF($C157=Referenca!$J$3,CONCATENATE('4. Shpenzimet'!$M157,\"-\",'4. Shpenzimet'!$N157,\"-\",TEXT('4. Shpenzimet'!$O157,\"dd/mm/yyyy\")),\"\")","v":""}]
[{"$f":"IF(B158=\"\",\"\",MAX(A$18:A157)+1)","v":""},{"$f":"IF($C158=Referenca!$J$3,CONCATENATE('4. Shpenzimet'!$M158,\"-\",'4. Shpenzimet'!$N158,\"-\",TEXT('4. Shpenzimet'!$O158,\"dd/mm/yyyy\")),\"\")","v":""}]
[{"$f":"IF(B159=\"\",\"\",MAX(A$18:A158)+1)","v":""},{"$f":"IF($C159=Referenca!$J$3,CONCATENATE('4. Shpenzimet'!$M159,\"-\",'4. Shpenzimet'!$N159,\"-\",TEXT('4. Shpenzimet'!$O159,\"dd/mm/yyyy\")),\"\")","v":""}]
[{"$f":"IF(B160=\"\",\"\",MAX(A$18:A159)+1)","v":""},{"$f":"IF($C160=Referenca!$J$3,CONCATENATE('4. Shpenzimet'!$M160,\"-\",'4. Shpenzimet'!$N160,\"-\",TEXT('4. Shpenzimet'!$O160,\"dd/mm/yyyy\")),\"\")","v":""}]
[{"$f":"IF(B161=\"\",\"\",MAX(A$18:A160)+1)","v":""},{"$f":"IF($C161=Referenca!$J$3,CONCATENATE('4. Shpenzimet'!$M161,\"-\",'4. Shpenzimet'!$N161,\"-\",TEXT('4. Shpenzimet'!$O161,\"dd/mm/yyyy\")),\"\")","v":""}]
[{"$f":"IF(B162=\"\",\"\",MAX(A$18:A161)+1)","v":""},{"$f":"IF($C162=Referenca!$J$3,CONCATENATE('4. Shpenzimet'!$M162,\"-\",'4. Shpenzimet'!$N162,\"-\",TEXT('4. Shpenzimet'!$O162,\"dd/mm/yyyy\")),\"\")","v":""}]
[{"$f":"IF(B163=\"\",\"\",MAX(A$18:A162)+1)","v":""},{"$f":"IF($C163=Referenca!$J$3,CONCATENATE('4. Shpenzimet'!$M163,\"-\",'4. Shpenzimet'!$N163,\"-\",TEXT('4. Shpenzimet'!$O163,\"dd/mm/yyyy\")),\"\")","v":""}]
[{"$f":"IF(B164=\"\",\"\",MAX(A$18:A163)+1)","v":""},{"$f":"IF($C164=Referenca!$J$3,CONCATENATE('4. Shpenzimet'!$M164,\"-\",'4. Shpenzimet'!$N164,\"-\",TEXT('4. Shpenzimet'!$O164,\"dd/mm/yyyy\")),\"\")","v":""}]
[{"$f":"IF(B165=\"\",\"\",MAX(A$18:A164)+1)","v":""},{"$f":"IF($C165=Referenca!$J$3,CONCATENATE('4. Shpenzimet'!$M165,\"-\",'4. Shpenzimet'!$N165,\"-\",TEXT('4. Shpenzimet'!$O165,\"dd/mm/yyyy\")),\"\")","v":""}]
[{"$f":"IF(B166=\"\",\"\",MAX(A$18:A165)+1)","v":""},{"$f":"IF($C166=Referenca!$J$3,CONCATENATE('4. Shpenzimet'!$M166,\"-\",'4. Shpenzimet'!$N166,\"-\",TEXT('4. Shpenzimet'!$O166,\"dd/mm/yyyy\")),\"\")","v":""}]
[{"$f":"IF(B167=\"\",\"\",MAX(A$18:A166)+1)","v":""},{"$f":"IF($C167=Referenca!$J$3,CONCATENATE('4. Shpenzimet'!$M167,\"-\",'4. Shpenzimet'!$N167,\"-\",TEXT('4. Shpenzimet'!$O167,\"dd/mm/yyyy\")),\"\")","v":""}]
[{"$f":"IF(B168=\"\",\"\",MAX(A$18:A167)+1)","v":""},{"$f":"IF($C168=Referenca!$J$3,CONCATENATE('4. Shpenzimet'!$M168,\"-\",'4. Shpenzimet'!$N168,\"-\",TEXT('4. Shpenzimet'!$O168,\"dd/mm/yyyy\")),\"\")","v":""}]
[{"$f":"IF(B169=\"\",\"\",MAX(A$18:A168)+1)","v":""},{"$f":"IF($C169=Referenca!$J$3,CONCATENATE('4. Shpenzimet'!$M169,\"-\",'4. Shpenzimet'!$N169,\"-\",TEXT('4. Shpenzimet'!$O169,\"dd/mm/yyyy\")),\"\")","v":""}]
[{"$f":"IF(B170=\"\",\"\",MAX(A$18:A169)+1)","v":""},{"$f":"IF($C170=Referenca!$J$3,CONCATENATE('4. Shpenzimet'!$M170,\"-\",'4. Shpenzimet'!$N170,\"-\",TEXT('4. Shpenzimet'!$O170,\"dd/mm/yyyy\")),\"\")","v":""}]
[{"$f":"IF(B171=\"\",\"\",MAX(A$18:A170)+1)","v":""},{"$f":"IF($C171=Referenca!$J$3,CONCATENATE('4. Shpenzimet'!$M171,\"-\",'4. Shpenzimet'!$N171,\"-\",TEXT('4. Shpenzimet'!$O171,\"dd/mm/yyyy\")),\"\")","v":""}]
[{"$f":"IF(B172=\"\",\"\",MAX(A$18:A171)+1)","v":""},{"$f":"IF($C172=Referenca!$J$3,CONCATENATE('4. Shpenzimet'!$M172,\"-\",'4. Shpenzimet'!$N172,\"-\",TEXT('4. Shpenzimet'!$O172,\"dd/mm/yyyy\")),\"\")","v":""}]
[{"$f":"IF(B173=\"\",\"\",MAX(A$18:A172)+1)","v":""},{"$f":"IF($C173=Referenca!$J$3,CONCATENATE('4. Shpenzimet'!$M173,\"-\",'4. Shpenzimet'!$N173,\"-\",TEXT('4. Shpenzimet'!$O173,\"dd/mm/yyyy\")),\"\")","v":""}]
[{"$f":"IF(B174=\"\",\"\",MAX(A$18:A173)+1)","v":""},{"$f":"IF($C174=Referenca!$J$3,CONCATENATE('4. Shpenzimet'!$M174,\"-\",'4. Shpenzimet'!$N174,\"-\",TEXT('4. Shpenzimet'!$O174,\"dd/mm/yyyy\")),\"\")","v":""}]
[{"$f":"IF(B175=\"\",\"\",MAX(A$18:A174)+1)","v":""},{"$f":"IF($C175=Referenca!$J$3,CONCATENATE('4. Shpenzimet'!$M175,\"-\",'4. Shpenzimet'!$N175,\"-\",TEXT('4. Shpenzimet'!$O175,\"dd/mm/yyyy\")),\"\")","v":""}]
[{"$f":"IF(B176=\"\",\"\",MAX(A$18:A175)+1)","v":""},{"$f":"IF($C176=Referenca!$J$3,CONCATENATE('4. Shpenzimet'!$M176,\"-\",'4. Shpenzimet'!$N176,\"-\",TEXT('4. Shpenzimet'!$O176,\"dd/mm/yyyy\")),\"\")","v":""}]
[{"$f":"IF(B177=\"\",\"\",MAX(A$18:A176)+1)","v":""},{"$f":"IF($C177=Referenca!$J$3,CONCATENATE('4. Shpenzimet'!$M177,\"-\",'4. Shpenzimet'!$N177,\"-\",TEXT('4. Shpenzimet'!$O177,\"dd/mm/yyyy\")),\"\")","v":""}]
[{"$f":"IF(B178=\"\",\"\",MAX(A$18:A177)+1)","v":""},{"$f":"IF($C178=Referenca!$J$3,CONCATENATE('4. Shpenzimet'!$M178,\"-\",'4. Shpenzimet'!$N178,\"-\",TEXT('4. Shpenzimet'!$O178,\"dd/mm/yyyy\")),\"\")","v":""}]
[{"$f":"IF(B179=\"\",\"\",MAX(A$18:A178)+1)","v":""},{"$f":"IF($C179=Referenca!$J$3,CONCATENATE('4. Shpenzimet'!$M179,\"-\",'4. Shpenzimet'!$N179,\"-\",TEXT('4. Shpenzimet'!$O179,\"dd/mm/yyyy\")),\"\")","v":""}]
[{"$f":"IF(B180=\"\",\"\",MAX(A$18:A179)+1)","v":""},{"$f":"IF($C180=Referenca!$J$3,CONCATENATE('4. Shpenzimet'!$M180,\"-\",'4. Shpenzimet'!$N180,\"-\",TEXT('4. Shpenzimet'!$O180,\"dd/mm/yyyy\")),\"\")","v":""}]
[{"$f":"IF(B181=\"\",\"\",MAX(A$18:A180)+1)","v":""},{"$f":"IF($C181=Referenca!$J$3,CONCATENATE('4. Shpenzimet'!$M181,\"-\",'4. Shpenzimet'!$N181,\"-\",TEXT('4. Shpenzimet'!$O181,\"dd/mm/yyyy\")),\"\")","v":""}]
[{"$f":"IF(B182=\"\",\"\",MAX(A$18:A181)+1)","v":""},{"$f":"IF($C182=Referenca!$J$3,CONCATENATE('4. Shpenzimet'!$M182,\"-\",'4. Shpenzimet'!$N182,\"-\",TEXT('4. Shpenzimet'!$O182,\"dd/mm/yyyy\")),\"\")","v":""}]
[{"$f":"IF(B183=\"\",\"\",MAX(A$18:A182)+1)","v":""},{"$f":"IF($C183=Referenca!$J$3,CONCATENATE('4. Shpenzimet'!$M183,\"-\",'4. Shpenzimet'!$N183,\"-\",TEXT('4. Shpenzimet'!$O183,\"dd/mm/yyyy\")),\"\")","v":""}]
[{"$f":"IF(B184=\"\",\"\",MAX(A$18:A183)+1)","v":""},{"$f":"IF($C184=Referenca!$J$3,CONCATENATE('4. Shpenzimet'!$M184,\"-\",'4. Shpenzimet'!$N184,\"-\",TEXT('4. Shpenzimet'!$O184,\"dd/mm/yyyy\")),\"\")","v":""}]
[{"$f":"IF(B185=\"\",\"\",MAX(A$18:A184)+1)","v":""},{"$f":"IF($C185=Referenca!$J$3,CONCATENATE('4. Shpenzimet'!$M185,\"-\",'4. Shpenzimet'!$N185,\"-\",TEXT('4. Shpenzimet'!$O185,\"dd/mm/yyyy\")),\"\")","v":""}]
[{"$f":"IF(B186=\"\",\"\",MAX(A$18:A185)+1)","v":""},{"$f":"IF($C186=Referenca!$J$3,CONCATENATE('4. Shpenzimet'!$M186,\"-\",'4. Shpenzimet'!$N186,\"-\",TEXT('4. Shpenzimet'!$O186,\"dd/mm/yyyy\")),\"\")","v":""}]
[{"$f":"IF(B187=\"\",\"\",MAX(A$18:A186)+1)","v":""},{"$f":"IF($C187=Referenca!$J$3,CONCATENATE('4. Shpenzimet'!$M187,\"-\",'4. Shpenzimet'!$N187,\"-\",TEXT('4. Shpenzimet'!$O187,\"dd/mm/yyyy\")),\"\")","v":""}]
[{"$f":"IF(B188=\"\",\"\",MAX(A$18:A187)+1)","v":""},{"$f":"IF($C188=Referenca!$J$3,CONCATENATE('4. Shpenzimet'!$M188,\"-\",'4. Shpenzimet'!$N188,\"-\",TEXT('4. Shpenzimet'!$O188,\"dd/mm/yyyy\")),\"\")","v":""}]
[{"$f":"IF(B189=\"\",\"\",MAX(A$18:A188)+1)","v":""},{"$f":"IF($C189=Referenca!$J$3,CONCATENATE('4. Shpenzimet'!$M189,\"-\",'4. Shpenzimet'!$N189,\"-\",TEXT('4. Shpenzimet'!$O189,\"dd/mm/yyyy\")),\"\")","v":""}]
[{"$f":"IF(B190=\"\",\"\",MAX(A$18:A189)+1)","v":""},{"$f":"IF($C190=Referenca!$J$3,CONCATENATE('4. Shpenzimet'!$M190,\"-\",'4. Shpenzimet'!$N190,\"-\",TEXT('4. Shpenzimet'!$O190,\"dd/mm/yyyy\")),\"\")","v":""}]
[{"$f":"IF(B191=\"\",\"\",MAX(A$18:A190)+1)","v":""},{"$f":"IF($C191=Referenca!$J$3,CONCATENATE('4. Shpenzimet'!$M191,\"-\",'4. Shpenzimet'!$N191,\"-\",TEXT('4. Shpenzimet'!$O191,\"dd/mm/yyyy\")),\"\")","v":""}]
[{"$f":"IF(B192=\"\",\"\",MAX(A$18:A191)+1)","v":""},{"$f":"IF($C192=Referenca!$J$3,CONCATENATE('4. Shpenzimet'!$M192,\"-\",'4. Shpenzimet'!$N192,\"-\",TEXT('4. Shpenzimet'!$O192,\"dd/mm/yyyy\")),\"\")","v":""}]
[{"$f":"IF(B193=\"\",\"\",MAX(A$18:A192)+1)","v":""},{"$f":"IF($C193=Referenca!$J$3,CONCATENATE('4. Shpenzimet'!$M193,\"-\",'4. Shpenzimet'!$N193,\"-\",TEXT('4. Shpenzimet'!$O193,\"dd/mm/yyyy\")),\"\")","v":""}]
[{"$f":"IF(B194=\"\",\"\",MAX(A$18:A193)+1)","v":""},{"$f":"IF($C194=Referenca!$J$3,CONCATENATE('4. Shpenzimet'!$M194,\"-\",'4. Shpenzimet'!$N194,\"-\",TEXT('4. Shpenzimet'!$O194,\"dd/mm/yyyy\")),\"\")","v":""}]
[{"$f":"IF(B195=\"\",\"\",MAX(A$18:A194)+1)","v":""},{"$f":"IF($C195=Referenca!$J$3,CONCATENATE('4. Shpenzimet'!$M195,\"-\",'4. Shpenzimet'!$N195,\"-\",TEXT('4. Shpenzimet'!$O195,\"dd/mm/yyyy\")),\"\")","v":""}]
[{"$f":"IF(B196=\"\",\"\",MAX(A$18:A195)+1)","v":""},{"$f":"IF($C196=Referenca!$J$3,CONCATENATE('4. Shpenzimet'!$M196,\"-\",'4. Shpenzimet'!$N196,\"-\",TEXT('4. Shpenzimet'!$O196,\"dd/mm/yyyy\")),\"\")","v":""}]
[{"$f":"IF(B197=\"\",\"\",MAX(A$18:A196)+1)","v":""},{"$f":"IF($C197=Referenca!$J$3,CONCATENATE('4. Shpenzimet'!$M197,\"-\",'4. Shpenzimet'!$N197,\"-\",TEXT('4. Shpenzimet'!$O197,\"dd/mm/yyyy\")),\"\")","v":""}]
[{"$f":"IF(B198=\"\",\"\",MAX(A$18:A197)+1)","v":""},{"$f":"IF($C198=Referenca!$J$3,CONCATENATE('4. Shpenzimet'!$M198,\"-\",'4. Shpenzimet'!$N198,\"-\",TEXT('4. Shpenzimet'!$O198,\"dd/mm/yyyy\")),\"\")","v":""}]
[{"$f":"IF(B199=\"\",\"\",MAX(A$18:A198)+1)","v":""},{"$f":"IF($C199=Referenca!$J$3,CONCATENATE('4. Shpenzimet'!$M199,\"-\",'4. Shpenzimet'!$N199,\"-\",TEXT('4. Shpenzimet'!$O199,\"dd/mm/yyyy\")),\"\")","v":""}]
[{"$f":"IF(B200=\"\",\"\",MAX(A$18:A199)+1)","v":""},{"$f":"IF($C200=Referenca!$J$3,CONCATENATE('4. Shpenzimet'!$M200,\"-\",'4. Shpenzimet'!$N200,\"-\",TEXT('4. Shpenzimet'!$O200,\"dd/mm/yyyy\")),\"\")","v":""}]
[{"$f":"IF(B201=\"\",\"\",MAX(A$18:A200)+1)","v":""},{"$f":"IF($C201=Referenca!$J$3,CONCATENATE('4. Shpenzimet'!$M201,\"-\",'4. Shpenzimet'!$N201,\"-\",TEXT('4. Shpenzimet'!$O201,\"dd/mm/yyyy\")),\"\")","v":""}]
[{"$f":"IF(B202=\"\",\"\",MAX(A$18:A201)+1)","v":""},{"$f":"IF($C202=Referenca!$J$3,CONCATENATE('4. Shpenzimet'!$M202,\"-\",'4. Shpenzimet'!$N202,\"-\",TEXT('4. Shpenzimet'!$O202,\"dd/mm/yyyy\")),\"\")","v":""}]
[{"$f":"IF(B203=\"\",\"\",MAX(A$18:A202)+1)","v":""},{"$f":"IF($C203=Referenca!$J$3,CONCATENATE('4. Shpenzimet'!$M203,\"-\",'4. Shpenzimet'!$N203,\"-\",TEXT('4. Shpenzimet'!$O203,\"dd/mm/yyyy\")),\"\")","v":""}]
[{"$f":"IF(B204=\"\",\"\",MAX(A$18:A203)+1)","v":""},{"$f":"IF($C204=Referenca!$J$3,CONCATENATE('4. Shpenzimet'!$M204,\"-\",'4. Shpenzimet'!$N204,\"-\",TEXT('4. Shpenzimet'!$O204,\"dd/mm/yyyy\")),\"\")","v":""}]
[{"$f":"IF(B205=\"\",\"\",MAX(A$18:A204)+1)","v":""},{"$f":"IF($C205=Referenca!$J$3,CONCATENATE('4. Shpenzimet'!$M205,\"-\",'4. Shpenzimet'!$N205,\"-\",TEXT('4. Shpenzimet'!$O205,\"dd/mm/yyyy\")),\"\")","v":""}]
[{"$f":"IF(B206=\"\",\"\",MAX(A$18:A205)+1)","v":""},{"$f":"IF($C206=Referenca!$J$3,CONCATENATE('4. Shpenzimet'!$M206,\"-\",'4. Shpenzimet'!$N206,\"-\",TEXT('4. Shpenzimet'!$O206,\"dd/mm/yyyy\")),\"\")","v":""}]
[{"$f":"IF(B207=\"\",\"\",MAX(A$18:A206)+1)","v":""},{"$f":"IF($C207=Referenca!$J$3,CONCATENATE('4. Shpenzimet'!$M207,\"-\",'4. Shpenzimet'!$N207,\"-\",TEXT('4. Shpenzimet'!$O207,\"dd/mm/yyyy\")),\"\")","v":""}]
[{"$f":"IF(B208=\"\",\"\",MAX(A$18:A207)+1)","v":""},{"$f":"IF($C208=Referenca!$J$3,CONCATENATE('4. Shpenzimet'!$M208,\"-\",'4. Shpenzimet'!$N208,\"-\",TEXT('4. Shpenzimet'!$O208,\"dd/mm/yyyy\")),\"\")","v":""}]
[{"$f":"IF(B209=\"\",\"\",MAX(A$18:A208)+1)","v":""},{"$f":"IF($C209=Referenca!$J$3,CONCATENATE('4. Shpenzimet'!$M209,\"-\",'4. Shpenzimet'!$N209,\"-\",TEXT('4. Shpenzimet'!$O209,\"dd/mm/yyyy\")),\"\")","v":""}]
[{"$f":"IF(B210=\"\",\"\",MAX(A$18:A209)+1)","v":""},{"$f":"IF($C210=Referenca!$J$3,CONCATENATE('4. Shpenzimet'!$M210,\"-\",'4. Shpenzimet'!$N210,\"-\",TEXT('4. Shpenzimet'!$O210,\"dd/mm/yyyy\")),\"\")","v":""}]
[{"$f":"IF(B211=\"\",\"\",MAX(A$18:A210)+1)","v":""},{"$f":"IF($C211=Referenca!$J$3,CONCATENATE('4. Shpenzimet'!$M211,\"-\",'4. Shpenzimet'!$N211,\"-\",TEXT('4. Shpenzimet'!$O211,\"dd/mm/yyyy\")),\"\")","v":""}]
[{"$f":"IF(B212=\"\",\"\",MAX(A$18:A211)+1)","v":""},{"$f":"IF($C212=Referenca!$J$3,CONCATENATE('4. Shpenzimet'!$M212,\"-\",'4. Shpenzimet'!$N212,\"-\",TEXT('4. Shpenzimet'!$O212,\"dd/mm/yyyy\")),\"\")","v":""}]
[{"$f":"IF(B213=\"\",\"\",MAX(A$18:A212)+1)","v":""},{"$f":"IF($C213=Referenca!$J$3,CONCATENATE('4. Shpenzimet'!$M213,\"-\",'4. Shpenzimet'!$N213,\"-\",TEXT('4. Shpenzimet'!$O213,\"dd/mm/yyyy\")),\"\")","v":""}]
[{"$f":"IF(B214=\"\",\"\",MAX(A$18:A213)+1)","v":""},{"$f":"IF($C214=Referenca!$J$3,CONCATENATE('4. Shpenzimet'!$M214,\"-\",'4. Shpenzimet'!$N214,\"-\",TEXT('4. Shpenzimet'!$O214,\"dd/mm/yyyy\")),\"\")","v":""}]
[{"$f":"IF(B215=\"\",\"\",MAX(A$18:A214)+1)","v":""},{"$f":"IF($C215=Referenca!$J$3,CONCATENATE('4. Shpenzimet'!$M215,\"-\",'4. Shpenzimet'!$N215,\"-\",TEXT('4. Shpenzimet'!$O215,\"dd/mm/yyyy\")),\"\")","v":""}]
[{"$f":"IF(B216=\"\",\"\",MAX(A$18:A215)+1)","v":""},{"$f":"IF($C216=Referenca!$J$3,CONCATENATE('4. Shpenzimet'!$M216,\"-\",'4. Shpenzimet'!$N216,\"-\",TEXT('4. Shpenzimet'!$O216,\"dd/mm/yyyy\")),\"\")","v":""}]
[{"$f":"IF(B217=\"\",\"\",MAX(A$18:A216)+1)","v":""},{"$f":"IF($C217=Referenca!$J$3,CONCATENATE('4. Shpenzimet'!$M217,\"-\",'4. Shpenzimet'!$N217,\"-\",TEXT('4. Shpenzimet'!$O217,\"dd/mm/yyyy\")),\"\")","v":""}]
[{"$f":"IF(B218=\"\",\"\",MAX(A$18:A217)+1)","v":""},{"$f":"IF($C218=Referenca!$J$3,CONCATENATE('4. Shpenzimet'!$M218,\"-\",'4. Shpenzimet'!$N218,\"-\",TEXT('4. Shpenzimet'!$O218,\"dd/mm/yyyy\")),\"\")","v":""}]
[{"$f":"IF(B219=\"\",\"\",MAX(A$18:A218)+1)","v":""},{"$f":"IF($C219=Referenca!$J$3,CONCATENATE('4. Shpenzimet'!$M219,\"-\",'4. Shpenzimet'!$N219,\"-\",TEXT('4. Shpenzimet'!$O219,\"dd/mm/yyyy\")),\"\")","v":""}]
[{"$f":"IF(B220=\"\",\"\",MAX(A$18:A219)+1)","v":""},{"$f":"IF($C220=Referenca!$J$3,CONCATENATE('4. Shpenzimet'!$M220,\"-\",'4. Shpenzimet'!$N220,\"-\",TEXT('4. Shpenzimet'!$O220,\"dd/mm/yyyy\")),\"\")","v":""}]
[{"$f":"IF(B221=\"\",\"\",MAX(A$18:A220)+1)","v":""},{"$f":"IF($C221=Referenca!$J$3,CONCATENATE('4. Shpenzimet'!$M221,\"-\",'4. Shpenzimet'!$N221,\"-\",TEXT('4. Shpenzimet'!$O221,\"dd/mm/yyyy\")),\"\")","v":""}]
[{"$f":"IF(B222=\"\",\"\",MAX(A$18:A221)+1)","v":""},{"$f":"IF($C222=Referenca!$J$3,CONCATENATE('4. Shpenzimet'!$M222,\"-\",'4. Shpenzimet'!$N222,\"-\",TEXT('4. Shpenzimet'!$O222,\"dd/mm/yyyy\")),\"\")","v":""}]
[{"$f":"IF(B223=\"\",\"\",MAX(A$18:A222)+1)","v":""},{"$f":"IF($C223=Referenca!$J$3,CONCATENATE('4. Shpenzimet'!$M223,\"-\",'4. Shpenzimet'!$N223,\"-\",TEXT('4. Shpenzimet'!$O223,\"dd/mm/yyyy\")),\"\")","v":""}]
[{"$f":"IF(B224=\"\",\"\",MAX(A$18:A223)+1)","v":""},{"$f":"IF($C224=Referenca!$J$3,CONCATENATE('4. Shpenzimet'!$M224,\"-\",'4. Shpenzimet'!$N224,\"-\",TEXT('4. Shpenzimet'!$O224,\"dd/mm/yyyy\")),\"\")","v":""}]
[{"$f":"IF(B225=\"\",\"\",MAX(A$18:A224)+1)","v":""},{"$f":"IF($C225=Referenca!$J$3,CONCATENATE('4. Shpenzimet'!$M225,\"-\",'4. Shpenzimet'!$N225,\"-\",TEXT('4. Shpenzimet'!$O225,\"dd/mm/yyyy\")),\"\")","v":""}]
[{"$f":"IF(B226=\"\",\"\",MAX(A$18:A225)+1)","v":""},{"$f":"IF($C226=Referenca!$J$3,CONCATENATE('4. Shpenzimet'!$M226,\"-\",'4. Shpenzimet'!$N226,\"-\",TEXT('4. Shpenzimet'!$O226,\"dd/mm/yyyy\")),\"\")","v":""}]
[{"$f":"IF(B227=\"\",\"\",MAX(A$18:A226)+1)","v":""},{"$f":"IF($C227=Referenca!$J$3,CONCATENATE('4. Shpenzimet'!$M227,\"-\",'4. Shpenzimet'!$N227,\"-\",TEXT('4. Shpenzimet'!$O227,\"dd/mm/yyyy\")),\"\")","v":""}]
[{"$f":"IF(B228=\"\",\"\",MAX(A$18:A227)+1)","v":""},{"$f":"IF($C228=Referenca!$J$3,CONCATENATE('4. Shpenzimet'!$M228,\"-\",'4. Shpenzimet'!$N228,\"-\",TEXT('4. Shpenzimet'!$O228,\"dd/mm/yyyy\")),\"\")","v":""}]
[{"$f":"IF(B229=\"\",\"\",MAX(A$18:A228)+1)","v":""},{"$f":"IF($C229=Referenca!$J$3,CONCATENATE('4. Shpenzimet'!$M229,\"-\",'4. Shpenzimet'!$N229,\"-\",TEXT('4. Shpenzimet'!$O229,\"dd/mm/yyyy\")),\"\")","v":""}]
[{"$f":"IF(B230=\"\",\"\",MAX(A$18:A229)+1)","v":""},{"$f":"IF($C230=Referenca!$J$3,CONCATENATE('4. Shpenzimet'!$M230,\"-\",'4. Shpenzimet'!$N230,\"-\",TEXT('4. Shpenzimet'!$O230,\"dd/mm/yyyy\")),\"\")","v":""}]
[{"$f":"IF(B231=\"\",\"\",MAX(A$18:A230)+1)","v":""},{"$f":"IF($C231=Referenca!$J$3,CONCATENATE('4. Shpenzimet'!$M231,\"-\",'4. Shpenzimet'!$N231,\"-\",TEXT('4. Shpenzimet'!$O231,\"dd/mm/yyyy\")),\"\")","v":""}]
[{"$f":"IF(B232=\"\",\"\",MAX(A$18:A231)+1)","v":""},{"$f":"IF($C232=Referenca!$J$3,CONCATENATE('4. Shpenzimet'!$M232,\"-\",'4. Shpenzimet'!$N232,\"-\",TEXT('4. Shpenzimet'!$O232,\"dd/mm/yyyy\")),\"\")","v":""}]
[{"$f":"IF(B233=\"\",\"\",MAX(A$18:A232)+1)","v":""},{"$f":"IF($C233=Referenca!$J$3,CONCATENATE('4. Shpenzimet'!$M233,\"-\",'4. Shpenzimet'!$N233,\"-\",TEXT('4. Shpenzimet'!$O233,\"dd/mm/yyyy\")),\"\")","v":""}]
[{"$f":"IF(B234=\"\",\"\",MAX(A$18:A233)+1)","v":""},{"$f":"IF($C234=Referenca!$J$3,CONCATENATE('4. Shpenzimet'!$M234,\"-\",'4. Shpenzimet'!$N234,\"-\",TEXT('4. Shpenzimet'!$O234,\"dd/mm/yyyy\")),\"\")","v":""}]
[{"$f":"IF(B235=\"\",\"\",MAX(A$18:A234)+1)","v":""},{"$f":"IF($C235=Referenca!$J$3,CONCATENATE('4. Shpenzimet'!$M235,\"-\",'4. Shpenzimet'!$N235,\"-\",TEXT('4. Shpenzimet'!$O235,\"dd/mm/yyyy\")),\"\")","v":""}]
[{"$f":"IF(B236=\"\",\"\",MAX(A$18:A235)+1)","v":""},{"$f":"IF($C236=Referenca!$J$3,CONCATENATE('4. Shpenzimet'!$M236,\"-\",'4. Shpenzimet'!$N236,\"-\",TEXT('4. Shpenzimet'!$O236,\"dd/mm/yyyy\")),\"\")","v":""}]
[{"$f":"IF(B237=\"\",\"\",MAX(A$18:A236)+1)","v":""},{"$f":"IF($C237=Referenca!$J$3,CONCATENATE('4. Shpenzimet'!$M237,\"-\",'4. Shpenzimet'!$N237,\"-\",TEXT('4. Shpenzimet'!$O237,\"dd/mm/yyyy\")),\"\")","v":""}]
[{"$f":"IF(B238=\"\",\"\",MAX(A$18:A237)+1)","v":""},{"$f":"IF($C238=Referenca!$J$3,CONCATENATE('4. Shpenzimet'!$M238,\"-\",'4. Shpenzimet'!$N238,\"-\",TEXT('4. Shpenzimet'!$O238,\"dd/mm/yyyy\")),\"\")","v":""}]
[{"$f":"IF(B239=\"\",\"\",MAX(A$18:A238)+1)","v":""},{"$f":"IF($C239=Referenca!$J$3,CONCATENATE('4. Shpenzimet'!$M239,\"-\",'4. Shpenzimet'!$N239,\"-\",TEXT('4. Shpenzimet'!$O239,\"dd/mm/yyyy\")),\"\")","v":""}]
[{"$f":"IF(B240=\"\",\"\",MAX(A$18:A239)+1)","v":""},{"$f":"IF($C240=Referenca!$J$3,CONCATENATE('4. Shpenzimet'!$M240,\"-\",'4. Shpenzimet'!$N240,\"-\",TEXT('4. Shpenzimet'!$O240,\"dd/mm/yyyy\")),\"\")","v":""}]
[{"$f":"IF(B241=\"\",\"\",MAX(A$18:A240)+1)","v":""},{"$f":"IF($C241=Referenca!$J$3,CONCATENATE('4. Shpenzimet'!$M241,\"-\",'4. Shpenzimet'!$N241,\"-\",TEXT('4. Shpenzimet'!$O241,\"dd/mm/yyyy\")),\"\")","v":""}]
[{"$f":"IF(B242=\"\",\"\",MAX(A$18:A241)+1)","v":""},{"$f":"IF($C242=Referenca!$J$3,CONCATENATE('4. Shpenzimet'!$M242,\"-\",'4. Shpenzimet'!$N242,\"-\",TEXT('4. Shpenzimet'!$O242,\"dd/mm/yyyy\")),\"\")","v":""}]
[{"$f":"IF(B243=\"\",\"\",MAX(A$18:A242)+1)","v":""},{"$f":"IF($C243=Referenca!$J$3,CONCATENATE('4. Shpenzimet'!$M243,\"-\",'4. Shpenzimet'!$N243,\"-\",TEXT('4. Shpenzimet'!$O243,\"dd/mm/yyyy\")),\"\")","v":""}]
[{"$f":"IF(B244=\"\",\"\",MAX(A$18:A243)+1)","v":""},{"$f":"IF($C244=Referenca!$J$3,CONCATENATE('4. Shpenzimet'!$M244,\"-\",'4. Shpenzimet'!$N244,\"-\",TEXT('4. Shpenzimet'!$O244,\"dd/mm/yyyy\")),\"\")","v":""}]
[{"$f":"IF(B245=\"\",\"\",MAX(A$18:A244)+1)","v":""},{"$f":"IF($C245=Referenca!$J$3,CONCATENATE('4. Shpenzimet'!$M245,\"-\",'4. Shpenzimet'!$N245,\"-\",TEXT('4. Shpenzimet'!$O245,\"dd/mm/yyyy\")),\"\")","v":""}]
[{"$f":"IF(B246=\"\",\"\",MAX(A$18:A245)+1)","v":""},{"$f":"IF($C246=Referenca!$J$3,CONCATENATE('4. Shpenzimet'!$M246,\"-\",'4. Shpenzimet'!$N246,\"-\",TEXT('4. Shpenzimet'!$O246,\"dd/mm/yyyy\")),\"\")","v":""}]
[{"$f":"IF(B247=\"\",\"\",MAX(A$18:A246)+1)","v":""},{"$f":"IF($C247=Referenca!$J$3,CONCATENATE('4. Shpenzimet'!$M247,\"-\",'4. Shpenzimet'!$N247,\"-\",TEXT('4. Shpenzimet'!$O247,\"dd/mm/yyyy\")),\"\")","v":""}]
[{"$f":"IF(B248=\"\",\"\",MAX(A$18:A247)+1)","v":""},{"$f":"IF($C248=Referenca!$J$3,CONCATENATE('4. Shpenzimet'!$M248,\"-\",'4. Shpenzimet'!$N248,\"-\",TEXT('4. Shpenzimet'!$O248,\"dd/mm/yyyy\")),\"\")","v":""}]
[{"$f":"IF(B249=\"\",\"\",MAX(A$18:A248)+1)","v":""},{"$f":"IF($C249=Referenca!$J$3,CONCATENATE('4. Shpenzimet'!$M249,\"-\",'4. Shpenzimet'!$N249,\"-\",TEXT('4. Shpenzimet'!$O249,\"dd/mm/yyyy\")),\"\")","v":""}]
[{"$f":"IF(B250=\"\",\"\",MAX(A$18:A249)+1)","v":""},{"$f":"IF($C250=Referenca!$J$3,CONCATENATE('4. Shpenzimet'!$M250,\"-\",'4. Shpenzimet'!$N250,\"-\",TEXT('4. Shpenzimet'!$O250,\"dd/mm/yyyy\")),\"\")","v":""}]
[{"$f":"IF(B251=\"\",\"\",MAX(A$18:A250)+1)","v":""},{"$f":"IF($C251=Referenca!$J$3,CONCATENATE('4. Shpenzimet'!$M251,\"-\",'4. Shpenzimet'!$N251,\"-\",TEXT('4. Shpenzimet'!$O251,\"dd/mm/yyyy\")),\"\")","v":""}]
[{"$f":"IF(B252=\"\",\"\",MAX(A$18:A251)+1)","v":""},{"$f":"IF($C252=Referenca!$J$3,CONCATENATE('4. Shpenzimet'!$M252,\"-\",'4. Shpenzimet'!$N252,\"-\",TEXT('4. Shpenzimet'!$O252,\"dd/mm/yyyy\")),\"\")","v":""}]
[{"$f":"IF(B253=\"\",\"\",MAX(A$18:A252)+1)","v":""},{"$f":"IF($C253=Referenca!$J$3,CONCATENATE('4. Shpenzimet'!$M253,\"-\",'4. Shpenzimet'!$N253,\"-\",TEXT('4. Shpenzimet'!$O253,\"dd/mm/yyyy\")),\"\")","v":""}]
[{"$f":"IF(B254=\"\",\"\",MAX(A$18:A253)+1)","v":""},{"$f":"IF($C254=Referenca!$J$3,CONCATENATE('4. Shpenzimet'!$M254,\"-\",'4. Shpenzimet'!$N254,\"-\",TEXT('4. Shpenzimet'!$O254,\"dd/mm/yyyy\")),\"\")","v":""}]
[{"$f":"IF(B255=\"\",\"\",MAX(A$18:A254)+1)","v":""},{"$f":"IF($C255=Referenca!$J$3,CONCATENATE('4. Shpenzimet'!$M255,\"-\",'4. Shpenzimet'!$N255,\"-\",TEXT('4. Shpenzimet'!$O255,\"dd/mm/yyyy\")),\"\")","v":""}]
[{"$f":"IF(B256=\"\",\"\",MAX(A$18:A255)+1)","v":""},{"$f":"IF($C256=Referenca!$J$3,CONCATENATE('4. Shpenzimet'!$M256,\"-\",'4. Shpenzimet'!$N256,\"-\",TEXT('4. Shpenzimet'!$O256,\"dd/mm/yyyy\")),\"\")","v":""}]
[{"$f":"IF(B257=\"\",\"\",MAX(A$18:A256)+1)","v":""},{"$f":"IF($C257=Referenca!$J$3,CONCATENATE('4. Shpenzimet'!$M257,\"-\",'4. Shpenzimet'!$N257,\"-\",TEXT('4. Shpenzimet'!$O257,\"dd/mm/yyyy\")),\"\")","v":""}]
[{"$f":"IF(B258=\"\",\"\",MAX(A$18:A257)+1)","v":""},{"$f":"IF($C258=Referenca!$J$3,CONCATENATE('4. Shpenzimet'!$M258,\"-\",'4. Shpenzimet'!$N258,\"-\",TEXT('4. Shpenzimet'!$O258,\"dd/mm/yyyy\")),\"\")","v":""}]
[{"$f":"IF(B259=\"\",\"\",MAX(A$18:A258)+1)","v":""},{"$f":"IF($C259=Referenca!$J$3,CONCATENATE('4. Shpenzimet'!$M259,\"-\",'4. Shpenzimet'!$N259,\"-\",TEXT('4. Shpenzimet'!$O259,\"dd/mm/yyyy\")),\"\")","v":""}]
[{"$f":"IF(B260=\"\",\"\",MAX(A$18:A259)+1)","v":""},{"$f":"IF($C260=Referenca!$J$3,CONCATENATE('4. Shpenzimet'!$M260,\"-\",'4. Shpenzimet'!$N260,\"-\",TEXT('4. Shpenzimet'!$O260,\"dd/mm/yyyy\")),\"\")","v":""}]
[{"$f":"IF(B261=\"\",\"\",MAX(A$18:A260)+1)","v":""},{"$f":"IF($C261=Referenca!$J$3,CONCATENATE('4. Shpenzimet'!$M261,\"-\",'4. Shpenzimet'!$N261,\"-\",TEXT('4. Shpenzimet'!$O261,\"dd/mm/yyyy\")),\"\")","v":""}]
[{"$f":"IF(B262=\"\",\"\",MAX(A$18:A261)+1)","v":""},{"$f":"IF($C262=Referenca!$J$3,CONCATENATE('4. Shpenzimet'!$M262,\"-\",'4. Shpenzimet'!$N262,\"-\",TEXT('4. Shpenzimet'!$O262,\"dd/mm/yyyy\")),\"\")","v":""}]
[{"$f":"IF(B263=\"\",\"\",MAX(A$18:A262)+1)","v":""},{"$f":"IF($C263=Referenca!$J$3,CONCATENATE('4. Shpenzimet'!$M263,\"-\",'4. Shpenzimet'!$N263,\"-\",TEXT('4. Shpenzimet'!$O263,\"dd/mm/yyyy\")),\"\")","v":""}]
[{"$f":"IF(B264=\"\",\"\",MAX(A$18:A263)+1)","v":""},{"$f":"IF($C264=Referenca!$J$3,CONCATENATE('4. Shpenzimet'!$M264,\"-\",'4. Shpenzimet'!$N264,\"-\",TEXT('4. Shpenzimet'!$O264,\"dd/mm/yyyy\")),\"\")","v":""}]
[{"$f":"IF(B265=\"\",\"\",MAX(A$18:A264)+1)","v":""},{"$f":"IF($C265=Referenca!$J$3,CONCATENATE('4. Shpenzimet'!$M265,\"-\",'4. Shpenzimet'!$N265,\"-\",TEXT('4. Shpenzimet'!$O265,\"dd/mm/yyyy\")),\"\")","v":""}]
[{"$f":"IF(B266=\"\",\"\",MAX(A$18:A265)+1)","v":""},{"$f":"IF($C266=Referenca!$J$3,CONCATENATE('4. Shpenzimet'!$M266,\"-\",'4. Shpenzimet'!$N266,\"-\",TEXT('4. Shpenzimet'!$O266,\"dd/mm/yyyy\")),\"\")","v":""}]
[{"$f":"IF(B267=\"\",\"\",MAX(A$18:A266)+1)","v":""},{"$f":"IF($C267=Referenca!$J$3,CONCATENATE('4. Shpenzimet'!$M267,\"-\",'4. Shpenzimet'!$N267,\"-\",TEXT('4. Shpenzimet'!$O267,\"dd/mm/yyyy\")),\"\")","v":""}]
[{"$f":"IF(B268=\"\",\"\",MAX(A$18:A267)+1)","v":""},{"$f":"IF($C268=Referenca!$J$3,CONCATENATE('4. Shpenzimet'!$M268,\"-\",'4. Shpenzimet'!$N268,\"-\",TEXT('4. Shpenzimet'!$O268,\"dd/mm/yyyy\")),\"\")","v":""}]
[{"$f":"IF(B269=\"\",\"\",MAX(A$18:A268)+1)","v":""},{"$f":"IF($C269=Referenca!$J$3,CONCATENATE('4. Shpenzimet'!$M269,\"-\",'4. Shpenzimet'!$N269,\"-\",TEXT('4. Shpenzimet'!$O269,\"dd/mm/yyyy\")),\"\")","v":""}]
[{"$f":"IF(B270=\"\",\"\",MAX(A$18:A269)+1)","v":""},{"$f":"IF($C270=Referenca!$J$3,CONCATENATE('4. Shpenzimet'!$M270,\"-\",'4. Shpenzimet'!$N270,\"-\",TEXT('4. Shpenzimet'!$O270,\"dd/mm/yyyy\")),\"\")","v":""}]
[{"$f":"IF(B271=\"\",\"\",MAX(A$18:A270)+1)","v":""},{"$f":"IF($C271=Referenca!$J$3,CONCATENATE('4. Shpenzimet'!$M271,\"-\",'4. Shpenzimet'!$N271,\"-\",TEXT('4. Shpenzimet'!$O271,\"dd/mm/yyyy\")),\"\")","v":""}]
[{"$f":"IF(B272=\"\",\"\",MAX(A$18:A271)+1)","v":""},{"$f":"IF($C272=Referenca!$J$3,CONCATENATE('4. Shpenzimet'!$M272,\"-\",'4. Shpenzimet'!$N272,\"-\",TEXT('4. Shpenzimet'!$O272,\"dd/mm/yyyy\")),\"\")","v":""}]
[{"$f":"IF(B273=\"\",\"\",MAX(A$18:A272)+1)","v":""},{"$f":"IF($C273=Referenca!$J$3,CONCATENATE('4. Shpenzimet'!$M273,\"-\",'4. Shpenzimet'!$N273,\"-\",TEXT('4. Shpenzimet'!$O273,\"dd/mm/yyyy\")),\"\")","v":""}]
[{"$f":"IF(B274=\"\",\"\",MAX(A$18:A273)+1)","v":""},{"$f":"IF($C274=Referenca!$J$3,CONCATENATE('4. Shpenzimet'!$M274,\"-\",'4. Shpenzimet'!$N274,\"-\",TEXT('4. Shpenzimet'!$O274,\"dd/mm/yyyy\")),\"\")","v":""}]
[{"$f":"IF(B275=\"\",\"\",MAX(A$18:A274)+1)","v":""},{"$f":"IF($C275=Referenca!$J$3,CONCATENATE('4. Shpenzimet'!$M275,\"-\",'4. Shpenzimet'!$N275,\"-\",TEXT('4. Shpenzimet'!$O275,\"dd/mm/yyyy\")),\"\")","v":""}]
[{"$f":"IF(B276=\"\",\"\",MAX(A$18:A275)+1)","v":""},{"$f":"IF($C276=Referenca!$J$3,CONCATENATE('4. Shpenzimet'!$M276,\"-\",'4. Shpenzimet'!$N276,\"-\",TEXT('4. Shpenzimet'!$O276,\"dd/mm/yyyy\")),\"\")","v":""}]
[{"$f":"IF(B277=\"\",\"\",MAX(A$18:A276)+1)","v":""},{"$f":"IF($C277=Referenca!$J$3,CONCATENATE('4. Shpenzimet'!$M277,\"-\",'4. Shpenzimet'!$N277,\"-\",TEXT('4. Shpenzimet'!$O277,\"dd/mm/yyyy\")),\"\")","v":""}]
[{"$f":"IF(B278=\"\",\"\",MAX(A$18:A277)+1)","v":""},{"$f":"IF($C278=Referenca!$J$3,CONCATENATE('4. Shpenzimet'!$M278,\"-\",'4. Shpenzimet'!$N278,\"-\",TEXT('4. Shpenzimet'!$O278,\"dd/mm/yyyy\")),\"\")","v":""}]
[{"$f":"IF(B279=\"\",\"\",MAX(A$18:A278)+1)","v":""},{"$f":"IF($C279=Referenca!$J$3,CONCATENATE('4. Shpenzimet'!$M279,\"-\",'4. Shpenzimet'!$N279,\"-\",TEXT('4. Shpenzimet'!$O279,\"dd/mm/yyyy\")),\"\")","v":""}]
[{"$f":"IF(B280=\"\",\"\",MAX(A$18:A279)+1)","v":""},{"$f":"IF($C280=Referenca!$J$3,CONCATENATE('4. Shpenzimet'!$M280,\"-\",'4. Shpenzimet'!$N280,\"-\",TEXT('4. Shpenzimet'!$O280,\"dd/mm/yyyy\")),\"\")","v":""}]
[{"$f":"IF(B281=\"\",\"\",MAX(A$18:A280)+1)","v":""},{"$f":"IF($C281=Referenca!$J$3,CONCATENATE('4. Shpenzimet'!$M281,\"-\",'4. Shpenzimet'!$N281,\"-\",TEXT('4. Shpenzimet'!$O281,\"dd/mm/yyyy\")),\"\")","v":""}]
[{"$f":"IF(B282=\"\",\"\",MAX(A$18:A281)+1)","v":""},{"$f":"IF($C282=Referenca!$J$3,CONCATENATE('4. Shpenzimet'!$M282,\"-\",'4. Shpenzimet'!$N282,\"-\",TEXT('4. Shpenzimet'!$O282,\"dd/mm/yyyy\")),\"\")","v":""}]
[{"$f":"IF(B283=\"\",\"\",MAX(A$18:A282)+1)","v":""},{"$f":"IF($C283=Referenca!$J$3,CONCATENATE('4. Shpenzimet'!$M283,\"-\",'4. Shpenzimet'!$N283,\"-\",TEXT('4. Shpenzimet'!$O283,\"dd/mm/yyyy\")),\"\")","v":""}]
[{"$f":"IF(B284=\"\",\"\",MAX(A$18:A283)+1)","v":""},{"$f":"IF($C284=Referenca!$J$3,CONCATENATE('4. Shpenzimet'!$M284,\"-\",'4. Shpenzimet'!$N284,\"-\",TEXT('4. Shpenzimet'!$O284,\"dd/mm/yyyy\")),\"\")","v":""}]
[{"$f":"IF(B285=\"\",\"\",MAX(A$18:A284)+1)","v":""},{"$f":"IF($C285=Referenca!$J$3,CONCATENATE('4. Shpenzimet'!$M285,\"-\",'4. Shpenzimet'!$N285,\"-\",TEXT('4. Shpenzimet'!$O285,\"dd/mm/yyyy\")),\"\")","v":""}]
[{"$f":"IF(B286=\"\",\"\",MAX(A$18:A285)+1)","v":""},{"$f":"IF($C286=Referenca!$J$3,CONCATENATE('4. Shpenzimet'!$M286,\"-\",'4. Shpenzimet'!$N286,\"-\",TEXT('4. Shpenzimet'!$O286,\"dd/mm/yyyy\")),\"\")","v":""}]
[{"$f":"IF(B287=\"\",\"\",MAX(A$18:A286)+1)","v":""},{"$f":"IF($C287=Referenca!$J$3,CONCATENATE('4. Shpenzimet'!$M287,\"-\",'4. Shpenzimet'!$N287,\"-\",TEXT('4. Shpenzimet'!$O287,\"dd/mm/yyyy\")),\"\")","v":""}]
[{"$f":"IF(B288=\"\",\"\",MAX(A$18:A287)+1)","v":""},{"$f":"IF($C288=Referenca!$J$3,CONCATENATE('4. Shpenzimet'!$M288,\"-\",'4. Shpenzimet'!$N288,\"-\",TEXT('4. Shpenzimet'!$O288,\"dd/mm/yyyy\")),\"\")","v":""}]
[{"$f":"IF(B289=\"\",\"\",MAX(A$18:A288)+1)","v":""},{"$f":"IF($C289=Referenca!$J$3,CONCATENATE('4. Shpenzimet'!$M289,\"-\",'4. Shpenzimet'!$N289,\"-\",TEXT('4. Shpenzimet'!$O289,\"dd/mm/yyyy\")),\"\")","v":""}]
[{"$f":"IF(B290=\"\",\"\",MAX(A$18:A289)+1)","v":""},{"$f":"IF($C290=Referenca!$J$3,CONCATENATE('4. Shpenzimet'!$M290,\"-\",'4. Shpenzimet'!$N290,\"-\",TEXT('4. Shpenzimet'!$O290,\"dd/mm/yyyy\")),\"\")","v":""}]
[{"$f":"IF(B291=\"\",\"\",MAX(A$18:A290)+1)","v":""},{"$f":"IF($C291=Referenca!$J$3,CONCATENATE('4. Shpenzimet'!$M291,\"-\",'4. Shpenzimet'!$N291,\"-\",TEXT('4. Shpenzimet'!$O291,\"dd/mm/yyyy\")),\"\")","v":""}]
[{"$f":"IF(B292=\"\",\"\",MAX(A$18:A291)+1)","v":""},{"$f":"IF($C292=Referenca!$J$3,CONCATENATE('4. Shpenzimet'!$M292,\"-\",'4. Shpenzimet'!$N292,\"-\",TEXT('4. Shpenzimet'!$O292,\"dd/mm/yyyy\")),\"\")","v":""}]
[{"$f":"IF(B293=\"\",\"\",MAX(A$18:A292)+1)","v":""},{"$f":"IF($C293=Referenca!$J$3,CONCATENATE('4. Shpenzimet'!$M293,\"-\",'4. Shpenzimet'!$N293,\"-\",TEXT('4. Shpenzimet'!$O293,\"dd/mm/yyyy\")),\"\")","v":""}]
[{"$f":"IF(B294=\"\",\"\",MAX(A$18:A293)+1)","v":""},{"$f":"IF($C294=Referenca!$J$3,CONCATENATE('4. Shpenzimet'!$M294,\"-\",'4. Shpenzimet'!$N294,\"-\",TEXT('4. Shpenzimet'!$O294,\"dd/mm/yyyy\")),\"\")","v":""}]
[{"$f":"IF(B295=\"\",\"\",MAX(A$18:A294)+1)","v":""},{"$f":"IF($C295=Referenca!$J$3,CONCATENATE('4. Shpenzimet'!$M295,\"-\",'4. Shpenzimet'!$N295,\"-\",TEXT('4. Shpenzimet'!$O295,\"dd/mm/yyyy\")),\"\")","v":""}]
[{"$f":"IF(B296=\"\",\"\",MAX(A$18:A295)+1)","v":""},{"$f":"IF($C296=Referenca!$J$3,CONCATENATE('4. Shpenzimet'!$M296,\"-\",'4. Shpenzimet'!$N296,\"-\",TEXT('4. Shpenzimet'!$O296,\"dd/mm/yyyy\")),\"\")","v":""}]
[{"$f":"IF(B297=\"\",\"\",MAX(A$18:A296)+1)","v":""},{"$f":"IF($C297=Referenca!$J$3,CONCATENATE('4. Shpenzimet'!$M297,\"-\",'4. Shpenzimet'!$N297,\"-\",TEXT('4. Shpenzimet'!$O297,\"dd/mm/yyyy\")),\"\")","v":""}]
[{"$f":"IF(B298=\"\",\"\",MAX(A$18:A297)+1)","v":""},{"$f":"IF($C298=Referenca!$J$3,CONCATENATE('4. Shpenzimet'!$M298,\"-\",'4. Shpenzimet'!$N298,\"-\",TEXT('4. Shpenzimet'!$O298,\"dd/mm/yyyy\")),\"\")","v":""}]
[{"$f":"IF(B299=\"\",\"\",MAX(A$18:A298)+1)","v":""},{"$f":"IF($C299=Referenca!$J$3,CONCATENATE('4. Shpenzimet'!$M299,\"-\",'4. Shpenzimet'!$N299,\"-\",TEXT('4. Shpenzimet'!$O299,\"dd/mm/yyyy\")),\"\")","v":""}]
[{"$f":"IF(B300=\"\",\"\",MAX(A$18:A299)+1)","v":""},{"$f":"IF($C300=Referenca!$J$3,CONCATENATE('4. Shpenzimet'!$M300,\"-\",'4. Shpenzimet'!$N300,\"-\",TEXT('4. Shpenzimet'!$O300,\"dd/mm/yyyy\")),\"\")","v":""}]
[{"$f":"IF(B301=\"\",\"\",MAX(A$18:A300)+1)","v":""},{"$f":"IF($C301=Referenca!$J$3,CONCATENATE('4. Shpenzimet'!$M301,\"-\",'4. Shpenzimet'!$N301,\"-\",TEXT('4. Shpenzimet'!$O301,\"dd/mm/yyyy\")),\"\")","v":""}]
[{"$f":"IF(B302=\"\",\"\",MAX(A$18:A301)+1)","v":""},{"$f":"IF($C302=Referenca!$J$3,CONCATENATE('4. Shpenzimet'!$M302,\"-\",'4. Shpenzimet'!$N302,\"-\",TEXT('4. Shpenzimet'!$O302,\"dd/mm/yyyy\")),\"\")","v":""}]
[{"$f":"IF(B303=\"\",\"\",MAX(A$18:A302)+1)","v":""},{"$f":"IF($C303=Referenca!$J$3,CONCATENATE('4. Shpenzimet'!$M303,\"-\",'4. Shpenzimet'!$N303,\"-\",TEXT('4. Shpenzimet'!$O303,\"dd/mm/yyyy\")),\"\")","v":""}]
[{"$f":"IF(B304=\"\",\"\",MAX(A$18:A303)+1)","v":""},{"$f":"IF($C304=Referenca!$J$3,CONCATENATE('4. Shpenzimet'!$M304,\"-\",'4. Shpenzimet'!$N304,\"-\",TEXT('4. Shpenzimet'!$O304,\"dd/mm/yyyy\")),\"\")","v":""}]
[{"$f":"IF(B305=\"\",\"\",MAX(A$18:A304)+1)","v":""},{"$f":"IF($C305=Referenca!$J$3,CONCATENATE('4. Shpenzimet'!$M305,\"-\",'4. Shpenzimet'!$N305,\"-\",TEXT('4. Shpenzimet'!$O305,\"dd/mm/yyyy\")),\"\")","v":""}]
[{"$f":"IF(B306=\"\",\"\",MAX(A$18:A305)+1)","v":""},{"$f":"IF($C306=Referenca!$J$3,CONCATENATE('4. Shpenzimet'!$M306,\"-\",'4. Shpenzimet'!$N306,\"-\",TEXT('4. Shpenzimet'!$O306,\"dd/mm/yyyy\")),\"\")","v":""}]
[{"$f":"IF(B307=\"\",\"\",MAX(A$18:A306)+1)","v":""},{"$f":"IF($C307=Referenca!$J$3,CONCATENATE('4. Shpenzimet'!$M307,\"-\",'4. Shpenzimet'!$N307,\"-\",TEXT('4. Shpenzimet'!$O307,\"dd/mm/yyyy\")),\"\")","v":""}]
[{"$f":"IF(B308=\"\",\"\",MAX(A$18:A307)+1)","v":""},{"$f":"IF($C308=Referenca!$J$3,CONCATENATE('4. Shpenzimet'!$M308,\"-\",'4. Shpenzimet'!$N308,\"-\",TEXT('4. Shpenzimet'!$O308,\"dd/mm/yyyy\")),\"\")","v":""}]
[{"$f":"IF(B309=\"\",\"\",MAX(A$18:A308)+1)","v":""},{"$f":"IF($C309=Referenca!$J$3,CONCATENATE('4. Shpenzimet'!$M309,\"-\",'4. Shpenzimet'!$N309,\"-\",TEXT('4. Shpenzimet'!$O309,\"dd/mm/yyyy\")),\"\")","v":""}]
[{"$f":"IF(B310=\"\",\"\",MAX(A$18:A309)+1)","v":""},{"$f":"IF($C310=Referenca!$J$3,CONCATENATE('4. Shpenzimet'!$M310,\"-\",'4. Shpenzimet'!$N310,\"-\",TEXT('4. Shpenzimet'!$O310,\"dd/mm/yyyy\")),\"\")","v":""}]
[{"$f":"IF(B311=\"\",\"\",MAX(A$18:A310)+1)","v":""},{"$f":"IF($C311=Referenca!$J$3,CONCATENATE('4. Shpenzimet'!$M311,\"-\",'4. Shpenzimet'!$N311,\"-\",TEXT('4. Shpenzimet'!$O311,\"dd/mm/yyyy\")),\"\")","v":""}]
[{"$f":"IF(B312=\"\",\"\",MAX(A$18:A311)+1)","v":""},{"$f":"IF($C312=Referenca!$J$3,CONCATENATE('4. Shpenzimet'!$M312,\"-\",'4. Shpenzimet'!$N312,\"-\",TEXT('4. Shpenzimet'!$O312,\"dd/mm/yyyy\")),\"\")","v":""}]
[{"$f":"IF(B313=\"\",\"\",MAX(A$18:A312)+1)","v":""},{"$f":"IF($C313=Referenca!$J$3,CONCATENATE('4. Shpenzimet'!$M313,\"-\",'4. Shpenzimet'!$N313,\"-\",TEXT('4. Shpenzimet'!$O313,\"dd/mm/yyyy\")),\"\")","v":""}]
[{"$f":"IF(B314=\"\",\"\",MAX(A$18:A313)+1)","v":""},{"$f":"IF($C314=Referenca!$J$3,CONCATENATE('4. Shpenzimet'!$M314,\"-\",'4. Shpenzimet'!$N314,\"-\",TEXT('4. Shpenzimet'!$O314,\"dd/mm/yyyy\")),\"\")","v":""}]
[{"$f":"IF(B315=\"\",\"\",MAX(A$18:A314)+1)","v":""},{"$f":"IF($C315=Referenca!$J$3,CONCATENATE('4. Shpenzimet'!$M315,\"-\",'4. Shpenzimet'!$N315,\"-\",TEXT('4. Shpenzimet'!$O315,\"dd/mm/yyyy\")),\"\")","v":""}]
[{"$f":"IF(B316=\"\",\"\",MAX(A$18:A315)+1)","v":""},{"$f":"IF($C316=Referenca!$J$3,CONCATENATE('4. Shpenzimet'!$M316,\"-\",'4. Shpenzimet'!$N316,\"-\",TEXT('4. Shpenzimet'!$O316,\"dd/mm/yyyy\")),\"\")","v":""}]
[{"$f":"IF(B317=\"\",\"\",MAX(A$18:A316)+1)","v":""},{"$f":"IF($C317=Referenca!$J$3,CONCATENATE('4. Shpenzimet'!$M317,\"-\",'4. Shpenzimet'!$N317,\"-\",TEXT('4. Shpenzimet'!$O317,\"dd/mm/yyyy\")),\"\")","v":""}]
[{"$f":"IF(B318=\"\",\"\",MAX(A$18:A317)+1)","v":""},{"$f":"IF($C318=Referenca!$J$3,CONCATENATE('4. Shpenzimet'!$M318,\"-\",'4. Shpenzimet'!$N318,\"-\",TEXT('4. Shpenzimet'!$O318,\"dd/mm/yyyy\")),\"\")","v":""}]
[{"$f":"IF(B319=\"\",\"\",MAX(A$18:A318)+1)","v":""},{"$f":"IF($C319=Referenca!$J$3,CONCATENATE('4. Shpenzimet'!$M319,\"-\",'4. Shpenzimet'!$N319,\"-\",TEXT('4. Shpenzimet'!$O319,\"dd/mm/yyyy\")),\"\")","v":""}]
[{"$f":"IF(B320=\"\",\"\",MAX(A$18:A319)+1)","v":""},{"$f":"IF($C320=Referenca!$J$3,CONCATENATE('4. Shpenzimet'!$M320,\"-\",'4. Shpenzimet'!$N320,\"-\",TEXT('4. Shpenzimet'!$O320,\"dd/mm/yyyy\")),\"\")","v":""}]
[{"$f":"IF(B321=\"\",\"\",MAX(A$18:A320)+1)","v":""},{"$f":"IF($C321=Referenca!$J$3,CONCATENATE('4. Shpenzimet'!$M321,\"-\",'4. Shpenzimet'!$N321,\"-\",TEXT('4. Shpenzimet'!$O321,\"dd/mm/yyyy\")),\"\")","v":""}]
[{"$f":"IF(B322=\"\",\"\",MAX(A$18:A321)+1)","v":""},{"$f":"IF($C322=Referenca!$J$3,CONCATENATE('4. Shpenzimet'!$M322,\"-\",'4. Shpenzimet'!$N322,\"-\",TEXT('4. Shpenzimet'!$O322,\"dd/mm/yyyy\")),\"\")","v":""}]
[{"$f":"IF(B323=\"\",\"\",MAX(A$18:A322)+1)","v":""},{"$f":"IF($C323=Referenca!$J$3,CONCATENATE('4. Shpenzimet'!$M323,\"-\",'4. Shpenzimet'!$N323,\"-\",TEXT('4. Shpenzimet'!$O323,\"dd/mm/yyyy\")),\"\")","v":""}]
[{"$f":"IF(B324=\"\",\"\",MAX(A$18:A323)+1)","v":""},{"$f":"IF($C324=Referenca!$J$3,CONCATENATE('4. Shpenzimet'!$M324,\"-\",'4. Shpenzimet'!$N324,\"-\",TEXT('4. Shpenzimet'!$O324,\"dd/mm/yyyy\")),\"\")","v":""}]
[{"$f":"IF(B325=\"\",\"\",MAX(A$18:A324)+1)","v":""},{"$f":"IF($C325=Referenca!$J$3,CONCATENATE('4. Shpenzimet'!$M325,\"-\",'4. Shpenzimet'!$N325,\"-\",TEXT('4. Shpenzimet'!$O325,\"dd/mm/yyyy\")),\"\")","v":""}]
[{"$f":"IF(B326=\"\",\"\",MAX(A$18:A325)+1)","v":""},{"$f":"IF($C326=Referenca!$J$3,CONCATENATE('4. Shpenzimet'!$M326,\"-\",'4. Shpenzimet'!$N326,\"-\",TEXT('4. Shpenzimet'!$O326,\"dd/mm/yyyy\")),\"\")","v":""}]
[{"$f":"IF(B327=\"\",\"\",MAX(A$18:A326)+1)","v":""},{"$f":"IF($C327=Referenca!$J$3,CONCATENATE('4. Shpenzimet'!$M327,\"-\",'4. Shpenzimet'!$N327,\"-\",TEXT('4. Shpenzimet'!$O327,\"dd/mm/yyyy\")),\"\")","v":""}]
[{"$f":"IF(B328=\"\",\"\",MAX(A$18:A327)+1)","v":""},{"$f":"IF($C328=Referenca!$J$3,CONCATENATE('4. Shpenzimet'!$M328,\"-\",'4. Shpenzimet'!$N328,\"-\",TEXT('4. Shpenzimet'!$O328,\"dd/mm/yyyy\")),\"\")","v":""}]
[{"$f":"IF(B329=\"\",\"\",MAX(A$18:A328)+1)","v":""},{"$f":"IF($C329=Referenca!$J$3,CONCATENATE('4. Shpenzimet'!$M329,\"-\",'4. Shpenzimet'!$N329,\"-\",TEXT('4. Shpenzimet'!$O329,\"dd/mm/yyyy\")),\"\")","v":""}]
[{"$f":"IF(B330=\"\",\"\",MAX(A$18:A329)+1)","v":""},{"$f":"IF($C330=Referenca!$J$3,CONCATENATE('4. Shpenzimet'!$M330,\"-\",'4. Shpenzimet'!$N330,\"-\",TEXT('4. Shpenzimet'!$O330,\"dd/mm/yyyy\")),\"\")","v":""}]
[{"$f":"IF(B331=\"\",\"\",MAX(A$18:A330)+1)","v":""},{"$f":"IF($C331=Referenca!$J$3,CONCATENATE('4. Shpenzimet'!$M331,\"-\",'4. Shpenzimet'!$N331,\"-\",TEXT('4. Shpenzimet'!$O331,\"dd/mm/yyyy\")),\"\")","v":""}]
[{"$f":"IF(B332=\"\",\"\",MAX(A$18:A331)+1)","v":""},{"$f":"IF($C332=Referenca!$J$3,CONCATENATE('4. Shpenzimet'!$M332,\"-\",'4. Shpenzimet'!$N332,\"-\",TEXT('4. Shpenzimet'!$O332,\"dd/mm/yyyy\")),\"\")","v":""}]
[{"$f":"IF(B333=\"\",\"\",MAX(A$18:A332)+1)","v":""},{"$f":"IF($C333=Referenca!$J$3,CONCATENATE('4. Shpenzimet'!$M333,\"-\",'4. Shpenzimet'!$N333,\"-\",TEXT('4. Shpenzimet'!$O333,\"dd/mm/yyyy\")),\"\")","v":""}]
[{"$f":"IF(B334=\"\",\"\",MAX(A$18:A333)+1)","v":""},{"$f":"IF($C334=Referenca!$J$3,CONCATENATE('4. Shpenzimet'!$M334,\"-\",'4. Shpenzimet'!$N334,\"-\",TEXT('4. Shpenzimet'!$O334,\"dd/mm/yyyy\")),\"\")","v":""}]
[{"$f":"IF(B335=\"\",\"\",MAX(A$18:A334)+1)","v":""},{"$f":"IF($C335=Referenca!$J$3,CONCATENATE('4. Shpenzimet'!$M335,\"-\",'4. Shpenzimet'!$N335,\"-\",TEXT('4. Shpenzimet'!$O335,\"dd/mm/yyyy\")),\"\")","v":""}]
[{"$f":"IF(B336=\"\",\"\",MAX(A$18:A335)+1)","v":""},{"$f":"IF($C336=Referenca!$J$3,CONCATENATE('4. Shpenzimet'!$M336,\"-\",'4. Shpenzimet'!$N336,\"-\",TEXT('4. Shpenzimet'!$O336,\"dd/mm/yyyy\")),\"\")","v":""}]
[{"$f":"IF(B337=\"\",\"\",MAX(A$18:A336)+1)","v":""},{"$f":"IF($C337=Referenca!$J$3,CONCATENATE('4. Shpenzimet'!$M337,\"-\",'4. Shpenzimet'!$N337,\"-\",TEXT('4. Shpenzimet'!$O337,\"dd/mm/yyyy\")),\"\")","v":""}]
[{"$f":"IF(B338=\"\",\"\",MAX(A$18:A337)+1)","v":""},{"$f":"IF($C338=Referenca!$J$3,CONCATENATE('4. Shpenzimet'!$M338,\"-\",'4. Shpenzimet'!$N338,\"-\",TEXT('4. Shpenzimet'!$O338,\"dd/mm/yyyy\")),\"\")","v":""}]
[{"$f":"IF(B339=\"\",\"\",MAX(A$18:A338)+1)","v":""},{"$f":"IF($C339=Referenca!$J$3,CONCATENATE('4. Shpenzimet'!$M339,\"-\",'4. Shpenzimet'!$N339,\"-\",TEXT('4. Shpenzimet'!$O339,\"dd/mm/yyyy\")),\"\")","v":""}]
[{"$f":"IF(B340=\"\",\"\",MAX(A$18:A339)+1)","v":""},{"$f":"IF($C340=Referenca!$J$3,CONCATENATE('4. Shpenzimet'!$M340,\"-\",'4. Shpenzimet'!$N340,\"-\",TEXT('4. Shpenzimet'!$O340,\"dd/mm/yyyy\")),\"\")","v":""}]
[{"$f":"IF(B341=\"\",\"\",MAX(A$18:A340)+1)","v":""},{"$f":"IF($C341=Referenca!$J$3,CONCATENATE('4. Shpenzimet'!$M341,\"-\",'4. Shpenzimet'!$N341,\"-\",TEXT('4. Shpenzimet'!$O341,\"dd/mm/yyyy\")),\"\")","v":""}]
[{"$f":"IF(B342=\"\",\"\",MAX(A$18:A341)+1)","v":""},{"$f":"IF($C342=Referenca!$J$3,CONCATENATE('4. Shpenzimet'!$M342,\"-\",'4. Shpenzimet'!$N342,\"-\",TEXT('4. Shpenzimet'!$O342,\"dd/mm/yyyy\")),\"\")","v":""}]
[{"$f":"IF(B343=\"\",\"\",MAX(A$18:A342)+1)","v":""},{"$f":"IF($C343=Referenca!$J$3,CONCATENATE('4. Shpenzimet'!$M343,\"-\",'4. Shpenzimet'!$N343,\"-\",TEXT('4. Shpenzimet'!$O343,\"dd/mm/yyyy\")),\"\")","v":""}]
[{"$f":"IF(B344=\"\",\"\",MAX(A$18:A343)+1)","v":""},{"$f":"IF($C344=Referenca!$J$3,CONCATENATE('4. Shpenzimet'!$M344,\"-\",'4. Shpenzimet'!$N344,\"-\",TEXT('4. Shpenzimet'!$O344,\"dd/mm/yyyy\")),\"\")","v":""}]
[{"$f":"IF(B345=\"\",\"\",MAX(A$18:A344)+1)","v":""},{"$f":"IF($C345=Referenca!$J$3,CONCATENATE('4. Shpenzimet'!$M345,\"-\",'4. Shpenzimet'!$N345,\"-\",TEXT('4. Shpenzimet'!$O345,\"dd/mm/yyyy\")),\"\")","v":""}]
[{"$f":"IF(B346=\"\",\"\",MAX(A$18:A345)+1)","v":""},{"$f":"IF($C346=Referenca!$J$3,CONCATENATE('4. Shpenzimet'!$M346,\"-\",'4. Shpenzimet'!$N346,\"-\",TEXT('4. Shpenzimet'!$O346,\"dd/mm/yyyy\")),\"\")","v":""}]
[{"$f":"IF(B347=\"\",\"\",MAX(A$18:A346)+1)","v":""},{"$f":"IF($C347=Referenca!$J$3,CONCATENATE('4. Shpenzimet'!$M347,\"-\",'4. Shpenzimet'!$N347,\"-\",TEXT('4. Shpenzimet'!$O347,\"dd/mm/yyyy\")),\"\")","v":""}]
[{"$f":"IF(B348=\"\",\"\",MAX(A$18:A347)+1)","v":""},{"$f":"IF($C348=Referenca!$J$3,CONCATENATE('4. Shpenzimet'!$M348,\"-\",'4. Shpenzimet'!$N348,\"-\",TEXT('4. Shpenzimet'!$O348,\"dd/mm/yyyy\")),\"\")","v":""}]
[{"$f":"IF(B349=\"\",\"\",MAX(A$18:A348)+1)","v":""},{"$f":"IF($C349=Referenca!$J$3,CONCATENATE('4. Shpenzimet'!$M349,\"-\",'4. Shpenzimet'!$N349,\"-\",TEXT('4. Shpenzimet'!$O349,\"dd/mm/yyyy\")),\"\")","v":""}]
[{"$f":"IF(B350=\"\",\"\",MAX(A$18:A349)+1)","v":""},{"$f":"IF($C350=Referenca!$J$3,CONCATENATE('4. Shpenzimet'!$M350,\"-\",'4. Shpenzimet'!$N350,\"-\",TEXT('4. Shpenzimet'!$O350,\"dd/mm/yyyy\")),\"\")","v":""}]
[{"$f":"IF(B351=\"\",\"\",MAX(A$18:A350)+1)","v":""},{"$f":"IF($C351=Referenca!$J$3,CONCATENATE('4. Shpenzimet'!$M351,\"-\",'4. Shpenzimet'!$N351,\"-\",TEXT('4. Shpenzimet'!$O351,\"dd/mm/yyyy\")),\"\")","v":""}]
[{"$f":"IF(B352=\"\",\"\",MAX(A$18:A351)+1)","v":""},{"$f":"IF($C352=Referenca!$J$3,CONCATENATE('4. Shpenzimet'!$M352,\"-\",'4. Shpenzimet'!$N352,\"-\",TEXT('4. Shpenzimet'!$O352,\"dd/mm/yyyy\")),\"\")","v":""}]
[{"$f":"IF(B353=\"\",\"\",MAX(A$18:A352)+1)","v":""},{"$f":"IF($C353=Referenca!$J$3,CONCATENATE('4. Shpenzimet'!$M353,\"-\",'4. Shpenzimet'!$N353,\"-\",TEXT('4. Shpenzimet'!$O353,\"dd/mm/yyyy\")),\"\")","v":""}]
[{"$f":"IF(B354=\"\",\"\",MAX(A$18:A353)+1)","v":""},{"$f":"IF($C354=Referenca!$J$3,CONCATENATE('4. Shpenzimet'!$M354,\"-\",'4. Shpenzimet'!$N354,\"-\",TEXT('4. Shpenzimet'!$O354,\"dd/mm/yyyy\")),\"\")","v":""}]
[{"$f":"IF(B355=\"\",\"\",MAX(A$18:A354)+1)","v":""},{"$f":"IF($C355=Referenca!$J$3,CONCATENATE('4. Shpenzimet'!$M355,\"-\",'4. Shpenzimet'!$N355,\"-\",TEXT('4. Shpenzimet'!$O355,\"dd/mm/yyyy\")),\"\")","v":""}]
[{"$f":"IF(B356=\"\",\"\",MAX(A$18:A355)+1)","v":""},{"$f":"IF($C356=Referenca!$J$3,CONCATENATE('4. Shpenzimet'!$M356,\"-\",'4. Shpenzimet'!$N356,\"-\",TEXT('4. Shpenzimet'!$O356,\"dd/mm/yyyy\")),\"\")","v":""}]
[{"$f":"IF(B357=\"\",\"\",MAX(A$18:A356)+1)","v":""},{"$f":"IF($C357=Referenca!$J$3,CONCATENATE('4. Shpenzimet'!$M357,\"-\",'4. Shpenzimet'!$N357,\"-\",TEXT('4. Shpenzimet'!$O357,\"dd/mm/yyyy\")),\"\")","v":""}]
[{"$f":"IF(B358=\"\",\"\",MAX(A$18:A357)+1)","v":""},{"$f":"IF($C358=Referenca!$J$3,CONCATENATE('4. Shpenzimet'!$M358,\"-\",'4. Shpenzimet'!$N358,\"-\",TEXT('4. Shpenzimet'!$O358,\"dd/mm/yyyy\")),\"\")","v":""}]
[{"$f":"IF(B359=\"\",\"\",MAX(A$18:A358)+1)","v":""},{"$f":"IF($C359=Referenca!$J$3,CONCATENATE('4. Shpenzimet'!$M359,\"-\",'4. Shpenzimet'!$N359,\"-\",TEXT('4. Shpenzimet'!$O359,\"dd/mm/yyyy\")),\"\")","v":""}]
[{"$f":"IF(B360=\"\",\"\",MAX(A$18:A359)+1)","v":""},{"$f":"IF($C360=Referenca!$J$3,CONCATENATE('4. Shpenzimet'!$M360,\"-\",'4. Shpenzimet'!$N360,\"-\",TEXT('4. Shpenzimet'!$O360,\"dd/mm/yyyy\")),\"\")","v":""}]
[{"$f":"IF(B361=\"\",\"\",MAX(A$18:A360)+1)","v":""},{"$f":"IF($C361=Referenca!$J$3,CONCATENATE('4. Shpenzimet'!$M361,\"-\",'4. Shpenzimet'!$N361,\"-\",TEXT('4. Shpenzimet'!$O361,\"dd/mm/yyyy\")),\"\")","v":""}]
[{"$f":"IF(B362=\"\",\"\",MAX(A$18:A361)+1)","v":""},{"$f":"IF($C362=Referenca!$J$3,CONCATENATE('4. Shpenzimet'!$M362,\"-\",'4. Shpenzimet'!$N362,\"-\",TEXT('4. Shpenzimet'!$O362,\"dd/mm/yyyy\")),\"\")","v":""}]
[{"$f":"IF(B363=\"\",\"\",MAX(A$18:A362)+1)","v":""},{"$f":"IF($C363=Referenca!$J$3,CONCATENATE('4. Shpenzimet'!$M363,\"-\",'4. Shpenzimet'!$N363,\"-\",TEXT('4. Shpenzimet'!$O363,\"dd/mm/yyyy\")),\"\")","v":""}]
[{"$f":"IF(B364=\"\",\"\",MAX(A$18:A363)+1)","v":""},{"$f":"IF($C364=Referenca!$J$3,CONCATENATE('4. Shpenzimet'!$M364,\"-\",'4. Shpenzimet'!$N364,\"-\",TEXT('4. Shpenzimet'!$O364,\"dd/mm/yyyy\")),\"\")","v":""}]
[{"$f":"IF(B365=\"\",\"\",MAX(A$18:A364)+1)","v":""},{"$f":"IF($C365=Referenca!$J$3,CONCATENATE('4. Shpenzimet'!$M365,\"-\",'4. Shpenzimet'!$N365,\"-\",TEXT('4. Shpenzimet'!$O365,\"dd/mm/yyyy\")),\"\")","v":""}]
[{"$f":"IF(B366=\"\",\"\",MAX(A$18:A365)+1)","v":""},{"$f":"IF($C366=Referenca!$J$3,CONCATENATE('4. Shpenzimet'!$M366,\"-\",'4. Shpenzimet'!$N366,\"-\",TEXT('4. Shpenzimet'!$O366,\"dd/mm/yyyy\")),\"\")","v":""}]
[{"$f":"IF(B367=\"\",\"\",MAX(A$18:A366)+1)","v":""},{"$f":"IF($C367=Referenca!$J$3,CONCATENATE('4. Shpenzimet'!$M367,\"-\",'4. Shpenzimet'!$N367,\"-\",TEXT('4. Shpenzimet'!$O367,\"dd/mm/yyyy\")),\"\")","v":""}]
[{"$f":"IF(B368=\"\",\"\",MAX(A$18:A367)+1)","v":""},{"$f":"IF($C368=Referenca!$J$3,CONCATENATE('4. Shpenzimet'!$M368,\"-\",'4. Shpenzimet'!$N368,\"-\",TEXT('4. Shpenzimet'!$O368,\"dd/mm/yyyy\")),\"\")","v":""}]
[{"$f":"IF(B369=\"\",\"\",MAX(A$18:A368)+1)","v":""},{"$f":"IF($C369=Referenca!$J$3,CONCATENATE('4. Shpenzimet'!$M369,\"-\",'4. Shpenzimet'!$N369,\"-\",TEXT('4. Shpenzimet'!$O369,\"dd/mm/yyyy\")),\"\")","v":""}]
[{"$f":"IF(B370=\"\",\"\",MAX(A$18:A369)+1)","v":""},{"$f":"IF($C370=Referenca!$J$3,CONCATENATE('4. Shpenzimet'!$M370,\"-\",'4. Shpenzimet'!$N370,\"-\",TEXT('4. Shpenzimet'!$O370,\"dd/mm/yyyy\")),\"\")","v":""}]
[{"$f":"IF(B371=\"\",\"\",MAX(A$18:A370)+1)","v":""},{"$f":"IF($C371=Referenca!$J$3,CONCATENATE('4. Shpenzimet'!$M371,\"-\",'4. Shpenzimet'!$N371,\"-\",TEXT('4. Shpenzimet'!$O371,\"dd/mm/yyyy\")),\"\")","v":""}]
[{"$f":"IF(B372=\"\",\"\",MAX(A$18:A371)+1)","v":""},{"$f":"IF($C372=Referenca!$J$3,CONCATENATE('4. Shpenzimet'!$M372,\"-\",'4. Shpenzimet'!$N372,\"-\",TEXT('4. Shpenzimet'!$O372,\"dd/mm/yyyy\")),\"\")","v":""}]
[{"$f":"IF(B373=\"\",\"\",MAX(A$18:A372)+1)","v":""},{"$f":"IF($C373=Referenca!$J$3,CONCATENATE('4. Shpenzimet'!$M373,\"-\",'4. Shpenzimet'!$N373,\"-\",TEXT('4. Shpenzimet'!$O373,\"dd/mm/yyyy\")),\"\")","v":""}]
[{"$f":"IF(B374=\"\",\"\",MAX(A$18:A373)+1)","v":""},{"$f":"IF($C374=Referenca!$J$3,CONCATENATE('4. Shpenzimet'!$M374,\"-\",'4. Shpenzimet'!$N374,\"-\",TEXT('4. Shpenzimet'!$O374,\"dd/mm/yyyy\")),\"\")","v":""}]
[{"$f":"IF(B375=\"\",\"\",MAX(A$18:A374)+1)","v":""},{"$f":"IF($C375=Referenca!$J$3,CONCATENATE('4. Shpenzimet'!$M375,\"-\",'4. Shpenzimet'!$N375,\"-\",TEXT('4. Shpenzimet'!$O375,\"dd/mm/yyyy\")),\"\")","v":""}]
[{"$f":"IF(B376=\"\",\"\",MAX(A$18:A375)+1)","v":""},{"$f":"IF($C376=Referenca!$J$3,CONCATENATE('4. Shpenzimet'!$M376,\"-\",'4. Shpenzimet'!$N376,\"-\",TEXT('4. Shpenzimet'!$O376,\"dd/mm/yyyy\")),\"\")","v":""}]
[{"$f":"IF(B377=\"\",\"\",MAX(A$18:A376)+1)","v":""},{"$f":"IF($C377=Referenca!$J$3,CONCATENATE('4. Shpenzimet'!$M377,\"-\",'4. Shpenzimet'!$N377,\"-\",TEXT('4. Shpenzimet'!$O377,\"dd/mm/yyyy\")),\"\")","v":""}]
[{"$f":"IF(B378=\"\",\"\",MAX(A$18:A377)+1)","v":""},{"$f":"IF($C378=Referenca!$J$3,CONCATENATE('4. Shpenzimet'!$M378,\"-\",'4. Shpenzimet'!$N378,\"-\",TEXT('4. Shpenzimet'!$O378,\"dd/mm/yyyy\")),\"\")","v":""}]
[{"$f":"IF(B379=\"\",\"\",MAX(A$18:A378)+1)","v":""},{"$f":"IF($C379=Referenca!$J$3,CONCATENATE('4. Shpenzimet'!$M379,\"-\",'4. Shpenzimet'!$N379,\"-\",TEXT('4. Shpenzimet'!$O379,\"dd/mm/yyyy\")),\"\")","v":""}]
[{"$f":"IF(B380=\"\",\"\",MAX(A$18:A379)+1)","v":""},{"$f":"IF($C380=Referenca!$J$3,CONCATENATE('4. Shpenzimet'!$M380,\"-\",'4. Shpenzimet'!$N380,\"-\",TEXT('4. Shpenzimet'!$O380,\"dd/mm/yyyy\")),\"\")","v":""}]
[{"$f":"IF(B381=\"\",\"\",MAX(A$18:A380)+1)","v":""},{"$f":"IF($C381=Referenca!$J$3,CONCATENATE('4. Shpenzimet'!$M381,\"-\",'4. Shpenzimet'!$N381,\"-\",TEXT('4. Shpenzimet'!$O381,\"dd/mm/yyyy\")),\"\")","v":""}]
[{"$f":"IF(B382=\"\",\"\",MAX(A$18:A381)+1)","v":""},{"$f":"IF($C382=Referenca!$J$3,CONCATENATE('4. Shpenzimet'!$M382,\"-\",'4. Shpenzimet'!$N382,\"-\",TEXT('4. Shpenzimet'!$O382,\"dd/mm/yyyy\")),\"\")","v":""}]
[{"$f":"IF(B383=\"\",\"\",MAX(A$18:A382)+1)","v":""},{"$f":"IF($C383=Referenca!$J$3,CONCATENATE('4. Shpenzimet'!$M383,\"-\",'4. Shpenzimet'!$N383,\"-\",TEXT('4. Shpenzimet'!$O383,\"dd/mm/yyyy\")),\"\")","v":""}]
[{"$f":"IF(B384=\"\",\"\",MAX(A$18:A383)+1)","v":""},{"$f":"IF($C384=Referenca!$J$3,CONCATENATE('4. Shpenzimet'!$M384,\"-\",'4. Shpenzimet'!$N384,\"-\",TEXT('4. Shpenzimet'!$O384,\"dd/mm/yyyy\")),\"\")","v":""}]
[{"$f":"IF(B385=\"\",\"\",MAX(A$18:A384)+1)","v":""},{"$f":"IF($C385=Referenca!$J$3,CONCATENATE('4. Shpenzimet'!$M385,\"-\",'4. Shpenzimet'!$N385,\"-\",TEXT('4. Shpenzimet'!$O385,\"dd/mm/yyyy\")),\"\")","v":""}]
[{"$f":"IF(B386=\"\",\"\",MAX(A$18:A385)+1)","v":""},{"$f":"IF($C386=Referenca!$J$3,CONCATENATE('4. Shpenzimet'!$M386,\"-\",'4. Shpenzimet'!$N386,\"-\",TEXT('4. Shpenzimet'!$O386,\"dd/mm/yyyy\")),\"\")","v":""}]
[{"$f":"IF(B387=\"\",\"\",MAX(A$18:A386)+1)","v":""},{"$f":"IF($C387=Referenca!$J$3,CONCATENATE('4. Shpenzimet'!$M387,\"-\",'4. Shpenzimet'!$N387,\"-\",TEXT('4. Shpenzimet'!$O387,\"dd/mm/yyyy\")),\"\")","v":""}]
[{"$f":"IF(B388=\"\",\"\",MAX(A$18:A387)+1)","v":""},{"$f":"IF($C388=Referenca!$J$3,CONCATENATE('4. Shpenzimet'!$M388,\"-\",'4. Shpenzimet'!$N388,\"-\",TEXT('4. Shpenzimet'!$O388,\"dd/mm/yyyy\")),\"\")","v":""}]
[{"$f":"IF(B389=\"\",\"\",MAX(A$18:A388)+1)","v":""},{"$f":"IF($C389=Referenca!$J$3,CONCATENATE('4. Shpenzimet'!$M389,\"-\",'4. Shpenzimet'!$N389,\"-\",TEXT('4. Shpenzimet'!$O389,\"dd/mm/yyyy\")),\"\")","v":""}]
[{"$f":"IF(B390=\"\",\"\",MAX(A$18:A389)+1)","v":""},{"$f":"IF($C390=Referenca!$J$3,CONCATENATE('4. Shpenzimet'!$M390,\"-\",'4. Shpenzimet'!$N390,\"-\",TEXT('4. Shpenzimet'!$O390,\"dd/mm/yyyy\")),\"\")","v":""}]
[{"$f":"IF(B391=\"\",\"\",MAX(A$18:A390)+1)","v":""},{"$f":"IF($C391=Referenca!$J$3,CONCATENATE('4. Shpenzimet'!$M391,\"-\",'4. Shpenzimet'!$N391,\"-\",TEXT('4. Shpenzimet'!$O391,\"dd/mm/yyyy\")),\"\")","v":""}]
[{"$f":"IF(B392=\"\",\"\",MAX(A$18:A391)+1)","v":""},{"$f":"IF($C392=Referenca!$J$3,CONCATENATE('4. Shpenzimet'!$M392,\"-\",'4. Shpenzimet'!$N392,\"-\",TEXT('4. Shpenzimet'!$O392,\"dd/mm/yyyy\")),\"\")","v":""}]
[{"$f":"IF(B393=\"\",\"\",MAX(A$18:A392)+1)","v":""},{"$f":"IF($C393=Referenca!$J$3,CONCATENATE('4. Shpenzimet'!$M393,\"-\",'4. Shpenzimet'!$N393,\"-\",TEXT('4. Shpenzimet'!$O393,\"dd/mm/yyyy\")),\"\")","v":""}]
[{"$f":"IF(B394=\"\",\"\",MAX(A$18:A393)+1)","v":""},{"$f":"IF($C394=Referenca!$J$3,CONCATENATE('4. Shpenzimet'!$M394,\"-\",'4. Shpenzimet'!$N394,\"-\",TEXT('4. Shpenzimet'!$O394,\"dd/mm/yyyy\")),\"\")","v":""}]
[{"$f":"IF(B395=\"\",\"\",MAX(A$18:A394)+1)","v":""},{"$f":"IF($C395=Referenca!$J$3,CONCATENATE('4. Shpenzimet'!$M395,\"-\",'4. Shpenzimet'!$N395,\"-\",TEXT('4. Shpenzimet'!$O395,\"dd/mm/yyyy\")),\"\")","v":""}]
[{"$f":"IF(B396=\"\",\"\",MAX(A$18:A395)+1)","v":""},{"$f":"IF($C396=Referenca!$J$3,CONCATENATE('4. Shpenzimet'!$M396,\"-\",'4. Shpenzimet'!$N396,\"-\",TEXT('4. Shpenzimet'!$O396,\"dd/mm/yyyy\")),\"\")","v":""}]
[{"$f":"IF(B397=\"\",\"\",MAX(A$18:A396)+1)","v":""},{"$f":"IF($C397=Referenca!$J$3,CONCATENATE('4. Shpenzimet'!$M397,\"-\",'4. Shpenzimet'!$N397,\"-\",TEXT('4. Shpenzimet'!$O397,\"dd/mm/yyyy\")),\"\")","v":""}]
[{"$f":"IF(B398=\"\",\"\",MAX(A$18:A397)+1)","v":""},{"$f":"IF($C398=Referenca!$J$3,CONCATENATE('4. Shpenzimet'!$M398,\"-\",'4. Shpenzimet'!$N398,\"-\",TEXT('4. Shpenzimet'!$O398,\"dd/mm/yyyy\")),\"\")","v":""}]
[{"$f":"IF(B399=\"\",\"\",MAX(A$18:A398)+1)","v":""},{"$f":"IF($C399=Referenca!$J$3,CONCATENATE('4. Shpenzimet'!$M399,\"-\",'4. Shpenzimet'!$N399,\"-\",TEXT('4. Shpenzimet'!$O399,\"dd/mm/yyyy\")),\"\")","v":""}]
[{"$f":"IF(B400=\"\",\"\",MAX(A$18:A399)+1)","v":""},{"$f":"IF($C400=Referenca!$J$3,CONCATENATE('4. Shpenzimet'!$M400,\"-\",'4. Shpenzimet'!$N400,\"-\",TEXT('4. Shpenzimet'!$O400,\"dd/mm/yyyy\")),\"\")","v":""}]
[{"$f":"IF(B401=\"\",\"\",MAX(A$18:A400)+1)","v":""},{"$f":"IF($C401=Referenca!$J$3,CONCATENATE('4. Shpenzimet'!$M401,\"-\",'4. Shpenzimet'!$N401,\"-\",TEXT('4. Shpenzimet'!$O401,\"dd/mm/yyyy\")),\"\")","v":""}]
[{"$f":"IF(B402=\"\",\"\",MAX(A$18:A401)+1)","v":""},{"$f":"IF($C402=Referenca!$J$3,CONCATENATE('4. Shpenzimet'!$M402,\"-\",'4. Shpenzimet'!$N402,\"-\",TEXT('4. Shpenzimet'!$O402,\"dd/mm/yyyy\")),\"\")","v":""}]
[{"$f":"IF(B403=\"\",\"\",MAX(A$18:A402)+1)","v":""},{"$f":"IF($C403=Referenca!$J$3,CONCATENATE('4. Shpenzimet'!$M403,\"-\",'4. Shpenzimet'!$N403,\"-\",TEXT('4. Shpenzimet'!$O403,\"dd/mm/yyyy\")),\"\")","v":""}]
[{"$f":"IF(B404=\"\",\"\",MAX(A$18:A403)+1)","v":""},{"$f":"IF($C404=Referenca!$J$3,CONCATENATE('4. Shpenzimet'!$M404,\"-\",'4. Shpenzimet'!$N404,\"-\",TEXT('4. Shpenzimet'!$O404,\"dd/mm/yyyy\")),\"\")","v":""}]
[{"$f":"IF(B405=\"\",\"\",MAX(A$18:A404)+1)","v":""},{"$f":"IF($C405=Referenca!$J$3,CONCATENATE('4. Shpenzimet'!$M405,\"-\",'4. Shpenzimet'!$N405,\"-\",TEXT('4. Shpenzimet'!$O405,\"dd/mm/yyyy\")),\"\")","v":""}]
[{"$f":"IF(B406=\"\",\"\",MAX(A$18:A405)+1)","v":""},{"$f":"IF($C406=Referenca!$J$3,CONCATENATE('4. Shpenzimet'!$M406,\"-\",'4. Shpenzimet'!$N406,\"-\",TEXT('4. Shpenzimet'!$O406,\"dd/mm/yyyy\")),\"\")","v":""}]
[{"$f":"IF(B407=\"\",\"\",MAX(A$18:A406)+1)","v":""},{"$f":"IF($C407=Referenca!$J$3,CONCATENATE('4. Shpenzimet'!$M407,\"-\",'4. Shpenzimet'!$N407,\"-\",TEXT('4. Shpenzimet'!$O407,\"dd/mm/yyyy\")),\"\")","v":""}]
[{"$f":"IF(B408=\"\",\"\",MAX(A$18:A407)+1)","v":""},{"$f":"IF($C408=Referenca!$J$3,CONCATENATE('4. Shpenzimet'!$M408,\"-\",'4. Shpenzimet'!$N408,\"-\",TEXT('4. Shpenzimet'!$O408,\"dd/mm/yyyy\")),\"\")","v":""}]
[{"$f":"IF(B409=\"\",\"\",MAX(A$18:A408)+1)","v":""},{"$f":"IF($C409=Referenca!$J$3,CONCATENATE('4. Shpenzimet'!$M409,\"-\",'4. Shpenzimet'!$N409,\"-\",TEXT('4. Shpenzimet'!$O409,\"dd/mm/yyyy\")),\"\")","v":""}]
[{"$f":"IF(B410=\"\",\"\",MAX(A$18:A409)+1)","v":""},{"$f":"IF($C410=Referenca!$J$3,CONCATENATE('4. Shpenzimet'!$M410,\"-\",'4. Shpenzimet'!$N410,\"-\",TEXT('4. Shpenzimet'!$O410,\"dd/mm/yyyy\")),\"\")","v":""}]
[{"$f":"IF(B411=\"\",\"\",MAX(A$18:A410)+1)","v":""},{"$f":"IF($C411=Referenca!$J$3,CONCATENATE('4. Shpenzimet'!$M411,\"-\",'4. Shpenzimet'!$N411,\"-\",TEXT('4. Shpenzimet'!$O411,\"dd/mm/yyyy\")),\"\")","v":""}]
[{"$f":"IF(B412=\"\",\"\",MAX(A$18:A411)+1)","v":""},{"$f":"IF($C412=Referenca!$J$3,CONCATENATE('4. Shpenzimet'!$M412,\"-\",'4. Shpenzimet'!$N412,\"-\",TEXT('4. Shpenzimet'!$O412,\"dd/mm/yyyy\")),\"\")","v":""}]
[{"$f":"IF(B413=\"\",\"\",MAX(A$18:A412)+1)","v":""},{"$f":"IF($C413=Referenca!$J$3,CONCATENATE('4. Shpenzimet'!$M413,\"-\",'4. Shpenzimet'!$N413,\"-\",TEXT('4. Shpenzimet'!$O413,\"dd/mm/yyyy\")),\"\")","v":""}]
[{"$f":"IF(B414=\"\",\"\",MAX(A$18:A413)+1)","v":""},{"$f":"IF($C414=Referenca!$J$3,CONCATENATE('4. Shpenzimet'!$M414,\"-\",'4. Shpenzimet'!$N414,\"-\",TEXT('4. Shpenzimet'!$O414,\"dd/mm/yyyy\")),\"\")","v":""}]
[{"$f":"IF(B415=\"\",\"\",MAX(A$18:A414)+1)","v":""},{"$f":"IF($C415=Referenca!$J$3,CONCATENATE('4. Shpenzimet'!$M415,\"-\",'4. Shpenzimet'!$N415,\"-\",TEXT('4. Shpenzimet'!$O415,\"dd/mm/yyyy\")),\"\")","v":""}]
[{"$f":"IF(B416=\"\",\"\",MAX(A$18:A415)+1)","v":""},{"$f":"IF($C416=Referenca!$J$3,CONCATENATE('4. Shpenzimet'!$M416,\"-\",'4. Shpenzimet'!$N416,\"-\",TEXT('4. Shpenzimet'!$O416,\"dd/mm/yyyy\")),\"\")","v":""}]
[{"$f":"IF(B417=\"\",\"\",MAX(A$18:A416)+1)","v":""},{"$f":"IF($C417=Referenca!$J$3,CONCATENATE('4. Shpenzimet'!$M417,\"-\",'4. Shpenzimet'!$N417,\"-\",TEXT('4. Shpenzimet'!$O417,\"dd/mm/yyyy\")),\"\")","v":""}]
[{"$f":"IF(B418=\"\",\"\",MAX(A$18:A417)+1)","v":""},{"$f":"IF($C418=Referenca!$J$3,CONCATENATE('4. Shpenzimet'!$M418,\"-\",'4. Shpenzimet'!$N418,\"-\",TEXT('4. Shpenzimet'!$O418,\"dd/mm/yyyy\")),\"\")","v":""}]
[{"$f":"IF(B419=\"\",\"\",MAX(A$18:A418)+1)","v":""},{"$f":"IF($C419=Referenca!$J$3,CONCATENATE('4. Shpenzimet'!$M419,\"-\",'4. Shpenzimet'!$N419,\"-\",TEXT('4. Shpenzimet'!$O419,\"dd/mm/yyyy\")),\"\")","v":""}]
[{"$f":"IF(B420=\"\",\"\",MAX(A$18:A419)+1)","v":""},{"$f":"IF($C420=Referenca!$J$3,CONCATENATE('4. Shpenzimet'!$M420,\"-\",'4. Shpenzimet'!$N420,\"-\",TEXT('4. Shpenzimet'!$O420,\"dd/mm/yyyy\")),\"\")","v":""}]
[{"$f":"IF(B421=\"\",\"\",MAX(A$18:A420)+1)","v":""},{"$f":"IF($C421=Referenca!$J$3,CONCATENATE('4. Shpenzimet'!$M421,\"-\",'4. Shpenzimet'!$N421,\"-\",TEXT('4. Shpenzimet'!$O421,\"dd/mm/yyyy\")),\"\")","v":""}]
[{"$f":"IF(B422=\"\",\"\",MAX(A$18:A421)+1)","v":""},{"$f":"IF($C422=Referenca!$J$3,CONCATENATE('4. Shpenzimet'!$M422,\"-\",'4. Shpenzimet'!$N422,\"-\",TEXT('4. Shpenzimet'!$O422,\"dd/mm/yyyy\")),\"\")","v":""}]
[{"$f":"IF(B423=\"\",\"\",MAX(A$18:A422)+1)","v":""},{"$f":"IF($C423=Referenca!$J$3,CONCATENATE('4. Shpenzimet'!$M423,\"-\",'4. Shpenzimet'!$N423,\"-\",TEXT('4. Shpenzimet'!$O423,\"dd/mm/yyyy\")),\"\")","v":""}]
[{"$f":"IF(B424=\"\",\"\",MAX(A$18:A423)+1)","v":""},{"$f":"IF($C424=Referenca!$J$3,CONCATENATE('4. Shpenzimet'!$M424,\"-\",'4. Shpenzimet'!$N424,\"-\",TEXT('4. Shpenzimet'!$O424,\"dd/mm/yyyy\")),\"\")","v":""}]
[{"$f":"IF(B425=\"\",\"\",MAX(A$18:A424)+1)","v":""},{"$f":"IF($C425=Referenca!$J$3,CONCATENATE('4. Shpenzimet'!$M425,\"-\",'4. Shpenzimet'!$N425,\"-\",TEXT('4. Shpenzimet'!$O425,\"dd/mm/yyyy\")),\"\")","v":""}]
[{"$f":"IF(B426=\"\",\"\",MAX(A$18:A425)+1)","v":""},{"$f":"IF($C426=Referenca!$J$3,CONCATENATE('4. Shpenzimet'!$M426,\"-\",'4. Shpenzimet'!$N426,\"-\",TEXT('4. Shpenzimet'!$O426,\"dd/mm/yyyy\")),\"\")","v":""}]
[{"$f":"IF(B427=\"\",\"\",MAX(A$18:A426)+1)","v":""},{"$f":"IF($C427=Referenca!$J$3,CONCATENATE('4. Shpenzimet'!$M427,\"-\",'4. Shpenzimet'!$N427,\"-\",TEXT('4. Shpenzimet'!$O427,\"dd/mm/yyyy\")),\"\")","v":""}]
[{"$f":"IF(B428=\"\",\"\",MAX(A$18:A427)+1)","v":""},{"$f":"IF($C428=Referenca!$J$3,CONCATENATE('4. Shpenzimet'!$M428,\"-\",'4. Shpenzimet'!$N428,\"-\",TEXT('4. Shpenzimet'!$O428,\"dd/mm/yyyy\")),\"\")","v":""}]
[{"$f":"IF(B429=\"\",\"\",MAX(A$18:A428)+1)","v":""},{"$f":"IF($C429=Referenca!$J$3,CONCATENATE('4. Shpenzimet'!$M429,\"-\",'4. Shpenzimet'!$N429,\"-\",TEXT('4. Shpenzimet'!$O429,\"dd/mm/yyyy\")),\"\")","v":""}]
[{"$f":"IF(B430=\"\",\"\",MAX(A$18:A429)+1)","v":""},{"$f":"IF($C430=Referenca!$J$3,CONCATENATE('4. Shpenzimet'!$M430,\"-\",'4. Shpenzimet'!$N430,\"-\",TEXT('4. Shpenzimet'!$O430,\"dd/mm/yyyy\")),\"\")","v":""}]
[{"$f":"IF(B431=\"\",\"\",MAX(A$18:A430)+1)","v":""},{"$f":"IF($C431=Referenca!$J$3,CONCATENATE('4. Shpenzimet'!$M431,\"-\",'4. Shpenzimet'!$N431,\"-\",TEXT('4. Shpenzimet'!$O431,\"dd/mm/yyyy\")),\"\")","v":""}]
[{"$f":"IF(B432=\"\",\"\",MAX(A$18:A431)+1)","v":""},{"$f":"IF($C432=Referenca!$J$3,CONCATENATE('4. Shpenzimet'!$M432,\"-\",'4. Shpenzimet'!$N432,\"-\",TEXT('4. Shpenzimet'!$O432,\"dd/mm/yyyy\")),\"\")","v":""}]
[{"$f":"IF(B433=\"\",\"\",MAX(A$18:A432)+1)","v":""},{"$f":"IF($C433=Referenca!$J$3,CONCATENATE('4. Shpenzimet'!$M433,\"-\",'4. Shpenzimet'!$N433,\"-\",TEXT('4. Shpenzimet'!$O433,\"dd/mm/yyyy\")),\"\")","v":""}]
[{"$f":"IF(B434=\"\",\"\",MAX(A$18:A433)+1)","v":""},{"$f":"IF($C434=Referenca!$J$3,CONCATENATE('4. Shpenzimet'!$M434,\"-\",'4. Shpenzimet'!$N434,\"-\",TEXT('4. Shpenzimet'!$O434,\"dd/mm/yyyy\")),\"\")","v":""}]
[{"$f":"IF(B435=\"\",\"\",MAX(A$18:A434)+1)","v":""},{"$f":"IF($C435=Referenca!$J$3,CONCATENATE('4. Shpenzimet'!$M435,\"-\",'4. Shpenzimet'!$N435,\"-\",TEXT('4. Shpenzimet'!$O435,\"dd/mm/yyyy\")),\"\")","v":""}]
[{"$f":"IF(B436=\"\",\"\",MAX(A$18:A435)+1)","v":""},{"$f":"IF($C436=Referenca!$J$3,CONCATENATE('4. Shpenzimet'!$M436,\"-\",'4. Shpenzimet'!$N436,\"-\",TEXT('4. Shpenzimet'!$O436,\"dd/mm/yyyy\")),\"\")","v":""}]
[{"$f":"IF(B437=\"\",\"\",MAX(A$18:A436)+1)","v":""},{"$f":"IF($C437=Referenca!$J$3,CONCATENATE('4. Shpenzimet'!$M437,\"-\",'4. Shpenzimet'!$N437,\"-\",TEXT('4. Shpenzimet'!$O437,\"dd/mm/yyyy\")),\"\")","v":""}]
[{"$f":"IF(B438=\"\",\"\",MAX(A$18:A437)+1)","v":""},{"$f":"IF($C438=Referenca!$J$3,CONCATENATE('4. Shpenzimet'!$M438,\"-\",'4. Shpenzimet'!$N438,\"-\",TEXT('4. Shpenzimet'!$O438,\"dd/mm/yyyy\")),\"\")","v":""}]
[{"$f":"IF(B439=\"\",\"\",MAX(A$18:A438)+1)","v":""},{"$f":"IF($C439=Referenca!$J$3,CONCATENATE('4. Shpenzimet'!$M439,\"-\",'4. Shpenzimet'!$N439,\"-\",TEXT('4. Shpenzimet'!$O439,\"dd/mm/yyyy\")),\"\")","v":""}]
[{"$f":"IF(B440=\"\",\"\",MAX(A$18:A439)+1)","v":""},{"$f":"IF($C440=Referenca!$J$3,CONCATENATE('4. Shpenzimet'!$M440,\"-\",'4. Shpenzimet'!$N440,\"-\",TEXT('4. Shpenzimet'!$O440,\"dd/mm/yyyy\")),\"\")","v":""}]
[{"$f":"IF(B441=\"\",\"\",MAX(A$18:A440)+1)","v":""},{"$f":"IF($C441=Referenca!$J$3,CONCATENATE('4. Shpenzimet'!$M441,\"-\",'4. Shpenzimet'!$N441,\"-\",TEXT('4. Shpenzimet'!$O441,\"dd/mm/yyyy\")),\"\")","v":""}]
[{"$f":"IF(B442=\"\",\"\",MAX(A$18:A441)+1)","v":""},{"$f":"IF($C442=Referenca!$J$3,CONCATENATE('4. Shpenzimet'!$M442,\"-\",'4. Shpenzimet'!$N442,\"-\",TEXT('4. Shpenzimet'!$O442,\"dd/mm/yyyy\")),\"\")","v":""}]
[{"$f":"IF(B443=\"\",\"\",MAX(A$18:A442)+1)","v":""},{"$f":"IF($C443=Referenca!$J$3,CONCATENATE('4. Shpenzimet'!$M443,\"-\",'4. Shpenzimet'!$N443,\"-\",TEXT('4. Shpenzimet'!$O443,\"dd/mm/yyyy\")),\"\")","v":""}]
[{"$f":"IF(B444=\"\",\"\",MAX(A$18:A443)+1)","v":""},{"$f":"IF($C444=Referenca!$J$3,CONCATENATE('4. Shpenzimet'!$M444,\"-\",'4. Shpenzimet'!$N444,\"-\",TEXT('4. Shpenzimet'!$O444,\"dd/mm/yyyy\")),\"\")","v":""}]
[{"$f":"IF(B445=\"\",\"\",MAX(A$18:A444)+1)","v":""},{"$f":"IF($C445=Referenca!$J$3,CONCATENATE('4. Shpenzimet'!$M445,\"-\",'4. Shpenzimet'!$N445,\"-\",TEXT('4. Shpenzimet'!$O445,\"dd/mm/yyyy\")),\"\")","v":""}]
[{"$f":"IF(B446=\"\",\"\",MAX(A$18:A445)+1)","v":""},{"$f":"IF($C446=Referenca!$J$3,CONCATENATE('4. Shpenzimet'!$M446,\"-\",'4. Shpenzimet'!$N446,\"-\",TEXT('4. Shpenzimet'!$O446,\"dd/mm/yyyy\")),\"\")","v":""}]
[{"$f":"IF(B447=\"\",\"\",MAX(A$18:A446)+1)","v":""},{"$f":"IF($C447=Referenca!$J$3,CONCATENATE('4. Shpenzimet'!$M447,\"-\",'4. Shpenzimet'!$N447,\"-\",TEXT('4. Shpenzimet'!$O447,\"dd/mm/yyyy\")),\"\")","v":""}]
[{"$f":"IF(B448=\"\",\"\",MAX(A$18:A447)+1)","v":""},{"$f":"IF($C448=Referenca!$J$3,CONCATENATE('4. Shpenzimet'!$M448,\"-\",'4. Shpenzimet'!$N448,\"-\",TEXT('4. Shpenzimet'!$O448,\"dd/mm/yyyy\")),\"\")","v":""}]
[{"$f":"IF(B449=\"\",\"\",MAX(A$18:A448)+1)","v":""},{"$f":"IF($C449=Referenca!$J$3,CONCATENATE('4. Shpenzimet'!$M449,\"-\",'4. Shpenzimet'!$N449,\"-\",TEXT('4. Shpenzimet'!$O449,\"dd/mm/yyyy\")),\"\")","v":""}]
[{"$f":"IF(B450=\"\",\"\",MAX(A$18:A449)+1)","v":""},{"$f":"IF($C450=Referenca!$J$3,CONCATENATE('4. Shpenzimet'!$M450,\"-\",'4. Shpenzimet'!$N450,\"-\",TEXT('4. Shpenzimet'!$O450,\"dd/mm/yyyy\")),\"\")","v":""}]
[{"$f":"IF(B451=\"\",\"\",MAX(A$18:A450)+1)","v":""},{"$f":"IF($C451=Referenca!$J$3,CONCATENATE('4. Shpenzimet'!$M451,\"-\",'4. Shpenzimet'!$N451,\"-\",TEXT('4. Shpenzimet'!$O451,\"dd/mm/yyyy\")),\"\")","v":""}]
[{"$f":"IF(B452=\"\",\"\",MAX(A$18:A451)+1)","v":""},{"$f":"IF($C452=Referenca!$J$3,CONCATENATE('4. Shpenzimet'!$M452,\"-\",'4. Shpenzimet'!$N452,\"-\",TEXT('4. Shpenzimet'!$O452,\"dd/mm/yyyy\")),\"\")","v":""}]
[{"$f":"IF(B453=\"\",\"\",MAX(A$18:A452)+1)","v":""},{"$f":"IF($C453=Referenca!$J$3,CONCATENATE('4. Shpenzimet'!$M453,\"-\",'4. Shpenzimet'!$N453,\"-\",TEXT('4. Shpenzimet'!$O453,\"dd/mm/yyyy\")),\"\")","v":""}]
[{"$f":"IF(B454=\"\",\"\",MAX(A$18:A453)+1)","v":""},{"$f":"IF($C454=Referenca!$J$3,CONCATENATE('4. Shpenzimet'!$M454,\"-\",'4. Shpenzimet'!$N454,\"-\",TEXT('4. Shpenzimet'!$O454,\"dd/mm/yyyy\")),\"\")","v":""}]
[{"$f":"IF(B455=\"\",\"\",MAX(A$18:A454)+1)","v":""},{"$f":"IF($C455=Referenca!$J$3,CONCATENATE('4. Shpenzimet'!$M455,\"-\",'4. Shpenzimet'!$N455,\"-\",TEXT('4. Shpenzimet'!$O455,\"dd/mm/yyyy\")),\"\")","v":""}]
[{"$f":"IF(B456=\"\",\"\",MAX(A$18:A455)+1)","v":""},{"$f":"IF($C456=Referenca!$J$3,CONCATENATE('4. Shpenzimet'!$M456,\"-\",'4. Shpenzimet'!$N456,\"-\",TEXT('4. Shpenzimet'!$O456,\"dd/mm/yyyy\")),\"\")","v":""}]
[{"$f":"IF(B457=\"\",\"\",MAX(A$18:A456)+1)","v":""},{"$f":"IF($C457=Referenca!$J$3,CONCATENATE('4. Shpenzimet'!$M457,\"-\",'4. Shpenzimet'!$N457,\"-\",TEXT('4. Shpenzimet'!$O457,\"dd/mm/yyyy\")),\"\")","v":""}]
[{"$f":"IF(B458=\"\",\"\",MAX(A$18:A457)+1)","v":""},{"$f":"IF($C458=Referenca!$J$3,CONCATENATE('4. Shpenzimet'!$M458,\"-\",'4. Shpenzimet'!$N458,\"-\",TEXT('4. Shpenzimet'!$O458,\"dd/mm/yyyy\")),\"\")","v":""}]
[{"$f":"IF(B459=\"\",\"\",MAX(A$18:A458)+1)","v":""},{"$f":"IF($C459=Referenca!$J$3,CONCATENATE('4. Shpenzimet'!$M459,\"-\",'4. Shpenzimet'!$N459,\"-\",TEXT('4. Shpenzimet'!$O459,\"dd/mm/yyyy\")),\"\")","v":""}]
[{"$f":"IF(B460=\"\",\"\",MAX(A$18:A459)+1)","v":""},{"$f":"IF($C460=Referenca!$J$3,CONCATENATE('4. Shpenzimet'!$M460,\"-\",'4. Shpenzimet'!$N460,\"-\",TEXT('4. Shpenzimet'!$O460,\"dd/mm/yyyy\")),\"\")","v":""}]
[{"$f":"IF(B461=\"\",\"\",MAX(A$18:A460)+1)","v":""},{"$f":"IF($C461=Referenca!$J$3,CONCATENATE('4. Shpenzimet'!$M461,\"-\",'4. Shpenzimet'!$N461,\"-\",TEXT('4. Shpenzimet'!$O461,\"dd/mm/yyyy\")),\"\")","v":""}]
[{"$f":"IF(B462=\"\",\"\",MAX(A$18:A461)+1)","v":""},{"$f":"IF($C462=Referenca!$J$3,CONCATENATE('4. Shpenzimet'!$M462,\"-\",'4. Shpenzimet'!$N462,\"-\",TEXT('4. Shpenzimet'!$O462,\"dd/mm/yyyy\")),\"\")","v":""}]
[{"$f":"IF(B463=\"\",\"\",MAX(A$18:A462)+1)","v":""},{"$f":"IF($C463=Referenca!$J$3,CONCATENATE('4. Shpenzimet'!$M463,\"-\",'4. Shpenzimet'!$N463,\"-\",TEXT('4. Shpenzimet'!$O463,\"dd/mm/yyyy\")),\"\")","v":""}]
[{"$f":"IF(B464=\"\",\"\",MAX(A$18:A463)+1)","v":""},{"$f":"IF($C464=Referenca!$J$3,CONCATENATE('4. Shpenzimet'!$M464,\"-\",'4. Shpenzimet'!$N464,\"-\",TEXT('4. Shpenzimet'!$O464,\"dd/mm/yyyy\")),\"\")","v":""}]
[{"$f":"IF(B465=\"\",\"\",MAX(A$18:A464)+1)","v":""},{"$f":"IF($C465=Referenca!$J$3,CONCATENATE('4. Shpenzimet'!$M465,\"-\",'4. Shpenzimet'!$N465,\"-\",TEXT('4. Shpenzimet'!$O465,\"dd/mm/yyyy\")),\"\")","v":""}]
[{"$f":"IF(B466=\"\",\"\",MAX(A$18:A465)+1)","v":""},{"$f":"IF($C466=Referenca!$J$3,CONCATENATE('4. Shpenzimet'!$M466,\"-\",'4. Shpenzimet'!$N466,\"-\",TEXT('4. Shpenzimet'!$O466,\"dd/mm/yyyy\")),\"\")","v":""}]
[{"$f":"IF(B467=\"\",\"\",MAX(A$18:A466)+1)","v":""},{"$f":"IF($C467=Referenca!$J$3,CONCATENATE('4. Shpenzimet'!$M467,\"-\",'4. Shpenzimet'!$N467,\"-\",TEXT('4. Shpenzimet'!$O467,\"dd/mm/yyyy\")),\"\")","v":""}]
[{"$f":"IF(B468=\"\",\"\",MAX(A$18:A467)+1)","v":""},{"$f":"IF($C468=Referenca!$J$3,CONCATENATE('4. Shpenzimet'!$M468,\"-\",'4. Shpenzimet'!$N468,\"-\",TEXT('4. Shpenzimet'!$O468,\"dd/mm/yyyy\")),\"\")","v":""}]
[{"$f":"IF(B469=\"\",\"\",MAX(A$18:A468)+1)","v":""},{"$f":"IF($C469=Referenca!$J$3,CONCATENATE('4. Shpenzimet'!$M469,\"-\",'4. Shpenzimet'!$N469,\"-\",TEXT('4. Shpenzimet'!$O469,\"dd/mm/yyyy\")),\"\")","v":""}]
[{"$f":"IF(B470=\"\",\"\",MAX(A$18:A469)+1)","v":""},{"$f":"IF($C470=Referenca!$J$3,CONCATENATE('4. Shpenzimet'!$M470,\"-\",'4. Shpenzimet'!$N470,\"-\",TEXT('4. Shpenzimet'!$O470,\"dd/mm/yyyy\")),\"\")","v":""}]
[{"$f":"IF(B471=\"\",\"\",MAX(A$18:A470)+1)","v":""},{"$f":"IF($C471=Referenca!$J$3,CONCATENATE('4. Shpenzimet'!$M471,\"-\",'4. Shpenzimet'!$N471,\"-\",TEXT('4. Shpenzimet'!$O471,\"dd/mm/yyyy\")),\"\")","v":""}]
[{"$f":"IF(B472=\"\",\"\",MAX(A$18:A471)+1)","v":""},{"$f":"IF($C472=Referenca!$J$3,CONCATENATE('4. Shpenzimet'!$M472,\"-\",'4. Shpenzimet'!$N472,\"-\",TEXT('4. Shpenzimet'!$O472,\"dd/mm/yyyy\")),\"\")","v":""}]
[{"$f":"IF(B473=\"\",\"\",MAX(A$18:A472)+1)","v":""},{"$f":"IF($C473=Referenca!$J$3,CONCATENATE('4. Shpenzimet'!$M473,\"-\",'4. Shpenzimet'!$N473,\"-\",TEXT('4. Shpenzimet'!$O473,\"dd/mm/yyyy\")),\"\")","v":""}]
[{"$f":"IF(B474=\"\",\"\",MAX(A$18:A473)+1)","v":""},{"$f":"IF($C474=Referenca!$J$3,CONCATENATE('4. Shpenzimet'!$M474,\"-\",'4. Shpenzimet'!$N474,\"-\",TEXT('4. Shpenzimet'!$O474,\"dd/mm/yyyy\")),\"\")","v":""}]
[{"$f":"IF(B475=\"\",\"\",MAX(A$18:A474)+1)","v":""},{"$f":"IF($C475=Referenca!$J$3,CONCATENATE('4. Shpenzimet'!$M475,\"-\",'4. Shpenzimet'!$N475,\"-\",TEXT('4. Shpenzimet'!$O475,\"dd/mm/yyyy\")),\"\")","v":""}]
[{"$f":"IF(B476=\"\",\"\",MAX(A$18:A475)+1)","v":""},{"$f":"IF($C476=Referenca!$J$3,CONCATENATE('4. Shpenzimet'!$M476,\"-\",'4. Shpenzimet'!$N476,\"-\",TEXT('4. Shpenzimet'!$O476,\"dd/mm/yyyy\")),\"\")","v":""}]
[{"$f":"IF(B477=\"\",\"\",MAX(A$18:A476)+1)","v":""},{"$f":"IF($C477=Referenca!$J$3,CONCATENATE('4. Shpenzimet'!$M477,\"-\",'4. Shpenzimet'!$N477,\"-\",TEXT('4. Shpenzimet'!$O477,\"dd/mm/yyyy\")),\"\")","v":""}]
[{"$f":"IF(B478=\"\",\"\",MAX(A$18:A477)+1)","v":""},{"$f":"IF($C478=Referenca!$J$3,CONCATENATE('4. Shpenzimet'!$M478,\"-\",'4. Shpenzimet'!$N478,\"-\",TEXT('4. Shpenzimet'!$O478,\"dd/mm/yyyy\")),\"\")","v":""}]
[{"$f":"IF(B479=\"\",\"\",MAX(A$18:A478)+1)","v":""},{"$f":"IF($C479=Referenca!$J$3,CONCATENATE('4. Shpenzimet'!$M479,\"-\",'4. Shpenzimet'!$N479,\"-\",TEXT('4. Shpenzimet'!$O479,\"dd/mm/yyyy\")),\"\")","v":""}]
[{"$f":"IF(B480=\"\",\"\",MAX(A$18:A479)+1)","v":""},{"$f":"IF($C480=Referenca!$J$3,CONCATENATE('4. Shpenzimet'!$M480,\"-\",'4. Shpenzimet'!$N480,\"-\",TEXT('4. Shpenzimet'!$O480,\"dd/mm/yyyy\")),\"\")","v":""}]
[{"$f":"IF(B481=\"\",\"\",MAX(A$18:A480)+1)","v":""},{"$f":"IF($C481=Referenca!$J$3,CONCATENATE('4. Shpenzimet'!$M481,\"-\",'4. Shpenzimet'!$N481,\"-\",TEXT('4. Shpenzimet'!$O481,\"dd/mm/yyyy\")),\"\")","v":""}]
[{"$f":"IF(B482=\"\",\"\",MAX(A$18:A481)+1)","v":""},{"$f":"IF($C482=Referenca!$J$3,CONCATENATE('4. Shpenzimet'!$M482,\"-\",'4. Shpenzimet'!$N482,\"-\",TEXT('4. Shpenzimet'!$O482,\"dd/mm/yyyy\")),\"\")","v":""}]
[{"$f":"IF(B483=\"\",\"\",MAX(A$18:A482)+1)","v":""},{"$f":"IF($C483=Referenca!$J$3,CONCATENATE('4. Shpenzimet'!$M483,\"-\",'4. Shpenzimet'!$N483,\"-\",TEXT('4. Shpenzimet'!$O483,\"dd/mm/yyyy\")),\"\")","v":""}]
[{"$f":"IF(B484=\"\",\"\",MAX(A$18:A483)+1)","v":""},{"$f":"IF($C484=Referenca!$J$3,CONCATENATE('4. Shpenzimet'!$M484,\"-\",'4. Shpenzimet'!$N484,\"-\",TEXT('4. Shpenzimet'!$O484,\"dd/mm/yyyy\")),\"\")","v":""}]
[{"$f":"IF(B485=\"\",\"\",MAX(A$18:A484)+1)","v":""},{"$f":"IF($C485=Referenca!$J$3,CONCATENATE('4. Shpenzimet'!$M485,\"-\",'4. Shpenzimet'!$N485,\"-\",TEXT('4. Shpenzimet'!$O485,\"dd/mm/yyyy\")),\"\")","v":""}]
[{"$f":"IF(B486=\"\",\"\",MAX(A$18:A485)+1)","v":""},{"$f":"IF($C486=Referenca!$J$3,CONCATENATE('4. Shpenzimet'!$M486,\"-\",'4. Shpenzimet'!$N486,\"-\",TEXT('4. Shpenzimet'!$O486,\"dd/mm/yyyy\")),\"\")","v":""}]
[{"$f":"IF(B487=\"\",\"\",MAX(A$18:A486)+1)","v":""},{"$f":"IF($C487=Referenca!$J$3,CONCATENATE('4. Shpenzimet'!$M487,\"-\",'4. Shpenzimet'!$N487,\"-\",TEXT('4. Shpenzimet'!$O487,\"dd/mm/yyyy\")),\"\")","v":""}]
[{"$f":"IF(B488=\"\",\"\",MAX(A$18:A487)+1)","v":""},{"$f":"IF($C488=Referenca!$J$3,CONCATENATE('4. Shpenzimet'!$M488,\"-\",'4. Shpenzimet'!$N488,\"-\",TEXT('4. Shpenzimet'!$O488,\"dd/mm/yyyy\")),\"\")","v":""}]
[{"$f":"IF(B489=\"\",\"\",MAX(A$18:A488)+1)","v":""},{"$f":"IF($C489=Referenca!$J$3,CONCATENATE('4. Shpenzimet'!$M489,\"-\",'4. Shpenzimet'!$N489,\"-\",TEXT('4. Shpenzimet'!$O489,\"dd/mm/yyyy\")),\"\")","v":""}]
[{"$f":"IF(B490=\"\",\"\",MAX(A$18:A489)+1)","v":""},{"$f":"IF($C490=Referenca!$J$3,CONCATENATE('4. Shpenzimet'!$M490,\"-\",'4. Shpenzimet'!$N490,\"-\",TEXT('4. Shpenzimet'!$O490,\"dd/mm/yyyy\")),\"\")","v":""}]
[{"$f":"IF(B491=\"\",\"\",MAX(A$18:A490)+1)","v":""},{"$f":"IF($C491=Referenca!$J$3,CONCATENATE('4. Shpenzimet'!$M491,\"-\",'4. Shpenzimet'!$N491,\"-\",TEXT('4. Shpenzimet'!$O491,\"dd/mm/yyyy\")),\"\")","v":""}]
[{"$f":"IF(B492=\"\",\"\",MAX(A$18:A491)+1)","v":""},{"$f":"IF($C492=Referenca!$J$3,CONCATENATE('4. Shpenzimet'!$M492,\"-\",'4. Shpenzimet'!$N492,\"-\",TEXT('4. Shpenzimet'!$O492,\"dd/mm/yyyy\")),\"\")","v":""}]
[{"$f":"IF(B493=\"\",\"\",MAX(A$18:A492)+1)","v":""},{"$f":"IF($C493=Referenca!$J$3,CONCATENATE('4. Shpenzimet'!$M493,\"-\",'4. Shpenzimet'!$N493,\"-\",TEXT('4. Shpenzimet'!$O493,\"dd/mm/yyyy\")),\"\")","v":""}]
[{"$f":"IF(B494=\"\",\"\",MAX(A$18:A493)+1)","v":""},{"$f":"IF($C494=Referenca!$J$3,CONCATENATE('4. Shpenzimet'!$M494,\"-\",'4. Shpenzimet'!$N494,\"-\",TEXT('4. Shpenzimet'!$O494,\"dd/mm/yyyy\")),\"\")","v":""}]
[{"$f":"IF(B495=\"\",\"\",MAX(A$18:A494)+1)","v":""},{"$f":"IF($C495=Referenca!$J$3,CONCATENATE('4. Shpenzimet'!$M495,\"-\",'4. Shpenzimet'!$N495,\"-\",TEXT('4. Shpenzimet'!$O495,\"dd/mm/yyyy\")),\"\")","v":""}]
[{"$f":"IF(B496=\"\",\"\",MAX(A$18:A495)+1)","v":""},{"$f":"IF($C496=Referenca!$J$3,CONCATENATE('4. Shpenzimet'!$M496,\"-\",'4. Shpenzimet'!$N496,\"-\",TEXT('4. Shpenzimet'!$O496,\"dd/mm/yyyy\")),\"\")","v":""}]
[{"$f":"IF(B497=\"\",\"\",MAX(A$18:A496)+1)","v":""},{"$f":"IF($C497=Referenca!$J$3,CONCATENATE('4. Shpenzimet'!$M497,\"-\",'4. Shpenzimet'!$N497,\"-\",TEXT('4. Shpenzimet'!$O497,\"dd/mm/yyyy\")),\"\")","v":""}]
[{"$f":"IF(B498=\"\",\"\",MAX(A$18:A497)+1)","v":""},{"$f":"IF($C498=Referenca!$J$3,CONCATENATE('4. Shpenzimet'!$M498,\"-\",'4. Shpenzimet'!$N498,\"-\",TEXT('4. Shpenzimet'!$O498,\"dd/mm/yyyy\")),\"\")","v":""}]
[{"$f":"IF(B499=\"\",\"\",MAX(A$18:A498)+1)","v":""},{"$f":"IF($C499=Referenca!$J$3,CONCATENATE('4. Shpenzimet'!$M499,\"-\",'4. Shpenzimet'!$N499,\"-\",TEXT('4. Shpenzimet'!$O499,\"dd/mm/yyyy\")),\"\")","v":""}]
[{"$f":"IF(B500=\"\",\"\",MAX(A$18:A499)+1)","v":""},{"$f":"IF($C500=Referenca!$J$3,CONCATENATE('4. Shpenzimet'!$M500,\"-\",'4. Shpenzimet'!$N500,\"-\",TEXT('4. Shpenzimet'!$O500,\"dd/mm/yyyy\")),\"\")","v":""}]
[{"$f":"IF(B501=\"\",\"\",MAX(A$18:A500)+1)","v":""},{"$f":"IF($C501=Referenca!$J$3,CONCATENATE('4. Shpenzimet'!$M501,\"-\",'4. Shpenzimet'!$N501,\"-\",TEXT('4. Shpenzimet'!$O501,\"dd/mm/yyyy\")),\"\")","v":""}]
[{"$f":"IF(B502=\"\",\"\",MAX(A$18:A501)+1)","v":""},{"$f":"IF($C502=Referenca!$J$3,CONCATENATE('4. Shpenzimet'!$M502,\"-\",'4. Shpenzimet'!$N502,\"-\",TEXT('4. Shpenzimet'!$O502,\"dd/mm/yyyy\")),\"\")","v":""}]
[{"$f":"IF(B503=\"\",\"\",MAX(A$18:A502)+1)","v":""},{"$f":"IF($C503=Referenca!$J$3,CONCATENATE('4. Shpenzimet'!$M503,\"-\",'4. Shpenzimet'!$N503,\"-\",TEXT('4. Shpenzimet'!$O503,\"dd/mm/yyyy\")),\"\")","v":""}]
[{"$f":"IF(B504=\"\",\"\",MAX(A$18:A503)+1)","v":""},{"$f":"IF($C504=Referenca!$J$3,CONCATENATE('4. Shpenzimet'!$M504,\"-\",'4. Shpenzimet'!$N504,\"-\",TEXT('4. Shpenzimet'!$O504,\"dd/mm/yyyy\")),\"\")","v":""}]
[{"$f":"IF(B505=\"\",\"\",MAX(A$18:A504)+1)","v":""},{"$f":"IF($C505=Referenca!$J$3,CONCATENATE('4. Shpenzimet'!$M505,\"-\",'4. Shpenzimet'!$N505,\"-\",TEXT('4. Shpenzimet'!$O505,\"dd/mm/yyyy\")),\"\")","v":""}]
[{"$f":"IF(B506=\"\",\"\",MAX(A$18:A505)+1)","v":""},{"$f":"IF($C506=Referenca!$J$3,CONCATENATE('4. Shpenzimet'!$M506,\"-\",'4. Shpenzimet'!$N506,\"-\",TEXT('4. Shpenzimet'!$O506,\"dd/mm/yyyy\")),\"\")","v":""}]
[{"$f":"IF(B507=\"\",\"\",MAX(A$18:A506)+1)","v":""},{"$f":"IF($C507=Referenca!$J$3,CONCATENATE('4. Shpenzimet'!$M507,\"-\",'4. Shpenzimet'!$N507,\"-\",TEXT('4. Shpenzimet'!$O507,\"dd/mm/yyyy\")),\"\")","v":""}]
[{"$f":"IF(B508=\"\",\"\",MAX(A$18:A507)+1)","v":""},{"$f":"IF($C508=Referenca!$J$3,CONCATENATE('4. Shpenzimet'!$M508,\"-\",'4. Shpenzimet'!$N508,\"-\",TEXT('4. Shpenzimet'!$O508,\"dd/mm/yyyy\")),\"\")","v":""}]
[{"$f":"IF(B509=\"\",\"\",MAX(A$18:A508)+1)","v":""},{"$f":"IF($C509=Referenca!$J$3,CONCATENATE('4. Shpenzimet'!$M509,\"-\",'4. Shpenzimet'!$N509,\"-\",TEXT('4. Shpenzimet'!$O509,\"dd/mm/yyyy\")),\"\")","v":""}]
[{"$f":"IF(B510=\"\",\"\",MAX(A$18:A509)+1)","v":""},{"$f":"IF($C510=Referenca!$J$3,CONCATENATE('4. Shpenzimet'!$M510,\"-\",'4. Shpenzimet'!$N510,\"-\",TEXT('4. Shpenzimet'!$O510,\"dd/mm/yyyy\")),\"\")","v":""}]
[{"$f":"IF(B511=\"\",\"\",MAX(A$18:A510)+1)","v":""},{"$f":"IF($C511=Referenca!$J$3,CONCATENATE('4. Shpenzimet'!$M511,\"-\",'4. Shpenzimet'!$N511,\"-\",TEXT('4. Shpenzimet'!$O511,\"dd/mm/yyyy\")),\"\")","v":""}]
[{"$f":"IF(B512=\"\",\"\",MAX(A$18:A511)+1)","v":""},{"$f":"IF($C512=Referenca!$J$3,CONCATENATE('4. Shpenzimet'!$M512,\"-\",'4. Shpenzimet'!$N512,\"-\",TEXT('4. Shpenzimet'!$O512,\"dd/mm/yyyy\")),\"\")","v":""}]
[{"$f":"IF(B513=\"\",\"\",MAX(A$18:A512)+1)","v":""},{"$f":"IF($C513=Referenca!$J$3,CONCATENATE('4. Shpenzimet'!$M513,\"-\",'4. Shpenzimet'!$N513,\"-\",TEXT('4. Shpenzimet'!$O513,\"dd/mm/yyyy\")),\"\")","v":""}]
[{"$f":"IF(B514=\"\",\"\",MAX(A$18:A513)+1)","v":""},{"$f":"IF($C514=Referenca!$J$3,CONCATENATE('4. Shpenzimet'!$M514,\"-\",'4. Shpenzimet'!$N514,\"-\",TEXT('4. Shpenzimet'!$O514,\"dd/mm/yyyy\")),\"\")","v":""}]
[{"$f":"IF(B515=\"\",\"\",MAX(A$18:A514)+1)","v":""},{"$f":"IF($C515=Referenca!$J$3,CONCATENATE('4. Shpenzimet'!$M515,\"-\",'4. Shpenzimet'!$N515,\"-\",TEXT('4. Shpenzimet'!$O515,\"dd/mm/yyyy\")),\"\")","v":""}]
[{"$f":"IF(B516=\"\",\"\",MAX(A$18:A515)+1)","v":""},{"$f":"IF($C516=Referenca!$J$3,CONCATENATE('4. Shpenzimet'!$M516,\"-\",'4. Shpenzimet'!$N516,\"-\",TEXT('4. Shpenzimet'!$O516,\"dd/mm/yyyy\")),\"\")","v":""}]
[{"$f":"IF(B517=\"\",\"\",MAX(A$18:A516)+1)","v":""},{"$f":"IF($C517=Referenca!$J$3,CONCATENATE('4. Shpenzimet'!$M517,\"-\",'4. Shpenzimet'!$N517,\"-\",TEXT('4. Shpenzimet'!$O517,\"dd/mm/yyyy\")),\"\")","v":""}]
[{"$f":"IF(B518=\"\",\"\",MAX(A$18:A517)+1)","v":""},{"$f":"IF($C518=Referenca!$J$3,CONCATENATE('4. Shpenzimet'!$M518,\"-\",'4. Shpenzimet'!$N518,\"-\",TEXT('4. Shpenzimet'!$O518,\"dd/mm/yyyy\")),\"\")","v":""}]
[{"$f":"IF(B519=\"\",\"\",MAX(A$18:A518)+1)","v":""},{"$f":"IF($C519=Referenca!$J$3,CONCATENATE('4. Shpenzimet'!$M519,\"-\",'4. Shpenzimet'!$N519,\"-\",TEXT('4. Shpenzimet'!$O519,\"dd/mm/yyyy\")),\"\")","v":""}]
[{"$f":"IF(B520=\"\",\"\",MAX(A$18:A519)+1)","v":""},{"$f":"IF($C520=Referenca!$J$3,CONCATENATE('4. Shpenzimet'!$M520,\"-\",'4. Shpenzimet'!$N520,\"-\",TEXT('4. Shpenzimet'!$O520,\"dd/mm/yyyy\")),\"\")","v":""}]
[{"$f":"IF(B521=\"\",\"\",MAX(A$18:A520)+1)","v":""},{"$f":"IF($C521=Referenca!$J$3,CONCATENATE('4. Shpenzimet'!$M521,\"-\",'4. Shpenzimet'!$N521,\"-\",TEXT('4. Shpenzimet'!$O521,\"dd/mm/yyyy\")),\"\")","v":""}]
[{"$f":"IF(B522=\"\",\"\",MAX(A$18:A521)+1)","v":""},{"$f":"IF($C522=Referenca!$J$3,CONCATENATE('4. Shpenzimet'!$M522,\"-\",'4. Shpenzimet'!$N522,\"-\",TEXT('4. Shpenzimet'!$O522,\"dd/mm/yyyy\")),\"\")","v":""}]
[{"$f":"IF(B523=\"\",\"\",MAX(A$18:A522)+1)","v":""},{"$f":"IF($C523=Referenca!$J$3,CONCATENATE('4. Shpenzimet'!$M523,\"-\",'4. Shpenzimet'!$N523,\"-\",TEXT('4. Shpenzimet'!$O523,\"dd/mm/yyyy\")),\"\")","v":""}]
[{"$f":"IF(B524=\"\",\"\",MAX(A$18:A523)+1)","v":""},{"$f":"IF($C524=Referenca!$J$3,CONCATENATE('4. Shpenzimet'!$M524,\"-\",'4. Shpenzimet'!$N524,\"-\",TEXT('4. Shpenzimet'!$O524,\"dd/mm/yyyy\")),\"\")","v":""}]
[{"$f":"IF(B525=\"\",\"\",MAX(A$18:A524)+1)","v":""},{"$f":"IF($C525=Referenca!$J$3,CONCATENATE('4. Shpenzimet'!$M525,\"-\",'4. Shpenzimet'!$N525,\"-\",TEXT('4. Shpenzimet'!$O525,\"dd/mm/yyyy\")),\"\")","v":""}]
[{"$f":"IF(B526=\"\",\"\",MAX(A$18:A525)+1)","v":""},{"$f":"IF($C526=Referenca!$J$3,CONCATENATE('4. Shpenzimet'!$M526,\"-\",'4. Shpenzimet'!$N526,\"-\",TEXT('4. Shpenzimet'!$O526,\"dd/mm/yyyy\")),\"\")","v":""}]
[{"$f":"IF(B527=\"\",\"\",MAX(A$18:A526)+1)","v":""},{"$f":"IF($C527=Referenca!$J$3,CONCATENATE('4. Shpenzimet'!$M527,\"-\",'4. Shpenzimet'!$N527,\"-\",TEXT('4. Shpenzimet'!$O527,\"dd/mm/yyyy\")),\"\")","v":""}]
[{"$f":"IF(B528=\"\",\"\",MAX(A$18:A527)+1)","v":""},{"$f":"IF($C528=Referenca!$J$3,CONCATENATE('4. Shpenzimet'!$M528,\"-\",'4. Shpenzimet'!$N528,\"-\",TEXT('4. Shpenzimet'!$O528,\"dd/mm/yyyy\")),\"\")","v":""}]
[{"$f":"IF(B529=\"\",\"\",MAX(A$18:A528)+1)","v":""},{"$f":"IF($C529=Referenca!$J$3,CONCATENATE('4. Shpenzimet'!$M529,\"-\",'4. Shpenzimet'!$N529,\"-\",TEXT('4. Shpenzimet'!$O529,\"dd/mm/yyyy\")),\"\")","v":""}]
[{"$f":"IF(B530=\"\",\"\",MAX(A$18:A529)+1)","v":""},{"$f":"IF($C530=Referenca!$J$3,CONCATENATE('4. Shpenzimet'!$M530,\"-\",'4. Shpenzimet'!$N530,\"-\",TEXT('4. Shpenzimet'!$O530,\"dd/mm/yyyy\")),\"\")","v":""}]
[{"$f":"IF(B531=\"\",\"\",MAX(A$18:A530)+1)","v":""},{"$f":"IF($C531=Referenca!$J$3,CONCATENATE('4. Shpenzimet'!$M531,\"-\",'4. Shpenzimet'!$N531,\"-\",TEXT('4. Shpenzimet'!$O531,\"dd/mm/yyyy\")),\"\")","v":""}]
[{"$f":"IF(B532=\"\",\"\",MAX(A$18:A531)+1)","v":""},{"$f":"IF($C532=Referenca!$J$3,CONCATENATE('4. Shpenzimet'!$M532,\"-\",'4. Shpenzimet'!$N532,\"-\",TEXT('4. Shpenzimet'!$O532,\"dd/mm/yyyy\")),\"\")","v":""}]
[{"$f":"IF(B533=\"\",\"\",MAX(A$18:A532)+1)","v":""},{"$f":"IF($C533=Referenca!$J$3,CONCATENATE('4. Shpenzimet'!$M533,\"-\",'4. Shpenzimet'!$N533,\"-\",TEXT('4. Shpenzimet'!$O533,\"dd/mm/yyyy\")),\"\")","v":""}]
[{"$f":"IF(B534=\"\",\"\",MAX(A$18:A533)+1)","v":""},{"$f":"IF($C534=Referenca!$J$3,CONCATENATE('4. Shpenzimet'!$M534,\"-\",'4. Shpenzimet'!$N534,\"-\",TEXT('4. Shpenzimet'!$O534,\"dd/mm/yyyy\")),\"\")","v":""}]
[{"$f":"IF(B535=\"\",\"\",MAX(A$18:A534)+1)","v":""},{"$f":"IF($C535=Referenca!$J$3,CONCATENATE('4. Shpenzimet'!$M535,\"-\",'4. Shpenzimet'!$N535,\"-\",TEXT('4. Shpenzimet'!$O535,\"dd/mm/yyyy\")),\"\")","v":""}]
[{"$f":"IF(B536=\"\",\"\",MAX(A$18:A535)+1)","v":""},{"$f":"IF($C536=Referenca!$J$3,CONCATENATE('4. Shpenzimet'!$M536,\"-\",'4. Shpenzimet'!$N536,\"-\",TEXT('4. Shpenzimet'!$O536,\"dd/mm/yyyy\")),\"\")","v":""}]
[{"$f":"IF(B537=\"\",\"\",MAX(A$18:A536)+1)","v":""},{"$f":"IF($C537=Referenca!$J$3,CONCATENATE('4. Shpenzimet'!$M537,\"-\",'4. Shpenzimet'!$N537,\"-\",TEXT('4. Shpenzimet'!$O537,\"dd/mm/yyyy\")),\"\")","v":""}]
[{"$f":"IF(B538=\"\",\"\",MAX(A$18:A537)+1)","v":""},{"$f":"IF($C538=Referenca!$J$3,CONCATENATE('4. Shpenzimet'!$M538,\"-\",'4. Shpenzimet'!$N538,\"-\",TEXT('4. Shpenzimet'!$O538,\"dd/mm/yyyy\")),\"\")","v":""}]
[{"$f":"IF(B539=\"\",\"\",MAX(A$18:A538)+1)","v":""},{"$f":"IF($C539=Referenca!$J$3,CONCATENATE('4. Shpenzimet'!$M539,\"-\",'4. Shpenzimet'!$N539,\"-\",TEXT('4. Shpenzimet'!$O539,\"dd/mm/yyyy\")),\"\")","v":""}]
[{"$f":"IF(B540=\"\",\"\",MAX(A$18:A539)+1)","v":""},{"$f":"IF($C540=Referenca!$J$3,CONCATENATE('4. Shpenzimet'!$M540,\"-\",'4. Shpenzimet'!$N540,\"-\",TEXT('4. Shpenzimet'!$O540,\"dd/mm/yyyy\")),\"\")","v":""}]
[{"$f":"IF(B541=\"\",\"\",MAX(A$18:A540)+1)","v":""},{"$f":"IF($C541=Referenca!$J$3,CONCATENATE('4. Shpenzimet'!$M541,\"-\",'4. Shpenzimet'!$N541,\"-\",TEXT('4. Shpenzimet'!$O541,\"dd/mm/yyyy\")),\"\")","v":""}]
[{"$f":"IF(B542=\"\",\"\",MAX(A$18:A541)+1)","v":""},{"$f":"IF($C542=Referenca!$J$3,CONCATENATE('4. Shpenzimet'!$M542,\"-\",'4. Shpenzimet'!$N542,\"-\",TEXT('4. Shpenzimet'!$O542,\"dd/mm/yyyy\")),\"\")","v":""}]
[{"$f":"IF(B543=\"\",\"\",MAX(A$18:A542)+1)","v":""},{"$f":"IF($C543=Referenca!$J$3,CONCATENATE('4. Shpenzimet'!$M543,\"-\",'4. Shpenzimet'!$N543,\"-\",TEXT('4. Shpenzimet'!$O543,\"dd/mm/yyyy\")),\"\")","v":""}]
[{"$f":"IF(B544=\"\",\"\",MAX(A$18:A543)+1)","v":""},{"$f":"IF($C544=Referenca!$J$3,CONCATENATE('4. Shpenzimet'!$M544,\"-\",'4. Shpenzimet'!$N544,\"-\",TEXT('4. Shpenzimet'!$O544,\"dd/mm/yyyy\")),\"\")","v":""}]
[{"$f":"IF(B545=\"\",\"\",MAX(A$18:A544)+1)","v":""},{"$f":"IF($C545=Referenca!$J$3,CONCATENATE('4. Shpenzimet'!$M545,\"-\",'4. Shpenzimet'!$N545,\"-\",TEXT('4. Shpenzimet'!$O545,\"dd/mm/yyyy\")),\"\")","v":""}]
[{"$f":"IF(B546=\"\",\"\",MAX(A$18:A545)+1)","v":""},{"$f":"IF($C546=Referenca!$J$3,CONCATENATE('4. Shpenzimet'!$M546,\"-\",'4. Shpenzimet'!$N546,\"-\",TEXT('4. Shpenzimet'!$O546,\"dd/mm/yyyy\")),\"\")","v":""}]
[{"$f":"IF(B547=\"\",\"\",MAX(A$18:A546)+1)","v":""},{"$f":"IF($C547=Referenca!$J$3,CONCATENATE('4. Shpenzimet'!$M547,\"-\",'4. Shpenzimet'!$N547,\"-\",TEXT('4. Shpenzimet'!$O547,\"dd/mm/yyyy\")),\"\")","v":""}]
[{"$f":"IF(B548=\"\",\"\",MAX(A$18:A547)+1)","v":""},{"$f":"IF($C548=Referenca!$J$3,CONCATENATE('4. Shpenzimet'!$M548,\"-\",'4. Shpenzimet'!$N548,\"-\",TEXT('4. Shpenzimet'!$O548,\"dd/mm/yyyy\")),\"\")","v":""}]
[{"$f":"IF(B549=\"\",\"\",MAX(A$18:A548)+1)","v":""},{"$f":"IF($C549=Referenca!$J$3,CONCATENATE('4. Shpenzimet'!$M549,\"-\",'4. Shpenzimet'!$N549,\"-\",TEXT('4. Shpenzimet'!$O549,\"dd/mm/yyyy\")),\"\")","v":""}]
[{"$f":"IF(B550=\"\",\"\",MAX(A$18:A549)+1)","v":""},{"$f":"IF($C550=Referenca!$J$3,CONCATENATE('4. Shpenzimet'!$M550,\"-\",'4. Shpenzimet'!$N550,\"-\",TEXT('4. Shpenzimet'!$O550,\"dd/mm/yyyy\")),\"\")","v":""}]
[]
[]
[]
[]
[]
[]
[]
[]
[]
[]
[]
[]
[]
[]
[]
[]
[]
[]
[]
[]
[]
[]
[]
[]
[]
[]
[]
[]
[]
[]
[]
[]
[]
[]
[]
[]
[]
[]
[]
[]
[]
[]
[]
[]
[]
[]
[]
[]
[]
[]
[]
[]
[]
[]
[]
[]
[]
[]
[]
[]
[]
[]
[]
[]
[]
[]
[]
[]
[]
[]
[]
[]
[]
[]
[]
[]
[]
[]
[]
[]
[]
[]
[]
[]
[]
[]
[]
[]
[]
[]
[]
[]
[]
[]
[]
[]
[]
[]
[]
[]
[]
[]
[]
[]
[]
[]
[]
[]
[]
[]
[]
[]
[]
[]
[]
[]
[]
[]
[]
[]
[]
[]
[]
[]
[]
[]
[]
[]
[]
[]
[]
[]
[]
[]
[]
[]
[]
[]
[]
[]
[]
[]
[]
[]
[]
[]
[]
[]
[]
[]
[]
[]
[]
[]
[]
[]
[]
[]
[]
[]
[]
[]
[]
[]
[]
[]
[]
[]
[]
[]
[]
[]
[]
[]
[]
[]
[]
[]
[]
[]
[]
[]
[]
[]
[]
[]
[]
[]
[]
[]
[]
[]
[]
[]
[]
[]
[]
[]
[]
[]
[]
[]
[]
[]
[]
[]
[]
[]
[]
[]
[]
[]
[]
[]
[]
[]
[]
[]
[]
[]
[]
[]
[]
[]
[]
[]
[]
[]
[]
[]
[]
[]
[]
[]
[]
[]
[]
[]
[]
[]
[]
[]
[]
[]
[]
[]
[]
[]
[]
[]
[]
[]
[]
[]
[]
[]
[]
[]
[]
[]
[]
[]
[]
[]
[]
[]
[]
[]
[]
[]
[]
[]
[]
[]
[]
[]
[]
[]
[]
[]
[]
[]
[]
[]
[]
[]
[]
[]
[]
[]
[]
[]
[]
[]
[]
[]
[]
[]
[]
[]
[]
[]
[]
[]
[]
[]
[]
[]
[]
[]
[]
[]
[]
[]
[]
[]
[]
[]
[]
[]
[]
[]
[]
[]
[]
[]
[]
[]
[]
[]
[]
[]
[]
[]
[]
[]
[]
[]
[]
[]
[]
[]
[]
[]
[]
[]
[]
[]
[]
[]
[]
[]
[]
[]
[]
[]
[]
[]
[]
[]
[]
[]
[]
[]
[]
[]
[]
[]
[]
[]
[]
[]
[]
[]
[]
[]
[]
[]
[]
[]
[]
[]
[]
[]
[]
[]
[]
[]
[]
[]
[]
[]
[]
[]
[]
[]
[]
[]
[]
[]
[]
[]
[]
[]
[]
[]
[]
[]
[]
[]
[]
[]
[]
[]
[]
[]
[]
[]
[]
[]
[]
[]
[]
[]
[]
[]
[]
[]
[]
[]
[]
[]
[]
[]
[]
[]
[]
[]
[]
[]
[]
[]
[]
[]
[]
[]
[]
[]
[]
[]
[]
[]
[]
[]
[]
[]
[]
[]
[]
[]
[]
[]
[]
[]
[]
[]
[]
[]
[]
[]
[]
[]
[]
[]
[]
[]
[]
[]
[]
[]
[]
[]
[]
[]
[]
[]
[]
[]
[]
[]
[]
[]
[]
[]
[]
[]
[]
[]
[]
[]
[]
[]
[]
[]
[]
[]
[]
[]
[]
[]
[]
[]
[]
[]
[]
[]
[]
[]
[]
[]
[]
[]
[]
[]
[]
[]
[]
[]
[]
[]
[]
[]
[]
[]
[]
[]
[]
[]
[]
[]
[]
[]
[]
[]
[]
[]
[]
[]
[]
[]
[]
[]
[]
[]
[]
[]
[]
[]
[]
[]
[]
[]
[]
[]
[]
[]
[]
[]
[]
[]
[]
[]
[]
[]
[]
[]
[]
[]
[]
[]
[]
[]
[]
[]
[]
[]
[]
[]
[]
[]
[]
[]
[]
[]
[]
[]
[]
[]
[]
[]
[]
[]
[]
[]
[]
[]
[]
[]
[]
[]
[]
[]
[]
[]
[]
[]
[]
[]
[]
[]
[]
[]
[]
[]
[]
[]
[]
[]
[]
[]
[]
[]
[]
[]
[]
[]
[]
[]
[]
[]
[]
[]
[]
[]
[]
[]
[]
[]
[]
[]
[]
[]
[]
[]
[]
[]
[]
[]
[]
[]
[]
[]
[]
[]
[]
[]
[]
[]
[]
[]
[]
[]
[]
[]
[]
[]
[]
[]
[]
[]
[]
[]
[]
[]
[]
[]
[]
[]
[]
[]
[]
[]
[]
[]
[]
[]
[]
[]
[]
[]
[]
[]
[]
[]
[]
[]
[]
[]
[]
[]
[]
[]
[]
[]
[]
[]
[]
[]
[]
[]
[]
[]
[]
[]
[]
[]
[]
[]
[]
[]
[]
[]
[]
[]
[]
[]
[]
[]
[]
[]
[]
[]
[]
[]
[]
[]
[]
[]
[]
[]
[]
[]
[]
[]
[]
[]
[]
[]
[]
[]
[]
[]
[]
[]
[]
[]
[]
[]
[]
[]
[]
[]
[]
[]
[]
[]
[]
[]
[]
[]
[]
[]
[]
[]
[]
[]
[]
[]
[]
[]
[]
[]
[]
[]
[]
[]
[]
[]
[]
[]
[]
[]
[]
[]
[]
[]
[]
[]
[]
[]
[]
[]
[]
[]
[]
[]
[]
[]
[]
[]
[]
[]
[]
[]
[]
[]
[]
[]
[]
[]
[]
[]
[]
[]
[]
[]
[]
[]
[]
[]
[]
[]
[]
[]
[]
[]
[]
[]
[]
[]
[]
[]
[]
[]
[]
[]
[]
[]
[]
[]
[]
[]
[]
[]
[]
[]
[]
[]
[]
[]
[]
[]
[]
[]
[]
[]
[]
[]
[]
[]
[]
[]
[]
[]
[]
[]
[]
[]
[]
[]
[]
[]
[]
[]
[]
[]
[]
[]
[]
[]
[]
[]
[]
[]
[]
[]
[]
[]
[]
[]
[]
[]
[]
[]
[]
[]
[]
[]
[]
[]
[]
[]
[]
[]
[]
[]
[]
[]
[]
[]
[]
[]
[]
[]
[]
[]
[]
[]
[]
[]
[]
[]
[]
[]
[]
[]
[]
[]
[]
[]
[]
[]
[]
[]
[]
[]
[]
[]
[]
[]
[]
[]
[]
[]
[]
[]
[]
[]
[]
[]
[]
[]
[]
[]
[]
[]
[]
[]
[]
[]
[]
[]
[]
[]
[]
[]
[]
[]
[]
[]
[]
[]
[]
[]
[]
[]
[]
[]
[]
[]
[]
[]
[]
[]
[]
[]
[]
[]
[]
[]
[]
[]
[]
[]
[]
[]
[]
[]
[]
[]
[]
[]
[]
[]
[]
[]
[]
[]
[]
[]
[]
[]
[]
[]
[]
[]
[]
[]
[]
[]
[]
[]
[]
[]
[]
[]
[]
[]
[]
[]
[]
[]
[]
[]
[]
[]
[]
[]
[]
[]
[]
[]
[]
[]
[]
[]
[]
[]
[]
[]
[]
[]
[]
[]
[]
[]
[]
[]
[]
[]
[]
[]
[]
[]
[]
[]
[]
[]
[]
[]
[]
[]
[]
[]
[]
[]
[]
[]
[]
[]
[]
[]
[]
[]
[]
[]
[]
[]
[]
[]
[]
[]
[]
[]
[]
[]
[]
[]
[]
[]
[]
[]
[]
[]
[]
[]
[]
[]
[]
[]
[]
[]
[]
[]
[]
[]
[]
[]
[]
[]
[]
[]
[]
[]
[]
[]
[]
[]
[]
[]
[]
[]
[]
[]
[]
[]
[]
[]
[]
[]
[]
[]
[]
[]
[]
[]
[]
[]
[]
[]
[]
[]
[]
[]
[]
[]
[]
[]
[]
[]
[]
[]
[]
[]
[]
[]
[]
[]
[]
[]
[]
[]
[]
[]
[]
[]
[]
[]
[]
[]
[]
[]
[]
[]
[]
[]
[]
[]
[]
[]
[]
[]
[]
[]
[]
[]
[]
[]
[]
[]
[]
[]
[]
[]
[]
[]
[]
[]
[]
[]
[]
[]
[]
[]
[]
[]
[]
[]
[]
[]
[]
[]
[]
[]
[]
[]
[]
[]
[]
[]
[]
[]
[]
[]
[]
[]
[]
[]
[]
[]
[]
[]
[]
[]
[]
[]
[]
[]
[]
[]
[]
[]
[]
[]
[]
[]
[]
[]
[]
[]
[]
[]
[]
[]
[]
[]
[]
[]
[]
[]
[]
[]
[]
[]
[]
[]
[]
[]
[]
[]
[]
[]
[]
[]
[]
[]
[]
[]
[]
[]
[]
[]
[]
[]
[]
[]
[]
[]
[]
[]
[]
[]
[]
[]
[]
[]
[]
[]
[]
[]
[]
[]
[]
[]
[]
[]
[]
[]
[]
[]
[]
[]
[]
[]
[]
[]
[]
[]
[]
[]
[]
[]
[]
[]
[]
[]
[]
[]
[]
[]
[]
[]
[]
[]
[]
[]
[]
[]
[]
[]
[]
[]
[]
[]
[]
[]
[]
[]
[]
[]
[]
[]
[]
[]
[]
[]
[]
[]
[]
[]
[]
[]
[]
[]
[]
[]
[]
[]
[]
[]
[]
[]
[]
[]
[]
[]
[]
[]
[]
[]
[]
[]
[]
[]
[]
[]
[]
[]
[]
[]
[]
[]
[]
[]
[]
[]
[]
[]
[]
[]
[]
[]
[]
[]
[]
[]
[]
[]
[]
[]
[]
[]
[]
[]
[]
[]
[]
[]
[]
[]
[]
[]
[]
[]
[]
[]
[]
[]
[]
[]
[]
[]
[]
[]
[]
[]
[]
[]
[]
[]
[]
[]
[]
[]
[]
[]
[]
[]
[]
[]
[]
[]
[]
[]
[]
[]
[]
[]
[]
[]
[]
[]
[]
[]
[]
[]
[]
[]
[]
[]
[]
[]
[]
[]
[]
[]
[]
[]
[]
[]
[]
[]
[]
[]
[]
[]
[]
[]
[]
[]
[]
[]
[]
[]
[]
[]
[]
[]
[]
[]
[]
[]
[]
[]
[]
[]
[]
[]
[]
[]
[]
[]
[]
[]
[]
[]
[]
[]
[]
[]
[]
[]
[]
[]
[]
[]
[]
[]
[]
[]
[]
[]
[]
[]
[]
[]
[]
[]
[]
[]
[]
[]
[]
[]
[]
[]
[]
[]
[]
[]
[]
[]
[]
[]
[]
[]
[]
[]
[]
[]
[]
[]
[]
[]
[]
[]
[]
[]
[]
[]
[]
[]
[]
[]
[]
[]
[]
[]
[]
[]
[]
[]
[]
[]
[]
[]
[]
[]
[]
[]
[]
[]
[]
[]
[]
[]
[]
[]
[]
[]
[]
[]
[]
[]
[]
[]
[]
[]
[]
[]
[]
[]
[]
[]
[]
[]
[]
[]
[]
[]
[]
[]
[]
[]
[]
[]
[]
[]
[]
[]
[]
[]
[]
[]
[]
[]
[]
[]
[]
[]
[]
[]
[]
[]
[]
[]
[]
[]
[]
[]
[]
[]
[]
[]
[]
[]
[]
[]
[]
[]
[]
[]
[]
[]
[]
[]
[]
[]
[]
[]
[]
[]
[]
[]
[]
[]
[]
[]
[]
[]
[]
[]
[]
[]
[]
[]
[]
[]
[]
[]
[]
[]
[]
[]
[]
[null,null,"Shpenzime zyre elektorale"]
[null,null,"Shpenzime zyre elektorale"]
[null,null,"Shpenzimet administrative"]

{"sheet":"5. Shpenzimet për mitingje","index":7,"n_rows":162,"n_cols":3,"rows_kept":162,"cut":false,"hidden":false,"merged":[[20,0,20,1],[15,2,15,3],[16,2,16,3],[17,2,17,3],[18,2,18,3]]}
[]
[]
[]
[]
[]
[]
[]
[null,"REPUBLIKA E SHQIPËRISË\n"]
[null,"KOMISIONI QENDROR I ZGJEDHJEVE"]
[]
[]
["Emri i Kandidatit",null,"Bashkia"]
[]
[]
["5. Shpenzimet për mitingjet e fushatës (pasqyrë)"]
[]
[]
[]
[]
[]
[{"$f":"\"Ju lutemi konfirmoni nëse nuk keni gjë për të raportuar \"&A15","v":"Ju lutemi konfirmoni nëse nuk keni gjë për të raportuar 5. Shpenzimet për mitingjet e fushatës (pasqyrë)"}]
[]
["A. Mitingjet e fushatës","B. Kategoritë e shpenzimeve për mitingje","C. Kostoja "]
[]
[]
[]
[""]
[]
[]
[]
[]
[]
[]
[]
[]
[]
[]
[]
[]
[]
[]
[]
[]
[]
[]
[]
[]
[]
[]
[]
[]
[]
[]
[]
[]
[]
[]
[]
[]
[]
["FINANCIERI",null,"APROVUESI"]
[]
[]
["Emër Mbiemër Firmë",null,"Emër Mbiemër Firmë"]
[]
[]
[]
[]
[]
[]
[]
[]
[]
[]
[]
[]
[]
[]
[]
[]
[]
[]
[]
[]
[]
[]
[]
[]
[]
[]
[]
[]
[]
[]
[]
[]
[]
[]
[]
[]
[]
[]
[]
[]
[]
[]
[]
[]
[]
[]
[]
[]
[]
[]
[]
[]
[]
[]
[]
[]
[]
[]
[]
[]
[]
[]
[]
[]
[]
[]
[]
[]
[]
[]
[]
[]
[]
[]
[]
[]
[]
[]
[]
[]
[]
[]
[]
[]
[]
[]
[]
[]
[]
[]
[]
[]
[]
[]
[]
[]
[]
[""]

{"sheet":"Referenca","index":8,"n_rows":200,"n_cols":30,"rows_kept":200,"cut":false,"hidden":false,"merged":[]}
[]
[null,"Lloji_i_zgjedhjeve",null,"Lloji_dhurimit",null,"Statusi_i_dhuruesit",null,"Metoda_e_dhurimit",null,"Lloji_i_shpenzimit",null,"Lloji_i_medias",null,"Po_Jo",null,"Data më e hershme",null,"Marrë_nga",null,"Aktiviteti_që_ka_krijuar_të_ardhura",null,"Të_pa_raportueshme",null,"Kategoria_e_shpenzimit",null,"Kategoria_shpenzimeve_të_fushatës",null,"Listamitingjevedinamike","Kryer_nga","Qarku"]
[null,"Parlamentare",null,"Dhurime monetare",null,"Person fizik",null,"Para në dorë/cash",null,"Mitingje/tubime dhe aktivitete në fushatë","*","TV",null,"Po",null,"2017-01-01",null,"Zyra qendrore",null,"Shtypi i printuar",null,"Të dhënat e mëposhtme",null,"Zërat e shpenzimeve monetare",null,"Shpenzime për vendin/ambjentin",null,{"$f":"IFERROR(INDEX('4. Shpenzimet'!$B$19:$B$550,MATCH(ROW()-ROW($AB$2),'4. Shpenzimet'!$A$19:$A$550,0)),\"\")","v":""},"Zyra qëndrore","Belsh"]
[null,"Lokale",null,"Dhurime në natyrë",null,"Person juridik",null,"Çek bankar",null,"Materiale promocionale",null,"Radio",null,"Jo",null,null,null,"Dega",null,"Shitja e publikimeve",null,"Konfirmoj se nuk kemi zëra për të raportuar",null,"Shpenzime të papaguara",null,"Shpenzime për zbavitje/argëtim",null,{"$f":"IFERROR(INDEX('4. Shpenzimet'!$B$19:$B$550,MATCH(ROW()-ROW($AB$2),'4. Shpenzimet'!$A$19:$A$550,0)),\"\")","v":""},"Dega","Berat"]
[null,null,null,"Të ardhura të krijuara nga subjekti",null,"Entitet juridik",null,"Transfertë bankare",null,"Media","*","Printime",null,null,null,null,null,null,null,"Dhënia me qera",null,null,null,null,null,"Shpenzime për pajisje",null,{"$f":"IFERROR(INDEX('4. Shpenzimet'!$B$19:$B$550,MATCH(ROW()-ROW($AB$2),'4. Shpenzimet'!$A$19:$A$550,0)),\"\")","v":""},null,"Bulqizë"]
[null,null,null,null,null,null,null,"Kartë krediti/debiti",null,"Media sociale",null,"Online",null,null,null,null,null,null,null,"Interesa bankare",null,null,null,"Detyrime financiare",null,"Shpenzime për pije",null,{"$f":"IFERROR(INDEX('4. Shpenzimet'!$B$19:$B$550,MATCH(ROW()-ROW($AB$2),'4. Shpenzimet'!$A$19:$A$550,0)),\"\")","v":""},null,"Cërrik"]
[null,null,null,null,null,null,null,null,null,"Sondazhe",null,null,null,null,null,null,null,null,null,"Kuotat e anëtarësisë",null,null,null,null,null,"Shpenzime për reklama/promocion",null,{"$f":"IFERROR(INDEX('4. Shpenzimet'!$B$19:$B$550,MATCH(ROW()-ROW($AB$2),'4. Shpenzimet'!$A$19:$A$550,0)),\"\")","v":""},null,"Delvinë"]
[null,null,null,null,null,null,null,null,null,"Botime/Publikime",null,null,null,null,null,null,null,null,null,"Transfertë nga llogaritë e partisë",null,null,null,null,null,"Shpenzime për transport",null,{"$f":"IFERROR(INDEX('4. Shpenzimet'!$B$19:$B$550,MATCH(ROW()-ROW($AB$2),'4. Shpenzimet'!$A$19:$A$550,0)),\"\")","v":""},null,"Devoll"]
[null,null,null,null,null,null,null,null,null,"Transporti",null,null,null,null,null,null,null,null,null,"Të tjera (specifikoni në kolonën e fundit)",null,null,null,null,null,"Shpenzime administrative",null,{"$f":"IFERROR(INDEX('4. Shpenzimet'!$B$19:$B$550,MATCH(ROW()-ROW($AB$2),'4. Shpenzimet'!$A$19:$A$550,0)),\"\")","v":""},null,"Dibër"]
[null,null,null,null,null,null,null,null,null,"Konsulenca",null,null,null,null,null,null,null,null,null,null,null,null,null,null,null,null,null,{"$f":"IFERROR(INDEX('4. Shpenzimet'!$B$19:$B$550,MATCH(ROW()-ROW($AB$2),'4. Shpenzimet'!$A$19:$A$550,0)),\"\")","v":""},null,"Divjakë"]
[null,null,null,null,null,null,null,null,null,"Reklamime në natyrë",null,null,null,null,null,null,null,null,null,null,null,null,null,null,null,null,null,{"$f":"IFERROR(INDEX('4. Shpenzimet'!$B$19:$B$550,MATCH(ROW()-ROW($AB$2),'4. Shpenzimet'!$A$19:$A$550,0)),\"\")","v":""},null,"Dropull"]
[null,null,null,null,null,null,null,null,null,"Shpenzime zyre elektorale",null,null,null,null,null,null,null,null,null,null,null,null,null,null,null,null,null,null,null,"Durrës"]
[null,null,null,null,null,null,null,null,null,"Shpenzimet administrative",null,null,null,null,null,null,null,null,null,null,null,null,null,null,null,null,null,{"$f":"IFERROR(INDEX('4. Shpenzimet'!$B$19:$B$550,MATCH(ROW()-ROW($AB$2),'4. Shpenzimet'!$A$19:$A$550,0)),\"\")","v":""},null,"Elbasan"]
[null,null,null,null,null,null,null,null,null,null,null,null,null,null,null,null,null,null,null,null,null,null,null,null,null,null,null,{"$f":"IFERROR(INDEX('4. Shpenzimet'!$B$19:$B$550,MATCH(ROW()-ROW($AB$2),'4. Shpenzimet'!$A$19:$A$550,0)),\"\")","v":""},null,"Fier"]
[null,null,null,null,null,null,null,null,null,null,null,null,null,null,null,null,null,null,null,null,null,null,null,null,null,null,null,{"$f":"IFERROR(INDEX('4. Shpenzimet'!$B$19:$B$550,MATCH(ROW()-ROW($AB$2),'4. Shpenzimet'!$A$19:$A$550,0)),\"\")","v":""},null,"Finiq"]
[null,null,null,null,null,null,null,null,null,null,null,null,null,null,null,null,null,null,null,null,null,null,null,null,null,null,null,{"$f":"IFERROR(INDEX('4. Shpenzimet'!$B$19:$B$550,MATCH(ROW()-ROW($AB$2),'4. Shpenzimet'!$A$19:$A$550,0)),\"\")","v":""},null,"Fushë Arrëz"]
[null,null,null,null,null,null,null,null,null,null,null,null,null,null,null,null,null,null,null,null,null,null,null,null,null,null,null,{"$f":"IFERROR(INDEX('4. Shpenzimet'!$B$19:$B$550,MATCH(ROW()-ROW($AB$2),'4. Shpenzimet'!$A$19:$A$550,0)),\"\")","v":""},null,"Gjirokastër"]
[null,null,null,null,null,null,null,null,null,null,null,null,null,null,null,null,null,null,null,null,null,null,null,null,null,null,null,{"$f":"IFERROR(INDEX('4. Shpenzimet'!$B$19:$B$550,MATCH(ROW()-ROW($AB$2),'4. Shpenzimet'!$A$19:$A$550,0)),\"\")","v":""},null,"Gramsh"]
[null,null,null,null,null,null,null,null,null,null,null,null,null,null,null,null,null,null,null,null,null,null,null,null,null,null,null,{"$f":"IFERROR(INDEX('4. Shpenzimet'!$B$19:$B$550,MATCH(ROW()-ROW($AB$2),'4. Shpenzimet'!$A$19:$A$550,0)),\"\")","v":""},null,"Has"]
[null,null,null,null,null,null,null,null,null,null,null,null,null,null,null,null,null,null,null,null,null,null,null,null,null,null,null,{"$f":"IFERROR(INDEX('4. Shpenzimet'!$B$19:$B$550,MATCH(ROW()-ROW($AB$2),'4. Shpenzimet'!$A$19:$A$550,0)),\"\")","v":""},null,"Himarë"]
[null,null,null,null,null,null,null,null,null,null,null,null,null,null,null,null,null,null,null,null,null,null,null,null,null,null,null,{"$f":"IFERROR(INDEX('4. Shpenzimet'!$B$19:$B$550,MATCH(ROW()-ROW($AB$2),'4. Shpenzimet'!$A$19:$A$550,0)),\"\")","v":""},null,"Kamëz"]
[null,null,null,null,null,null,null,null,null,null,null,null,null,null,null,null,null,null,null,null,null,null,null,null,null,null,null,{"$f":"IFERROR(INDEX('4. Shpenzimet'!$B$19:$B$550,MATCH(ROW()-ROW($AB$2),'4. Shpenzimet'!$A$19:$A$550,0)),\"\")","v":""},null,"Kavajë"]
[null,null,null,null,null,null,null,null,null,null,null,null,null,null,null,null,null,null,null,null,null,null,null,null,null,null,null,{"$f":"IFERROR(INDEX('4. Shpenzimet'!$B$19:$B$550,MATCH(ROW()-ROW($AB$2),'4. Shpenzimet'!$A$19:$A$550,0)),\"\")","v":""},null,"Këlcyrë"]
[null,null,null,null,null,null,null,null,null,null,null,null,null,null,null,null,null,null,null,null,null,null,null,null,null,null,null,{"$f":"IFERROR(INDEX('4. Shpenzimet'!$B$19:$B$550,MATCH(ROW()-ROW($AB$2),'4. Shpenzimet'!$A$19:$A$550,0)),\"\")","v":""},null,"Klos"]
[null,null,null,null,null,null,null,null,null,null,null,null,null,null,null,null,null,null,null,null,null,null,null,null,null,null,null,{"$f":"IFERROR(INDEX('4. Shpenzimet'!$B$19:$B$550,MATCH(ROW()-ROW($AB$2),'4. Shpenzimet'!$A$19:$A$550,0)),\"\")","v":""},null,"Kolonjë"]
[null,null,null,null,null,null,null,null,null,null,null,null,null,null,null,null,null,null,null,null,null,null,null,null,null,null,null,{"$f":"IFERROR(INDEX('4. Shpenzimet'!$B$19:$B$550,MATCH(ROW()-ROW($AB$2),'4. Shpenzimet'!$A$19:$A$550,0)),\"\")","v":""},null,"Konispol"]
[null,null,null,null,null,null,null,null,null,null,null,null,null,null,null,null,null,null,null,null,null,null,null,null,null,null,null,{"$f":"IFERROR(INDEX('4. Shpenzimet'!$B$19:$B$550,MATCH(ROW()-ROW($AB$2),'4. Shpenzimet'!$A$19:$A$550,0)),\"\")","v":""},null,"Korçë"]
[null,null,null,null,null,null,null,null,null,null,null,null,null,null,null,null,null,null,null,null,null,null,null,null,null,null,null,{"$f":"IFERROR(INDEX('4. Shpenzimet'!$B$19:$B$550,MATCH(ROW()-ROW($AB$2),'4. Shpenzimet'!$A$19:$A$550,0)),\"\")","v":""},null,"Krujë"]
[null,null,null,null,null,null,null,null,null,null,null,null,null,null,null,null,null,null,null,null,null,null,null,null,null,null,null,{"$f":"IFERROR(INDEX('4. Shpenzimet'!$B$19:$B$550,MATCH(ROW()-ROW($AB$2),'4. Shpenzimet'!$A$19:$A$550,0)),\"\")","v":""},null,"Kuçovë"]
[null,null,null,null,null,null,null,null,null,null,null,null,null,null,null,null,null,null,null,null,null,null,null,null,null,null,null,{"$f":"IFERROR(INDEX('4. Shpenzimet'!$B$19:$B$550,MATCH(ROW()-ROW($AB$2),'4. Shpenzimet'!$A$19:$A$550,0)),\"\")","v":""},null,"Kukës"]
[null,null,null,null,null,null,null,null,null,null,null,null,null,null,null,null,null,null,null,null,null,null,null,null,null,null,null,{"$f":"IFERROR(INDEX('4. Shpenzimet'!$B$19:$B$550,MATCH(ROW()-ROW($AB$2),'4. Shpenzimet'!$A$19:$A$550,0)),\"\")","v":""},null,"Kurbin"]
[null,null,null,null,null,null,null,null,null,null,null,null,null,null,null,null,null,null,null,null,null,null,null,null,null,null,null,{"$f":"IFERROR(INDEX('4. Shpenzimet'!$B$19:$B$550,MATCH(ROW()-ROW($AB$2),'4. Shpenzimet'!$A$19:$A$550,0)),\"\")","v":""},null,"Lezhë"]
[null,null,null,null,null,null,null,null,null,null,null,null,null,null,null,null,null,null,null,null,null,null,null,null,null,null,null,{"$f":"IFERROR(INDEX('4. Shpenzimet'!$B$19:$B$550,MATCH(ROW()-ROW($AB$2),'4. Shpenzimet'!$A$19:$A$550,0)),\"\")","v":""},null,"Libohovë"]
[null,null,null,null,null,null,null,null,null,null,null,null,null,null,null,null,null,null,null,null,null,null,null,null,null,null,null,{"$f":"IFERROR(INDEX('4. Shpenzimet'!$B$19:$B$550,MATCH(ROW()-ROW($AB$2),'4. Shpenzimet'!$A$19:$A$550,0)),\"\")","v":""},null,"Librazhd"]
[null,null,null,null,null,null,null,null,null,null,null,null,null,null,null,null,null,null,null,null,null,null,null,null,null,null,null,{"$f":"IFERROR(INDEX('4. Shpenzimet'!$B$19:$B$550,MATCH(ROW()-ROW($AB$2),'4. Shpenzimet'!$A$19:$A$550,0)),\"\")","v":""},null,"Lushnjë"]
[null,null,null,null,null,null,null,null,null,null,null,null,null,null,null,null,null,null,null,null,null,null,null,null,null,null,null,{"$f":"IFERROR(INDEX('4. Shpenzimet'!$B$19:$B$550,MATCH(ROW()-ROW($AB$2),'4. Shpenzimet'!$A$19:$A$550,0)),\"\")","v":""},null,"Malësi e Madhe"]
[null,null,null,null,null,null,null,null,null,null,null,null,null,null,null,null,null,null,null,null,null,null,null,null,null,null,null,{"$f":"IFERROR(INDEX('4. Shpenzimet'!$B$19:$B$550,MATCH(ROW()-ROW($AB$2),'4. Shpenzimet'!$A$19:$A$550,0)),\"\")","v":""},null,"Maliq"]
[null,null,null,null,null,null,null,null,null,null,null,null,null,null,null,null,null,null,null,null,null,null,null,null,null,null,null,{"$f":"IFERROR(INDEX('4. Shpenzimet'!$B$19:$B$550,MATCH(ROW()-ROW($AB$2),'4. Shpenzimet'!$A$19:$A$550,0)),\"\")","v":""},null,"Mallakastër"]
[null,null,null,null,null,null,null,null,null,null,null,null,null,null,null,null,null,null,null,null,null,null,null,null,null,null,null,{"$f":"IFERROR(INDEX('4. Shpenzimet'!$B$19:$B$550,MATCH(ROW()-ROW($AB$2),'4. Shpenzimet'!$A$19:$A$550,0)),\"\")","v":""},null,"Mat"]
[null,null,null,null,null,null,null,null,null,null,null,null,null,null,null,null,null,null,null,null,null,null,null,null,null,null,null,{"$f":"IFERROR(INDEX('4. Shpenzimet'!$B$19:$B$550,MATCH(ROW()-ROW($AB$2),'4. Shpenzimet'!$A$19:$A$550,0)),\"\")","v":""},null,"Memaliaj"]
[null,null,null,null,null,null,null,null,null,null,null,null,null,null,null,null,null,null,null,null,null,null,null,null,null,null,null,{"$f":"IFERROR(INDEX('4. Shpenzimet'!$B$19:$B$550,MATCH(ROW()-ROW($AB$2),'4. Shpenzimet'!$A$19:$A$550,0)),\"\")","v":""},null,"Mirditë"]
[null,null,null,null,null,null,null,null,null,null,null,null,null,null,null,null,null,null,null,null,null,null,null,null,null,null,null,{"$f":"IFERROR(INDEX('4. Shpenzimet'!$B$19:$B$550,MATCH(ROW()-ROW($AB$2),'4. Shpenzimet'!$A$19:$A$550,0)),\"\")","v":""},null,"Patos"]
[null,null,null,null,null,null,null,null,null,null,null,null,null,null,null,null,null,null,null,null,null,null,null,null,null,null,null,{"$f":"IFERROR(INDEX('4. Shpenzimet'!$B$19:$B$550,MATCH(ROW()-ROW($AB$2),'4. Shpenzimet'!$A$19:$A$550,0)),\"\")","v":""},null,"Peqin"]
[null,null,null,null,null,null,null,null,null,null,null,null,null,null,null,null,null,null,null,null,null,null,null,null,null,null,null,{"$f":"IFERROR(INDEX('4. Shpenzimet'!$B$19:$B$550,MATCH(ROW()-ROW($AB$2),'4. Shpenzimet'!$A$19:$A$550,0)),\"\")","v":""},null,"Përmet"]
[null,null,null,null,null,null,null,null,null,null,null,null,null,null,null,null,null,null,null,null,null,null,null,null,null,null,null,{"$f":"IFERROR(INDEX('4. Shpenzimet'!$B$19:$B$550,MATCH(ROW()-ROW($AB$2),'4. Shpenzimet'!$A$19:$A$550,0)),\"\")","v":""},null,"Pogradec"]
[null,null,null,null,null,null,null,null,null,null,null,null,null,null,null,null,null,null,null,null,null,null,null,null,null,null,null,{"$f":"IFERROR(INDEX('4. Shpenzimet'!$B$19:$B$550,MATCH(ROW()-ROW($AB$2),'4. Shpenzimet'!$A$19:$A$550,0)),\"\")","v":""},null,"Polican"]
[null,null,null,null,null,null,null,null,null,null,null,null,null,null,null,null,null,null,null,null,null,null,null,null,null,null,null,{"$f":"IFERROR(INDEX('4. Shpenzimet'!$B$19:$B$550,MATCH(ROW()-ROW($AB$2),'4. Shpenzimet'!$A$19:$A$550,0)),\"\")","v":""},null,"Prrenjas"]
[null,null,null,null,null,null,null,null,null,null,null,null,null,null,null,null,null,null,null,null,null,null,null,null,null,null,null,{"$f":"IFERROR(INDEX('4. Shpenzimet'!$B$19:$B$550,MATCH(ROW()-ROW($AB$2),'4. Shpenzimet'!$A$19:$A$550,0)),\"\")","v":""},null,"Pukë"]
[null,null,null,null,null,null,null,null,null,null,null,null,null,null,null,null,null,null,null,null,null,null,null,null,null,null,null,{"$f":"IFERROR(INDEX('4. Shpenzimet'!$B$19:$B$550,MATCH(ROW()-ROW($AB$2),'4. Shpenzimet'!$A$19:$A$550,0)),\"\")","v":""},null,"Pustec"]
[null,null,null,null,null,null,null,null,null,null,null,null,null,null,null,null,null,null,null,null,null,null,null,null,null,null,null,{"$f":"IFERROR(INDEX('4. Shpenzimet'!$B$19:$B$550,MATCH(ROW()-ROW($AB$2),'4. Shpenzimet'!$A$19:$A$550,0)),\"\")","v":""},null,"Roskovec"]
[null,null,null,null,null,null,null,null,null,null,null,null,null,null,null,null,null,null,null,null,null,null,null,null,null,null,null,{"$f":"IFERROR(INDEX('4. Shpenzimet'!$B$19:$B$550,MATCH(ROW()-ROW($AB$2),'4. Shpenzimet'!$A$19:$A$550,0)),\"\")","v":""},null,"Rrogozhinë"]
[null,null,null,null,null,null,null,null,null,null,null,null,null,null,null,null,null,null,null,null,null,null,null,null,null,null,null,{"$f":"IFERROR(INDEX('4. Shpenzimet'!$B$19:$B$550,MATCH(ROW()-ROW($AB$2),'4. Shpenzimet'!$A$19:$A$550,0)),\"\")","v":""},null,"Sarandë"]
[null,null,null,null,null,null,null,null,null,null,null,null,null,null,null,null,null,null,null,null,null,null,null,null,null,null,null,{"$f":"IFERROR(INDEX('4. Shpenzimet'!$B$19:$B$550,MATCH(ROW()-ROW($AB$2),'4. Shpenzimet'!$A$19:$A$550,0)),\"\")","v":""},null,"Selenicë"]
[null,null,null,null,null,null,null,null,null,null,null,null,null,null,null,null,null,null,null,null,null,null,null,null,null,null,null,{"$f":"IFERROR(INDEX('4. Shpenzimet'!$B$19:$B$550,MATCH(ROW()-ROW($AB$2),'4. Shpenzimet'!$A$19:$A$550,0)),\"\")","v":""},null,"Shijak"]
[null,null,null,null,null,null,null,null,null,null,null,null,null,null,null,null,null,null,null,null,null,null,null,null,null,null,null,{"$f":"IFERROR(INDEX('4. Shpenzimet'!$B$19:$B$550,MATCH(ROW()-ROW($AB$2),'4. Shpenzimet'!$A$19:$A$550,0)),\"\")","v":""},null,"Shkodër"]
[null,null,null,null,null,null,null,null,null,null,null,null,null,null,null,null,null,null,null,null,null,null,null,null,null,null,null,{"$f":"IFERROR(INDEX('4. Shpenzimet'!$B$19:$B$550,MATCH(ROW()-ROW($AB$2),'4. Shpenzimet'!$A$19:$A$550,0)),\"\")","v":""},null,"Skrapar"]
[null,null,null,null,null,null,null,null,null,null,null,null,null,null,null,null,null,null,null,null,null,null,null,null,null,null,null,{"$f":"IFERROR(INDEX('4. Shpenzimet'!$B$19:$B$550,MATCH(ROW()-ROW($AB$2),'4. Shpenzimet'!$A$19:$A$550,0)),\"\")","v":""},null,"Tepelenë"]
[null,null,null,null,null,null,null,null,null,null,null,null,null,null,null,null,null,null,null,null,null,null,null,null,null,null,null,{"$f":"IFERROR(INDEX('4. Shpenzimet'!$B$19:$B$550,MATCH(ROW()-ROW($AB$2),'4. Shpenzimet'!$A$19:$A$550,0)),\"\")","v":""},null,"Tiranë"]
[null,null,null,null,null,null,null,null,null,null,null,null,null,null,null,null,null,null,null,null,null,null,null,null,null,null,null,{"$f":"IFERROR(INDEX('4. Shpenzimet'!$B$19:$B$550,MATCH(ROW()-ROW($AB$2),'4. Shpenzimet'!$A$19:$A$550,0)),\"\")","v":""},null,"Tropojë"]
[null,null,null,null,null,null,null,null,null,null,null,null,null,null,null,null,null,null,null,null,null,null,null,null,null,null,null,{"$f":"IFERROR(INDEX('4. Shpenzimet'!$B$19:$B$550,MATCH(ROW()-ROW($AB$2),'4. Shpenzimet'!$A$19:$A$550,0)),\"\")","v":""},null,"Ura Vajgurore"]
[null,null,null,null,null,null,null,null,null,null,null,null,null,null,null,null,null,null,null,null,null,null,null,null,null,null,null,{"$f":"IFERROR(INDEX('4. Shpenzimet'!$B$19:$B$550,MATCH(ROW()-ROW($AB$2),'4. Shpenzimet'!$A$19:$A$550,0)),\"\")","v":""},null,"Vau i Dejës"]
[null,null,null,null,null,null,null,null,null,null,null,null,null,null,null,null,null,null,null,null,null,null,null,null,null,null,null,{"$f":"IFERROR(INDEX('4. Shpenzimet'!$B$19:$B$550,MATCH(ROW()-ROW($AB$2),'4. Shpenzimet'!$A$19:$A$550,0)),\"\")","v":""},null,"Vlorë"]
[null,null,null,null,null,null,null,null,null,null,null,null,null,null,null,null,null,null,null,null,null,null,null,null,null,null,null,{"$f":"IFERROR(INDEX('4. Shpenzimet'!$B$19:$B$550,MATCH(ROW()-ROW($AB$2),'4. Shpenzimet'!$A$19:$A$550,0)),\"\")","v":""},null,"Vorë"]
[null,null,null,null,null,null,null,null,null,null,null,null,null,null,null,null,null,null,null,null,null,null,null,null,null,null,null,{"$f":"IFERROR(INDEX('4. Shpenzimet'!$B$19:$B$550,MATCH(ROW()-ROW($AB$2),'4. Shpenzimet'!$A$19:$A$550,0)),\"\")","v":""}]
[null,null,null,null,null,null,null,null,null,null,null,null,null,null,null,null,null,null,null,null,null,null,null,null,null,null,null,{"$f":"IFERROR(INDEX('4. Shpenzimet'!$B$19:$B$550,MATCH(ROW()-ROW($AB$2),'4. Shpenzimet'!$A$19:$A$550,0)),\"\")","v":""}]
[null,null,null,null,null,null,null,null,null,null,null,null,null,null,null,null,null,null,null,null,null,null,null,null,null,null,null,{"$f":"IFERROR(INDEX('4. Shpenzimet'!$B$19:$B$550,MATCH(ROW()-ROW($AB$2),'4. Shpenzimet'!$A$19:$A$550,0)),\"\")","v":""}]
[null,null,null,null,null,null,null,null,null,null,null,null,null,null,null,null,null,null,null,null,null,null,null,null,null,null,null,{"$f":"IFERROR(INDEX('4. Shpenzimet'!$B$19:$B$550,MATCH(ROW()-ROW($AB$2),'4. Shpenzimet'!$A$19:$A$550,0)),\"\")","v":""}]
[null,null,null,null,null,null,null,null,null,null,null,null,null,null,null,null,null,null,null,null,null,null,null,null,null,null,null,{"$f":"IFERROR(INDEX('4. Shpenzimet'!$B$19:$B$550,MATCH(ROW()-ROW($AB$2),'4. Shpenzimet'!$A$19:$A$550,0)),\"\")","v":""}]
[null,null,null,null,null,null,null,null,null,null,null,null,null,null,null,null,null,null,null,null,null,null,null,null,null,null,null,{"$f":"IFERROR(INDEX('4. Shpenzimet'!$B$19:$B$550,MATCH(ROW()-ROW($AB$2),'4. Shpenzimet'!$A$19:$A$550,0)),\"\")","v":""}]
[null,null,null,null,null,null,null,null,null,null,null,null,null,null,null,null,null,null,null,null,null,null,null,null,null,null,null,{"$f":"IFERROR(INDEX('4. Shpenzimet'!$B$19:$B$550,MATCH(ROW()-ROW($AB$2),'4. Shpenzimet'!$A$19:$A$550,0)),\"\")","v":""}]
[null,null,null,null,null,null,null,null,null,null,null,null,null,null,null,null,null,null,null,null,null,null,null,null,null,null,null,{"$f":"IFERROR(INDEX('4. Shpenzimet'!$B$19:$B$550,MATCH(ROW()-ROW($AB$2),'4. Shpenzimet'!$A$19:$A$550,0)),\"\")","v":""}]
[null,null,null,null,null,null,null,null,null,null,null,null,null,null,null,null,null,null,null,null,null,null,null,null,null,null,null,{"$f":"IFERROR(INDEX('4. Shpenzimet'!$B$19:$B$550,MATCH(ROW()-ROW($AB$2),'4. Shpenzimet'!$A$19:$A$550,0)),\"\")","v":""}]
[null,null,null,null,null,null,null,null,null,null,null,null,null,null,null,null,null,null,null,null,null,null,null,null,null,null,null,{"$f":"IFERROR(INDEX('4. Shpenzimet'!$B$19:$B$550,MATCH(ROW()-ROW($AB$2),'4. Shpenzimet'!$A$19:$A$550,0)),\"\")","v":""}]
[null,null,null,null,null,null,null,null,null,null,null,null,null,null,null,null,null,null,null,null,null,null,null,null,null,null,null,{"$f":"IFERROR(INDEX('4. Shpenzimet'!$B$19:$B$550,MATCH(ROW()-ROW($AB$2),'4. Shpenzimet'!$A$19:$A$550,0)),\"\")","v":""}]
[null,null,null,null,null,null,null,null,null,null,null,null,null,null,null,null,null,null,null,null,null,null,null,null,null,null,null,{"$f":"IFERROR(INDEX('4. Shpenzimet'!$B$19:$B$550,MATCH(ROW()-ROW($AB$2),'4. Shpenzimet'!$A$19:$A$550,0)),\"\")","v":""}]
[null,null,null,null,null,null,null,null,null,null,null,null,null,null,null,null,null,null,null,null,null,null,null,null,null,null,null,{"$f":"IFERROR(INDEX('4. Shpenzimet'!$B$19:$B$550,MATCH(ROW()-ROW($AB$2),'4. Shpenzimet'!$A$19:$A$550,0)),\"\")","v":""}]
[null,null,null,null,null,null,null,null,null,null,null,null,null,null,null,null,null,null,null,null,null,null,null,null,null,null,null,{"$f":"IFERROR(INDEX('4. Shpenzimet'!$B$19:$B$550,MATCH(ROW()-ROW($AB$2),'4. Shpenzimet'!$A$19:$A$550,0)),\"\")","v":""}]
[null,null,null,null,null,null,null,null,null,null,null,null,null,null,null,null,null,null,null,null,null,null,null,null,null,null,null,{"$f":"IFERROR(INDEX('4. Shpenzimet'!$B$19:$B$550,MATCH(ROW()-ROW($AB$2),'4. Shpenzimet'!$A$19:$A$550,0)),\"\")","v":""}]
[null,null,null,null,null,null,null,null,null,null,null,null,null,null,null,null,null,null,null,null,null,null,null,null,null,null,null,{"$f":"IFERROR(INDEX('4. Shpenzimet'!$B$19:$B$550,MATCH(ROW()-ROW($AB$2),'4. Shpenzimet'!$A$19:$A$550,0)),\"\")","v":""}]
[null,null,null,null,null,null,null,null,null,null,null,null,null,null,null,null,null,null,null,null,null,null,null,null,null,null,null,{"$f":"IFERROR(INDEX('4. Shpenzimet'!$B$19:$B$550,MATCH(ROW()-ROW($AB$2),'4. Shpenzimet'!$A$19:$A$550,0)),\"\")","v":""}]
[null,null,null,null,null,null,null,null,null,null,null,null,null,null,null,null,null,null,null,null,null,null,null,null,null,null,null,{"$f":"IFERROR(INDEX('4. Shpenzimet'!$B$19:$B$550,MATCH(ROW()-ROW($AB$2),'4. Shpenzimet'!$A$19:$A$550,0)),\"\")","v":""}]
[null,null,null,null,null,null,null,null,null,null,null,null,null,null,null,null,null,null,null,null,null,null,null,null,null,null,null,{"$f":"IFERROR(INDEX('4. Shpenzimet'!$B$19:$B$550,MATCH(ROW()-ROW($AB$2),'4. Shpenzimet'!$A$19:$A$550,0)),\"\")","v":""}]
[null,null,null,null,null,null,null,null,null,null,null,null,null,null,null,null,null,null,null,null,null,null,null,null,null,null,null,{"$f":"IFERROR(INDEX('4. Shpenzimet'!$B$19:$B$550,MATCH(ROW()-ROW($AB$2),'4. Shpenzimet'!$A$19:$A$550,0)),\"\")","v":""}]
[null,null,null,null,null,null,null,null,null,null,null,null,null,null,null,null,null,null,null,null,null,null,null,null,null,null,null,{"$f":"IFERROR(INDEX('4. Shpenzimet'!$B$19:$B$550,MATCH(ROW()-ROW($AB$2),'4. Shpenzimet'!$A$19:$A$550,0)),\"\")","v":""}]
[null,null,null,null,null,null,null,null,null,null,null,null,null,null,null,null,null,null,null,null,null,null,null,null,null,null,null,{"$f":"IFERROR(INDEX('4. Shpenzimet'!$B$19:$B$550,MATCH(ROW()-ROW($AB$2),'4. Shpenzimet'!$A$19:$A$550,0)),\"\")","v":""}]
[null,null,null,null,null,null,null,null,null,null,null,null,null,null,null,null,null,null,null,null,null,null,null,null,null,null,null,{"$f":"IFERROR(INDEX('4. Shpenzimet'!$B$19:$B$550,MATCH(ROW()-ROW($AB$2),'4. Shpenzimet'!$A$19:$A$550,0)),\"\")","v":""}]
[null,null,null,null,null,null,null,null,null,null,null,null,null,null,null,null,null,null,null,null,null,null,null,null,null,null,null,{"$f":"IFERROR(INDEX('4. Shpenzimet'!$B$19:$B$550,MATCH(ROW()-ROW($AB$2),'4. Shpenzimet'!$A$19:$A$550,0)),\"\")","v":""}]
[null,null,null,null,null,null,null,null,null,null,null,null,null,null,null,null,null,null,null,null,null,null,null,null,null,null,null,{"$f":"IFERROR(INDEX('4. Shpenzimet'!$B$19:$B$550,MATCH(ROW()-ROW($AB$2),'4. Shpenzimet'!$A$19:$A$550,0)),\"\")","v":""}]
[null,null,null,null,null,null,null,null,null,null,null,null,null,null,null,null,null,null,null,null,null,null,null,null,null,null,null,{"$f":"IFERROR(INDEX('4. Shpenzimet'!$B$19:$B$550,MATCH(ROW()-ROW($AB$2),'4. Shpenzimet'!$A$19:$A$550,0)),\"\")","v":""}]
[null,null,null,null,null,null,null,null,null,null,null,null,null,null,null,null,null,null,null,null,null,null,null,null,null,null,null,{"$f":"IFERROR(INDEX('4. Shpenzimet'!$B$19:$B$550,MATCH(ROW()-ROW($AB$2),'4. Shpenzimet'!$A$19:$A$550,0)),\"\")","v":""}]
[null,null,null,null,null,null,null,null,null,null,null,null,null,null,null,null,null,null,null,null,null,null,null,null,null,null,null,{"$f":"IFERROR(INDEX('4. Shpenzimet'!$B$19:$B$550,MATCH(ROW()-ROW($AB$2),'4. Shpenzimet'!$A$19:$A$550,0)),\"\")","v":""}]
[null,null,null,null,null,null,null,null,null,null,null,null,null,null,null,null,null,null,null,null,null,null,null,null,null,null,null,{"$f":"IFERROR(INDEX('4. Shpenzimet'!$B$19:$B$550,MATCH(ROW()-ROW($AB$2),'4. Shpenzimet'!$A$19:$A$550,0)),\"\")","v":""}]
[null,null,null,null,null,null,null,null,null,null,null,null,null,null,null,null,null,null,null,null,null,null,null,null,null,null,null,{"$f":"IFERROR(INDEX('4. Shpenzimet'!$B$19:$B$550,MATCH(ROW()-ROW($AB$2),'4. Shpenzimet'!$A$19:$A$550,0)),\"\")","v":""}]
[null,null,null,null,null,null,null,null,null,null,null,null,null,null,null,null,null,null,null,null,null,null,null,null,null,null,null,{"$f":"IFERROR(INDEX('4. Shpenzimet'!$B$19:$B$550,MATCH(ROW()-ROW($AB$2),'4. Shpenzimet'!$A$19:$A$550,0)),\"\")","v":""}]
[null,null,null,null,null,null,null,null,null,null,null,null,null,null,null,null,null,null,null,null,null,null,null,null,null,null,null,{"$f":"IFERROR(INDEX('4. Shpenzimet'!$B$19:$B$550,MATCH(ROW()-ROW($AB$2),'4. Shpenzimet'!$A$19:$A$550,0)),\"\")","v":""}]
[null,null,null,null,null,null,null,null,null,null,null,null,null,null,null,null,null,null,null,null,null,null,null,null,null,null,null,{"$f":"IFERROR(INDEX('4. Shpenzimet'!$B$19:$B$550,MATCH(ROW()-ROW($AB$2),'4. Shpenzimet'!$A$19:$A$550,0)),\"\")","v":""}]
[null,null,null,null,null,null,null,null,null,null,null,null,null,null,null,null,null,null,null,null,null,null,null,null,null,null,null,{"$f":"IFERROR(INDEX('4. Shpenzimet'!$B$19:$B$550,MATCH(ROW()-ROW($AB$2),'4. Shpenzimet'!$A$19:$A$550,0)),\"\")","v":""}]
[null,null,null,null,null,null,null,null,null,null,null,null,null,null,null,null,null,null,null,null,null,null,null,null,null,null,null,{"$f":"IFERROR(INDEX('4. Shpenzimet'!$B$19:$B$550,MATCH(ROW()-ROW($AB$2),'4. Shpenzimet'!$A$19:$A$550,0)),\"\")","v":""}]
[null,null,null,null,null,null,null,null,null,null,null,null,null,null,null,null,null,null,null,null,null,null,null,null,null,null,null,{"$f":"IFERROR(INDEX('4. Shpenzimet'!$B$19:$B$550,MATCH(ROW()-ROW($AB$2),'4. Shpenzimet'!$A$19:$A$550,0)),\"\")","v":""}]
[null,null,null,null,null,null,null,null,null,null,null,null,null,null,null,null,null,null,null,null,null,null,null,null,null,null,null,{"$f":"IFERROR(INDEX('4. Shpenzimet'!$B$19:$B$550,MATCH(ROW()-ROW($AB$2),'4. Shpenzimet'!$A$19:$A$550,0)),\"\")","v":""}]
[null,null,null,null,null,null,null,null,null,null,null,null,null,null,null,null,null,null,null,null,null,null,null,null,null,null,null,{"$f":"IFERROR(INDEX('4. Shpenzimet'!$B$19:$B$550,MATCH(ROW()-ROW($AB$2),'4. Shpenzimet'!$A$19:$A$550,0)),\"\")","v":""}]
[null,null,null,null,null,null,null,null,null,null,null,null,null,null,null,null,null,null,null,null,null,null,null,null,null,null,null,{"$f":"IFERROR(INDEX('4. Shpenzimet'!$B$19:$B$550,MATCH(ROW()-ROW($AB$2),'4. Shpenzimet'!$A$19:$A$550,0)),\"\")","v":""}]
[null,null,null,null,null,null,null,null,null,null,null,null,null,null,null,null,null,null,null,null,null,null,null,null,null,null,null,{"$f":"IFERROR(INDEX('4. Shpenzimet'!$B$19:$B$550,MATCH(ROW()-ROW($AB$2),'4. Shpenzimet'!$A$19:$A$550,0)),\"\")","v":""}]
[null,null,null,null,null,null,null,null,null,null,null,null,null,null,null,null,null,null,null,null,null,null,null,null,null,null,null,{"$f":"IFERROR(INDEX('4. Shpenzimet'!$B$19:$B$550,MATCH(ROW()-ROW($AB$2),'4. Shpenzimet'!$A$19:$A$550,0)),\"\")","v":""}]
[null,null,null,null,null,null,null,null,null,null,null,null,null,null,null,null,null,null,null,null,null,null,null,null,null,null,null,{"$f":"IFERROR(INDEX('4. Shpenzimet'!$B$19:$B$550,MATCH(ROW()-ROW($AB$2),'4. Shpenzimet'!$A$19:$A$550,0)),\"\")","v":""}]
[null,null,null,null,null,null,null,null,null,null,null,null,null,null,null,null,null,null,null,null,null,null,null,null,null,null,null,{"$f":"IFERROR(INDEX('4. Shpenzimet'!$B$19:$B$550,MATCH(ROW()-ROW($AB$2),'4. Shpenzimet'!$A$19:$A$550,0)),\"\")","v":""}]
[null,null,null,null,null,null,null,null,null,null,null,null,null,null,null,null,null,null,null,null,null,null,null,null,null,null,null,{"$f":"IFERROR(INDEX('4. Shpenzimet'!$B$19:$B$550,MATCH(ROW()-ROW($AB$2),'4. Shpenzimet'!$A$19:$A$550,0)),\"\")","v":""}]
[null,null,null,null,null,null,null,null,null,null,null,null,null,null,null,null,null,null,null,null,null,null,null,null,null,null,null,{"$f":"IFERROR(INDEX('4. Shpenzimet'!$B$19:$B$550,MATCH(ROW()-ROW($AB$2),'4. Shpenzimet'!$A$19:$A$550,0)),\"\")","v":""}]
[null,null,null,null,null,null,null,null,null,null,null,null,null,null,null,null,null,null,null,null,null,null,null,null,null,null,null,{"$f":"IFERROR(INDEX('4. Shpenzimet'!$B$19:$B$550,MATCH(ROW()-ROW($AB$2),'4. Shpenzimet'!$A$19:$A$550,0)),\"\")","v":""}]
[null,null,null,null,null,null,null,null,null,null,null,null,null,null,null,null,null,null,null,null,null,null,null,null,null,null,null,{"$f":"IFERROR(INDEX('4. Shpenzimet'!$B$19:$B$550,MATCH(ROW()-ROW($AB$2),'4. Shpenzimet'!$A$19:$A$550,0)),\"\")","v":""}]
[null,null,null,null,null,null,null,null,null,null,null,null,null,null,null,null,null,null,null,null,null,null,null,null,null,null,null,{"$f":"IFERROR(INDEX('4. Shpenzimet'!$B$19:$B$550,MATCH(ROW()-ROW($AB$2),'4. Shpenzimet'!$A$19:$A$550,0)),\"\")","v":""}]
[null,null,null,null,null,null,null,null,null,null,null,null,null,null,null,null,null,null,null,null,null,null,null,null,null,null,null,{"$f":"IFERROR(INDEX('4. Shpenzimet'!$B$19:$B$550,MATCH(ROW()-ROW($AB$2),'4. Shpenzimet'!$A$19:$A$550,0)),\"\")","v":""}]
[null,null,null,null,null,null,null,null,null,null,null,null,null,null,null,null,null,null,null,null,null,null,null,null,null,null,null,{"$f":"IFERROR(INDEX('4. Shpenzimet'!$B$19:$B$550,MATCH(ROW()-ROW($AB$2),'4. Shpenzimet'!$A$19:$A$550,0)),\"\")","v":""}]
[null,null,null,null,null,null,null,null,null,null,null,null,null,null,null,null,null,null,null,null,null,null,null,null,null,null,null,{"$f":"IFERROR(INDEX('4. Shpenzimet'!$B$19:$B$550,MATCH(ROW()-ROW($AB$2),'4. Shpenzimet'!$A$19:$A$550,0)),\"\")","v":""}]
[null,null,null,null,null,null,null,null,null,null,null,null,null,null,null,null,null,null,null,null,null,null,null,null,null,null,null,{"$f":"IFERROR(INDEX('4. Shpenzimet'!$B$19:$B$550,MATCH(ROW()-ROW($AB$2),'4. Shpenzimet'!$A$19:$A$550,0)),\"\")","v":""}]
[null,null,null,null,null,null,null,null,null,null,null,null,null,null,null,null,null,null,null,null,null,null,null,null,null,null,null,{"$f":"IFERROR(INDEX('4. Shpenzimet'!$B$19:$B$550,MATCH(ROW()-ROW($AB$2),'4. Shpenzimet'!$A$19:$A$550,0)),\"\")","v":""}]
[null,null,null,null,null,null,null,null,null,null,null,null,null,null,null,null,null,null,null,null,null,null,null,null,null,null,null,{"$f":"IFERROR(INDEX('4. Shpenzimet'!$B$19:$B$550,MATCH(ROW()-ROW($AB$2),'4. Shpenzimet'!$A$19:$A$550,0)),\"\")","v":""}]
[null,null,null,null,null,null,null,null,null,null,null,null,null,null,null,null,null,null,null,null,null,null,null,null,null,null,null,{"$f":"IFERROR(INDEX('4. Shpenzimet'!$B$19:$B$550,MATCH(ROW()-ROW($AB$2),'4. Shpenzimet'!$A$19:$A$550,0)),\"\")","v":""}]
[null,null,null,null,null,null,null,null,null,null,null,null,null,null,null,null,null,null,null,null,null,null,null,null,null,null,null,{"$f":"IFERROR(INDEX('4. Shpenzimet'!$B$19:$B$550,MATCH(ROW()-ROW($AB$2),'4. Shpenzimet'!$A$19:$A$550,0)),\"\")","v":""}]
[null,null,null,null,null,null,null,null,null,null,null,null,null,null,null,null,null,null,null,null,null,null,null,null,null,null,null,{"$f":"IFERROR(INDEX('4. Shpenzimet'!$B$19:$B$550,MATCH(ROW()-ROW($AB$2),'4. Shpenzimet'!$A$19:$A$550,0)),\"\")","v":""}]
[null,null,null,null,null,null,null,null,null,null,null,null,null,null,null,null,null,null,null,null,null,null,null,null,null,null,null,{"$f":"IFERROR(INDEX('4. Shpenzimet'!$B$19:$B$550,MATCH(ROW()-ROW($AB$2),'4. Shpenzimet'!$A$19:$A$550,0)),\"\")","v":""}]
[null,null,null,null,null,null,null,null,null,null,null,null,null,null,null,null,null,null,null,null,null,null,null,null,null,null,null,{"$f":"IFERROR(INDEX('4. Shpenzimet'!$B$19:$B$550,MATCH(ROW()-ROW($AB$2),'4. Shpenzimet'!$A$19:$A$550,0)),\"\")","v":""}]
[null,null,null,null,null,null,null,null,null,null,null,null,null,null,null,null,null,null,null,null,null,null,null,null,null,null,null,{"$f":"IFERROR(INDEX('4. Shpenzimet'!$B$19:$B$550,MATCH(ROW()-ROW($AB$2),'4. Shpenzimet'!$A$19:$A$550,0)),\"\")","v":""}]
[null,null,null,null,null,null,null,null,null,null,null,null,null,null,null,null,null,null,null,null,null,null,null,null,null,null,null,{"$f":"IFERROR(INDEX('4. Shpenzimet'!$B$19:$B$550,MATCH(ROW()-ROW($AB$2),'4. Shpenzimet'!$A$19:$A$550,0)),\"\")","v":""}]
[null,null,null,null,null,null,null,null,null,null,null,null,null,null,null,null,null,null,null,null,null,null,null,null,null,null,null,{"$f":"IFERROR(INDEX('4. Shpenzimet'!$B$19:$B$550,MATCH(ROW()-ROW($AB$2),'4. Shpenzimet'!$A$19:$A$550,0)),\"\")","v":""}]
[null,null,null,null,null,null,null,null,null,null,null,null,null,null,null,null,null,null,null,null,null,null,null,null,null,null,null,{"$f":"IFERROR(INDEX('4. Shpenzimet'!$B$19:$B$550,MATCH(ROW()-ROW($AB$2),'4. Shpenzimet'!$A$19:$A$550,0)),\"\")","v":""}]
[null,null,null,null,null,null,null,null,null,null,null,null,null,null,null,null,null,null,null,null,null,null,null,null,null,null,null,{"$f":"IFERROR(INDEX('4. Shpenzimet'!$B$19:$B$550,MATCH(ROW()-ROW($AB$2),'4. Shpenzimet'!$A$19:$A$550,0)),\"\")","v":""}]
[null,null,null,null,null,null,null,null,null,null,null,null,null,null,null,null,null,null,null,null,null,null,null,null,null,null,null,{"$f":"IFERROR(INDEX('4. Shpenzimet'!$B$19:$B$550,MATCH(ROW()-ROW($AB$2),'4. Shpenzimet'!$A$19:$A$550,0)),\"\")","v":""}]
[null,null,null,null,null,null,null,null,null,null,null,null,null,null,null,null,null,null,null,null,null,null,null,null,null,null,null,{"$f":"IFERROR(INDEX('4. Shpenzimet'!$B$19:$B$550,MATCH(ROW()-ROW($AB$2),'4. Shpenzimet'!$A$19:$A$550,0)),\"\")","v":""}]
[null,null,null,null,null,null,null,null,null,null,null,null,null,null,null,null,null,null,null,null,null,null,null,null,null,null,null,{"$f":"IFERROR(INDEX('4. Shpenzimet'!$B$19:$B$550,MATCH(ROW()-ROW($AB$2),'4. Shpenzimet'!$A$19:$A$550,0)),\"\")","v":""}]
[null,null,null,null,null,null,null,null,null,null,null,null,null,null,null,null,null,null,null,null,null,null,null,null,null,null,null,{"$f":"IFERROR(INDEX('4. Shpenzimet'!$B$19:$B$550,MATCH(ROW()-ROW($AB$2),'4. Shpenzimet'!$A$19:$A$550,0)),\"\")","v":""}]
[null,null,null,null,null,null,null,null,null,null,null,null,null,null,null,null,null,null,null,null,null,null,null,null,null,null,null,{"$f":"IFERROR(INDEX('4. Shpenzimet'!$B$19:$B$550,MATCH(ROW()-ROW($AB$2),'4. Shpenzimet'!$A$19:$A$550,0)),\"\")","v":""}]
[null,null,null,null,null,null,null,null,null,null,null,null,null,null,null,null,null,null,null,null,null,null,null,null,null,null,null,{"$f":"IFERROR(INDEX('4. Shpenzimet'!$B$19:$B$550,MATCH(ROW()-ROW($AB$2),'4. Shpenzimet'!$A$19:$A$550,0)),\"\")","v":""}]
[null,null,null,null,null,null,null,null,null,null,null,null,null,null,null,null,null,null,null,null,null,null,null,null,null,null,null,{"$f":"IFERROR(INDEX('4. Shpenzimet'!$B$19:$B$550,MATCH(ROW()-ROW($AB$2),'4. Shpenzimet'!$A$19:$A$550,0)),\"\")","v":""}]
[null,null,null,null,null,null,null,null,null,null,null,null,null,null,null,null,null,null,null,null,null,null,null,null,null,null,null,{"$f":"IFERROR(INDEX('4. Shpenzimet'!$B$19:$B$550,MATCH(ROW()-ROW($AB$2),'4. Shpenzimet'!$A$19:$A$550,0)),\"\")","v":""}]
[null,null,null,null,null,null,null,null,null,null,null,null,null,null,null,null,null,null,null,null,null,null,null,null,null,null,null,{"$f":"IFERROR(INDEX('4. Shpenzimet'!$B$19:$B$550,MATCH(ROW()-ROW($AB$2),'4. Shpenzimet'!$A$19:$A$550,0)),\"\")","v":""}]
[null,null,null,null,null,null,null,null,null,null,null,null,null,null,null,null,null,null,null,null,null,null,null,null,null,null,null,{"$f":"IFERROR(INDEX('4. Shpenzimet'!$B$19:$B$550,MATCH(ROW()-ROW($AB$2),'4. Shpenzimet'!$A$19:$A$550,0)),\"\")","v":""}]
[null,null,null,null,null,null,null,null,null,null,null,null,null,null,null,null,null,null,null,null,null,null,null,null,null,null,null,{"$f":"IFERROR(INDEX('4. Shpenzimet'!$B$19:$B$550,MATCH(ROW()-ROW($AB$2),'4. Shpenzimet'!$A$19:$A$550,0)),\"\")","v":""}]
[null,null,null,null,null,null,null,null,null,null,null,null,null,null,null,null,null,null,null,null,null,null,null,null,null,null,null,{"$f":"IFERROR(INDEX('4. Shpenzimet'!$B$19:$B$550,MATCH(ROW()-ROW($AB$2),'4. Shpenzimet'!$A$19:$A$550,0)),\"\")","v":""}]
[null,null,null,null,null,null,null,null,null,null,null,null,null,null,null,null,null,null,null,null,null,null,null,null,null,null,null,{"$f":"IFERROR(INDEX('4. Shpenzimet'!$B$19:$B$550,MATCH(ROW()-ROW($AB$2),'4. Shpenzimet'!$A$19:$A$550,0)),\"\")","v":""}]
[null,null,null,null,null,null,null,null,null,null,null,null,null,null,null,null,null,null,null,null,null,null,null,null,null,null,null,{"$f":"IFERROR(INDEX('4. Shpenzimet'!$B$19:$B$550,MATCH(ROW()-ROW($AB$2),'4. Shpenzimet'!$A$19:$A$550,0)),\"\")","v":""}]
[null,null,null,null,null,null,null,null,null,null,null,null,null,null,null,null,null,null,null,null,null,null,null,null,null,null,null,{"$f":"IFERROR(INDEX('4. Shpenzimet'!$B$19:$B$550,MATCH(ROW()-ROW($AB$2),'4. Shpenzimet'!$A$19:$A$550,0)),\"\")","v":""}]
[null,null,null,null,null,null,null,null,null,null,null,null,null,null,null,null,null,null,null,null,null,null,null,null,null,null,null,{"$f":"IFERROR(INDEX('4. Shpenzimet'!$B$19:$B$550,MATCH(ROW()-ROW($AB$2),'4. Shpenzimet'!$A$19:$A$550,0)),\"\")","v":""}]
[null,null,null,null,null,null,null,null,null,null,null,null,null,null,null,null,null,null,null,null,null,null,null,null,null,null,null,{"$f":"IFERROR(INDEX('4. Shpenzimet'!$B$19:$B$550,MATCH(ROW()-ROW($AB$2),'4. Shpenzimet'!$A$19:$A$550,0)),\"\")","v":""}]
[null,null,null,null,null,null,null,null,null,null,null,null,null,null,null,null,null,null,null,null,null,null,null,null,null,null,null,{"$f":"IFERROR(INDEX('4. Shpenzimet'!$B$19:$B$550,MATCH(ROW()-ROW($AB$2),'4. Shpenzimet'!$A$19:$A$550,0)),\"\")","v":""}]
[null,null,null,null,null,null,null,null,null,null,null,null,null,null,null,null,null,null,null,null,null,null,null,null,null,null,null,{"$f":"IFERROR(INDEX('4. Shpenzimet'!$B$19:$B$550,MATCH(ROW()-ROW($AB$2),'4. Shpenzimet'!$A$19:$A$550,0)),\"\")","v":""}]
[null,null,null,null,null,null,null,null,null,null,null,null,null,null,null,null,null,null,null,null,null,null,null,null,null,null,null,{"$f":"IFERROR(INDEX('4. Shpenzimet'!$B$19:$B$550,MATCH(ROW()-ROW($AB$2),'4. Shpenzimet'!$A$19:$A$550,0)),\"\")","v":""}]
[null,null,null,null,null,null,null,null,null,null,null,null,null,null,null,null,null,null,null,null,null,null,null,null,null,null,null,{"$f":"IFERROR(INDEX('4. Shpenzimet'!$B$19:$B$550,MATCH(ROW()-ROW($AB$2),'4. Shpenzimet'!$A$19:$A$550,0)),\"\")","v":""}]
[null,null,null,null,null,null,null,null,null,null,null,null,null,null,null,null,null,null,null,null,null,null,null,null,null,null,null,{"$f":"IFERROR(INDEX('4. Shpenzimet'!$B$19:$B$550,MATCH(ROW()-ROW($AB$2),'4. Shpenzimet'!$A$19:$A$550,0)),\"\")","v":""}]
[null,null,null,null,null,null,null,null,null,null,null,null,null,null,null,null,null,null,null,null,null,null,null,null,null,null,null,{"$f":"IFERROR(INDEX('4. Shpenzimet'!$B$19:$B$550,MATCH(ROW()-ROW($AB$2),'4. Shpenzimet'!$A$19:$A$550,0)),\"\")","v":""}]
[null,null,null,null,null,null,null,null,null,null,null,null,null,null,null,null,null,null,null,null,null,null,null,null,null,null,null,{"$f":"IFERROR(INDEX('4. Shpenzimet'!$B$19:$B$550,MATCH(ROW()-ROW($AB$2),'4. Shpenzimet'!$A$19:$A$550,0)),\"\")","v":""}]
[null,null,null,null,null,null,null,null,null,null,null,null,null,null,null,null,null,null,null,null,null,null,null,null,null,null,null,{"$f":"IFERROR(INDEX('4. Shpenzimet'!$B$19:$B$550,MATCH(ROW()-ROW($AB$2),'4. Shpenzimet'!$A$19:$A$550,0)),\"\")","v":""}]
[null,null,null,null,null,null,null,null,null,null,null,null,null,null,null,null,null,null,null,null,null,null,null,null,null,null,null,{"$f":"IFERROR(INDEX('4. Shpenzimet'!$B$19:$B$550,MATCH(ROW()-ROW($AB$2),'4. Shpenzimet'!$A$19:$A$550,0)),\"\")","v":""}]
[null,null,null,null,null,null,null,null,null,null,null,null,null,null,null,null,null,null,null,null,null,null,null,null,null,null,null,{"$f":"IFERROR(INDEX('4. Shpenzimet'!$B$19:$B$550,MATCH(ROW()-ROW($AB$2),'4. Shpenzimet'!$A$19:$A$550,0)),\"\")","v":""}]
[null,null,null,null,null,null,null,null,null,null,null,null,null,null,null,null,null,null,null,null,null,null,null,null,null,null,null,{"$f":"IFERROR(INDEX('4. Shpenzimet'!$B$19:$B$550,MATCH(ROW()-ROW($AB$2),'4. Shpenzimet'!$A$19:$A$550,0)),\"\")","v":""}]
[null,null,null,null,null,null,null,null,null,null,null,null,null,null,null,null,null,null,null,null,null,null,null,null,null,null,null,{"$f":"IFERROR(INDEX('4. Shpenzimet'!$B$19:$B$550,MATCH(ROW()-ROW($AB$2),'4. Shpenzimet'!$A$19:$A$550,0)),\"\")","v":""}]
[null,null,null,null,null,null,null,null,null,null,null,null,null,null,null,null,null,null,null,null,null,null,null,null,null,null,null,{"$f":"IFERROR(INDEX('4. Shpenzimet'!$B$19:$B$550,MATCH(ROW()-ROW($AB$2),'4. Shpenzimet'!$A$19:$A$550,0)),\"\")","v":""}]
[null,null,null,null,null,null,null,null,null,null,null,null,null,null,null,null,null,null,null,null,null,null,null,null,null,null,null,{"$f":"IFERROR(INDEX('4. Shpenzimet'!$B$19:$B$550,MATCH(ROW()-ROW($AB$2),'4. Shpenzimet'!$A$19:$A$550,0)),\"\")","v":""}]
[null,null,null,null,null,null,null,null,null,null,null,null,null,null,null,null,null,null,null,null,null,null,null,null,null,null,null,{"$f":"IFERROR(INDEX('4. Shpenzimet'!$B$19:$B$550,MATCH(ROW()-ROW($AB$2),'4. Shpenzimet'!$A$19:$A$550,0)),\"\")","v":""}]
[null,null,null,null,null,null,null,null,null,null,null,null,null,null,null,null,null,null,null,null,null,null,null,null,null,null,null,{"$f":"IFERROR(INDEX('4. Shpenzimet'!$B$19:$B$550,MATCH(ROW()-ROW($AB$2),'4. Shpenzimet'!$A$19:$A$550,0)),\"\")","v":""}]
[null,null,null,null,null,null,null,null,null,null,null,null,null,null,null,null,null,null,null,null,null,null,null,null,null,null,null,{"$f":"IFERROR(INDEX('4. Shpenzimet'!$B$19:$B$550,MATCH(ROW()-ROW($AB$2),'4. Shpenzimet'!$A$19:$A$550,0)),\"\")","v":""}]
[null,null,null,null,null,null,null,null,null,null,null,null,null,null,null,null,null,null,null,null,null,null,null,null,null,null,null,{"$f":"IFERROR(INDEX('4. Shpenzimet'!$B$19:$B$550,MATCH(ROW()-ROW($AB$2),'4. Shpenzimet'!$A$19:$A$550,0)),\"\")","v":""}]
[null,null,null,null,null,null,null,null,null,null,null,null,null,null,null,null,null,null,null,null,null,null,null,null,null,null,null,{"$f":"IFERROR(INDEX('4. Shpenzimet'!$B$19:$B$550,MATCH(ROW()-ROW($AB$2),'4. Shpenzimet'!$A$19:$A$550,0)),\"\")","v":""}]
[null,null,null,null,null,null,null,null,null,null,null,null,null,null,null,null,null,null,null,null,null,null,null,null,null,null,null,{"$f":"IFERROR(INDEX('4. Shpenzimet'!$B$19:$B$550,MATCH(ROW()-ROW($AB$2),'4. Shpenzimet'!$A$19:$A$550,0)),\"\")","v":""}]
[null,null,null,null,null,null,null,null,null,null,null,null,null,null,null,null,null,null,null,null,null,null,null,null,null,null,null,{"$f":"IFERROR(INDEX('4. Shpenzimet'!$B$19:$B$550,MATCH(ROW()-ROW($AB$2),'4. Shpenzimet'!$A$19:$A$550,0)),\"\")","v":""}]
[null,null,null,null,null,null,null,null,null,null,null,null,null,null,null,null,null,null,null,null,null,null,null,null,null,null,null,{"$f":"IFERROR(INDEX('4. Shpenzimet'!$B$19:$B$550,MATCH(ROW()-ROW($AB$2),'4. Shpenzimet'!$A$19:$A$550,0)),\"\")","v":""}]
[null,null,null,null,null,null,null,null,null,null,null,null,null,null,null,null,null,null,null,null,null,null,null,null,null,null,null,{"$f":"IFERROR(INDEX('4. Shpenzimet'!$B$19:$B$550,MATCH(ROW()-ROW($AB$2),'4. Shpenzimet'!$A$19:$A$550,0)),\"\")","v":""}]
[null,null,null,null,null,null,null,null,null,null,null,null,null,null,null,null,null,null,null,null,null,null,null,null,null,null,null,{"$f":"IFERROR(INDEX('4. Shpenzimet'!$B$19:$B$550,MATCH(ROW()-ROW($AB$2),'4. Shpenzimet'!$A$19:$A$550,0)),\"\")","v":""}]
[null,null,null,null,null,null,null,null,null,null,null,null,null,null,null,null,null,null,null,null,null,null,null,null,null,null,null,{"$f":"IFERROR(INDEX('4. Shpenzimet'!$B$19:$B$550,MATCH(ROW()-ROW($AB$2),'4. Shpenzimet'!$A$19:$A$550,0)),\"\")","v":""}]
[null,null,null,null,null,null,null,null,null,null,null,null,null,null,null,null,null,null,null,null,null,null,null,null,null,null,null,{"$f":"IFERROR(INDEX('4. Shpenzimet'!$B$19:$B$550,MATCH(ROW()-ROW($AB$2),'4. Shpenzimet'!$A$19:$A$550,0)),\"\")","v":""}]
[null,null,null,null,null,null,null,null,null,null,null,null,null,null,null,null,null,null,null,null,null,null,null,null,null,null,null,{"$f":"IFERROR(INDEX('4. Shpenzimet'!$B$19:$B$550,MATCH(ROW()-ROW($AB$2),'4. Shpenzimet'!$A$19:$A$550,0)),\"\")","v":""}]
[null,null,null,null,null,null,null,null,null,null,null,null,null,null,null,null,null,null,null,null,null,null,null,null,null,null,null,{"$f":"IFERROR(INDEX('4. Shpenzimet'!$B$19:$B$550,MATCH(ROW()-ROW($AB$2),'4. Shpenzimet'!$A$19:$A$550,0)),\"\")","v":""}]
[null,null,null,null,null,null,null,null,null,null,null,null,null,null,null,null,null,null,null,null,null,null,null,null,null,null,null,{"$f":"IFERROR(INDEX('4. Shpenzimet'!$B$19:$B$550,MATCH(ROW()-ROW($AB$2),'4. Shpenzimet'!$A$19:$A$550,0)),\"\")","v":""}]
[null,null,null,null,null,null,null,null,null,null,null,null,null,null,null,null,null,null,null,null,null,null,null,null,null,null,null,{"$f":"IFERROR(INDEX('4. Shpenzimet'!$B$19:$B$550,MATCH(ROW()-ROW($AB$2),'4. Shpenzimet'!$A$19:$A$550,0)),\"\")","v":""}]
[null,null,null,null,null,null,null,null,null,null,null,null,null,null,null,null,null,null,null,null,null,null,null,null,null,null,null,{"$f":"IFERROR(INDEX('4. Shpenzimet'!$B$19:$B$550,MATCH(ROW()-ROW($AB$2),'4. Shpenzimet'!$A$19:$A$550,0)),\"\")","v":""}]
[null,null,null,null,null,null,null,null,null,null,null,null,null,null,null,null,null,null,null,null,null,null,null,null,null,null,null,{"$f":"IFERROR(INDEX('4. Shpenzimet'!$B$19:$B$550,MATCH(ROW()-ROW($AB$2),'4. Shpenzimet'!$A$19:$A$550,0)),\"\")","v":""}]
[null,null,null,null,null,null,null,null,null,null,null,null,null,null,null,null,null,null,null,null,null,null,null,null,null,null,null,{"$f":"IFERROR(INDEX('4. Shpenzimet'!$B$19:$B$550,MATCH(ROW()-ROW($AB$2),'4. Shpenzimet'!$A$19:$A$550,0)),\"\")","v":""}]
[null,null,null,null,null,null,null,null,null,null,null,null,null,null,null,null,null,null,null,null,null,null,null,null,null,null,null,{"$f":"IFERROR(INDEX('4. Shpenzimet'!$B$19:$B$550,MATCH(ROW()-ROW($AB$2),'4. Shpenzimet'!$A$19:$A$550,0)),\"\")","v":""}]
[null,null,null,null,null,null,null,null,null,null,null,null,null,null,null,null,null,null,null,null,null,null,null,null,null,null,null,{"$f":"IFERROR(INDEX('4. Shpenzimet'!$B$19:$B$550,MATCH(ROW()-ROW($AB$2),'4. Shpenzimet'!$A$19:$A$550,0)),\"\")","v":""}]
[null,null,null,null,null,null,null,null,null,null,null,null,null,null,null,null,null,null,null,null,null,null,null,null,null,null,null,{"$f":"IFERROR(INDEX('4. Shpenzimet'!$B$19:$B$550,MATCH(ROW()-ROW($AB$2),'4. Shpenzimet'!$A$19:$A$550,0)),\"\")","v":""}]
[null,null,null,null,null,null,null,null,null,null,null,null,null,null,null,null,null,null,null,null,null,null,null,null,null,null,null,{"$f":"IFERROR(INDEX('4. Shpenzimet'!$B$19:$B$550,MATCH(ROW()-ROW($AB$2),'4. Shpenzimet'!$A$19:$A$550,0)),\"\")","v":""}]
[null,null,null,null,null,null,null,null,null,null,null,null,null,null,null,null,null,null,null,null,null,null,null,null,null,null,null,{"$f":"IFERROR(INDEX('4. Shpenzimet'!$B$19:$B$550,MATCH(ROW()-ROW($AB$2),'4. Shpenzimet'!$A$19:$A$550,0)),\"\")","v":""}]
[null,null,null,null,null,null,null,null,null,null,null,null,null,null,null,null,null,null,null,null,null,null,null,null,null,null,null,{"$f":"IFERROR(INDEX('4. Shpenzimet'!$B$19:$B$550,MATCH(ROW()-ROW($AB$2),'4. Shpenzimet'!$A$19:$A$550,0)),\"\")","v":""}]
[null,null,null,null,null,null,null,null,null,null,null,null,null,null,null,null,null,null,null,null,null,null,null,null,null,null,null,{"$f":"IFERROR(INDEX('4. Shpenzimet'!$B$19:$B$550,MATCH(ROW()-ROW($AB$2),'4. Shpenzimet'!$A$19:$A$550,0)),\"\")","v":""}]
[null,null,null,null,null,null,null,null,null,null,null,null,null,null,null,null,null,null,null,null,null,null,null,null,null,null,null,{"$f":"IFERROR(INDEX('4. Shpenzimet'!$B$19:$B$550,MATCH(ROW()-ROW($AB$2),'4. Shpenzimet'!$A$19:$A$550,0)),\"\")","v":""}]
[null,null,null,null,null,null,null,null,null,null,null,null,null,null,null,null,null,null,null,null,null,null,null,null,null,null,null,{"$f":"IFERROR(INDEX('4. Shpenzimet'!$B$19:$B$550,MATCH(ROW()-ROW($AB$2),'4. Shpenzimet'!$A$19:$A$550,0)),\"\")","v":""}]
[null,null,null,null,null,null,null,null,null,null,null,null,null,null,null,null,null,null,null,null,null,null,null,null,null,null,null,{"$f":"IFERROR(INDEX('4. Shpenzimet'!$B$19:$B$550,MATCH(ROW()-ROW($AB$2),'4. Shpenzimet'!$A$19:$A$550,0)),\"\")","v":""}]
[null,null,null,null,null,null,null,null,null,null,null,null,null,null,null,null,null,null,null,null,null,null,null,null,null,null,null,{"$f":"IFERROR(INDEX('4. Shpenzimet'!$B$19:$B$550,MATCH(ROW()-ROW($AB$2),'4. Shpenzimet'!$A$19:$A$550,0)),\"\")","v":""}]
[null,null,null,null,null,null,null,null,null,null,null,null,null,null,null,null,null,null,null,null,null,null,null,null,null,null,null,{"$f":"IFERROR(INDEX('4. Shpenzimet'!$B$19:$B$550,MATCH(ROW()-ROW($AB$2),'4. Shpenzimet'!$A$19:$A$550,0)),\"\")","v":""}]
[null,null,null,null,null,null,null,null,null,null,null,null,null,null,null,null,null,null,null,null,null,null,null,null,null,null,null,{"$f":"IFERROR(INDEX('4. Shpenzimet'!$B$19:$B$550,MATCH(ROW()-ROW($AB$2),'4. Shpenzimet'!$A$19:$A$550,0)),\"\")","v":""}]
[null,null,null,null,null,null,null,null,null,null,null,null,null,null,null,null,null,null,null,null,null,null,null,null,null,null,null,{"$f":"IFERROR(INDEX('4. Shpenzimet'!$B$19:$B$550,MATCH(ROW()-ROW($AB$2),'4. Shpenzimet'!$A$19:$A$550,0)),\"\")","v":""}]
[null,null,null,null,null,null,null,null,null,null,null,null,null,null,null,null,null,null,null,null,null,null,null,null,null,null,null,{"$f":"IFERROR(INDEX('4. Shpenzimet'!$B$19:$B$550,MATCH(ROW()-ROW($AB$2),'4. Shpenzimet'!$A$19:$A$550,0)),\"\")","v":""}]
[null,null,null,null,null,null,null,null,null,null,null,null,null,null,null,null,null,null,null,null,null,null,null,null,null,null,null,{"$f":"IFERROR(INDEX('4. Shpenzimet'!$B$19:$B$550,MATCH(ROW()-ROW($AB$2),'4. Shpenzimet'!$A$19:$A$550,0)),\"\")","v":""}]
[null,null,null,null,null,null,null,null,null,null,null,null,null,null,null,null,null,null,null,null,null,null,null,null,null,null,null,{"$f":"IFERROR(INDEX('4. Shpenzimet'!$B$19:$B$550,MATCH(ROW()-ROW($AB$2),'4. Shpenzimet'!$A$19:$A$550,0)),\"\")","v":""}]
[null,null,null,null,null,null,null,null,null,null,null,null,null,null,null,null,null,null,null,null,null,null,null,null,null,null,null,{"$f":"IFERROR(INDEX('4. Shpenzimet'!$B$19:$B$550,MATCH(ROW()-ROW($AB$2),'4. Shpenzimet'!$A$19:$A$550,0)),\"\")","v":""}]
[null,null,null,null,null,null,null,null,null,null,null,null,null,null,null,null,null,null,null,null,null,null,null,null,null,null,null,{"$f":"IFERROR(INDEX('4. Shpenzimet'!$B$19:$B$550,MATCH(ROW()-ROW($AB$2),'4. Shpenzimet'!$A$19:$A$550,0)),\"\")","v":""}]
[null,null,null,null,null,null,null,null,null,null,null,null,null,null,null,null,null,null,null,null,null,null,null,null,null,null,null,{"$f":"IFERROR(INDEX('4. Shpenzimet'!$B$19:$B$550,MATCH(ROW()-ROW($AB$2),'4. Shpenzimet'!$A$19:$A$550,0)),\"\")","v":""}]
[null,null,null,null,null,null,null,null,null,null,null,null,null,null,null,null,null,null,null,null,null,null,null,null,null,null,null,{"$f":"IFERROR(INDEX('4. Shpenzimet'!$B$19:$B$550,MATCH(ROW()-ROW($AB$2),'4. Shpenzimet'!$A$19:$A$550,0)),\"\")","v":""}]
[null,null,null,null,null,null,null,null,null,null,null,null,null,null,null,null,null,null,null,null,null,null,null,null,null,null,null,{"$f":"IFERROR(INDEX('4. Shpenzimet'!$B$19:$B$550,MATCH(ROW()-ROW($AB$2),'4. Shpenzimet'!$A$19:$A$550,0)),\"\")","v":""}]
[null,null,null,null,null,null,null,null,null,null,null,null,null,null,null,null,null,null,null,null,null,null,null,null,null,null,null,{"$f":"IFERROR(INDEX('4. Shpenzimet'!$B$19:$B$550,MATCH(ROW()-ROW($AB$2),'4. Shpenzimet'!$A$19:$A$550,0)),\"\")","v":""}]