{"text_format":"1","workbook":"xlsx","n_sheets":7,"sheets":["Kreu","1.Detaje & Përmbledhje","2.aTë ardhura-jopublik-monetare","2.bTë ardhura-jopublik-nënatyrë","2.c. Të ardhura - Kreditë","3. Shpenzimet","Referenca"],"not_rendered":{"charts":0,"images":1,"macros":1,"external_links":0,"defined_names":30,"comments":0,"pivot_tables":0},"unopened":[],"bounds":{"document_bytes":16777216,"sheet_cells":100000,"rows_first":2000,"rows_last":500,"rows_between":2000,"halvings":0,"cell_chars":16384,"cell_head_chars":4096},"cells_cut":0,"cells_raw":0,"read":"row_number_cap","date_system":"1900"}

{"sheet":"Kreu","index":0,"n_rows":44,"n_cols":6,"rows_kept":44,"cut":false,"hidden":false,"merged":[[19,4,19,7],[19,1,19,3],[0,5,0,7],[21,5,21,7],[28,1,28,3],[28,5,28,7],[7,3,7,5],[25,1,25,3],[25,5,25,7],[26,1,26,3],[26,5,26,7],[27,1,27,3],[27,5,27,7],[22,1,22,3],[22,5,22,7],[23,1,23,3],[16,1,16,3],[16,4,16,7],[17,1,17,3],[17,4,17,7],[18,1,18,3],[18,4,18,7],[13,1,13,3],[13,4,13,7],[14,1,14,3],[14,4,14,7],[15,1,15,3],[15,4,15,7],[20,1,20,3],[21,1,21,3],[24,1,24,3],[24,5,24,7],[43,0,43,9],[23,5,23,7]]}
[null,"Shtojca 2",null,null,null,"Model KQZ 03-09"]
[]
[]
[]
[]
[null,null,null,null,"REPUBLIKA E SHQIPËRISË\nKOMISIONI QENDROR I ZGJEDHJEVE"]
[]
[null,null,null,"Formati tip i raportimit financiar të fushatës zgjedhore për kandidatët e listave shumëemërore të subjekteve zgjedhore për zgjedhjet për organet e qeverisjes vendore "]
[]
[]
[]
[]
[]
[null,"Emri i Partisë Politike"]
[null,"Shkronjat Nistore"]
[null,"Emri i kandidatit"]
[null,"Bashkia"]
[null,"Tel/cel"]
[null,"Email"]
[null,"Adresa"]
[]
[null,"Emri I Financierit",null,null,"Mbiemri I Financierit","Nënshkrimi"]
[]
[]
[null,"Tel/Cel I Financierit",null,null,"Email I Financierit","NID I Financierit"]
[]
[]
[null,"Emri I Aprovuesit",null,null,"Mbiemri I Aprovuesit","Nënshkrimi"]
[]
[]
[]
[null,null,null,null,"Ky format tip konsiston në seksionet e mëposhtme:"]
[]
[null,null,null,null,"1. Detaje & Përmbledhje"]
[null,null,null,null,{"$f":"'2.aTë ardhura-jopublik-monetare'!A15","v":" 2.a Të ardhura monetare - Financime jopublike"}]
[null,null,null,null,{"$f":"'2.bTë ardhura-jopublik-nënatyrë'!A15","v":"2.b  Të ardhura, dhurime në natyrë - Financime jopublike"}]
[null,null,null,null,{"$f":"'2.c. Të ardhura - Kreditë'!A15","v":"2.c Huatë dhe Kreditë"}]
[null,null,null,null,{"$f":"'3. Shpenzimet'!C16","v":"3. Shpenzime"}]
[]
[]
[null,null,null,null,"                                        Ju lutemi, sigurohuni që të keni plotësuar të gjitha tabelat e këtij formati tip të raportimit para se ta dorëzoni."]
[null,null,null,null,"Tabela \"Referenca\" nuk ka nevojë të plotësohet."]
[]
["Ky raport i plotësuar duhet të dorëzohet tek Kryefinancieri i Partisë tuaj brenda 30 ditëve nga dita e shpalljes së rezultatit të zgjedhjeve."]

{"sheet":"1.Detaje & Përmbledhje","index":1,"n_rows":37,"n_cols":5,"rows_kept":37,"cut":false,"hidden":false,"merged":[[17,1,17,4],[19,1,19,2],[24,1,24,2],[26,1,26,2]]}
[]
[]
[]
[]
[]
[]
[]
[null,null,"REPUBLIKA E SHQIPËRISË\n"]
[null,null,"KOMISIONI QENDROR I ZGJEDHJEVE"]
[]
[]
[null,null,"Emri i Partisë Politike",null,"Shkronjat Nistore"]
[]
[null,null,"Emri i Kandidatit",null,"Bashkia"]
[]
[]
[]
[null,"Përmbledhje financiare"]
[]
[null,"Totali i të ardhurave:",null,null,{"$f":"SUM(E22:E25)","v":0}]
[]
[null,null,"b. Totali i të ardhurave nga persona fizike",null,{"$f":"(SUMIF('2.aTë ardhura-jopublik-monetare'!$A$20:$A$1016,Referenca!$F$3,'2.aTë ardhura-jopublik-monetare'!$H$20:$H$1016))+(SUMIF('2.bTë ardhura-jopublik-nënatyrë'!$A$20:$A$5016,Referenca!$F$3,'2.bTë ardhura-jopublik-nënatyrë'!$H$20:$H$5016))","v":0}]
[null,null,"c. Totali i të ardhurave nga persona juridike",null,{"$f":"(SUMIF('2.aTë ardhura-jopublik-monetare'!$A$20:$A$1016,Referenca!$F$4,'2.aTë ardhura-jopublik-monetare'!$H$20:$H$1016))+(SUMIF('2.bTë ardhura-jopublik-nënatyrë'!$A$20:$A$5016,Referenca!$F$4,'2.bTë ardhura-jopublik-nënatyrë'!$H$20:$H$5016))","v":0}]
[]
[null,"Totali i huave:",null,null,{"$f":"SUM('2.c. Të ardhura - Kreditë'!H20:H317)","v":0}]
[]
[null,"Totali i shpenzimeve:",null,null,{"$f":"SUM(E29:E31)","v":0}]
[]
[null,null,"a. Totali i pagesave të bëra",null,{"$f":"SUM('3. Shpenzimet'!H22:H5017)","v":0}]
[null,null,"b. Totali i shpenzimeve indirekte",null,{"$f":"SUM('2.bTë ardhura-jopublik-nënatyrë'!H20:H5016)","v":0}]
[null,null,"c. Totale të papaguara/detyrime financiare",null,{"$f":"SUM('3. Shpenzimet'!I22:I5017)","v":0}]
[]
[]
[null,null,"FINANCIERI",null,"APROVUESI"]
[]
[]
[null,null,"Emër Mbiemër Firmë",null,"Emër Mbiemër Firmë"]

{"sheet":"2.aTë ardhura-jopublik-monetare","index":2,"n_rows":389247,"n_cols":13,"rows_kept":4500,"cut":true,"hidden":false,"merged":[[17,6,17,7],[14,6,14,7],[15,6,15,7],[16,6,16,7],[15,0,15,2],[15,3,15,4]],"bounds":{"rows_first":2000,"rows_last":500,"rows_between":2000,"halvings":0},"read":"row_number_cap"}
[]
[]
[]
[]
[]
[]
[]
[null,null,null,null,"REPUBLIKA E SHQIPËRISË\n"]
[null,null,null,null,"KOMISIONI QENDROR I ZGJEDHJEVE"]
[]
[null,"Emri i Partisë Politike",null,null,null,"Shkronjat Nistore"]
[]
[null,"Emri I Kandidatit",null,null,null,"Bashkia"]
[]
[" 2.a Të ardhura monetare - Financime jopublike"]
[{"$f":"\"Ju lutemi konfirmoni nëse nuk keni gjë për të raportuar\"&A15","v":"Ju lutemi konfirmoni nëse nuk keni gjë për të raportuar 2.a Të ardhura monetare - Financime jopublike"}]
[]
[]
["A.  Statusi i dhuruesit","B. Emri i dhuruesit","C. Mbiemri i dhuruesit","D. Adresa (rreshti 1)","E. Adresa (rreshti 2)","F. Kodi postar i adreses","G. Numri i identifikimit ","H. Shuma e dhurimit","I. Data e dhurimit","J. Totali i agreguar i dhurimeve nga dhuruesi për zgjedhjet ","K. Metoda e dhurimit","L. Kodi bankar i llogarisë në të cilën u depozitua dhurimi ","M. Numri llogarisë në të cilën u depozitua dhurimi"]
[null,null,null,null,null,null,null,null,null,{"$f":"SUMIF($G$20:$G$1016,$G20,$H$20:$H$1016)+SUMIF('2.bTë ardhura-jopublik-nënatyrë'!$G$20:$G$1016,'2.aTë ardhura-jopublik-monetare'!$G20,'2.bTë ardhura-jopublik-nënatyrë'!$H$20:$H$1016)","v":0}]
[null,null,null,null,null,null,null,null,null,{"$f":"SUMIF($G$20:$G$1016,$G21,$H$20:$H$1016)+SUMIF('2.bTë ardhura-jopublik-nënatyrë'!$G$20:$G$1016,'2.aTë ardhura-jopublik-monetare'!$G21,'2.bTë ardhura-jopublik-nënatyrë'!$H$20:$H$1016)","v":0}]
[null,null,null,null,null,null,null,null,null,{"$f":"SUMIF($G$20:$G$1016,$G22,$H$20:$H$1016)+SUMIF('2.bTë ardhura-jopublik-nënatyrë'!$G$20:$G$1016,'2.aTë ardhura-jopublik-monetare'!$G22,'2.bTë ardhura-jopublik-nënatyrë'!$H$20:$H$1016)","v":0}]
[null,null,null,null,null,null,null,null,null,{"$f":"SUMIF($G$20:$G$1016,$G23,$H$20:$H$1016)+SUMIF('2.bTë ardhura-jopublik-nënatyrë'!$G$20:$G$1016,'2.aTë ardhura-jopublik-monetare'!$G23,'2.bTë ardhura-jopublik-nënatyrë'!$H$20:$H$1016)","v":0}]
[null,null,null,null,null,null,null,null,null,{"$f":"SUMIF($G$20:$G$1016,$G24,$H$20:$H$1016)+SUMIF('2.bTë ardhura-jopublik-nënatyrë'!$G$20:$G$1016,'2.aTë ardhura-jopublik-monetare'!$G24,'2.bTë ardhura-jopublik-nënatyrë'!$H$20:$H$1016)","v":0}]
[null,null,null,null,null,null,null,null,null,{"$f":"SUMIF($G$20:$G$1016,$G25,$H$20:$H$1016)+SUMIF('2.bTë ardhura-jopublik-nënatyrë'!$G$20:$G$1016,'2.aTë ardhura-jopublik-monetare'!$G25,'2.bTë ardhura-jopublik-nënatyrë'!$H$20:$H$1016)","v":0}]
[null,null,null,null,null,null,null,null,null,{"$f":"SUMIF($G$20:$G$1016,$G26,$H$20:$H$1016)+SUMIF('2.bTë ardhura-jopublik-nënatyrë'!$G$20:$G$1016,'2.aTë ardhura-jopublik-monetare'!$G26,'2.bTë ardhura-jopublik-nënatyrë'!$H$20:$H$1016)","v":0}]
[null,null,null,null,null,null,null,null,null,{"$f":"SUMIF($G$20:$G$1016,$G27,$H$20:$H$1016)+SUMIF('2.bTë ardhura-jopublik-nënatyrë'!$G$20:$G$1016,'2.aTë ardhura-jopublik-monetare'!$G27,'2.bTë ardhura-jopublik-nënatyrë'!$H$20:$H$1016)","v":0}]
[null,null,null,null,null,null,null,null,null,{"$f":"SUMIF($G$20:$G$1016,$G28,$H$20:$H$1016)+SUMIF('2.bTë ardhura-jopublik-nënatyrë'!$G$20:$G$1016,'2.aTë ardhura-jopublik-monetare'!$G28,'2.bTë ardhura-jopublik-nënatyrë'!$H$20:$H$1016)","v":0}]
[null,null,null,null,null,null,null,null,null,{"$f":"SUMIF($G$20:$G$1016,$G29,$H$20:$H$1016)+SUMIF('2.bTë ardhura-jopublik-nënatyrë'!$G$20:$G$1016,'2.aTë ardhura-jopublik-monetare'!$G29,'2.bTë ardhura-jopublik-nënatyrë'!$H$20:$H$1016)","v":0}]
[null,null,null,null,null,null,null,null,null,{"$f":"SUMIF($G$20:$G$1016,$G30,$H$20:$H$1016)+SUMIF('2.bTë ardhura-jopublik-nënatyrë'!$G$20:$G$1016,'2.aTë ardhura-jopublik-monetare'!$G30,'2.bTë ardhura-jopublik-nënatyrë'!$H$20:$H$1016)","v":0}]
[null,null,null,null,null,null,null,null,null,{"$f":"SUMIF($G$20:$G$1016,$G31,$H$20:$H$1016)+SUMIF('2.bTë ardhura-jopublik-nënatyrë'!$G$20:$G$1016,'2.aTë ardhura-jopublik-monetare'!$G31,'2.bTë ardhura-jopublik-nënatyrë'!$H$20:$H$1016)","v":0}]
[null,null,null,null,null,null,null,null,null,{"$f":"SUMIF($G$20:$G$1016,$G32,$H$20:$H$1016)+SUMIF('2.bTë ardhura-jopublik-nënatyrë'!$G$20:$G$1016,'2.aTë ardhura-jopublik-monetare'!$G32,'2.bTë ardhura-jopublik-nënatyrë'!$H$20:$H$1016)","v":0}]
[null,null,null,null,null,null,null,null,null,{"$f":"SUMIF($G$20:$G$1016,$G33,$H$20:$H$1016)+SUMIF('2.bTë ardhura-jopublik-nënatyrë'!$G$20:$G$1016,'2.aTë ardhura-jopublik-monetare'!$G33,'2.bTë ardhura-jopublik-nënatyrë'!$H$20:$H$1016)","v":0}]
[null,null,"FINANCIERI",null,null,null,"APROVUESI",null,null,{"$f":"SUMIF($G$20:$G$1016,$G34,$H$20:$H$1016)+SUMIF('2.bTë ardhura-jopublik-nënatyrë'!$G$20:$G$1016,'2.aTë ardhura-jopublik-monetare'!$G34,'2.bTë ardhura-jopublik-nënatyrë'!$H$20:$H$1016)","v":0}]
[null,null,null,null,null,null,null,null,null,{"$f":"SUMIF($G$20:$G$1016,$G35,$H$20:$H$1016)+SUMIF('2.bTë ardhura-jopublik-nënatyrë'!$G$20:$G$1016,'2.aTë ardhura-jopublik-monetare'!$G35,'2.bTë ardhura-jopublik-nënatyrë'!$H$20:$H$1016)","v":0}]
[null,null,null,null,null,null,null,null,null,{"$f":"SUMIF($G$20:$G$1016,$G36,$H$20:$H$1016)+SUMIF('2.bTë ardhura-jopublik-nënatyrë'!$G$20:$G$1016,'2.aTë ardhura-jopublik-monetare'!$G36,'2.bTë ardhura-jopublik-nënatyrë'!$H$20:$H$1016)","v":0}]
[null,null,"Emër Mbiemër Firmë",null,null,null,"Emër Mbiemër Firmë",null,null,{"$f":"SUMIF($G$20:$G$1016,$G37,$H$20:$H$1016)+SUMIF('2.bTë ardhura-jopublik-nënatyrë'!$G$20:$G$1016,'2.aTë ardhura-jopublik-monetare'!$G37,'2.bTë ardhura-jopublik-nënatyrë'!$H$20:$H$1016)","v":0}]
[null,null,null,null,null,null,null,null,null,{"$f":"SUMIF($G$20:$G$1016,$G38,$H$20:$H$1016)+SUMIF('2.bTë ardhura-jopublik-nënatyrë'!$G$20:$G$1016,'2.aTë ardhura-jopublik-monetare'!$G38,'2.bTë ardhura-jopublik-nënatyrë'!$H$20:$H$1016)","v":0}]
[null,null,null,null,null,null,null,null,null,{"$f":"SUMIF($G$20:$G$1016,$G39,$H$20:$H$1016)+SUMIF('2.bTë ardhura-jopublik-nënatyrë'!$G$20:$G$1016,'2.aTë ardhura-jopublik-monetare'!$G39,'2.bTë ardhura-jopublik-nënatyrë'!$H$20:$H$1016)","v":0}]
[null,null,null,null,null,null,null,null,null,{"$f":"SUMIF($G$20:$G$1016,$G40,$H$20:$H$1016)+SUMIF('2.bTë ardhura-jopublik-nënatyrë'!$G$20:$G$1016,'2.aTë ardhura-jopublik-monetare'!$G40,'2.bTë ardhura-jopublik-nënatyrë'!$H$20:$H$1016)","v":0}]
[null,null,null,null,null,null,null,null,null,{"$f":"SUMIF($G$20:$G$1016,$G41,$H$20:$H$1016)+SUMIF('2.bTë ardhura-jopublik-nënatyrë'!$G$20:$G$1016,'2.aTë ardhura-jopublik-monetare'!$G41,'2.bTë ardhura-jopublik-nënatyrë'!$H$20:$H$1016)","v":0}]
[null,null,null,null,null,null,null,null,null,{"$f":"SUMIF($G$20:$G$1016,$G42,$H$20:$H$1016)+SUMIF('2.bTë ardhura-jopublik-nënatyrë'!$G$20:$G$1016,'2.aTë ardhura-jopublik-monetare'!$G42,'2.bTë ardhura-jopublik-nënatyrë'!$H$20:$H$1016)","v":0}]
[null,null,null,null,null,null,null,null,null,{"$f":"SUMIF($G$20:$G$1016,$G43,$H$20:$H$1016)+SUMIF('2.bTë ardhura-jopublik-nënatyrë'!$G$20:$G$1016,'2.aTë ardhura-jopublik-monetare'!$G43,'2.bTë ardhura-jopublik-nënatyrë'!$H$20:$H$1016)","v":0}]
[null,null,null,null,null,null,null,null,null,{"$f":"SUMIF($G$20:$G$1016,$G44,$H$20:$H$1016)+SUMIF('2.bTë ardhura-jopublik-nënatyrë'!$G$20:$G$1016,'2.aTë ardhura-jopublik-monetare'!$G44,'2.bTë ardhura-jopublik-nënatyrë'!$H$20:$H$1016)","v":0}]
[null,null,null,null,null,null,null,null,null,{"$f":"SUMIF($G$20:$G$1016,$G45,$H$20:$H$1016)+SUMIF('2.bTë ardhura-jopublik-nënatyrë'!$G$20:$G$1016,'2.aTë ardhura-jopublik-monetare'!$G45,'2.bTë ardhura-jopublik-nënatyrë'!$H$20:$H$1016)","v":0}]
[null,null,null,null,null,null,null,null,null,{"$f":"SUMIF($G$20:$G$1016,$G46,$H$20:$H$1016)+SUMIF('2.bTë ardhura-jopublik-nënatyrë'!$G$20:$G$1016,'2.aTë ardhura-jopublik-monetare'!$G46,'2.bTë ardhura-jopublik-nënatyrë'!$H$20:$H$1016)","v":0}]
[null,null,null,null,null,null,null,null,null,{"$f":"SUMIF($G$20:$G$1016,$G47,$H$20:$H$1016)+SUMIF('2.bTë ardhura-jopublik-nënatyrë'!$G$20:$G$1016,'2.aTë ardhura-jopublik-monetare'!$G47,'2.bTë ardhura-jopublik-nënatyrë'!$H$20:$H$1016)","v":0}]
[null,null,null,null,null,null,null,null,null,{"$f":"SUMIF($G$20:$G$1016,$G48,$H$20:$H$1016)+SUMIF('2.bTë ardhura-jopublik-nënatyrë'!$G$20:$G$1016,'2.aTë ardhura-jopublik-monetare'!$G48,'2.bTë ardhura-jopublik-nënatyrë'!$H$20:$H$1016)","v":0}]
[null,null,null,null,null,null,null,null,null,{"$f":"SUMIF($G$20:$G$1016,$G49,$H$20:$H$1016)+SUMIF('2.bTë ardhura-jopublik-nënatyrë'!$G$20:$G$1016,'2.aTë ardhura-jopublik-monetare'!$G49,'2.bTë ardhura-jopublik-nënatyrë'!$H$20:$H$1016)","v":0}]
[null,null,null,null,null,null,null,null,null,{"$f":"SUMIF($G$20:$G$1016,$G50,$H$20:$H$1016)+SUMIF('2.bTë ardhura-jopublik-nënatyrë'!$G$20:$G$1016,'2.aTë ardhura-jopublik-monetare'!$G50,'2.bTë ardhura-jopublik-nënatyrë'!$H$20:$H$1016)","v":0}]
[null,null,null,null,null,null,null,null,null,{"$f":"SUMIF($G$20:$G$1016,$G51,$H$20:$H$1016)+SUMIF('2.bTë ardhura-jopublik-nënatyrë'!$G$20:$G$1016,'2.aTë ardhura-jopublik-monetare'!$G51,'2.bTë ardhura-jopublik-nënatyrë'!$H$20:$H$1016)","v":0}]
[null,null,null,null,null,null,null,null,null,{"$f":"SUMIF($G$20:$G$1016,$G52,$H$20:$H$1016)+SUMIF('2.bTë ardhura-jopublik-nënatyrë'!$G$20:$G$1016,'2.aTë ardhura-jopublik-monetare'!$G52,'2.bTë ardhura-jopublik-nënatyrë'!$H$20:$H$1016)","v":0}]
[null,null,null,null,null,null,null,null,null,{"$f":"SUMIF($G$20:$G$1016,$G53,$H$20:$H$1016)+SUMIF('2.bTë ardhura-jopublik-nënatyrë'!$G$20:$G$1016,'2.aTë ardhura-jopublik-monetare'!$G53,'2.bTë ardhura-jopublik-nënatyrë'!$H$20:$H$1016)","v":0}]
[null,null,null,null,null,null,null,null,null,{"$f":"SUMIF($G$20:$G$1016,$G54,$H$20:$H$1016)+SUMIF('2.bTë ardhura-jopublik-nënatyrë'!$G$20:$G$1016,'2.aTë ardhura-jopublik-monetare'!$G54,'2.bTë ardhura-jopublik-nënatyrë'!$H$20:$H$1016)","v":0}]
[null,null,null,null,null,null,null,null,null,{"$f":"SUMIF($G$20:$G$1016,$G55,$H$20:$H$1016)+SUMIF('2.bTë ardhura-jopublik-nënatyrë'!$G$20:$G$1016,'2.aTë ardhura-jopublik-monetare'!$G55,'2.bTë ardhura-jopublik-nënatyrë'!$H$20:$H$1016)","v":0}]
[null,null,null,null,null,null,null,null,null,{"$f":"SUMIF($G$20:$G$1016,$G56,$H$20:$H$1016)+SUMIF('2.bTë ardhura-jopublik-nënatyrë'!$G$20:$G$1016,'2.aTë ardhura-jopublik-monetare'!$G56,'2.bTë ardhura-jopublik-nënatyrë'!$H$20:$H$1016)","v":0}]
[null,null,null,null,null,null,null,null,null,{"$f":"SUMIF($G$20:$G$1016,$G57,$H$20:$H$1016)+SUMIF('2.bTë ardhura-jopublik-nënatyrë'!$G$20:$G$1016,'2.aTë ardhura-jopublik-monetare'!$G57,'2.bTë ardhura-jopublik-nënatyrë'!$H$20:$H$1016)","v":0}]
[null,null,null,null,null,null,null,null,null,{"$f":"SUMIF($G$20:$G$1016,$G58,$H$20:$H$1016)+SUMIF('2.bTë ardhura-jopublik-nënatyrë'!$G$20:$G$1016,'2.aTë ardhura-jopublik-monetare'!$G58,'2.bTë ardhura-jopublik-nënatyrë'!$H$20:$H$1016)","v":0}]
[null,null,null,null,null,null,null,null,null,{"$f":"SUMIF($G$20:$G$1016,$G59,$H$20:$H$1016)+SUMIF('2.bTë ardhura-jopublik-nënatyrë'!$G$20:$G$1016,'2.aTë ardhura-jopublik-monetare'!$G59,'2.bTë ardhura-jopublik-nënatyrë'!$H$20:$H$1016)","v":0}]
[null,null,null,null,null,null,null,null,null,{"$f":"SUMIF($G$20:$G$1016,$G60,$H$20:$H$1016)+SUMIF('2.bTë ardhura-jopublik-nënatyrë'!$G$20:$G$1016,'2.aTë ardhura-jopublik-monetare'!$G60,'2.bTë ardhura-jopublik-nënatyrë'!$H$20:$H$1016)","v":0}]
[null,null,null,null,null,null,null,null,null,{"$f":"SUMIF($G$20:$G$1016,$G61,$H$20:$H$1016)+SUMIF('2.bTë ardhura-jopublik-nënatyrë'!$G$20:$G$1016,'2.aTë ardhura-jopublik-monetare'!$G61,'2.bTë ardhura-jopublik-nënatyrë'!$H$20:$H$1016)","v":0}]
[null,null,null,null,null,null,null,null,null,{"$f":"SUMIF($G$20:$G$1016,$G62,$H$20:$H$1016)+SUMIF('2.bTë ardhura-jopublik-nënatyrë'!$G$20:$G$1016,'2.aTë ardhura-jopublik-monetare'!$G62,'2.bTë ardhura-jopublik-nënatyrë'!$H$20:$H$1016)","v":0}]
[null,null,null,null,null,null,null,null,null,{"$f":"SUMIF($G$20:$G$1016,$G63,$H$20:$H$1016)+SUMIF('2.bTë ardhura-jopublik-nënatyrë'!$G$20:$G$1016,'2.aTë ardhura-jopublik-monetare'!$G63,'2.bTë ardhura-jopublik-nënatyrë'!$H$20:$H$1016)","v":0}]
[null,null,null,null,null,null,null,null,null,{"$f":"SUMIF($G$20:$G$1016,$G64,$H$20:$H$1016)+SUMIF('2.bTë ardhura-jopublik-nënatyrë'!$G$20:$G$1016,'2.aTë ardhura-jopublik-monetare'!$G64,'2.bTë ardhura-jopublik-nënatyrë'!$H$20:$H$1016)","v":0}]
[null,null,null,null,null,null,null,null,null,{"$f":"SUMIF($G$20:$G$1016,$G65,$H$20:$H$1016)+SUMIF('2.bTë ardhura-jopublik-nënatyrë'!$G$20:$G$1016,'2.aTë ardhura-jopublik-monetare'!$G65,'2.bTë ardhura-jopublik-nënatyrë'!$H$20:$H$1016)","v":0}]
[null,null,null,null,null,null,null,null,null,{"$f":"SUMIF($G$20:$G$1016,$G66,$H$20:$H$1016)+SUMIF('2.bTë ardhura-jopublik-nënatyrë'!$G$20:$G$1016,'2.aTë ardhura-jopublik-monetare'!$G66,'2.bTë ardhura-jopublik-nënatyrë'!$H$20:$H$1016)","v":0}]
[null,null,null,null,null,null,null,null,null,{"$f":"SUMIF($G$20:$G$1016,$G67,$H$20:$H$1016)+SUMIF('2.bTë ardhura-jopublik-nënatyrë'!$G$20:$G$1016,'2.aTë ardhura-jopublik-monetare'!$G67,'2.bTë ardhura-jopublik-nënatyrë'!$H$20:$H$1016)","v":0}]
[null,null,null,null,null,null,null,null,null,{"$f":"SUMIF($G$20:$G$1016,$G68,$H$20:$H$1016)+SUMIF('2.bTë ardhura-jopublik-nënatyrë'!$G$20:$G$1016,'2.aTë ardhura-jopublik-monetare'!$G68,'2.bTë ardhura-jopublik-nënatyrë'!$H$20:$H$1016)","v":0}]
[null,null,null,null,null,null,null,null,null,{"$f":"SUMIF($G$20:$G$1016,$G69,$H$20:$H$1016)+SUMIF('2.bTë ardhura-jopublik-nënatyrë'!$G$20:$G$1016,'2.aTë ardhura-jopublik-monetare'!$G69,'2.bTë ardhura-jopublik-nënatyrë'!$H$20:$H$1016)","v":0}]
[null,null,null,null,null,null,null,null,null,{"$f":"SUMIF($G$20:$G$1016,$G70,$H$20:$H$1016)+SUMIF('2.bTë ardhura-jopublik-nënatyrë'!$G$20:$G$1016,'2.aTë ardhura-jopublik-monetare'!$G70,'2.bTë ardhura-jopublik-nënatyrë'!$H$20:$H$1016)","v":0}]
[null,null,null,null,null,null,null,null,null,{"$f":"SUMIF($G$20:$G$1016,$G71,$H$20:$H$1016)+SUMIF('2.bTë ardhura-jopublik-nënatyrë'!$G$20:$G$1016,'2.aTë ardhura-jopublik-monetare'!$G71,'2.bTë ardhura-jopublik-nënatyrë'!$H$20:$H$1016)","v":0}]
[null,null,null,null,null,null,null,null,null,{"$f":"SUMIF($G$20:$G$1016,$G72,$H$20:$H$1016)+SUMIF('2.bTë ardhura-jopublik-nënatyrë'!$G$20:$G$1016,'2.aTë ardhura-jopublik-monetare'!$G72,'2.bTë ardhura-jopublik-nënatyrë'!$H$20:$H$1016)","v":0}]
[null,null,null,null,null,null,null,null,null,{"$f":"SUMIF($G$20:$G$1016,$G73,$H$20:$H$1016)+SUMIF('2.bTë ardhura-jopublik-nënatyrë'!$G$20:$G$1016,'2.aTë ardhura-jopublik-monetare'!$G73,'2.bTë ardhura-jopublik-nënatyrë'!$H$20:$H$1016)","v":0}]
[null,null,null,null,null,null,null,null,null,{"$f":"SUMIF($G$20:$G$1016,$G74,$H$20:$H$1016)+SUMIF('2.bTë ardhura-jopublik-nënatyrë'!$G$20:$G$1016,'2.aTë ardhura-jopublik-monetare'!$G74,'2.bTë ardhura-jopublik-nënatyrë'!$H$20:$H$1016)","v":0}]
[null,null,null,null,null,null,null,null,null,{"$f":"SUMIF($G$20:$G$1016,$G75,$H$20:$H$1016)+SUMIF('2.bTë ardhura-jopublik-nënatyrë'!$G$20:$G$1016,'2.aTë ardhura-jopublik-monetare'!$G75,'2.bTë ardhura-jopublik-nënatyrë'!$H$20:$H$1016)","v":0}]
[null,null,null,null,null,null,null,null,null,{"$f":"SUMIF($G$20:$G$1016,$G76,$H$20:$H$1016)+SUMIF('2.bTë ardhura-jopublik-nënatyrë'!$G$20:$G$1016,'2.aTë ardhura-jopublik-monetare'!$G76,'2.bTë ardhura-jopublik-nënatyrë'!$H$20:$H$1016)","v":0}]
[null,null,null,null,null,null,null,null,null,{"$f":"SUMIF($G$20:$G$1016,$G77,$H$20:$H$1016)+SUMIF('2.bTë ardhura-jopublik-nënatyrë'!$G$20:$G$1016,'2.aTë ardhura-jopublik-monetare'!$G77,'2.bTë ardhura-jopublik-nënatyrë'!$H$20:$H$1016)","v":0}]
[null,null,null,null,null,null,null,null,null,{"$f":"SUMIF($G$20:$G$1016,$G78,$H$20:$H$1016)+SUMIF('2.bTë ardhura-jopublik-nënatyrë'!$G$20:$G$1016,'2.aTë ardhura-jopublik-monetare'!$G78,'2.bTë ardhura-jopublik-nënatyrë'!$H$20:$H$1016)","v":0}]
[null,null,null,null,null,null,null,null,null,{"$f":"SUMIF($G$20:$G$1016,$G79,$H$20:$H$1016)+SUMIF('2.bTë ardhura-jopublik-nënatyrë'!$G$20:$G$1016,'2.aTë ardhura-jopublik-monetare'!$G79,'2.bTë ardhura-jopublik-nënatyrë'!$H$20:$H$1016)","v":0}]
[null,null,null,null,null,null,null,null,null,{"$f":"SUMIF($G$20:$G$1016,$G80,$H$20:$H$1016)+SUMIF('2.bTë ardhura-jopublik-nënatyrë'!$G$20:$G$1016,'2.aTë ardhura-jopublik-monetare'!$G80,'2.bTë ardhura-jopublik-nënatyrë'!$H$20:$H$1016)","v":0}]
[null,null,null,null,null,null,null,null,null,{"$f":"SUMIF($G$20:$G$1016,$G81,$H$20:$H$1016)+SUMIF('2.bTë ardhura-jopublik-nënatyrë'!$G$20:$G$1016,'2.aTë ardhura-jopublik-monetare'!$G81,'2.bTë ardhura-jopublik-nënatyrë'!$H$20:$H$1016)","v":0}]
[null,null,null,null,null,null,null,null,null,{"$f":"SUMIF($G$20:$G$1016,$G82,$H$20:$H$1016)+SUMIF('2.bTë ardhura-jopublik-nënatyrë'!$G$20:$G$1016,'2.aTë ardhura-jopublik-monetare'!$G82,'2.bTë ardhura-jopublik-nënatyrë'!$H$20:$H$1016)","v":0}]
[null,null,null,null,null,null,null,null,null,{"$f":"SUMIF($G$20:$G$1016,$G83,$H$20:$H$1016)+SUMIF('2.bTë ardhura-jopublik-nënatyrë'!$G$20:$G$1016,'2.aTë ardhura-jopublik-monetare'!$G83,'2.bTë ardhura-jopublik-nënatyrë'!$H$20:$H$1016)","v":0}]
[null,null,null,null,null,null,null,null,null,{"$f":"SUMIF($G$20:$G$1016,$G84,$H$20:$H$1016)+SUMIF('2.bTë ardhura-jopublik-nënatyrë'!$G$20:$G$1016,'2.aTë ardhura-jopublik-monetare'!$G84,'2.bTë ardhura-jopublik-nënatyrë'!$H$20:$H$1016)","v":0}]
[null,null,null,null,null,null,null,null,null,{"$f":"SUMIF($G$20:$G$1016,$G85,$H$20:$H$1016)+SUMIF('2.bTë ardhura-jopublik-nënatyrë'!$G$20:$G$1016,'2.aTë ardhura-jopublik-monetare'!$G85,'2.bTë ardhura-jopublik-nënatyrë'!$H$20:$H$1016)","v":0}]
[null,null,null,null,null,null,null,null,null,{"$f":"SUMIF($G$20:$G$1016,$G86,$H$20:$H$1016)+SUMIF('2.bTë ardhura-jopublik-nënatyrë'!$G$20:$G$1016,'2.aTë ardhura-jopublik-monetare'!$G86,'2.bTë ardhura-jopublik-nënatyrë'!$H$20:$H$1016)","v":0}]
[null,null,null,null,null,null,null,null,null,{"$f":"SUMIF($G$20:$G$1016,$G87,$H$20:$H$1016)+SUMIF('2.bTë ardhura-jopublik-nënatyrë'!$G$20:$G$1016,'2.aTë ardhura-jopublik-monetare'!$G87,'2.bTë ardhura-jopublik-nënatyrë'!$H$20:$H$1016)","v":0}]
[null,null,null,null,null,null,null,null,null,{"$f":"SUMIF($G$20:$G$1016,$G88,$H$20:$H$1016)+SUMIF('2.bTë ardhura-jopublik-nënatyrë'!$G$20:$G$1016,'2.aTë ardhura-jopublik-monetare'!$G88,'2.bTë ardhura-jopublik-nënatyrë'!$H$20:$H$1016)","v":0}]
[null,null,null,null,null,null,null,null,null,{"$f":"SUMIF($G$20:$G$1016,$G89,$H$20:$H$1016)+SUMIF('2.bTë ardhura-jopublik-nënatyrë'!$G$20:$G$1016,'2.aTë ardhura-jopublik-monetare'!$G89,'2.bTë ardhura-jopublik-nënatyrë'!$H$20:$H$1016)","v":0}]
[null,null,null,null,null,null,null,null,null,{"$f":"SUMIF($G$20:$G$1016,$G90,$H$20:$H$1016)+SUMIF('2.bTë ardhura-jopublik-nënatyrë'!$G$20:$G$1016,'2.aTë ardhura-jopublik-monetare'!$G90,'2.bTë ardhura-jopublik-nënatyrë'!$H$20:$H$1016)","v":0}]
[null,null,null,null,null,null,null,null,null,{"$f":"SUMIF($G$20:$G$1016,$G91,$H$20:$H$1016)+SUMIF('2.bTë ardhura-jopublik-nënatyrë'!$G$20:$G$1016,'2.aTë ardhura-jopublik-monetare'!$G91,'2.bTë ardhura-jopublik-nënatyrë'!$H$20:$H$1016)","v":0}]
[null,null,null,null,null,null,null,null,null,{"$f":"SUMIF($G$20:$G$1016,$G92,$H$20:$H$1016)+SUMIF('2.bTë ardhura-jopublik-nënatyrë'!$G$20:$G$1016,'2.aTë ardhura-jopublik-monetare'!$G92,'2.bTë ardhura-jopublik-nënatyrë'!$H$20:$H$1016)","v":0}]
[null,null,null,null,null,null,null,null,null,{"$f":"SUMIF($G$20:$G$1016,$G93,$H$20:$H$1016)+SUMIF('2.bTë ardhura-jopublik-nënatyrë'!$G$20:$G$1016,'2.aTë ardhura-jopublik-monetare'!$G93,'2.bTë ardhura-jopublik-nënatyrë'!$H$20:$H$1016)","v":0}]
[null,null,null,null,null,null,null,null,null,{"$f":"SUMIF($G$20:$G$1016,$G94,$H$20:$H$1016)+SUMIF('2.bTë ardhura-jopublik-nënatyrë'!$G$20:$G$1016,'2.aTë ardhura-jopublik-monetare'!$G94,'2.bTë ardhura-jopublik-nënatyrë'!$H$20:$H$1016)","v":0}]
[null,null,null,null,null,null,null,null,null,{"$f":"SUMIF($G$20:$G$1016,$G95,$H$20:$H$1016)+SUMIF('2.bTë ardhura-jopublik-nënatyrë'!$G$20:$G$1016,'2.aTë ardhura-jopublik-monetare'!$G95,'2.bTë ardhura-jopublik-nënatyrë'!$H$20:$H$1016)","v":0}]
[null,null,null,null,null,null,null,null,null,{"$f":"SUMIF($G$20:$G$1016,$G96,$H$20:$H$1016)+SUMIF('2.bTë ardhura-jopublik-nënatyrë'!$G$20:$G$1016,'2.aTë ardhura-jopublik-monetare'!$G96,'2.bTë ardhura-jopublik-nënatyrë'!$H$20:$H$1016)","v":0}]
[null,null,null,null,null,null,null,null,null,{"$f":"SUMIF($G$20:$G$1016,$G97,$H$20:$H$1016)+SUMIF('2.bTë ardhura-jopublik-nënatyrë'!$G$20:$G$1016,'2.aTë ardhura-jopublik-monetare'!$G97,'2.bTë ardhura-jopublik-nënatyrë'!$H$20:$H$1016)","v":0}]
[null,null,null,null,null,null,null,null,null,{"$f":"SUMIF($G$20:$G$1016,$G98,$H$20:$H$1016)+SUMIF('2.bTë ardhura-jopublik-nënatyrë'!$G$20:$G$1016,'2.aTë ardhura-jopublik-monetare'!$G98,'2.bTë ardhura-jopublik-nënatyrë'!$H$20:$H$1016)","v":0}]
[null,null,null,null,null,null,null,null,null,{"$f":"SUMIF($G$20:$G$1016,$G99,$H$20:$H$1016)+SUMIF('2.bTë ardhura-jopublik-nënatyrë'!$G$20:$G$1016,'2.aTë ardhura-jopublik-monetare'!$G99,'2.bTë ardhura-jopublik-nënatyrë'!$H$20:$H$1016)","v":0}]
[null,null,null,null,null,null,null,null,null,{"$f":"SUMIF($G$20:$G$1016,$G100,$H$20:$H$1016)+SUMIF('2.bTë ardhura-jopublik-nënatyrë'!$G$20:$G$1016,'2.aTë ardhura-jopublik-monetare'!$G100,'2.bTë ardhura-jopublik-nënatyrë'!$H$20:$H$1016)","v":0}]
[null,null,null,null,null,null,null,null,null,{"$f":"SUMIF($G$20:$G$1016,$G101,$H$20:$H$1016)+SUMIF('2.bTë ardhura-jopublik-nënatyrë'!$G$20:$G$1016,'2.aTë ardhura-jopublik-monetare'!$G101,'2.bTë ardhura-jopublik-nënatyrë'!$H$20:$H$1016)","v":0}]
[null,null,null,null,null,null,null,null,null,{"$f":"SUMIF($G$20:$G$1016,$G102,$H$20:$H$1016)+SUMIF('2.bTë ardhura-jopublik-nënatyrë'!$G$20:$G$1016,'2.aTë ardhura-jopublik-monetare'!$G102,'2.bTë ardhura-jopublik-nënatyrë'!$H$20:$H$1016)","v":0}]
[null,null,null,null,null,null,null,null,null,{"$f":"SUMIF($G$20:$G$1016,$G103,$H$20:$H$1016)+SUMIF('2.bTë ardhura-jopublik-nënatyrë'!$G$20:$G$1016,'2.aTë ardhura-jopublik-monetare'!$G103,'2.bTë ardhura-jopublik-nënatyrë'!$H$20:$H$1016)","v":0}]
[null,null,null,null,null,null,null,null,null,{"$f":"SUMIF($G$20:$G$1016,$G104,$H$20:$H$1016)+SUMIF('2.bTë ardhura-jopublik-nënatyrë'!$G$20:$G$1016,'2.aTë ardhura-jopublik-monetare'!$G104,'2.bTë ardhura-jopublik-nënatyrë'!$H$20:$H$1016)","v":0}]
[null,null,null,null,null,null,null,null,null,{"$f":"SUMIF($G$20:$G$1016,$G105,$H$20:$H$1016)+SUMIF('2.bTë ardhura-jopublik-nënatyrë'!$G$20:$G$1016,'2.aTë ardhura-jopublik-monetare'!$G105,'2.bTë ardhura-jopublik-nënatyrë'!$H$20:$H$1016)","v":0}]
[null,null,null,null,null,null,null,null,null,{"$f":"SUMIF($G$20:$G$1016,$G106,$H$20:$H$1016)+SUMIF('2.bTë ardhura-jopublik-nënatyrë'!$G$20:$G$1016,'2.aTë ardhura-jopublik-monetare'!$G106,'2.bTë ardhura-jopublik-nënatyrë'!$H$20:$H$1016)","v":0}]
[null,null,null,null,null,null,null,null,null,{"$f":"SUMIF($G$20:$G$1016,$G107,$H$20:$H$1016)+SUMIF('2.bTë ardhura-jopublik-nënatyrë'!$G$20:$G$1016,'2.aTë ardhura-jopublik-monetare'!$G107,'2.bTë ardhura-jopublik-nënatyrë'!$H$20:$H$1016)","v":0}]
[null,null,null,null,null,null,null,null,null,{"$f":"SUMIF($G$20:$G$1016,$G108,$H$20:$H$1016)+SUMIF('2.bTë ardhura-jopublik-nënatyrë'!$G$20:$G$1016,'2.aTë ardhura-jopublik-monetare'!$G108,'2.bTë ardhura-jopublik-nënatyrë'!$H$20:$H$1016)","v":0}]
[null,null,null,null,null,null,null,null,null,{"$f":"SUMIF($G$20:$G$1016,$G109,$H$20:$H$1016)+SUMIF('2.bTë ardhura-jopublik-nënatyrë'!$G$20:$G$1016,'2.aTë ardhura-jopublik-monetare'!$G109,'2.bTë ardhura-jopublik-nënatyrë'!$H$20:$H$1016)","v":0}]
[null,null,null,null,null,null,null,null,null,{"$f":"SUMIF($G$20:$G$1016,$G110,$H$20:$H$1016)+SUMIF('2.bTë ardhura-jopublik-nënatyrë'!$G$20:$G$1016,'2.aTë ardhura-jopublik-monetare'!$G110,'2.bTë ardhura-jopublik-nënatyrë'!$H$20:$H$1016)","v":0}]
[null,null,null,null,null,null,null,null,null,{"$f":"SUMIF($G$20:$G$1016,$G111,$H$20:$H$1016)+SUMIF('2.bTë ardhura-jopublik-nënatyrë'!$G$20:$G$1016,'2.aTë ardhura-jopublik-monetare'!$G111,'2.bTë ardhura-jopublik-nënatyrë'!$H$20:$H$1016)","v":0}]
[null,null,null,null,null,null,null,null,null,{"$f":"SUMIF($G$20:$G$1016,$G112,$H$20:$H$1016)+SUMIF('2.bTë ardhura-jopublik-nënatyrë'!$G$20:$G$1016,'2.aTë ardhura-jopublik-monetare'!$G112,'2.bTë ardhura-jopublik-nënatyrë'!$H$20:$H$1016)","v":0}]
[null,null,null,null,null,null,null,null,null,{"$f":"SUMIF($G$20:$G$1016,$G113,$H$20:$H$1016)+SUMIF('2.bTë ardhura-jopublik-nënatyrë'!$G$20:$G$1016,'2.aTë ardhura-jopublik-monetare'!$G113,'2.bTë ardhura-jopublik-nënatyrë'!$H$20:$H$1016)","v":0}]
[null,null,null,null,null,null,null,null,null,{"$f":"SUMIF($G$20:$G$1016,$G114,$H$20:$H$1016)+SUMIF('2.bTë ardhura-jopublik-nënatyrë'!$G$20:$G$1016,'2.aTë ardhura-jopublik-monetare'!$G114,'2.bTë ardhura-jopublik-nënatyrë'!$H$20:$H$1016)","v":0}]
[null,null,null,null,null,null,null,null,null,{"$f":"SUMIF($G$20:$G$1016,$G115,$H$20:$H$1016)+SUMIF('2.bTë ardhura-jopublik-nënatyrë'!$G$20:$G$1016,'2.aTë ardhura-jopublik-monetare'!$G115,'2.bTë ardhura-jopublik-nënatyrë'!$H$20:$H$1016)","v":0}]
[null,null,null,null,null,null,null,null,null,{"$f":"SUMIF($G$20:$G$1016,$G116,$H$20:$H$1016)+SUMIF('2.bTë ardhura-jopublik-nënatyrë'!$G$20:$G$1016,'2.aTë ardhura-jopublik-monetare'!$G116,'2.bTë ardhura-jopublik-nënatyrë'!$H$20:$H$1016)","v":0}]
[null,null,null,null,null,null,null,null,null,{"$f":"SUMIF($G$20:$G$1016,$G117,$H$20:$H$1016)+SUMIF('2.bTë ardhura-jopublik-nënatyrë'!$G$20:$G$1016,'2.aTë ardhura-jopublik-monetare'!$G117,'2.bTë ardhura-jopublik-nënatyrë'!$H$20:$H$1016)","v":0}]
[null,null,null,null,null,null,null,null,null,{"$f":"SUMIF($G$20:$G$1016,$G118,$H$20:$H$1016)+SUMIF('2.bTë ardhura-jopublik-nënatyrë'!$G$20:$G$1016,'2.aTë ardhura-jopublik-monetare'!$G118,'2.bTë ardhura-jopublik-nënatyrë'!$H$20:$H$1016)","v":0}]
[null,null,null,null,null,null,null,null,null,{"$f":"SUMIF($G$20:$G$1016,$G119,$H$20:$H$1016)+SUMIF('2.bTë ardhura-jopublik-nënatyrë'!$G$20:$G$1016,'2.aTë ardhura-jopublik-monetare'!$G119,'2.bTë ardhura-jopublik-nënatyrë'!$H$20:$H$1016)","v":0}]
[null,null,null,null,null,null,null,null,null,{"$f":"SUMIF($G$20:$G$1016,$G120,$H$20:$H$1016)+SUMIF('2.bTë ardhura-jopublik-nënatyrë'!$G$20:$G$1016,'2.aTë ardhura-jopublik-monetare'!$G120,'2.bTë ardhura-jopublik-nënatyrë'!$H$20:$H$1016)","v":0}]
[null,null,null,null,null,null,null,null,null,{"$f":"SUMIF($G$20:$G$1016,$G121,$H$20:$H$1016)+SUMIF('2.bTë ardhura-jopublik-nënatyrë'!$G$20:$G$1016,'2.aTë ardhura-jopublik-monetare'!$G121,'2.bTë ardhura-jopublik-nënatyrë'!$H$20:$H$1016)","v":0}]
[null,null,null,null,null,null,null,null,null,{"$f":"SUMIF($G$20:$G$1016,$G122,$H$20:$H$1016)+SUMIF('2.bTë ardhura-jopublik-nënatyrë'!$G$20:$G$1016,'2.aTë ardhura-jopublik-monetare'!$G122,'2.bTë ardhura-jopublik-nënatyrë'!$H$20:$H$1016)","v":0}]
[null,null,null,null,null,null,null,null,null,{"$f":"SUMIF($G$20:$G$1016,$G123,$H$20:$H$1016)+SUMIF('2.bTë ardhura-jopublik-nënatyrë'!$G$20:$G$1016,'2.aTë ardhura-jopublik-monetare'!$G123,'2.bTë ardhura-jopublik-nënatyrë'!$H$20:$H$1016)","v":0}]
[null,null,null,null,null,null,null,null,null,{"$f":"SUMIF($G$20:$G$1016,$G124,$H$20:$H$1016)+SUMIF('2.bTë ardhura-jopublik-nënatyrë'!$G$20:$G$1016,'2.aTë ardhura-jopublik-monetare'!$G124,'2.bTë ardhura-jopublik-nënatyrë'!$H$20:$H$1016)","v":0}]
[null,null,null,null,null,null,null,null,null,{"$f":"SUMIF($G$20:$G$1016,$G125,$H$20:$H$1016)+SUMIF('2.bTë ardhura-jopublik-nënatyrë'!$G$20:$G$1016,'2.aTë ardhura-jopublik-monetare'!$G125,'2.bTë ardhura-jopublik-nënatyrë'!$H$20:$H$1016)","v":0}]
[null,null,null,null,null,null,null,null,null,{"$f":"SUMIF($G$20:$G$1016,$G126,$H$20:$H$1016)+SUMIF('2.bTë ardhura-jopublik-nënatyrë'!$G$20:$G$1016,'2.aTë ardhura-jopublik-monetare'!$G126,'2.bTë ardhura-jopublik-nënatyrë'!$H$20:$H$1016)","v":0}]
[null,null,null,null,null,null,null,null,null,{"$f":"SUMIF($G$20:$G$1016,$G127,$H$20:$H$1016)+SUMIF('2.bTë ardhura-jopublik-nënatyrë'!$G$20:$G$1016,'2.aTë ardhura-jopublik-monetare'!$G127,'2.bTë ardhura-jopublik-nënatyrë'!$H$20:$H$1016)","v":0}]
[null,null,null,null,null,null,null,null,null,{"$f":"SUMIF($G$20:$G$1016,$G128,$H$20:$H$1016)+SUMIF('2.bTë ardhura-jopublik-nënatyrë'!$G$20:$G$1016,'2.aTë ardhura-jopublik-monetare'!$G128,'2.bTë ardhura-jopublik-nënatyrë'!$H$20:$H$1016)","v":0}]
[null,null,null,null,null,null,null,null,null,{"$f":"SUMIF($G$20:$G$1016,$G129,$H$20:$H$1016)+SUMIF('2.bTë ardhura-jopublik-nënatyrë'!$G$20:$G$1016,'2.aTë ardhura-jopublik-monetare'!$G129,'2.bTë ardhura-jopublik-nënatyrë'!$H$20:$H$1016)","v":0}]
[null,null,null,null,null,null,null,null,null,{"$f":"SUMIF($G$20:$G$1016,$G130,$H$20:$H$1016)+SUMIF('2.bTë ardhura-jopublik-nënatyrë'!$G$20:$G$1016,'2.aTë ardhura-jopublik-monetare'!$G130,'2.bTë ardhura-jopublik-nënatyrë'!$H$20:$H$1016)","v":0}]
[null,null,null,null,null,null,null,null,null,{"$f":"SUMIF($G$20:$G$1016,$G131,$H$20:$H$1016)+SUMIF('2.bTë ardhura-jopublik-nënatyrë'!$G$20:$G$1016,'2.aTë ardhura-jopublik-monetare'!$G131,'2.bTë ardhura-jopublik-nënatyrë'!$H$20:$H$1016)","v":0}]
[null,null,null,null,null,null,null,null,null,{"$f":"SUMIF($G$20:$G$1016,$G132,$H$20:$H$1016)+SUMIF('2.bTë ardhura-jopublik-nënatyrë'!$G$20:$G$1016,'2.aTë ardhura-jopublik-monetare'!$G132,'2.bTë ardhura-jopublik-nënatyrë'!$H$20:$H$1016)","v":0}]
[null,null,null,null,null,null,null,null,null,{"$f":"SUMIF($G$20:$G$1016,$G133,$H$20:$H$1016)+SUMIF('2.bTë ardhura-jopublik-nënatyrë'!$G$20:$G$1016,'2.aTë ardhura-jopublik-monetare'!$G133,'2.bTë ardhura-jopublik-nënatyrë'!$H$20:$H$1016)","v":0}]
[null,null,null,null,null,null,null,null,null,{"$f":"SUMIF($G$20:$G$1016,$G134,$H$20:$H$1016)+SUMIF('2.bTë ardhura-jopublik-nënatyrë'!$G$20:$G$1016,'2.aTë ardhura-jopublik-monetare'!$G134,'2.bTë ardhura-jopublik-nënatyrë'!$H$20:$H$1016)","v":0}]
[null,null,null,null,null,null,null,null,null,{"$f":"SUMIF($G$20:$G$1016,$G135,$H$20:$H$1016)+SUMIF('2.bTë ardhura-jopublik-nënatyrë'!$G$20:$G$1016,'2.aTë ardhura-jopublik-monetare'!$G135,'2.bTë ardhura-jopublik-nënatyrë'!$H$20:$H$1016)","v":0}]
[null,null,null,null,null,null,null,null,null,{"$f":"SUMIF($G$20:$G$1016,$G136,$H$20:$H$1016)+SUMIF('2.bTë ardhura-jopublik-nënatyrë'!$G$20:$G$1016,'2.aTë ardhura-jopublik-monetare'!$G136,'2.bTë ardhura-jopublik-nënatyrë'!$H$20:$H$1016)","v":0}]
[null,null,null,null,null,null,null,null,null,{"$f":"SUMIF($G$20:$G$1016,$G137,$H$20:$H$1016)+SUMIF('2.bTë ardhura-jopublik-nënatyrë'!$G$20:$G$1016,'2.aTë ardhura-jopublik-monetare'!$G137,'2.bTë ardhura-jopublik-nënatyrë'!$H$20:$H$1016)","v":0}]
[null,null,null,null,null,null,null,null,null,{"$f":"SUMIF($G$20:$G$1016,$G138,$H$20:$H$1016)+SUMIF('2.bTë ardhura-jopublik-nënatyrë'!$G$20:$G$1016,'2.aTë ardhura-jopublik-monetare'!$G138,'2.bTë ardhura-jopublik-nënatyrë'!$H$20:$H$1016)","v":0}]
[null,null,null,null,null,null,null,null,null,{"$f":"SUMIF($G$20:$G$1016,$G139,$H$20:$H$1016)+SUMIF('2.bTë ardhura-jopublik-nënatyrë'!$G$20:$G$1016,'2.aTë ardhura-jopublik-monetare'!$G139,'2.bTë ardhura-jopublik-nënatyrë'!$H$20:$H$1016)","v":0}]
[null,null,null,null,null,null,null,null,null,{"$f":"SUMIF($G$20:$G$1016,$G140,$H$20:$H$1016)+SUMIF('2.bTë ardhura-jopublik-nënatyrë'!$G$20:$G$1016,'2.aTë ardhura-jopublik-monetare'!$G140,'2.bTë ardhura-jopublik-nënatyrë'!$H$20:$H$1016)","v":0}]
[null,null,null,null,null,null,null,null,null,{"$f":"SUMIF($G$20:$G$1016,$G141,$H$20:$H$1016)+SUMIF('2.bTë ardhura-jopublik-nënatyrë'!$G$20:$G$1016,'2.aTë ardhura-jopublik-monetare'!$G141,'2.bTë ardhura-jopublik-nënatyrë'!$H$20:$H$1016)","v":0}]
[null,null,null,null,null,null,null,null,null,{"$f":"SUMIF($G$20:$G$1016,$G142,$H$20:$H$1016)+SUMIF('2.bTë ardhura-jopublik-nënatyrë'!$G$20:$G$1016,'2.aTë ardhura-jopublik-monetare'!$G142,'2.bTë ardhura-jopublik-nënatyrë'!$H$20:$H$1016)","v":0}]
[null,null,null,null,null,null,null,null,null,{"$f":"SUMIF($G$20:$G$1016,$G143,$H$20:$H$1016)+SUMIF('2.bTë ardhura-jopublik-nënatyrë'!$G$20:$G$1016,'2.aTë ardhura-jopublik-monetare'!$G143,'2.bTë ardhura-jopublik-nënatyrë'!$H$20:$H$1016)","v":0}]
[null,null,null,null,null,null,null,null,null,{"$f":"SUMIF($G$20:$G$1016,$G144,$H$20:$H$1016)+SUMIF('2.bTë ardhura-jopublik-nënatyrë'!$G$20:$G$1016,'2.aTë ardhura-jopublik-monetare'!$G144,'2.bTë ardhura-jopublik-nënatyrë'!$H$20:$H$1016)","v":0}]
[null,null,null,null,null,null,null,null,null,{"$f":"SUMIF($G$20:$G$1016,$G145,$H$20:$H$1016)+SUMIF('2.bTë ardhura-jopublik-nënatyrë'!$G$20:$G$1016,'2.aTë ardhura-jopublik-monetare'!$G145,'2.bTë ardhura-jopublik-nënatyrë'!$H$20:$H$1016)","v":0}]
[null,null,null,null,null,null,null,null,null,{"$f":"SUMIF($G$20:$G$1016,$G146,$H$20:$H$1016)+SUMIF('2.bTë ardhura-jopublik-nënatyrë'!$G$20:$G$1016,'2.aTë ardhura-jopublik-monetare'!$G146,'2.bTë ardhura-jopublik-nënatyrë'!$H$20:$H$1016)","v":0}]
[null,null,null,null,null,null,null,null,null,{"$f":"SUMIF($G$20:$G$1016,$G147,$H$20:$H$1016)+SUMIF('2.bTë ardhura-jopublik-nënatyrë'!$G$20:$G$1016,'2.aTë ardhura-jopublik-monetare'!$G147,'2.bTë ardhura-jopublik-nënatyrë'!$H$20:$H$1016)","v":0}]
[null,null,null,null,null,null,null,null,null,{"$f":"SUMIF($G$20:$G$1016,$G148,$H$20:$H$1016)+SUMIF('2.bTë ardhura-jopublik-nënatyrë'!$G$20:$G$1016,'2.aTë ardhura-jopublik-monetare'!$G148,'2.bTë ardhura-jopublik-nënatyrë'!$H$20:$H$1016)","v":0}]
[null,null,null,null,null,null,null,null,null,{"$f":"SUMIF($G$20:$G$1016,$G149,$H$20:$H$1016)+SUMIF('2.bTë ardhura-jopublik-nënatyrë'!$G$20:$G$1016,'2.aTë ardhura-jopublik-monetare'!$G149,'2.bTë ardhura-jopublik-nënatyrë'!$H$20:$H$1016)","v":0}]
[null,null,null,null,null,null,null,null,null,{"$f":"SUMIF($G$20:$G$1016,$G150,$H$20:$H$1016)+SUMIF('2.bTë ardhura-jopublik-nënatyrë'!$G$20:$G$1016,'2.aTë ardhura-jopublik-monetare'!$G150,'2.bTë ardhura-jopublik-nënatyrë'!$H$20:$H$1016)","v":0}]
[null,null,null,null,null,null,null,null,null,{"$f":"SUMIF($G$20:$G$1016,$G151,$H$20:$H$1016)+SUMIF('2.bTë ardhura-jopublik-nënatyrë'!$G$20:$G$1016,'2.aTë ardhura-jopublik-monetare'!$G151,'2.bTë ardhura-jopublik-nënatyrë'!$H$20:$H$1016)","v":0}]
[null,null,null,null,null,null,null,null,null,{"$f":"SUMIF($G$20:$G$1016,$G152,$H$20:$H$1016)+SUMIF('2.bTë ardhura-jopublik-nënatyrë'!$G$20:$G$1016,'2.aTë ardhura-jopublik-monetare'!$G152,'2.bTë ardhura-jopublik-nënatyrë'!$H$20:$H$1016)","v":0}]
[null,null,null,null,null,null,null,null,null,{"$f":"SUMIF($G$20:$G$1016,$G153,$H$20:$H$1016)+SUMIF('2.bTë ardhura-jopublik-nënatyrë'!$G$20:$G$1016,'2.aTë ardhura-jopublik-monetare'!$G153,'2.bTë ardhura-jopublik-nënatyrë'!$H$20:$H$1016)","v":0}]
[null,null,null,null,null,null,null,null,null,{"$f":"SUMIF($G$20:$G$1016,$G154,$H$20:$H$1016)+SUMIF('2.bTë ardhura-jopublik-nënatyrë'!$G$20:$G$1016,'2.aTë ardhura-jopublik-monetare'!$G154,'2.bTë ardhura-jopublik-nënatyrë'!$H$20:$H$1016)","v":0}]
[null,null,null,null,null,null,null,null,null,{"$f":"SUMIF($G$20:$G$1016,$G155,$H$20:$H$1016)+SUMIF('2.bTë ardhura-jopublik-nënatyrë'!$G$20:$G$1016,'2.aTë ardhura-jopublik-monetare'!$G155,'2.bTë ardhura-jopublik-nënatyrë'!$H$20:$H$1016)","v":0}]
[null,null,null,null,null,null,null,null,null,{"$f":"SUMIF($G$20:$G$1016,$G156,$H$20:$H$1016)+SUMIF('2.bTë ardhura-jopublik-nënatyrë'!$G$20:$G$1016,'2.aTë ardhura-jopublik-monetare'!$G156,'2.bTë ardhura-jopublik-nënatyrë'!$H$20:$H$1016)","v":0}]
[null,null,null,null,null,null,null,null,null,{"$f":"SUMIF($G$20:$G$1016,$G157,$H$20:$H$1016)+SUMIF('2.bTë ardhura-jopublik-nënatyrë'!$G$20:$G$1016,'2.aTë ardhura-jopublik-monetare'!$G157,'2.bTë ardhura-jopublik-nënatyrë'!$H$20:$H$1016)","v":0}]
[null,null,null,null,null,null,null,null,null,{"$f":"SUMIF($G$20:$G$1016,$G158,$H$20:$H$1016)+SUMIF('2.bTë ardhura-jopublik-nënatyrë'!$G$20:$G$1016,'2.aTë ardhura-jopublik-monetare'!$G158,'2.bTë ardhura-jopublik-nënatyrë'!$H$20:$H$1016)","v":0}]
[null,null,null,null,null,null,null,null,null,{"$f":"SUMIF($G$20:$G$1016,$G159,$H$20:$H$1016)+SUMIF('2.bTë ardhura-jopublik-nënatyrë'!$G$20:$G$1016,'2.aTë ardhura-jopublik-monetare'!$G159,'2.bTë ardhura-jopublik-nënatyrë'!$H$20:$H$1016)","v":0}]
[null,null,null,null,null,null,null,null,null,{"$f":"SUMIF($G$20:$G$1016,$G160,$H$20:$H$1016)+SUMIF('2.bTë ardhura-jopublik-nënatyrë'!$G$20:$G$1016,'2.aTë ardhura-jopublik-monetare'!$G160,'2.bTë ardhura-jopublik-nënatyrë'!$H$20:$H$1016)","v":0}]
[null,null,null,null,null,null,null,null,null,{"$f":"SUMIF($G$20:$G$1016,$G161,$H$20:$H$1016)+SUMIF('2.bTë ardhura-jopublik-nënatyrë'!$G$20:$G$1016,'2.aTë ardhura-jopublik-monetare'!$G161,'2.bTë ardhura-jopublik-nënatyrë'!$H$20:$H$1016)","v":0}]
[null,null,null,null,null,null,null,null,null,{"$f":"SUMIF($G$20:$G$1016,$G162,$H$20:$H$1016)+SUMIF('2.bTë ardhura-jopublik-nënatyrë'!$G$20:$G$1016,'2.aTë ardhura-jopublik-monetare'!$G162,'2.bTë ardhura-jopublik-nënatyrë'!$H$20:$H$1016)","v":0}]
[null,null,null,null,null,null,null,null,null,{"$f":"SUMIF($G$20:$G$1016,$G163,$H$20:$H$1016)+SUMIF('2.bTë ardhura-jopublik-nënatyrë'!$G$20:$G$1016,'2.aTë ardhura-jopublik-monetare'!$G163,'2.bTë ardhura-jopublik-nënatyrë'!$H$20:$H$1016)","v":0}]
[null,null,null,null,null,null,null,null,null,{"$f":"SUMIF($G$20:$G$1016,$G164,$H$20:$H$1016)+SUMIF('2.bTë ardhura-jopublik-nënatyrë'!$G$20:$G$1016,'2.aTë ardhura-jopublik-monetare'!$G164,'2.bTë ardhura-jopublik-nënatyrë'!$H$20:$H$1016)","v":0}]
[null,null,null,null,null,null,null,null,null,{"$f":"SUMIF($G$20:$G$1016,$G165,$H$20:$H$1016)+SUMIF('2.bTë ardhura-jopublik-nënatyrë'!$G$20:$G$1016,'2.aTë ardhura-jopublik-monetare'!$G165,'2.bTë ardhura-jopublik-nënatyrë'!$H$20:$H$1016)","v":0}]
[null,null,null,null,null,null,null,null,null,{"$f":"SUMIF($G$20:$G$1016,$G166,$H$20:$H$1016)+SUMIF('2.bTë ardhura-jopublik-nënatyrë'!$G$20:$G$1016,'2.aTë ardhura-jopublik-monetare'!$G166,'2.bTë ardhura-jopublik-nënatyrë'!$H$20:$H$1016)","v":0}]
[null,null,null,null,null,null,null,null,null,{"$f":"SUMIF($G$20:$G$1016,$G167,$H$20:$H$1016)+SUMIF('2.bTë ardhura-jopublik-nënatyrë'!$G$20:$G$1016,'2.aTë ardhura-jopublik-monetare'!$G167,'2.bTë ardhura-jopublik-nënatyrë'!$H$20:$H$1016)","v":0}]
[null,null,null,null,null,null,null,null,null,{"$f":"SUMIF($G$20:$G$1016,$G168,$H$20:$H$1016)+SUMIF('2.bTë ardhura-jopublik-nënatyrë'!$G$20:$G$1016,'2.aTë ardhura-jopublik-monetare'!$G168,'2.bTë ardhura-jopublik-nënatyrë'!$H$20:$H$1016)","v":0}]
[null,null,null,null,null,null,null,null,null,{"$f":"SUMIF($G$20:$G$1016,$G169,$H$20:$H$1016)+SUMIF('2.bTë ardhura-jopublik-nënatyrë'!$G$20:$G$1016,'2.aTë ardhura-jopublik-monetare'!$G169,'2.bTë ardhura-jopublik-nënatyrë'!$H$20:$H$1016)","v":0}]
[null,null,null,null,null,null,null,null,null,{"$f":"SUMIF($G$20:$G$1016,$G170,$H$20:$H$1016)+SUMIF('2.bTë ardhura-jopublik-nënatyrë'!$G$20:$G$1016,'2.aTë ardhura-jopublik-monetare'!$G170,'2.bTë ardhura-jopublik-nënatyrë'!$H$20:$H$1016)","v":0}]
[null,null,null,null,null,null,null,null,null,{"$f":"SUMIF($G$20:$G$1016,$G171,$H$20:$H$1016)+SUMIF('2.bTë ardhura-jopublik-nënatyrë'!$G$20:$G$1016,'2.aTë ardhura-jopublik-monetare'!$G171,'2.bTë ardhura-jopublik-nënatyrë'!$H$20:$H$1016)","v":0}]
[null,null,null,null,null,null,null,null,null,{"$f":"SUMIF($G$20:$G$1016,$G172,$H$20:$H$1016)+SUMIF('2.bTë ardhura-jopublik-nënatyrë'!$G$20:$G$1016,'2.aTë ardhura-jopublik-monetare'!$G172,'2.bTë ardhura-jopublik-nënatyrë'!$H$20:$H$1016)","v":0}]
[null,null,null,null,null,null,null,null,null,{"$f":"SUMIF($G$20:$G$1016,$G173,$H$20:$H$1016)+SUMIF('2.bTë ardhura-jopublik-nënatyrë'!$G$20:$G$1016,'2.aTë ardhura-jopublik-monetare'!$G173,'2.bTë ardhura-jopublik-nënatyrë'!$H$20:$H$1016)","v":0}]
[null,null,null,null,null,null,null,null,null,{"$f":"SUMIF($G$20:$G$1016,$G174,$H$20:$H$1016)+SUMIF('2.bTë ardhura-jopublik-nënatyrë'!$G$20:$G$1016,'2.aTë ardhura-jopublik-monetare'!$G174,'2.bTë ardhura-jopublik-nënatyrë'!$H$20:$H$1016)","v":0}]
[null,null,null,null,null,null,null,null,null,{"$f":"SUMIF($G$20:$G$1016,$G175,$H$20:$H$1016)+SUMIF('2.bTë ardhura-jopublik-nënatyrë'!$G$20:$G$1016,'2.aTë ardhura-jopublik-monetare'!$G175,'2.bTë ardhura-jopublik-nënatyrë'!$H$20:$H$1016)","v":0}]
[null,null,null,null,null,null,null,null,null,{"$f":"SUMIF($G$20:$G$1016,$G176,$H$20:$H$1016)+SUMIF('2.bTë ardhura-jopublik-nënatyrë'!$G$20:$G$1016,'2.aTë ardhura-jopublik-monetare'!$G176,'2.bTë ardhura-jopublik-nënatyrë'!$H$20:$H$1016)","v":0}]
[null,null,null,null,null,null,null,null,null,{"$f":"SUMIF($G$20:$G$1016,$G177,$H$20:$H$1016)+SUMIF('2.bTë ardhura-jopublik-nënatyrë'!$G$20:$G$1016,'2.aTë ardhura-jopublik-monetare'!$G177,'2.bTë ardhura-jopublik-nënatyrë'!$H$20:$H$1016)","v":0}]
[null,null,null,null,null,null,null,null,null,{"$f":"SUMIF($G$20:$G$1016,$G178,$H$20:$H$1016)+SUMIF('2.bTë ardhura-jopublik-nënatyrë'!$G$20:$G$1016,'2.aTë ardhura-jopublik-monetare'!$G178,'2.bTë ardhura-jopublik-nënatyrë'!$H$20:$H$1016)","v":0}]
[null,null,null,null,null,null,null,null,null,{"$f":"SUMIF($G$20:$G$1016,$G179,$H$20:$H$1016)+SUMIF('2.bTë ardhura-jopublik-nënatyrë'!$G$20:$G$1016,'2.aTë ardhura-jopublik-monetare'!$G179,'2.bTë ardhura-jopublik-nënatyrë'!$H$20:$H$1016)","v":0}]
[null,null,null,null,null,null,null,null,null,{"$f":"SUMIF($G$20:$G$1016,$G180,$H$20:$H$1016)+SUMIF('2.bTë ardhura-jopublik-nënatyrë'!$G$20:$G$1016,'2.aTë ardhura-jopublik-monetare'!$G180,'2.bTë ardhura-jopublik-nënatyrë'!$H$20:$H$1016)","v":0}]
[null,null,null,null,null,null,null,null,null,{"$f":"SUMIF($G$20:$G$1016,$G181,$H$20:$H$1016)+SUMIF('2.bTë ardhura-jopublik-nënatyrë'!$G$20:$G$1016,'2.aTë ardhura-jopublik-monetare'!$G181,'2.bTë ardhura-jopublik-nënatyrë'!$H$20:$H$1016)","v":0}]
[null,null,null,null,null,null,null,null,null,{"$f":"SUMIF($G$20:$G$1016,$G182,$H$20:$H$1016)+SUMIF('2.bTë ardhura-jopublik-nënatyrë'!$G$20:$G$1016,'2.aTë ardhura-jopublik-monetare'!$G182,'2.bTë ardhura-jopublik-nënatyrë'!$H$20:$H$1016)","v":0}]
[null,null,null,null,null,null,null,null,null,{"$f":"SUMIF($G$20:$G$1016,$G183,$H$20:$H$1016)+SUMIF('2.bTë ardhura-jopublik-nënatyrë'!$G$20:$G$1016,'2.aTë ardhura-jopublik-monetare'!$G183,'2.bTë ardhura-jopublik-nënatyrë'!$H$20:$H$1016)","v":0}]
[null,null,null,null,null,null,null,null,null,{"$f":"SUMIF($G$20:$G$1016,$G184,$H$20:$H$1016)+SUMIF('2.bTë ardhura-jopublik-nënatyrë'!$G$20:$G$1016,'2.aTë ardhura-jopublik-monetare'!$G184,'2.bTë ardhura-jopublik-nënatyrë'!$H$20:$H$1016)","v":0}]
[null,null,null,null,null,null,null,null,null,{"$f":"SUMIF($G$20:$G$1016,$G185,$H$20:$H$1016)+SUMIF('2.bTë ardhura-jopublik-nënatyrë'!$G$20:$G$1016,'2.aTë ardhura-jopublik-monetare'!$G185,'2.bTë ardhura-jopublik-nënatyrë'!$H$20:$H$1016)","v":0}]
[null,null,null,null,null,null,null,null,null,{"$f":"SUMIF($G$20:$G$1016,$G186,$H$20:$H$1016)+SUMIF('2.bTë ardhura-jopublik-nënatyrë'!$G$20:$G$1016,'2.aTë ardhura-jopublik-monetare'!$G186,'2.bTë ardhura-jopublik-nënatyrë'!$H$20:$H$1016)","v":0}]
[null,null,null,null,null,null,null,null,null,{"$f":"SUMIF($G$20:$G$1016,$G187,$H$20:$H$1016)+SUMIF('2.bTë ardhura-jopublik-nënatyrë'!$G$20:$G$1016,'2.aTë ardhura-jopublik-monetare'!$G187,'2.bTë ardhura-jopublik-nënatyrë'!$H$20:$H$1016)","v":0}]
[null,null,null,null,null,null,null,null,null,{"$f":"SUMIF($G$20:$G$1016,$G188,$H$20:$H$1016)+SUMIF('2.bTë ardhura-jopublik-nënatyrë'!$G$20:$G$1016,'2.aTë ardhura-jopublik-monetare'!$G188,'2.bTë ardhura-jopublik-nënatyrë'!$H$20:$H$1016)","v":0}]
[null,null,null,null,null,null,null,null,null,{"$f":"SUMIF($G$20:$G$1016,$G189,$H$20:$H$1016)+SUMIF('2.bTë ardhura-jopublik-nënatyrë'!$G$20:$G$1016,'2.aTë ardhura-jopublik-monetare'!$G189,'2.bTë ardhura-jopublik-nënatyrë'!$H$20:$H$1016)","v":0}]
[null,null,null,null,null,null,null,null,null,{"$f":"SUMIF($G$20:$G$1016,$G190,$H$20:$H$1016)+SUMIF('2.bTë ardhura-jopublik-nënatyrë'!$G$20:$G$1016,'2.aTë ardhura-jopublik-monetare'!$G190,'2.bTë ardhura-jopublik-nënatyrë'!$H$20:$H$1016)","v":0}]
[null,null,null,null,null,null,null,null,null,{"$f":"SUMIF($G$20:$G$1016,$G191,$H$20:$H$1016)+SUMIF('2.bTë ardhura-jopublik-nënatyrë'!$G$20:$G$1016,'2.aTë ardhura-jopublik-monetare'!$G191,'2.bTë ardhura-jopublik-nënatyrë'!$H$20:$H$1016)","v":0}]
[null,null,null,null,null,null,null,null,null,{"$f":"SUMIF($G$20:$G$1016,$G192,$H$20:$H$1016)+SUMIF('2.bTë ardhura-jopublik-nënatyrë'!$G$20:$G$1016,'2.aTë ardhura-jopublik-monetare'!$G192,'2.bTë ardhura-jopublik-nënatyrë'!$H$20:$H$1016)","v":0}]
[null,null,null,null,null,null,null,null,null,{"$f":"SUMIF($G$20:$G$1016,$G193,$H$20:$H$1016)+SUMIF('2.bTë ardhura-jopublik-nënatyrë'!$G$20:$G$1016,'2.aTë ardhura-jopublik-monetare'!$G193,'2.bTë ardhura-jopublik-nënatyrë'!$H$20:$H$1016)","v":0}]
[null,null,null,null,null,null,null,null,null,{"$f":"SUMIF($G$20:$G$1016,$G194,$H$20:$H$1016)+SUMIF('2.bTë ardhura-jopublik-nënatyrë'!$G$20:$G$1016,'2.aTë ardhura-jopublik-monetare'!$G194,'2.bTë ardhura-jopublik-nënatyrë'!$H$20:$H$1016)","v":0}]
[null,null,null,null,null,null,null,null,null,{"$f":"SUMIF($G$20:$G$1016,$G195,$H$20:$H$1016)+SUMIF('2.bTë ardhura-jopublik-nënatyrë'!$G$20:$G$1016,'2.aTë ardhura-jopublik-monetare'!$G195,'2.bTë ardhura-jopublik-nënatyrë'!$H$20:$H$1016)","v":0}]
[null,null,null,null,null,null,null,null,null,{"$f":"SUMIF($G$20:$G$1016,$G196,$H$20:$H$1016)+SUMIF('2.bTë ardhura-jopublik-nënatyrë'!$G$20:$G$1016,'2.aTë ardhura-jopublik-monetare'!$G196,'2.bTë ardhura-jopublik-nënatyrë'!$H$20:$H$1016)","v":0}]
[null,null,null,null,null,null,null,null,null,{"$f":"SUMIF($G$20:$G$1016,$G197,$H$20:$H$1016)+SUMIF('2.bTë ardhura-jopublik-nënatyrë'!$G$20:$G$1016,'2.aTë ardhura-jopublik-monetare'!$G197,'2.bTë ardhura-jopublik-nënatyrë'!$H$20:$H$1016)","v":0}]
[null,null,null,null,null,null,null,null,null,{"$f":"SUMIF($G$20:$G$1016,$G198,$H$20:$H$1016)+SUMIF('2.bTë ardhura-jopublik-nënatyrë'!$G$20:$G$1016,'2.aTë ardhura-jopublik-monetare'!$G198,'2.bTë ardhura-jopublik-nënatyrë'!$H$20:$H$1016)","v":0}]
[null,null,null,null,null,null,null,null,null,{"$f":"SUMIF($G$20:$G$1016,$G199,$H$20:$H$1016)+SUMIF('2.bTë ardhura-jopublik-nënatyrë'!$G$20:$G$1016,'2.aTë ardhura-jopublik-monetare'!$G199,'2.bTë ardhura-jopublik-nënatyrë'!$H$20:$H$1016)","v":0}]
[null,null,null,null,null,null,null,null,null,{"$f":"SUMIF($G$20:$G$1016,$G200,$H$20:$H$1016)+SUMIF('2.bTë ardhura-jopublik-nënatyrë'!$G$20:$G$1016,'2.aTë ardhura-jopublik-monetare'!$G200,'2.bTë ardhura-jopublik-nënatyrë'!$H$20:$H$1016)","v":0}]
[null,null,null,null,null,null,null,null,null,{"$f":"SUMIF($G$20:$G$1016,$G201,$H$20:$H$1016)+SUMIF('2.bTë ardhura-jopublik-nënatyrë'!$G$20:$G$1016,'2.aTë ardhura-jopublik-monetare'!$G201,'2.bTë ardhura-jopublik-nënatyrë'!$H$20:$H$1016)","v":0}]
[null,null,null,null,null,null,null,null,null,{"$f":"SUMIF($G$20:$G$1016,$G202,$H$20:$H$1016)+SUMIF('2.bTë ardhura-jopublik-nënatyrë'!$G$20:$G$1016,'2.aTë ardhura-jopublik-monetare'!$G202,'2.bTë ardhura-jopublik-nënatyrë'!$H$20:$H$1016)","v":0}]
[null,null,null,null,null,null,null,null,null,{"$f":"SUMIF($G$20:$G$1016,$G203,$H$20:$H$1016)+SUMIF('2.bTë ardhura-jopublik-nënatyrë'!$G$20:$G$1016,'2.aTë ardhura-jopublik-monetare'!$G203,'2.bTë ardhura-jopublik-nënatyrë'!$H$20:$H$1016)","v":0}]
[null,null,null,null,null,null,null,null,null,{"$f":"SUMIF($G$20:$G$1016,$G204,$H$20:$H$1016)+SUMIF('2.bTë ardhura-jopublik-nënatyrë'!$G$20:$G$1016,'2.aTë ardhura-jopublik-monetare'!$G204,'2.bTë ardhura-jopublik-nënatyrë'!$H$20:$H$1016)","v":0}]
[null,null,null,null,null,null,null,null,null,{"$f":"SUMIF($G$20:$G$1016,$G205,$H$20:$H$1016)+SUMIF('2.bTë ardhura-jopublik-nënatyrë'!$G$20:$G$1016,'2.aTë ardhura-jopublik-monetare'!$G205,'2.bTë ardhura-jopublik-nënatyrë'!$H$20:$H$1016)","v":0}]
[null,null,null,null,null,null,null,null,null,{"$f":"SUMIF($G$20:$G$1016,$G206,$H$20:$H$1016)+SUMIF('2.bTë ardhura-jopublik-nënatyrë'!$G$20:$G$1016,'2.aTë ardhura-jopublik-monetare'!$G206,'2.bTë ardhura-jopublik-nënatyrë'!$H$20:$H$1016)","v":0}]
[null,null,null,null,null,null,null,null,null,{"$f":"SUMIF($G$20:$G$1016,$G207,$H$20:$H$1016)+SUMIF('2.bTë ardhura-jopublik-nënatyrë'!$G$20:$G$1016,'2.aTë ardhura-jopublik-monetare'!$G207,'2.bTë ardhura-jopublik-nënatyrë'!$H$20:$H$1016)","v":0}]
[null,null,null,null,null,null,null,null,null,{"$f":"SUMIF($G$20:$G$1016,$G208,$H$20:$H$1016)+SUMIF('2.bTë ardhura-jopublik-nënatyrë'!$G$20:$G$1016,'2.aTë ardhura-jopublik-monetare'!$G208,'2.bTë ardhura-jopublik-nënatyrë'!$H$20:$H$1016)","v":0}]
[null,null,null,null,null,null,null,null,null,{"$f":"SUMIF($G$20:$G$1016,$G209,$H$20:$H$1016)+SUMIF('2.bTë ardhura-jopublik-nënatyrë'!$G$20:$G$1016,'2.aTë ardhura-jopublik-monetare'!$G209,'2.bTë ardhura-jopublik-nënatyrë'!$H$20:$H$1016)","v":0}]
[null,null,null,null,null,null,null,null,null,{"$f":"SUMIF($G$20:$G$1016,$G210,$H$20:$H$1016)+SUMIF('2.bTë ardhura-jopublik-nënatyrë'!$G$20:$G$1016,'2.aTë ardhura-jopublik-monetare'!$G210,'2.bTë ardhura-jopublik-nënatyrë'!$H$20:$H$1016)","v":0}]
[null,null,null,null,null,null,null,null,null,{"$f":"SUMIF($G$20:$G$1016,$G211,$H$20:$H$1016)+SUMIF('2.bTë ardhura-jopublik-nënatyrë'!$G$20:$G$1016,'2.aTë ardhura-jopublik-monetare'!$G211,'2.bTë ardhura-jopublik-nënatyrë'!$H$20:$H$1016)","v":0}]
[null,null,null,null,null,null,null,null,null,{"$f":"SUMIF($G$20:$G$1016,$G212,$H$20:$H$1016)+SUMIF('2.bTë ardhura-jopublik-nënatyrë'!$G$20:$G$1016,'2.aTë ardhura-jopublik-monetare'!$G212,'2.bTë ardhura-jopublik-nënatyrë'!$H$20:$H$1016)","v":0}]
[null,null,null,null,null,null,null,null,null,{"$f":"SUMIF($G$20:$G$1016,$G213,$H$20:$H$1016)+SUMIF('2.bTë ardhura-jopublik-nënatyrë'!$G$20:$G$1016,'2.aTë ardhura-jopublik-monetare'!$G213,'2.bTë ardhura-jopublik-nënatyrë'!$H$20:$H$1016)","v":0}]
[null,null,null,null,null,null,null,null,null,{"$f":"SUMIF($G$20:$G$1016,$G214,$H$20:$H$1016)+SUMIF('2.bTë ardhura-jopublik-nënatyrë'!$G$20:$G$1016,'2.aTë ardhura-jopublik-monetare'!$G214,'2.bTë ardhura-jopublik-nënatyrë'!$H$20:$H$1016)","v":0}]
[null,null,null,null,null,null,null,null,null,{"$f":"SUMIF($G$20:$G$1016,$G215,$H$20:$H$1016)+SUMIF('2.bTë ardhura-jopublik-nënatyrë'!$G$20:$G$1016,'2.aTë ardhura-jopublik-monetare'!$G215,'2.bTë ardhura-jopublik-nënatyrë'!$H$20:$H$1016)","v":0}]
[null,null,null,null,null,null,null,null,null,{"$f":"SUMIF($G$20:$G$1016,$G216,$H$20:$H$1016)+SUMIF('2.bTë ardhura-jopublik-nënatyrë'!$G$20:$G$1016,'2.aTë ardhura-jopublik-monetare'!$G216,'2.bTë ardhura-jopublik-nënatyrë'!$H$20:$H$1016)","v":0}]
[null,null,null,null,null,null,null,null,null,{"$f":"SUMIF($G$20:$G$1016,$G217,$H$20:$H$1016)+SUMIF('2.bTë ardhura-jopublik-nënatyrë'!$G$20:$G$1016,'2.aTë ardhura-jopublik-monetare'!$G217,'2.bTë ardhura-jopublik-nënatyrë'!$H$20:$H$1016)","v":0}]
[null,null,null,null,null,null,null,null,null,{"$f":"SUMIF($G$20:$G$1016,$G218,$H$20:$H$1016)+SUMIF('2.bTë ardhura-jopublik-nënatyrë'!$G$20:$G$1016,'2.aTë ardhura-jopublik-monetare'!$G218,'2.bTë ardhura-jopublik-nënatyrë'!$H$20:$H$1016)","v":0}]
[null,null,null,null,null,null,null,null,null,{"$f":"SUMIF($G$20:$G$1016,$G219,$H$20:$H$1016)+SUMIF('2.bTë ardhura-jopublik-nënatyrë'!$G$20:$G$1016,'2.aTë ardhura-jopublik-monetare'!$G219,'2.bTë ardhura-jopublik-nënatyrë'!$H$20:$H$1016)","v":0}]
[null,null,null,null,null,null,null,null,null,{"$f":"SUMIF($G$20:$G$1016,$G220,$H$20:$H$1016)+SUMIF('2.bTë ardhura-jopublik-nënatyrë'!$G$20:$G$1016,'2.aTë ardhura-jopublik-monetare'!$G220,'2.bTë ardhura-jopublik-nënatyrë'!$H$20:$H$1016)","v":0}]
[null,null,null,null,null,null,null,null,null,{"$f":"SUMIF($G$20:$G$1016,$G221,$H$20:$H$1016)+SUMIF('2.bTë ardhura-jopublik-nënatyrë'!$G$20:$G$1016,'2.aTë ardhura-jopublik-monetare'!$G221,'2.bTë ardhura-jopublik-nënatyrë'!$H$20:$H$1016)","v":0}]
[null,null,null,null,null,null,null,null,null,{"$f":"SUMIF($G$20:$G$1016,$G222,$H$20:$H$1016)+SUMIF('2.bTë ardhura-jopublik-nënatyrë'!$G$20:$G$1016,'2.aTë ardhura-jopublik-monetare'!$G222,'2.bTë ardhura-jopublik-nënatyrë'!$H$20:$H$1016)","v":0}]
[null,null,null,null,null,null,null,null,null,{"$f":"SUMIF($G$20:$G$1016,$G223,$H$20:$H$1016)+SUMIF('2.bTë ardhura-jopublik-nënatyrë'!$G$20:$G$1016,'2.aTë ardhura-jopublik-monetare'!$G223,'2.bTë ardhura-jopublik-nënatyrë'!$H$20:$H$1016)","v":0}]
[null,null,null,null,null,null,null,null,null,{"$f":"SUMIF($G$20:$G$1016,$G224,$H$20:$H$1016)+SUMIF('2.bTë ardhura-jopublik-nënatyrë'!$G$20:$G$1016,'2.aTë ardhura-jopublik-monetare'!$G224,'2.bTë ardhura-jopublik-nënatyrë'!$H$20:$H$1016)","v":0}]
[null,null,null,null,null,null,null,null,null,{"$f":"SUMIF($G$20:$G$1016,$G225,$H$20:$H$1016)+SUMIF('2.bTë ardhura-jopublik-nënatyrë'!$G$20:$G$1016,'2.aTë ardhura-jopublik-monetare'!$G225,'2.bTë ardhura-jopublik-nënatyrë'!$H$20:$H$1016)","v":0}]
[null,null,null,null,null,null,null,null,null,{"$f":"SUMIF($G$20:$G$1016,$G226,$H$20:$H$1016)+SUMIF('2.bTë ardhura-jopublik-nënatyrë'!$G$20:$G$1016,'2.aTë ardhura-jopublik-monetare'!$G226,'2.bTë ardhura-jopublik-nënatyrë'!$H$20:$H$1016)","v":0}]
[null,null,null,null,null,null,null,null,null,{"$f":"SUMIF($G$20:$G$1016,$G227,$H$20:$H$1016)+SUMIF('2.bTë ardhura-jopublik-nënatyrë'!$G$20:$G$1016,'2.aTë ardhura-jopublik-monetare'!$G227,'2.bTë ardhura-jopublik-nënatyrë'!$H$20:$H$1016)","v":0}]
[null,null,null,null,null,null,null,null,null,{"$f":"SUMIF($G$20:$G$1016,$G228,$H$20:$H$1016)+SUMIF('2.bTë ardhura-jopublik-nënatyrë'!$G$20:$G$1016,'2.aTë ardhura-jopublik-monetare'!$G228,'2.bTë ardhura-jopublik-nënatyrë'!$H$20:$H$1016)","v":0}]
[null,null,null,null,null,null,null,null,null,{"$f":"SUMIF($G$20:$G$1016,$G229,$H$20:$H$1016)+SUMIF('2.bTë ardhura-jopublik-nënatyrë'!$G$20:$G$1016,'2.aTë ardhura-jopublik-monetare'!$G229,'2.bTë ardhura-jopublik-nënatyrë'!$H$20:$H$1016)","v":0}]
[null,null,null,null,null,null,null,null,null,{"$f":"SUMIF($G$20:$G$1016,$G230,$H$20:$H$1016)+SUMIF('2.bTë ardhura-jopublik-nënatyrë'!$G$20:$G$1016,'2.aTë ardhura-jopublik-monetare'!$G230,'2.bTë ardhura-jopublik-nënatyrë'!$H$20:$H$1016)","v":0}]
[null,null,null,null,null,null,null,null,null,{"$f":"SUMIF($G$20:$G$1016,$G231,$H$20:$H$1016)+SUMIF('2.bTë ardhura-jopublik-nënatyrë'!$G$20:$G$1016,'2.aTë ardhura-jopublik-monetare'!$G231,'2.bTë ardhura-jopublik-nënatyrë'!$H$20:$H$1016)","v":0}]
[null,null,null,null,null,null,null,null,null,{"$f":"SUMIF($G$20:$G$1016,$G232,$H$20:$H$1016)+SUMIF('2.bTë ardhura-jopublik-nënatyrë'!$G$20:$G$1016,'2.aTë ardhura-jopublik-monetare'!$G232,'2.bTë ardhura-jopublik-nënatyrë'!$H$20:$H$1016)","v":0}]
[null,null,null,null,null,null,null,null,null,{"$f":"SUMIF($G$20:$G$1016,$G233,$H$20:$H$1016)+SUMIF('2.bTë ardhura-jopublik-nënatyrë'!$G$20:$G$1016,'2.aTë ardhura-jopublik-monetare'!$G233,'2.bTë ardhura-jopublik-nënatyrë'!$H$20:$H$1016)","v":0}]
[null,null,null,null,null,null,null,null,null,{"$f":"SUMIF($G$20:$G$1016,$G234,$H$20:$H$1016)+SUMIF('2.bTë ardhura-jopublik-nënatyrë'!$G$20:$G$1016,'2.aTë ardhura-jopublik-monetare'!$G234,'2.bTë ardhura-jopublik-nënatyrë'!$H$20:$H$1016)","v":0}]
[null,null,null,null,null,null,null,null,null,{"$f":"SUMIF($G$20:$G$1016,$G235,$H$20:$H$1016)+SUMIF('2.bTë ardhura-jopublik-nënatyrë'!$G$20:$G$1016,'2.aTë ardhura-jopublik-monetare'!$G235,'2.bTë ardhura-jopublik-nënatyrë'!$H$20:$H$1016)","v":0}]
[null,null,null,null,null,null,null,null,null,{"$f":"SUMIF($G$20:$G$1016,$G236,$H$20:$H$1016)+SUMIF('2.bTë ardhura-jopublik-nënatyrë'!$G$20:$G$1016,'2.aTë ardhura-jopublik-monetare'!$G236,'2.bTë ardhura-jopublik-nënatyrë'!$H$20:$H$1016)","v":0}]
[null,null,null,null,null,null,null,null,null,{"$f":"SUMIF($G$20:$G$1016,$G237,$H$20:$H$1016)+SUMIF('2.bTë ardhura-jopublik-nënatyrë'!$G$20:$G$1016,'2.aTë ardhura-jopublik-monetare'!$G237,'2.bTë ardhura-jopublik-nënatyrë'!$H$20:$H$1016)","v":0}]
[null,null,null,null,null,null,null,null,null,{"$f":"SUMIF($G$20:$G$1016,$G238,$H$20:$H$1016)+SUMIF('2.bTë ardhura-jopublik-nënatyrë'!$G$20:$G$1016,'2.aTë ardhura-jopublik-monetare'!$G238,'2.bTë ardhura-jopublik-nënatyrë'!$H$20:$H$1016)","v":0}]
[null,null,null,null,null,null,null,null,null,{"$f":"SUMIF($G$20:$G$1016,$G239,$H$20:$H$1016)+SUMIF('2.bTë ardhura-jopublik-nënatyrë'!$G$20:$G$1016,'2.aTë ardhura-jopublik-monetare'!$G239,'2.bTë ardhura-jopublik-nënatyrë'!$H$20:$H$1016)","v":0}]
[null,null,null,null,null,null,null,null,null,{"$f":"SUMIF($G$20:$G$1016,$G240,$H$20:$H$1016)+SUMIF('2.bTë ardhura-jopublik-nënatyrë'!$G$20:$G$1016,'2.aTë ardhura-jopublik-monetare'!$G240,'2.bTë ardhura-jopublik-nënatyrë'!$H$20:$H$1016)","v":0}]
[null,null,null,null,null,null,null,null,null,{"$f":"SUMIF($G$20:$G$1016,$G241,$H$20:$H$1016)+SUMIF('2.bTë ardhura-jopublik-nënatyrë'!$G$20:$G$1016,'2.aTë ardhura-jopublik-monetare'!$G241,'2.bTë ardhura-jopublik-nënatyrë'!$H$20:$H$1016)","v":0}]
[null,null,null,null,null,null,null,null,null,{"$f":"SUMIF($G$20:$G$1016,$G242,$H$20:$H$1016)+SUMIF('2.bTë ardhura-jopublik-nënatyrë'!$G$20:$G$1016,'2.aTë ardhura-jopublik-monetare'!$G242,'2.bTë ardhura-jopublik-nënatyrë'!$H$20:$H$1016)","v":0}]
[null,null,null,null,null,null,null,null,null,{"$f":"SUMIF($G$20:$G$1016,$G243,$H$20:$H$1016)+SUMIF('2.bTë ardhura-jopublik-nënatyrë'!$G$20:$G$1016,'2.aTë ardhura-jopublik-monetare'!$G243,'2.bTë ardhura-jopublik-nënatyrë'!$H$20:$H$1016)","v":0}]
[null,null,null,null,null,null,null,null,null,{"$f":"SUMIF($G$20:$G$1016,$G244,$H$20:$H$1016)+SUMIF('2.bTë ardhura-jopublik-nënatyrë'!$G$20:$G$1016,'2.aTë ardhura-jopublik-monetare'!$G244,'2.bTë ardhura-jopublik-nënatyrë'!$H$20:$H$1016)","v":0}]
[null,null,null,null,null,null,null,null,null,{"$f":"SUMIF($G$20:$G$1016,$G245,$H$20:$H$1016)+SUMIF('2.bTë ardhura-jopublik-nënatyrë'!$G$20:$G$1016,'2.aTë ardhura-jopublik-monetare'!$G245,'2.bTë ardhura-jopublik-nënatyrë'!$H$20:$H$1016)","v":0}]
[null,null,null,null,null,null,null,null,null,{"$f":"SUMIF($G$20:$G$1016,$G246,$H$20:$H$1016)+SUMIF('2.bTë ardhura-jopublik-nënatyrë'!$G$20:$G$1016,'2.aTë ardhura-jopublik-monetare'!$G246,'2.bTë ardhura-jopublik-nënatyrë'!$H$20:$H$1016)","v":0}]
[null,null,null,null,null,null,null,null,null,{"$f":"SUMIF($G$20:$G$1016,$G247,$H$20:$H$1016)+SUMIF('2.bTë ardhura-jopublik-nënatyrë'!$G$20:$G$1016,'2.aTë ardhura-jopublik-monetare'!$G247,'2.bTë ardhura-jopublik-nënatyrë'!$H$20:$H$1016)","v":0}]
[null,null,null,null,null,null,null,null,null,{"$f":"SUMIF($G$20:$G$1016,$G248,$H$20:$H$1016)+SUMIF('2.bTë ardhura-jopublik-nënatyrë'!$G$20:$G$1016,'2.aTë ardhura-jopublik-monetare'!$G248,'2.bTë ardhura-jopublik-nënatyrë'!$H$20:$H$1016)","v":0}]
[null,null,null,null,null,null,null,null,null,{"$f":"SUMIF($G$20:$G$1016,$G249,$H$20:$H$1016)+SUMIF('2.bTë ardhura-jopublik-nënatyrë'!$G$20:$G$1016,'2.aTë ardhura-jopublik-monetare'!$G249,'2.bTë ardhura-jopublik-nënatyrë'!$H$20:$H$1016)","v":0}]
[null,null,null,null,null,null,null,null,null,{"$f":"SUMIF($G$20:$G$1016,$G250,$H$20:$H$1016)+SUMIF('2.bTë ardhura-jopublik-nënatyrë'!$G$20:$G$1016,'2.aTë ardhura-jopublik-monetare'!$G250,'2.bTë ardhura-jopublik-nënatyrë'!$H$20:$H$1016)","v":0}]
[null,null,null,null,null,null,null,null,null,{"$f":"SUMIF($G$20:$G$1016,$G251,$H$20:$H$1016)+SUMIF('2.bTë ardhura-jopublik-nënatyrë'!$G$20:$G$1016,'2.aTë ardhura-jopublik-monetare'!$G251,'2.bTë ardhura-jopublik-nënatyrë'!$H$20:$H$1016)","v":0}]
[null,null,null,null,null,null,null,null,null,{"$f":"SUMIF($G$20:$G$1016,$G252,$H$20:$H$1016)+SUMIF('2.bTë ardhura-jopublik-nënatyrë'!$G$20:$G$1016,'2.aTë ardhura-jopublik-monetare'!$G252,'2.bTë ardhura-jopublik-nënatyrë'!$H$20:$H$1016)","v":0}]
[null,null,null,null,null,null,null,null,null,{"$f":"SUMIF($G$20:$G$1016,$G253,$H$20:$H$1016)+SUMIF('2.bTë ardhura-jopublik-nënatyrë'!$G$20:$G$1016,'2.aTë ardhura-jopublik-monetare'!$G253,'2.bTë ardhura-jopublik-nënatyrë'!$H$20:$H$1016)","v":0}]
[null,null,null,null,null,null,null,null,null,{"$f":"SUMIF($G$20:$G$1016,$G254,$H$20:$H$1016)+SUMIF('2.bTë ardhura-jopublik-nënatyrë'!$G$20:$G$1016,'2.aTë ardhura-jopublik-monetare'!$G254,'2.bTë ardhura-jopublik-nënatyrë'!$H$20:$H$1016)","v":0}]
[null,null,null,null,null,null,null,null,null,{"$f":"SUMIF($G$20:$G$1016,$G255,$H$20:$H$1016)+SUMIF('2.bTë ardhura-jopublik-nënatyrë'!$G$20:$G$1016,'2.aTë ardhura-jopublik-monetare'!$G255,'2.bTë ardhura-jopublik-nënatyrë'!$H$20:$H$1016)","v":0}]
[null,null,null,null,null,null,null,null,null,{"$f":"SUMIF($G$20:$G$1016,$G256,$H$20:$H$1016)+SUMIF('2.bTë ardhura-jopublik-nënatyrë'!$G$20:$G$1016,'2.aTë ardhura-jopublik-monetare'!$G256,'2.bTë ardhura-jopublik-nënatyrë'!$H$20:$H$1016)","v":0}]
[null,null,null,null,null,null,null,null,null,{"$f":"SUMIF($G$20:$G$1016,$G257,$H$20:$H$1016)+SUMIF('2.bTë ardhura-jopublik-nënatyrë'!$G$20:$G$1016,'2.aTë ardhura-jopublik-monetare'!$G257,'2.bTë ardhura-jopublik-nënatyrë'!$H$20:$H$1016)","v":0}]
[null,null,null,null,null,null,null,null,null,{"$f":"SUMIF($G$20:$G$1016,$G258,$H$20:$H$1016)+SUMIF('2.bTë ardhura-jopublik-nënatyrë'!$G$20:$G$1016,'2.aTë ardhura-jopublik-monetare'!$G258,'2.bTë ardhura-jopublik-nënatyrë'!$H$20:$H$1016)","v":0}]
[null,null,null,null,null,null,null,null,null,{"$f":"SUMIF($G$20:$G$1016,$G259,$H$20:$H$1016)+SUMIF('2.bTë ardhura-jopublik-nënatyrë'!$G$20:$G$1016,'2.aTë ardhura-jopublik-monetare'!$G259,'2.bTë ardhura-jopublik-nënatyrë'!$H$20:$H$1016)","v":0}]
[null,null,null,null,null,null,null,null,null,{"$f":"SUMIF($G$20:$G$1016,$G260,$H$20:$H$1016)+SUMIF('2.bTë ardhura-jopublik-nënatyrë'!$G$20:$G$1016,'2.aTë ardhura-jopublik-monetare'!$G260,'2.bTë ardhura-jopublik-nënatyrë'!$H$20:$H$1016)","v":0}]
[null,null,null,null,null,null,null,null,null,{"$f":"SUMIF($G$20:$G$1016,$G261,$H$20:$H$1016)+SUMIF('2.bTë ardhura-jopublik-nënatyrë'!$G$20:$G$1016,'2.aTë ardhura-jopublik-monetare'!$G261,'2.bTë ardhura-jopublik-nënatyrë'!$H$20:$H$1016)","v":0}]
[null,null,null,null,null,null,null,null,null,{"$f":"SUMIF($G$20:$G$1016,$G262,$H$20:$H$1016)+SUMIF('2.bTë ardhura-jopublik-nënatyrë'!$G$20:$G$1016,'2.aTë ardhura-jopublik-monetare'!$G262,'2.bTë ardhura-jopublik-nënatyrë'!$H$20:$H$1016)","v":0}]
[null,null,null,null,null,null,null,null,null,{"$f":"SUMIF($G$20:$G$1016,$G263,$H$20:$H$1016)+SUMIF('2.bTë ardhura-jopublik-nënatyrë'!$G$20:$G$1016,'2.aTë ardhura-jopublik-monetare'!$G263,'2.bTë ardhura-jopublik-nënatyrë'!$H$20:$H$1016)","v":0}]
[null,null,null,null,null,null,null,null,null,{"$f":"SUMIF($G$20:$G$1016,$G264,$H$20:$H$1016)+SUMIF('2.bTë ardhura-jopublik-nënatyrë'!$G$20:$G$1016,'2.aTë ardhura-jopublik-monetare'!$G264,'2.bTë ardhura-jopublik-nënatyrë'!$H$20:$H$1016)","v":0}]
[null,null,null,null,null,null,null,null,null,{"$f":"SUMIF($G$20:$G$1016,$G265,$H$20:$H$1016)+SUMIF('2.bTë ardhura-jopublik-nënatyrë'!$G$20:$G$1016,'2.aTë ardhura-jopublik-monetare'!$G265,'2.bTë ardhura-jopublik-nënatyrë'!$H$20:$H$1016)","v":0}]
[null,null,null,null,null,null,null,null,null,{"$f":"SUMIF($G$20:$G$1016,$G266,$H$20:$H$1016)+SUMIF('2.bTë ardhura-jopublik-nënatyrë'!$G$20:$G$1016,'2.aTë ardhura-jopublik-monetare'!$G266,'2.bTë ardhura-jopublik-nënatyrë'!$H$20:$H$1016)","v":0}]
[null,null,null,null,null,null,null,null,null,{"$f":"SUMIF($G$20:$G$1016,$G267,$H$20:$H$1016)+SUMIF('2.bTë ardhura-jopublik-nënatyrë'!$G$20:$G$1016,'2.aTë ardhura-jopublik-monetare'!$G267,'2.bTë ardhura-jopublik-nënatyrë'!$H$20:$H$1016)","v":0}]
[null,null,null,null,null,null,null,null,null,{"$f":"SUMIF($G$20:$G$1016,$G268,$H$20:$H$1016)+SUMIF('2.bTë ardhura-jopublik-nënatyrë'!$G$20:$G$1016,'2.aTë ardhura-jopublik-monetare'!$G268,'2.bTë ardhura-jopublik-nënatyrë'!$H$20:$H$1016)","v":0}]
[null,null,null,null,null,null,null,null,null,{"$f":"SUMIF($G$20:$G$1016,$G269,$H$20:$H$1016)+SUMIF('2.bTë ardhura-jopublik-nënatyrë'!$G$20:$G$1016,'2.aTë ardhura-jopublik-monetare'!$G269,'2.bTë ardhura-jopublik-nënatyrë'!$H$20:$H$1016)","v":0}]
[null,null,null,null,null,null,null,null,null,{"$f":"SUMIF($G$20:$G$1016,$G270,$H$20:$H$1016)+SUMIF('2.bTë ardhura-jopublik-nënatyrë'!$G$20:$G$1016,'2.aTë ardhura-jopublik-monetare'!$G270,'2.bTë ardhura-jopublik-nënatyrë'!$H$20:$H$1016)","v":0}]
[null,null,null,null,null,null,null,null,null,{"$f":"SUMIF($G$20:$G$1016,$G271,$H$20:$H$1016)+SUMIF('2.bTë ardhura-jopublik-nënatyrë'!$G$20:$G$1016,'2.aTë ardhura-jopublik-monetare'!$G271,'2.bTë ardhura-jopublik-nënatyrë'!$H$20:$H$1016)","v":0}]
[null,null,null,null,null,null,null,null,null,{"$f":"SUMIF($G$20:$G$1016,$G272,$H$20:$H$1016)+SUMIF('2.bTë ardhura-jopublik-nënatyrë'!$G$20:$G$1016,'2.aTë ardhura-jopublik-monetare'!$G272,'2.bTë ardhura-jopublik-nënatyrë'!$H$20:$H$1016)","v":0}]
[null,null,null,null,null,null,null,null,null,{"$f":"SUMIF($G$20:$G$1016,$G273,$H$20:$H$1016)+SUMIF('2.bTë ardhura-jopublik-nënatyrë'!$G$20:$G$1016,'2.aTë ardhura-jopublik-monetare'!$G273,'2.bTë ardhura-jopublik-nënatyrë'!$H$20:$H$1016)","v":0}]
[null,null,null,null,null,null,null,null,null,{"$f":"SUMIF($G$20:$G$1016,$G274,$H$20:$H$1016)+SUMIF('2.bTë ardhura-jopublik-nënatyrë'!$G$20:$G$1016,'2.aTë ardhura-jopublik-monetare'!$G274,'2.bTë ardhura-jopublik-nënatyrë'!$H$20:$H$1016)","v":0}]
[null,null,null,null,null,null,null,null,null,{"$f":"SUMIF($G$20:$G$1016,$G275,$H$20:$H$1016)+SUMIF('2.bTë ardhura-jopublik-nënatyrë'!$G$20:$G$1016,'2.aTë ardhura-jopublik-monetare'!$G275,'2.bTë ardhura-jopublik-nënatyrë'!$H$20:$H$1016)","v":0}]
[null,null,null,null,null,null,null,null,null,{"$f":"SUMIF($G$20:$G$1016,$G276,$H$20:$H$1016)+SUMIF('2.bTë ardhura-jopublik-nënatyrë'!$G$20:$G$1016,'2.aTë ardhura-jopublik-monetare'!$G276,'2.bTë ardhura-jopublik-nënatyrë'!$H$20:$H$1016)","v":0}]
[null,null,null,null,null,null,null,null,null,{"$f":"SUMIF($G$20:$G$1016,$G277,$H$20:$H$1016)+SUMIF('2.bTë ardhura-jopublik-nënatyrë'!$G$20:$G$1016,'2.aTë ardhura-jopublik-monetare'!$G277,'2.bTë ardhura-jopublik-nënatyrë'!$H$20:$H$1016)","v":0}]
[null,null,null,null,null,null,null,null,null,{"$f":"SUMIF($G$20:$G$1016,$G278,$H$20:$H$1016)+SUMIF('2.bTë ardhura-jopublik-nënatyrë'!$G$20:$G$1016,'2.aTë ardhura-jopublik-monetare'!$G278,'2.bTë ardhura-jopublik-nënatyrë'!$H$20:$H$1016)","v":0}]
[null,null,null,null,null,null,null,null,null,{"$f":"SUMIF($G$20:$G$1016,$G279,$H$20:$H$1016)+SUMIF('2.bTë ardhura-jopublik-nënatyrë'!$G$20:$G$1016,'2.aTë ardhura-jopublik-monetare'!$G279,'2.bTë ardhura-jopublik-nënatyrë'!$H$20:$H$1016)","v":0}]
[null,null,null,null,null,null,null,null,null,{"$f":"SUMIF($G$20:$G$1016,$G280,$H$20:$H$1016)+SUMIF('2.bTë ardhura-jopublik-nënatyrë'!$G$20:$G$1016,'2.aTë ardhura-jopublik-monetare'!$G280,'2.bTë ardhura-jopublik-nënatyrë'!$H$20:$H$1016)","v":0}]
[null,null,null,null,null,null,null,null,null,{"$f":"SUMIF($G$20:$G$1016,$G281,$H$20:$H$1016)+SUMIF('2.bTë ardhura-jopublik-nënatyrë'!$G$20:$G$1016,'2.aTë ardhura-jopublik-monetare'!$G281,'2.bTë ardhura-jopublik-nënatyrë'!$H$20:$H$1016)","v":0}]
[null,null,null,null,null,null,null,null,null,{"$f":"SUMIF($G$20:$G$1016,$G282,$H$20:$H$1016)+SUMIF('2.bTë ardhura-jopublik-nënatyrë'!$G$20:$G$1016,'2.aTë ardhura-jopublik-monetare'!$G282,'2.bTë ardhura-jopublik-nënatyrë'!$H$20:$H$1016)","v":0}]
[null,null,null,null,null,null,null,null,null,{"$f":"SUMIF($G$20:$G$1016,$G283,$H$20:$H$1016)+SUMIF('2.bTë ardhura-jopublik-nënatyrë'!$G$20:$G$1016,'2.aTë ardhura-jopublik-monetare'!$G283,'2.bTë ardhura-jopublik-nënatyrë'!$H$20:$H$1016)","v":0}]
[null,null,null,null,null,null,null,null,null,{"$f":"SUMIF($G$20:$G$1016,$G284,$H$20:$H$1016)+SUMIF('2.bTë ardhura-jopublik-nënatyrë'!$G$20:$G$1016,'2.aTë ardhura-jopublik-monetare'!$G284,'2.bTë ardhura-jopublik-nënatyrë'!$H$20:$H$1016)","v":0}]
[null,null,null,null,null,null,null,null,null,{"$f":"SUMIF($G$20:$G$1016,$G285,$H$20:$H$1016)+SUMIF('2.bTë ardhura-jopublik-nënatyrë'!$G$20:$G$1016,'2.aTë ardhura-jopublik-monetare'!$G285,'2.bTë ardhura-jopublik-nënatyrë'!$H$20:$H$1016)","v":0}]
[null,null,null,null,null,null,null,null,null,{"$f":"SUMIF($G$20:$G$1016,$G286,$H$20:$H$1016)+SUMIF('2.bTë ardhura-jopublik-nënatyrë'!$G$20:$G$1016,'2.aTë ardhura-jopublik-monetare'!$G286,'2.bTë ardhura-jopublik-nënatyrë'!$H$20:$H$1016)","v":0}]
[null,null,null,null,null,null,null,null,null,{"$f":"SUMIF($G$20:$G$1016,$G287,$H$20:$H$1016)+SUMIF('2.bTë ardhura-jopublik-nënatyrë'!$G$20:$G$1016,'2.aTë ardhura-jopublik-monetare'!$G287,'2.bTë ardhura-jopublik-nënatyrë'!$H$20:$H$1016)","v":0}]
[null,null,null,null,null,null,null,null,null,{"$f":"SUMIF($G$20:$G$1016,$G288,$H$20:$H$1016)+SUMIF('2.bTë ardhura-jopublik-nënatyrë'!$G$20:$G$1016,'2.aTë ardhura-jopublik-monetare'!$G288,'2.bTë ardhura-jopublik-nënatyrë'!$H$20:$H$1016)","v":0}]
[null,null,null,null,null,null,null,null,null,{"$f":"SUMIF($G$20:$G$1016,$G289,$H$20:$H$1016)+SUMIF('2.bTë ardhura-jopublik-nënatyrë'!$G$20:$G$1016,'2.aTë ardhura-jopublik-monetare'!$G289,'2.bTë ardhura-jopublik-nënatyrë'!$H$20:$H$1016)","v":0}]
[null,null,null,null,null,null,null,null,null,{"$f":"SUMIF($G$20:$G$1016,$G290,$H$20:$H$1016)+SUMIF('2.bTë ardhura-jopublik-nënatyrë'!$G$20:$G$1016,'2.aTë ardhura-jopublik-monetare'!$G290,'2.bTë ardhura-jopublik-nënatyrë'!$H$20:$H$1016)","v":0}]
[null,null,null,null,null,null,null,null,null,{"$f":"SUMIF($G$20:$G$1016,$G291,$H$20:$H$1016)+SUMIF('2.bTë ardhura-jopublik-nënatyrë'!$G$20:$G$1016,'2.aTë ardhura-jopublik-monetare'!$G291,'2.bTë ardhura-jopublik-nënatyrë'!$H$20:$H$1016)","v":0}]
[null,null,null,null,null,null,null,null,null,{"$f":"SUMIF($G$20:$G$1016,$G292,$H$20:$H$1016)+SUMIF('2.bTë ardhura-jopublik-nënatyrë'!$G$20:$G$1016,'2.aTë ardhura-jopublik-monetare'!$G292,'2.bTë ardhura-jopublik-nënatyrë'!$H$20:$H$1016)","v":0}]
[null,null,null,null,null,null,null,null,null,{"$f":"SUMIF($G$20:$G$1016,$G293,$H$20:$H$1016)+SUMIF('2.bTë ardhura-jopublik-nënatyrë'!$G$20:$G$1016,'2.aTë ardhura-jopublik-monetare'!$G293,'2.bTë ardhura-jopublik-nënatyrë'!$H$20:$H$1016)","v":0}]
[null,null,null,null,null,null,null,null,null,{"$f":"SUMIF($G$20:$G$1016,$G294,$H$20:$H$1016)+SUMIF('2.bTë ardhura-jopublik-nënatyrë'!$G$20:$G$1016,'2.aTë ardhura-jopublik-monetare'!$G294,'2.bTë ardhura-jopublik-nënatyrë'!$H$20:$H$1016)","v":0}]
[null,null,null,null,null,null,null,null,null,{"$f":"SUMIF($G$20:$G$1016,$G295,$H$20:$H$1016)+SUMIF('2.bTë ardhura-jopublik-nënatyrë'!$G$20:$G$1016,'2.aTë ardhura-jopublik-monetare'!$G295,'2.bTë ardhura-jopublik-nënatyrë'!$H$20:$H$1016)","v":0}]
[null,null,null,null,null,null,null,null,null,{"$f":"SUMIF($G$20:$G$1016,$G296,$H$20:$H$1016)+SUMIF('2.bTë ardhura-jopublik-nënatyrë'!$G$20:$G$1016,'2.aTë ardhura-jopublik-monetare'!$G296,'2.bTë ardhura-jopublik-nënatyrë'!$H$20:$H$1016)","v":0}]
[null,null,null,null,null,null,null,null,null,{"$f":"SUMIF($G$20:$G$1016,$G297,$H$20:$H$1016)+SUMIF('2.bTë ardhura-jopublik-nënatyrë'!$G$20:$G$1016,'2.aTë ardhura-jopublik-monetare'!$G297,'2.bTë ardhura-jopublik-nënatyrë'!$H$20:$H$1016)","v":0}]
[null,null,null,null,null,null,null,null,null,{"$f":"SUMIF($G$20:$G$1016,$G298,$H$20:$H$1016)+SUMIF('2.bTë ardhura-jopublik-nënatyrë'!$G$20:$G$1016,'2.aTë ardhura-jopublik-monetare'!$G298,'2.bTë ardhura-jopublik-nënatyrë'!$H$20:$H$1016)","v":0}]
[null,null,null,null,null,null,null,null,null,{"$f":"SUMIF($G$20:$G$1016,$G299,$H$20:$H$1016)+SUMIF('2.bTë ardhura-jopublik-nënatyrë'!$G$20:$G$1016,'2.aTë ardhura-jopublik-monetare'!$G299,'2.bTë ardhura-jopublik-nënatyrë'!$H$20:$H$1016)","v":0}]
[null,null,null,null,null,null,null,null,null,{"$f":"SUMIF($G$20:$G$1016,$G300,$H$20:$H$1016)+SUMIF('2.bTë ardhura-jopublik-nënatyrë'!$G$20:$G$1016,'2.aTë ardhura-jopublik-monetare'!$G300,'2.bTë ardhura-jopublik-nënatyrë'!$H$20:$H$1016)","v":0}]
[null,null,null,null,null,null,null,null,null,{"$f":"SUMIF($G$20:$G$1016,$G301,$H$20:$H$1016)+SUMIF('2.bTë ardhura-jopublik-nënatyrë'!$G$20:$G$1016,'2.aTë ardhura-jopublik-monetare'!$G301,'2.bTë ardhura-jopublik-nënatyrë'!$H$20:$H$1016)","v":0}]
[null,null,null,null,null,null,null,null,null,{"$f":"SUMIF($G$20:$G$1016,$G302,$H$20:$H$1016)+SUMIF('2.bTë ardhura-jopublik-nënatyrë'!$G$20:$G$1016,'2.aTë ardhura-jopublik-monetare'!$G302,'2.bTë ardhura-jopublik-nënatyrë'!$H$20:$H$1016)","v":0}]
[null,null,null,null,null,null,null,null,null,{"$f":"SUMIF($G$20:$G$1016,$G303,$H$20:$H$1016)+SUMIF('2.bTë ardhura-jopublik-nënatyrë'!$G$20:$G$1016,'2.aTë ardhura-jopublik-monetare'!$G303,'2.bTë ardhura-jopublik-nënatyrë'!$H$20:$H$1016)","v":0}]
[null,null,null,null,null,null,null,null,null,{"$f":"SUMIF($G$20:$G$1016,$G304,$H$20:$H$1016)+SUMIF('2.bTë ardhura-jopublik-nënatyrë'!$G$20:$G$1016,'2.aTë ardhura-jopublik-monetare'!$G304,'2.bTë ardhura-jopublik-nënatyrë'!$H$20:$H$1016)","v":0}]
[null,null,null,null,null,null,null,null,null,{"$f":"SUMIF($G$20:$G$1016,$G305,$H$20:$H$1016)+SUMIF('2.bTë ardhura-jopublik-nënatyrë'!$G$20:$G$1016,'2.aTë ardhura-jopublik-monetare'!$G305,'2.bTë ardhura-jopublik-nënatyrë'!$H$20:$H$1016)","v":0}]
[null,null,null,null,null,null,null,null,null,{"$f":"SUMIF($G$20:$G$1016,$G306,$H$20:$H$1016)+SUMIF('2.bTë ardhura-jopublik-nënatyrë'!$G$20:$G$1016,'2.aTë ardhura-jopublik-monetare'!$G306,'2.bTë ardhura-jopublik-nënatyrë'!$H$20:$H$1016)","v":0}]
[null,null,null,null,null,null,null,null,null,{"$f":"SUMIF($G$20:$G$1016,$G307,$H$20:$H$1016)+SUMIF('2.bTë ardhura-jopublik-nënatyrë'!$G$20:$G$1016,'2.aTë ardhura-jopublik-monetare'!$G307,'2.bTë ardhura-jopublik-nënatyrë'!$H$20:$H$1016)","v":0}]
[null,null,null,null,null,null,null,null,null,{"$f":"SUMIF($G$20:$G$1016,$G308,$H$20:$H$1016)+SUMIF('2.bTë ardhura-jopublik-nënatyrë'!$G$20:$G$1016,'2.aTë ardhura-jopublik-monetare'!$G308,'2.bTë ardhura-jopublik-nënatyrë'!$H$20:$H$1016)","v":0}]
[null,null,null,null,null,null,null,null,null,{"$f":"SUMIF($G$20:$G$1016,$G309,$H$20:$H$1016)+SUMIF('2.bTë ardhura-jopublik-nënatyrë'!$G$20:$G$1016,'2.aTë ardhura-jopublik-monetare'!$G309,'2.bTë ardhura-jopublik-nënatyrë'!$H$20:$H$1016)","v":0}]
[null,null,null,null,null,null,null,null,null,{"$f":"SUMIF($G$20:$G$1016,$G310,$H$20:$H$1016)+SUMIF('2.bTë ardhura-jopublik-nënatyrë'!$G$20:$G$1016,'2.aTë ardhura-jopublik-monetare'!$G310,'2.bTë ardhura-jopublik-nënatyrë'!$H$20:$H$1016)","v":0}]
[null,null,null,null,null,null,null,null,null,{"$f":"SUMIF($G$20:$G$1016,$G311,$H$20:$H$1016)+SUMIF('2.bTë ardhura-jopublik-nënatyrë'!$G$20:$G$1016,'2.aTë ardhura-jopublik-monetare'!$G311,'2.bTë ardhura-jopublik-nënatyrë'!$H$20:$H$1016)","v":0}]
[null,null,null,null,null,null,null,null,null,{"$f":"SUMIF($G$20:$G$1016,$G312,$H$20:$H$1016)+SUMIF('2.bTë ardhura-jopublik-nënatyrë'!$G$20:$G$1016,'2.aTë ardhura-jopublik-monetare'!$G312,'2.bTë ardhura-jopublik-nënatyrë'!$H$20:$H$1016)","v":0}]
[null,null,null,null,null,null,null,null,null,{"$f":"SUMIF($G$20:$G$1016,$G313,$H$20:$H$1016)+SUMIF('2.bTë ardhura-jopublik-nënatyrë'!$G$20:$G$1016,'2.aTë ardhura-jopublik-monetare'!$G313,'2.bTë ardhura-jopublik-nënatyrë'!$H$20:$H$1016)","v":0}]
[null,null,null,null,null,null,null,null,null,{"$f":"SUMIF($G$20:$G$1016,$G314,$H$20:$H$1016)+SUMIF('2.bTë ardhura-jopublik-nënatyrë'!$G$20:$G$1016,'2.aTë ardhura-jopublik-monetare'!$G314,'2.bTë ardhura-jopublik-nënatyrë'!$H$20:$H$1016)","v":0}]
[null,null,null,null,null,null,null,null,null,{"$f":"SUMIF($G$20:$G$1016,$G315,$H$20:$H$1016)+SUMIF('2.bTë ardhura-jopublik-nënatyrë'!$G$20:$G$1016,'2.aTë ardhura-jopublik-monetare'!$G315,'2.bTë ardhura-jopublik-nënatyrë'!$H$20:$H$1016)","v":0}]
[null,null,null,null,null,null,null,null,null,{"$f":"SUMIF($G$20:$G$1016,$G316,$H$20:$H$1016)+SUMIF('2.bTë ardhura-jopublik-nënatyrë'!$G$20:$G$1016,'2.aTë ardhura-jopublik-monetare'!$G316,'2.bTë ardhura-jopublik-nënatyrë'!$H$20:$H$1016)","v":0}]
[null,null,null,null,null,null,null,null,null,{"$f":"SUMIF($G$20:$G$1016,$G317,$H$20:$H$1016)+SUMIF('2.bTë ardhura-jopublik-nënatyrë'!$G$20:$G$1016,'2.aTë ardhura-jopublik-monetare'!$G317,'2.bTë ardhura-jopublik-nënatyrë'!$H$20:$H$1016)","v":0}]
[null,null,null,null,null,null,null,null,null,{"$f":"SUMIF($G$20:$G$1016,$G318,$H$20:$H$1016)+SUMIF('2.bTë ardhura-jopublik-nënatyrë'!$G$20:$G$1016,'2.aTë ardhura-jopublik-monetare'!$G318,'2.bTë ardhura-jopublik-nënatyrë'!$H$20:$H$1016)","v":0}]
[null,null,null,null,null,null,null,null,null,{"$f":"SUMIF($G$20:$G$1016,$G319,$H$20:$H$1016)+SUMIF('2.bTë ardhura-jopublik-nënatyrë'!$G$20:$G$1016,'2.aTë ardhura-jopublik-monetare'!$G319,'2.bTë ardhura-jopublik-nënatyrë'!$H$20:$H$1016)","v":0}]
[null,null,null,null,null,null,null,null,null,{"$f":"SUMIF($G$20:$G$1016,$G320,$H$20:$H$1016)+SUMIF('2.bTë ardhura-jopublik-nënatyrë'!$G$20:$G$1016,'2.aTë ardhura-jopublik-monetare'!$G320,'2.bTë ardhura-jopublik-nënatyrë'!$H$20:$H$1016)","v":0}]
[null,null,null,null,null,null,null,null,null,{"$f":"SUMIF($G$20:$G$1016,$G321,$H$20:$H$1016)+SUMIF('2.bTë ardhura-jopublik-nënatyrë'!$G$20:$G$1016,'2.aTë ardhura-jopublik-monetare'!$G321,'2.bTë ardhura-jopublik-nënatyrë'!$H$20:$H$1016)","v":0}]
[null,null,null,null,null,null,null,null,null,{"$f":"SUMIF($G$20:$G$1016,$G322,$H$20:$H$1016)+SUMIF('2.bTë ardhura-jopublik-nënatyrë'!$G$20:$G$1016,'2.aTë ardhura-jopublik-monetare'!$G322,'2.bTë ardhura-jopublik-nënatyrë'!$H$20:$H$1016)","v":0}]
[null,null,null,null,null,null,null,null,null,{"$f":"SUMIF($G$20:$G$1016,$G323,$H$20:$H$1016)+SUMIF('2.bTë ardhura-jopublik-nënatyrë'!$G$20:$G$1016,'2.aTë ardhura-jopublik-monetare'!$G323,'2.bTë ardhura-jopublik-nënatyrë'!$H$20:$H$1016)","v":0}]
[null,null,null,null,null,null,null,null,null,{"$f":"SUMIF($G$20:$G$1016,$G324,$H$20:$H$1016)+SUMIF('2.bTë ardhura-jopublik-nënatyrë'!$G$20:$G$1016,'2.aTë ardhura-jopublik-monetare'!$G324,'2.bTë ardhura-jopublik-nënatyrë'!$H$20:$H$1016)","v":0}]
[null,null,null,null,null,null,null,null,null,{"$f":"SUMIF($G$20:$G$1016,$G325,$H$20:$H$1016)+SUMIF('2.bTë ardhura-jopublik-nënatyrë'!$G$20:$G$1016,'2.aTë ardhura-jopublik-monetare'!$G325,'2.bTë ardhura-jopublik-nënatyrë'!$H$20:$H$1016)","v":0}]
[null,null,null,null,null,null,null,null,null,{"$f":"SUMIF($G$20:$G$1016,$G326,$H$20:$H$1016)+SUMIF('2.bTë ardhura-jopublik-nënatyrë'!$G$20:$G$1016,'2.aTë ardhura-jopublik-monetare'!$G326,'2.bTë ardhura-jopublik-nënatyrë'!$H$20:$H$1016)","v":0}]
[null,null,null,null,null,null,null,null,null,{"$f":"SUMIF($G$20:$G$1016,$G327,$H$20:$H$1016)+SUMIF('2.bTë ardhura-jopublik-nënatyrë'!$G$20:$G$1016,'2.aTë ardhura-jopublik-monetare'!$G327,'2.bTë ardhura-jopublik-nënatyrë'!$H$20:$H$1016)","v":0}]
[null,null,null,null,null,null,null,null,null,{"$f":"SUMIF($G$20:$G$1016,$G328,$H$20:$H$1016)+SUMIF('2.bTë ardhura-jopublik-nënatyrë'!$G$20:$G$1016,'2.aTë ardhura-jopublik-monetare'!$G328,'2.bTë ardhura-jopublik-nënatyrë'!$H$20:$H$1016)","v":0}]
[null,null,null,null,null,null,null,null,null,{"$f":"SUMIF($G$20:$G$1016,$G329,$H$20:$H$1016)+SUMIF('2.bTë ardhura-jopublik-nënatyrë'!$G$20:$G$1016,'2.aTë ardhura-jopublik-monetare'!$G329,'2.bTë ardhura-jopublik-nënatyrë'!$H$20:$H$1016)","v":0}]
[null,null,null,null,null,null,null,null,null,{"$f":"SUMIF($G$20:$G$1016,$G330,$H$20:$H$1016)+SUMIF('2.bTë ardhura-jopublik-nënatyrë'!$G$20:$G$1016,'2.aTë ardhura-jopublik-monetare'!$G330,'2.bTë ardhura-jopublik-nënatyrë'!$H$20:$H$1016)","v":0}]
[null,null,null,null,null,null,null,null,null,{"$f":"SUMIF($G$20:$G$1016,$G331,$H$20:$H$1016)+SUMIF('2.bTë ardhura-jopublik-nënatyrë'!$G$20:$G$1016,'2.aTë ardhura-jopublik-monetare'!$G331,'2.bTë ardhura-jopublik-nënatyrë'!$H$20:$H$1016)","v":0}]
[null,null,null,null,null,null,null,null,null,{"$f":"SUMIF($G$20:$G$1016,$G332,$H$20:$H$1016)+SUMIF('2.bTë ardhura-jopublik-nënatyrë'!$G$20:$G$1016,'2.aTë ardhura-jopublik-monetare'!$G332,'2.bTë ardhura-jopublik-nënatyrë'!$H$20:$H$1016)","v":0}]
[null,null,null,null,null,null,null,null,null,{"$f":"SUMIF($G$20:$G$1016,$G333,$H$20:$H$1016)+SUMIF('2.bTë ardhura-jopublik-nënatyrë'!$G$20:$G$1016,'2.aTë ardhura-jopublik-monetare'!$G333,'2.bTë ardhura-jopublik-nënatyrë'!$H$20:$H$1016)","v":0}]
[null,null,null,null,null,null,null,null,null,{"$f":"SUMIF($G$20:$G$1016,$G334,$H$20:$H$1016)+SUMIF('2.bTë ardhura-jopublik-nënatyrë'!$G$20:$G$1016,'2.aTë ardhura-jopublik-monetare'!$G334,'2.bTë ardhura-jopublik-nënatyrë'!$H$20:$H$1016)","v":0}]
[null,null,null,null,null,null,null,null,null,{"$f":"SUMIF($G$20:$G$1016,$G335,$H$20:$H$1016)+SUMIF('2.bTë ardhura-jopublik-nënatyrë'!$G$20:$G$1016,'2.aTë ardhura-jopublik-monetare'!$G335,'2.bTë ardhura-jopublik-nënatyrë'!$H$20:$H$1016)","v":0}]
[null,null,null,null,null,null,null,null,null,{"$f":"SUMIF($G$20:$G$1016,$G336,$H$20:$H$1016)+SUMIF('2.bTë ardhura-jopublik-nënatyrë'!$G$20:$G$1016,'2.aTë ardhura-jopublik-monetare'!$G336,'2.bTë ardhura-jopublik-nënatyrë'!$H$20:$H$1016)","v":0}]
[null,null,null,null,null,null,null,null,null,{"$f":"SUMIF($G$20:$G$1016,$G337,$H$20:$H$1016)+SUMIF('2.bTë ardhura-jopublik-nënatyrë'!$G$20:$G$1016,'2.aTë ardhura-jopublik-monetare'!$G337,'2.bTë ardhura-jopublik-nënatyrë'!$H$20:$H$1016)","v":0}]
[null,null,null,null,null,null,null,null,null,{"$f":"SUMIF($G$20:$G$1016,$G338,$H$20:$H$1016)+SUMIF('2.bTë ardhura-jopublik-nënatyrë'!$G$20:$G$1016,'2.aTë ardhura-jopublik-monetare'!$G338,'2.bTë ardhura-jopublik-nënatyrë'!$H$20:$H$1016)","v":0}]
[null,null,null,null,null,null,null,null,null,{"$f":"SUMIF($G$20:$G$1016,$G339,$H$20:$H$1016)+SUMIF('2.bTë ardhura-jopublik-nënatyrë'!$G$20:$G$1016,'2.aTë ardhura-jopublik-monetare'!$G339,'2.bTë ardhura-jopublik-nënatyrë'!$H$20:$H$1016)","v":0}]
[null,null,null,null,null,null,null,null,null,{"$f":"SUMIF($G$20:$G$1016,$G340,$H$20:$H$1016)+SUMIF('2.bTë ardhura-jopublik-nënatyrë'!$G$20:$G$1016,'2.aTë ardhura-jopublik-monetare'!$G340,'2.bTë ardhura-jopublik-nënatyrë'!$H$20:$H$1016)","v":0}]
[null,null,null,null,null,null,null,null,null,{"$f":"SUMIF($G$20:$G$1016,$G341,$H$20:$H$1016)+SUMIF('2.bTë ardhura-jopublik-nënatyrë'!$G$20:$G$1016,'2.aTë ardhura-jopublik-monetare'!$G341,'2.bTë ardhura-jopublik-nënatyrë'!$H$20:$H$1016)","v":0}]
[null,null,null,null,null,null,null,null,null,{"$f":"SUMIF($G$20:$G$1016,$G342,$H$20:$H$1016)+SUMIF('2.bTë ardhura-jopublik-nënatyrë'!$G$20:$G$1016,'2.aTë ardhura-jopublik-monetare'!$G342,'2.bTë ardhura-jopublik-nënatyrë'!$H$20:$H$1016)","v":0}]
[null,null,null,null,null,null,null,null,null,{"$f":"SUMIF($G$20:$G$1016,$G343,$H$20:$H$1016)+SUMIF('2.bTë ardhura-jopublik-nënatyrë'!$G$20:$G$1016,'2.aTë ardhura-jopublik-monetare'!$G343,'2.bTë ardhura-jopublik-nënatyrë'!$H$20:$H$1016)","v":0}]
[null,null,null,null,null,null,null,null,null,{"$f":"SUMIF($G$20:$G$1016,$G344,$H$20:$H$1016)+SUMIF('2.bTë ardhura-jopublik-nënatyrë'!$G$20:$G$1016,'2.aTë ardhura-jopublik-monetare'!$G344,'2.bTë ardhura-jopublik-nënatyrë'!$H$20:$H$1016)","v":0}]
[null,null,null,null,null,null,null,null,null,{"$f":"SUMIF($G$20:$G$1016,$G345,$H$20:$H$1016)+SUMIF('2.bTë ardhura-jopublik-nënatyrë'!$G$20:$G$1016,'2.aTë ardhura-jopublik-monetare'!$G345,'2.bTë ardhura-jopublik-nënatyrë'!$H$20:$H$1016)","v":0}]
[null,null,null,null,null,null,null,null,null,{"$f":"SUMIF($G$20:$G$1016,$G346,$H$20:$H$1016)+SUMIF('2.bTë ardhura-jopublik-nënatyrë'!$G$20:$G$1016,'2.aTë ardhura-jopublik-monetare'!$G346,'2.bTë ardhura-jopublik-nënatyrë'!$H$20:$H$1016)","v":0}]
[null,null,null,null,null,null,null,null,null,{"$f":"SUMIF($G$20:$G$1016,$G347,$H$20:$H$1016)+SUMIF('2.bTë ardhura-jopublik-nënatyrë'!$G$20:$G$1016,'2.aTë ardhura-jopublik-monetare'!$G347,'2.bTë ardhura-jopublik-nënatyrë'!$H$20:$H$1016)","v":0}]
[null,null,null,null,null,null,null,null,null,{"$f":"SUMIF($G$20:$G$1016,$G348,$H$20:$H$1016)+SUMIF('2.bTë ardhura-jopublik-nënatyrë'!$G$20:$G$1016,'2.aTë ardhura-jopublik-monetare'!$G348,'2.bTë ardhura-jopublik-nënatyrë'!$H$20:$H$1016)","v":0}]
[null,null,null,null,null,null,null,null,null,{"$f":"SUMIF($G$20:$G$1016,$G349,$H$20:$H$1016)+SUMIF('2.bTë ardhura-jopublik-nënatyrë'!$G$20:$G$1016,'2.aTë ardhura-jopublik-monetare'!$G349,'2.bTë ardhura-jopublik-nënatyrë'!$H$20:$H$1016)","v":0}]
[null,null,null,null,null,null,null,null,null,{"$f":"SUMIF($G$20:$G$1016,$G350,$H$20:$H$1016)+SUMIF('2.bTë ardhura-jopublik-nënatyrë'!$G$20:$G$1016,'2.aTë ardhura-jopublik-monetare'!$G350,'2.bTë ardhura-jopublik-nënatyrë'!$H$20:$H$1016)","v":0}]
[null,null,null,null,null,null,null,null,null,{"$f":"SUMIF($G$20:$G$1016,$G351,$H$20:$H$1016)+SUMIF('2.bTë ardhura-jopublik-nënatyrë'!$G$20:$G$1016,'2.aTë ardhura-jopublik-monetare'!$G351,'2.bTë ardhura-jopublik-nënatyrë'!$H$20:$H$1016)","v":0}]
[null,null,null,null,null,null,null,null,null,{"$f":"SUMIF($G$20:$G$1016,$G352,$H$20:$H$1016)+SUMIF('2.bTë ardhura-jopublik-nënatyrë'!$G$20:$G$1016,'2.aTë ardhura-jopublik-monetare'!$G352,'2.bTë ardhura-jopublik-nënatyrë'!$H$20:$H$1016)","v":0}]
[null,null,null,null,null,null,null,null,null,{"$f":"SUMIF($G$20:$G$1016,$G353,$H$20:$H$1016)+SUMIF('2.bTë ardhura-jopublik-nënatyrë'!$G$20:$G$1016,'2.aTë ardhura-jopublik-monetare'!$G353,'2.bTë ardhura-jopublik-nënatyrë'!$H$20:$H$1016)","v":0}]
[null,null,null,null,null,null,null,null,null,{"$f":"SUMIF($G$20:$G$1016,$G354,$H$20:$H$1016)+SUMIF('2.bTë ardhura-jopublik-nënatyrë'!$G$20:$G$1016,'2.aTë ardhura-jopublik-monetare'!$G354,'2.bTë ardhura-jopublik-nënatyrë'!$H$20:$H$1016)","v":0}]
[null,null,null,null,null,null,null,null,null,{"$f":"SUMIF($G$20:$G$1016,$G355,$H$20:$H$1016)+SUMIF('2.bTë ardhura-jopublik-nënatyrë'!$G$20:$G$1016,'2.aTë ardhura-jopublik-monetare'!$G355,'2.bTë ardhura-jopublik-nënatyrë'!$H$20:$H$1016)","v":0}]
[null,null,null,null,null,null,null,null,null,{"$f":"SUMIF($G$20:$G$1016,$G356,$H$20:$H$1016)+SUMIF('2.bTë ardhura-jopublik-nënatyrë'!$G$20:$G$1016,'2.aTë ardhura-jopublik-monetare'!$G356,'2.bTë ardhura-jopublik-nënatyrë'!$H$20:$H$1016)","v":0}]
[null,null,null,null,null,null,null,null,null,{"$f":"SUMIF($G$20:$G$1016,$G357,$H$20:$H$1016)+SUMIF('2.bTë ardhura-jopublik-nënatyrë'!$G$20:$G$1016,'2.aTë ardhura-jopublik-monetare'!$G357,'2.bTë ardhura-jopublik-nënatyrë'!$H$20:$H$1016)","v":0}]
[null,null,null,null,null,null,null,null,null,{"$f":"SUMIF($G$20:$G$1016,$G358,$H$20:$H$1016)+SUMIF('2.bTë ardhura-jopublik-nënatyrë'!$G$20:$G$1016,'2.aTë ardhura-jopublik-monetare'!$G358,'2.bTë ardhura-jopublik-nënatyrë'!$H$20:$H$1016)","v":0}]
[null,null,null,null,null,null,null,null,null,{"$f":"SUMIF($G$20:$G$1016,$G359,$H$20:$H$1016)+SUMIF('2.bTë ardhura-jopublik-nënatyrë'!$G$20:$G$1016,'2.aTë ardhura-jopublik-monetare'!$G359,'2.bTë ardhura-jopublik-nënatyrë'!$H$20:$H$1016)","v":0}]
[null,null,null,null,null,null,null,null,null,{"$f":"SUMIF($G$20:$G$1016,$G360,$H$20:$H$1016)+SUMIF('2.bTë ardhura-jopublik-nënatyrë'!$G$20:$G$1016,'2.aTë ardhura-jopublik-monetare'!$G360,'2.bTë ardhura-jopublik-nënatyrë'!$H$20:$H$1016)","v":0}]
[null,null,null,null,null,null,null,null,null,{"$f":"SUMIF($G$20:$G$1016,$G361,$H$20:$H$1016)+SUMIF('2.bTë ardhura-jopublik-nënatyrë'!$G$20:$G$1016,'2.aTë ardhura-jopublik-monetare'!$G361,'2.bTë ardhura-jopublik-nënatyrë'!$H$20:$H$1016)","v":0}]
[null,null,null,null,null,null,null,null,null,{"$f":"SUMIF($G$20:$G$1016,$G362,$H$20:$H$1016)+SUMIF('2.bTë ardhura-jopublik-nënatyrë'!$G$20:$G$1016,'2.aTë ardhura-jopublik-monetare'!$G362,'2.bTë ardhura-jopublik-nënatyrë'!$H$20:$H$1016)","v":0}]
[null,null,null,null,null,null,null,null,null,{"$f":"SUMIF($G$20:$G$1016,$G363,$H$20:$H$1016)+SUMIF('2.bTë ardhura-jopublik-nënatyrë'!$G$20:$G$1016,'2.aTë ardhura-jopublik-monetare'!$G363,'2.bTë ardhura-jopublik-nënatyrë'!$H$20:$H$1016)","v":0}]
[null,null,null,null,null,null,null,null,null,{"$f":"SUMIF($G$20:$G$1016,$G364,$H$20:$H$1016)+SUMIF('2.bTë ardhura-jopublik-nënatyrë'!$G$20:$G$1016,'2.aTë ardhura-jopublik-monetare'!$G364,'2.bTë ardhura-jopublik-nënatyrë'!$H$20:$H$1016)","v":0}]
[]
[]
[]
[]
[]
[]
[]
[]
[]
[]
[]
[]
[]
[]
[]
[]
[]
[]
[]
[]
[]
[]
[]
[]
[]
[]
[]
[]
[]
[]
[]
[]
[]
[]
[]
[]
[]
[]
[]
[]
[]
[]
[]
[]
[]
[]
[]
[]
[]
[]
[]
[]
[]
[]
[]
[]
[]
[]
[]
[]
[]
[]
[]
[]
[]
[]
[]
[]
[]
[]
[]
[]
[]
[]
[]
[]
[]
[]
[]
[]
[]
[]
[]
[]
[]
[]
[]
[]
[]
[]
[]
[]
[]
[]
[]
[]
[]
[]
[]
[]
[]
[]
[]
[]
[]
[]
[]
[]
[]
[]
[]
[]
[]
[]
[]
[]
[]
[]
[]
[]
[]
[]
[]
[]
[]
[]
[]
[]
[]
[]
[]
[]
[]
[]
[]
[]
[]
[]
[]
[]
[]
[]
[]
[]
[]
[]
[]
[]
[]
[]
[]
[]
[]
[]
[]
[]
[]
[]
[]
[]
[]
[]
[]
[]
[]
[]
[]
[]
[]
[]
[]
[]
[]
[]
[]
[]
[]
[]
[]
[]
[]
[]
[]
[]
[]
[]
[]
[]
[]
[]
[]
[]
[]
[]
[]
[]
[]
[]
[]
[]
[]
[]
[]
[]
[]
[]
[]
[]
[]
[]
[]
[]
[]
[]
[]
[]
[]
[]
[]
[]
[]
[]
[]
[]
[]
[]
[]
[]
[]
[]
[]
[]
[]
[]
[]
[]
[]
[]
[]
[]
[]
[]
[]
[]
[]
[]
[]
[]
[]
[]
[]
[]
[]
[]
[]
[]
[]
[]
[]
[]
[]
[]
[]
[]
[]
[]
[]
[]
[]
[]
[]
[]
[]
[]
[]
[]
[]
[]
[]
[]
[]
[]
[]
[]
[]
[]
[]
[]
[]
[]
[]
[]
[]
[]
[]
[]
[]
[]
[]
[]
[]
[]
[]
[]
[]
[]
[]
[]
[]
[]
[]
[]
[]
[]
[]
[]
[]
[]
[]
[]
[]
[]
[]
[]
[]
[]
[]
[]
[]
[]
[]
[]
[]
[]
[]
[]
[]
[]
[]
[]
[]
[]
[]
[]
[]
[]
[]
[]
[]
[]
[]
[]
[]
[]
[]
[]
[]
[]
[]
[]
[]
[]
[]
[]
[]
[]
[]
[]
[]
[]
[]
[]
[]
[]
[]
[]
[]
[]
[]
[]
[]
[]
[]
[]
[]
[]
[]
[]
[]
[]
[]
[]
[]
[]
[]
[]
[]
[]
[]
[]
[]
[]
[]
[]
[]
[]
[]
[]
[]
[]
[]
[]
[]
[]
[]
[]
[]
[]
[]
[]
[]
[]
[]
[]
[]
[]
[]
[]
[]
[]
[]
[]
[]
[]
[]
[]
[]
[]
[]
[]
[]
[]
[]
[]
[]
[]
[]
[]
[]
[]
[]
[]
[]
[]
[]
[]
[]
[]
[]
[]
[]
[]
[]
[]
[]
[]
[]
[]
[]
[]
[]
[]
[]
[]
[]
[]
[]
[]
[]
[]
[]
[]
[]
[]
[]
[]
[]
[]
[]
[]
[]
[]
[]
[]
[]
[]
[]
[]
[]
[]
[]
[]
[]
[]
[]
[]
[]
[]
[]
[]
[]
[]
[]
[]
[]
[]
[]
[]
[]
[]
[]
[]
[]
[]
[]
[]
[]
[]
[]
[]
[]
[]
[]
[]
[]
[]
[]
[]
[]
[]
[]
[]
[]
[]
[]
[]
[]
[]
[]
[]
[]
[]
[]
[]
[]
[]
[]
[]
[]
[]
[]
[]
[]
[]
[]
[]
[]
[]
[]
[]
[]
[]
[]
[]
[]
[]
[]
[]
[]
[]
[]
[]
[]
[]
[]
[]
[]
[]
[]
[]
[]
[]
[]
[]
[]
[]
[]
[]
[]
[]
[]
[]
[]
[]
[]
[]
[]
[]
[]
[]
[]
[]
[]
[]
[]
[]
[]
[]
[]
[]
[]
[]
[]
[]
[]
[]
[]
[]
[]
[]
[]
[]
[]
[]
[]
[]
[]
[]
[]
[]
[]
[]
[]
[]
[]
[]
[]
[]
[]
[]
[]
[]
[null,null,null,null,null,null,null,null,null,{"$f":"SUMIF($G$20:$G$1016,$G1017,$H$20:$H$1016)","v":0}]
[null,null,null,null,null,null,null,null,null,0]
[null,null,null,null,null,null,null,null,null,0]
[null,null,null,null,null,null,null,null,null,0]
[null,null,null,null,null,null,null,null,null,0]
[null,null,null,null,null,null,null,null,null,0]
[null,null,null,null,null,null,null,null,null,0]
[null,null,null,null,null,null,null,null,null,0]
[null,null,null,null,null,null,null,null,null,0]
[null,null,null,null,null,null,null,null,null,0]
[null,null,null,null,null,null,null,null,null,0]
[null,null,null,null,null,null,null,null,null,0]
[null,null,null,null,null,null,null,null,null,0]
[null,null,null,null,null,null,null,null,null,0]
[null,null,null,null,null,null,null,null,null,0]
[null,null,null,null,null,null,null,null,null,0]
[null,null,null,null,null,null,null,null,null,0]
[null,null,null,null,null,null,null,null,null,0]
[null,null,null,null,null,null,null,null,null,0]
[null,null,null,null,null,null,null,null,null,0]
[null,null,null,null,null,null,null,null,null,0]
[null,null,null,null,null,null,null,null,null,0]
[null,null,null,null,null,null,null,null,null,0]
[null,null,null,null,null,null,null,null,null,0]
[null,null,null,null,null,null,null,null,null,0]
[null,null,null,null,null,null,null,null,null,0]
[null,null,null,null,null,null,null,null,null,0]
[null,null,null,null,null,null,null,null,null,0]
[null,null,null,null,null,null,null,null,null,0]
[null,null,null,null,null,null,null,null,null,0]
[null,null,null,null,null,null,null,null,null,0]
[null,null,null,null,null,null,null,null,null,0]
[null,null,null,null,null,null,null,null,null,0]
[null,null,null,null,null,null,null,null,null,0]
[null,null,null,null,null,null,null,null,null,0]
[null,null,null,null,null,null,null,null,null,0]
[null,null,null,null,null,null,null,null,null,0]
[null,null,null,null,null,null,null,null,null,0]
[null,null,null,null,null,null,null,null,null,0]
[null,null,null,null,null,null,null,null,null,0]
[null,null,null,null,null,null,null,null,null,0]
[null,null,null,null,null,null,null,null,null,0]
[null,null,null,null,null,null,null,null,null,0]
[null,null,null,null,null,null,null,null,null,0]
[null,null,null,null,null,null,null,null,null,0]
[null,null,null,null,null,null,null,null,null,0]
[null,null,null,null,null,null,null,null,null,0]
[null,null,null,null,null,null,null,null,null,0]
[null,null,null,null,null,null,null,null,null,0]
[null,null,null,null,null,null,null,null,null,0]
[null,null,null,null,null,null,null,null,null,0]
[null,null,null,null,null,null,null,null,null,0]
[null,null,null,null,null,null,null,null,null,0]
[null,null,null,null,null,null,null,null,null,0]
[null,null,null,null,null,null,null,null,null,0]
[null,null,null,null,null,null,null,null,null,0]
[null,null,null,null,null,null,null,null,null,0]
[null,null,null,null,null,null,null,null,null,0]
[null,null,null,null,null,null,null,null,null,0]
[null,null,null,null,null,null,null,null,null,0]
[null,null,null,null,null,null,null,null,null,0]
[null,null,null,null,null,null,null,null,null,0]
[null,null,null,null,null,null,null,null,null,0]
[null,null,null,null,null,null,null,null,null,0]
[null,null,null,null,null,null,null,null,null,{"$f":"SUMIF($G$20:$G$1016,$G1081,$H$20:$H$1016)","v":0}]
[null,null,null,null,null,null,null,null,null,0]
[null,null,null,null,null,null,null,null,null,0]
[null,null,null,null,null,null,null,null,null,0]
[null,null,null,null,null,null,null,null,null,0]
[null,null,null,null,null,null,null,null,null,0]
[null,null,null,null,null,null,null,null,null,0]
[null,null,null,null,null,null,null,null,null,0]
[null,null,null,null,null,null,null,null,null,0]
[null,null,null,null,null,null,null,null,null,0]
[null,null,null,null,null,null,null,null,null,0]
[null,null,null,null,null,null,null,null,null,0]
[null,null,null,null,null,null,null,null,null,0]
[null,null,null,null,null,null,null,null,null,0]
[null,null,null,null,null,null,null,null,null,0]
[null,null,null,null,null,null,null,null,null,0]
[null,null,null,null,null,null,null,null,null,0]
[null,null,null,null,null,null,null,null,null,0]
[null,null,null,null,null,null,null,null,null,0]
[null,null,null,null,null,null,null,null,null,0]
[null,null,null,null,null,null,null,null,null,0]
[null,null,null,null,null,null,null,null,null,0]
[null,null,null,null,null,null,null,null,null,0]
[null,null,null,null,null,null,null,null,null,0]
[null,null,null,null,null,null,null,null,null,0]
[null,null,null,null,null,null,null,null,null,0]
[null,null,null,null,null,null,null,null,null,0]
[null,null,null,null,null,null,null,null,null,0]
[null,null,null,null,null,null,null,null,null,0]
[null,null,null,null,null,null,null,null,null,0]
[null,null,null,null,null,null,null,null,null,0]
[null,null,null,null,null,null,null,null,null,0]
[null,null,null,null,null,null,null,null,null,0]
[null,null,null,null,null,null,null,null,null,0]
[null,null,null,null,null,null,null,null,null,0]
[null,null,null,null,null,null,null,null,null,0]
[null,null,null,null,null,null,null,null,null,0]
[null,null,null,null,null,null,null,null,null,0]
[null,null,null,null,null,null,null,null,null,0]
[null,null,null,null,null,null,null,null,null,0]
[null,null,null,null,null,null,null,null,null,0]
[null,null,null,null,null,null,null,null,null,0]
[null,null,null,null,null,null,null,null,null,0]
[null,null,null,null,null,null,null,null,null,0]
[null,null,null,null,null,null,null,null,null,0]
[null,null,null,null,null,null,null,null,null,0]
[null,null,null,null,null,null,null,null,null,0]
[null,null,null,null,null,null,null,null,null,0]
[null,null,null,null,null,null,null,null,null,0]
[null,null,null,null,null,null,null,null,null,0]
[null,null,null,null,null,null,null,null,null,0]
[null,null,null,null,null,null,null,null,null,0]
[null,null,null,null,null,null,null,null,null,0]
[null,null,null,null,null,null,null,null,null,0]
[null,null,null,null,null,null,null,null,null,0]
[null,null,null,null,null,null,null,null,null,0]
[null,null,null,null,null,null,null,null,null,0]
[null,null,null,null,null,null,null,null,null,0]
[null,null,null,null,null,null,null,null,null,0]
[null,null,null,null,null,null,null,null,null,0]
[null,null,null,null,null,null,null,null,null,0]
[null,null,null,null,null,null,null,null,null,0]
[null,null,null,null,null,null,null,null,null,0]
[null,null,null,null,null,null,null,null,null,0]
[null,null,null,null,null,null,null,null,null,{"$f":"SUMIF($G$20:$G$1016,$G1145,$H$20:$H$1016)","v":0}]
[null,null,null,null,null,null,null,null,null,0]
[null,null,null,null,null,null,null,null,null,0]
[null,null,null,null,null,null,null,null,null,0]
[null,null,null,null,null,null,null,null,null,0]
[null,null,null,null,null,null,null,null,null,0]
[null,null,null,null,null,null,null,null,null,0]
[null,null,null,null,null,null,null,null,null,0]
[null,null,null,null,null,null,null,null,null,0]
[null,null,null,null,null,null,null,null,null,0]
[null,null,null,null,null,null,null,null,null,0]
[null,null,null,null,null,null,null,null,null,0]
[null,null,null,null,null,null,null,null,null,0]
[null,null,null,null,null,null,null,null,null,0]
[null,null,null,null,null,null,null,null,null,0]
[null,null,null,null,null,null,null,null,null,0]
[null,null,null,null,null,null,null,null,null,0]
[null,null,null,null,null,null,null,null,null,0]
[null,null,null,null,null,null,null,null,null,0]
[null,null,null,null,null,null,null,null,null,0]
[null,null,null,null,null,null,null,null,null,0]
[null,null,null,null,null,null,null,null,null,0]
[null,null,null,null,null,null,null,null,null,0]
[null,null,null,null,null,null,null,null,null,0]
[null,null,null,null,null,null,null,null,null,0]
[null,null,null,null,null,null,null,null,null,0]
[null,null,null,null,null,null,null,null,null,0]
[null,null,null,null,null,null,null,null,null,0]
[null,null,null,null,null,null,null,null,null,0]
[null,null,null,null,null,null,null,null,null,0]
[null,null,null,null,null,null,null,null,null,0]
[null,null,null,null,null,null,null,null,null,0]
[null,null,null,null,null,null,null,null,null,0]
[null,null,null,null,null,null,null,null,null,0]
[null,null,null,null,null,null,null,null,null,0]
[null,null,null,null,null,null,null,null,null,0]
[null,null,null,null,null,null,null,null,null,0]
[null,null,null,null,null,null,null,null,null,0]
[null,null,null,null,null,null,null,null,null,0]
[null,null,null,null,null,null,null,null,null,0]
[null,null,null,null,null,null,null,null,null,0]
[null,null,null,null,null,null,null,null,null,0]
[null,null,null,null,null,null,null,null,null,0]
[null,null,null,null,null,null,null,null,null,0]
[null,null,null,null,null,null,null,null,null,0]
[null,null,null,null,null,null,null,null,null,0]
[null,null,null,null,null,null,null,null,null,0]
[null,null,null,null,null,null,null,null,null,0]
[null,null,null,null,null,null,null,null,null,0]
[null,null,null,null,null,null,null,null,null,0]
[null,null,null,null,null,null,null,null,null,0]
[null,null,null,null,null,null,null,null,null,0]
[null,null,null,null,null,null,null,null,null,0]
[null,null,null,null,null,null,null,null,null,0]
[null,null,null,null,null,null,null,null,null,0]
[null,null,null,null,null,null,null,null,null,0]
[null,null,null,null,null,null,null,null,null,0]
[null,null,null,null,null,null,null,null,null,0]
[null,null,null,null,null,null,null,null,null,0]
[null,null,null,null,null,null,null,null,null,0]
[null,null,null,null,null,null,null,null,null,0]
[null,null,null,null,null,null,null,null,null,0]
[null,null,null,null,null,null,null,null,null,0]
[null,null,null,null,null,null,null,null,null,0]
[null,null,null,null,null,null,null,null,null,{"$f":"SUMIF($G$20:$G$1016,$G1209,$H$20:$H$1016)","v":0}]
[null,null,null,null,null,null,null,null,null,0]
[null,null,null,null,null,null,null,null,null,0]
[null,null,null,null,null,null,null,null,null,0]
[null,null,null,null,null,null,null,null,null,0]
[null,null,null,null,null,null,null,null,null,0]
[null,null,null,null,null,null,null,null,null,0]
[null,null,null,null,null,null,null,null,null,0]
[null,null,null,null,null,null,null,null,null,0]
[null,null,null,null,null,null,null,null,null,0]
[null,null,null,null,null,null,null,null,null,0]
[null,null,null,null,null,null,null,null,null,0]
[null,null,null,null,null,null,null,null,null,0]
[null,null,null,null,null,null,null,null,null,0]
[null,null,null,null,null,null,null,null,null,0]
[null,null,null,null,null,null,null,null,null,0]
[null,null,null,null,null,null,null,null,null,0]
[null,null,null,null,null,null,null,null,null,0]
[null,null,null,null,null,null,null,null,null,0]
[null,null,null,null,null,null,null,null,null,0]
[null,null,null,null,null,null,null,null,null,0]
[null,null,null,null,null,null,null,null,null,0]
[null,null,null,null,null,null,null,null,null,0]
[null,null,null,null,null,null,null,null,null,0]
[null,null,null,null,null,null,null,null,null,0]
[null,null,null,null,null,null,null,null,null,0]
[null,null,null,null,null,null,null,null,null,0]
[null,null,null,null,null,null,null,null,null,0]
[null,null,null,null,null,null,null,null,null,0]
[null,null,null,null,null,null,null,null,null,0]
[null,null,null,null,null,null,null,null,null,0]
[null,null,null,null,null,null,null,null,null,0]
[null,null,null,null,null,null,null,null,null,0]
[null,null,null,null,null,null,null,null,null,0]
[null,null,null,null,null,null,null,null,null,0]
[null,null,null,null,null,null,null,null,null,0]
[null,null,null,null,null,null,null,null,null,0]
[null,null,null,null,null,null,null,null,null,0]
[null,null,null,null,null,null,null,null,null,0]
[null,null,null,null,null,null,null,null,null,0]
[null,null,null,null,null,null,null,null,null,0]
[null,null,null,null,null,null,null,null,null,0]
[null,null,null,null,null,null,null,null,null,0]
[null,null,null,null,null,null,null,null,null,0]
[null,null,null,null,null,null,null,null,null,0]
[null,null,null,null,null,null,null,null,null,0]
[null,null,null,null,null,null,null,null,null,0]
[null,null,null,null,null,null,null,null,null,0]
[null,null,null,null,null,null,null,null,null,0]
[null,null,null,null,null,null,null,null,null,0]
[null,null,null,null,null,null,null,null,null,0]
[null,null,null,null,null,null,null,null,null,0]
[null,null,null,null,null,null,null,null,null,0]
[null,null,null,null,null,null,null,null,null,0]
[null,null,null,null,null,null,null,null,null,0]
[null,null,null,null,null,null,null,null,null,0]
[null,null,null,null,null,null,null,null,null,0]
[null,null,null,null,null,null,null,null,null,0]
[null,null,null,null,null,null,null,null,null,0]
[null,null,null,null,null,null,null,null,null,0]
[null,null,null,null,null,null,null,null,null,0]
[null,null,null,null,null,null,null,null,null,0]
[null,null,null,null,null,null,null,null,null,0]
[null,null,null,null,null,null,null,null,null,0]
[null,null,null,null,null,null,null,null,null,{"$f":"SUMIF($G$20:$G$1016,$G1273,$H$20:$H$1016)","v":0}]
[null,null,null,null,null,null,null,null,null,0]
[null,null,null,null,null,null,null,null,null,0]
[null,null,null,null,null,null,null,null,null,0]
[null,null,null,null,null,null,null,null,null,0]
[null,null,null,null,null,null,null,null,null,0]
[null,null,null,null,null,null,null,null,null,0]
[null,null,null,null,null,null,null,null,null,0]
[null,null,null,null,null,null,null,null,null,0]
[null,null,null,null,null,null,null,null,null,0]
[null,null,null,null,null,null,null,null,null,0]
[null,null,null,null,null,null,null,null,null,0]
[null,null,null,null,null,null,null,null,null,0]
[null,null,null,null,null,null,null,null,null,0]
[null,null,null,null,null,null,null,null,null,0]
[null,null,null,null,null,null,null,null,null,0]
[null,null,null,null,null,null,null,null,null,0]
[null,null,null,null,null,null,null,null,null,0]
[null,null,null,null,null,null,null,null,null,0]
[null,null,null,null,null,null,null,null,null,0]
[null,null,null,null,null,null,null,null,null,0]
[null,null,null,null,null,null,null,null,null,0]
[null,null,null,null,null,null,null,null,null,0]
[null,null,null,null,null,null,null,null,null,0]
[null,null,null,null,null,null,null,null,null,0]
[null,null,null,null,null,null,null,null,null,0]
[null,null,null,null,null,null,null,null,null,0]
[null,null,null,null,null,null,null,null,null,0]
[null,null,null,null,null,null,null,null,null,0]
[null,null,null,null,null,null,null,null,null,0]
[null,null,null,null,null,null,null,null,null,0]
[null,null,null,null,null,null,null,null,null,0]
[null,null,null,null,null,null,null,null,null,0]
[null,null,null,null,null,null,null,null,null,0]
[null,null,null,null,null,null,null,null,null,0]
[null,null,null,null,null,null,null,null,null,0]
[null,null,null,null,null,null,null,null,null,0]
[null,null,null,null,null,null,null,null,null,0]
[null,null,null,null,null,null,null,null,null,0]
[null,null,null,null,null,null,null,null,null,0]
[null,null,null,null,null,null,null,null,null,0]
[null,null,null,null,null,null,null,null,null,0]
[null,null,null,null,null,null,null,null,null,0]
[null,null,null,null,null,null,null,null,null,0]
[null,null,null,null,null,null,null,null,null,0]
[null,null,null,null,null,null,null,null,null,0]
[null,null,null,null,null,null,null,null,null,0]
[null,null,null,null,null,null,null,null,null,0]
[null,null,null,null,null,null,null,null,null,0]
[null,null,null,null,null,null,null,null,null,0]
[null,null,null,null,null,null,null,null,null,0]
[null,null,null,null,null,null,null,null,null,0]
[null,null,null,null,null,null,null,null,null,0]
[null,null,null,null,null,null,null,null,null,0]
[null,null,null,null,null,null,null,null,null,0]
[null,null,null,null,null,null,null,null,null,0]
[null,null,null,null,null,null,null,null,null,0]
[null,null,null,null,null,null,null,null,null,0]
[null,null,null,null,null,null,null,null,null,0]
[null,null,null,null,null,null,null,null,null,0]
[null,null,null,null,null,null,null,null,null,0]
[null,null,null,null,null,null,null,null,null,0]
[null,null,null,null,null,null,null,null,null,0]
[null,null,null,null,null,null,null,null,null,0]
[null,null,null,null,null,null,null,null,null,{"$f":"SUMIF($G$20:$G$1016,$G1337,$H$20:$H$1016)","v":0}]
[null,null,null,null,null,null,null,null,null,0]
[null,null,null,null,null,null,null,null,null,0]
[null,null,null,null,null,null,null,null,null,0]
[null,null,null,null,null,null,null,null,null,0]
[null,null,null,null,null,null,null,null,null,0]
[null,null,null,null,null,null,null,null,null,0]
[null,null,null,null,null,null,null,null,null,0]
[null,null,null,null,null,null,null,null,null,0]
[null,null,null,null,null,null,null,null,null,0]
[null,null,null,null,null,null,null,null,null,0]
[null,null,null,null,null,null,null,null,null,0]
[null,null,null,null,null,null,null,null,null,0]
[null,null,null,null,null,null,null,null,null,0]
[null,null,null,null,null,null,null,null,null,0]
[null,null,null,null,null,null,null,null,null,0]
[null,null,null,null,null,null,null,null,null,0]
[null,null,null,null,null,null,null,null,null,0]
[null,null,null,null,null,null,null,null,null,0]
[null,null,null,null,null,null,null,null,null,0]
[null,null,null,null,null,null,null,null,null,0]
[null,null,null,null,null,null,null,null,null,0]
[null,null,null,null,null,null,null,null,null,0]
[null,null,null,null,null,null,null,null,null,0]
[null,null,null,null,null,null,null,null,null,0]
[null,null,null,null,null,null,null,null,null,0]
[null,null,null,null,null,null,null,null,null,0]
[null,null,null,null,null,null,null,null,null,0]
[null,null,null,null,null,null,null,null,null,0]
[null,null,null,null,null,null,null,null,null,0]
[null,null,null,null,null,null,null,null,null,0]
[null,null,null,null,null,null,null,null,null,0]
[null,null,null,null,null,null,null,null,null,0]
[null,null,null,null,null,null,null,null,null,0]
[null,null,null,null,null,null,null,null,null,0]
[null,null,null,null,null,null,null,null,null,0]
[null,null,null,null,null,null,null,null,null,0]
[null,null,null,null,null,null,null,null,null,0]
[null,null,null,null,null,null,null,null,null,0]
[null,null,null,null,null,null,null,null,null,0]
[null,null,null,null,null,null,null,null,null,0]
[null,null,null,null,null,null,null,null,null,0]
[null,null,null,null,null,null,null,null,null,0]
[null,null,null,null,null,null,null,null,null,0]
[null,null,null,null,null,null,null,null,null,0]
[null,null,null,null,null,null,null,null,null,0]
[null,null,null,null,null,null,null,null,null,0]
[null,null,null,null,null,null,null,null,null,0]
[null,null,null,null,null,null,null,null,null,0]
[null,null,null,null,null,null,null,null,null,0]
[null,null,null,null,null,null,null,null,null,0]
[null,null,null,null,null,null,null,null,null,0]
[null,null,null,null,null,null,null,null,null,0]
[null,null,null,null,null,null,null,null,null,0]
[null,null,null,null,null,null,null,null,null,0]
[null,null,null,null,null,null,null,null,null,0]
[null,null,null,null,null,null,null,null,null,0]
[null,null,null,null,null,null,null,null,null,0]
[null,null,null,null,null,null,null,null,null,0]
[null,null,null,null,null,null,null,null,null,0]
[null,null,null,null,null,null,null,null,null,0]
[null,null,null,null,null,null,null,null,null,0]
[null,null,null,null,null,null,null,null,null,0]
[null,null,null,null,null,null,null,null,null,0]
[null,null,null,null,null,null,null,null,null,{"$f":"SUMIF($G$20:$G$1016,$G1401,$H$20:$H$1016)","v":0}]
[null,null,null,null,null,null,null,null,null,0]
[null,null,null,null,null,null,null,null,null,0]
[null,null,null,null,null,null,null,null,null,0]
[null,null,null,null,null,null,null,null,null,0]
[null,null,null,null,null,null,null,null,null,0]
[null,null,null,null,null,null,null,null,null,0]
[null,null,null,null,null,null,null,null,null,0]
[null,null,null,null,null,null,null,null,null,0]
[null,null,null,null,null,null,null,null,null,0]
[null,null,null,null,null,null,null,null,null,0]
[null,null,null,null,null,null,null,null,null,0]
[null,null,null,null,null,null,null,null,null,0]
[null,null,null,null,null,null,null,null,null,0]
[null,null,null,null,null,null,null,null,null,0]
[null,null,null,null,null,null,null,null,null,0]
[null,null,null,null,null,null,null,null,null,0]
[null,null,null,null,null,null,null,null,null,0]
[null,null,null,null,null,null,null,null,null,0]
[null,null,null,null,null,null,null,null,null,0]
[null,null,null,null,null,null,null,null,null,0]
[null,null,null,null,null,null,null,null,null,0]
[null,null,null,null,null,null,null,null,null,0]
[null,null,null,null,null,null,null,null,null,0]
[null,null,null,null,null,null,null,null,null,0]
[null,null,null,null,null,null,null,null,null,0]
[null,null,null,null,null,null,null,null,null,0]
[null,null,null,null,null,null,null,null,null,0]
[null,null,null,null,null,null,null,null,null,0]
[null,null,null,null,null,null,null,null,null,0]
[null,null,null,null,null,null,null,null,null,0]
[null,null,null,null,null,null,null,null,null,0]
[null,null,null,null,null,null,null,null,null,0]
[null,null,null,null,null,null,null,null,null,0]
[null,null,null,null,null,null,null,null,null,0]
[null,null,null,null,null,null,null,null,null,0]
[null,null,null,null,null,null,null,null,null,0]
[null,null,null,null,null,null,null,null,null,0]
[null,null,null,null,null,null,null,null,null,0]
[null,null,null,null,null,null,null,null,null,0]
[null,null,null,null,null,null,null,null,null,0]
[null,null,null,null,null,null,null,null,null,0]
[null,null,null,null,null,null,null,null,null,0]
[null,null,null,null,null,null,null,null,null,0]
[null,null,null,null,null,null,null,null,null,0]
[null,null,null,null,null,null,null,null,null,0]
[null,null,null,null,null,null,null,null,null,0]
[null,null,null,null,null,null,null,null,null,0]
[null,null,null,null,null,null,null,null,null,0]
[null,null,null,null,null,null,null,null,null,0]
[null,null,null,null,null,null,null,null,null,0]
[null,null,null,null,null,null,null,null,null,0]
[null,null,null,null,null,null,null,null,null,0]
[null,null,null,null,null,null,null,null,null,0]
[null,null,null,null,null,null,null,null,null,0]
[null,null,null,null,null,null,null,null,null,0]
[null,null,null,null,null,null,null,null,null,0]
[null,null,null,null,null,null,null,null,null,0]
[null,null,null,null,null,null,null,null,null,0]
[null,null,null,null,null,null,null,null,null,0]
[null,null,null,null,null,null,null,null,null,0]
[null,null,null,null,null,null,null,null,null,0]
[null,null,null,null,null,null,null,null,null,0]
[null,null,null,null,null,null,null,null,null,0]
[null,null,null,null,null,null,null,null,null,{"$f":"SUMIF($G$20:$G$1016,$G1465,$H$20:$H$1016)","v":0}]
[null,null,null,null,null,null,null,null,null,0]
[null,null,null,null,null,null,null,null,null,0]
[null,null,null,null,null,null,null,null,null,0]
[null,null,null,null,null,null,null,null,null,0]
[null,null,null,null,null,null,null,null,null,0]
[null,null,null,null,null,null,null,null,null,0]
[null,null,null,null,null,null,null,null,null,0]
[null,null,null,null,null,null,null,null,null,0]
[null,null,null,null,null,null,null,null,null,0]
[null,null,null,null,null,null,null,null,null,0]
[null,null,null,null,null,null,null,null,null,0]
[null,null,null,null,null,null,null,null,null,0]
[null,null,null,null,null,null,null,null,null,0]
[null,null,null,null,null,null,null,null,null,0]
[null,null,null,null,null,null,null,null,null,0]
[null,null,null,null,null,null,null,null,null,0]
[null,null,null,null,null,null,null,null,null,0]
[null,null,null,null,null,null,null,null,null,0]
[null,null,null,null,null,null,null,null,null,0]
[null,null,null,null,null,null,null,null,null,0]
[null,null,null,null,null,null,null,null,null,0]
[null,null,null,null,null,null,null,null,null,0]
[null,null,null,null,null,null,null,null,null,0]
[null,null,null,null,null,null,null,null,null,0]
[null,null,null,null,null,null,null,null,null,0]
[null,null,null,null,null,null,null,null,null,0]
[null,null,null,null,null,null,null,null,null,0]
[null,null,null,null,null,null,null,null,null,0]
[null,null,null,null,null,null,null,null,null,0]
[null,null,null,null,null,null,null,null,null,0]
[null,null,null,null,null,null,null,null,null,0]
[null,null,null,null,null,null,null,null,null,0]
[null,null,null,null,null,null,null,null,null,0]
[null,null,null,null,null,null,null,null,null,0]
[null,null,null,null,null,null,null,null,null,0]
[null,null,null,null,null,null,null,null,null,0]
[null,null,null,null,null,null,null,null,null,0]
[null,null,null,null,null,null,null,null,null,0]
[null,null,null,null,null,null,null,null,null,0]
[null,null,null,null,null,null,null,null,null,0]
[null,null,null,null,null,null,null,null,null,0]
[null,null,null,null,null,null,null,null,null,0]
[null,null,null,null,null,null,null,null,null,0]
[null,null,null,null,null,null,null,null,null,0]
[null,null,null,null,null,null,null,null,null,0]
[null,null,null,null,null,null,null,null,null,0]
[null,null,null,null,null,null,null,null,null,0]
[null,null,null,null,null,null,null,null,null,0]
[null,null,null,null,null,null,null,null,null,0]
[null,null,null,null,null,null,null,null,null,0]
[null,null,null,null,null,null,null,null,null,0]
[null,null,null,null,null,null,null,null,null,0]
[null,null,null,null,null,null,null,null,null,0]
[null,null,null,null,null,null,null,null,null,0]
[null,null,null,null,null,null,null,null,null,0]
[null,null,null,null,null,null,null,null,null,0]
[null,null,null,null,null,null,null,null,null,0]
[null,null,null,null,null,null,null,null,null,0]
[null,null,null,null,null,null,null,null,null,0]
[null,null,null,null,null,null,null,null,null,0]
[null,null,null,null,null,null,null,null,null,0]
[null,null,null,null,null,null,null,null,null,0]
[null,null,null,null,null,null,null,null,null,0]
[null,null,null,null,null,null,null,null,null,{"$f":"SUMIF($G$20:$G$1016,$G1529,$H$20:$H$1016)","v":0}]
[null,null,null,null,null,null,null,null,null,0]
[null,null,null,null,null,null,null,null,null,0]
[null,null,null,null,null,null,null,null,null,0]
[null,null,null,null,null,null,null,null,null,0]
[null,null,null,null,null,null,null,null,null,0]
[null,null,null,null,null,null,null,null,null,0]
[null,null,null,null,null,null,null,null,null,0]
[null,null,null,null,null,null,null,null,null,0]
[null,null,null,null,null,null,null,null,null,0]
[null,null,null,null,null,null,null,null,null,0]
[null,null,null,null,null,null,null,null,null,0]
[null,null,null,null,null,null,null,null,null,0]
[null,null,null,null,null,null,null,null,null,0]
[null,null,null,null,null,null,null,null,null,0]
[null,null,null,null,null,null,null,null,null,0]
[null,null,null,null,null,null,null,null,null,0]
[null,null,null,null,null,null,null,null,null,0]
[null,null,null,null,null,null,null,null,null,0]
[null,null,null,null,null,null,null,null,null,0]
[null,null,null,null,null,null,null,null,null,0]
[null,null,null,null,null,null,null,null,null,0]
[null,null,null,null,null,null,null,null,null,0]
[null,null,null,null,null,null,null,null,null,0]
[null,null,null,null,null,null,null,null,null,0]
[null,null,null,null,null,null,null,null,null,0]
[null,null,null,null,null,null,null,null,null,0]
[null,null,null,null,null,null,null,null,null,0]
[null,null,null,null,null,null,null,null,null,0]
[null,null,null,null,null,null,null,null,null,0]
[null,null,null,null,null,null,null,null,null,0]
[null,null,null,null,null,null,null,null,null,0]
[null,null,null,null,null,null,null,null,null,0]
[null,null,null,null,null,null,null,null,null,0]
[null,null,null,null,null,null,null,null,null,0]
[null,null,null,null,null,null,null,null,null,0]
[null,null,null,null,null,null,null,null,null,0]
[null,null,null,null,null,null,null,null,null,0]
[null,null,null,null,null,null,null,null,null,0]
[null,null,null,null,null,null,null,null,null,0]
[null,null,null,null,null,null,null,null,null,0]
[null,null,null,null,null,null,null,null,null,0]
[null,null,null,null,null,null,null,null,null,0]
[null,null,null,null,null,null,null,null,null,0]
[null,null,null,null,null,null,null,null,null,0]
[null,null,null,null,null,null,null,null,null,0]
[null,null,null,null,null,null,null,null,null,0]
[null,null,null,null,null,null,null,null,null,0]
[null,null,null,null,null,null,null,null,null,0]
[null,null,null,null,null,null,null,null,null,0]
[null,null,null,null,null,null,null,null,null,0]
[null,null,null,null,null,null,null,null,null,0]
[null,null,null,null,null,null,null,null,null,0]
[null,null,null,null,null,null,null,null,null,0]
[null,null,null,null,null,null,null,null,null,0]
[null,null,null,null,null,null,null,null,null,0]
[null,null,null,null,null,null,null,null,null,0]
[null,null,null,null,null,null,null,null,null,0]
[null,null,null,null,null,null,null,null,null,0]
[null,null,null,null,null,null,null,null,null,0]
[null,null,null,null,null,null,null,null,null,0]
[null,null,null,null,null,null,null,null,null,0]
[null,null,null,null,null,null,null,null,null,0]
[null,null,null,null,null,null,null,null,null,0]
[null,null,null,null,null,null,null,null,null,{"$f":"SUMIF($G$20:$G$1016,$G1593,$H$20:$H$1016)","v":0}]
[null,null,null,null,null,null,null,null,null,0]
[null,null,null,null,null,null,null,null,null,0]
[null,null,null,null,null,null,null,null,null,0]
[null,null,null,null,null,null,null,null,null,0]
[null,null,null,null,null,null,null,null,null,0]
[null,null,null,null,null,null,null,null,null,0]
[null,null,null,null,null,null,null,null,null,0]
[null,null,null,null,null,null,null,null,null,0]
[null,null,null,null,null,null,null,null,null,0]
[null,null,null,null,null,null,null,null,null,0]
[null,null,null,null,null,null,null,null,null,0]
[null,null,null,null,null,null,null,null,null,0]
[null,null,null,null,null,null,null,null,null,0]
[null,null,null,null,null,null,null,null,null,0]
[null,null,null,null,null,null,null,null,null,0]
[null,null,null,null,null,null,null,null,null,0]
[null,null,null,null,null,null,null,null,null,0]
[null,null,null,null,null,null,null,null,null,0]
[null,null,null,null,null,null,null,null,null,0]
[null,null,null,null,null,null,null,null,null,0]
[null,null,null,null,null,null,null,null,null,0]
[null,null,null,null,null,null,null,null,null,0]
[null,null,null,null,null,null,null,null,null,0]
[null,null,null,null,null,null,null,null,null,0]
[null,null,null,null,null,null,null,null,null,0]
[null,null,null,null,null,null,null,null,null,0]
[null,null,null,null,null,null,null,null,null,0]
[null,null,null,null,null,null,null,null,null,0]
[null,null,null,null,null,null,null,null,null,0]
[null,null,null,null,null,null,null,null,null,0]
[null,null,null,null,null,null,null,null,null,0]
[null,null,null,null,null,null,null,null,null,0]
[null,null,null,null,null,null,null,null,null,0]
[null,null,null,null,null,null,null,null,null,0]
[null,null,null,null,null,null,null,null,null,0]
[null,null,null,null,null,null,null,null,null,0]
[null,null,null,null,null,null,null,null,null,0]
[null,null,null,null,null,null,null,null,null,0]
[null,null,null,null,null,null,null,null,null,0]
[null,null,null,null,null,null,null,null,null,0]
[null,null,null,null,null,null,null,null,null,0]
[null,null,null,null,null,null,null,null,null,0]
[null,null,null,null,null,null,null,null,null,0]
[null,null,null,null,null,null,null,null,null,0]
[null,null,null,null,null,null,null,null,null,0]
[null,null,null,null,null,null,null,null,null,0]
[null,null,null,null,null,null,null,null,null,0]
[null,null,null,null,null,null,null,null,null,0]
[null,null,null,null,null,null,null,null,null,0]
[null,null,null,null,null,null,null,null,null,0]
[null,null,null,null,null,null,null,null,null,0]
[null,null,null,null,null,null,null,null,null,0]
[null,null,null,null,null,null,null,null,null,0]
[null,null,null,null,null,null,null,null,null,0]
[null,null,null,null,null,null,null,null,null,0]
[null,null,null,null,null,null,null,null,null,0]
[null,null,null,null,null,null,null,null,null,0]
[null,null,null,null,null,null,null,null,null,0]
[null,null,null,null,null,null,null,null,null,0]
[null,null,null,null,null,null,null,null,null,0]
[null,null,null,null,null,null,null,null,null,0]
[null,null,null,null,null,null,null,null,null,0]
[null,null,null,null,null,null,null,null,null,0]
[null,null,null,null,null,null,null,null,null,{"$f":"SUMIF($G$20:$G$1016,$G1657,$H$20:$H$1016)","v":0}]
[null,null,null,null,null,null,null,null,null,0]
[null,null,null,null,null,null,null,null,null,0]
[null,null,null,null,null,null,null,null,null,0]
[null,null,null,null,null,null,null,null,null,0]
[null,null,null,null,null,null,null,null,null,0]
[null,null,null,null,null,null,null,null,null,0]
[null,null,null,null,null,null,null,null,null,0]
[null,null,null,null,null,null,null,null,null,0]
[null,null,null,null,null,null,null,null,null,0]
[null,null,null,null,null,null,null,null,null,0]
[null,null,null,null,null,null,null,null,null,0]
[null,null,null,null,null,null,null,null,null,0]
[null,null,null,null,null,null,null,null,null,0]
[null,null,null,null,null,null,null,null,null,0]
[null,null,null,null,null,null,null,null,null,0]
[null,null,null,null,null,null,null,null,null,0]
[null,null,null,null,null,null,null,null,null,0]
[null,null,null,null,null,null,null,null,null,0]
[null,null,null,null,null,null,null,null,null,0]
[null,null,null,null,null,null,null,null,null,0]
[null,null,null,null,null,null,null,null,null,0]
[null,null,null,null,null,null,null,null,null,0]
[null,null,null,null,null,null,null,null,null,0]
[null,null,null,null,null,null,null,null,null,0]
[null,null,null,null,null,null,null,null,null,0]
[null,null,null,null,null,null,null,null,null,0]
[null,null,null,null,null,null,null,null,null,0]
[null,null,null,null,null,null,null,null,null,0]
[null,null,null,null,null,null,null,null,null,0]
[null,null,null,null,null,null,null,null,null,0]
[null,null,null,null,null,null,null,null,null,0]
[null,null,null,null,null,null,null,null,null,0]
[null,null,null,null,null,null,null,null,null,0]
[null,null,null,null,null,null,null,null,null,0]
[null,null,null,null,null,null,null,null,null,0]
[null,null,null,null,null,null,null,null,null,0]
[null,null,null,null,null,null,null,null,null,0]
[null,null,null,null,null,null,null,null,null,0]
[null,null,null,null,null,null,null,null,null,0]
[null,null,null,null,null,null,null,null,null,0]
[null,null,null,null,null,null,null,null,null,0]
[null,null,null,null,null,null,null,null,null,0]
[null,null,null,null,null,null,null,null,null,0]
[null,null,null,null,null,null,null,null,null,0]
[null,null,null,null,null,null,null,null,null,0]
[null,null,null,null,null,null,null,null,null,0]
[null,null,null,null,null,null,null,null,null,0]
[null,null,null,null,null,null,null,null,null,0]
[null,null,null,null,null,null,null,null,null,0]
[null,null,null,null,null,null,null,null,null,0]
[null,null,null,null,null,null,null,null,null,0]
[null,null,null,null,null,null,null,null,null,0]
[null,null,null,null,null,null,null,null,null,0]
[null,null,null,null,null,null,null,null,null,0]
[null,null,null,null,null,null,null,null,null,0]
[null,null,null,null,null,null,null,null,null,0]
[null,null,null,null,null,null,null,null,null,0]
[null,null,null,null,null,null,null,null,null,0]
[null,null,null,null,null,null,null,null,null,0]
[null,null,null,null,null,null,null,null,null,0]
[null,null,null,null,null,null,null,null,null,0]
[null,null,null,null,null,null,null,null,null,0]
[null,null,null,null,null,null,null,null,null,0]
[null,null,null,null,null,null,null,null,null,{"$f":"SUMIF($G$20:$G$1016,$G1721,$H$20:$H$1016)","v":0}]
[null,null,null,null,null,null,null,null,null,0]
[null,null,null,null,null,null,null,null,null,0]
[null,null,null,null,null,null,null,null,null,0]
[null,null,null,null,null,null,null,null,null,0]
[null,null,null,null,null,null,null,null,null,0]
[null,null,null,null,null,null,null,null,null,0]
[null,null,null,null,null,null,null,null,null,0]
[null,null,null,null,null,null,null,null,null,0]
[null,null,null,null,null,null,null,null,null,0]
[null,null,null,null,null,null,null,null,null,0]
[null,null,null,null,null,null,null,null,null,0]
[null,null,null,null,null,null,null,null,null,0]
[null,null,null,null,null,null,null,null,null,0]
[null,null,null,null,null,null,null,null,null,0]
[null,null,null,null,null,null,null,null,null,0]
[null,null,null,null,null,null,null,null,null,0]
[null,null,null,null,null,null,null,null,null,0]
[null,null,null,null,null,null,null,null,null,0]
[null,null,null,null,null,null,null,null,null,0]
[null,null,null,null,null,null,null,null,null,0]
[null,null,null,null,null,null,null,null,null,0]
[null,null,null,null,null,null,null,null,null,0]
[null,null,null,null,null,null,null,null,null,0]
[null,null,null,null,null,null,null,null,null,0]
[null,null,null,null,null,null,null,null,null,0]
[null,null,null,null,null,null,null,null,null,0]
[null,null,null,null,null,null,null,null,null,0]
[null,null,null,null,null,null,null,null,null,0]
[null,null,null,null,null,null,null,null,null,0]
[null,null,null,null,null,null,null,null,null,0]
[null,null,null,null,null,null,null,null,null,0]
[null,null,null,null,null,null,null,null,null,0]
[null,null,null,null,null,null,null,null,null,0]
[null,null,null,null,null,null,null,null,null,0]
[null,null,null,null,null,null,null,null,null,0]
[null,null,null,null,null,null,null,null,null,0]
[null,null,null,null,null,null,null,null,null,0]
[null,null,null,null,null,null,null,null,null,0]
[null,null,null,null,null,null,null,null,null,0]
[null,null,null,null,null,null,null,null,null,0]
[null,null,null,null,null,null,null,null,null,0]
[null,null,null,null,null,null,null,null,null,0]
[null,null,null,null,null,null,null,null,null,0]
[null,null,null,null,null,null,null,null,null,0]
[null,null,null,null,null,null,null,null,null,0]
[null,null,null,null,null,null,null,null,null,0]
[null,null,null,null,null,null,null,null,null,0]
[null,null,null,null,null,null,null,null,null,0]
[null,null,null,null,null,null,null,null,null,0]
[null,null,null,null,null,null,null,null,null,0]
[null,null,null,null,null,null,null,null,null,0]
[null,null,null,null,null,null,null,null,null,0]
[null,null,null,null,null,null,null,null,null,0]
[null,null,null,null,null,null,null,null,null,0]
[null,null,null,null,null,null,null,null,null,0]
[null,null,null,null,null,null,null,null,null,0]
[null,null,null,null,null,null,null,null,null,0]
[null,null,null,null,null,null,null,null,null,0]
[null,null,null,null,null,null,null,null,null,0]
[null,null,null,null,null,null,null,null,null,0]
[null,null,null,null,null,null,null,null,null,0]
[null,null,null,null,null,null,null,null,null,0]
[null,null,null,null,null,null,null,null,null,0]
[null,null,null,null,null,null,null,null,null,{"$f":"SUMIF($G$20:$G$1016,$G1785,$H$20:$H$1016)","v":0}]
[null,null,null,null,null,null,null,null,null,0]
[null,null,null,null,null,null,null,null,null,0]
[null,null,null,null,null,null,null,null,null,0]
[null,null,null,null,null,null,null,null,null,0]
[null,null,null,null,null,null,null,null,null,0]
[null,null,null,null,null,null,null,null,null,0]
[null,null,null,null,null,null,null,null,null,0]
[null,null,null,null,null,null,null,null,null,0]
[null,null,null,null,null,null,null,null,null,0]
[null,null,null,null,null,null,null,null,null,0]
[null,null,null,null,null,null,null,null,null,0]
[null,null,null,null,null,null,null,null,null,0]
[null,null,null,null,null,null,null,null,null,0]
[null,null,null,null,null,null,null,null,null,0]
[null,null,null,null,null,null,null,null,null,0]
[null,null,null,null,null,null,null,null,null,0]
[null,null,null,null,null,null,null,null,null,0]
[null,null,null,null,null,null,null,null,null,0]
[null,null,null,null,null,null,null,null,null,0]
[null,null,null,null,null,null,null,null,null,0]
[null,null,null,null,null,null,null,null,null,0]
[null,null,null,null,null,null,null,null,null,0]
[null,null,null,null,null,null,null,null,null,0]
[null,null,null,null,null,null,null,null,null,0]
[null,null,null,null,null,null,null,null,null,0]
[null,null,null,null,null,null,null,null,null,0]
[null,null,null,null,null,null,null,null,null,0]
[null,null,null,null,null,null,null,null,null,0]
[null,null,null,null,null,null,null,null,null,0]
[null,null,null,null,null,null,null,null,null,0]
[null,null,null,null,null,null,null,null,null,0]
[null,null,null,null,null,null,null,null,null,0]
[null,null,null,null,null,null,null,null,null,0]
[null,null,null,null,null,null,null,null,null,0]
[null,null,null,null,null,null,null,null,null,0]
[null,null,null,null,null,null,null,null,null,0]
[null,null,null,null,null,null,null,null,null,0]
[null,null,null,null,null,null,null,null,null,0]
[null,null,null,null,null,null,null,null,null,0]
[null,null,null,null,null,null,null,null,null,0]
[null,null,null,null,null,null,null,null,null,0]
[null,null,null,null,null,null,null,null,null,0]
[null,null,null,null,null,null,null,null,null,0]
[null,null,null,null,null,null,null,null,null,0]
[null,null,null,null,null,null,null,null,null,0]
[null,null,null,null,null,null,null,null,null,0]
[null,null,null,null,null,null,null,null,null,0]
[null,null,null,null,null,null,null,null,null,0]
[null,null,null,null,null,null,null,null,null,0]
[null,null,null,null,null,null,null,null,null,0]
[null,null,null,null,null,null,null,null,null,0]
[null,null,null,null,null,null,null,null,null,0]
[null,null,null,null,null,null,null,null,null,0]
[null,null,null,null,null,null,null,null,null,0]
[null,null,null,null,null,null,null,null,null,0]
[null,null,null,null,null,null,null,null,null,0]
[null,null,null,null,null,null,null,null,null,0]
[null,null,null,null,null,null,null,null,null,0]
[null,null,null,null,null,null,null,null,null,0]
[null,null,null,null,null,null,null,null,null,0]
[null,null,null,null,null,null,null,null,null,0]
[null,null,null,null,null,null,null,null,null,0]
[null,null,null,null,null,null,null,null,null,0]
[null,null,null,null,null,null,null,null,null,{"$f":"SUMIF($G$20:$G$1016,$G1849,$H$20:$H$1016)","v":0}]
[null,null,null,null,null,null,null,null,null,0]
[null,null,null,null,null,null,null,null,null,0]
[null,null,null,null,null,null,null,null,null,0]
[null,null,null,null,null,null,null,null,null,0]
[null,null,null,null,null,null,null,null,null,0]
[null,null,null,null,null,null,null,null,null,0]
[null,null,null,null,null,null,null,null,null,0]
[null,null,null,null,null,null,null,null,null,0]
[null,null,null,null,null,null,null,null,null,0]
[null,null,null,null,null,null,null,null,null,0]
[null,null,null,null,null,null,null,null,null,0]
[null,null,null,null,null,null,null,null,null,0]
[null,null,null,null,null,null,null,null,null,0]
[null,null,null,null,null,null,null,null,null,0]
[null,null,null,null,null,null,null,null,null,0]
[null,null,null,null,null,null,null,null,null,0]
[null,null,null,null,null,null,null,null,null,0]
[null,null,null,null,null,null,null,null,null,0]
[null,null,null,null,null,null,null,null,null,0]
[null,null,null,null,null,null,null,null,null,0]
[null,null,null,null,null,null,null,null,null,0]
[null,null,null,null,null,null,null,null,null,0]
[null,null,null,null,null,null,null,null,null,0]
[null,null,null,null,null,null,null,null,null,0]
[null,null,null,null,null,null,null,null,null,0]
[null,null,null,null,null,null,null,null,null,0]
[null,null,null,null,null,null,null,null,null,0]
[null,null,null,null,null,null,null,null,null,0]
[null,null,null,null,null,null,null,null,null,0]
[null,null,null,null,null,null,null,null,null,0]
[null,null,null,null,null,null,null,null,null,0]
[null,null,null,null,null,null,null,null,null,0]
[null,null,null,null,null,null,null,null,null,0]
[null,null,null,null,null,null,null,null,null,0]
[null,null,null,null,null,null,null,null,null,0]
[null,null,null,null,null,null,null,null,null,0]
[null,null,null,null,null,null,null,null,null,0]
[null,null,null,null,null,null,null,null,null,0]
[null,null,null,null,null,null,null,null,null,0]
[null,null,null,null,null,null,null,null,null,0]
[null,null,null,null,null,null,null,null,null,0]
[null,null,null,null,null,null,null,null,null,0]
[null,null,null,null,null,null,null,null,null,0]
[null,null,null,null,null,null,null,null,null,0]
[null,null,null,null,null,null,null,null,null,0]
[null,null,null,null,null,null,null,null,null,0]
[null,null,null,null,null,null,null,null,null,0]
[null,null,null,null,null,null,null,null,null,0]
[null,null,null,null,null,null,null,null,null,0]
[null,null,null,null,null,null,null,null,null,0]
[null,null,null,null,null,null,null,null,null,0]
[null,null,null,null,null,null,null,null,null,0]
[null,null,null,null,null,null,null,null,null,0]
[null,null,null,null,null,null,null,null,null,0]
[null,null,null,null,null,null,null,null,null,0]
[null,null,null,null,null,null,null,null,null,0]
[null,null,null,null,null,null,null,null,null,0]
[null,null,null,null,null,null,null,null,null,0]
[null,null,null,null,null,null,null,null,null,0]
[null,null,null,null,null,null,null,null,null,0]
[null,null,null,null,null,null,null,null,null,0]
[null,null,null,null,null,null,null,null,null,0]
[null,null,null,null,null,null,null,null,null,0]
[null,null,null,null,null,null,null,null,null,{"$f":"SUMIF($G$20:$G$1016,$G1913,$H$20:$H$1016)","v":0}]
[null,null,null,null,null,null,null,null,null,0]
[null,null,null,null,null,null,null,null,null,0]
[null,null,null,null,null,null,null,null,null,0]
[null,null,null,null,null,null,null,null,null,0]
[null,null,null,null,null,null,null,null,null,0]
[null,null,null,null,null,null,null,null,null,0]
[null,null,null,null,null,null,null,null,null,0]
[null,null,null,null,null,null,null,null,null,0]
[null,null,null,null,null,null,null,null,null,0]
[null,null,null,null,null,null,null,null,null,0]
[null,null,null,null,null,null,null,null,null,0]
[null,null,null,null,null,null,null,null,null,0]
[null,null,null,null,null,null,null,null,null,0]
[null,null,null,null,null,null,null,null,null,0]
[null,null,null,null,null,null,null,null,null,0]
[null,null,null,null,null,null,null,null,null,0]
[null,null,null,null,null,null,null,null,null,0]
[null,null,null,null,null,null,null,null,null,0]
[null,null,null,null,null,null,null,null,null,0]
[null,null,null,null,null,null,null,null,null,0]
[null,null,null,null,null,null,null,null,null,0]
[null,null,null,null,null,null,null,null,null,0]
[null,null,null,null,null,null,null,null,null,0]
[null,null,null,null,null,null,null,null,null,0]
[null,null,null,null,null,null,null,null,null,0]
[null,null,null,null,null,null,null,null,null,0]
[null,null,null,null,null,null,null,null,null,0]
[null,null,null,null,null,null,null,null,null,0]
[null,null,null,null,null,null,null,null,null,0]
[null,null,null,null,null,null,null,null,null,0]
[null,null,null,null,null,null,null,null,null,0]
[null,null,null,null,null,null,null,null,null,0]
[null,null,null,null,null,null,null,null,null,0]
[null,null,null,null,null,null,null,null,null,0]
[null,null,null,null,null,null,null,null,null,0]
[null,null,null,null,null,null,null,null,null,0]
[null,null,null,null,null,null,null,null,null,0]
[null,null,null,null,null,null,null,null,null,0]
[null,null,null,null,null,null,null,null,null,0]
[null,null,null,null,null,null,null,null,null,0]
[null,null,null,null,null,null,null,null,null,0]
[null,null,null,null,null,null,null,null,null,0]
[null,null,null,null,null,null,null,null,null,0]
[null,null,null,null,null,null,null,null,null,0]
[null,null,null,null,null,null,null,null,null,0]
[null,null,null,null,null,null,null,null,null,0]
[null,null,null,null,null,null,null,null,null,0]
[null,null,null,null,null,null,null,null,null,0]
[null,null,null,null,null,null,null,null,null,0]
[null,null,null,null,null,null,null,null,null,0]
[null,null,null,null,null,null,null,null,null,0]
[null,null,null,null,null,null,null,null,null,0]
[null,null,null,null,null,null,null,null,null,0]
[null,null,null,null,null,null,null,null,null,0]
[null,null,null,null,null,null,null,null,null,0]
[null,null,null,null,null,null,null,null,null,0]
[null,null,null,null,null,null,null,null,null,0]
[null,null,null,null,null,null,null,null,null,0]
[null,null,null,null,null,null,null,null,null,0]
[null,null,null,null,null,null,null,null,null,0]
[null,null,null,null,null,null,null,null,null,0]
[null,null,null,null,null,null,null,null,null,0]
[null,null,null,null,null,null,null,null,null,0]
[null,null,null,null,null,null,null,null,null,{"$f":"SUMIF($G$20:$G$1016,$G1977,$H$20:$H$1016)","v":0}]
[null,null,null,null,null,null,null,null,null,0]
[null,null,null,null,null,null,null,null,null,0]
[null,null,null,null,null,null,null,null,null,0]
[null,null,null,null,null,null,null,null,null,0]
[null,null,null,null,null,null,null,null,null,0]
[null,null,null,null,null,null,null,null,null,0]
[null,null,null,null,null,null,null,null,null,0]
[null,null,null,null,null,null,null,null,null,0]
[null,null,null,null,null,null,null,null,null,0]
[null,null,null,null,null,null,null,null,null,0]
[null,null,null,null,null,null,null,null,null,0]
[null,null,null,null,null,null,null,null,null,0]
[null,null,null,null,null,null,null,null,null,0]
[null,null,null,null,null,null,null,null,null,0]
[null,null,null,null,null,null,null,null,null,0]
[null,null,null,null,null,null,null,null,null,0]
[null,null,null,null,null,null,null,null,null,0]
[null,null,null,null,null,null,null,null,null,0]
[null,null,null,null,null,null,null,null,null,0]
[null,null,null,null,null,null,null,null,null,0]
[null,null,null,null,null,null,null,null,null,0]
[null,null,null,null,null,null,null,null,null,0]
[null,null,null,null,null,null,null,null,null,0]
[null,null,null,null,null,null,null,null,null,0]
[null,null,null,null,null,null,null,null,null,0]
[null,null,null,null,null,null,null,null,null,0]
[null,null,null,null,null,null,null,null,null,0]
[null,null,null,null,null,null,null,null,null,0]
[null,null,null,null,null,null,null,null,null,0]
[null,null,null,null,null,null,null,null,null,0]
[null,null,null,null,null,null,null,null,null,0]
[null,null,null,null,null,null,null,null,null,0]
[null,null,null,null,null,null,null,null,null,0]
[null,null,null,null,null,null,null,null,null,0]
[null,null,null,null,null,null,null,null,null,0]
[null,null,null,null,null,null,null,null,null,0]
[null,null,null,null,null,null,null,null,null,0]
[null,null,null,null,null,null,null,null,null,0]
[null,null,null,null,null,null,null,null,null,0]
[null,null,null,null,null,null,null,null,null,0]
[null,null,null,null,null,null,null,null,null,0]
[null,null,null,null,null,null,null,null,null,0]
[null,null,null,null,null,null,null,null,null,0]
[null,null,null,null,null,null,null,null,null,0]
[null,null,null,null,null,null,null,null,null,0]
[null,null,null,null,null,null,null,null,null,0]
[null,null,null,null,null,null,null,null,null,0]
[null,null,null,null,null,null,null,null,null,0]
[null,null,null,null,null,null,null,null,null,0]
[null,null,null,null,null,null,null,null,null,{"$f":"SUMIF($G$20:$G$1016,$G7097,$H$20:$H$1016)","v":0}]
[null,null,null,null,null,null,null,null,null,0]
[null,null,null,null,null,null,null,null,null,0]
[null,null,null,null,null,null,null,null,null,0]
[null,null,null,null,null,null,null,null,null,0]
[null,null,null,null,null,null,null,null,null,0]
[null,null,null,null,null,null,null,null,null,0]
[null,null,null,null,null,null,null,null,null,0]
[null,null,null,null,null,null,null,null,null,0]
[null,null,null,null,null,null,null,null,null,0]
[null,null,null,null,null,null,null,null,null,0]
[null,null,null,null,null,null,null,null,null,0]
[null,null,null,null,null,null,null,null,null,0]
[null,null,null,null,null,null,null,null,null,0]
[null,null,null,null,null,null,null,null,null,0]
[null,null,null,null,null,null,null,null,null,0]
[null,null,null,null,null,null,null,null,null,0]
[null,null,null,null,null,null,null,null,null,0]
[null,null,null,null,null,null,null,null,null,0]
[null,null,null,null,null,null,null,null,null,0]
[null,null,null,null,null,null,null,null,null,0]
[null,null,null,null,null,null,null,null,null,0]
[null,null,null,null,null,null,null,null,null,0]
[null,null,null,null,null,null,null,null,null,0]
[null,null,null,null,null,null,null,null,null,0]
[null,null,null,null,null,null,null,null,null,0]
[null,null,null,null,null,null,null,null,null,0]
[null,null,null,null,null,null,null,null,null,0]
[null,null,null,null,null,null,null,null,null,0]
[null,null,null,null,null,null,null,null,null,0]
[null,null,null,null,null,null,null,null,null,0]
[null,null,null,null,null,null,null,null,null,0]
[null,null,null,null,null,null,null,null,null,0]
[null,null,null,null,null,null,null,null,null,0]
[null,null,null,null,null,null,null,null,null,0]
[null,null,null,null,null,null,null,null,null,0]
[null,null,null,null,null,null,null,null,null,0]
[null,null,null,null,null,null,null,null,null,0]
[null,null,null,null,null,null,null,null,null,0]
[null,null,null,null,null,null,null,null,null,0]
[null,null,null,null,null,null,null,null,null,0]
[null,null,null,null,null,null,null,null,null,0]
[null,null,null,null,null,null,null,null,null,0]
[null,null,null,null,null,null,null,null,null,0]
[null,null,null,null,null,null,null,null,null,0]
[null,null,null,null,null,null,null,null,null,0]
[null,null,null,null,null,null,null,null,null,0]
[null,null,null,null,null,null,null,null,null,0]
[null,null,null,null,null,null,null,null,null,0]
[null,null,null,null,null,null,null,null,null,0]
[null,null,null,null,null,null,null,null,null,0]
[null,null,null,null,null,null,null,null,null,0]
[null,null,null,null,null,null,null,null,null,0]
[null,null,null,null,null,null,null,null,null,0]
[null,null,null,null,null,null,null,null,null,0]
[null,null,null,null,null,null,null,null,null,0]
[null,null,null,null,null,null,null,null,null,0]
[null,null,null,null,null,null,null,null,null,0]
[null,null,null,null,null,null,null,null,null,0]
[null,null,null,null,null,null,null,null,null,0]
[null,null,null,null,null,null,null,null,null,0]
[null,null,null,null,null,null,null,null,null,0]
[null,null,null,null,null,null,null,null,null,0]
[null,null,null,null,null,null,null,null,null,0]
[null,null,null,null,null,null,null,null,null,0]
[null,null,null,null,null,null,null,null,null,0]
[null,null,null,null,null,null,null,null,null,{"$f":"SUMIF($G$20:$G$1016,$G19961,$H$20:$H$1016)","v":0}]
[null,null,null,null,null,null,null,null,null,0]
[null,null,null,null,null,null,null,null,null,0]
[null,null,null,null,null,null,null,null,null,0]
[null,null,null,null,null,null,null,null,null,0]
[null,null,null,null,null,null,null,null,null,0]
[null,null,null,null,null,null,null,null,null,0]
[null,null,null,null,null,null,null,null,null,0]
[null,null,null,null,null,null,null,null,null,0]
[null,null,null,null,null,null,null,null,null,0]
[null,null,null,null,null,null,null,null,null,0]
[null,null,null,null,null,null,null,null,null,0]
[null,null,null,null,null,null,null,null,null,0]
[null,null,null,null,null,null,null,null,null,0]
[null,null,null,null,null,null,null,null,null,0]
[null,null,null,null,null,null,null,null,null,0]
[null,null,null,null,null,null,null,null,null,0]
[null,null,null,null,null,null,null,null,null,0]
[null,null,null,null,null,null,null,null,null,0]
[null,null,null,null,null,null,null,null,null,0]
[null,null,null,null,null,null,null,null,null,0]
[null,null,null,null,null,null,null,null,null,0]
[null,null,null,null,null,null,null,null,null,0]
[null,null,null,null,null,null,null,null,null,0]
[null,null,null,null,null,null,null,null,null,0]
[null,null,null,null,null,null,null,null,null,0]
[null,null,null,null,null,null,null,null,null,0]
[null,null,null,null,null,null,null,null,null,0]
[null,null,null,null,null,null,null,null,null,0]
[null,null,null,null,null,null,null,null,null,0]
[null,null,null,null,null,null,null,null,null,0]
[null,null,null,null,null,null,null,null,null,0]
[null,null,null,null,null,null,null,null,null,0]
[null,null,null,null,null,null,null,null,null,0]
[null,null,null,null,null,null,null,null,null,0]
[null,null,null,null,null,null,null,null,null,0]
[null,null,null,null,null,null,null,null,null,0]
[null,null,null,null,null,null,null,null,null,0]
[null,null,null,null,null,null,null,null,null,0]
[null,null,null,null,null,null,null,null,null,0]
[null,null,null,null,null,null,null,null,null,0]
[null,null,null,null,null,null,null,null,null,0]
[null,null,null,null,null,null,null,null,null,0]
[null,null,null,null,null,null,null,null,null,0]
[null,null,null,null,null,null,null,null,null,0]
[null,null,null,null,null,null,null,null,null,0]
[null,null,null,null,null,null,null,null,null,0]
[null,null,null,null,null,null,null,null,null,0]
[null,null,null,null,null,null,null,null,null,0]
[null,null,null,null,null,null,null,null,null,0]
[null,null,null,null,null,null,null,null,null,0]
[null,null,null,null,null,null,null,null,null,0]
[null,null,null,null,null,null,null,null,null,0]
[null,null,null,null,null,null,null,null,null,0]
[null,null,null,null,null,null,null,null,null,0]
[null,null,null,null,null,null,null,null,null,0]
[null,null,null,null,null,null,null,null,null,0]
[null,null,null,null,null,null,null,null,null,0]
[null,null,null,null,null,null,null,null,null,0]
[null,null,null,null,null,null,null,null,null,0]
[null,null,null,null,null,null,null,null,null,0]
[null,null,null,null,null,null,null,null,null,0]
[null,null,null,null,null,null,null,null,null,0]
[null,null,null,null,null,null,null,null,null,0]
[null,null,null,null,null,null,null,null,null,0]
[null,null,null,null,null,null,null,null,null,0]
[null,null,null,null,null,null,null,null,null,0]
[null,null,null,null,null,null,null,null,null,0]
[null,null,null,null,null,null,null,null,null,0]
[null,null,null,null,null,null,null,null,null,0]
[null,null,null,null,null,null,null,null,null,0]
[null,null,null,null,null,null,null,null,null,0]
[null,null,null,null,null,null,null,null,null,0]
[null,null,null,null,null,null,null,null,null,0]
[null,null,null,null,null,null,null,null,null,0]
[null,null,null,null,null,null,null,null,null,{"$f":"SUMIF($G$20:$G$1016,$G34297,$H$20:$H$1016)","v":0}]
[null,null,null,null,null,null,null,null,null,0]
[null,null,null,null,null,null,null,null,null,0]
[null,null,null,null,null,null,null,null,null,0]
[null,null,null,null,null,null,null,null,null,0]
[null,null,null,null,null,null,null,null,null,0]
[null,null,null,null,null,null,null,null,null,0]
[null,null,null,null,null,null,null,null,null,0]
[null,null,null,null,null,null,null,null,null,0]
[null,null,null,null,null,null,null,null,null,0]
[null,null,null,null,null,null,null,null,null,0]
[null,null,null,null,null,null,null,null,null,0]
[null,null,null,null,null,null,null,null,null,0]
[null,null,null,null,null,null,null,null,null,0]
[null,null,null,null,null,null,null,null,null,0]
[null,null,null,null,null,null,null,null,null,0]
[null,null,null,null,null,null,null,null,null,0]
[null,null,null,null,null,null,null,null,null,0]
[null,null,null,null,null,null,null,null,null,0]
[null,null,null,null,null,null,null,null,null,0]
[null,null,null,null,null,null,null,null,null,0]
[null,null,null,null,null,null,null,null,null,0]
[null,null,null,null,null,null,null,null,null,0]
[null,null,null,null,null,null,null,null,null,0]
[null,null,null,null,null,null,null,null,null,0]
[null,null,null,null,null,null,null,null,null,0]
[null,null,null,null,null,null,null,null,null,0]
[null,null,null,null,null,null,null,null,null,0]
[null,null,null,null,null,null,null,null,null,0]
[null,null,null,null,null,null,null,null,null,0]
[null,null,null,null,null,null,null,null,null,0]
[null,null,null,null,null,null,null,null,null,0]
[null,null,null,null,null,null,null,null,null,0]
[null,null,null,null,null,null,null,null,null,0]
[null,null,null,null,null,null,null,null,null,0]
[null,null,null,null,null,null,null,null,null,0]
[null,null,null,null,null,null,null,null,null,0]
[null,null,null,null,null,null,null,null,null,0]
[null,null,null,null,null,null,null,null,null,0]
[null,null,null,null,null,null,null,null,null,0]
[null,null,null,null,null,null,null,null,null,0]
[null,null,null,null,null,null,null,null,null,0]
[null,null,null,null,null,null,null,null,null,0]
[null,null,null,null,null,null,null,null,null,0]
[null,null,null,null,null,null,null,null,null,0]
[null,null,null,null,null,null,null,null,null,0]
[null,null,null,null,null,null,null,null,null,0]
[null,null,null,null,null,null,null,null,null,0]
[null,null,null,null,null,null,null,null,null,0]
[null,null,null,null,null,null,null,null,null,0]
[null,null,null,null,null,null,null,null,null,0]
[null,null,null,null,null,null,null,null,null,0]
[null,null,null,null,null,null,null,null,null,0]
[null,null,null,null,null,null,null,null,null,0]
[null,null,null,null,null,null,null,null,null,0]
[null,null,null,null,null,null,null,null,null,0]
[null,null,null,null,null,null,null,null,null,0]
[null,null,null,null,null,null,null,null,null,0]
[null,null,null,null,null,null,null,null,null,0]
[null,null,null,null,null,null,null,null,null,0]
[null,null,null,null,null,null,null,null,null,0]
[null,null,null,null,null,null,null,null,null,0]
[null,null,null,null,null,null,null,null,null,0]
[null,null,null,null,null,null,null,null,null,0]
[null,null,null,null,null,null,null,null,null,0]
[null,null,null,null,null,null,null,null,null,0]
[null,null,null,null,null,null,null,null,null,0]
[null,null,null,null,null,null,null,null,null,0]
[null,null,null,null,null,null,null,null,null,0]
[null,null,null,null,null,null,null,null,null,0]
[null,null,null,null,null,null,null,null,null,0]
[null,null,null,null,null,null,null,null,null,0]
[null,null,null,null,null,null,null,null,null,0]
[null,null,null,null,null,null,null,null,null,0]
[null,null,null,null,null,null,null,null,null,0]
[null,null,null,null,null,null,null,null,null,0]
[null,null,null,null,null,null,null,null,null,0]
[null,null,null,null,null,null,null,null,null,0]
[null,null,null,null,null,null,null,null,null,0]
[null,null,null,null,null,null,null,null,null,0]
[null,null,null,null,null,null,null,null,null,0]
[null,null,null,null,null,null,null,null,null,0]
[null,null,null,null,null,null,null,null,null,0]
[null,null,null,null,null,null,null,null,null,0]
[null,null,null,null,null,null,null,null,null,0]
[null,null,null,null,null,null,null,null,null,0]
[null,null,null,null,null,null,null,null,null,0]
[null,null,null,null,null,null,null,null,null,0]
[null,null,null,null,null,null,null,null,null,0]
[null,null,null,null,null,null,null,null,null,0]
[null,null,null,null,null,null,null,null,null,0]
[null,null,null,null,null,null,null,null,null,0]
[null,null,null,null,null,null,null,null,null,0]
[null,null,null,null,null,null,null,null,null,0]
[null,null,null,null,null,null,null,null,null,0]
[null,null,null,null,null,null,null,null,null,0]
[null,null,null,null,null,null,null,null,null,0]
[null,null,null,null,null,null,null,null,null,0]
[null,null,null,null,null,null,null,null,null,0]
[null,null,null,null,null,null,null,null,null,0]
[null,null,null,null,null,null,null,null,null,0]
[null,null,null,null,null,null,null,null,null,0]
[null,null,null,null,null,null,null,null,null,0]
[null,null,null,null,null,null,null,null,null,0]
[null,null,null,null,null,null,null,null,null,0]
[null,null,null,null,null,null,null,null,null,0]
[null,null,null,null,null,null,null,null,null,0]
[null,null,null,null,null,null,null,null,null,0]
[null,null,null,null,null,null,null,null,null,0]
[null,null,null,null,null,null,null,null,null,0]
[null,null,null,null,null,null,null,null,null,0]
[null,null,null,null,null,null,null,null,null,0]
[null,null,null,null,null,null,null,null,null,0]
[null,null,null,null,null,null,null,null,null,0]
[null,null,null,null,null,null,null,null,null,0]
[null,null,null,null,null,null,null,null,null,0]
[null,null,null,null,null,null,null,null,null,0]
[null,null,null,null,null,null,null,null,null,0]
[null,null,null,null,null,null,null,null,null,0]
[null,null,null,null,null,null,null,null,null,0]
[null,null,null,null,null,null,null,null,null,0]
[null,null,null,null,null,null,null,null,null,0]
[null,null,null,null,null,null,null,null,null,0]
[null,null,null,null,null,null,null,null,null,0]
[null,null,null,null,null,null,null,null,null,0]
[null,null,null,null,null,null,null,null,null,0]
[null,null,null,null,null,null,null,null,null,0]
[null,null,null,null,null,null,null,null,null,0]
[null,null,null,null,null,null,null,null,null,0]
[null,null,null,null,null,null,null,null,null,0]
[null,null,null,null,null,null,null,null,null,0]
[null,null,null,null,null,null,null,null,null,{"$f":"SUMIF($G$20:$G$1016,$G59705,$H$20:$H$1016)","v":0}]
[null,null,null,null,null,null,null,null,null,0]
[null,null,null,null,null,null,null,null,null,0]
[null,null,null,null,null,null,null,null,null,0]
[null,null,null,null,null,null,null,null,null,0]
[null,null,null,null,null,null,null,null,null,0]
[null,null,null,null,null,null,null,null,null,0]
[null,null,null,null,null,null,null,null,null,0]
[null,null,null,null,null,null,null,null,null,0]
[null,null,null,null,null,null,null,null,null,0]
[null,null,null,null,null,null,null,null,null,0]
[null,null,null,null,null,null,null,null,null,0]
[null,null,null,null,null,null,null,null,null,0]
[null,null,null,null,null,null,null,null,null,0]
[null,null,null,null,null,null,null,null,null,0]
[null,null,null,null,null,null,null,null,null,0]
[null,null,null,null,null,null,null,null,null,0]
[null,null,null,null,null,null,null,null,null,{"$f":"SUMIF($G$20:$G$1016,$G63033,$H$20:$H$1016)","v":0}]
[null,null,null,null,null,null,null,null,null,0]
[null,null,null,null,null,null,null,null,null,0]
[null,null,null,null,null,null,null,null,null,0]
[null,null,null,null,null,null,null,null,null,0]
[null,null,null,null,null,null,null,null,null,0]
[null,null,null,null,null,null,null,null,null,0]
[null,null,null,null,null,null,null,null,null,0]
[null,null,null,null,null,null,null,null,null,0]
[null,null,null,null,null,null,null,null,null,0]
[null,null,null,null,null,null,null,null,null,0]
[null,null,null,null,null,null,null,null,null,0]
[null,null,null,null,null,null,null,null,null,0]
[null,null,null,null,null,null,null,null,null,0]
[null,null,null,null,null,null,null,null,null,0]
[null,null,null,null,null,null,null,null,null,0]
[null,null,null,null,null,null,null,null,null,0]
[null,null,null,null,null,null,null,null,null,0]
[null,null,null,null,null,null,null,null,null,0]
[null,null,null,null,null,null,null,null,null,0]
[null,null,null,null,null,null,null,null,null,0]
[null,null,null,null,null,null,null,null,null,0]
[null,null,null,null,null,null,null,null,null,0]
[null,null,null,null,null,null,null,null,null,0]
[null,null,null,null,null,null,null,null,null,0]
[null,null,null,null,null,null,null,null,null,0]
[null,null,null,null,null,null,null,null,null,0]
[null,null,null,null,null,null,null,null,null,0]
[null,null,null,null,null,null,null,null,null,0]
[null,null,null,null,null,null,null,null,null,0]
[null,null,null,null,null,null,null,null,null,0]
[null,null,null,null,null,null,null,null,null,0]
[null,null,null,null,null,null,null,null,null,0]
[null,null,null,null,null,null,null,null,null,0]
[null,null,null,null,null,null,null,null,null,0]
[null,null,null,null,null,null,null,null,null,0]
[null,null,null,null,null,null,null,null,null,0]
[null,null,null,null,null,null,null,null,null,0]
[null,null,null,null,null,null,null,null,null,0]
[null,null,null,null,null,null,null,null,null,0]
[null,null,null,null,null,null,null,null,null,0]
[null,null,null,null,null,null,null,null,null,0]
[null,null,null,null,null,null,null,null,null,0]
[null,null,null,null,null,null,null,null,null,0]
[null,null,null,null,null,null,null,null,null,0]
[null,null,null,null,null,null,null,null,null,0]
[null,null,null,null,null,null,null,null,null,0]
[null,null,null,null,null,null,null,null,null,0]
[null,null,null,null,null,null,null,null,null,0]
[null,null,null,null,null,null,null,null,null,0]
[null,null,null,null,null,null,null,null,null,0]
[null,null,null,null,null,null,null,null,null,0]
[null,null,null,null,null,null,null,null,null,0]
[null,null,null,null,null,null,null,null,null,0]
[null,null,null,null,null,null,null,null,null,0]
[null,null,null,null,null,null,null,null,null,0]
[null,null,null,null,null,null,null,null,null,0]
[null,null,null,null,null,null,null,null,null,0]
[null,null,null,null,null,null,null,null,null,0]
[null,null,null,null,null,null,null,null,null,0]
[null,null,null,null,null,null,null,null,null,0]
[null,null,null,null,null,null,null,null,null,0]
[null,null,null,null,null,null,null,null,null,0]
[null,null,null,null,null,null,null,null,null,0]
[null,null,null,null,null,null,null,null,null,0]
[null,null,null,null,null,null,null,null,null,0]
[null,null,null,null,null,null,null,null,null,0]
[null,null,null,null,null,null,null,null,null,0]
[null,null,null,null,null,null,null,null,null,0]
[null,null,null,null,null,null,null,null,null,0]
[null,null,null,null,null,null,null,null,null,0]
[null,null,null,null,null,null,null,null,null,0]
[null,null,null,null,null,null,null,null,null,0]
[null,null,null,null,null,null,null,null,null,0]
[null,null,null,null,null,null,null,null,null,0]
[null,null,null,null,null,null,null,null,null,0]
[null,null,null,null,null,null,null,null,null,0]
[null,null,null,null,null,null,null,null,null,0]
[null,null,null,null,null,null,null,null,null,0]
[null,null,null,null,null,null,null,null,null,0]
[null,null,null,null,null,null,null,null,null,0]
[null,null,null,null,null,null,null,null,null,0]
[null,null,null,null,null,null,null,null,null,0]
[null,null,null,null,null,null,null,null,null,0]
[null,null,null,null,null,null,null,null,null,0]
[null,null,null,null,null,null,null,null,null,0]
[null,null,null,null,null,null,null,null,null,0]
[null,null,null,null,null,null,null,null,null,0]
[null,null,null,null,null,null,null,null,null,0]
[null,null,null,null,null,null,null,null,null,0]
[null,null,null,null,null,null,null,null,null,0]
[null,null,null,null,null,null,null,null,null,0]
[null,null,null,null,null,null,null,null,null,0]
[null,null,null,null,null,null,null,null,null,0]
[null,null,null,null,null,null,null,null,null,0]
[null,null,null,null,null,null,null,null,null,0]
[null,null,null,null,null,null,null,null,null,0]
[null,null,null,null,null,null,null,null,null,0]
[null,null,null,null,null,null,null,null,null,0]
[null,null,null,null,null,null,null,null,null,0]
[null,null,null,null,null,null,null,null,null,0]
[null,null,null,null,null,null,null,null,null,0]
[null,null,null,null,null,null,null,null,null,0]
[null,null,null,null,null,null,null,null,null,0]
[null,null,null,null,null,null,null,null,null,0]
[null,null,null,null,null,null,null,null,null,0]
[null,null,null,null,null,null,null,null,null,0]
[null,null,null,null,null,null,null,null,null,0]
[null,null,null,null,null,null,null,null,null,0]
[null,null,null,null,null,null,null,null,null,0]
[null,null,null,null,null,null,null,null,null,0]
[null,null,null,null,null,null,null,null,null,0]
[null,null,null,null,null,null,null,null,null,0]
[null,null,null,null,null,null,null,null,null,{"$f":"SUMIF($G$20:$G$1016,$G84857,$H$20:$H$1016)","v":0}]
[null,null,null,null,null,null,null,null,null,{"$f":"SUMIF($G$20:$G$1016,$G85113,$H$20:$H$1016)","v":0}]
[null,null,null,null,null,null,null,null,null,0]
[null,null,null,null,null,null,null,null,null,0]
[null,null,null,null,null,null,null,null,null,0]
[null,null,null,null,null,null,null,null,null,0]
[null,null,null,null,null,null,null,null,null,0]
[null,null,null,null,null,null,null,null,null,0]
[null,null,null,null,null,null,null,null,null,0]
[null,null,null,null,null,null,null,null,null,0]
[null,null,null,null,null,null,null,null,null,0]
[null,null,null,null,null,null,null,null,null,0]
[null,null,null,null,null,null,null,null,null,0]
[null,null,null,null,null,null,null,null,null,0]
[null,null,null,null,null,null,null,null,null,0]
[null,null,null,null,null,null,null,null,null,0]
[null,null,null,null,null,null,null,null,null,0]
[null,null,null,null,null,null,null,null,null,0]
[null,null,null,null,null,null,null,null,null,0]
[null,null,null,null,null,null,null,null,null,0]
[null,null,null,null,null,null,null,null,null,0]
[null,null,null,null,null,null,null,null,null,0]
[null,null,null,null,null,null,null,null,null,0]
[null,null,null,null,null,null,null,null,null,0]
[null,null,null,null,null,null,null,null,null,0]
[null,null,null,null,null,null,null,null,null,0]
[null,null,null,null,null,null,null,null,null,0]
[null,null,null,null,null,null,null,null,null,0]
[null,null,null,null,null,null,null,null,null,0]
[null,null,null,null,null,null,null,null,null,0]
[null,null,null,null,null,null,null,null,null,0]
[null,null,null,null,null,null,null,null,null,0]
[null,null,null,null,null,null,null,null,null,0]
[null,null,null,null,null,null,null,null,null,0]
[null,null,null,null,null,null,null,null,null,0]
[null,null,null,null,null,null,null,null,null,0]
[null,null,null,null,null,null,null,null,null,0]
[null,null,null,null,null,null,null,null,null,0]
[null,null,null,null,null,null,null,null,null,0]
[null,null,null,null,null,null,null,null,null,0]
[null,null,null,null,null,null,null,null,null,0]
[null,null,null,null,null,null,null,null,null,0]
[null,null,null,null,null,null,null,null,null,0]
[null,null,null,null,null,null,null,null,null,0]
[null,null,null,null,null,null,null,null,null,0]
[null,null,null,null,null,null,null,null,null,0]
[null,null,null,null,null,null,null,null,null,0]
[null,null,null,null,null,null,null,null,null,0]
[null,null,null,null,null,null,null,null,null,0]
[null,null,null,null,null,null,null,null,null,0]
[null,null,null,null,null,null,null,null,null,0]
[null,null,null,null,null,null,null,null,null,0]
[null,null,null,null,null,null,null,null,null,0]
[null,null,null,null,null,null,null,null,null,0]
[null,null,null,null,null,null,null,null,null,0]
[null,null,null,null,null,null,null,null,null,0]
[null,null,null,null,null,null,null,null,null,0]
[null,null,null,null,null,null,null,null,null,0]
[null,null,null,null,null,null,null,null,null,0]
[null,null,null,null,null,null,null,null,null,0]
[null,null,null,null,null,null,null,null,null,0]
[null,null,null,null,null,null,null,null,null,0]
[null,null,null,null,null,null,null,null,null,0]
[null,null,null,null,null,null,null,null,null,0]
[null,null,null,null,null,null,null,null,null,0]
[null,null,null,null,null,null,null,null,null,0]
[null,null,null,null,null,null,null,null,null,0]
[null,null,null,null,null,null,null,null,null,0]
[null,null,null,null,null,null,null,null,null,0]
[null,null,null,null,null,null,null,null,null,0]
[null,null,null,null,null,null,null,null,null,0]
[null,null,null,null,null,null,null,null,null,0]
[null,null,null,null,null,null,null,null,null,0]
[null,null,null,null,null,null,null,null,null,0]
[null,null,null,null,null,null,null,null,null,0]
[null,null,null,null,null,null,null,null,null,0]
[null,null,null,null,null,null,null,null,null,0]
[null,null,null,null,null,null,null,null,null,0]
[null,null,null,null,null,null,null,null,null,0]
[null,null,null,null,null,null,null,null,null,0]
[null,null,null,null,null,null,null,null,null,0]
[null,null,null,null,null,null,null,null,null,0]
[null,null,null,null,null,null,null,null,null,0]
[null,null,null,null,null,null,null,null,null,0]
[null,null,null,null,null,null,null,null,null,0]
[null,null,null,null,null,null,null,null,null,0]
[null,null,null,null,null,null,null,null,null,0]
[null,null,null,null,null,null,null,null,null,0]
[null,null,null,null,null,null,null,null,null,0]
[null,null,null,null,null,null,null,null,null,{"$f":"SUMIF($G$20:$G$1016,$G102009,$H$20:$H$1016)","v":0}]
[null,null,null,null,null,null,null,null,null,0]
[null,null,null,null,null,null,null,null,null,0]
[null,null,null,null,null,null,null,null,null,0]
[null,null,null,null,null,null,null,null,null,0]
[null,null,null,null,null,null,null,null,null,0]
[null,null,null,null,null,null,null,null,null,0]
[null,null,null,null,null,null,null,null,null,0]
[null,null,null,null,null,null,null,null,null,0]
[null,null,null,null,null,null,null,null,null,0]
[null,null,null,null,null,null,null,null,null,0]
[null,null,null,null,null,null,null,null,null,0]
[null,null,null,null,null,null,null,null,null,0]
[null,null,null,null,null,null,null,null,null,0]
[null,null,null,null,null,null,null,null,null,0]
[null,null,null,null,null,null,null,null,null,0]
[null,null,null,null,null,null,null,null,null,0]
[null,null,null,null,null,null,null,null,null,0]
[null,null,null,null,null,null,null,null,null,0]
[null,null,null,null,null,null,null,null,null,0]
[null,null,null,null,null,null,null,null,null,0]
[null,null,null,null,null,null,null,null,null,0]
[null,null,null,null,null,null,null,null,null,0]
[null,null,null,null,null,null,null,null,null,0]
[null,null,null,null,null,null,null,null,null,0]
[null,null,null,null,null,null,null,null,null,0]
[null,null,null,null,null,null,null,null,null,0]
[null,null,null,null,null,null,null,null,null,0]
[null,null,null,null,null,null,null,null,null,0]
[null,null,null,null,null,null,null,null,null,0]
[null,null,null,null,null,null,null,null,null,0]
[null,null,null,null,null,null,null,null,null,0]
[null,null,null,null,null,null,null,null,null,0]
[null,null,null,null,null,null,null,null,null,0]
[null,null,null,null,null,null,null,null,null,0]
[null,null,null,null,null,null,null,null,null,0]
[null,null,null,null,null,null,null,null,null,0]
[null,null,null,null,null,null,null,null,null,0]
[null,null,null,null,null,null,null,null,null,0]
[null,null,null,null,null,null,null,null,null,0]
[null,null,null,null,null,null,null,null,null,0]
[null,null,null,null,null,null,null,null,null,0]
[null,null,null,null,null,null,null,null,null,0]
[null,null,null,null,null,null,null,null,null,0]
[null,null,null,null,null,null,null,null,null,0]
[null,null,null,null,null,null,null,null,null,0]
[null,null,null,null,null,null,null,null,null,0]
[null,null,null,null,null,null,null,null,null,0]
[null,null,null,null,null,null,null,null,null,0]
[null,null,null,null,null,null,null,null,null,0]
[null,null,null,null,null,null,null,null,null,0]
[null,null,null,null,null,null,null,null,null,0]
[null,null,null,null,null,null,null,null,null,0]
[null,null,null,null,null,null,null,null,null,0]
[null,null,null,null,null,null,null,null,null,0]
[null,null,null,null,null,null,null,null,null,0]
[null,null,null,null,null,null,null,null,null,0]
[null,null,null,null,null,null,null,null,null,0]
[null,null,null,null,null,null,null,null,null,0]
[null,null,null,null,null,null,null,null,null,0]
[null,null,null,null,null,null,null,null,null,0]
[null,null,null,null,null,null,null,null,null,0]
[null,null,null,null,null,null,null,null,null,0]
[null,null,null,null,null,null,null,null,null,0]
[null,null,null,null,null,null,null,null,null,0]
[null,null,null,null,null,null,null,null,null,0]
[null,null,null,null,null,null,null,null,null,0]
[null,null,null,null,null,null,null,null,null,0]
[null,null,null,null,null,null,null,null,null,0]
[null,null,null,null,null,null,null,null,null,0]
[null,null,null,null,null,null,null,null,null,0]
[null,null,null,null,null,null,null,null,null,0]
[null,null,null,null,null,null,null,null,null,0]
[null,null,null,null,null,null,null,null,null,0]
[null,null,null,null,null,null,null,null,null,0]
[null,null,null,null,null,null,null,null,null,0]
[null,null,null,null,null,null,null,null,null,0]
[null,null,null,null,null,null,null,null,null,0]
[null,null,null,null,null,null,null,null,null,0]
[null,null,null,null,null,null,null,null,null,0]
[null,null,null,null,null,null,null,null,null,0]
[null,null,null,null,null,null,null,null,null,0]
[null,null,null,null,null,null,null,null,null,0]
[null,null,null,null,null,null,null,null,null,0]
[null,null,null,null,null,null,null,null,null,0]
[null,null,null,null,null,null,null,null,null,0]
[null,null,null,null,null,null,null,null,null,0]
[null,null,null,null,null,null,null,null,null,0]
[null,null,null,null,null,null,null,null,null,0]
[null,null,null,null,null,null,null,null,null,0]
[null,null,null,null,null,null,null,null,null,0]
[null,null,null,null,null,null,null,null,null,0]
[null,null,null,null,null,null,null,null,null,0]
[null,null,null,null,null,null,null,null,null,0]
[null,null,null,null,null,null,null,null,null,0]
[null,null,null,null,null,null,null,null,null,0]
[null,null,null,null,null,null,null,null,null,0]
[null,null,null,null,null,null,null,null,null,0]
[null,null,null,null,null,null,null,null,null,0]
[null,null,null,null,null,null,null,null,null,0]
[null,null,null,null,null,null,null,null,null,0]
[null,null,null,null,null,null,null,null,null,0]
[null,null,null,null,null,null,null,null,null,0]
[null,null,null,null,null,null,null,null,null,{"$f":"SUMIF($G$20:$G$1016,$G121977,$H$20:$H$1016)","v":0}]
[null,null,null,null,null,null,null,null,null,0]
[null,null,null,null,null,null,null,null,null,0]
[null,null,null,null,null,null,null,null,null,0]
[null,null,null,null,null,null,null,null,null,0]
[null,null,null,null,null,null,null,null,null,0]
[null,null,null,null,null,null,null,null,null,0]
[null,null,null,null,null,null,null,null,null,0]
[null,null,null,null,null,null,null,null,null,0]
[null,null,null,null,null,null,null,null,null,0]
[null,null,null,null,null,null,null,null,null,0]
[null,null,null,null,null,null,null,null,null,0]
[null,null,null,null,null,null,null,null,null,0]
[null,null,null,null,null,null,null,null,null,0]
[null,null,null,null,null,null,null,null,null,0]
[null,null,null,null,null,null,null,null,null,0]
[null,null,null,null,null,null,null,null,null,0]
[null,null,null,null,null,null,null,null,null,0]
[null,null,null,null,null,null,null,null,null,0]
[null,null,null,null,null,null,null,null,null,0]
[null,null,null,null,null,null,null,null,null,0]
[null,null,null,null,null,null,null,null,null,0]
[null,null,null,null,null,null,null,null,null,0]
[null,null,null,null,null,null,null,null,null,0]
[null,null,null,null,null,null,null,null,null,0]
[null,null,null,null,null,null,null,null,null,0]
[null,null,null,null,null,null,null,null,null,0]
[null,null,null,null,null,null,null,null,null,0]
[null,null,null,null,null,null,null,null,null,{"$f":"SUMIF($G$20:$G$1016,$G127417,$H$20:$H$1016)","v":0}]
[null,null,null,null,null,null,null,null,null,0]
[null,null,null,null,null,null,null,null,null,0]
[null,null,null,null,null,null,null,null,null,0]
[null,null,null,null,null,null,null,null,null,0]
[null,null,null,null,null,null,null,null,null,0]
[null,null,null,null,null,null,null,null,null,0]
[null,null,null,null,null,null,null,null,null,0]
[null,null,null,null,null,null,null,null,null,0]
[null,null,null,null,null,null,null,null,null,0]
[null,null,null,null,null,null,null,null,null,0]
[null,null,null,null,null,null,null,null,null,0]
[null,null,null,null,null,null,null,null,null,0]
[null,null,null,null,null,null,null,null,null,0]
[null,null,null,null,null,null,null,null,null,0]
[null,null,null,null,null,null,null,null,null,0]
[null,null,null,null,null,null,null,null,null,0]
[null,null,null,null,null,null,null,null,null,0]
[null,null,null,null,null,null,null,null,null,0]
[null,null,null,null,null,null,null,null,null,0]
[null,null,null,null,null,null,null,null,null,0]
[null,null,null,null,null,null,null,null,null,0]
[null,null,null,null,null,null,null,null,null,0]
[null,null,null,null,null,null,null,null,null,0]
[null,null,null,null,null,null,null,null,null,0]
[null,null,null,null,null,null,null,null,null,0]
[null,null,null,null,null,null,null,null,null,0]
[null,null,null,null,null,null,null,null,null,0]
[null,null,null,null,null,null,null,null,null,0]
[null,null,null,null,null,null,null,null,null,0]
[null,null,null,null,null,null,null,null,null,0]
[null,null,null,null,null,null,null,null,null,0]
[null,null,null,null,null,null,null,null,null,0]
[null,null,null,null,null,null,null,null,null,0]
[null,null,null,null,null,null,null,null,null,0]
[null,null,null,null,null,null,null,null,null,0]
[null,null,null,null,null,null,null,null,null,0]
[null,null,null,null,null,null,null,null,null,0]
[null,null,null,null,null,null,null,null,null,0]
[null,null,null,null,null,null,null,null,null,0]
[null,null,null,null,null,null,null,null,null,0]
[null,null,null,null,null,null,null,null,null,0]
[null,null,null,null,null,null,null,null,null,0]
[null,null,null,null,null,null,null,null,null,0]
[null,null,null,null,null,null,null,null,null,0]
[null,null,null,null,null,null,null,null,null,0]
[null,null,null,null,null,null,null,null,null,0]
[null,null,null,null,null,null,null,null,null,0]
[null,null,null,null,null,null,null,null,null,0]
[null,null,null,null,null,null,null,null,null,0]
[null,null,null,null,null,null,null,null,null,0]
[null,null,null,null,null,null,null,null,null,0]
[null,null,null,null,null,null,null,null,null,0]
[null,null,null,null,null,null,null,null,null,0]
[null,null,null,null,null,null,null,null,null,0]
[null,null,null,null,null,null,null,null,null,0]
[null,null,null,null,null,null,null,null,null,0]
[null,null,null,null,null,null,null,null,null,0]
[null,null,null,null,null,null,null,null,null,0]
[null,null,null,null,null,null,null,null,null,0]
[null,null,null,null,null,null,null,null,null,0]
[null,null,null,null,null,null,null,null,null,0]
[null,null,null,null,null,null,null,null,null,0]
[null,null,null,null,null,null,null,null,null,0]
[null,null,null,null,null,null,null,null,null,0]
[null,null,null,null,null,null,null,null,null,0]
[null,null,null,null,null,null,null,null,null,0]
[null,null,null,null,null,null,null,null,null,0]
[null,null,null,null,null,null,null,null,null,0]
[null,null,null,null,null,null,null,null,null,0]
[null,null,null,null,null,null,null,null,null,0]
[null,null,null,null,null,null,null,null,null,0]
[null,null,null,null,null,null,null,null,null,0]
[null,null,null,null,null,null,null,null,null,0]
[null,null,null,null,null,null,null,null,null,0]
[null,null,null,null,null,null,null,null,null,0]
[null,null,null,null,null,null,null,null,null,0]
[null,null,null,null,null,null,null,null,null,0]
[null,null,null,null,null,null,null,null,null,0]
[null,null,null,null,null,null,null,null,null,0]
[null,null,null,null,null,null,null,null,null,0]
[null,null,null,null,null,null,null,null,null,0]
[null,null,null,null,null,null,null,null,null,0]
[null,null,null,null,null,null,null,null,null,0]
[null,null,null,null,null,null,null,null,null,0]
[null,null,null,null,null,null,null,null,null,0]
[null,null,null,null,null,null,null,null,null,0]
[null,null,null,null,null,null,null,null,null,0]
[null,null,null,null,null,null,null,null,null,0]
[null,null,null,null,null,null,null,null,null,0]
[null,null,null,null,null,null,null,null,null,0]
[null,null,null,null,null,null,null,null,null,0]
[null,null,null,null,null,null,null,null,null,0]
[null,null,null,null,null,null,null,null,null,0]
[null,null,null,null,null,null,null,null,null,0]
[null,null,null,null,null,null,null,null,null,0]
[null,null,null,null,null,null,null,null,null,0]
[null,null,null,null,null,null,null,null,null,0]
[null,null,null,null,null,null,null,null,null,0]
[null,null,null,null,null,null,null,null,null,0]
[null,null,null,null,null,null,null,null,null,0]
[null,null,null,null,null,null,null,null,null,0]
[null,null,null,null,null,null,null,null,null,0]
[null,null,null,null,null,null,null,null,null,{"$f":"SUMIF($G$20:$G$1016,$G147385,$H$20:$H$1016)","v":0}]
[null,null,null,null,null,null,null,null,null,0]
[null,null,null,null,null,null,null,null,null,0]
[null,null,null,null,null,null,null,null,null,0]
[null,null,null,null,null,null,null,null,null,0]
[null,null,null,null,null,null,null,null,null,0]
[null,null,null,null,null,null,null,null,null,0]
[null,null,null,null,null,null,null,null,null,0]
[null,null,null,null,null,null,null,null,null,0]
[null,null,null,null,null,null,null,null,null,0]
[null,null,null,null,null,null,null,null,null,0]
[null,null,null,null,null,null,null,null,null,0]
[null,null,null,null,null,null,null,null,null,0]
[null,null,null,null,null,null,null,null,null,0]
[null,null,null,null,null,null,null,null,null,0]
[null,null,null,null,null,null,null,null,null,0]
[null,null,null,null,null,null,null,null,null,0]
[null,null,null,null,null,null,null,null,null,0]
[null,null,null,null,null,null,null,null,null,0]
[null,null,null,null,null,null,null,null,null,0]
[null,null,null,null,null,null,null,null,null,0]
[null,null,null,null,null,null,null,null,null,0]
[null,null,null,null,null,null,null,null,null,0]
[null,null,null,null,null,null,null,null,null,0]
[null,null,null,null,null,null,null,null,null,0]
[null,null,null,null,null,null,null,null,null,0]
[null,null,null,null,null,null,null,null,null,0]
[null,null,null,null,null,null,null,null,null,0]
[null,null,null,null,null,null,null,null,null,0]
[null,null,null,null,null,null,null,null,null,0]
[null,null,null,null,null,null,null,null,null,0]
[null,null,null,null,null,null,null,null,null,0]
[null,null,null,null,null,null,null,null,null,0]
[null,null,null,null,null,null,null,null,null,0]
[null,null,null,null,null,null,null,null,null,0]
[null,null,null,null,null,null,null,null,null,0]
[null,null,null,null,null,null,null,null,null,0]
[null,null,null,null,null,null,null,null,null,0]
[null,null,null,null,null,null,null,null,null,0]
[null,null,null,null,null,null,null,null,null,0]
[null,null,null,null,null,null,null,null,null,0]
[null,null,null,null,null,null,null,null,null,0]
[null,null,null,null,null,null,null,null,null,0]
[null,null,null,null,null,null,null,null,null,0]
[null,null,null,null,null,null,null,null,null,0]
[null,null,null,null,null,null,null,null,null,0]
[null,null,null,null,null,null,null,null,null,0]
[null,null,null,null,null,null,null,null,null,0]
[null,null,null,null,null,null,null,null,null,0]
[null,null,null,null,null,null,null,null,null,0]
[null,null,null,null,null,null,null,null,null,0]
[null,null,null,null,null,null,null,null,null,0]
[null,null,null,null,null,null,null,null,null,0]
[null,null,null,null,null,null,null,null,null,0]
[null,null,null,null,null,null,null,null,null,0]
[null,null,null,null,null,null,null,null,null,0]
[null,null,null,null,null,null,null,null,null,0]
[null,null,null,null,null,null,null,null,null,0]
[null,null,null,null,null,null,null,null,null,0]
[null,null,null,null,null,null,null,null,null,0]
[null,null,null,null,null,null,null,null,null,0]
[null,null,null,null,null,null,null,null,null,0]
[null,null,null,null,null,null,null,null,null,0]
[null,null,null,null,null,null,null,null,null,0]
[null,null,null,null,null,null,null,null,null,0]
[null,null,null,null,null,null,null,null,null,0]
[null,null,null,null,null,null,null,null,null,0]
[null,null,null,null,null,null,null,null,null,0]
[null,null,null,null,null,null,null,null,null,0]
[null,null,null,null,null,null,null,null,null,0]
[null,null,null,null,null,null,null,null,null,0]
[null,null,null,null,null,null,null,null,null,0]
[null,null,null,null,null,null,null,null,null,0]
[null,null,null,null,null,null,null,null,null,0]
[null,null,null,null,null,null,null,null,null,0]
[null,null,null,null,null,null,null,null,null,0]
[null,null,null,null,null,null,null,null,null,0]
[null,null,null,null,null,null,null,null,null,0]
[null,null,null,null,null,null,null,null,null,0]
[null,null,null,null,null,null,null,null,null,0]
[null,null,null,null,null,null,null,null,null,0]
[null,null,null,null,null,null,null,null,null,0]
[null,null,null,null,null,null,null,null,null,0]
[null,null,null,null,null,null,null,null,null,0]
[null,null,null,null,null,null,null,null,null,0]
[null,null,null,null,null,null,null,null,null,0]
[null,null,null,null,null,null,null,null,null,0]
[null,null,null,null,null,null,null,null,null,0]
[null,null,null,null,null,null,null,null,null,{"$f":"SUMIF($G$20:$G$1016,$G164281,$H$20:$H$1016)","v":0}]
[null,null,null,null,null,null,null,null,null,0]
[null,null,null,null,null,null,null,null,null,0]
[null,null,null,null,null,null,null,null,null,0]
[null,null,null,null,null,null,null,null,null,0]
[null,null,null,null,null,null,null,null,null,0]
[null,null,null,null,null,null,null,null,null,0]
[null,null,null,null,null,null,null,null,null,0]
[null,null,null,null,null,null,null,null,null,0]
[null,null,null,null,null,null,null,null,null,0]
[null,null,null,null,null,null,null,null,null,0]
[null,null,null,null,null,null,null,null,null,0]
[null,null,null,null,null,null,null,null,null,0]
[null,null,null,null,null,null,null,null,null,0]
[null,null,null,null,null,null,null,null,null,0]
[null,null,null,null,null,null,null,null,null,0]
[null,null,null,null,null,null,null,null,null,0]
[null,null,null,null,null,null,null,null,null,0]
[null,null,null,null,null,null,null,null,null,0]
[null,null,null,null,null,null,null,null,null,0]
[null,null,null,null,null,null,null,null,null,0]
[null,null,null,null,null,null,null,null,null,0]
[null,null,null,null,null,null,null,null,null,0]
[null,null,null,null,null,null,null,null,null,0]
[null,null,null,null,null,null,null,null,null,0]
[null,null,null,null,null,null,null,null,null,0]
[null,null,null,null,null,null,null,null,null,0]
[null,null,null,null,null,null,null,null,null,0]
[null,null,null,null,null,null,null,null,null,0]
[null,null,null,null,null,null,null,null,null,0]
[null,null,null,null,null,null,null,null,null,0]
[null,null,null,null,null,null,null,null,null,0]
[null,null,null,null,null,null,null,null,null,0]
[null,null,null,null,null,null,null,null,null,0]
[null,null,null,null,null,null,null,null,null,0]
[null,null,null,null,null,null,null,null,null,0]
[null,null,null,null,null,null,null,null,null,0]
[null,null,null,null,null,null,null,null,null,0]
[null,null,null,null,null,null,null,null,null,0]
[null,null,null,null,null,null,null,null,null,0]
[null,null,null,null,null,null,null,null,null,0]
[null,null,null,null,null,null,null,null,null,0]
[null,null,null,null,null,null,null,null,null,0]
[null,null,null,null,null,null,null,null,null,0]
[null,null,null,null,null,null,null,null,null,0]
[null,null,null,null,null,null,null,null,null,0]
[null,null,null,null,null,null,null,null,null,0]
[null,null,null,null,null,null,null,null,null,0]
[null,null,null,null,null,null,null,null,null,0]
[null,null,null,null,null,null,null,null,null,0]
[null,null,null,null,null,null,null,null,null,0]
[null,null,null,null,null,null,null,null,null,0]
[null,null,null,null,null,null,null,null,null,0]
[null,null,null,null,null,null,null,null,null,0]
[null,null,null,null,null,null,null,null,null,0]
[null,null,null,null,null,null,null,null,null,0]
[null,null,null,null,null,null,null,null,null,0]
[null,null,null,null,null,null,null,null,null,0]
[null,null,null,null,null,null,null,null,null,0]
[null,null,null,null,null,null,null,null,null,0]
[null,null,null,null,null,null,null,null,null,{"$f":"SUMIF($G$20:$G$1016,$G175865,$H$20:$H$1016)","v":0}]
[null,null,null,null,null,null,null,null,null,0]
[null,null,null,null,null,null,null,null,null,0]
[null,null,null,null,null,null,null,null,null,0]
[null,null,null,null,null,null,null,null,null,0]
[null,null,null,null,null,null,null,null,null,0]
[null,null,null,null,null,null,null,null,null,0]
[null,null,null,null,null,null,null,null,null,0]
[null,null,null,null,null,null,null,null,null,0]
[null,null,null,null,null,null,null,null,null,0]
[null,null,null,null,null,null,null,null,null,0]
[null,null,null,null,null,null,null,null,null,0]
[null,null,null,null,null,null,null,null,null,0]
[null,null,null,null,null,null,null,null,null,0]
[null,null,null,null,null,null,null,null,null,0]
[null,null,null,null,null,null,null,null,null,0]
[null,null,null,null,null,null,null,null,null,0]
[null,null,null,null,null,null,null,null,null,0]
[null,null,null,null,null,null,null,null,null,0]
[null,null,null,null,null,null,null,null,null,0]
[null,null,null,null,null,null,null,null,null,0]
[null,null,null,null,null,null,null,null,null,0]
[null,null,null,null,null,null,null,null,null,{"$f":"SUMIF($G$20:$G$1016,$G180281,$H$20:$H$1016)","v":0}]
[null,null,null,null,null,null,null,null,null,0]
[null,null,null,null,null,null,null,null,null,0]
[null,null,null,null,null,null,null,null,null,0]
[null,null,null,null,null,null,null,null,null,0]
[null,null,null,null,null,null,null,null,null,0]
[null,null,null,null,null,null,null,null,null,0]
[null,null,null,null,null,null,null,null,null,0]
[null,null,null,null,null,null,null,null,null,0]
[null,null,null,null,null,null,null,null,null,0]
[null,null,null,null,null,null,null,null,null,0]
[null,null,null,null,null,null,null,null,null,0]
[null,null,null,null,null,null,null,null,null,0]
[null,null,null,null,null,null,null,null,null,0]
[null,null,null,null,null,null,null,null,null,0]
[null,null,null,null,null,null,null,null,null,0]
[null,null,null,null,null,null,null,null,null,0]
[null,null,null,null,null,null,null,null,null,0]
[null,null,null,null,null,null,null,null,null,0]
[null,null,null,null,null,null,null,null,null,0]
[null,null,null,null,null,null,null,null,null,0]
[null,null,null,null,null,null,null,null,null,0]
[null,null,null,null,null,null,null,null,null,0]
[null,null,null,null,null,null,null,null,null,0]
[null,null,null,null,null,null,null,null,null,0]
[null,null,null,null,null,null,null,null,null,0]
[null,null,null,null,null,null,null,null,null,0]
[null,null,null,null,null,null,null,null,null,0]
[null,null,null,null,null,null,null,null,null,0]
[null,null,null,null,null,null,null,null,null,0]
[null,null,null,null,null,null,null,null,null,0]
[null,null,null,null,null,null,null,null,null,0]
[null,null,null,null,null,null,null,null,null,0]
[null,null,null,null,null,null,null,null,null,0]
[null,null,null,null,null,null,null,null,null,0]
[null,null,null,null,null,null,null,null,null,0]
[null,null,null,null,null,null,null,null,null,0]
[null,null,null,null,null,null,null,null,null,0]
[null,null,null,null,null,null,null,null,null,0]
[null,null,null,null,null,null,null,null,null,0]
[null,null,null,null,null,null,null,null,null,0]
[null,null,null,null,null,null,null,null,null,0]
[null,null,null,null,null,null,null,null,null,0]
[null,null,null,null,null,null,null,null,null,0]
[null,null,null,null,null,null,null,null,null,0]
[null,null,null,null,null,null,null,null,null,0]
[null,null,null,null,null,null,null,null,null,0]
[null,null,null,null,null,null,null,null,null,0]
[null,null,null,null,null,null,null,null,null,0]
[null,null,null,null,null,null,null,null,null,{"$f":"SUMIF($G$20:$G$1016,$G189689,$H$20:$H$1016)","v":0}]
[null,null,null,null,null,null,null,null,null,0]
[null,null,null,null,null,null,null,null,null,0]
[null,null,null,null,null,null,null,null,null,0]
[null,null,null,null,null,null,null,null,null,0]
[null,null,null,null,null,null,null,null,null,0]
[null,null,null,null,null,null,null,null,null,0]
[null,null,null,null,null,null,null,null,null,0]
[null,null,null,null,null,null,null,null,null,0]
[null,null,null,null,null,null,null,null,null,0]
[null,null,null,null,null,null,null,null,null,0]
[null,null,null,null,null,null,null,null,null,0]
[null,null,null,null,null,null,null,null,null,0]
[null,null,null,null,null,null,null,null,null,0]
[null,null,null,null,null,null,null,null,null,0]
[null,null,null,null,null,null,null,null,null,0]
[null,null,null,null,null,null,null,null,null,0]
[null,null,null,null,null,null,null,null,null,0]
[null,null,null,null,null,null,null,null,null,0]
[null,null,null,null,null,null,null,null,null,0]
[null,null,null,null,null,null,null,null,null,0]
[null,null,null,null,null,null,null,null,null,0]
[null,null,null,null,null,null,null,null,null,0]
[null,null,null,null,null,null,null,null,null,0]
[null,null,null,null,null,null,null,null,null,0]
[null,null,null,null,null,null,null,null,null,0]
[null,null,null,null,null,null,null,null,null,0]
[null,null,null,null,null,null,null,null,null,0]
[null,null,null,null,null,null,null,null,null,0]
[null,null,null,null,null,null,null,null,null,0]
[null,null,null,null,null,null,null,null,null,0]
[null,null,null,null,null,null,null,null,null,0]
[null,null,null,null,null,null,null,null,null,0]
[null,null,null,null,null,null,null,null,null,0]
[null,null,null,null,null,null,null,null,null,0]
[null,null,null,null,null,null,null,null,null,0]
[null,null,null,null,null,null,null,null,null,0]
[null,null,null,null,null,null,null,null,null,0]
[null,null,null,null,null,null,null,null,null,0]
[null,null,null,null,null,null,null,null,null,0]
[null,null,null,null,null,null,null,null,null,0]
[null,null,null,null,null,null,null,null,null,0]
[null,null,null,null,null,null,null,null,null,0]
[null,null,null,null,null,null,null,null,null,0]
[null,null,null,null,null,null,null,null,null,0]
[null,null,null,null,null,null,null,null,null,0]
[null,null,null,null,null,null,null,null,null,0]
[null,null,null,null,null,null,null,null,null,0]
[null,null,null,null,null,null,null,null,null,0]
[null,null,null,null,null,null,null,null,null,0]
[null,null,null,null,null,null,null,null,null,0]
[null,null,null,null,null,null,null,null,null,0]
[null,null,null,null,null,null,null,null,null,0]
[null,null,null,null,null,null,null,null,null,0]
[null,null,null,null,null,null,null,null,null,0]
[null,null,null,null,null,null,null,null,null,0]
[null,null,null,null,null,null,null,null,null,0]
[null,null,null,null,null,null,null,null,null,0]
[null,null,null,null,null,null,null,null,null,0]
[null,null,null,null,null,null,null,null,null,0]
[null,null,null,null,null,null,null,null,null,0]
[null,null,null,null,null,null,null,null,null,0]
[null,null,null,null,null,null,null,null,null,0]
[null,null,null,null,null,null,null,null,null,0]
[null,null,null,null,null,null,null,null,null,0]
[null,null,null,null,null,null,null,null,null,0]
[null,null,null,null,null,null,null,null,null,0]
[null,null,null,null,null,null,null,null,null,0]
[null,null,null,null,null,null,null,null,null,0]
[null,null,null,null,null,null,null,null,null,0]
[null,null,null,null,null,null,null,null,null,0]
[null,null,null,null,null,null,null,null,null,0]
[null,null,null,null,null,null,null,null,null,0]
[null,null,null,null,null,null,null,null,null,0]
[null,null,null,null,null,null,null,null,null,0]
[null,null,null,null,null,null,null,null,null,0]
[null,null,null,null,null,null,null,null,null,0]
[null,null,null,null,null,null,null,null,null,0]
[null,null,null,null,null,null,null,null,null,0]
[null,null,null,null,null,null,null,null,null,0]
[null,null,null,null,null,null,null,null,null,0]
[null,null,null,null,null,null,null,null,null,0]
[null,null,null,null,null,null,null,null,null,0]
[null,null,null,null,null,null,null,null,null,0]
[null,null,null,null,null,null,null,null,null,0]
[null,null,null,null,null,null,null,null,null,0]
[null,null,null,null,null,null,null,null,null,0]
[null,null,null,null,null,null,null,null,null,0]
[null,null,null,null,null,null,null,null,null,0]
[null,null,null,null,null,null,null,null,null,0]
[null,null,null,null,null,null,null,null,null,0]
[null,null,null,null,null,null,null,null,null,0]
[null,null,null,null,null,null,null,null,null,0]
[null,null,null,null,null,null,null,null,null,0]
[null,null,null,null,null,null,null,null,null,0]
[null,null,null,null,null,null,null,null,null,0]
[null,null,null,null,null,null,null,null,null,0]
[null,null,null,null,null,null,null,null,null,0]
[null,null,null,null,null,null,null,null,null,0]
[null,null,null,null,null,null,null,null,null,0]
[null,null,null,null,null,null,null,null,null,0]
[null,null,null,null,null,null,null,null,null,0]
[null,null,null,null,null,null,null,null,null,0]
[null,null,null,null,null,null,null,null,null,0]
[null,null,null,null,null,null,null,null,null,0]
[null,null,null,null,null,null,null,null,null,0]
[null,null,null,null,null,null,null,null,null,0]
[null,null,null,null,null,null,null,null,null,0]
[null,null,null,null,null,null,null,null,null,0]
[null,null,null,null,null,null,null,null,null,0]
[null,null,null,null,null,null,null,null,null,0]
[null,null,null,null,null,null,null,null,null,0]
[null,null,null,null,null,null,null,null,null,0]
[null,null,null,null,null,null,null,null,null,0]
[null,null,null,null,null,null,null,null,null,0]
[null,null,null,null,null,null,null,null,null,0]
[null,null,null,null,null,null,null,null,null,0]
[null,null,null,null,null,null,null,null,null,0]
[null,null,null,null,null,null,null,null,null,0]
[null,null,null,null,null,null,null,null,null,0]
[null,null,null,null,null,null,null,null,null,0]
[null,null,null,null,null,null,null,null,null,0]
[null,null,null,null,null,null,null,null,null,0]
[null,null,null,null,null,null,null,null,null,0]
[null,null,null,null,null,null,null,null,null,0]
[null,null,null,null,null,null,null,null,null,0]
[null,null,null,null,null,null,null,null,null,0]
[null,null,null,null,null,null,null,null,null,0]
[null,null,null,null,null,null,null,null,null,0]
[null,null,null,null,null,null,null,null,null,0]
[null,null,null,null,null,null,null,null,null,0]
[null,null,null,null,null,null,null,null,null,{"$f":"SUMIF($G$20:$G$1016,$G215097,$H$20:$H$1016)","v":0}]
[null,null,null,null,null,null,null,null,null,0]
[null,null,null,null,null,null,null,null,null,0]
[null,null,null,null,null,null,null,null,null,0]
[null,null,null,null,null,null,null,null,null,0]
[null,null,null,null,null,null,null,null,null,0]
[null,null,null,null,null,null,null,null,null,0]
[null,null,null,null,null,null,null,null,null,0]
[null,null,null,null,null,null,null,null,null,0]
[null,null,null,null,null,null,null,null,null,0]
[null,null,null,null,null,null,null,null,null,0]
[null,null,null,null,null,null,null,null,null,0]
[null,null,null,null,null,null,null,null,null,0]
[null,null,null,null,null,null,null,null,null,0]
[null,null,null,null,null,null,null,null,null,0]
[null,null,null,null,null,null,null,null,null,0]
[null,null,null,null,null,null,null,null,null,0]
[null,null,null,null,null,null,null,null,null,0]
[null,null,null,null,null,null,null,null,null,0]
[null,null,null,null,null,null,null,null,null,0]
[null,null,null,null,null,null,null,null,null,0]
[null,null,null,null,null,null,null,null,null,0]
[null,null,null,null,null,null,null,null,null,0]
[null,null,null,null,null,null,null,null,null,0]
[null,null,null,null,null,null,null,null,null,0]
[null,null,null,null,null,null,null,null,null,0]
[null,null,null,null,null,null,null,null,null,0]
[null,null,null,null,null,null,null,null,null,0]
[null,null,null,null,null,null,null,null,null,0]
[null,null,null,null,null,null,null,null,null,0]
[null,null,null,null,null,null,null,null,null,0]
[null,null,null,null,null,null,null,null,null,0]
[null,null,null,null,null,null,null,null,null,0]
[null,null,null,null,null,null,null,null,null,0]
[null,null,null,null,null,null,null,null,null,0]
[null,null,null,null,null,null,null,null,null,0]
[null,null,null,null,null,null,null,null,null,0]
[null,null,null,null,null,null,null,null,null,0]
[null,null,null,null,null,null,null,null,null,0]
[null,null,null,null,null,null,null,null,null,0]
[null,null,null,null,null,null,null,null,null,0]
[null,null,null,null,null,null,null,null,null,0]
[null,null,null,null,null,null,null,null,null,0]
[null,null,null,null,null,null,null,null,null,0]
[null,null,null,null,null,null,null,null,null,0]
[null,null,null,null,null,null,null,null,null,0]
[null,null,null,null,null,null,null,null,null,0]
[null,null,null,null,null,null,null,null,null,0]
[null,null,null,null,null,null,null,null,null,0]
[null,null,null,null,null,null,null,null,null,0]
[null,null,null,null,null,null,null,null,null,0]
[null,null,null,null,null,null,null,null,null,0]
[null,null,null,null,null,null,null,null,null,0]
[null,null,null,null,null,null,null,null,null,0]
[null,null,null,null,null,null,null,null,null,0]
[null,null,null,null,null,null,null,null,null,0]
[null,null,null,null,null,null,null,null,null,0]
[null,null,null,null,null,null,null,null,null,0]
[null,null,null,null,null,null,null,null,null,0]
[null,null,null,null,null,null,null,null,null,0]
[null,null,null,null,null,null,null,null,null,0]
[null,null,null,null,null,null,null,null,null,0]
[null,null,null,null,null,null,null,null,null,0]
[null,null,null,null,null,null,null,null,null,0]
[null,null,null,null,null,null,null,null,null,0]
[null,null,null,null,null,null,null,null,null,0]
[null,null,null,null,null,null,null,null,null,0]
[null,null,null,null,null,null,null,null,null,0]
[null,null,null,null,null,null,null,null,null,0]
[null,null,null,null,null,null,null,null,null,0]
[null,null,null,null,null,null,null,null,null,0]
[null,null,null,null,null,null,null,null,null,0]
[null,null,null,null,null,null,null,null,null,0]
[null,null,null,null,null,null,null,null,null,0]
[null,null,null,null,null,null,null,null,null,0]
[null,null,null,null,null,null,null,null,null,0]
[null,null,null,null,null,null,null,null,null,0]
[null,null,null,null,null,null,null,null,null,0]
[null,null,null,null,null,null,null,null,null,0]
[null,null,null,null,null,null,null,null,null,0]
[null,null,null,null,null,null,null,null,null,0]
[null,null,null,null,null,null,null,null,null,0]
[null,null,null,null,null,null,null,null,null,0]
[null,null,null,null,null,null,null,null,null,0]
[null,null,null,null,null,null,null,null,null,0]
[null,null,null,null,null,null,null,null,null,0]
[null,null,null,null,null,null,null,null,null,0]
[null,null,null,null,null,null,null,null,null,0]
[null,null,null,null,null,null,null,null,null,{"$f":"SUMIF($G$20:$G$1016,$G231993,$H$20:$H$1016)","v":0}]
[null,null,null,null,null,null,null,null,null,0]
[null,null,null,null,null,null,null,null,null,0]
[null,null,null,null,null,null,null,null,null,0]
[null,null,null,null,null,null,null,null,null,0]
[null,null,null,null,null,null,null,null,null,0]
[null,null,null,null,null,null,null,null,null,0]
[null,null,null,null,null,null,null,null,null,0]
[null,null,null,null,null,null,null,null,null,0]
[null,null,null,null,null,null,null,null,null,0]
[null,null,null,null,null,null,null,null,null,0]
[null,null,null,null,null,null,null,null,null,0]
[null,null,null,null,null,null,null,null,null,0]
[null,null,null,null,null,null,null,null,null,0]
[null,null,null,null,null,null,null,null,null,0]
[null,null,null,null,null,null,null,null,null,0]
[null,null,null,null,null,null,null,null,null,0]
[null,null,null,null,null,null,null,null,null,0]
[null,null,null,null,null,null,null,null,null,0]
[null,null,null,null,null,null,null,null,null,0]
[null,null,null,null,null,null,null,null,null,0]
[null,null,null,null,null,null,null,null,null,0]
[null,null,null,null,null,null,null,null,null,0]
[null,null,null,null,null,null,null,null,null,0]
[null,null,null,null,null,null,null,null,null,0]
[null,null,null,null,null,null,null,null,null,0]
[null,null,null,null,null,null,null,null,null,0]
[null,null,null,null,null,null,null,null,null,0]
[null,null,null,null,null,null,null,null,null,0]
[null,null,null,null,null,null,null,null,null,0]
[null,null,null,null,null,null,null,null,null,0]
[null,null,null,null,null,null,null,null,null,0]
[null,null,null,null,null,null,null,null,null,0]
[null,null,null,null,null,null,null,null,null,0]
[null,null,null,null,null,null,null,null,null,0]
[null,null,null,null,null,null,null,null,null,0]
[null,null,null,null,null,null,null,null,null,0]
[null,null,null,null,null,null,null,null,null,0]
[null,null,null,null,null,null,null,null,null,0]
[null,null,null,null,null,null,null,null,null,0]
[null,null,null,null,null,null,null,null,null,0]
[null,null,null,null,null,null,null,null,null,0]
[null,null,null,null,null,null,null,null,null,0]
[null,null,null,null,null,null,null,null,null,0]
[null,null,null,null,null,null,null,null,null,0]
[null,null,null,null,null,null,null,null,null,0]
[null,null,null,null,null,null,null,null,null,0]
[null,null,null,null,null,null,null,null,null,0]
[null,null,null,null,null,null,null,null,null,0]
[null,null,null,null,null,null,null,null,null,0]
[null,null,null,null,null,null,null,null,null,0]
[null,null,null,null,null,null,null,null,null,0]
[null,null,null,null,null,null,null,null,null,0]
[null,null,null,null,null,null,null,null,null,0]
[null,null,null,null,null,null,null,null,null,0]
[null,null,null,null,null,null,null,null,null,0]
[null,null,null,null,null,null,null,null,null,0]
[null,null,null,null,null,null,null,null,null,0]
[null,null,null,null,null,null,null,null,null,0]
[null,null,null,null,null,null,null,null,null,0]
[null,null,null,null,null,null,null,null,null,0]
[null,null,null,null,null,null,null,null,null,0]
[null,null,null,null,null,null,null,null,null,0]
[null,null,null,null,null,null,null,null,null,0]
[null,null,null,null,null,null,null,null,null,0]
[null,null,null,null,null,null,null,null,null,0]
[null,null,null,null,null,null,null,null,null,0]
[null,null,null,null,null,null,null,null,null,0]
[null,null,null,null,null,null,null,null,null,0]
[null,null,null,null,null,null,null,null,null,0]
[null,null,null,null,null,null,null,null,null,0]
[null,null,null,null,null,null,null,null,null,0]
[null,null,null,null,null,null,null,null,null,0]
[null,null,null,null,null,null,null,null,null,0]
[null,null,null,null,null,null,null,null,null,0]
[null,null,null,null,null,null,null,null,null,0]
[null,null,null,null,null,null,null,null,null,0]
[null,null,null,null,null,null,null,null,null,0]
[null,null,null,null,null,null,null,null,null,0]
[null,null,null,null,null,null,null,null,null,0]
[null,null,null,null,null,null,null,null,null,0]
[null,null,null,null,null,null,null,null,null,0]
[null,null,null,null,null,null,null,null,null,0]
[null,null,null,null,null,null,null,null,null,0]
[null,null,null,null,null,null,null,null,null,0]
[null,null,null,null,null,null,null,null,null,0]
[null,null,null,null,null,null,null,null,null,0]
[null,null,null,null,null,null,null,null,null,0]
[null,null,null,null,null,null,null,null,null,0]
[null,null,null,null,null,null,null,null,null,0]
[null,null,null,null,null,null,null,null,null,{"$f":"SUMIF($G$20:$G$1016,$G249465,$H$20:$H$1016)","v":0}]
[null,null,null,null,null,null,null,null,null,0]
[null,null,null,null,null,null,null,null,null,0]
[null,null,null,null,null,null,null,null,null,0]
[null,null,null,null,null,null,null,null,null,0]
[null,null,null,null,null,null,null,null,null,0]
[null,null,null,null,null,null,null,null,null,0]
[null,null,null,null,null,null,null,null,null,0]
[null,null,null,null,null,null,null,null,null,0]
[null,null,null,null,null,null,null,null,null,0]
[null,null,null,null,null,null,null,null,null,0]
[null,null,null,null,null,null,null,null,null,0]
[null,null,null,null,null,null,null,null,null,0]
[null,null,null,null,null,null,null,null,null,{"$f":"SUMIF($G$20:$G$1016,$G251961,$H$20:$H$1016)","v":0}]
[null,null,null,null,null,null,null,null,null,0]
[null,null,null,null,null,null,null,null,null,0]
[null,null,null,null,null,null,null,null,null,0]
[null,null,null,null,null,null,null,null,null,0]
[null,null,null,null,null,null,null,null,null,0]
[null,null,null,null,null,null,null,null,null,0]
[null,null,null,null,null,null,null,null,null,0]
[null,null,null,null,null,null,null,null,null,0]
[null,null,null,null,null,null,null,null,null,0]
[null,null,null,null,null,null,null,null,null,0]
[null,null,null,null,null,null,null,null,null,0]
[null,null,null,null,null,null,null,null,null,0]
[null,null,null,null,null,null,null,null,null,0]
[null,null,null,null,null,null,null,null,null,0]
[null,null,null,null,null,null,null,null,null,0]
[null,null,null,null,null,null,null,null,null,0]
[null,null,null,null,null,null,null,null,null,0]
[null,null,null,null,null,null,null,null,null,0]
[null,null,null,null,null,null,null,null,null,0]
[null,null,null,null,null,null,null,null,null,0]
[null,null,null,null,null,null,null,null,null,0]
[null,null,null,null,null,null,null,null,null,0]
[null,null,null,null,null,null,null,null,null,0]
[null,null,null,null,null,null,null,null,null,0]
[null,null,null,null,null,null,null,null,null,0]
[null,null,null,null,null,null,null,null,null,0]
[null,null,null,null,null,null,null,null,null,0]
[null,null,null,null,null,null,null,null,null,{"$f":"SUMIF($G$20:$G$1016,$G257401,$H$20:$H$1016)","v":0}]
[null,null,null,null,null,null,null,null,null,0]
[null,null,null,null,null,null,null,null,null,0]
[null,null,null,null,null,null,null,null,null,0]
[null,null,null,null,null,null,null,null,null,0]
[null,null,null,null,null,null,null,null,null,0]
[null,null,null,null,null,null,null,null,null,0]
[null,null,null,null,null,null,null,null,null,0]
[null,null,null,null,null,null,null,null,null,0]
[null,null,null,null,null,null,null,null,null,0]
[null,null,null,null,null,null,null,null,null,0]
[null,null,null,null,null,null,null,null,null,0]
[null,null,null,null,null,null,null,null,null,0]
[null,null,null,null,null,null,null,null,null,0]
[null,null,null,null,null,null,null,null,null,0]
[null,null,null,null,null,null,null,null,null,0]
[null,null,null,null,null,null,null,null,null,0]
[null,null,null,null,null,null,null,null,null,0]
[null,null,null,null,null,null,null,null,null,0]
[null,null,null,null,null,null,null,null,null,0]
[null,null,null,null,null,null,null,null,null,0]
[null,null,null,null,null,null,null,null,null,0]
[null,null,null,null,null,null,null,null,null,0]
[null,null,null,null,null,null,null,null,null,0]
[null,null,null,null,null,null,null,null,null,0]
[null,null,null,null,null,null,null,null,null,0]
[null,null,null,null,null,null,null,null,null,0]
[null,null,null,null,null,null,null,null,null,0]
[null,null,null,null,null,null,null,null,null,0]
[null,null,null,null,null,null,null,null,null,0]
[null,null,null,null,null,null,null,null,null,0]
[null,null,null,null,null,null,null,null,null,0]
[null,null,null,null,null,null,null,null,null,0]
[null,null,null,null,null,null,null,null,null,0]
[null,null,null,null,null,null,null,null,null,0]
[null,null,null,null,null,null,null,null,null,0]
[null,null,null,null,null,null,null,null,null,0]
[null,null,null,null,null,null,null,null,null,0]
[null,null,null,null,null,null,null,null,null,0]
[null,null,null,null,null,null,null,null,null,0]
[null,null,null,null,null,null,null,null,null,0]
[null,null,null,null,null,null,null,null,null,0]
[null,null,null,null,null,null,null,null,null,0]
[null,null,null,null,null,null,null,null,null,0]
[null,null,null,null,null,null,null,null,null,0]
[null,null,null,null,null,null,null,null,null,0]
[null,null,null,null,null,null,null,null,null,0]
[null,null,null,null,null,null,null,null,null,0]
[null,null,null,null,null,null,null,null,null,0]
[null,null,null,null,null,null,null,null,null,0]
[null,null,null,null,null,null,null,null,null,0]
[null,null,null,null,null,null,null,null,null,0]
[null,null,null,null,null,null,null,null,null,0]
[null,null,null,null,null,null,null,null,null,0]
[null,null,null,null,null,null,null,null,null,0]
[null,null,null,null,null,null,null,null,null,0]
[null,null,null,null,null,null,null,null,null,0]
[null,null,null,null,null,null,null,null,null,0]
[null,null,null,null,null,null,null,null,null,0]
[null,null,null,null,null,null,null,null,null,0]
[null,null,null,null,null,null,null,null,null,{"$f":"SUMIF($G$20:$G$1016,$G268857,$H$20:$H$1016)","v":0}]
[null,null,null,null,null,null,null,null,null,0]
[null,null,null,null,null,null,null,null,null,0]
[null,null,null,null,null,null,null,null,null,0]
[null,null,null,null,null,null,null,null,null,0]
[null,null,null,null,null,null,null,null,null,0]
[null,null,null,null,null,null,null,null,null,0]
[null,null,null,null,null,null,null,null,null,0]
[null,null,null,null,null,null,null,null,null,0]
[null,null,null,null,null,null,null,null,null,0]
[null,null,null,null,null,null,null,null,null,0]
[null,null,null,null,null,null,null,null,null,0]
[null,null,null,null,null,null,null,null,null,{"$f":"SUMIF($G$20:$G$1016,$G271289,$H$20:$H$1016)","v":0}]
[null,null,null,null,null,null,null,null,null,0]
[null,null,null,null,null,null,null,null,null,0]
[null,null,null,null,null,null,null,null,null,0]
[null,null,null,null,null,null,null,null,null,0]
[null,null,null,null,null,null,null,null,null,0]
[null,null,null,null,null,null,null,null,null,0]
[null,null,null,null,null,null,null,null,null,0]
[null,null,null,null,null,null,null,null,null,0]
[null,null,null,null,null,null,null,null,null,0]
[null,null,null,null,null,null,null,null,null,0]
[null,null,null,null,null,null,null,null,null,0]
[null,null,null,null,null,null,null,null,null,0]
[null,null,null,null,null,null,null,null,null,0]
[null,null,null,null,null,null,null,null,null,0]
[null,null,null,null,null,null,null,null,null,0]
[null,null,null,null,null,null,null,null,null,0]
[null,null,null,null,null,null,null,null,null,0]
[null,null,null,null,null,null,null,null,null,0]
[null,null,null,null,null,null,null,null,null,0]
[null,null,null,null,null,null,null,null,null,0]
[null,null,null,null,null,null,null,null,null,0]
[null,null,null,null,null,null,null,null,null,0]
[null,null,null,null,null,null,null,null,null,0]
[null,null,null,null,null,null,null,null,null,0]
[null,null,null,null,null,null,null,null,null,0]
[null,null,null,null,null,null,null,null,null,0]
[null,null,null,null,null,null,null,null,null,0]
[null,null,null,null,null,null,null,null,null,0]
[null,null,null,null,null,null,null,null,null,0]
[null,null,null,null,null,null,null,null,null,0]
[null,null,null,null,null,null,null,null,null,0]
[null,null,null,null,null,null,null,null,null,0]
[null,null,null,null,null,null,null,null,null,0]
[null,null,null,null,null,null,null,null,null,0]
[null,null,null,null,null,null,null,null,null,0]
[null,null,null,null,null,null,null,null,null,0]
[null,null,null,null,null,null,null,null,null,0]
[null,null,null,null,null,null,null,null,null,0]
[null,null,null,null,null,null,null,null,null,0]
[null,null,null,null,null,null,null,null,null,0]
[null,null,null,null,null,null,null,null,null,0]
[null,null,null,null,null,null,null,null,null,0]
[null,null,null,null,null,null,null,null,null,0]
[null,null,null,null,null,null,null,null,null,0]
[null,null,null,null,null,null,null,null,null,0]
[null,null,null,null,null,null,null,null,null,0]
[null,null,null,null,null,null,null,null,null,0]
[null,null,null,null,null,null,null,null,null,0]
[null,null,null,null,null,null,null,null,null,0]
[null,null,null,null,null,null,null,null,null,0]
[null,null,null,null,null,null,null,null,null,0]
[null,null,null,null,null,null,null,null,null,0]
[null,null,null,null,null,null,null,null,null,0]
[null,null,null,null,null,null,null,null,null,0]
[null,null,null,null,null,null,null,null,null,0]
[null,null,null,null,null,null,null,null,null,0]
[null,null,null,null,null,null,null,null,null,0]
[null,null,null,null,null,null,null,null,null,0]
[null,null,null,null,null,null,null,null,null,0]
[null,null,null,null,null,null,null,null,null,0]
[null,null,null,null,null,null,null,null,null,0]
[null,null,null,null,null,null,null,null,null,0]
[null,null,null,null,null,null,null,null,null,0]
[null,null,null,null,null,null,null,null,null,0]
[null,null,null,null,null,null,null,null,null,0]
[null,null,null,null,null,null,null,null,null,0]
[null,null,null,null,null,null,null,null,null,0]
[null,null,null,null,null,null,null,null,null,0]
[null,null,null,null,null,null,null,null,null,0]
[null,null,null,null,null,null,null,null,null,0]
[null,null,null,null,null,null,null,null,null,0]
[null,null,null,null,null,null,null,null,null,0]
[null,null,null,null,null,null,null,null,null,0]
[null,null,null,null,null,null,null,null,null,0]
[null,null,null,null,null,null,null,null,null,0]
[null,null,null,null,null,null,null,null,null,0]
[null,null,null,null,null,null,null,null,null,0]
[null,null,null,null,null,null,null,null,null,0]
[null,null,null,null,null,null,null,null,null,0]
[null,null,null,null,null,null,null,null,null,0]
[null,null,null,null,null,null,null,null,null,0]
[null,null,null,null,null,null,null,null,null,0]
[null,null,null,null,null,null,null,null,null,0]
[null,null,null,null,null,null,null,null,null,0]
[null,null,null,null,null,null,null,null,null,0]
[null,null,null,null,null,null,null,null,null,0]
[null,null,null,null,null,null,null,null,null,0]
[null,null,null,null,null,null,null,null,null,0]
[null,null,null,null,null,null,null,null,null,0]
[null,null,null,null,null,null,null,null,null,0]
[null,null,null,null,null,null,null,null,null,0]
[null,null,null,null,null,null,null,null,null,0]
[null,null,null,null,null,null,null,null,null,0]
[null,null,null,null,null,null,null,null,null,0]
[null,null,null,null,null,null,null,null,null,0]
[null,null,null,null,null,null,null,null,null,0]
[null,null,null,null,null,null,null,null,null,0]
[null,null,null,null,null,null,null,null,null,0]
[null,null,null,null,null,null,null,null,null,0]
[null,null,null,null,null,null,null,null,null,0]
[null,null,null,null,null,null,null,null,null,0]
[null,null,null,null,null,null,null,null,null,0]
[null,null,null,null,null,null,null,null,null,0]
[null,null,null,null,null,null,null,null,null,0]
[null,null,null,null,null,null,null,null,null,0]
[null,null,null,null,null,null,null,null,null,0]
[null,null,null,null,null,null,null,null,null,0]
[null,null,null,null,null,null,null,null,null,0]
[null,null,null,null,null,null,null,null,null,0]
[null,null,null,null,null,null,null,null,null,0]
[null,null,null,null,null,null,null,null,null,0]
[null,null,null,null,null,null,null,null,null,0]
[null,null,null,null,null,null,null,null,null,0]
[null,null,null,null,null,null,null,null,null,0]
[null,null,null,null,null,null,null,null,null,0]
[null,null,null,null,null,null,null,null,null,0]
[null,null,null,null,null,null,null,null,null,0]
[null,null,null,null,null,null,null,null,null,0]
[null,null,null,null,null,null,null,null,null,{"$f":"SUMIF($G$20:$G$1016,$G294265,$H$20:$H$1016)","v":0}]
[null,null,null,null,null,null,null,null,null,0]
[null,null,null,null,null,null,null,null,null,0]
[null,null,null,null,null,null,null,null,null,0]
[null,null,null,null,null,null,null,null,null,0]
[null,null,null,null,null,null,null,null,null,0]
[null,null,null,null,null,null,null,null,null,0]
[null,null,null,null,null,null,null,null,null,0]
[null,null,null,null,null,null,null,null,null,0]
[null,null,null,null,null,null,null,null,null,0]
[null,null,null,null,null,null,null,null,null,0]
[null,null,null,null,null,null,null,null,null,0]
[null,null,null,null,null,null,null,null,null,0]
[null,null,null,null,null,null,null,null,null,0]
[null,null,null,null,null,null,null,null,null,0]
[null,null,null,null,null,null,null,null,null,0]
[null,null,null,null,null,null,null,null,null,0]
[null,null,null,null,null,null,null,null,null,0]
[null,null,null,null,null,null,null,null,null,0]
[null,null,null,null,null,null,null,null,null,0]
[null,null,null,null,null,null,null,null,null,0]
[null,null,null,null,null,null,null,null,null,0]
[null,null,null,null,null,null,null,null,null,0]
[null,null,null,null,null,null,null,null,null,0]
[null,null,null,null,null,null,null,null,null,0]
[null,null,null,null,null,null,null,null,null,0]
[null,null,null,null,null,null,null,null,null,0]
[null,null,null,null,null,null,null,null,null,0]
[null,null,null,null,null,null,null,null,null,0]
[null,null,null,null,null,null,null,null,null,0]
[null,null,null,null,null,null,null,null,null,0]
[null,null,null,null,null,null,null,null,null,0]
[null,null,null,null,null,null,null,null,null,0]
[null,null,null,null,null,null,null,null,null,0]
[null,null,null,null,null,null,null,null,null,0]
[null,null,null,null,null,null,null,null,null,0]
[null,null,null,null,null,null,null,null,null,0]
[null,null,null,null,null,null,null,null,null,0]
[null,null,null,null,null,null,null,null,null,0]
[null,null,null,null,null,null,null,null,null,0]
[null,null,null,null,null,null,null,null,null,0]
[null,null,null,null,null,null,null,null,null,0]
[null,null,null,null,null,null,null,null,null,0]
[null,null,null,null,null,null,null,null,null,0]
[null,null,null,null,null,null,null,null,null,0]
[null,null,null,null,null,null,null,null,null,0]
[null,null,null,null,null,null,null,null,null,0]
[null,null,null,null,null,null,null,null,null,0]
[null,null,null,null,null,null,null,null,null,0]
[null,null,null,null,null,null,null,null,null,0]
[null,null,null,null,null,null,null,null,null,0]
[null,null,null,null,null,null,null,null,null,0]
[null,null,null,null,null,null,null,null,null,0]
[null,null,null,null,null,null,null,null,null,0]
[null,null,null,null,null,null,null,null,null,0]
[null,null,null,null,null,null,null,null,null,0]
[null,null,null,null,null,null,null,null,null,0]
[null,null,null,null,null,null,null,null,null,0]
[null,null,null,null,null,null,null,null,null,0]
[null,null,null,null,null,null,null,null,null,0]
[null,null,null,null,null,null,null,null,null,0]
[null,null,null,null,null,null,null,null,null,0]
[null,null,null,null,null,null,null,null,null,0]
[null,null,null,null,null,null,null,null,null,0]
[null,null,null,null,null,null,null,null,null,0]
[null,null,null,null,null,null,null,null,null,0]
[null,null,null,null,null,null,null,null,null,0]
[null,null,null,null,null,null,null,null,null,0]
[null,null,null,null,null,null,null,null,null,0]
[null,null,null,null,null,null,null,null,null,0]
[null,null,null,null,null,null,null,null,null,0]
[null,null,null,null,null,null,null,null,null,0]
[null,null,null,null,null,null,null,null,null,0]
[null,null,null,null,null,null,null,null,null,0]
[null,null,null,null,null,null,null,null,null,0]
[null,null,null,null,null,null,null,null,null,0]
[null,null,null,null,null,null,null,null,null,0]
[null,null,null,null,null,null,null,null,null,0]
[null,null,null,null,null,null,null,null,null,0]
[null,null,null,null,null,null,null,null,null,0]
[null,null,null,null,null,null,null,null,null,0]
[null,null,null,null,null,null,null,null,null,0]
[null,null,null,null,null,null,null,null,null,0]
[null,null,null,null,null,null,null,null,null,0]
[null,null,null,null,null,null,null,null,null,0]
[null,null,null,null,null,null,null,null,null,0]
[null,null,null,null,null,null,null,null,null,0]
[null,null,null,null,null,null,null,null,null,0]
[null,null,null,null,null,null,null,null,null,0]
[null,null,null,null,null,null,null,null,null,0]
[null,null,null,null,null,null,null,null,null,0]
[null,null,null,null,null,null,null,null,null,0]
[null,null,null,null,null,null,null,null,null,0]
[null,null,null,null,null,null,null,null,null,0]
[null,null,null,null,null,null,null,null,null,0]
[null,null,null,null,null,null,null,null,null,0]
[null,null,null,null,null,null,null,null,null,0]
[null,null,null,null,null,null,null,null,null,0]
[null,null,null,null,null,null,null,null,null,0]
[null,null,null,null,null,null,null,null,null,0]
[null,null,null,null,null,null,null,null,null,0]
[null,null,null,null,null,null,null,null,null,0]
[null,null,null,null,null,null,null,null,null,0]
[null,null,null,null,null,null,null,null,null,0]
[null,null,null,null,null,null,null,null,null,0]
[null,null,null,null,null,null,null,null,null,0]
[null,null,null,null,null,null,null,null,null,0]
[null,null,null,null,null,null,null,null,null,0]
[null,null,null,null,null,null,null,null,null,0]
[null,null,null,null,null,null,null,null,null,0]
[null,null,null,null,null,null,null,null,null,0]
[null,null,null,null,null,null,null,null,null,0]
[null,null,null,null,null,null,null,null,null,0]
[null,null,null,null,null,null,null,null,null,0]
[null,null,null,null,null,null,null,null,null,0]
[null,null,null,null,null,null,null,null,null,0]
[null,null,null,null,null,null,null,null,null,0]
[null,null,null,null,null,null,null,null,null,0]
[null,null,null,null,null,null,null,null,null,0]
[null,null,null,null,null,null,null,null,null,0]
[null,null,null,null,null,null,null,null,null,0]
[null,null,null,null,null,null,null,null,null,0]
[null,null,null,null,null,null,null,null,null,0]
[null,null,null,null,null,null,null,null,null,0]
[null,null,null,null,null,null,null,null,null,0]
[null,null,null,null,null,null,null,null,null,0]
[null,null,null,null,null,null,null,null,null,0]
[null,null,null,null,null,null,null,null,null,0]
[null,null,null,null,null,null,null,null,null,0]
[null,null,null,null,null,null,null,null,null,0]
[null,null,null,null,null,null,null,null,null,0]
[null,null,null,null,null,null,null,null,null,{"$f":"SUMIF($G$20:$G$1016,$G319673,$H$20:$H$1016)","v":0}]
[null,null,null,null,null,null,null,null,null,0]
[null,null,null,null,null,null,null,null,null,0]
[null,null,null,null,null,null,null,null,null,0]
[null,null,null,null,null,null,null,null,null,0]
[null,null,null,null,null,null,null,null,null,0]
[null,null,null,null,null,null,null,null,null,0]
[null,null,null,null,null,null,null,null,null,0]
[null,null,null,null,null,null,null,null,null,0]
[null,null,null,null,null,null,null,null,null,0]
[null,null,null,null,null,null,null,null,null,0]
[null,null,null,null,null,null,null,null,null,0]
[null,null,null,null,null,null,null,null,null,0]
[null,null,null,null,null,null,null,null,null,0]
[null,null,null,null,null,null,null,null,null,0]
[null,null,null,null,null,null,null,null,null,0]
[null,null,null,null,null,null,null,null,null,0]
[null,null,null,null,null,null,null,null,null,0]
[null,null,null,null,null,null,null,null,null,0]
[null,null,null,null,null,null,null,null,null,0]
[null,null,null,null,null,null,null,null,null,0]
[null,null,null,null,null,null,null,null,null,0]
[null,null,null,null,null,null,null,null,null,0]
[null,null,null,null,null,null,null,null,null,0]
[null,null,null,null,null,null,null,null,null,0]
[null,null,null,null,null,null,null,null,null,0]
[null,null,null,null,null,null,null,null,null,0]
[null,null,null,null,null,null,null,null,null,0]
[null,null,null,null,null,null,null,null,null,0]
[null,null,null,null,null,null,null,null,null,0]
[null,null,null,null,null,null,null,null,null,0]
[null,null,null,null,null,null,null,null,null,0]
[null,null,null,null,null,null,null,null,null,0]
[null,null,null,null,null,null,null,null,null,0]
[null,null,null,null,null,null,null,null,null,0]
[null,null,null,null,null,null,null,null,null,0]
[null,null,null,null,null,null,null,null,null,0]
[null,null,null,null,null,null,null,null,null,0]
[null,null,null,null,null,null,null,null,null,0]
[null,null,null,null,null,null,null,null,null,{"$f":"SUMIF($G$20:$G$1016,$G327225,$H$20:$H$1016)","v":0}]
[null,null,null,null,null,null,null,null,null,0]
[null,null,null,null,null,null,null,null,null,0]
[null,null,null,null,null,null,null,null,null,0]
[null,null,null,null,null,null,null,null,null,0]
[null,null,null,null,null,null,null,null,null,0]
[null,null,null,null,null,null,null,null,null,0]
[null,null,null,null,null,null,null,null,null,0]
[null,null,null,null,null,null,null,null,null,0]
[null,null,null,null,null,null,null,null,null,0]
[null,null,null,null,null,null,null,null,null,0]
[null,null,null,null,null,null,null,null,null,0]
[null,null,null,null,null,null,null,null,null,0]
[null,null,null,null,null,null,null,null,null,0]
[null,null,null,null,null,null,null,null,null,0]
[null,null,null,null,null,null,null,null,null,0]
[null,null,null,null,null,null,null,null,null,0]
[null,null,null,null,null,null,null,null,null,0]
[null,null,null,null,null,null,null,null,null,0]
[null,null,null,null,null,null,null,null,null,0]
[null,null,null,null,null,null,null,null,null,0]
[null,null,null,null,null,null,null,null,null,0]
[null,null,null,null,null,null,null,null,null,0]
[null,null,null,null,null,null,null,null,null,0]
[null,null,null,null,null,null,null,null,null,0]
[null,null,null,null,null,null,null,null,null,0]
[null,null,null,null,null,null,null,null,null,0]
[null,null,null,null,null,null,null,null,null,0]
[null,null,null,null,null,null,null,null,null,0]
[null,null,null,null,null,null,null,null,null,0]
[null,null,null,null,null,null,null,null,null,0]
[null,null,null,null,null,null,null,null,null,0]
[null,null,null,null,null,null,null,null,null,0]
[null,null,null,null,null,null,null,null,null,0]
[null,null,null,null,null,null,null,null,null,0]
[null,null,null,null,null,null,null,null,null,0]
[null,null,null,null,null,null,null,null,null,0]
[null,null,null,null,null,null,null,null,null,0]
[null,null,null,null,null,null,null,null,null,0]
[null,null,null,null,null,null,null,null,null,0]
[null,null,null,null,null,null,null,null,null,0]
[null,null,null,null,null,null,null,null,null,0]
[null,null,null,null,null,null,null,null,null,0]
[null,null,null,null,null,null,null,null,null,0]
[null,null,null,null,null,null,null,null,null,0]
[null,null,null,null,null,null,null,null,null,0]
[null,null,null,null,null,null,null,null,null,0]
[null,null,null,null,null,null,null,null,null,0]
[null,null,null,null,null,null,null,null,null,0]
[null,null,null,null,null,null,null,null,null,0]
[null,null,null,null,null,null,null,null,null,0]
[null,null,null,null,null,null,null,null,null,0]
[null,null,null,null,null,null,null,null,null,0]
[null,null,null,null,null,null,null,null,null,0]
[null,null,null,null,null,null,null,null,null,0]
[null,null,null,null,null,null,null,null,null,0]
[null,null,null,null,null,null,null,null,null,0]
[null,null,null,null,null,null,null,null,null,0]
[null,null,null,null,null,null,null,null,null,0]
[null,null,null,null,null,null,null,null,null,0]
[null,null,null,null,null,null,null,null,null,0]
[null,null,null,null,null,null,null,null,null,0]
[null,null,null,null,null,null,null,null,null,0]
[null,null,null,null,null,null,null,null,null,0]
[null,null,null,null,null,null,null,null,null,0]
[null,null,null,null,null,null,null,null,null,0]
[null,null,null,null,null,null,null,null,null,0]
[null,null,null,null,null,null,null,null,null,0]
[null,null,null,null,null,null,null,null,null,0]
[null,null,null,null,null,null,null,null,null,0]
[null,null,null,null,null,null,null,null,null,0]
[null,null,null,null,null,null,null,null,null,0]
[null,null,null,null,null,null,null,null,null,0]
[null,null,null,null,null,null,null,null,null,0]
[null,null,null,null,null,null,null,null,null,0]
[null,null,null,null,null,null,null,null,null,0]
[null,null,null,null,null,null,null,null,null,0]
[null,null,null,null,null,null,null,null,null,0]
[null,null,null,null,null,null,null,null,null,0]
[null,null,null,null,null,null,null,null,null,0]
[null,null,null,null,null,null,null,null,null,0]
[null,null,null,null,null,null,null,null,null,0]
[null,null,null,null,null,null,null,null,null,0]
[null,null,null,null,null,null,null,null,null,0]
[null,null,null,null,null,null,null,null,null,0]
[null,null,null,null,null,null,null,null,null,0]
[null,null,null,null,null,null,null,null,null,0]
[null,null,null,null,null,null,null,null,null,0]
[null,null,null,null,null,null,null,null,null,0]
[null,null,null,null,null,null,null,null,null,0]
[null,null,null,null,null,null,null,null,null,0]
[null,null,null,null,null,null,null,null,null,0]
[null,null,null,null,null,null,null,null,null,0]
[null,null,null,null,null,null,null,null,null,0]
[null,null,null,null,null,null,null,null,null,0]
[null,null,null,null,null,null,null,null,null,0]
[null,null,null,null,null,null,null,null,null,0]
[null,null,null,null,null,null,null,null,null,0]
[null,null,null,null,null,null,null,null,null,0]
[null,null,null,null,null,null,null,null,null,0]
[null,null,null,null,null,null,null,null,null,0]
[null,null,null,null,null,null,null,null,null,0]
[null,null,null,null,null,null,null,null,null,0]
[null,null,null,null,null,null,null,null,null,0]
[null,null,null,null,null,null,null,null,null,0]
[null,null,null,null,null,null,null,null,null,0]
[null,null,null,null,null,null,null,null,null,0]
[null,null,null,null,null,null,null,null,null,0]
[null,null,null,null,null,null,null,null,null,0]
[null,null,null,null,null,null,null,null,null,0]
[null,null,null,null,null,null,null,null,null,0]
[null,null,null,null,null,null,null,null,null,0]
[null,null,null,null,null,null,null,null,null,0]
[null,null,null,null,null,null,null,null,null,0]
[null,null,null,null,null,null,null,null,null,0]
[null,null,null,null,null,null,null,null,null,0]
[null,null,null,null,null,null,null,null,null,0]
[null,null,null,null,null,null,null,null,null,0]
[null,null,null,null,null,null,null,null,null,0]
[null,null,null,null,null,null,null,null,null,0]
[null,null,null,null,null,null,null,null,null,0]
[null,null,null,null,null,null,null,null,null,0]
[null,null,null,null,null,null,null,null,null,0]
[null,null,null,null,null,null,null,null,null,0]
[null,null,null,null,null,null,null,null,null,0]
[null,null,null,null,null,null,null,null,null,0]
[null,null,null,null,null,null,null,null,null,0]
[null,null,null,null,null,null,null,null,null,0]
[null,null,null,null,null,null,null,null,null,0]
[null,null,null,null,null,null,null,null,null,0]
[null,null,null,null,null,null,null,null,null,0]
[null,null,null,null,null,null,null,null,null,0]
[null,null,null,null,null,null,null,null,null,0]
[null,null,null,null,null,null,null,null,null,0]
[null,null,null,null,null,null,null,null,null,0]
[null,null,null,null,null,null,null,null,null,0]
[null,null,null,null,null,null,null,null,null,0]
[null,null,null,null,null,null,null,null,null,0]
[null,null,null,null,null,null,null,null,null,0]
[null,null,null,null,null,null,null,null,null,0]
[null,null,null,null,null,null,null,null,null,0]
[null,null,null,null,null,null,null,null,null,0]
[null,null,null,null,null,null,null,null,null,0]
[null,null,null,null,null,null,null,null,null,0]
[null,null,null,null,null,null,null,null,null,0]
[null,null,null,null,null,null,null,null,null,0]
[null,null,null,null,null,null,null,null,null,0]
[null,null,null,null,null,null,null,null,null,0]
[null,null,null,null,null,null,null,null,null,0]
[null,null,null,null,null,null,null,null,null,0]
[null,null,null,null,null,null,null,null,null,0]
[null,null,null,null,null,null,null,null,null,0]
[null,null,null,null,null,null,null,null,null,{"$f":"SUMIF($G$20:$G$1016,$G356537,$H$20:$H$1016)","v":0}]
[null,null,null,null,null,null,null,null,null,0]
[null,null,null,null,null,null,null,null,null,0]
[null,null,null,null,null,null,null,null,null,0]
[null,null,null,null,null,null,null,null,null,0]
[null,null,null,null,null,null,null,null,null,0]
[null,null,null,null,null,null,null,null,null,0]
[null,null,null,null,null,null,null,null,null,0]
[null,null,null,null,null,null,null,null,null,0]
[null,null,null,null,null,null,null,null,null,0]
[null,null,null,null,null,null,null,null,null,0]
[null,null,null,null,null,null,null,null,null,0]
[null,null,null,null,null,null,null,null,null,0]
[null,null,null,null,null,null,null,null,null,0]
[null,null,null,null,null,null,null,null,null,0]
[null,null,null,null,null,null,null,null,null,{"$f":"SUMIF($G$20:$G$1016,$G359417,$H$20:$H$1016)","v":0}]
[null,null,null,null,null,null,null,null,null,0]
[null,null,null,null,null,null,null,null,null,0]
[null,null,null,null,null,null,null,null,null,0]
[null,null,null,null,null,null,null,null,null,0]
[null,null,null,null,null,null,null,null,null,0]
[null,null,null,null,null,null,null,null,null,0]
[null,null,null,null,null,null,null,null,null,0]
[null,null,null,null,null,null,null,null,null,0]
[null,null,null,null,null,null,null,null,null,0]
[null,null,null,null,null,null,null,null,null,0]
[null,null,null,null,null,null,null,null,null,0]
[null,null,null,null,null,null,null,null,null,0]
[null,null,null,null,null,null,null,null,null,0]
[null,null,null,null,null,null,null,null,null,0]
[null,null,null,null,null,null,null,null,null,{"$f":"SUMIF($G$20:$G$1016,$G362297,$H$20:$H$1016)","v":0}]
[null,null,null,null,null,null,null,null,null,0]
[null,null,null,null,null,null,null,null,null,0]
[null,null,null,null,null,null,null,null,null,0]
[null,null,null,null,null,null,null,null,null,0]
[null,null,null,null,null,null,null,null,null,0]
[null,null,null,null,null,null,null,null,null,0]
[null,null,null,null,null,null,null,null,null,0]
[null,null,null,null,null,null,null,null,null,0]
[null,null,null,null,null,null,null,null,null,0]
[null,null,null,null,null,null,null,null,null,0]
[null,null,null,null,null,null,null,null,null,0]
[null,null,null,null,null,null,null,null,null,0]
[null,null,null,null,null,null,null,null,null,0]
[null,null,null,null,null,null,null,null,null,0]
[null,null,null,null,null,null,null,null,null,0]
[null,null,null,null,null,null,null,null,null,0]
[null,null,null,null,null,null,null,null,null,0]
[null,null,null,null,null,null,null,null,null,0]
[null,null,null,null,null,null,null,null,null,0]
[null,null,null,null,null,null,null,null,null,0]
[null,null,null,null,null,null,null,null,null,0]
[null,null,null,null,null,null,null,null,null,0]
[null,null,null,null,null,null,null,null,null,0]
[null,null,null,null,null,null,null,null,null,0]
[null,null,null,null,null,null,null,null,null,0]
[null,null,null,null,null,null,null,null,null,0]
[null,null,null,null,null,null,null,null,null,0]
[null,null,null,null,null,null,null,null,null,0]
[null,null,null,null,null,null,null,null,null,0]
[null,null,null,null,null,null,null,null,null,0]
[null,null,null,null,null,null,null,null,null,0]
[null,null,null,null,null,null,null,null,null,0]
[null,null,null,null,null,null,null,null,null,0]
[null,null,null,null,null,null,null,null,null,0]
[null,null,null,null,null,null,null,null,null,0]
[null,null,null,null,null,null,null,null,null,0]
[null,null,null,null,null,null,null,null,null,0]
[null,null,null,null,null,null,null,null,null,0]
[null,null,null,null,null,null,null,null,null,0]
[null,null,null,null,null,null,null,null,null,0]
[null,null,null,null,null,null,null,null,null,0]
[null,null,null,null,null,null,null,null,null,0]
[null,null,null,null,null,null,null,null,null,0]
[null,null,null,null,null,null,null,null,null,0]
[null,null,null,null,null,null,null,null,null,0]
[null,null,null,null,null,null,null,null,null,0]
[null,null,null,null,null,null,null,null,null,0]
[null,null,null,null,null,null,null,null,null,0]
[null,null,null,null,null,null,null,null,null,0]
[null,null,null,null,null,null,null,null,null,0]
[null,null,null,null,null,null,null,null,null,0]
[null,null,null,null,null,null,null,null,null,0]
[null,null,null,null,null,null,null,null,null,0]
[null,null,null,null,null,null,null,null,null,0]
[null,null,null,null,null,null,null,null,null,0]
[null,null,null,null,null,null,null,null,null,0]
[null,null,null,null,null,null,null,null,null,0]
[null,null,null,null,null,null,null,null,null,0]
[null,null,null,null,null,null,null,null,null,0]
[null,null,null,null,null,null,null,null,null,0]
[null,null,null,null,null,null,null,null,null,0]
[null,null,null,null,null,null,null,null,null,0]
[null,null,null,null,null,null,null,null,null,0]
[null,null,null,null,null,null,null,null,null,0]
[null,null,null,null,null,null,null,null,null,0]
[null,null,null,null,null,null,null,null,null,0]
[null,null,null,null,null,null,null,null,null,0]
[null,null,null,null,null,null,null,null,null,0]
[null,null,null,null,null,null,null,null,null,0]
[null,null,null,null,null,null,null,null,null,0]
[null,null,null,null,null,null,null,null,null,0]
[null,null,null,null,null,null,null,null,null,0]
[null,null,null,null,null,null,null,null,null,0]
[null,null,null,null,null,null,null,null,null,0]
[null,null,null,null,null,null,null,null,null,0]
[null,null,null,null,null,null,null,null,null,0]
[null,null,null,null,null,null,null,null,null,0]
[null,null,null,null,null,null,null,null,null,0]
[null,null,null,null,null,null,null,null,null,0]
[null,null,null,null,null,null,null,null,null,0]
[null,null,null,null,null,null,null,null,null,0]
[null,null,null,null,null,null,null,null,null,0]
[null,null,null,null,null,null,null,null,null,0]
[null,null,null,null,null,null,null,null,null,0]
[null,null,null,null,null,null,null,null,null,0]
[null,null,null,null,null,null,null,null,null,0]
[null,null,null,null,null,null,null,null,null,0]
[null,null,null,null,null,null,null,null,null,0]
[null,null,null,null,null,null,null,null,null,0]
[null,null,null,null,null,null,null,null,null,0]
[null,null,null,null,null,null,null,null,null,0]
[null,null,null,null,null,null,null,null,null,0]
[null,null,null,null,null,null,null,null,null,0]
[null,null,null,null,null,null,null,null,null,0]
[null,null,null,null,null,null,null,null,null,0]
[null,null,null,null,null,null,null,null,null,0]
[null,null,null,null,null,null,null,null,null,0]
[null,null,null,null,null,null,null,null,null,0]
[null,null,null,null,null,null,null,null,null,0]
[null,null,null,null,null,null,null,null,null,0]
[null,null,null,null,null,null,null,null,null,{"$f":"SUMIF($G$20:$G$1016,$G381945,$H$20:$H$1016)","v":0}]
[null,null,null,null,null,null,null,null,null,0]
[null,null,null,null,null,null,null,null,null,0]
[null,null,null,null,null,null,null,null,null,0]
[null,null,null,null,null,null,null,null,null,0]
[null,null,null,null,null,null,null,null,null,0]
[null,null,null,null,null,null,null,null,null,0]
[null,null,null,null,null,null,null,null,null,0]
[null,null,null,null,null,null,null,null,null,0]
[null,null,null,null,null,null,null,null,null,0]
[null,null,null,null,null,null,null,null,null,0]
[null,null,null,null,null,null,null,null,null,0]
[null,null,null,null,null,null,null,null,null,0]
[null,null,null,null,null,null,null,null,null,0]
[null,null,null,null,null,null,null,null,null,0]
[null,null,null,null,null,null,null,null,null,{"$f":"SUMIF($G$20:$G$1016,$G384825,$H$20:$H$1016)","v":0}]
[null,null,null,null,null,null,null,null,null,0]
[null,null,null,null,null,null,null,null,null,0]
[null,null,null,null,null,null,null,null,null,0]
[null,null,null,null,null,null,null,null,null,0]
[null,null,null,null,null,null,null,null,null,0]
[null,null,null,null,null,null,null,null,null,0]
[null,null,null,null,null,null,null,null,null,0]
[null,null,null,null,null,null,null,null,null,0]
[null,null,null,null,null,null,null,null,null,0]
[null,null,null,null,null,null,null,null,null,0]
[null,null,null,null,null,null,null,null,null,0]
[null,null,null,null,null,null,null,null,null,0]
[null,null,null,null,null,null,null,null,null,0]
[null,null,null,null,null,null,null,null,null,0]
[null,null,null,null,null,null,null,null,null,0]
[null,null,null,null,null,null,null,null,null,0]
[null,null,null,null,null,null,null,null,null,0]
[null,null,null,null,null,null,null,null,null,0]
[null,null,null,null,null,null,null,null,null,0]
[null,null,null,null,null,null,null,null,null,0]
[null,null,null,null,null,null,null,null,null,0]
[null,null,null,null,null,null,null,null,null,0]
[null,null,null,null,null,null,null,null,null,0]
[null,null,null,null,null,null,null,null,null,0]
[null,null,null,null,null,null,null,null,null,0]
[null,null,null,null,null,null,null,null,null,0]
[null,null,null,null,null,null,null,null,null,0]
[null,null,null,null,null,null,null,null,null,0]
[null,null,null,null,null,null,null,null,null,0]
[null,null,null,null,null,null,null,null,null,0]
[null,null,null,null,null,null,null,null,null,0]
[null,null,null,null,null,null,null,null,null,0]
[null,null,null,null,null,null,null,null,null,0]
[null,null,null,null,null,null,null,null,null,0]
[null,null,null,null,null,null,null,null,null,0]
[null,null,null,null,null,null,null,null,null,0]
[null,null,null,null,null,null,null,null,null,0]
[null,null,null,null,null,null,null,null,null,0]
[null,null,null,null,null,null,null,null,null,0]
[null,null,null,null,null,null,null,null,null,0]
[null,null,null,null,null,null,null,null,null,0]
[null,null,null,null,null,null,null,null,null,0]
[null,null,null,null,null,null,null,null,null,0]
[null,null,null,null,null,null,null,null,null,0]
[null,null,null,null,null,null,null,null,null,0]
[null,null,null,null,null,null,null,null,null,0]
[null,null,null,null,null,null,null,null,null,0]
[null,null,null,null,null,null,null,null,null,0]
[null,null,null,null,null,null,null,null,null,0]
[null,null,null,null,null,null,null,null,null,0]
[null,null,null,null,null,null,null,null,null,0]
[null,null,null,null,null,null,null,null,null,0]
[null,null,null,null,null,null,null,null,null,0]
[null,null,null,null,null,null,null,null,null,0]
[null,null,null,null,null,null,null,null,null,0]
[null,null,null,null,null,null,null,null,null,0]
[null,null,null,null,null,null,null,null,null,0]
[null,null,null,null,null,null,null,null,null,0]
[null,null,null,null,null,null,null,null,null,0]
[null,null,null,null,null,null,null,null,null,0]
[null,null,null,null,null,null,null,null,null,0]
[null,null,null,null,null,null,null,null,null,0]
[null,null,null,null,null,null,null,null,null,0]
[null,null,null,null,null,null,null,null,null,0]
[null,null,null,null,null,null,null,null,null,0]
[null,null,null,null,null,null,null,null,null,{"$f":"SUMIF($G$20:$G$1016,$G388793,$H$20:$H$1016)","v":0}]
[null,null,null,null,null,null,null,null,null,0]
[null,null,null,null,null,null,null,null,null,0]
[null,null,null,null,null,null,null,null,null,0]
[null,null,null,null,null,null,null,null,null,0]
[null,null,null,null,null,null,null,null,null,0]
[null,null,null,null,null,null,null,null,null,0]
[null,null,null,null,null,null,null,null,null,0]
[null,null,null,null,null,null,null,null,null,0]
[null,null,null,null,null,null,null,null,null,0]
[null,null,null,null,null,null,null,null,null,0]
[null,null,null,null,null,null,null,null,null,0]
[null,null,null,null,null,null,null,null,null,0]
[null,null,null,null,null,null,null,null,null,0]
[null,null,null,null,null,null,null,null,null,0]
[null,null,null,null,null,null,null,null,null,0]
[null,null,null,null,null,null,null,null,null,0]
[null,null,null,null,null,null,null,null,null,0]
[null,null,null,null,null,null,null,null,null,0]
[null,null,null,null,null,null,null,null,null,0]
[null,null,null,null,null,null,null,null,null,0]
[null,null,null,null,null,null,null,null,null,0]
[null,null,null,null,null,null,null,null,null,0]
[null,null,null,null,null,null,null,null,null,0]
[null,null,null,null,null,null,null,null,null,0]
[null,null,null,null,null,null,null,null,null,0]
[null,null,null,null,null,null,null,null,null,0]
[null,null,null,null,null,null,null,null,null,0]
[null,null,null,null,null,null,null,null,null,0]
[null,null,null,null,null,null,null,null,null,0]
[null,null,null,null,null,null,null,null,null,0]
[null,null,null,null,null,null,null,null,null,0]
[null,null,null,null,null,null,null,null,null,0]
[null,null,null,null,null,null,null,null,null,0]
[null,null,null,null,null,null,null,null,null,0]
[null,null,null,null,null,null,null,null,null,0]
[null,null,null,null,null,null,null,null,null,0]
[null,null,null,null,null,null,null,null,null,0]
[null,null,null,null,null,null,null,null,null,0]
[null,null,null,null,null,null,null,null,null,0]
[null,null,null,null,null,null,null,null,null,0]
[null,null,null,null,null,null,null,null,null,0]
[null,null,null,null,null,null,null,null,null,0]
[null,null,null,null,null,null,null,null,null,0]
[null,null,null,null,null,null,null,null,null,0]
[null,null,null,null,null,null,null,null,null,0]
[null,null,null,null,null,null,null,null,null,0]
[null,null,null,null,null,null,null,null,null,0]
[null,null,null,null,null,null,null,null,null,0]
[null,null,null,null,null,null,null,null,null,0]
[null,null,null,null,null,null,null,null,null,0]
[null,null,null,null,null,null,null,null,null,0]
[null,null,null,null,null,null,null,null,null,0]
[null,null,null,null,null,null,null,null,null,0]
[null,null,null,null,null,null,null,null,null,0]
[null,null,null,null,null,null,null,null,null,0]
[null,null,null,null,null,null,null,null,null,0]
[null,null,null,null,null,null,null,null,null,0]
[null,null,null,null,null,null,null,null,null,0]
[null,null,null,null,null,null,null,null,null,0]
[null,null,null,null,null,null,null,null,null,0]
[null,null,null,null,null,null,null,null,null,0]
[null,null,null,null,null,null,null,null,null,0]
[null,null,null,null,null,null,null,null,null,0]
[null,null,null,null,null,null,null,null,null,{"$f":"SUMIF($G$20:$G$1016,$G388857,$H$20:$H$1016)","v":0}]
[null,null,null,null,null,null,null,null,null,0]
[null,null,null,null,null,null,null,null,null,0]
[null,null,null,null,null,null,null,null,null,0]
[null,null,null,null,null,null,null,null,null,0]
[null,null,null,null,null,null,null,null,null,0]
[null,null,null,null,null,null,null,null,null,0]
[null,null,null,null,null,null,null,null,null,0]
[null,null,null,null,null,null,null,null,null,0]
[null,null,null,null,null,null,null,null,null,0]
[null,null,null,null,null,null,null,null,null,0]
[null,null,null,null,null,null,null,null,null,0]
[null,null,null,null,null,null,null,null,null,0]
[null,null,null,null,null,null,null,null,null,0]
[null,null,null,null,null,null,null,null,null,0]
[null,null,null,null,null,null,null,null,null,0]
[null,null,null,null,null,null,null,null,null,0]
[null,null,null,null,null,null,null,null,null,0]
[null,null,null,null,null,null,null,null,null,0]
[null,null,null,null,null,null,null,null,null,0]
[null,null,null,null,null,null,null,null,null,0]
[null,null,null,null,null,null,null,null,null,0]
[null,null,null,null,null,null,null,null,null,0]
[null,null,null,null,null,null,null,null,null,0]
[null,null,null,null,null,null,null,null,null,0]
[null,null,null,null,null,null,null,null,null,0]
[null,null,null,null,null,null,null,null,null,0]
[null,null,null,null,null,null,null,null,null,0]
[null,null,null,null,null,null,null,null,null,0]
[null,null,null,null,null,null,null,null,null,0]
[null,null,null,null,null,null,null,null,null,0]
[null,null,null,null,null,null,null,null,null,0]
[null,null,null,null,null,null,null,null,null,0]
[null,null,null,null,null,null,null,null,null,0]
[null,null,null,null,null,null,null,null,null,0]
[null,null,null,null,null,null,null,null,null,0]
[null,null,null,null,null,null,null,null,null,0]
[null,null,null,null,null,null,null,null,null,0]
[null,null,null,null,null,null,null,null,null,0]
[null,null,null,null,null,null,null,null,null,0]
[null,null,null,null,null,null,null,null,null,0]
[null,null,null,null,null,null,null,null,null,0]
[null,null,null,null,null,null,null,null,null,0]
[null,null,null,null,null,null,null,null,null,0]
[null,null,null,null,null,null,null,null,null,0]
[null,null,null,null,null,null,null,null,null,0]
[null,null,null,null,null,null,null,null,null,0]
[null,null,null,null,null,null,null,null,null,0]
[null,null,null,null,null,null,null,null,null,0]
[null,null,null,null,null,null,null,null,null,0]
[null,null,null,null,null,null,null,null,null,0]
[null,null,null,null,null,null,null,null,null,0]
[null,null,null,null,null,null,null,null,null,0]
[null,null,null,null,null,null,null,null,null,0]
[null,null,null,null,null,null,null,null,null,0]
[null,null,null,null,null,null,null,null,null,0]
[null,null,null,null,null,null,null,null,null,0]
[null,null,null,null,null,null,null,null,null,0]
[null,null,null,null,null,null,null,null,null,0]
[null,null,null,null,null,null,null,null,null,0]
[null,null,null,null,null,null,null,null,null,0]
[null,null,null,null,null,null,null,null,null,0]
[null,null,null,null,null,null,null,null,null,0]
[null,null,null,null,null,null,null,null,null,0]
[null,null,null,null,null,null,null,null,null,{"$f":"SUMIF($G$20:$G$1016,$G388921,$H$20:$H$1016)","v":0}]
[null,null,null,null,null,null,null,null,null,0]
[null,null,null,null,null,null,null,null,null,0]
[null,null,null,null,null,null,null,null,null,0]
[null,null,null,null,null,null,null,null,null,0]
[null,null,null,null,null,null,null,null,null,0]
[null,null,null,null,null,null,null,null,null,0]
[null,null,null,null,null,null,null,null,null,0]
[null,null,null,null,null,null,null,null,null,0]
[null,null,null,null,null,null,null,null,null,0]
[null,null,null,null,null,null,null,null,null,0]
[null,null,null,null,null,null,null,null,null,0]
[null,null,null,null,null,null,null,null,null,0]
[null,null,null,null,null,null,null,null,null,0]
[null,null,null,null,null,null,null,null,null,0]
[null,null,null,null,null,null,null,null,null,0]
[null,null,null,null,null,null,null,null,null,0]
[null,null,null,null,null,null,null,null,null,0]
[null,null,null,null,null,null,null,null,null,0]
[null,null,null,null,null,null,null,null,null,0]
[null,null,null,null,null,null,null,null,null,0]
[null,null,null,null,null,null,null,null,null,0]
[null,null,null,null,null,null,null,null,null,0]
[null,null,null,null,null,null,null,null,null,0]
[null,null,null,null,null,null,null,null,null,0]
[null,null,null,null,null,null,null,null,null,0]
[null,null,null,null,null,null,null,null,null,0]
[null,null,null,null,null,null,null,null,null,0]
[null,null,null,null,null,null,null,null,null,0]
[null,null,null,null,null,null,null,null,null,0]
[null,null,null,null,null,null,null,null,null,0]
[null,null,null,null,null,null,null,null,null,0]
[null,null,null,null,null,null,null,null,null,0]
[null,null,null,null,null,null,null,null,null,0]
[null,null,null,null,null,null,null,null,null,0]
[null,null,null,null,null,null,null,null,null,0]
[null,null,null,null,null,null,null,null,null,0]
[null,null,null,null,null,null,null,null,null,0]
[null,null,null,null,null,null,null,null,null,0]
[null,null,null,null,null,null,null,null,null,0]
[null,null,null,null,null,null,null,null,null,0]
[null,null,null,null,null,null,null,null,null,0]
[null,null,null,null,null,null,null,null,null,0]
[null,null,null,null,null,null,null,null,null,0]
[null,null,null,null,null,null,null,null,null,0]
[null,null,null,null,null,null,null,null,null,0]
[null,null,null,null,null,null,null,null,null,0]
[null,null,null,null,null,null,null,null,null,0]
[null,null,null,null,null,null,null,null,null,0]
[null,null,null,null,null,null,null,null,null,0]
[null,null,null,null,null,null,null,null,null,0]
[null,null,null,null,null,null,null,null,null,0]
[null,null,null,null,null,null,null,null,null,0]
[null,null,null,null,null,null,null,null,null,0]
[null,null,null,null,null,null,null,null,null,0]
[null,null,null,null,null,null,null,null,null,0]
[null,null,null,null,null,null,null,null,null,0]
[null,null,null,null,null,null,null,null,null,0]
[null,null,null,null,null,null,null,null,null,0]
[null,null,null,null,null,null,null,null,null,0]
[null,null,null,null,null,null,null,null,null,0]
[null,null,null,null,null,null,null,null,null,0]
[null,null,null,null,null,null,null,null,null,0]
[null,null,null,null,null,null,null,null,null,0]
[null,null,null,null,null,null,null,null,null,{"$f":"SUMIF($G$20:$G$1016,$G388985,$H$20:$H$1016)","v":0}]
[null,null,null,null,null,null,null,null,null,0]
[null,null,null,null,null,null,null,null,null,0]
[null,null,null,null,null,null,null,null,null,0]
[null,null,null,null,null,null,null,null,null,0]
[null,null,null,null,null,null,null,null,null,0]
[null,null,null,null,null,null,null,null,null,0]
[null,null,null,null,null,null,null,null,null,0]
[null,null,null,null,null,null,null,null,null,0]
[null,null,null,null,null,null,null,null,null,0]
[null,null,null,null,null,null,null,null,null,0]
[null,null,null,null,null,null,null,null,null,0]
[null,null,null,null,null,null,null,null,null,0]
[null,null,null,null,null,null,null,null,null,0]
[null,null,null,null,null,null,null,null,null,0]
[null,null,null,null,null,null,null,null,null,0]
[null,null,null,null,null,null,null,null,null,0]
[null,null,null,null,null,null,null,null,null,0]
[null,null,null,null,null,null,null,null,null,0]
[null,null,null,null,null,null,null,null,null,0]
[null,null,null,null,null,null,null,null,null,0]
[null,null,null,null,null,null,null,null,null,0]
[null,null,null,null,null,null,null,null,null,0]
[null,null,null,null,null,null,null,null,null,0]
[null,null,null,null,null,null,null,null,null,0]
[null,null,null,null,null,null,null,null,null,0]
[null,null,null,null,null,null,null,null,null,0]
[null,null,null,null,null,null,null,null,null,0]
[null,null,null,null,null,null,null,null,null,0]
[null,null,null,null,null,null,null,null,null,0]
[null,null,null,null,null,null,null,null,null,0]
[null,null,null,null,null,null,null,null,null,0]
[null,null,null,null,null,null,null,null,null,0]
[null,null,null,null,null,null,null,null,null,0]
[null,null,null,null,null,null,null,null,null,0]
[null,null,null,null,null,null,null,null,null,0]
[null,null,null,null,null,null,null,null,null,0]
[null,null,null,null,null,null,null,null,null,0]
[null,null,null,null,null,null,null,null,null,0]
[null,null,null,null,null,null,null,null,null,0]
[null,null,null,null,null,null,null,null,null,0]
[null,null,null,null,null,null,null,null,null,0]
[null,null,null,null,null,null,null,null,null,0]
[null,null,null,null,null,null,null,null,null,0]
[null,null,null,null,null,null,null,null,null,0]
[null,null,null,null,null,null,null,null,null,0]
[null,null,null,null,null,null,null,null,null,0]
[null,null,null,null,null,null,null,null,null,0]
[null,null,null,null,null,null,null,null,null,0]
[null,null,null,null,null,null,null,null,null,0]
[null,null,null,null,null,null,null,null,null,0]
[null,null,null,null,null,null,null,null,null,0]
[null,null,null,null,null,null,null,null,null,0]
[null,null,null,null,null,null,null,null,null,0]
[null,null,null,null,null,null,null,null,null,0]
[null,null,null,null,null,null,null,null,null,0]
[null,null,null,null,null,null,null,null,null,0]
[null,null,null,null,null,null,null,null,null,0]
[null,null,null,null,null,null,null,null,null,0]
[null,null,null,null,null,null,null,null,null,0]
[null,null,null,null,null,null,null,null,null,0]
[null,null,null,null,null,null,null,null,null,0]
[null,null,null,null,null,null,null,null,null,0]
[null,null,null,null,null,null,null,null,null,0]
[null,null,null,null,null,null,null,null,null,{"$f":"SUMIF($G$20:$G$1016,$G389049,$H$20:$H$1016)","v":0}]
[null,null,null,null,null,null,null,null,null,0]
[null,null,null,null,null,null,null,null,null,0]
[null,null,null,null,null,null,null,null,null,0]
[null,null,null,null,null,null,null,null,null,0]
[null,null,null,null,null,null,null,null,null,0]
[null,null,null,null,null,null,null,null,null,0]
[null,null,null,null,null,null,null,null,null,0]
[null,null,null,null,null,null,null,null,null,0]
[null,null,null,null,null,null,null,null,null,0]
[null,null,null,null,null,null,null,null,null,0]
[null,null,null,null,null,null,null,null,null,0]
[null,null,null,null,null,null,null,null,null,0]
[null,null,null,null,null,null,null,null,null,0]
[null,null,null,null,null,null,null,null,null,0]
[null,null,null,null,null,null,null,null,null,0]
[null,null,null,null,null,null,null,null,null,0]
[null,null,null,null,null,null,null,null,null,0]
[null,null,null,null,null,null,null,null,null,0]
[null,null,null,null,null,null,null,null,null,0]
[null,null,null,null,null,null,null,null,null,0]
[null,null,null,null,null,null,null,null,null,0]
[null,null,null,null,null,null,null,null,null,0]
[null,null,null,null,null,null,null,null,null,0]
[null,null,null,null,null,null,null,null,null,0]
[null,null,null,null,null,null,null,null,null,0]
[null,null,null,null,null,null,null,null,null,0]
[null,null,null,null,null,null,null,null,null,0]
[null,null,null,null,null,null,null,null,null,0]
[null,null,null,null,null,null,null,null,null,0]
[null,null,null,null,null,null,null,null,null,0]
[null,null,null,null,null,null,null,null,null,0]
[null,null,null,null,null,null,null,null,null,0]
[null,null,null,null,null,null,null,null,null,0]
[null,null,null,null,null,null,null,null,null,0]
[null,null,null,null,null,null,null,null,null,0]
[null,null,null,null,null,null,null,null,null,0]
[null,null,null,null,null,null,null,null,null,0]
[null,null,null,null,null,null,null,null,null,0]
[null,null,null,null,null,null,null,null,null,0]
[null,null,null,null,null,null,null,null,null,0]
[null,null,null,null,null,null,null,null,null,0]
[null,null,null,null,null,null,null,null,null,0]
[null,null,null,null,null,null,null,null,null,0]
[null,null,null,null,null,null,null,null,null,0]
[null,null,null,null,null,null,null,null,null,0]
[null,null,null,null,null,null,null,null,null,0]
[null,null,null,null,null,null,null,null,null,0]
[null,null,null,null,null,null,null,null,null,0]
[null,null,null,null,null,null,null,null,null,0]
[null,null,null,null,null,null,null,null,null,0]
[null,null,null,null,null,null,null,null,null,0]
[null,null,null,null,null,null,null,null,null,0]
[null,null,null,null,null,null,null,null,null,0]
[null,null,null,null,null,null,null,null,null,0]
[null,null,null,null,null,null,null,null,null,0]
[null,null,null,null,null,null,null,null,null,0]
[null,null,null,null,null,null,null,null,null,0]
[null,null,null,null,null,null,null,null,null,0]
[null,null,null,null,null,null,null,null,null,0]
[null,null,null,null,null,null,null,null,null,0]
[null,null,null,null,null,null,null,null,null,0]
[null,null,null,null,null,null,null,null,null,0]
[null,null,null,null,null,null,null,null,null,0]
[null,null,null,null,null,null,null,null,null,{"$f":"SUMIF($G$20:$G$1016,$G389113,$H$20:$H$1016)","v":0}]
[null,null,null,null,null,null,null,null,null,0]
[null,null,null,null,null,null,null,null,null,0]
[null,null,null,null,null,null,null,null,null,0]
[null,null,null,null,null,null,null,null,null,0]
[null,null,null,null,null,null,null,null,null,0]
[null,null,null,null,null,null,null,null,null,0]
[null,null,null,null,null,null,null,null,null,0]
[null,null,null,null,null,null,null,null,null,0]
[null,null,null,null,null,null,null,null,null,0]
[null,null,null,null,null,null,null,null,null,0]
[null,null,null,null,null,null,null,null,null,0]
[null,null,null,null,null,null,null,null,null,0]
[null,null,null,null,null,null,null,null,null,0]
[null,null,null,null,null,null,null,null,null,0]
[null,null,null,null,null,null,null,null,null,0]
[null,null,null,null,null,null,null,null,null,0]
[null,null,null,null,null,null,null,null,null,0]
[null,null,null,null,null,null,null,null,null,0]
[null,null,null,null,null,null,null,null,null,0]
[null,null,null,null,null,null,null,null,null,0]
[null,null,null,null,null,null,null,null,null,0]
[null,null,null,null,null,null,null,null,null,0]
[null,null,null,null,null,null,null,null,null,0]
[null,null,null,null,null,null,null,null,null,0]
[null,null,null,null,null,null,null,null,null,0]
[null,null,null,null,null,null,null,null,null,0]
[null,null,null,null,null,null,null,null,null,0]
[null,null,null,null,null,null,null,null,null,0]
[null,null,null,null,null,null,null,null,null,0]
[null,null,null,null,null,null,null,null,null,0]
[null,null,null,null,null,null,null,null,null,0]
[null,null,null,null,null,null,null,null,null,0]
[null,null,null,null,null,null,null,null,null,0]
[null,null,null,null,null,null,null,null,null,0]
[null,null,null,null,null,null,null,null,null,0]
[null,null,null,null,null,null,null,null,null,0]
[null,null,null,null,null,null,null,null,null,0]
[null,null,null,null,null,null,null,null,null,0]
[null,null,null,null,null,null,null,null,null,0]
[null,null,null,null,null,null,null,null,null,0]
[null,null,null,null,null,null,null,null,null,0]
[null,null,null,null,null,null,null,null,null,0]
[null,null,null,null,null,null,null,null,null,0]
[null,null,null,null,null,null,null,null,null,0]
[null,null,null,null,null,null,null,null,null,0]
[null,null,null,null,null,null,null,null,null,0]
[null,null,null,null,null,null,null,null,null,0]
[null,null,null,null,null,null,null,null,null,0]
[null,null,null,null,null,null,null,null,null,0]
[null,null,null,null,null,null,null,null,null,0]
[null,null,null,null,null,null,null,null,null,0]
[null,null,null,null,null,null,null,null,null,0]
[null,null,null,null,null,null,null,null,null,0]
[null,null,null,null,null,null,null,null,null,0]
[null,null,null,null,null,null,null,null,null,0]
[null,null,null,null,null,null,null,null,null,0]
[null,null,null,null,null,null,null,null,null,0]
[null,null,null,null,null,null,null,null,null,0]
[null,null,null,null,null,null,null,null,null,0]
[null,null,null,null,null,null,null,null,null,0]
[null,null,null,null,null,null,null,null,null,0]
[null,null,null,null,null,null,null,null,null,0]
[null,null,null,null,null,null,null,null,null,0]
[null,null,null,null,null,null,null,null,null,{"$f":"SUMIF($G$20:$G$1016,$G389177,$H$20:$H$1016)","v":0}]
[null,null,null,null,null,null,null,null,null,0]
[null,null,null,null,null,null,null,null,null,0]
[null,null,null,null,null,null,null,null,null,0]
[null,null,null,null,null,null,null,null,null,0]
[null,null,null,null,null,null,null,null,null,0]
[null,null,null,null,null,null,null,null,null,0]
[null,null,null,null,null,null,null,null,null,0]
[null,null,null,null,null,null,null,null,null,0]
[null,null,null,null,null,null,null,null,null,0]
[null,null,null,null,null,null,null,null,null,0]
[null,null,null,null,null,null,null,null,null,0]
[null,null,null,null,null,null,null,null,null,0]
[null,null,null,null,null,null,null,null,null,0]
[null,null,null,null,null,null,null,null,null,0]
[null,null,null,null,null,null,null,null,null,0]
[null,null,null,null,null,null,null,null,null,0]
[null,null,null,null,null,null,null,null,null,0]
[null,null,null,null,null,null,null,null,null,0]
[null,null,null,null,null,null,null,null,null,0]
[null,null,null,null,null,null,null,null,null,0]
[null,null,null,null,null,null,null,null,null,0]
[null,null,null,null,null,null,null,null,null,0]
[null,null,null,null,null,null,null,null,null,0]
[null,null,null,null,null,null,null,null,null,0]
[null,null,null,null,null,null,null,null,null,0]
[null,null,null,null,null,null,null,null,null,0]
[null,null,null,null,null,null,null,null,null,0]
[null,null,null,null,null,null,null,null,null,0]
[null,null,null,null,null,null,null,null,null,0]
[null,null,null,null,null,null,null,null,null,0]
[null,null,null,null,null,null,null,null,null,0]
[null,null,null,null,null,null,null,null,null,0]
[null,null,null,null,null,null,null,null,null,0]
[null,null,null,null,null,null,null,null,null,0]
[null,null,null,null,null,null,null,null,null,0]
[null,null,null,null,null,null,null,null,null,0]
[null,null,null,null,null,null,null,null,null,0]
[null,null,null,null,null,null,null,null,null,0]
[null,null,null,null,null,null,null,null,null,0]
[null,null,null,null,null,null,null,null,null,0]
[null,null,null,null,null,null,null,null,null,0]
[null,null,null,null,null,null,null,null,null,0]
[null,null,null,null,null,null,null,null,null,0]
[null,null,null,null,null,null,null,null,null,0]
[null,null,null,null,null,null,null,null,null,0]
[null,null,null,null,null,null,null,null,null,0]
[null,null,null,null,null,null,null,null,null,0]
[null,null,null,null,null,null,null,null,null,0]
[null,null,null,null,null,null,null,null,null,0]
[null,null,null,null,null,null,null,null,null,0]
[null,null,null,null,null,null,null,null,null,0]
[null,null,null,null,null,null,null,null,null,0]
[null,null,null,null,null,null,null,null,null,0]
[null,null,null,null,null,null,null,null,null,0]
[null,null,null,null,null,null,null,null,null,0]
[null,null,null,null,null,null,null,null,null,0]
[null,null,null,null,null,null,null,null,null,0]
[null,null,null,null,null,null,null,null,null,0]
[null,null,null,null,null,null,null,null,null,0]
[null,null,null,null,null,null,null,null,null,0]
[null,null,null,null,null,null,null,null,null,0]
[null,null,null,null,null,null,null,null,null,0]
[null,null,null,null,null,null,null,null,null,0]
[null,null,null,null,null,null,null,null,null,{"$f":"SUMIF($G$20:$G$1016,$G389241,$H$20:$H$1016)","v":0}]
[null,null,null,null,null,null,null,null,null,0]
[null,null,null,null,null,null,null,null,null,0]
[null,null,null,null,null,null,null,null,null,0]
[null,null,null,null,null,null,null,null,null,0]
[null,null,null,null,null,null,null,null,null,0]
[null,null,null,null,null,null,null,null,null,0]

{"sheet":"2.bTë ardhura-jopublik-nënatyrë","index":3,"n_rows":1016,"n_cols":11,"rows_kept":1016,"cut":false,"hidden":false,"merged":[[17,6,17,7],[15,0,15,2],[15,3,15,4],[14,6,14,7],[15,6,15,7],[16,6,16,7]]}
[]
[]
[]
[]
[]
[]
[]
[null,null,null,null,"REPUBLIKA E SHQIPËRISË\n"]
[null,null,null,null,"KOMISIONI QENDROR I ZGJEDHJEVE"]
[]
[null,"Emri i Partisë Politike",null,null,null,"Shkronjat Nistore"]
[]
[null,"Emri I Kandidatit",null,null,null,"Bashkia"]
[]
["2.b  Të ardhura, dhurime në natyrë - Financime jopublike"]
[{"$f":"\"Ju lutemi konfirmoni nëse nuk keni gjë për të raportuar\"&A15","v":"Ju lutemi konfirmoni nëse nuk keni gjë për të raportuar2.b  Të ardhura, dhurime në natyrë - Financime jopublike"}]
[]
[]
["A. Statusi i dhuruesit","B. Emri i dhuruesit","C. Mbiemri i dhuruesit","D. Adresa  (rreshti 1)","E. Adresa (rreshti 2)","F. Kodi postar i adreses","G. Numri i identifikimit","H. Vlera e dhurimit","I. Data e dhurimit","J. Totali i agreguar i dhurimeve nga dhuruesi për zgjedhjet ","K. Përshkrimi i dhurimit në natyrë"]
[null,null,null,null,null,null,null,null,null,{"$f":"SUMIF($G$20:$G$5016,$G20,$H$20:$H$5016)+SUMIF('2.aTë ardhura-jopublik-monetare'!$G$20:$G$1016,'2.bTë ardhura-jopublik-nënatyrë'!$G20,'2.aTë ardhura-jopublik-monetare'!$H$20:$H$1016)","v":0}]
[null,null,null,null,null,null,null,null,null,{"$f":"SUMIF($G$20:$G$5016,$G21,$H$20:$H$5016)+SUMIF('2.aTë ardhura-jopublik-monetare'!$G$20:$G$1016,'2.bTë ardhura-jopublik-nënatyrë'!$G21,'2.aTë ardhura-jopublik-monetare'!$H$20:$H$1016)","v":0}]
[null,null,null,null,null,null,null,null,null,{"$f":"SUMIF($G$20:$G$5016,$G22,$H$20:$H$5016)+SUMIF('2.aTë ardhura-jopublik-monetare'!$G$20:$G$1016,'2.bTë ardhura-jopublik-nënatyrë'!$G22,'2.aTë ardhura-jopublik-monetare'!$H$20:$H$1016)","v":0}]
[null,null,null,null,null,null,null,null,null,{"$f":"SUMIF($G$20:$G$5016,$G23,$H$20:$H$5016)+SUMIF('2.aTë ardhura-jopublik-monetare'!$G$20:$G$1016,'2.bTë ardhura-jopublik-nënatyrë'!$G23,'2.aTë ardhura-jopublik-monetare'!$H$20:$H$1016)","v":0}]
[null,null,null,null,null,null,null,null,null,{"$f":"SUMIF($G$20:$G$5016,$G24,$H$20:$H$5016)+SUMIF('2.aTë ardhura-jopublik-monetare'!$G$20:$G$1016,'2.bTë ardhura-jopublik-nënatyrë'!$G24,'2.aTë ardhura-jopublik-monetare'!$H$20:$H$1016)","v":0}]
[null,null,null,null,null,null,null,null,null,{"$f":"SUMIF($G$20:$G$5016,$G25,$H$20:$H$5016)+SUMIF('2.aTë ardhura-jopublik-monetare'!$G$20:$G$1016,'2.bTë ardhura-jopublik-nënatyrë'!$G25,'2.aTë ardhura-jopublik-monetare'!$H$20:$H$1016)","v":0}]
[null,null,null,null,null,null,null,null,null,{"$f":"SUMIF($G$20:$G$5016,$G26,$H$20:$H$5016)+SUMIF('2.aTë ardhura-jopublik-monetare'!$G$20:$G$1016,'2.bTë ardhura-jopublik-nënatyrë'!$G26,'2.aTë ardhura-jopublik-monetare'!$H$20:$H$1016)","v":0}]
[null,null,null,null,null,null,null,null,null,{"$f":"SUMIF($G$20:$G$5016,$G27,$H$20:$H$5016)+SUMIF('2.aTë ardhura-jopublik-monetare'!$G$20:$G$1016,'2.bTë ardhura-jopublik-nënatyrë'!$G27,'2.aTë ardhura-jopublik-monetare'!$H$20:$H$1016)","v":0}]
[null,null,null,null,null,null,null,null,null,{"$f":"SUMIF($G$20:$G$5016,$G28,$H$20:$H$5016)+SUMIF('2.aTë ardhura-jopublik-monetare'!$G$20:$G$1016,'2.bTë ardhura-jopublik-nënatyrë'!$G28,'2.aTë ardhura-jopublik-monetare'!$H$20:$H$1016)","v":0}]
[null,null,null,null,null,null,null,null,null,{"$f":"SUMIF($G$20:$G$5016,$G29,$H$20:$H$5016)+SUMIF('2.aTë ardhura-jopublik-monetare'!$G$20:$G$1016,'2.bTë ardhura-jopublik-nënatyrë'!$G29,'2.aTë ardhura-jopublik-monetare'!$H$20:$H$1016)","v":0}]
[null,null,null,null,null,null,null,null,null,{"$f":"SUMIF($G$20:$G$5016,$G30,$H$20:$H$5016)+SUMIF('2.aTë ardhura-jopublik-monetare'!$G$20:$G$1016,'2.bTë ardhura-jopublik-nënatyrë'!$G30,'2.aTë ardhura-jopublik-monetare'!$H$20:$H$1016)","v":0}]
[null,null,null,null,null,null,null,null,null,{"$f":"SUMIF($G$20:$G$5016,$G31,$H$20:$H$5016)+SUMIF('2.aTë ardhura-jopublik-monetare'!$G$20:$G$1016,'2.bTë ardhura-jopublik-nënatyrë'!$G31,'2.aTë ardhura-jopublik-monetare'!$H$20:$H$1016)","v":0}]
[null,null,null,null,null,null,null,null,null,{"$f":"SUMIF($G$20:$G$5016,$G32,$H$20:$H$5016)+SUMIF('2.aTë ardhura-jopublik-monetare'!$G$20:$G$1016,'2.bTë ardhura-jopublik-nënatyrë'!$G32,'2.aTë ardhura-jopublik-monetare'!$H$20:$H$1016)","v":0}]
[null,null,null,null,null,null,null,null,null,{"$f":"SUMIF($G$20:$G$5016,$G33,$H$20:$H$5016)+SUMIF('2.aTë ardhura-jopublik-monetare'!$G$20:$G$1016,'2.bTë ardhura-jopublik-nënatyrë'!$G33,'2.aTë ardhura-jopublik-monetare'!$H$20:$H$1016)","v":0}]
[null,null,null,null,null,null,null,null,null,{"$f":"SUMIF($G$20:$G$5016,$G34,$H$20:$H$5016)+SUMIF('2.aTë ardhura-jopublik-monetare'!$G$20:$G$1016,'2.bTë ardhura-jopublik-nënatyrë'!$G34,'2.aTë ardhura-jopublik-monetare'!$H$20:$H$1016)","v":0}]
[null,null,null,"FINANCIERI",null,null,null,"APROVUESI",null,{"$f":"SUMIF($G$20:$G$5016,$G35,$H$20:$H$5016)+SUMIF('2.aTë ardhura-jopublik-monetare'!$G$20:$G$1016,'2.bTë ardhura-jopublik-nënatyrë'!$G35,'2.aTë ardhura-jopublik-monetare'!$H$20:$H$1016)","v":0}]
[null,null,null,null,null,null,null,null,null,{"$f":"SUMIF($G$20:$G$5016,$G36,$H$20:$H$5016)+SUMIF('2.aTë ardhura-jopublik-monetare'!$G$20:$G$1016,'2.bTë ardhura-jopublik-nënatyrë'!$G36,'2.aTë ardhura-jopublik-monetare'!$H$20:$H$1016)","v":0}]
[null,null,null,null,null,null,null,null,null,{"$f":"SUMIF($G$20:$G$5016,$G37,$H$20:$H$5016)+SUMIF('2.aTë ardhura-jopublik-monetare'!$G$20:$G$1016,'2.bTë ardhura-jopublik-nënatyrë'!$G37,'2.aTë ardhura-jopublik-monetare'!$H$20:$H$1016)","v":0}]
[null,null,null,"Emër Mbiemër Firmë",null,null,null,"Emër Mbiemër Firmë",null,{"$f":"SUMIF($G$20:$G$5016,$G38,$H$20:$H$5016)+SUMIF('2.aTë ardhura-jopublik-monetare'!$G$20:$G$1016,'2.bTë ardhura-jopublik-nënatyrë'!$G38,'2.aTë ardhura-jopublik-monetare'!$H$20:$H$1016)","v":0}]
[null,null,null,null,null,null,null,null,null,{"$f":"SUMIF($G$20:$G$5016,$G39,$H$20:$H$5016)+SUMIF('2.aTë ardhura-jopublik-monetare'!$G$20:$G$1016,'2.bTë ardhura-jopublik-nënatyrë'!$G39,'2.aTë ardhura-jopublik-monetare'!$H$20:$H$1016)","v":0}]
[null,null,null,null,null,null,null,null,null,{"$f":"SUMIF($G$20:$G$5016,$G40,$H$20:$H$5016)+SUMIF('2.aTë ardhura-jopublik-monetare'!$G$20:$G$1016,'2.bTë ardhura-jopublik-nënatyrë'!$G40,'2.aTë ardhura-jopublik-monetare'!$H$20:$H$1016)","v":0}]
[null,null,null,null,null,null,null,null,null,{"$f":"SUMIF($G$20:$G$5016,$G41,$H$20:$H$5016)+SUMIF('2.aTë ardhura-jopublik-monetare'!$G$20:$G$1016,'2.bTë ardhura-jopublik-nënatyrë'!$G41,'2.aTë ardhura-jopublik-monetare'!$H$20:$H$1016)","v":0}]
[null,null,null,null,null,null,null,null,null,{"$f":"SUMIF($G$20:$G$5016,$G42,$H$20:$H$5016)+SUMIF('2.aTë ardhura-jopublik-monetare'!$G$20:$G$1016,'2.bTë ardhura-jopublik-nënatyrë'!$G42,'2.aTë ardhura-jopublik-monetare'!$H$20:$H$1016)","v":0}]
[null,null,null,null,null,null,null,null,null,{"$f":"SUMIF($G$20:$G$5016,$G43,$H$20:$H$5016)+SUMIF('2.aTë ardhura-jopublik-monetare'!$G$20:$G$1016,'2.bTë ardhura-jopublik-nënatyrë'!$G43,'2.aTë ardhura-jopublik-monetare'!$H$20:$H$1016)","v":0}]
[null,null,null,null,null,null,null,null,null,{"$f":"SUMIF($G$20:$G$5016,$G44,$H$20:$H$5016)+SUMIF('2.aTë ardhura-jopublik-monetare'!$G$20:$G$1016,'2.bTë ardhura-jopublik-nënatyrë'!$G44,'2.aTë ardhura-jopublik-monetare'!$H$20:$H$1016)","v":0}]
[null,null,null,null,null,null,null,null,null,{"$f":"SUMIF($G$20:$G$5016,$G45,$H$20:$H$5016)+SUMIF('2.aTë ardhura-jopublik-monetare'!$G$20:$G$1016,'2.bTë ardhura-jopublik-nënatyrë'!$G45,'2.aTë ardhura-jopublik-monetare'!$H$20:$H$1016)","v":0}]
[null,null,null,null,null,null,null,null,null,{"$f":"SUMIF($G$20:$G$5016,$G46,$H$20:$H$5016)+SUMIF('2.aTë ardhura-jopublik-monetare'!$G$20:$G$1016,'2.bTë ardhura-jopublik-nënatyrë'!$G46,'2.aTë ardhura-jopublik-monetare'!$H$20:$H$1016)","v":0}]
[null,null,null,null,null,null,null,null,null,{"$f":"SUMIF($G$20:$G$5016,$G47,$H$20:$H$5016)+SUMIF('2.aTë ardhura-jopublik-monetare'!$G$20:$G$1016,'2.bTë ardhura-jopublik-nënatyrë'!$G47,'2.aTë ardhura-jopublik-monetare'!$H$20:$H$1016)","v":0}]
[null,null,null,null,null,null,null,null,null,{"$f":"SUMIF($G$20:$G$5016,$G48,$H$20:$H$5016)+SUMIF('2.aTë ardhura-jopublik-monetare'!$G$20:$G$1016,'2.bTë ardhura-jopublik-nënatyrë'!$G48,'2.aTë ardhura-jopublik-monetare'!$H$20:$H$1016)","v":0}]
[null,null,null,null,null,null,null,null,null,{"$f":"SUMIF($G$20:$G$5016,$G49,$H$20:$H$5016)+SUMIF('2.aTë ardhura-jopublik-monetare'!$G$20:$G$1016,'2.bTë ardhura-jopublik-nënatyrë'!$G49,'2.aTë ardhura-jopublik-monetare'!$H$20:$H$1016)","v":0}]
[null,null,null,null,null,null,null,null,null,{"$f":"SUMIF($G$20:$G$5016,$G50,$H$20:$H$5016)+SUMIF('2.aTë ardhura-jopublik-monetare'!$G$20:$G$1016,'2.bTë ardhura-jopublik-nënatyrë'!$G50,'2.aTë ardhura-jopublik-monetare'!$H$20:$H$1016)","v":0}]
[null,null,null,null,null,null,null,null,null,{"$f":"SUMIF($G$20:$G$5016,$G51,$H$20:$H$5016)+SUMIF('2.aTë ardhura-jopublik-monetare'!$G$20:$G$1016,'2.bTë ardhura-jopublik-nënatyrë'!$G51,'2.aTë ardhura-jopublik-monetare'!$H$20:$H$1016)","v":0}]
[null,null,null,null,null,null,null,null,null,{"$f":"SUMIF($G$20:$G$5016,$G52,$H$20:$H$5016)+SUMIF('2.aTë ardhura-jopublik-monetare'!$G$20:$G$1016,'2.bTë ardhura-jopublik-nënatyrë'!$G52,'2.aTë ardhura-jopublik-monetare'!$H$20:$H$1016)","v":0}]
[null,null,null,null,null,null,null,null,null,{"$f":"SUMIF($G$20:$G$5016,$G53,$H$20:$H$5016)+SUMIF('2.aTë ardhura-jopublik-monetare'!$G$20:$G$1016,'2.bTë ardhura-jopublik-nënatyrë'!$G53,'2.aTë ardhura-jopublik-monetare'!$H$20:$H$1016)","v":0}]
[null,null,null,null,null,null,null,null,null,{"$f":"SUMIF($G$20:$G$5016,$G54,$H$20:$H$5016)+SUMIF('2.aTë ardhura-jopublik-monetare'!$G$20:$G$1016,'2.bTë ardhura-jopublik-nënatyrë'!$G54,'2.aTë ardhura-jopublik-monetare'!$H$20:$H$1016)","v":0}]
[null,null,null,null,null,null,null,null,null,{"$f":"SUMIF($G$20:$G$5016,$G55,$H$20:$H$5016)+SUMIF('2.aTë ardhura-jopublik-monetare'!$G$20:$G$1016,'2.bTë ardhura-jopublik-nënatyrë'!$G55,'2.aTë ardhura-jopublik-monetare'!$H$20:$H$1016)","v":0}]
[null,null,null,null,null,null,null,null,null,{"$f":"SUMIF($G$20:$G$5016,$G56,$H$20:$H$5016)+SUMIF('2.aTë ardhura-jopublik-monetare'!$G$20:$G$1016,'2.bTë ardhura-jopublik-nënatyrë'!$G56,'2.aTë ardhura-jopublik-monetare'!$H$20:$H$1016)","v":0}]
[null,null,null,null,null,null,null,null,null,{"$f":"SUMIF($G$20:$G$5016,$G57,$H$20:$H$5016)+SUMIF('2.aTë ardhura-jopublik-monetare'!$G$20:$G$1016,'2.bTë ardhura-jopublik-nënatyrë'!$G57,'2.aTë ardhura-jopublik-monetare'!$H$20:$H$1016)","v":0}]
[null,null,null,null,null,null,null,null,null,{"$f":"SUMIF($G$20:$G$5016,$G58,$H$20:$H$5016)+SUMIF('2.aTë ardhura-jopublik-monetare'!$G$20:$G$1016,'2.bTë ardhura-jopublik-nënatyrë'!$G58,'2.aTë ardhura-jopublik-monetare'!$H$20:$H$1016)","v":0}]
[null,null,null,null,null,null,null,null,null,{"$f":"SUMIF($G$20:$G$5016,$G59,$H$20:$H$5016)+SUMIF('2.aTë ardhura-jopublik-monetare'!$G$20:$G$1016,'2.bTë ardhura-jopublik-nënatyrë'!$G59,'2.aTë ardhura-jopublik-monetare'!$H$20:$H$1016)","v":0}]
[null,null,null,null,null,null,null,null,null,{"$f":"SUMIF($G$20:$G$5016,$G60,$H$20:$H$5016)+SUMIF('2.aTë ardhura-jopublik-monetare'!$G$20:$G$1016,'2.bTë ardhura-jopublik-nënatyrë'!$G60,'2.aTë ardhura-jopublik-monetare'!$H$20:$H$1016)","v":0}]
[null,null,null,null,null,null,null,null,null,{"$f":"SUMIF($G$20:$G$5016,$G61,$H$20:$H$5016)+SUMIF('2.aTë ardhura-jopublik-monetare'!$G$20:$G$1016,'2.bTë ardhura-jopublik-nënatyrë'!$G61,'2.aTë ardhura-jopublik-monetare'!$H$20:$H$1016)","v":0}]
[null,null,null,null,null,null,null,null,null,{"$f":"SUMIF($G$20:$G$5016,$G62,$H$20:$H$5016)+SUMIF('2.aTë ardhura-jopublik-monetare'!$G$20:$G$1016,'2.bTë ardhura-jopublik-nënatyrë'!$G62,'2.aTë ardhura-jopublik-monetare'!$H$20:$H$1016)","v":0}]
[null,null,null,null,null,null,null,null,null,{"$f":"SUMIF($G$20:$G$5016,$G63,$H$20:$H$5016)+SUMIF('2.aTë ardhura-jopublik-monetare'!$G$20:$G$1016,'2.bTë ardhura-jopublik-nënatyrë'!$G63,'2.aTë ardhura-jopublik-monetare'!$H$20:$H$1016)","v":0}]
[null,null,null,null,null,null,null,null,null,{"$f":"SUMIF($G$20:$G$5016,$G64,$H$20:$H$5016)+SUMIF('2.aTë ardhura-jopublik-monetare'!$G$20:$G$1016,'2.bTë ardhura-jopublik-nënatyrë'!$G64,'2.aTë ardhura-jopublik-monetare'!$H$20:$H$1016)","v":0}]
[null,null,null,null,null,null,null,null,null,{"$f":"SUMIF($G$20:$G$5016,$G65,$H$20:$H$5016)+SUMIF('2.aTë ardhura-jopublik-monetare'!$G$20:$G$1016,'2.bTë ardhura-jopublik-nënatyrë'!$G65,'2.aTë ardhura-jopublik-monetare'!$H$20:$H$1016)","v":0}]
[null,null,null,null,null,null,null,null,null,{"$f":"SUMIF($G$20:$G$5016,$G66,$H$20:$H$5016)+SUMIF('2.aTë ardhura-jopublik-monetare'!$G$20:$G$1016,'2.bTë ardhura-jopublik-nënatyrë'!$G66,'2.aTë ardhura-jopublik-monetare'!$H$20:$H$1016)","v":0}]
[null,null,null,null,null,null,null,null,null,{"$f":"SUMIF($G$20:$G$5016,$G67,$H$20:$H$5016)+SUMIF('2.aTë ardhura-jopublik-monetare'!$G$20:$G$1016,'2.bTë ardhura-jopublik-nënatyrë'!$G67,'2.aTë ardhura-jopublik-monetare'!$H$20:$H$1016)","v":0}]
[null,null,null,null,null,null,null,null,null,{"$f":"SUMIF($G$20:$G$5016,$G68,$H$20:$H$5016)+SUMIF('2.aTë ardhura-jopublik-monetare'!$G$20:$G$1016,'2.bTë ardhura-jopublik-nënatyrë'!$G68,'2.aTë ardhura-jopublik-monetare'!$H$20:$H$1016)","v":0}]
[null,null,null,null,null,null,null,null,null,{"$f":"SUMIF($G$20:$G$5016,$G69,$H$20:$H$5016)+SUMIF('2.aTë ardhura-jopublik-monetare'!$G$20:$G$1016,'2.bTë ardhura-jopublik-nënatyrë'!$G69,'2.aTë ardhura-jopublik-monetare'!$H$20:$H$1016)","v":0}]
[null,null,null,null,null,null,null,null,null,{"$f":"SUMIF($G$20:$G$5016,$G70,$H$20:$H$5016)+SUMIF('2.aTë ardhura-jopublik-monetare'!$G$20:$G$1016,'2.bTë ardhura-jopublik-nënatyrë'!$G70,'2.aTë ardhura-jopublik-monetare'!$H$20:$H$1016)","v":0}]
[null,null,null,null,null,null,null,null,null,{"$f":"SUMIF($G$20:$G$5016,$G71,$H$20:$H$5016)+SUMIF('2.aTë ardhura-jopublik-monetare'!$G$20:$G$1016,'2.bTë ardhura-jopublik-nënatyrë'!$G71,'2.aTë ardhura-jopublik-monetare'!$H$20:$H$1016)","v":0}]
[null,null,null,null,null,null,null,null,null,{"$f":"SUMIF($G$20:$G$5016,$G72,$H$20:$H$5016)+SUMIF('2.aTë ardhura-jopublik-monetare'!$G$20:$G$1016,'2.bTë ardhura-jopublik-nënatyrë'!$G72,'2.aTë ardhura-jopublik-monetare'!$H$20:$H$1016)","v":0}]
[null,null,null,null,null,null,null,null,null,{"$f":"SUMIF($G$20:$G$5016,$G73,$H$20:$H$5016)+SUMIF('2.aTë ardhura-jopublik-monetare'!$G$20:$G$1016,'2.bTë ardhura-jopublik-nënatyrë'!$G73,'2.aTë ardhura-jopublik-monetare'!$H$20:$H$1016)","v":0}]
[null,null,null,null,null,null,null,null,null,{"$f":"SUMIF($G$20:$G$5016,$G74,$H$20:$H$5016)+SUMIF('2.aTë ardhura-jopublik-monetare'!$G$20:$G$1016,'2.bTë ardhura-jopublik-nënatyrë'!$G74,'2.aTë ardhura-jopublik-monetare'!$H$20:$H$1016)","v":0}]
[null,null,null,null,null,null,null,null,null,{"$f":"SUMIF($G$20:$G$5016,$G75,$H$20:$H$5016)+SUMIF('2.aTë ardhura-jopublik-monetare'!$G$20:$G$1016,'2.bTë ardhura-jopublik-nënatyrë'!$G75,'2.aTë ardhura-jopublik-monetare'!$H$20:$H$1016)","v":0}]
[null,null,null,null,null,null,null,null,null,{"$f":"SUMIF($G$20:$G$5016,$G76,$H$20:$H$5016)+SUMIF('2.aTë ardhura-jopublik-monetare'!$G$20:$G$1016,'2.bTë ardhura-jopublik-nënatyrë'!$G76,'2.aTë ardhura-jopublik-monetare'!$H$20:$H$1016)","v":0}]
[null,null,null,null,null,null,null,null,null,{"$f":"SUMIF($G$20:$G$5016,$G77,$H$20:$H$5016)+SUMIF('2.aTë ardhura-jopublik-monetare'!$G$20:$G$1016,'2.bTë ardhura-jopublik-nënatyrë'!$G77,'2.aTë ardhura-jopublik-monetare'!$H$20:$H$1016)","v":0}]
[null,null,null,null,null,null,null,null,null,{"$f":"SUMIF($G$20:$G$5016,$G78,$H$20:$H$5016)+SUMIF('2.aTë ardhura-jopublik-monetare'!$G$20:$G$1016,'2.bTë ardhura-jopublik-nënatyrë'!$G78,'2.aTë ardhura-jopublik-monetare'!$H$20:$H$1016)","v":0}]
[null,null,null,null,null,null,null,null,null,{"$f":"SUMIF($G$20:$G$5016,$G79,$H$20:$H$5016)+SUMIF('2.aTë ardhura-jopublik-monetare'!$G$20:$G$1016,'2.bTë ardhura-jopublik-nënatyrë'!$G79,'2.aTë ardhura-jopublik-monetare'!$H$20:$H$1016)","v":0}]
[null,null,null,null,null,null,null,null,null,{"$f":"SUMIF($G$20:$G$5016,$G80,$H$20:$H$5016)+SUMIF('2.aTë ardhura-jopublik-monetare'!$G$20:$G$1016,'2.bTë ardhura-jopublik-nënatyrë'!$G80,'2.aTë ardhura-jopublik-monetare'!$H$20:$H$1016)","v":0}]
[null,null,null,null,null,null,null,null,null,{"$f":"SUMIF($G$20:$G$5016,$G81,$H$20:$H$5016)+SUMIF('2.aTë ardhura-jopublik-monetare'!$G$20:$G$1016,'2.bTë ardhura-jopublik-nënatyrë'!$G81,'2.aTë ardhura-jopublik-monetare'!$H$20:$H$1016)","v":0}]
[null,null,null,null,null,null,null,null,null,{"$f":"SUMIF($G$20:$G$5016,$G82,$H$20:$H$5016)+SUMIF('2.aTë ardhura-jopublik-monetare'!$G$20:$G$1016,'2.bTë ardhura-jopublik-nënatyrë'!$G82,'2.aTë ardhura-jopublik-monetare'!$H$20:$H$1016)","v":0}]
[null,null,null,null,null,null,null,null,null,{"$f":"SUMIF($G$20:$G$5016,$G83,$H$20:$H$5016)+SUMIF('2.aTë ardhura-jopublik-monetare'!$G$20:$G$1016,'2.bTë ardhura-jopublik-nënatyrë'!$G83,'2.aTë ardhura-jopublik-monetare'!$H$20:$H$1016)","v":0}]
[null,null,null,null,null,null,null,null,null,{"$f":"SUMIF($G$20:$G$5016,$G84,$H$20:$H$5016)+SUMIF('2.aTë ardhura-jopublik-monetare'!$G$20:$G$1016,'2.bTë ardhura-jopublik-nënatyrë'!$G84,'2.aTë ardhura-jopublik-monetare'!$H$20:$H$1016)","v":0}]
[null,null,null,null,null,null,null,null,null,{"$f":"SUMIF($G$20:$G$5016,$G85,$H$20:$H$5016)+SUMIF('2.aTë ardhura-jopublik-monetare'!$G$20:$G$1016,'2.bTë ardhura-jopublik-nënatyrë'!$G85,'2.aTë ardhura-jopublik-monetare'!$H$20:$H$1016)","v":0}]
[null,null,null,null,null,null,null,null,null,{"$f":"SUMIF($G$20:$G$5016,$G86,$H$20:$H$5016)+SUMIF('2.aTë ardhura-jopublik-monetare'!$G$20:$G$1016,'2.bTë ardhura-jopublik-nënatyrë'!$G86,'2.aTë ardhura-jopublik-monetare'!$H$20:$H$1016)","v":0}]
[null,null,null,null,null,null,null,null,null,{"$f":"SUMIF($G$20:$G$5016,$G87,$H$20:$H$5016)+SUMIF('2.aTë ardhura-jopublik-monetare'!$G$20:$G$1016,'2.bTë ardhura-jopublik-nënatyrë'!$G87,'2.aTë ardhura-jopublik-monetare'!$H$20:$H$1016)","v":0}]
[null,null,null,null,null,null,null,null,null,{"$f":"SUMIF($G$20:$G$5016,$G88,$H$20:$H$5016)+SUMIF('2.aTë ardhura-jopublik-monetare'!$G$20:$G$1016,'2.bTë ardhura-jopublik-nënatyrë'!$G88,'2.aTë ardhura-jopublik-monetare'!$H$20:$H$1016)","v":0}]
[null,null,null,null,null,null,null,null,null,{"$f":"SUMIF($G$20:$G$5016,$G89,$H$20:$H$5016)+SUMIF('2.aTë ardhura-jopublik-monetare'!$G$20:$G$1016,'2.bTë ardhura-jopublik-nënatyrë'!$G89,'2.aTë ardhura-jopublik-monetare'!$H$20:$H$1016)","v":0}]
[null,null,null,null,null,null,null,null,null,{"$f":"SUMIF($G$20:$G$5016,$G90,$H$20:$H$5016)+SUMIF('2.aTë ardhura-jopublik-monetare'!$G$20:$G$1016,'2.bTë ardhura-jopublik-nënatyrë'!$G90,'2.aTë ardhura-jopublik-monetare'!$H$20:$H$1016)","v":0}]
[null,null,null,null,null,null,null,null,null,{"$f":"SUMIF($G$20:$G$5016,$G91,$H$20:$H$5016)+SUMIF('2.aTë ardhura-jopublik-monetare'!$G$20:$G$1016,'2.bTë ardhura-jopublik-nënatyrë'!$G91,'2.aTë ardhura-jopublik-monetare'!$H$20:$H$1016)","v":0}]
[null,null,null,null,null,null,null,null,null,{"$f":"SUMIF($G$20:$G$5016,$G92,$H$20:$H$5016)+SUMIF('2.aTë ardhura-jopublik-monetare'!$G$20:$G$1016,'2.bTë ardhura-jopublik-nënatyrë'!$G92,'2.aTë ardhura-jopublik-monetare'!$H$20:$H$1016)","v":0}]
[null,null,null,null,null,null,null,null,null,{"$f":"SUMIF($G$20:$G$5016,$G93,$H$20:$H$5016)+SUMIF('2.aTë ardhura-jopublik-monetare'!$G$20:$G$1016,'2.bTë ardhura-jopublik-nënatyrë'!$G93,'2.aTë ardhura-jopublik-monetare'!$H$20:$H$1016)","v":0}]
[null,null,null,null,null,null,null,null,null,{"$f":"SUMIF($G$20:$G$5016,$G94,$H$20:$H$5016)+SUMIF('2.aTë ardhura-jopublik-monetare'!$G$20:$G$1016,'2.bTë ardhura-jopublik-nënatyrë'!$G94,'2.aTë ardhura-jopublik-monetare'!$H$20:$H$1016)","v":0}]
[null,null,null,null,null,null,null,null,null,{"$f":"SUMIF($G$20:$G$5016,$G95,$H$20:$H$5016)+SUMIF('2.aTë ardhura-jopublik-monetare'!$G$20:$G$1016,'2.bTë ardhura-jopublik-nënatyrë'!$G95,'2.aTë ardhura-jopublik-monetare'!$H$20:$H$1016)","v":0}]
[null,null,null,null,null,null,null,null,null,{"$f":"SUMIF($G$20:$G$5016,$G96,$H$20:$H$5016)+SUMIF('2.aTë ardhura-jopublik-monetare'!$G$20:$G$1016,'2.bTë ardhura-jopublik-nënatyrë'!$G96,'2.aTë ardhura-jopublik-monetare'!$H$20:$H$1016)","v":0}]
[null,null,null,null,null,null,null,null,null,{"$f":"SUMIF($G$20:$G$5016,$G97,$H$20:$H$5016)+SUMIF('2.aTë ardhura-jopublik-monetare'!$G$20:$G$1016,'2.bTë ardhura-jopublik-nënatyrë'!$G97,'2.aTë ardhura-jopublik-monetare'!$H$20:$H$1016)","v":0}]
[null,null,null,null,null,null,null,null,null,{"$f":"SUMIF($G$20:$G$5016,$G98,$H$20:$H$5016)+SUMIF('2.aTë ardhura-jopublik-monetare'!$G$20:$G$1016,'2.bTë ardhura-jopublik-nënatyrë'!$G98,'2.aTë ardhura-jopublik-monetare'!$H$20:$H$1016)","v":0}]
[null,null,null,null,null,null,null,null,null,{"$f":"SUMIF($G$20:$G$5016,$G99,$H$20:$H$5016)+SUMIF('2.aTë ardhura-jopublik-monetare'!$G$20:$G$1016,'2.bTë ardhura-jopublik-nënatyrë'!$G99,'2.aTë ardhura-jopublik-monetare'!$H$20:$H$1016)","v":0}]
[null,null,null,null,null,null,null,null,null,{"$f":"SUMIF($G$20:$G$5016,$G100,$H$20:$H$5016)+SUMIF('2.aTë ardhura-jopublik-monetare'!$G$20:$G$1016,'2.bTë ardhura-jopublik-nënatyrë'!$G100,'2.aTë ardhura-jopublik-monetare'!$H$20:$H$1016)","v":0}]
[null,null,null,null,null,null,null,null,null,{"$f":"SUMIF($G$20:$G$5016,$G101,$H$20:$H$5016)+SUMIF('2.aTë ardhura-jopublik-monetare'!$G$20:$G$1016,'2.bTë ardhura-jopublik-nënatyrë'!$G101,'2.aTë ardhura-jopublik-monetare'!$H$20:$H$1016)","v":0}]
[null,null,null,null,null,null,null,null,null,{"$f":"SUMIF($G$20:$G$5016,$G102,$H$20:$H$5016)+SUMIF('2.aTë ardhura-jopublik-monetare'!$G$20:$G$1016,'2.bTë ardhura-jopublik-nënatyrë'!$G102,'2.aTë ardhura-jopublik-monetare'!$H$20:$H$1016)","v":0}]
[null,null,null,null,null,null,null,null,null,{"$f":"SUMIF($G$20:$G$5016,$G103,$H$20:$H$5016)+SUMIF('2.aTë ardhura-jopublik-monetare'!$G$20:$G$1016,'2.bTë ardhura-jopublik-nënatyrë'!$G103,'2.aTë ardhura-jopublik-monetare'!$H$20:$H$1016)","v":0}]
[null,null,null,null,null,null,null,null,null,{"$f":"SUMIF($G$20:$G$5016,$G104,$H$20:$H$5016)+SUMIF('2.aTë ardhura-jopublik-monetare'!$G$20:$G$1016,'2.bTë ardhura-jopublik-nënatyrë'!$G104,'2.aTë ardhura-jopublik-monetare'!$H$20:$H$1016)","v":0}]
[null,null,null,null,null,null,null,null,null,{"$f":"SUMIF($G$20:$G$5016,$G105,$H$20:$H$5016)+SUMIF('2.aTë ardhura-jopublik-monetare'!$G$20:$G$1016,'2.bTë ardhura-jopublik-nënatyrë'!$G105,'2.aTë ardhura-jopublik-monetare'!$H$20:$H$1016)","v":0}]
[null,null,null,null,null,null,null,null,null,{"$f":"SUMIF($G$20:$G$5016,$G106,$H$20:$H$5016)+SUMIF('2.aTë ardhura-jopublik-monetare'!$G$20:$G$1016,'2.bTë ardhura-jopublik-nënatyrë'!$G106,'2.aTë ardhura-jopublik-monetare'!$H$20:$H$1016)","v":0}]
[null,null,null,null,null,null,null,null,null,{"$f":"SUMIF($G$20:$G$5016,$G107,$H$20:$H$5016)+SUMIF('2.aTë ardhura-jopublik-monetare'!$G$20:$G$1016,'2.bTë ardhura-jopublik-nënatyrë'!$G107,'2.aTë ardhura-jopublik-monetare'!$H$20:$H$1016)","v":0}]
[null,null,null,null,null,null,null,null,null,{"$f":"SUMIF($G$20:$G$5016,$G108,$H$20:$H$5016)+SUMIF('2.aTë ardhura-jopublik-monetare'!$G$20:$G$1016,'2.bTë ardhura-jopublik-nënatyrë'!$G108,'2.aTë ardhura-jopublik-monetare'!$H$20:$H$1016)","v":0}]
[null,null,null,null,null,null,null,null,null,{"$f":"SUMIF($G$20:$G$5016,$G109,$H$20:$H$5016)+SUMIF('2.aTë ardhura-jopublik-monetare'!$G$20:$G$1016,'2.bTë ardhura-jopublik-nënatyrë'!$G109,'2.aTë ardhura-jopublik-monetare'!$H$20:$H$1016)","v":0}]
[null,null,null,null,null,null,null,null,null,{"$f":"SUMIF($G$20:$G$5016,$G110,$H$20:$H$5016)+SUMIF('2.aTë ardhura-jopublik-monetare'!$G$20:$G$1016,'2.bTë ardhura-jopublik-nënatyrë'!$G110,'2.aTë ardhura-jopublik-monetare'!$H$20:$H$1016)","v":0}]
[null,null,null,null,null,null,null,null,null,{"$f":"SUMIF($G$20:$G$5016,$G111,$H$20:$H$5016)+SUMIF('2.aTë ardhura-jopublik-monetare'!$G$20:$G$1016,'2.bTë ardhura-jopublik-nënatyrë'!$G111,'2.aTë ardhura-jopublik-monetare'!$H$20:$H$1016)","v":0}]
[null,null,null,null,null,null,null,null,null,{"$f":"SUMIF($G$20:$G$5016,$G112,$H$20:$H$5016)+SUMIF('2.aTë ardhura-jopublik-monetare'!$G$20:$G$1016,'2.bTë ardhura-jopublik-nënatyrë'!$G112,'2.aTë ardhura-jopublik-monetare'!$H$20:$H$1016)","v":0}]
[null,null,null,null,null,null,null,null,null,{"$f":"SUMIF($G$20:$G$5016,$G113,$H$20:$H$5016)+SUMIF('2.aTë ardhura-jopublik-monetare'!$G$20:$G$1016,'2.bTë ardhura-jopublik-nënatyrë'!$G113,'2.aTë ardhura-jopublik-monetare'!$H$20:$H$1016)","v":0}]
[null,null,null,null,null,null,null,null,null,{"$f":"SUMIF($G$20:$G$5016,$G114,$H$20:$H$5016)+SUMIF('2.aTë ardhura-jopublik-monetare'!$G$20:$G$1016,'2.bTë ardhura-jopublik-nënatyrë'!$G114,'2.aTë ardhura-jopublik-monetare'!$H$20:$H$1016)","v":0}]
[null,null,null,null,null,null,null,null,null,{"$f":"SUMIF($G$20:$G$5016,$G115,$H$20:$H$5016)+SUMIF('2.aTë ardhura-jopublik-monetare'!$G$20:$G$1016,'2.bTë ardhura-jopublik-nënatyrë'!$G115,'2.aTë ardhura-jopublik-monetare'!$H$20:$H$1016)","v":0}]
[null,null,null,null,null,null,null,null,null,{"$f":"SUMIF($G$20:$G$5016,$G116,$H$20:$H$5016)+SUMIF('2.aTë ardhura-jopublik-monetare'!$G$20:$G$1016,'2.bTë ardhura-jopublik-nënatyrë'!$G116,'2.aTë ardhura-jopublik-monetare'!$H$20:$H$1016)","v":0}]
[null,null,null,null,null,null,null,null,null,{"$f":"SUMIF($G$20:$G$5016,$G117,$H$20:$H$5016)+SUMIF('2.aTë ardhura-jopublik-monetare'!$G$20:$G$1016,'2.bTë ardhura-jopublik-nënatyrë'!$G117,'2.aTë ardhura-jopublik-monetare'!$H$20:$H$1016)","v":0}]
[null,null,null,null,null,null,null,null,null,{"$f":"SUMIF($G$20:$G$5016,$G118,$H$20:$H$5016)+SUMIF('2.aTë ardhura-jopublik-monetare'!$G$20:$G$1016,'2.bTë ardhura-jopublik-nënatyrë'!$G118,'2.aTë ardhura-jopublik-monetare'!$H$20:$H$1016)","v":0}]
[null,null,null,null,null,null,null,null,null,{"$f":"SUMIF($G$20:$G$5016,$G119,$H$20:$H$5016)+SUMIF('2.aTë ardhura-jopublik-monetare'!$G$20:$G$1016,'2.bTë ardhura-jopublik-nënatyrë'!$G119,'2.aTë ardhura-jopublik-monetare'!$H$20:$H$1016)","v":0}]
[null,null,null,null,null,null,null,null,null,{"$f":"SUMIF($G$20:$G$5016,$G120,$H$20:$H$5016)+SUMIF('2.aTë ardhura-jopublik-monetare'!$G$20:$G$1016,'2.bTë ardhura-jopublik-nënatyrë'!$G120,'2.aTë ardhura-jopublik-monetare'!$H$20:$H$1016)","v":0}]
[null,null,null,null,null,null,null,null,null,{"$f":"SUMIF($G$20:$G$5016,$G121,$H$20:$H$5016)+SUMIF('2.aTë ardhura-jopublik-monetare'!$G$20:$G$1016,'2.bTë ardhura-jopublik-nënatyrë'!$G121,'2.aTë ardhura-jopublik-monetare'!$H$20:$H$1016)","v":0}]
[null,null,null,null,null,null,null,null,null,{"$f":"SUMIF($G$20:$G$5016,$G122,$H$20:$H$5016)+SUMIF('2.aTë ardhura-jopublik-monetare'!$G$20:$G$1016,'2.bTë ardhura-jopublik-nënatyrë'!$G122,'2.aTë ardhura-jopublik-monetare'!$H$20:$H$1016)","v":0}]
[null,null,null,null,null,null,null,null,null,{"$f":"SUMIF($G$20:$G$5016,$G123,$H$20:$H$5016)+SUMIF('2.aTë ardhura-jopublik-monetare'!$G$20:$G$1016,'2.bTë ardhura-jopublik-nënatyrë'!$G123,'2.aTë ardhura-jopublik-monetare'!$H$20:$H$1016)","v":0}]
[null,null,null,null,null,null,null,null,null,{"$f":"SUMIF($G$20:$G$5016,$G124,$H$20:$H$5016)+SUMIF('2.aTë ardhura-jopublik-monetare'!$G$20:$G$1016,'2.bTë ardhura-jopublik-nënatyrë'!$G124,'2.aTë ardhura-jopublik-monetare'!$H$20:$H$1016)","v":0}]
[null,null,null,null,null,null,null,null,null,{"$f":"SUMIF($G$20:$G$5016,$G125,$H$20:$H$5016)+SUMIF('2.aTë ardhura-jopublik-monetare'!$G$20:$G$1016,'2.bTë ardhura-jopublik-nënatyrë'!$G125,'2.aTë ardhura-jopublik-monetare'!$H$20:$H$1016)","v":0}]
[null,null,null,null,null,null,null,null,null,{"$f":"SUMIF($G$20:$G$5016,$G126,$H$20:$H$5016)+SUMIF('2.aTë ardhura-jopublik-monetare'!$G$20:$G$1016,'2.bTë ardhura-jopublik-nënatyrë'!$G126,'2.aTë ardhura-jopublik-monetare'!$H$20:$H$1016)","v":0}]
[null,null,null,null,null,null,null,null,null,{"$f":"SUMIF($G$20:$G$5016,$G127,$H$20:$H$5016)+SUMIF('2.aTë ardhura-jopublik-monetare'!$G$20:$G$1016,'2.bTë ardhura-jopublik-nënatyrë'!$G127,'2.aTë ardhura-jopublik-monetare'!$H$20:$H$1016)","v":0}]
[null,null,null,null,null,null,null,null,null,{"$f":"SUMIF($G$20:$G$5016,$G128,$H$20:$H$5016)+SUMIF('2.aTë ardhura-jopublik-monetare'!$G$20:$G$1016,'2.bTë ardhura-jopublik-nënatyrë'!$G128,'2.aTë ardhura-jopublik-monetare'!$H$20:$H$1016)","v":0}]
[null,null,null,null,null,null,null,null,null,{"$f":"SUMIF($G$20:$G$5016,$G129,$H$20:$H$5016)+SUMIF('2.aTë ardhura-jopublik-monetare'!$G$20:$G$1016,'2.bTë ardhura-jopublik-nënatyrë'!$G129,'2.aTë ardhura-jopublik-monetare'!$H$20:$H$1016)","v":0}]
[null,null,null,null,null,null,null,null,null,{"$f":"SUMIF($G$20:$G$5016,$G130,$H$20:$H$5016)+SUMIF('2.aTë ardhura-jopublik-monetare'!$G$20:$G$1016,'2.bTë ardhura-jopublik-nënatyrë'!$G130,'2.aTë ardhura-jopublik-monetare'!$H$20:$H$1016)","v":0}]
[null,null,null,null,null,null,null,null,null,{"$f":"SUMIF($G$20:$G$5016,$G131,$H$20:$H$5016)+SUMIF('2.aTë ardhura-jopublik-monetare'!$G$20:$G$1016,'2.bTë ardhura-jopublik-nënatyrë'!$G131,'2.aTë ardhura-jopublik-monetare'!$H$20:$H$1016)","v":0}]
[null,null,null,null,null,null,null,null,null,{"$f":"SUMIF($G$20:$G$5016,$G132,$H$20:$H$5016)+SUMIF('2.aTë ardhura-jopublik-monetare'!$G$20:$G$1016,'2.bTë ardhura-jopublik-nënatyrë'!$G132,'2.aTë ardhura-jopublik-monetare'!$H$20:$H$1016)","v":0}]
[null,null,null,null,null,null,null,null,null,{"$f":"SUMIF($G$20:$G$5016,$G133,$H$20:$H$5016)+SUMIF('2.aTë ardhura-jopublik-monetare'!$G$20:$G$1016,'2.bTë ardhura-jopublik-nënatyrë'!$G133,'2.aTë ardhura-jopublik-monetare'!$H$20:$H$1016)","v":0}]
[null,null,null,null,null,null,null,null,null,{"$f":"SUMIF($G$20:$G$5016,$G134,$H$20:$H$5016)+SUMIF('2.aTë ardhura-jopublik-monetare'!$G$20:$G$1016,'2.bTë ardhura-jopublik-nënatyrë'!$G134,'2.aTë ardhura-jopublik-monetare'!$H$20:$H$1016)","v":0}]
[null,null,null,null,null,null,null,null,null,{"$f":"SUMIF($G$20:$G$5016,$G135,$H$20:$H$5016)+SUMIF('2.aTë ardhura-jopublik-monetare'!$G$20:$G$1016,'2.bTë ardhura-jopublik-nënatyrë'!$G135,'2.aTë ardhura-jopublik-monetare'!$H$20:$H$1016)","v":0}]
[null,null,null,null,null,null,null,null,null,{"$f":"SUMIF($G$20:$G$5016,$G136,$H$20:$H$5016)+SUMIF('2.aTë ardhura-jopublik-monetare'!$G$20:$G$1016,'2.bTë ardhura-jopublik-nënatyrë'!$G136,'2.aTë ardhura-jopublik-monetare'!$H$20:$H$1016)","v":0}]
[null,null,null,null,null,null,null,null,null,{"$f":"SUMIF($G$20:$G$5016,$G137,$H$20:$H$5016)+SUMIF('2.aTë ardhura-jopublik-monetare'!$G$20:$G$1016,'2.bTë ardhura-jopublik-nënatyrë'!$G137,'2.aTë ardhura-jopublik-monetare'!$H$20:$H$1016)","v":0}]
[null,null,null,null,null,null,null,null,null,{"$f":"SUMIF($G$20:$G$5016,$G138,$H$20:$H$5016)+SUMIF('2.aTë ardhura-jopublik-monetare'!$G$20:$G$1016,'2.bTë ardhura-jopublik-nënatyrë'!$G138,'2.aTë ardhura-jopublik-monetare'!$H$20:$H$1016)","v":0}]
[null,null,null,null,null,null,null,null,null,{"$f":"SUMIF($G$20:$G$5016,$G139,$H$20:$H$5016)+SUMIF('2.aTë ardhura-jopublik-monetare'!$G$20:$G$1016,'2.bTë ardhura-jopublik-nënatyrë'!$G139,'2.aTë ardhura-jopublik-monetare'!$H$20:$H$1016)","v":0}]
[null,null,null,null,null,null,null,null,null,{"$f":"SUMIF($G$20:$G$5016,$G140,$H$20:$H$5016)+SUMIF('2.aTë ardhura-jopublik-monetare'!$G$20:$G$1016,'2.bTë ardhura-jopublik-nënatyrë'!$G140,'2.aTë ardhura-jopublik-monetare'!$H$20:$H$1016)","v":0}]
[null,null,null,null,null,null,null,null,null,{"$f":"SUMIF($G$20:$G$5016,$G141,$H$20:$H$5016)+SUMIF('2.aTë ardhura-jopublik-monetare'!$G$20:$G$1016,'2.bTë ardhura-jopublik-nënatyrë'!$G141,'2.aTë ardhura-jopublik-monetare'!$H$20:$H$1016)","v":0}]
[null,null,null,null,null,null,null,null,null,{"$f":"SUMIF($G$20:$G$5016,$G142,$H$20:$H$5016)+SUMIF('2.aTë ardhura-jopublik-monetare'!$G$20:$G$1016,'2.bTë ardhura-jopublik-nënatyrë'!$G142,'2.aTë ardhura-jopublik-monetare'!$H$20:$H$1016)","v":0}]
[null,null,null,null,null,null,null,null,null,{"$f":"SUMIF($G$20:$G$5016,$G143,$H$20:$H$5016)+SUMIF('2.aTë ardhura-jopublik-monetare'!$G$20:$G$1016,'2.bTë ardhura-jopublik-nënatyrë'!$G143,'2.aTë ardhura-jopublik-monetare'!$H$20:$H$1016)","v":0}]
[null,null,null,null,null,null,null,null,null,{"$f":"SUMIF($G$20:$G$5016,$G144,$H$20:$H$5016)+SUMIF('2.aTë ardhura-jopublik-monetare'!$G$20:$G$1016,'2.bTë ardhura-jopublik-nënatyrë'!$G144,'2.aTë ardhura-jopublik-monetare'!$H$20:$H$1016)","v":0}]
[null,null,null,null,null,null,null,null,null,{"$f":"SUMIF($G$20:$G$5016,$G145,$H$20:$H$5016)+SUMIF('2.aTë ardhura-jopublik-monetare'!$G$20:$G$1016,'2.bTë ardhura-jopublik-nënatyrë'!$G145,'2.aTë ardhura-jopublik-monetare'!$H$20:$H$1016)","v":0}]
[null,null,null,null,null,null,null,null,null,{"$f":"SUMIF($G$20:$G$5016,$G146,$H$20:$H$5016)+SUMIF('2.aTë ardhura-jopublik-monetare'!$G$20:$G$1016,'2.bTë ardhura-jopublik-nënatyrë'!$G146,'2.aTë ardhura-jopublik-monetare'!$H$20:$H$1016)","v":0}]
[null,null,null,null,null,null,null,null,null,{"$f":"SUMIF($G$20:$G$5016,$G147,$H$20:$H$5016)+SUMIF('2.aTë ardhura-jopublik-monetare'!$G$20:$G$1016,'2.bTë ardhura-jopublik-nënatyrë'!$G147,'2.aTë ardhura-jopublik-monetare'!$H$20:$H$1016)","v":0}]
[null,null,null,null,null,null,null,null,null,{"$f":"SUMIF($G$20:$G$5016,$G148,$H$20:$H$5016)+SUMIF('2.aTë ardhura-jopublik-monetare'!$G$20:$G$1016,'2.bTë ardhura-jopublik-nënatyrë'!$G148,'2.aTë ardhura-jopublik-monetare'!$H$20:$H$1016)","v":0}]
[null,null,null,null,null,null,null,null,null,{"$f":"SUMIF($G$20:$G$5016,$G149,$H$20:$H$5016)+SUMIF('2.aTë ardhura-jopublik-monetare'!$G$20:$G$1016,'2.bTë ardhura-jopublik-nënatyrë'!$G149,'2.aTë ardhura-jopublik-monetare'!$H$20:$H$1016)","v":0}]
[null,null,null,null,null,null,null,null,null,{"$f":"SUMIF($G$20:$G$5016,$G150,$H$20:$H$5016)+SUMIF('2.aTë ardhura-jopublik-monetare'!$G$20:$G$1016,'2.bTë ardhura-jopublik-nënatyrë'!$G150,'2.aTë ardhura-jopublik-monetare'!$H$20:$H$1016)","v":0}]
[null,null,null,null,null,null,null,null,null,{"$f":"SUMIF($G$20:$G$5016,$G151,$H$20:$H$5016)+SUMIF('2.aTë ardhura-jopublik-monetare'!$G$20:$G$1016,'2.bTë ardhura-jopublik-nënatyrë'!$G151,'2.aTë ardhura-jopublik-monetare'!$H$20:$H$1016)","v":0}]
[null,null,null,null,null,null,null,null,null,{"$f":"SUMIF($G$20:$G$5016,$G152,$H$20:$H$5016)+SUMIF('2.aTë ardhura-jopublik-monetare'!$G$20:$G$1016,'2.bTë ardhura-jopublik-nënatyrë'!$G152,'2.aTë ardhura-jopublik-monetare'!$H$20:$H$1016)","v":0}]
[null,null,null,null,null,null,null,null,null,{"$f":"SUMIF($G$20:$G$5016,$G153,$H$20:$H$5016)+SUMIF('2.aTë ardhura-jopublik-monetare'!$G$20:$G$1016,'2.bTë ardhura-jopublik-nënatyrë'!$G153,'2.aTë ardhura-jopublik-monetare'!$H$20:$H$1016)","v":0}]
[null,null,null,null,null,null,null,null,null,{"$f":"SUMIF($G$20:$G$5016,$G154,$H$20:$H$5016)+SUMIF('2.aTë ardhura-jopublik-monetare'!$G$20:$G$1016,'2.bTë ardhura-jopublik-nënatyrë'!$G154,'2.aTë ardhura-jopublik-monetare'!$H$20:$H$1016)","v":0}]
[null,null,null,null,null,null,null,null,null,{"$f":"SUMIF($G$20:$G$5016,$G155,$H$20:$H$5016)+SUMIF('2.aTë ardhura-jopublik-monetare'!$G$20:$G$1016,'2.bTë ardhura-jopublik-nënatyrë'!$G155,'2.aTë ardhura-jopublik-monetare'!$H$20:$H$1016)","v":0}]
[null,null,null,null,null,null,null,null,null,{"$f":"SUMIF($G$20:$G$5016,$G156,$H$20:$H$5016)+SUMIF('2.aTë ardhura-jopublik-monetare'!$G$20:$G$1016,'2.bTë ardhura-jopublik-nënatyrë'!$G156,'2.aTë ardhura-jopublik-monetare'!$H$20:$H$1016)","v":0}]
[null,null,null,null,null,null,null,null,null,{"$f":"SUMIF($G$20:$G$5016,$G157,$H$20:$H$5016)+SUMIF('2.aTë ardhura-jopublik-monetare'!$G$20:$G$1016,'2.bTë ardhura-jopublik-nënatyrë'!$G157,'2.aTë ardhura-jopublik-monetare'!$H$20:$H$1016)","v":0}]
[null,null,null,null,null,null,null,null,null,{"$f":"SUMIF($G$20:$G$5016,$G158,$H$20:$H$5016)+SUMIF('2.aTë ardhura-jopublik-monetare'!$G$20:$G$1016,'2.bTë ardhura-jopublik-nënatyrë'!$G158,'2.aTë ardhura-jopublik-monetare'!$H$20:$H$1016)","v":0}]
[null,null,null,null,null,null,null,null,null,{"$f":"SUMIF($G$20:$G$5016,$G159,$H$20:$H$5016)+SUMIF('2.aTë ardhura-jopublik-monetare'!$G$20:$G$1016,'2.bTë ardhura-jopublik-nënatyrë'!$G159,'2.aTë ardhura-jopublik-monetare'!$H$20:$H$1016)","v":0}]
[null,null,null,null,null,null,null,null,null,{"$f":"SUMIF($G$20:$G$5016,$G160,$H$20:$H$5016)+SUMIF('2.aTë ardhura-jopublik-monetare'!$G$20:$G$1016,'2.bTë ardhura-jopublik-nënatyrë'!$G160,'2.aTë ardhura-jopublik-monetare'!$H$20:$H$1016)","v":0}]
[null,null,null,null,null,null,null,null,null,{"$f":"SUMIF($G$20:$G$5016,$G161,$H$20:$H$5016)+SUMIF('2.aTë ardhura-jopublik-monetare'!$G$20:$G$1016,'2.bTë ardhura-jopublik-nënatyrë'!$G161,'2.aTë ardhura-jopublik-monetare'!$H$20:$H$1016)","v":0}]
[null,null,null,null,null,null,null,null,null,{"$f":"SUMIF($G$20:$G$5016,$G162,$H$20:$H$5016)+SUMIF('2.aTë ardhura-jopublik-monetare'!$G$20:$G$1016,'2.bTë ardhura-jopublik-nënatyrë'!$G162,'2.aTë ardhura-jopublik-monetare'!$H$20:$H$1016)","v":0}]
[null,null,null,null,null,null,null,null,null,{"$f":"SUMIF($G$20:$G$5016,$G163,$H$20:$H$5016)+SUMIF('2.aTë ardhura-jopublik-monetare'!$G$20:$G$1016,'2.bTë ardhura-jopublik-nënatyrë'!$G163,'2.aTë ardhura-jopublik-monetare'!$H$20:$H$1016)","v":0}]
[null,null,null,null,null,null,null,null,null,{"$f":"SUMIF($G$20:$G$5016,$G164,$H$20:$H$5016)+SUMIF('2.aTë ardhura-jopublik-monetare'!$G$20:$G$1016,'2.bTë ardhura-jopublik-nënatyrë'!$G164,'2.aTë ardhura-jopublik-monetare'!$H$20:$H$1016)","v":0}]
[null,null,null,null,null,null,null,null,null,{"$f":"SUMIF($G$20:$G$5016,$G165,$H$20:$H$5016)+SUMIF('2.aTë ardhura-jopublik-monetare'!$G$20:$G$1016,'2.bTë ardhura-jopublik-nënatyrë'!$G165,'2.aTë ardhura-jopublik-monetare'!$H$20:$H$1016)","v":0}]
[null,null,null,null,null,null,null,null,null,{"$f":"SUMIF($G$20:$G$5016,$G166,$H$20:$H$5016)+SUMIF('2.aTë ardhura-jopublik-monetare'!$G$20:$G$1016,'2.bTë ardhura-jopublik-nënatyrë'!$G166,'2.aTë ardhura-jopublik-monetare'!$H$20:$H$1016)","v":0}]
[null,null,null,null,null,null,null,null,null,{"$f":"SUMIF($G$20:$G$5016,$G167,$H$20:$H$5016)+SUMIF('2.aTë ardhura-jopublik-monetare'!$G$20:$G$1016,'2.bTë ardhura-jopublik-nënatyrë'!$G167,'2.aTë ardhura-jopublik-monetare'!$H$20:$H$1016)","v":0}]
[null,null,null,null,null,null,null,null,null,{"$f":"SUMIF($G$20:$G$5016,$G168,$H$20:$H$5016)+SUMIF('2.aTë ardhura-jopublik-monetare'!$G$20:$G$1016,'2.bTë ardhura-jopublik-nënatyrë'!$G168,'2.aTë ardhura-jopublik-monetare'!$H$20:$H$1016)","v":0}]
[null,null,null,null,null,null,null,null,null,{"$f":"SUMIF($G$20:$G$5016,$G169,$H$20:$H$5016)+SUMIF('2.aTë ardhura-jopublik-monetare'!$G$20:$G$1016,'2.bTë ardhura-jopublik-nënatyrë'!$G169,'2.aTë ardhura-jopublik-monetare'!$H$20:$H$1016)","v":0}]
[null,null,null,null,null,null,null,null,null,{"$f":"SUMIF($G$20:$G$5016,$G170,$H$20:$H$5016)+SUMIF('2.aTë ardhura-jopublik-monetare'!$G$20:$G$1016,'2.bTë ardhura-jopublik-nënatyrë'!$G170,'2.aTë ardhura-jopublik-monetare'!$H$20:$H$1016)","v":0}]
[null,null,null,null,null,null,null,null,null,{"$f":"SUMIF($G$20:$G$5016,$G171,$H$20:$H$5016)+SUMIF('2.aTë ardhura-jopublik-monetare'!$G$20:$G$1016,'2.bTë ardhura-jopublik-nënatyrë'!$G171,'2.aTë ardhura-jopublik-monetare'!$H$20:$H$1016)","v":0}]
[null,null,null,null,null,null,null,null,null,{"$f":"SUMIF($G$20:$G$5016,$G172,$H$20:$H$5016)+SUMIF('2.aTë ardhura-jopublik-monetare'!$G$20:$G$1016,'2.bTë ardhura-jopublik-nënatyrë'!$G172,'2.aTë ardhura-jopublik-monetare'!$H$20:$H$1016)","v":0}]
[null,null,null,null,null,null,null,null,null,{"$f":"SUMIF($G$20:$G$5016,$G173,$H$20:$H$5016)+SUMIF('2.aTë ardhura-jopublik-monetare'!$G$20:$G$1016,'2.bTë ardhura-jopublik-nënatyrë'!$G173,'2.aTë ardhura-jopublik-monetare'!$H$20:$H$1016)","v":0}]
[null,null,null,null,null,null,null,null,null,{"$f":"SUMIF($G$20:$G$5016,$G174,$H$20:$H$5016)+SUMIF('2.aTë ardhura-jopublik-monetare'!$G$20:$G$1016,'2.bTë ardhura-jopublik-nënatyrë'!$G174,'2.aTë ardhura-jopublik-monetare'!$H$20:$H$1016)","v":0}]
[null,null,null,null,null,null,null,null,null,{"$f":"SUMIF($G$20:$G$5016,$G175,$H$20:$H$5016)+SUMIF('2.aTë ardhura-jopublik-monetare'!$G$20:$G$1016,'2.bTë ardhura-jopublik-nënatyrë'!$G175,'2.aTë ardhura-jopublik-monetare'!$H$20:$H$1016)","v":0}]
[null,null,null,null,null,null,null,null,null,{"$f":"SUMIF($G$20:$G$5016,$G176,$H$20:$H$5016)+SUMIF('2.aTë ardhura-jopublik-monetare'!$G$20:$G$1016,'2.bTë ardhura-jopublik-nënatyrë'!$G176,'2.aTë ardhura-jopublik-monetare'!$H$20:$H$1016)","v":0}]
[null,null,null,null,null,null,null,null,null,{"$f":"SUMIF($G$20:$G$5016,$G177,$H$20:$H$5016)+SUMIF('2.aTë ardhura-jopublik-monetare'!$G$20:$G$1016,'2.bTë ardhura-jopublik-nënatyrë'!$G177,'2.aTë ardhura-jopublik-monetare'!$H$20:$H$1016)","v":0}]
[null,null,null,null,null,null,null,null,null,{"$f":"SUMIF($G$20:$G$5016,$G178,$H$20:$H$5016)+SUMIF('2.aTë ardhura-jopublik-monetare'!$G$20:$G$1016,'2.bTë ardhura-jopublik-nënatyrë'!$G178,'2.aTë ardhura-jopublik-monetare'!$H$20:$H$1016)","v":0}]
[null,null,null,null,null,null,null,null,null,{"$f":"SUMIF($G$20:$G$5016,$G179,$H$20:$H$5016)+SUMIF('2.aTë ardhura-jopublik-monetare'!$G$20:$G$1016,'2.bTë ardhura-jopublik-nënatyrë'!$G179,'2.aTë ardhura-jopublik-monetare'!$H$20:$H$1016)","v":0}]
[null,null,null,null,null,null,null,null,null,{"$f":"SUMIF($G$20:$G$5016,$G180,$H$20:$H$5016)+SUMIF('2.aTë ardhura-jopublik-monetare'!$G$20:$G$1016,'2.bTë ardhura-jopublik-nënatyrë'!$G180,'2.aTë ardhura-jopublik-monetare'!$H$20:$H$1016)","v":0}]
[null,null,null,null,null,null,null,null,null,{"$f":"SUMIF($G$20:$G$5016,$G181,$H$20:$H$5016)+SUMIF('2.aTë ardhura-jopublik-monetare'!$G$20:$G$1016,'2.bTë ardhura-jopublik-nënatyrë'!$G181,'2.aTë ardhura-jopublik-monetare'!$H$20:$H$1016)","v":0}]
[null,null,null,null,null,null,null,null,null,{"$f":"SUMIF($G$20:$G$5016,$G182,$H$20:$H$5016)+SUMIF('2.aTë ardhura-jopublik-monetare'!$G$20:$G$1016,'2.bTë ardhura-jopublik-nënatyrë'!$G182,'2.aTë ardhura-jopublik-monetare'!$H$20:$H$1016)","v":0}]
[null,null,null,null,null,null,null,null,null,{"$f":"SUMIF($G$20:$G$5016,$G183,$H$20:$H$5016)+SUMIF('2.aTë ardhura-jopublik-monetare'!$G$20:$G$1016,'2.bTë ardhura-jopublik-nënatyrë'!$G183,'2.aTë ardhura-jopublik-monetare'!$H$20:$H$1016)","v":0}]
[null,null,null,null,null,null,null,null,null,{"$f":"SUMIF($G$20:$G$5016,$G184,$H$20:$H$5016)+SUMIF('2.aTë ardhura-jopublik-monetare'!$G$20:$G$1016,'2.bTë ardhura-jopublik-nënatyrë'!$G184,'2.aTë ardhura-jopublik-monetare'!$H$20:$H$1016)","v":0}]
[null,null,null,null,null,null,null,null,null,{"$f":"SUMIF($G$20:$G$5016,$G185,$H$20:$H$5016)+SUMIF('2.aTë ardhura-jopublik-monetare'!$G$20:$G$1016,'2.bTë ardhura-jopublik-nënatyrë'!$G185,'2.aTë ardhura-jopublik-monetare'!$H$20:$H$1016)","v":0}]
[null,null,null,null,null,null,null,null,null,{"$f":"SUMIF($G$20:$G$5016,$G186,$H$20:$H$5016)+SUMIF('2.aTë ardhura-jopublik-monetare'!$G$20:$G$1016,'2.bTë ardhura-jopublik-nënatyrë'!$G186,'2.aTë ardhura-jopublik-monetare'!$H$20:$H$1016)","v":0}]
[null,null,null,null,null,null,null,null,null,{"$f":"SUMIF($G$20:$G$5016,$G187,$H$20:$H$5016)+SUMIF('2.aTë ardhura-jopublik-monetare'!$G$20:$G$1016,'2.bTë ardhura-jopublik-nënatyrë'!$G187,'2.aTë ardhura-jopublik-monetare'!$H$20:$H$1016)","v":0}]
[null,null,null,null,null,null,null,null,null,{"$f":"SUMIF($G$20:$G$5016,$G188,$H$20:$H$5016)+SUMIF('2.aTë ardhura-jopublik-monetare'!$G$20:$G$1016,'2.bTë ardhura-jopublik-nënatyrë'!$G188,'2.aTë ardhura-jopublik-monetare'!$H$20:$H$1016)","v":0}]
[null,null,null,null,null,null,null,null,null,{"$f":"SUMIF($G$20:$G$5016,$G189,$H$20:$H$5016)+SUMIF('2.aTë ardhura-jopublik-monetare'!$G$20:$G$1016,'2.bTë ardhura-jopublik-nënatyrë'!$G189,'2.aTë ardhura-jopublik-monetare'!$H$20:$H$1016)","v":0}]
[null,null,null,null,null,null,null,null,null,{"$f":"SUMIF($G$20:$G$5016,$G190,$H$20:$H$5016)+SUMIF('2.aTë ardhura-jopublik-monetare'!$G$20:$G$1016,'2.bTë ardhura-jopublik-nënatyrë'!$G190,'2.aTë ardhura-jopublik-monetare'!$H$20:$H$1016)","v":0}]
[null,null,null,null,null,null,null,null,null,{"$f":"SUMIF($G$20:$G$5016,$G191,$H$20:$H$5016)+SUMIF('2.aTë ardhura-jopublik-monetare'!$G$20:$G$1016,'2.bTë ardhura-jopublik-nënatyrë'!$G191,'2.aTë ardhura-jopublik-monetare'!$H$20:$H$1016)","v":0}]
[null,null,null,null,null,null,null,null,null,{"$f":"SUMIF($G$20:$G$5016,$G192,$H$20:$H$5016)+SUMIF('2.aTë ardhura-jopublik-monetare'!$G$20:$G$1016,'2.bTë ardhura-jopublik-nënatyrë'!$G192,'2.aTë ardhura-jopublik-monetare'!$H$20:$H$1016)","v":0}]
[null,null,null,null,null,null,null,null,null,{"$f":"SUMIF($G$20:$G$5016,$G193,$H$20:$H$5016)+SUMIF('2.aTë ardhura-jopublik-monetare'!$G$20:$G$1016,'2.bTë ardhura-jopublik-nënatyrë'!$G193,'2.aTë ardhura-jopublik-monetare'!$H$20:$H$1016)","v":0}]
[null,null,null,null,null,null,null,null,null,{"$f":"SUMIF($G$20:$G$5016,$G194,$H$20:$H$5016)+SUMIF('2.aTë ardhura-jopublik-monetare'!$G$20:$G$1016,'2.bTë ardhura-jopublik-nënatyrë'!$G194,'2.aTë ardhura-jopublik-monetare'!$H$20:$H$1016)","v":0}]
[null,null,null,null,null,null,null,null,null,{"$f":"SUMIF($G$20:$G$5016,$G195,$H$20:$H$5016)+SUMIF('2.aTë ardhura-jopublik-monetare'!$G$20:$G$1016,'2.bTë ardhura-jopublik-nënatyrë'!$G195,'2.aTë ardhura-jopublik-monetare'!$H$20:$H$1016)","v":0}]
[null,null,null,null,null,null,null,null,null,{"$f":"SUMIF($G$20:$G$5016,$G196,$H$20:$H$5016)+SUMIF('2.aTë ardhura-jopublik-monetare'!$G$20:$G$1016,'2.bTë ardhura-jopublik-nënatyrë'!$G196,'2.aTë ardhura-jopublik-monetare'!$H$20:$H$1016)","v":0}]
[null,null,null,null,null,null,null,null,null,{"$f":"SUMIF($G$20:$G$5016,$G197,$H$20:$H$5016)+SUMIF('2.aTë ardhura-jopublik-monetare'!$G$20:$G$1016,'2.bTë ardhura-jopublik-nënatyrë'!$G197,'2.aTë ardhura-jopublik-monetare'!$H$20:$H$1016)","v":0}]
[null,null,null,null,null,null,null,null,null,{"$f":"SUMIF($G$20:$G$5016,$G198,$H$20:$H$5016)+SUMIF('2.aTë ardhura-jopublik-monetare'!$G$20:$G$1016,'2.bTë ardhura-jopublik-nënatyrë'!$G198,'2.aTë ardhura-jopublik-monetare'!$H$20:$H$1016)","v":0}]
[null,null,null,null,null,null,null,null,null,{"$f":"SUMIF($G$20:$G$5016,$G199,$H$20:$H$5016)+SUMIF('2.aTë ardhura-jopublik-monetare'!$G$20:$G$1016,'2.bTë ardhura-jopublik-nënatyrë'!$G199,'2.aTë ardhura-jopublik-monetare'!$H$20:$H$1016)","v":0}]
[null,null,null,null,null,null,null,null,null,{"$f":"SUMIF($G$20:$G$5016,$G200,$H$20:$H$5016)+SUMIF('2.aTë ardhura-jopublik-monetare'!$G$20:$G$1016,'2.bTë ardhura-jopublik-nënatyrë'!$G200,'2.aTë ardhura-jopublik-monetare'!$H$20:$H$1016)","v":0}]
[null,null,null,null,null,null,null,null,null,{"$f":"SUMIF($G$20:$G$5016,$G201,$H$20:$H$5016)+SUMIF('2.aTë ardhura-jopublik-monetare'!$G$20:$G$1016,'2.bTë ardhura-jopublik-nënatyrë'!$G201,'2.aTë ardhura-jopublik-monetare'!$H$20:$H$1016)","v":0}]
[null,null,null,null,null,null,null,null,null,{"$f":"SUMIF($G$20:$G$5016,$G202,$H$20:$H$5016)+SUMIF('2.aTë ardhura-jopublik-monetare'!$G$20:$G$1016,'2.bTë ardhura-jopublik-nënatyrë'!$G202,'2.aTë ardhura-jopublik-monetare'!$H$20:$H$1016)","v":0}]
[null,null,null,null,null,null,null,null,null,{"$f":"SUMIF($G$20:$G$5016,$G203,$H$20:$H$5016)+SUMIF('2.aTë ardhura-jopublik-monetare'!$G$20:$G$1016,'2.bTë ardhura-jopublik-nënatyrë'!$G203,'2.aTë ardhura-jopublik-monetare'!$H$20:$H$1016)","v":0}]
[null,null,null,null,null,null,null,null,null,{"$f":"SUMIF($G$20:$G$5016,$G204,$H$20:$H$5016)+SUMIF('2.aTë ardhura-jopublik-monetare'!$G$20:$G$1016,'2.bTë ardhura-jopublik-nënatyrë'!$G204,'2.aTë ardhura-jopublik-monetare'!$H$20:$H$1016)","v":0}]
[null,null,null,null,null,null,null,null,null,{"$f":"SUMIF($G$20:$G$5016,$G205,$H$20:$H$5016)+SUMIF('2.aTë ardhura-jopublik-monetare'!$G$20:$G$1016,'2.bTë ardhura-jopublik-nënatyrë'!$G205,'2.aTë ardhura-jopublik-monetare'!$H$20:$H$1016)","v":0}]
[null,null,null,null,null,null,null,null,null,{"$f":"SUMIF($G$20:$G$5016,$G206,$H$20:$H$5016)+SUMIF('2.aTë ardhura-jopublik-monetare'!$G$20:$G$1016,'2.bTë ardhura-jopublik-nënatyrë'!$G206,'2.aTë ardhura-jopublik-monetare'!$H$20:$H$1016)","v":0}]
[null,null,null,null,null,null,null,null,null,{"$f":"SUMIF($G$20:$G$5016,$G207,$H$20:$H$5016)+SUMIF('2.aTë ardhura-jopublik-monetare'!$G$20:$G$1016,'2.bTë ardhura-jopublik-nënatyrë'!$G207,'2.aTë ardhura-jopublik-monetare'!$H$20:$H$1016)","v":0}]
[null,null,null,null,null,null,null,null,null,{"$f":"SUMIF($G$20:$G$5016,$G208,$H$20:$H$5016)+SUMIF('2.aTë ardhura-jopublik-monetare'!$G$20:$G$1016,'2.bTë ardhura-jopublik-nënatyrë'!$G208,'2.aTë ardhura-jopublik-monetare'!$H$20:$H$1016)","v":0}]
[null,null,null,null,null,null,null,null,null,{"$f":"SUMIF($G$20:$G$5016,$G209,$H$20:$H$5016)+SUMIF('2.aTë ardhura-jopublik-monetare'!$G$20:$G$1016,'2.bTë ardhura-jopublik-nënatyrë'!$G209,'2.aTë ardhura-jopublik-monetare'!$H$20:$H$1016)","v":0}]
[null,null,null,null,null,null,null,null,null,{"$f":"SUMIF($G$20:$G$5016,$G210,$H$20:$H$5016)+SUMIF('2.aTë ardhura-jopublik-monetare'!$G$20:$G$1016,'2.bTë ardhura-jopublik-nënatyrë'!$G210,'2.aTë ardhura-jopublik-monetare'!$H$20:$H$1016)","v":0}]
[null,null,null,null,null,null,null,null,null,{"$f":"SUMIF($G$20:$G$5016,$G211,$H$20:$H$5016)+SUMIF('2.aTë ardhura-jopublik-monetare'!$G$20:$G$1016,'2.bTë ardhura-jopublik-nënatyrë'!$G211,'2.aTë ardhura-jopublik-monetare'!$H$20:$H$1016)","v":0}]
[null,null,null,null,null,null,null,null,null,{"$f":"SUMIF($G$20:$G$5016,$G212,$H$20:$H$5016)+SUMIF('2.aTë ardhura-jopublik-monetare'!$G$20:$G$1016,'2.bTë ardhura-jopublik-nënatyrë'!$G212,'2.aTë ardhura-jopublik-monetare'!$H$20:$H$1016)","v":0}]
[null,null,null,null,null,null,null,null,null,{"$f":"SUMIF($G$20:$G$5016,$G213,$H$20:$H$5016)+SUMIF('2.aTë ardhura-jopublik-monetare'!$G$20:$G$1016,'2.bTë ardhura-jopublik-nënatyrë'!$G213,'2.aTë ardhura-jopublik-monetare'!$H$20:$H$1016)","v":0}]
[null,null,null,null,null,null,null,null,null,{"$f":"SUMIF($G$20:$G$5016,$G214,$H$20:$H$5016)+SUMIF('2.aTë ardhura-jopublik-monetare'!$G$20:$G$1016,'2.bTë ardhura-jopublik-nënatyrë'!$G214,'2.aTë ardhura-jopublik-monetare'!$H$20:$H$1016)","v":0}]
[null,null,null,null,null,null,null,null,null,{"$f":"SUMIF($G$20:$G$5016,$G215,$H$20:$H$5016)+SUMIF('2.aTë ardhura-jopublik-monetare'!$G$20:$G$1016,'2.bTë ardhura-jopublik-nënatyrë'!$G215,'2.aTë ardhura-jopublik-monetare'!$H$20:$H$1016)","v":0}]
[null,null,null,null,null,null,null,null,null,{"$f":"SUMIF($G$20:$G$5016,$G216,$H$20:$H$5016)+SUMIF('2.aTë ardhura-jopublik-monetare'!$G$20:$G$1016,'2.bTë ardhura-jopublik-nënatyrë'!$G216,'2.aTë ardhura-jopublik-monetare'!$H$20:$H$1016)","v":0}]
[null,null,null,null,null,null,null,null,null,{"$f":"SUMIF($G$20:$G$5016,$G217,$H$20:$H$5016)+SUMIF('2.aTë ardhura-jopublik-monetare'!$G$20:$G$1016,'2.bTë ardhura-jopublik-nënatyrë'!$G217,'2.aTë ardhura-jopublik-monetare'!$H$20:$H$1016)","v":0}]
[null,null,null,null,null,null,null,null,null,{"$f":"SUMIF($G$20:$G$5016,$G218,$H$20:$H$5016)+SUMIF('2.aTë ardhura-jopublik-monetare'!$G$20:$G$1016,'2.bTë ardhura-jopublik-nënatyrë'!$G218,'2.aTë ardhura-jopublik-monetare'!$H$20:$H$1016)","v":0}]
[null,null,null,null,null,null,null,null,null,{"$f":"SUMIF($G$20:$G$5016,$G219,$H$20:$H$5016)+SUMIF('2.aTë ardhura-jopublik-monetare'!$G$20:$G$1016,'2.bTë ardhura-jopublik-nënatyrë'!$G219,'2.aTë ardhura-jopublik-monetare'!$H$20:$H$1016)","v":0}]
[null,null,null,null,null,null,null,null,null,{"$f":"SUMIF($G$20:$G$5016,$G220,$H$20:$H$5016)+SUMIF('2.aTë ardhura-jopublik-monetare'!$G$20:$G$1016,'2.bTë ardhura-jopublik-nënatyrë'!$G220,'2.aTë ardhura-jopublik-monetare'!$H$20:$H$1016)","v":0}]
[null,null,null,null,null,null,null,null,null,{"$f":"SUMIF($G$20:$G$5016,$G221,$H$20:$H$5016)+SUMIF('2.aTë ardhura-jopublik-monetare'!$G$20:$G$1016,'2.bTë ardhura-jopublik-nënatyrë'!$G221,'2.aTë ardhura-jopublik-monetare'!$H$20:$H$1016)","v":0}]
[null,null,null,null,null,null,null,null,null,{"$f":"SUMIF($G$20:$G$5016,$G222,$H$20:$H$5016)+SUMIF('2.aTë ardhura-jopublik-monetare'!$G$20:$G$1016,'2.bTë ardhura-jopublik-nënatyrë'!$G222,'2.aTë ardhura-jopublik-monetare'!$H$20:$H$1016)","v":0}]
[null,null,null,null,null,null,null,null,null,{"$f":"SUMIF($G$20:$G$5016,$G223,$H$20:$H$5016)+SUMIF('2.aTë ardhura-jopublik-monetare'!$G$20:$G$1016,'2.bTë ardhura-jopublik-nënatyrë'!$G223,'2.aTë ardhura-jopublik-monetare'!$H$20:$H$1016)","v":0}]
[null,null,null,null,null,null,null,null,null,{"$f":"SUMIF($G$20:$G$5016,$G224,$H$20:$H$5016)+SUMIF('2.aTë ardhura-jopublik-monetare'!$G$20:$G$1016,'2.bTë ardhura-jopublik-nënatyrë'!$G224,'2.aTë ardhura-jopublik-monetare'!$H$20:$H$1016)","v":0}]
[null,null,null,null,null,null,null,null,null,{"$f":"SUMIF($G$20:$G$5016,$G225,$H$20:$H$5016)+SUMIF('2.aTë ardhura-jopublik-monetare'!$G$20:$G$1016,'2.bTë ardhura-jopublik-nënatyrë'!$G225,'2.aTë ardhura-jopublik-monetare'!$H$20:$H$1016)","v":0}]
[null,null,null,null,null,null,null,null,null,{"$f":"SUMIF($G$20:$G$5016,$G226,$H$20:$H$5016)+SUMIF('2.aTë ardhura-jopublik-monetare'!$G$20:$G$1016,'2.bTë ardhura-jopublik-nënatyrë'!$G226,'2.aTë ardhura-jopublik-monetare'!$H$20:$H$1016)","v":0}]
[null,null,null,null,null,null,null,null,null,{"$f":"SUMIF($G$20:$G$5016,$G227,$H$20:$H$5016)+SUMIF('2.aTë ardhura-jopublik-monetare'!$G$20:$G$1016,'2.bTë ardhura-jopublik-nënatyrë'!$G227,'2.aTë ardhura-jopublik-monetare'!$H$20:$H$1016)","v":0}]
[null,null,null,null,null,null,null,null,null,{"$f":"SUMIF($G$20:$G$5016,$G228,$H$20:$H$5016)+SUMIF('2.aTë ardhura-jopublik-monetare'!$G$20:$G$1016,'2.bTë ardhura-jopublik-nënatyrë'!$G228,'2.aTë ardhura-jopublik-monetare'!$H$20:$H$1016)","v":0}]
[null,null,null,null,null,null,null,null,null,{"$f":"SUMIF($G$20:$G$5016,$G229,$H$20:$H$5016)+SUMIF('2.aTë ardhura-jopublik-monetare'!$G$20:$G$1016,'2.bTë ardhura-jopublik-nënatyrë'!$G229,'2.aTë ardhura-jopublik-monetare'!$H$20:$H$1016)","v":0}]
[null,null,null,null,null,null,null,null,null,{"$f":"SUMIF($G$20:$G$5016,$G230,$H$20:$H$5016)+SUMIF('2.aTë ardhura-jopublik-monetare'!$G$20:$G$1016,'2.bTë ardhura-jopublik-nënatyrë'!$G230,'2.aTë ardhura-jopublik-monetare'!$H$20:$H$1016)","v":0}]
[null,null,null,null,null,null,null,null,null,{"$f":"SUMIF($G$20:$G$5016,$G231,$H$20:$H$5016)+SUMIF('2.aTë ardhura-jopublik-monetare'!$G$20:$G$1016,'2.bTë ardhura-jopublik-nënatyrë'!$G231,'2.aTë ardhura-jopublik-monetare'!$H$20:$H$1016)","v":0}]
[null,null,null,null,null,null,null,null,null,{"$f":"SUMIF($G$20:$G$5016,$G232,$H$20:$H$5016)+SUMIF('2.aTë ardhura-jopublik-monetare'!$G$20:$G$1016,'2.bTë ardhura-jopublik-nënatyrë'!$G232,'2.aTë ardhura-jopublik-monetare'!$H$20:$H$1016)","v":0}]
[null,null,null,null,null,null,null,null,null,{"$f":"SUMIF($G$20:$G$5016,$G233,$H$20:$H$5016)+SUMIF('2.aTë ardhura-jopublik-monetare'!$G$20:$G$1016,'2.bTë ardhura-jopublik-nënatyrë'!$G233,'2.aTë ardhura-jopublik-monetare'!$H$20:$H$1016)","v":0}]
[null,null,null,null,null,null,null,null,null,{"$f":"SUMIF($G$20:$G$5016,$G234,$H$20:$H$5016)+SUMIF('2.aTë ardhura-jopublik-monetare'!$G$20:$G$1016,'2.bTë ardhura-jopublik-nënatyrë'!$G234,'2.aTë ardhura-jopublik-monetare'!$H$20:$H$1016)","v":0}]
[null,null,null,null,null,null,null,null,null,{"$f":"SUMIF($G$20:$G$5016,$G235,$H$20:$H$5016)+SUMIF('2.aTë ardhura-jopublik-monetare'!$G$20:$G$1016,'2.bTë ardhura-jopublik-nënatyrë'!$G235,'2.aTë ardhura-jopublik-monetare'!$H$20:$H$1016)","v":0}]
[null,null,null,null,null,null,null,null,null,{"$f":"SUMIF($G$20:$G$5016,$G236,$H$20:$H$5016)+SUMIF('2.aTë ardhura-jopublik-monetare'!$G$20:$G$1016,'2.bTë ardhura-jopublik-nënatyrë'!$G236,'2.aTë ardhura-jopublik-monetare'!$H$20:$H$1016)","v":0}]
[null,null,null,null,null,null,null,null,null,{"$f":"SUMIF($G$20:$G$5016,$G237,$H$20:$H$5016)+SUMIF('2.aTë ardhura-jopublik-monetare'!$G$20:$G$1016,'2.bTë ardhura-jopublik-nënatyrë'!$G237,'2.aTë ardhura-jopublik-monetare'!$H$20:$H$1016)","v":0}]
[null,null,null,null,null,null,null,null,null,{"$f":"SUMIF($G$20:$G$5016,$G238,$H$20:$H$5016)+SUMIF('2.aTë ardhura-jopublik-monetare'!$G$20:$G$1016,'2.bTë ardhura-jopublik-nënatyrë'!$G238,'2.aTë ardhura-jopublik-monetare'!$H$20:$H$1016)","v":0}]
[null,null,null,null,null,null,null,null,null,{"$f":"SUMIF($G$20:$G$5016,$G239,$H$20:$H$5016)+SUMIF('2.aTë ardhura-jopublik-monetare'!$G$20:$G$1016,'2.bTë ardhura-jopublik-nënatyrë'!$G239,'2.aTë ardhura-jopublik-monetare'!$H$20:$H$1016)","v":0}]
[null,null,null,null,null,null,null,null,null,{"$f":"SUMIF($G$20:$G$5016,$G240,$H$20:$H$5016)+SUMIF('2.aTë ardhura-jopublik-monetare'!$G$20:$G$1016,'2.bTë ardhura-jopublik-nënatyrë'!$G240,'2.aTë ardhura-jopublik-monetare'!$H$20:$H$1016)","v":0}]
[null,null,null,null,null,null,null,null,null,{"$f":"SUMIF($G$20:$G$5016,$G241,$H$20:$H$5016)+SUMIF('2.aTë ardhura-jopublik-monetare'!$G$20:$G$1016,'2.bTë ardhura-jopublik-nënatyrë'!$G241,'2.aTë ardhura-jopublik-monetare'!$H$20:$H$1016)","v":0}]
[null,null,null,null,null,null,null,null,null,{"$f":"SUMIF($G$20:$G$5016,$G242,$H$20:$H$5016)+SUMIF('2.aTë ardhura-jopublik-monetare'!$G$20:$G$1016,'2.bTë ardhura-jopublik-nënatyrë'!$G242,'2.aTë ardhura-jopublik-monetare'!$H$20:$H$1016)","v":0}]
[null,null,null,null,null,null,null,null,null,{"$f":"SUMIF($G$20:$G$5016,$G243,$H$20:$H$5016)+SUMIF('2.aTë ardhura-jopublik-monetare'!$G$20:$G$1016,'2.bTë ardhura-jopublik-nënatyrë'!$G243,'2.aTë ardhura-jopublik-monetare'!$H$20:$H$1016)","v":0}]
[null,null,null,null,null,null,null,null,null,{"$f":"SUMIF($G$20:$G$5016,$G244,$H$20:$H$5016)+SUMIF('2.aTë ardhura-jopublik-monetare'!$G$20:$G$1016,'2.bTë ardhura-jopublik-nënatyrë'!$G244,'2.aTë ardhura-jopublik-monetare'!$H$20:$H$1016)","v":0}]
[null,null,null,null,null,null,null,null,null,{"$f":"SUMIF($G$20:$G$5016,$G245,$H$20:$H$5016)+SUMIF('2.aTë ardhura-jopublik-monetare'!$G$20:$G$1016,'2.bTë ardhura-jopublik-nënatyrë'!$G245,'2.aTë ardhura-jopublik-monetare'!$H$20:$H$1016)","v":0}]
[null,null,null,null,null,null,null,null,null,{"$f":"SUMIF($G$20:$G$5016,$G246,$H$20:$H$5016)+SUMIF('2.aTë ardhura-jopublik-monetare'!$G$20:$G$1016,'2.bTë ardhura-jopublik-nënatyrë'!$G246,'2.aTë ardhura-jopublik-monetare'!$H$20:$H$1016)","v":0}]
[null,null,null,null,null,null,null,null,null,{"$f":"SUMIF($G$20:$G$5016,$G247,$H$20:$H$5016)+SUMIF('2.aTë ardhura-jopublik-monetare'!$G$20:$G$1016,'2.bTë ardhura-jopublik-nënatyrë'!$G247,'2.aTë ardhura-jopublik-monetare'!$H$20:$H$1016)","v":0}]
[null,null,null,null,null,null,null,null,null,{"$f":"SUMIF($G$20:$G$5016,$G248,$H$20:$H$5016)+SUMIF('2.aTë ardhura-jopublik-monetare'!$G$20:$G$1016,'2.bTë ardhura-jopublik-nënatyrë'!$G248,'2.aTë ardhura-jopublik-monetare'!$H$20:$H$1016)","v":0}]
[null,null,null,null,null,null,null,null,null,{"$f":"SUMIF($G$20:$G$5016,$G249,$H$20:$H$5016)+SUMIF('2.aTë ardhura-jopublik-monetare'!$G$20:$G$1016,'2.bTë ardhura-jopublik-nënatyrë'!$G249,'2.aTë ardhura-jopublik-monetare'!$H$20:$H$1016)","v":0}]
[null,null,null,null,null,null,null,null,null,{"$f":"SUMIF($G$20:$G$5016,$G250,$H$20:$H$5016)+SUMIF('2.aTë ardhura-jopublik-monetare'!$G$20:$G$1016,'2.bTë ardhura-jopublik-nënatyrë'!$G250,'2.aTë ardhura-jopublik-monetare'!$H$20:$H$1016)","v":0}]
[null,null,null,null,null,null,null,null,null,{"$f":"SUMIF($G$20:$G$5016,$G251,$H$20:$H$5016)+SUMIF('2.aTë ardhura-jopublik-monetare'!$G$20:$G$1016,'2.bTë ardhura-jopublik-nënatyrë'!$G251,'2.aTë ardhura-jopublik-monetare'!$H$20:$H$1016)","v":0}]
[null,null,null,null,null,null,null,null,null,{"$f":"SUMIF($G$20:$G$5016,$G252,$H$20:$H$5016)+SUMIF('2.aTë ardhura-jopublik-monetare'!$G$20:$G$1016,'2.bTë ardhura-jopublik-nënatyrë'!$G252,'2.aTë ardhura-jopublik-monetare'!$H$20:$H$1016)","v":0}]
[null,null,null,null,null,null,null,null,null,{"$f":"SUMIF($G$20:$G$5016,$G253,$H$20:$H$5016)+SUMIF('2.aTë ardhura-jopublik-monetare'!$G$20:$G$1016,'2.bTë ardhura-jopublik-nënatyrë'!$G253,'2.aTë ardhura-jopublik-monetare'!$H$20:$H$1016)","v":0}]
[null,null,null,null,null,null,null,null,null,{"$f":"SUMIF($G$20:$G$5016,$G254,$H$20:$H$5016)+SUMIF('2.aTë ardhura-jopublik-monetare'!$G$20:$G$1016,'2.bTë ardhura-jopublik-nënatyrë'!$G254,'2.aTë ardhura-jopublik-monetare'!$H$20:$H$1016)","v":0}]
[null,null,null,null,null,null,null,null,null,{"$f":"SUMIF($G$20:$G$5016,$G255,$H$20:$H$5016)+SUMIF('2.aTë ardhura-jopublik-monetare'!$G$20:$G$1016,'2.bTë ardhura-jopublik-nënatyrë'!$G255,'2.aTë ardhura-jopublik-monetare'!$H$20:$H$1016)","v":0}]
[null,null,null,null,null,null,null,null,null,{"$f":"SUMIF($G$20:$G$5016,$G256,$H$20:$H$5016)+SUMIF('2.aTë ardhura-jopublik-monetare'!$G$20:$G$1016,'2.bTë ardhura-jopublik-nënatyrë'!$G256,'2.aTë ardhura-jopublik-monetare'!$H$20:$H$1016)","v":0}]
[null,null,null,null,null,null,null,null,null,{"$f":"SUMIF($G$20:$G$5016,$G257,$H$20:$H$5016)+SUMIF('2.aTë ardhura-jopublik-monetare'!$G$20:$G$1016,'2.bTë ardhura-jopublik-nënatyrë'!$G257,'2.aTë ardhura-jopublik-monetare'!$H$20:$H$1016)","v":0}]
[null,null,null,null,null,null,null,null,null,{"$f":"SUMIF($G$20:$G$5016,$G258,$H$20:$H$5016)+SUMIF('2.aTë ardhura-jopublik-monetare'!$G$20:$G$1016,'2.bTë ardhura-jopublik-nënatyrë'!$G258,'2.aTë ardhura-jopublik-monetare'!$H$20:$H$1016)","v":0}]
[null,null,null,null,null,null,null,null,null,{"$f":"SUMIF($G$20:$G$5016,$G259,$H$20:$H$5016)+SUMIF('2.aTë ardhura-jopublik-monetare'!$G$20:$G$1016,'2.bTë ardhura-jopublik-nënatyrë'!$G259,'2.aTë ardhura-jopublik-monetare'!$H$20:$H$1016)","v":0}]
[null,null,null,null,null,null,null,null,null,{"$f":"SUMIF($G$20:$G$5016,$G260,$H$20:$H$5016)+SUMIF('2.aTë ardhura-jopublik-monetare'!$G$20:$G$1016,'2.bTë ardhura-jopublik-nënatyrë'!$G260,'2.aTë ardhura-jopublik-monetare'!$H$20:$H$1016)","v":0}]
[null,null,null,null,null,null,null,null,null,{"$f":"SUMIF($G$20:$G$5016,$G261,$H$20:$H$5016)+SUMIF('2.aTë ardhura-jopublik-monetare'!$G$20:$G$1016,'2.bTë ardhura-jopublik-nënatyrë'!$G261,'2.aTë ardhura-jopublik-monetare'!$H$20:$H$1016)","v":0}]
[null,null,null,null,null,null,null,null,null,{"$f":"SUMIF($G$20:$G$5016,$G262,$H$20:$H$5016)+SUMIF('2.aTë ardhura-jopublik-monetare'!$G$20:$G$1016,'2.bTë ardhura-jopublik-nënatyrë'!$G262,'2.aTë ardhura-jopublik-monetare'!$H$20:$H$1016)","v":0}]
[null,null,null,null,null,null,null,null,null,{"$f":"SUMIF($G$20:$G$5016,$G263,$H$20:$H$5016)+SUMIF('2.aTë ardhura-jopublik-monetare'!$G$20:$G$1016,'2.bTë ardhura-jopublik-nënatyrë'!$G263,'2.aTë ardhura-jopublik-monetare'!$H$20:$H$1016)","v":0}]
[null,null,null,null,null,null,null,null,null,{"$f":"SUMIF($G$20:$G$5016,$G264,$H$20:$H$5016)+SUMIF('2.aTë ardhura-jopublik-monetare'!$G$20:$G$1016,'2.bTë ardhura-jopublik-nënatyrë'!$G264,'2.aTë ardhura-jopublik-monetare'!$H$20:$H$1016)","v":0}]
[null,null,null,null,null,null,null,null,null,{"$f":"SUMIF($G$20:$G$5016,$G265,$H$20:$H$5016)+SUMIF('2.aTë ardhura-jopublik-monetare'!$G$20:$G$1016,'2.bTë ardhura-jopublik-nënatyrë'!$G265,'2.aTë ardhura-jopublik-monetare'!$H$20:$H$1016)","v":0}]
[null,null,null,null,null,null,null,null,null,{"$f":"SUMIF($G$20:$G$5016,$G266,$H$20:$H$5016)+SUMIF('2.aTë ardhura-jopublik-monetare'!$G$20:$G$1016,'2.bTë ardhura-jopublik-nënatyrë'!$G266,'2.aTë ardhura-jopublik-monetare'!$H$20:$H$1016)","v":0}]
[null,null,null,null,null,null,null,null,null,{"$f":"SUMIF($G$20:$G$5016,$G267,$H$20:$H$5016)+SUMIF('2.aTë ardhura-jopublik-monetare'!$G$20:$G$1016,'2.bTë ardhura-jopublik-nënatyrë'!$G267,'2.aTë ardhura-jopublik-monetare'!$H$20:$H$1016)","v":0}]
[null,null,null,null,null,null,null,null,null,{"$f":"SUMIF($G$20:$G$5016,$G268,$H$20:$H$5016)+SUMIF('2.aTë ardhura-jopublik-monetare'!$G$20:$G$1016,'2.bTë ardhura-jopublik-nënatyrë'!$G268,'2.aTë ardhura-jopublik-monetare'!$H$20:$H$1016)","v":0}]
[null,null,null,null,null,null,null,null,null,{"$f":"SUMIF($G$20:$G$5016,$G269,$H$20:$H$5016)+SUMIF('2.aTë ardhura-jopublik-monetare'!$G$20:$G$1016,'2.bTë ardhura-jopublik-nënatyrë'!$G269,'2.aTë ardhura-jopublik-monetare'!$H$20:$H$1016)","v":0}]
[null,null,null,null,null,null,null,null,null,{"$f":"SUMIF($G$20:$G$5016,$G270,$H$20:$H$5016)+SUMIF('2.aTë ardhura-jopublik-monetare'!$G$20:$G$1016,'2.bTë ardhura-jopublik-nënatyrë'!$G270,'2.aTë ardhura-jopublik-monetare'!$H$20:$H$1016)","v":0}]
[null,null,null,null,null,null,null,null,null,{"$f":"SUMIF($G$20:$G$5016,$G271,$H$20:$H$5016)+SUMIF('2.aTë ardhura-jopublik-monetare'!$G$20:$G$1016,'2.bTë ardhura-jopublik-nënatyrë'!$G271,'2.aTë ardhura-jopublik-monetare'!$H$20:$H$1016)","v":0}]
[null,null,null,null,null,null,null,null,null,{"$f":"SUMIF($G$20:$G$5016,$G272,$H$20:$H$5016)+SUMIF('2.aTë ardhura-jopublik-monetare'!$G$20:$G$1016,'2.bTë ardhura-jopublik-nënatyrë'!$G272,'2.aTë ardhura-jopublik-monetare'!$H$20:$H$1016)","v":0}]
[null,null,null,null,null,null,null,null,null,{"$f":"SUMIF($G$20:$G$5016,$G273,$H$20:$H$5016)+SUMIF('2.aTë ardhura-jopublik-monetare'!$G$20:$G$1016,'2.bTë ardhura-jopublik-nënatyrë'!$G273,'2.aTë ardhura-jopublik-monetare'!$H$20:$H$1016)","v":0}]
[null,null,null,null,null,null,null,null,null,{"$f":"SUMIF($G$20:$G$5016,$G274,$H$20:$H$5016)+SUMIF('2.aTë ardhura-jopublik-monetare'!$G$20:$G$1016,'2.bTë ardhura-jopublik-nënatyrë'!$G274,'2.aTë ardhura-jopublik-monetare'!$H$20:$H$1016)","v":0}]
[null,null,null,null,null,null,null,null,null,{"$f":"SUMIF($G$20:$G$5016,$G275,$H$20:$H$5016)+SUMIF('2.aTë ardhura-jopublik-monetare'!$G$20:$G$1016,'2.bTë ardhura-jopublik-nënatyrë'!$G275,'2.aTë ardhura-jopublik-monetare'!$H$20:$H$1016)","v":0}]
[null,null,null,null,null,null,null,null,null,{"$f":"SUMIF($G$20:$G$5016,$G276,$H$20:$H$5016)+SUMIF('2.aTë ardhura-jopublik-monetare'!$G$20:$G$1016,'2.bTë ardhura-jopublik-nënatyrë'!$G276,'2.aTë ardhura-jopublik-monetare'!$H$20:$H$1016)","v":0}]
[null,null,null,null,null,null,null,null,null,{"$f":"SUMIF($G$20:$G$5016,$G277,$H$20:$H$5016)+SUMIF('2.aTë ardhura-jopublik-monetare'!$G$20:$G$1016,'2.bTë ardhura-jopublik-nënatyrë'!$G277,'2.aTë ardhura-jopublik-monetare'!$H$20:$H$1016)","v":0}]
[null,null,null,null,null,null,null,null,null,{"$f":"SUMIF($G$20:$G$5016,$G278,$H$20:$H$5016)+SUMIF('2.aTë ardhura-jopublik-monetare'!$G$20:$G$1016,'2.bTë ardhura-jopublik-nënatyrë'!$G278,'2.aTë ardhura-jopublik-monetare'!$H$20:$H$1016)","v":0}]
[null,null,null,null,null,null,null,null,null,{"$f":"SUMIF($G$20:$G$5016,$G279,$H$20:$H$5016)+SUMIF('2.aTë ardhura-jopublik-monetare'!$G$20:$G$1016,'2.bTë ardhura-jopublik-nënatyrë'!$G279,'2.aTë ardhura-jopublik-monetare'!$H$20:$H$1016)","v":0}]
[null,null,null,null,null,null,null,null,null,{"$f":"SUMIF($G$20:$G$5016,$G280,$H$20:$H$5016)+SUMIF('2.aTë ardhura-jopublik-monetare'!$G$20:$G$1016,'2.bTë ardhura-jopublik-nënatyrë'!$G280,'2.aTë ardhura-jopublik-monetare'!$H$20:$H$1016)","v":0}]
[null,null,null,null,null,null,null,null,null,{"$f":"SUMIF($G$20:$G$5016,$G281,$H$20:$H$5016)+SUMIF('2.aTë ardhura-jopublik-monetare'!$G$20:$G$1016,'2.bTë ardhura-jopublik-nënatyrë'!$G281,'2.aTë ardhura-jopublik-monetare'!$H$20:$H$1016)","v":0}]
[null,null,null,null,null,null,null,null,null,{"$f":"SUMIF($G$20:$G$5016,$G282,$H$20:$H$5016)+SUMIF('2.aTë ardhura-jopublik-monetare'!$G$20:$G$1016,'2.bTë ardhura-jopublik-nënatyrë'!$G282,'2.aTë ardhura-jopublik-monetare'!$H$20:$H$1016)","v":0}]
[null,null,null,null,null,null,null,null,null,{"$f":"SUMIF($G$20:$G$5016,$G283,$H$20:$H$5016)+SUMIF('2.aTë ardhura-jopublik-monetare'!$G$20:$G$1016,'2.bTë ardhura-jopublik-nënatyrë'!$G283,'2.aTë ardhura-jopublik-monetare'!$H$20:$H$1016)","v":0}]
[null,null,null,null,null,null,null,null,null,{"$f":"SUMIF($G$20:$G$5016,$G284,$H$20:$H$5016)+SUMIF('2.aTë ardhura-jopublik-monetare'!$G$20:$G$1016,'2.bTë ardhura-jopublik-nënatyrë'!$G284,'2.aTë ardhura-jopublik-monetare'!$H$20:$H$1016)","v":0}]
[null,null,null,null,null,null,null,null,null,{"$f":"SUMIF($G$20:$G$5016,$G285,$H$20:$H$5016)+SUMIF('2.aTë ardhura-jopublik-monetare'!$G$20:$G$1016,'2.bTë ardhura-jopublik-nënatyrë'!$G285,'2.aTë ardhura-jopublik-monetare'!$H$20:$H$1016)","v":0}]
[null,null,null,null,null,null,null,null,null,{"$f":"SUMIF($G$20:$G$5016,$G286,$H$20:$H$5016)+SUMIF('2.aTë ardhura-jopublik-monetare'!$G$20:$G$1016,'2.bTë ardhura-jopublik-nënatyrë'!$G286,'2.aTë ardhura-jopublik-monetare'!$H$20:$H$1016)","v":0}]
[null,null,null,null,null,null,null,null,null,{"$f":"SUMIF($G$20:$G$5016,$G287,$H$20:$H$5016)+SUMIF('2.aTë ardhura-jopublik-monetare'!$G$20:$G$1016,'2.bTë ardhura-jopublik-nënatyrë'!$G287,'2.aTë ardhura-jopublik-monetare'!$H$20:$H$1016)","v":0}]
[null,null,null,null,null,null,null,null,null,{"$f":"SUMIF($G$20:$G$5016,$G288,$H$20:$H$5016)+SUMIF('2.aTë ardhura-jopublik-monetare'!$G$20:$G$1016,'2.bTë ardhura-jopublik-nënatyrë'!$G288,'2.aTë ardhura-jopublik-monetare'!$H$20:$H$1016)","v":0}]
[null,null,null,null,null,null,null,null,null,{"$f":"SUMIF($G$20:$G$5016,$G289,$H$20:$H$5016)+SUMIF('2.aTë ardhura-jopublik-monetare'!$G$20:$G$1016,'2.bTë ardhura-jopublik-nënatyrë'!$G289,'2.aTë ardhura-jopublik-monetare'!$H$20:$H$1016)","v":0}]
[null,null,null,null,null,null,null,null,null,{"$f":"SUMIF($G$20:$G$5016,$G290,$H$20:$H$5016)+SUMIF('2.aTë ardhura-jopublik-monetare'!$G$20:$G$1016,'2.bTë ardhura-jopublik-nënatyrë'!$G290,'2.aTë ardhura-jopublik-monetare'!$H$20:$H$1016)","v":0}]
[null,null,null,null,null,null,null,null,null,{"$f":"SUMIF($G$20:$G$5016,$G291,$H$20:$H$5016)+SUMIF('2.aTë ardhura-jopublik-monetare'!$G$20:$G$1016,'2.bTë ardhura-jopublik-nënatyrë'!$G291,'2.aTë ardhura-jopublik-monetare'!$H$20:$H$1016)","v":0}]
[null,null,null,null,null,null,null,null,null,{"$f":"SUMIF($G$20:$G$5016,$G292,$H$20:$H$5016)+SUMIF('2.aTë ardhura-jopublik-monetare'!$G$20:$G$1016,'2.bTë ardhura-jopublik-nënatyrë'!$G292,'2.aTë ardhura-jopublik-monetare'!$H$20:$H$1016)","v":0}]
[null,null,null,null,null,null,null,null,null,{"$f":"SUMIF($G$20:$G$5016,$G293,$H$20:$H$5016)+SUMIF('2.aTë ardhura-jopublik-monetare'!$G$20:$G$1016,'2.bTë ardhura-jopublik-nënatyrë'!$G293,'2.aTë ardhura-jopublik-monetare'!$H$20:$H$1016)","v":0}]
[null,null,null,null,null,null,null,null,null,{"$f":"SUMIF($G$20:$G$5016,$G294,$H$20:$H$5016)+SUMIF('2.aTë ardhura-jopublik-monetare'!$G$20:$G$1016,'2.bTë ardhura-jopublik-nënatyrë'!$G294,'2.aTë ardhura-jopublik-monetare'!$H$20:$H$1016)","v":0}]
[null,null,null,null,null,null,null,null,null,{"$f":"SUMIF($G$20:$G$5016,$G295,$H$20:$H$5016)+SUMIF('2.aTë ardhura-jopublik-monetare'!$G$20:$G$1016,'2.bTë ardhura-jopublik-nënatyrë'!$G295,'2.aTë ardhura-jopublik-monetare'!$H$20:$H$1016)","v":0}]
[null,null,null,null,null,null,null,null,null,{"$f":"SUMIF($G$20:$G$5016,$G296,$H$20:$H$5016)+SUMIF('2.aTë ardhura-jopublik-monetare'!$G$20:$G$1016,'2.bTë ardhura-jopublik-nënatyrë'!$G296,'2.aTë ardhura-jopublik-monetare'!$H$20:$H$1016)","v":0}]
[null,null,null,null,null,null,null,null,null,{"$f":"SUMIF($G$20:$G$5016,$G297,$H$20:$H$5016)+SUMIF('2.aTë ardhura-jopublik-monetare'!$G$20:$G$1016,'2.bTë ardhura-jopublik-nënatyrë'!$G297,'2.aTë ardhura-jopublik-monetare'!$H$20:$H$1016)","v":0}]
[null,null,null,null,null,null,null,null,null,{"$f":"SUMIF($G$20:$G$5016,$G298,$H$20:$H$5016)+SUMIF('2.aTë ardhura-jopublik-monetare'!$G$20:$G$1016,'2.bTë ardhura-jopublik-nënatyrë'!$G298,'2.aTë ardhura-jopublik-monetare'!$H$20:$H$1016)","v":0}]
[null,null,null,null,null,null,null,null,null,{"$f":"SUMIF($G$20:$G$5016,$G299,$H$20:$H$5016)+SUMIF('2.aTë ardhura-jopublik-monetare'!$G$20:$G$1016,'2.bTë ardhura-jopublik-nënatyrë'!$G299,'2.aTë ardhura-jopublik-monetare'!$H$20:$H$1016)","v":0}]
[null,null,null,null,null,null,null,null,null,{"$f":"SUMIF($G$20:$G$5016,$G300,$H$20:$H$5016)+SUMIF('2.aTë ardhura-jopublik-monetare'!$G$20:$G$1016,'2.bTë ardhura-jopublik-nënatyrë'!$G300,'2.aTë ardhura-jopublik-monetare'!$H$20:$H$1016)","v":0}]
[null,null,null,null,null,null,null,null,null,{"$f":"SUMIF($G$20:$G$5016,$G301,$H$20:$H$5016)+SUMIF('2.aTë ardhura-jopublik-monetare'!$G$20:$G$1016,'2.bTë ardhura-jopublik-nënatyrë'!$G301,'2.aTë ardhura-jopublik-monetare'!$H$20:$H$1016)","v":0}]
[null,null,null,null,null,null,null,null,null,{"$f":"SUMIF($G$20:$G$5016,$G302,$H$20:$H$5016)+SUMIF('2.aTë ardhura-jopublik-monetare'!$G$20:$G$1016,'2.bTë ardhura-jopublik-nënatyrë'!$G302,'2.aTë ardhura-jopublik-monetare'!$H$20:$H$1016)","v":0}]
[null,null,null,null,null,null,null,null,null,{"$f":"SUMIF($G$20:$G$5016,$G303,$H$20:$H$5016)+SUMIF('2.aTë ardhura-jopublik-monetare'!$G$20:$G$1016,'2.bTë ardhura-jopublik-nënatyrë'!$G303,'2.aTë ardhura-jopublik-monetare'!$H$20:$H$1016)","v":0}]
[null,null,null,null,null,null,null,null,null,{"$f":"SUMIF($G$20:$G$5016,$G304,$H$20:$H$5016)+SUMIF('2.aTë ardhura-jopublik-monetare'!$G$20:$G$1016,'2.bTë ardhura-jopublik-nënatyrë'!$G304,'2.aTë ardhura-jopublik-monetare'!$H$20:$H$1016)","v":0}]
[null,null,null,null,null,null,null,null,null,{"$f":"SUMIF($G$20:$G$5016,$G305,$H$20:$H$5016)+SUMIF('2.aTë ardhura-jopublik-monetare'!$G$20:$G$1016,'2.bTë ardhura-jopublik-nënatyrë'!$G305,'2.aTë ardhura-jopublik-monetare'!$H$20:$H$1016)","v":0}]
[null,null,null,null,null,null,null,null,null,{"$f":"SUMIF($G$20:$G$5016,$G306,$H$20:$H$5016)+SUMIF('2.aTë ardhura-jopublik-monetare'!$G$20:$G$1016,'2.bTë ardhura-jopublik-nënatyrë'!$G306,'2.aTë ardhura-jopublik-monetare'!$H$20:$H$1016)","v":0}]
[null,null,null,null,null,null,null,null,null,{"$f":"SUMIF($G$20:$G$5016,$G307,$H$20:$H$5016)+SUMIF('2.aTë ardhura-jopublik-monetare'!$G$20:$G$1016,'2.bTë ardhura-jopublik-nënatyrë'!$G307,'2.aTë ardhura-jopublik-monetare'!$H$20:$H$1016)","v":0}]
[null,null,null,null,null,null,null,null,null,{"$f":"SUMIF($G$20:$G$5016,$G308,$H$20:$H$5016)+SUMIF('2.aTë ardhura-jopublik-monetare'!$G$20:$G$1016,'2.bTë ardhura-jopublik-nënatyrë'!$G308,'2.aTë ardhura-jopublik-monetare'!$H$20:$H$1016)","v":0}]
[null,null,null,null,null,null,null,null,null,{"$f":"SUMIF($G$20:$G$5016,$G309,$H$20:$H$5016)+SUMIF('2.aTë ardhura-jopublik-monetare'!$G$20:$G$1016,'2.bTë ardhura-jopublik-nënatyrë'!$G309,'2.aTë ardhura-jopublik-monetare'!$H$20:$H$1016)","v":0}]
[null,null,null,null,null,null,null,null,null,{"$f":"SUMIF($G$20:$G$5016,$G310,$H$20:$H$5016)+SUMIF('2.aTë ardhura-jopublik-monetare'!$G$20:$G$1016,'2.bTë ardhura-jopublik-nënatyrë'!$G310,'2.aTë ardhura-jopublik-monetare'!$H$20:$H$1016)","v":0}]
[null,null,null,null,null,null,null,null,null,{"$f":"SUMIF($G$20:$G$5016,$G311,$H$20:$H$5016)+SUMIF('2.aTë ardhura-jopublik-monetare'!$G$20:$G$1016,'2.bTë ardhura-jopublik-nënatyrë'!$G311,'2.aTë ardhura-jopublik-monetare'!$H$20:$H$1016)","v":0}]
[null,null,null,null,null,null,null,null,null,{"$f":"SUMIF($G$20:$G$5016,$G312,$H$20:$H$5016)+SUMIF('2.aTë ardhura-jopublik-monetare'!$G$20:$G$1016,'2.bTë ardhura-jopublik-nënatyrë'!$G312,'2.aTë ardhura-jopublik-monetare'!$H$20:$H$1016)","v":0}]
[null,null,null,null,null,null,null,null,null,{"$f":"SUMIF($G$20:$G$5016,$G313,$H$20:$H$5016)+SUMIF('2.aTë ardhura-jopublik-monetare'!$G$20:$G$1016,'2.bTë ardhura-jopublik-nënatyrë'!$G313,'2.aTë ardhura-jopublik-monetare'!$H$20:$H$1016)","v":0}]
[null,null,null,null,null,null,null,null,null,{"$f":"SUMIF($G$20:$G$5016,$G314,$H$20:$H$5016)+SUMIF('2.aTë ardhura-jopublik-monetare'!$G$20:$G$1016,'2.bTë ardhura-jopublik-nënatyrë'!$G314,'2.aTë ardhura-jopublik-monetare'!$H$20:$H$1016)","v":0}]
[null,null,null,null,null,null,null,null,null,{"$f":"SUMIF($G$20:$G$5016,$G315,$H$20:$H$5016)+SUMIF('2.aTë ardhura-jopublik-monetare'!$G$20:$G$1016,'2.bTë ardhura-jopublik-nënatyrë'!$G315,'2.aTë ardhura-jopublik-monetare'!$H$20:$H$1016)","v":0}]
[null,null,null,null,null,null,null,null,null,{"$f":"SUMIF($G$20:$G$5016,$G316,$H$20:$H$5016)+SUMIF('2.aTë ardhura-jopublik-monetare'!$G$20:$G$1016,'2.bTë ardhura-jopublik-nënatyrë'!$G316,'2.aTë ardhura-jopublik-monetare'!$H$20:$H$1016)","v":0}]
[null,null,null,null,null,null,null,null,null,{"$f":"SUMIF($G$20:$G$5016,$G317,$H$20:$H$5016)+SUMIF('2.aTë ardhura-jopublik-monetare'!$G$20:$G$1016,'2.bTë ardhura-jopublik-nënatyrë'!$G317,'2.aTë ardhura-jopublik-monetare'!$H$20:$H$1016)","v":0}]
[null,null,null,null,null,null,null,null,null,{"$f":"SUMIF($G$20:$G$5016,$G318,$H$20:$H$5016)+SUMIF('2.aTë ardhura-jopublik-monetare'!$G$20:$G$1016,'2.bTë ardhura-jopublik-nënatyrë'!$G318,'2.aTë ardhura-jopublik-monetare'!$H$20:$H$1016)","v":0}]
[null,null,null,null,null,null,null,null,null,{"$f":"SUMIF($G$20:$G$5016,$G319,$H$20:$H$5016)+SUMIF('2.aTë ardhura-jopublik-monetare'!$G$20:$G$1016,'2.bTë ardhura-jopublik-nënatyrë'!$G319,'2.aTë ardhura-jopublik-monetare'!$H$20:$H$1016)","v":0}]
[null,null,null,null,null,null,null,null,null,{"$f":"SUMIF($G$20:$G$5016,$G320,$H$20:$H$5016)+SUMIF('2.aTë ardhura-jopublik-monetare'!$G$20:$G$1016,'2.bTë ardhura-jopublik-nënatyrë'!$G320,'2.aTë ardhura-jopublik-monetare'!$H$20:$H$1016)","v":0}]
[null,null,null,null,null,null,null,null,null,{"$f":"SUMIF($G$20:$G$5016,$G321,$H$20:$H$5016)+SUMIF('2.aTë ardhura-jopublik-monetare'!$G$20:$G$1016,'2.bTë ardhura-jopublik-nënatyrë'!$G321,'2.aTë ardhura-jopublik-monetare'!$H$20:$H$1016)","v":0}]
[null,null,null,null,null,null,null,null,null,{"$f":"SUMIF($G$20:$G$5016,$G322,$H$20:$H$5016)+SUMIF('2.aTë ardhura-jopublik-monetare'!$G$20:$G$1016,'2.bTë ardhura-jopublik-nënatyrë'!$G322,'2.aTë ardhura-jopublik-monetare'!$H$20:$H$1016)","v":0}]
[null,null,null,null,null,null,null,null,null,{"$f":"SUMIF($G$20:$G$5016,$G323,$H$20:$H$5016)+SUMIF('2.aTë ardhura-jopublik-monetare'!$G$20:$G$1016,'2.bTë ardhura-jopublik-nënatyrë'!$G323,'2.aTë ardhura-jopublik-monetare'!$H$20:$H$1016)","v":0}]
[null,null,null,null,null,null,null,null,null,{"$f":"SUMIF($G$20:$G$5016,$G324,$H$20:$H$5016)+SUMIF('2.aTë ardhura-jopublik-monetare'!$G$20:$G$1016,'2.bTë ardhura-jopublik-nënatyrë'!$G324,'2.aTë ardhura-jopublik-monetare'!$H$20:$H$1016)","v":0}]
[null,null,null,null,null,null,null,null,null,{"$f":"SUMIF($G$20:$G$5016,$G325,$H$20:$H$5016)+SUMIF('2.aTë ardhura-jopublik-monetare'!$G$20:$G$1016,'2.bTë ardhura-jopublik-nënatyrë'!$G325,'2.aTë ardhura-jopublik-monetare'!$H$20:$H$1016)","v":0}]
[null,null,null,null,null,null,null,null,null,{"$f":"SUMIF($G$20:$G$5016,$G326,$H$20:$H$5016)+SUMIF('2.aTë ardhura-jopublik-monetare'!$G$20:$G$1016,'2.bTë ardhura-jopublik-nënatyrë'!$G326,'2.aTë ardhura-jopublik-monetare'!$H$20:$H$1016)","v":0}]
[null,null,null,null,null,null,null,null,null,{"$f":"SUMIF($G$20:$G$5016,$G327,$H$20:$H$5016)+SUMIF('2.aTë ardhura-jopublik-monetare'!$G$20:$G$1016,'2.bTë ardhura-jopublik-nënatyrë'!$G327,'2.aTë ardhura-jopublik-monetare'!$H$20:$H$1016)","v":0}]
[null,null,null,null,null,null,null,null,null,{"$f":"SUMIF($G$20:$G$5016,$G328,$H$20:$H$5016)+SUMIF('2.aTë ardhura-jopublik-monetare'!$G$20:$G$1016,'2.bTë ardhura-jopublik-nënatyrë'!$G328,'2.aTë ardhura-jopublik-monetare'!$H$20:$H$1016)","v":0}]
[null,null,null,null,null,null,null,null,null,{"$f":"SUMIF($G$20:$G$5016,$G329,$H$20:$H$5016)+SUMIF('2.aTë ardhura-jopublik-monetare'!$G$20:$G$1016,'2.bTë ardhura-jopublik-nënatyrë'!$G329,'2.aTë ardhura-jopublik-monetare'!$H$20:$H$1016)","v":0}]
[null,null,null,null,null,null,null,null,null,{"$f":"SUMIF($G$20:$G$5016,$G330,$H$20:$H$5016)+SUMIF('2.aTë ardhura-jopublik-monetare'!$G$20:$G$1016,'2.bTë ardhura-jopublik-nënatyrë'!$G330,'2.aTë ardhura-jopublik-monetare'!$H$20:$H$1016)","v":0}]
[null,null,null,null,null,null,null,null,null,{"$f":"SUMIF($G$20:$G$5016,$G331,$H$20:$H$5016)+SUMIF('2.aTë ardhura-jopublik-monetare'!$G$20:$G$1016,'2.bTë ardhura-jopublik-nënatyrë'!$G331,'2.aTë ardhura-jopublik-monetare'!$H$20:$H$1016)","v":0}]
[null,null,null,null,null,null,null,null,null,{"$f":"SUMIF($G$20:$G$5016,$G332,$H$20:$H$5016)+SUMIF('2.aTë ardhura-jopublik-monetare'!$G$20:$G$1016,'2.bTë ardhura-jopublik-nënatyrë'!$G332,'2.aTë ardhura-jopublik-monetare'!$H$20:$H$1016)","v":0}]
[null,null,null,null,null,null,null,null,null,{"$f":"SUMIF($G$20:$G$5016,$G333,$H$20:$H$5016)+SUMIF('2.aTë ardhura-jopublik-monetare'!$G$20:$G$1016,'2.bTë ardhura-jopublik-nënatyrë'!$G333,'2.aTë ardhura-jopublik-monetare'!$H$20:$H$1016)","v":0}]
[null,null,null,null,null,null,null,null,null,{"$f":"SUMIF($G$20:$G$5016,$G334,$H$20:$H$5016)+SUMIF('2.aTë ardhura-jopublik-monetare'!$G$20:$G$1016,'2.bTë ardhura-jopublik-nënatyrë'!$G334,'2.aTë ardhura-jopublik-monetare'!$H$20:$H$1016)","v":0}]
[null,null,null,null,null,null,null,null,null,{"$f":"SUMIF($G$20:$G$5016,$G335,$H$20:$H$5016)+SUMIF('2.aTë ardhura-jopublik-monetare'!$G$20:$G$1016,'2.bTë ardhura-jopublik-nënatyrë'!$G335,'2.aTë ardhura-jopublik-monetare'!$H$20:$H$1016)","v":0}]
[null,null,null,null,null,null,null,null,null,{"$f":"SUMIF($G$20:$G$5016,$G336,$H$20:$H$5016)+SUMIF('2.aTë ardhura-jopublik-monetare'!$G$20:$G$1016,'2.bTë ardhura-jopublik-nënatyrë'!$G336,'2.aTë ardhura-jopublik-monetare'!$H$20:$H$1016)","v":0}]
[null,null,null,null,null,null,null,null,null,{"$f":"SUMIF($G$20:$G$5016,$G337,$H$20:$H$5016)+SUMIF('2.aTë ardhura-jopublik-monetare'!$G$20:$G$1016,'2.bTë ardhura-jopublik-nënatyrë'!$G337,'2.aTë ardhura-jopublik-monetare'!$H$20:$H$1016)","v":0}]
[null,null,null,null,null,null,null,null,null,{"$f":"SUMIF($G$20:$G$5016,$G338,$H$20:$H$5016)+SUMIF('2.aTë ardhura-jopublik-monetare'!$G$20:$G$1016,'2.bTë ardhura-jopublik-nënatyrë'!$G338,'2.aTë ardhura-jopublik-monetare'!$H$20:$H$1016)","v":0}]
[null,null,null,null,null,null,null,null,null,{"$f":"SUMIF($G$20:$G$5016,$G339,$H$20:$H$5016)+SUMIF('2.aTë ardhura-jopublik-monetare'!$G$20:$G$1016,'2.bTë ardhura-jopublik-nënatyrë'!$G339,'2.aTë ardhura-jopublik-monetare'!$H$20:$H$1016)","v":0}]
[null,null,null,null,null,null,null,null,null,{"$f":"SUMIF($G$20:$G$5016,$G340,$H$20:$H$5016)+SUMIF('2.aTë ardhura-jopublik-monetare'!$G$20:$G$1016,'2.bTë ardhura-jopublik-nënatyrë'!$G340,'2.aTë ardhura-jopublik-monetare'!$H$20:$H$1016)","v":0}]
[null,null,null,null,null,null,null,null,null,{"$f":"SUMIF($G$20:$G$5016,$G341,$H$20:$H$5016)+SUMIF('2.aTë ardhura-jopublik-monetare'!$G$20:$G$1016,'2.bTë ardhura-jopublik-nënatyrë'!$G341,'2.aTë ardhura-jopublik-monetare'!$H$20:$H$1016)","v":0}]
[null,null,null,null,null,null,null,null,null,{"$f":"SUMIF($G$20:$G$5016,$G342,$H$20:$H$5016)+SUMIF('2.aTë ardhura-jopublik-monetare'!$G$20:$G$1016,'2.bTë ardhura-jopublik-nënatyrë'!$G342,'2.aTë ardhura-jopublik-monetare'!$H$20:$H$1016)","v":0}]
[null,null,null,null,null,null,null,null,null,{"$f":"SUMIF($G$20:$G$5016,$G343,$H$20:$H$5016)+SUMIF('2.aTë ardhura-jopublik-monetare'!$G$20:$G$1016,'2.bTë ardhura-jopublik-nënatyrë'!$G343,'2.aTë ardhura-jopublik-monetare'!$H$20:$H$1016)","v":0}]
[null,null,null,null,null,null,null,null,null,{"$f":"SUMIF($G$20:$G$5016,$G344,$H$20:$H$5016)+SUMIF('2.aTë ardhura-jopublik-monetare'!$G$20:$G$1016,'2.bTë ardhura-jopublik-nënatyrë'!$G344,'2.aTë ardhura-jopublik-monetare'!$H$20:$H$1016)","v":0}]
[null,null,null,null,null,null,null,null,null,{"$f":"SUMIF($G$20:$G$5016,$G345,$H$20:$H$5016)+SUMIF('2.aTë ardhura-jopublik-monetare'!$G$20:$G$1016,'2.bTë ardhura-jopublik-nënatyrë'!$G345,'2.aTë ardhura-jopublik-monetare'!$H$20:$H$1016)","v":0}]
[null,null,null,null,null,null,null,null,null,{"$f":"SUMIF($G$20:$G$5016,$G346,$H$20:$H$5016)+SUMIF('2.aTë ardhura-jopublik-monetare'!$G$20:$G$1016,'2.bTë ardhura-jopublik-nënatyrë'!$G346,'2.aTë ardhura-jopublik-monetare'!$H$20:$H$1016)","v":0}]
[null,null,null,null,null,null,null,null,null,{"$f":"SUMIF($G$20:$G$5016,$G347,$H$20:$H$5016)+SUMIF('2.aTë ardhura-jopublik-monetare'!$G$20:$G$1016,'2.bTë ardhura-jopublik-nënatyrë'!$G347,'2.aTë ardhura-jopublik-monetare'!$H$20:$H$1016)","v":0}]
[null,null,null,null,null,null,null,null,null,{"$f":"SUMIF($G$20:$G$5016,$G348,$H$20:$H$5016)+SUMIF('2.aTë ardhura-jopublik-monetare'!$G$20:$G$1016,'2.bTë ardhura-jopublik-nënatyrë'!$G348,'2.aTë ardhura-jopublik-monetare'!$H$20:$H$1016)","v":0}]
[null,null,null,null,null,null,null,null,null,{"$f":"SUMIF($G$20:$G$5016,$G349,$H$20:$H$5016)+SUMIF('2.aTë ardhura-jopublik-monetare'!$G$20:$G$1016,'2.bTë ardhura-jopublik-nënatyrë'!$G349,'2.aTë ardhura-jopublik-monetare'!$H$20:$H$1016)","v":0}]
[null,null,null,null,null,null,null,null,null,{"$f":"SUMIF($G$20:$G$5016,$G350,$H$20:$H$5016)+SUMIF('2.aTë ardhura-jopublik-monetare'!$G$20:$G$1016,'2.bTë ardhura-jopublik-nënatyrë'!$G350,'2.aTë ardhura-jopublik-monetare'!$H$20:$H$1016)","v":0}]
[null,null,null,null,null,null,null,null,null,{"$f":"SUMIF($G$20:$G$5016,$G351,$H$20:$H$5016)+SUMIF('2.aTë ardhura-jopublik-monetare'!$G$20:$G$1016,'2.bTë ardhura-jopublik-nënatyrë'!$G351,'2.aTë ardhura-jopublik-monetare'!$H$20:$H$1016)","v":0}]
[null,null,null,null,null,null,null,null,null,{"$f":"SUMIF($G$20:$G$5016,$G352,$H$20:$H$5016)+SUMIF('2.aTë ardhura-jopublik-monetare'!$G$20:$G$1016,'2.bTë ardhura-jopublik-nënatyrë'!$G352,'2.aTë ardhura-jopublik-monetare'!$H$20:$H$1016)","v":0}]
[null,null,null,null,null,null,null,null,null,{"$f":"SUMIF($G$20:$G$5016,$G353,$H$20:$H$5016)+SUMIF('2.aTë ardhura-jopublik-monetare'!$G$20:$G$1016,'2.bTë ardhura-jopublik-nënatyrë'!$G353,'2.aTë ardhura-jopublik-monetare'!$H$20:$H$1016)","v":0}]
[null,null,null,null,null,null,null,null,null,{"$f":"SUMIF($G$20:$G$5016,$G354,$H$20:$H$5016)+SUMIF('2.aTë ardhura-jopublik-monetare'!$G$20:$G$1016,'2.bTë ardhura-jopublik-nënatyrë'!$G354,'2.aTë ardhura-jopublik-monetare'!$H$20:$H$1016)","v":0}]
[null,null,null,null,null,null,null,null,null,{"$f":"SUMIF($G$20:$G$5016,$G355,$H$20:$H$5016)+SUMIF('2.aTë ardhura-jopublik-monetare'!$G$20:$G$1016,'2.bTë ardhura-jopublik-nënatyrë'!$G355,'2.aTë ardhura-jopublik-monetare'!$H$20:$H$1016)","v":0}]
[null,null,null,null,null,null,null,null,null,{"$f":"SUMIF($G$20:$G$5016,$G356,$H$20:$H$5016)+SUMIF('2.aTë ardhura-jopublik-monetare'!$G$20:$G$1016,'2.bTë ardhura-jopublik-nënatyrë'!$G356,'2.aTë ardhura-jopublik-monetare'!$H$20:$H$1016)","v":0}]
[null,null,null,null,null,null,null,null,null,{"$f":"SUMIF($G$20:$G$5016,$G357,$H$20:$H$5016)+SUMIF('2.aTë ardhura-jopublik-monetare'!$G$20:$G$1016,'2.bTë ardhura-jopublik-nënatyrë'!$G357,'2.aTë ardhura-jopublik-monetare'!$H$20:$H$1016)","v":0}]
[null,null,null,null,null,null,null,null,null,{"$f":"SUMIF($G$20:$G$5016,$G358,$H$20:$H$5016)+SUMIF('2.aTë ardhura-jopublik-monetare'!$G$20:$G$1016,'2.bTë ardhura-jopublik-nënatyrë'!$G358,'2.aTë ardhura-jopublik-monetare'!$H$20:$H$1016)","v":0}]
[null,null,null,null,null,null,null,null,null,{"$f":"SUMIF($G$20:$G$5016,$G359,$H$20:$H$5016)+SUMIF('2.aTë ardhura-jopublik-monetare'!$G$20:$G$1016,'2.bTë ardhura-jopublik-nënatyrë'!$G359,'2.aTë ardhura-jopublik-monetare'!$H$20:$H$1016)","v":0}]
[null,null,null,null,null,null,null,null,null,{"$f":"SUMIF($G$20:$G$5016,$G360,$H$20:$H$5016)+SUMIF('2.aTë ardhura-jopublik-monetare'!$G$20:$G$1016,'2.bTë ardhura-jopublik-nënatyrë'!$G360,'2.aTë ardhura-jopublik-monetare'!$H$20:$H$1016)","v":0}]
[null,null,null,null,null,null,null,null,null,{"$f":"SUMIF($G$20:$G$5016,$G361,$H$20:$H$5016)+SUMIF('2.aTë ardhura-jopublik-monetare'!$G$20:$G$1016,'2.bTë ardhura-jopublik-nënatyrë'!$G361,'2.aTë ardhura-jopublik-monetare'!$H$20:$H$1016)","v":0}]
[null,null,null,null,null,null,null,null,null,{"$f":"SUMIF($G$20:$G$5016,$G362,$H$20:$H$5016)+SUMIF('2.aTë ardhura-jopublik-monetare'!$G$20:$G$1016,'2.bTë ardhura-jopublik-nënatyrë'!$G362,'2.aTë ardhura-jopublik-monetare'!$H$20:$H$1016)","v":0}]
[null,null,null,null,null,null,null,null,null,{"$f":"SUMIF($G$20:$G$5016,$G363,$H$20:$H$5016)+SUMIF('2.aTë ardhura-jopublik-monetare'!$G$20:$G$1016,'2.bTë ardhura-jopublik-nënatyrë'!$G363,'2.aTë ardhura-jopublik-monetare'!$H$20:$H$1016)","v":0}]
[null,null,null,null,null,null,null,null,null,{"$f":"SUMIF($G$20:$G$5016,$G364,$H$20:$H$5016)+SUMIF('2.aTë ardhura-jopublik-monetare'!$G$20:$G$1016,'2.bTë ardhura-jopublik-nënatyrë'!$G364,'2.aTë ardhura-jopublik-monetare'!$H$20:$H$1016)","v":0}]
[null,null,null,null,null,null,null,null,null,{"$f":"SUMIF($G$20:$G$5016,$G365,$H$20:$H$5016)+SUMIF('2.aTë ardhura-jopublik-monetare'!$G$20:$G$1016,'2.bTë ardhura-jopublik-nënatyrë'!$G365,'2.aTë ardhura-jopublik-monetare'!$H$20:$H$1016)","v":0}]
[null,null,null,null,null,null,null,null,null,{"$f":"SUMIF($G$20:$G$5016,$G366,$H$20:$H$5016)+SUMIF('2.aTë ardhura-jopublik-monetare'!$G$20:$G$1016,'2.bTë ardhura-jopublik-nënatyrë'!$G366,'2.aTë ardhura-jopublik-monetare'!$H$20:$H$1016)","v":0}]
[null,null,null,null,null,null,null,null,null,{"$f":"SUMIF($G$20:$G$5016,$G367,$H$20:$H$5016)+SUMIF('2.aTë ardhura-jopublik-monetare'!$G$20:$G$1016,'2.bTë ardhura-jopublik-nënatyrë'!$G367,'2.aTë ardhura-jopublik-monetare'!$H$20:$H$1016)","v":0}]
[null,null,null,null,null,null,null,null,null,{"$f":"SUMIF($G$20:$G$5016,$G368,$H$20:$H$5016)+SUMIF('2.aTë ardhura-jopublik-monetare'!$G$20:$G$1016,'2.bTë ardhura-jopublik-nënatyrë'!$G368,'2.aTë ardhura-jopublik-monetare'!$H$20:$H$1016)","v":0}]
[null,null,null,null,null,null,null,null,null,{"$f":"SUMIF($G$20:$G$5016,$G369,$H$20:$H$5016)+SUMIF('2.aTë ardhura-jopublik-monetare'!$G$20:$G$1016,'2.bTë ardhura-jopublik-nënatyrë'!$G369,'2.aTë ardhura-jopublik-monetare'!$H$20:$H$1016)","v":0}]
[null,null,null,null,null,null,null,null,null,{"$f":"SUMIF($G$20:$G$5016,$G370,$H$20:$H$5016)+SUMIF('2.aTë ardhura-jopublik-monetare'!$G$20:$G$1016,'2.bTë ardhura-jopublik-nënatyrë'!$G370,'2.aTë ardhura-jopublik-monetare'!$H$20:$H$1016)","v":0}]
[null,null,null,null,null,null,null,null,null,{"$f":"SUMIF($G$20:$G$5016,$G371,$H$20:$H$5016)+SUMIF('2.aTë ardhura-jopublik-monetare'!$G$20:$G$1016,'2.bTë ardhura-jopublik-nënatyrë'!$G371,'2.aTë ardhura-jopublik-monetare'!$H$20:$H$1016)","v":0}]
[null,null,null,null,null,null,null,null,null,{"$f":"SUMIF($G$20:$G$5016,$G372,$H$20:$H$5016)+SUMIF('2.aTë ardhura-jopublik-monetare'!$G$20:$G$1016,'2.bTë ardhura-jopublik-nënatyrë'!$G372,'2.aTë ardhura-jopublik-monetare'!$H$20:$H$1016)","v":0}]
[null,null,null,null,null,null,null,null,null,{"$f":"SUMIF($G$20:$G$5016,$G373,$H$20:$H$5016)+SUMIF('2.aTë ardhura-jopublik-monetare'!$G$20:$G$1016,'2.bTë ardhura-jopublik-nënatyrë'!$G373,'2.aTë ardhura-jopublik-monetare'!$H$20:$H$1016)","v":0}]
[null,null,null,null,null,null,null,null,null,{"$f":"SUMIF($G$20:$G$5016,$G374,$H$20:$H$5016)+SUMIF('2.aTë ardhura-jopublik-monetare'!$G$20:$G$1016,'2.bTë ardhura-jopublik-nënatyrë'!$G374,'2.aTë ardhura-jopublik-monetare'!$H$20:$H$1016)","v":0}]
[null,null,null,null,null,null,null,null,null,{"$f":"SUMIF($G$20:$G$5016,$G375,$H$20:$H$5016)+SUMIF('2.aTë ardhura-jopublik-monetare'!$G$20:$G$1016,'2.bTë ardhura-jopublik-nënatyrë'!$G375,'2.aTë ardhura-jopublik-monetare'!$H$20:$H$1016)","v":0}]
[null,null,null,null,null,null,null,null,null,{"$f":"SUMIF($G$20:$G$5016,$G376,$H$20:$H$5016)+SUMIF('2.aTë ardhura-jopublik-monetare'!$G$20:$G$1016,'2.bTë ardhura-jopublik-nënatyrë'!$G376,'2.aTë ardhura-jopublik-monetare'!$H$20:$H$1016)","v":0}]
[null,null,null,null,null,null,null,null,null,{"$f":"SUMIF($G$20:$G$5016,$G377,$H$20:$H$5016)+SUMIF('2.aTë ardhura-jopublik-monetare'!$G$20:$G$1016,'2.bTë ardhura-jopublik-nënatyrë'!$G377,'2.aTë ardhura-jopublik-monetare'!$H$20:$H$1016)","v":0}]
[null,null,null,null,null,null,null,null,null,{"$f":"SUMIF($G$20:$G$5016,$G378,$H$20:$H$5016)+SUMIF('2.aTë ardhura-jopublik-monetare'!$G$20:$G$1016,'2.bTë ardhura-jopublik-nënatyrë'!$G378,'2.aTë ardhura-jopublik-monetare'!$H$20:$H$1016)","v":0}]
[null,null,null,null,null,null,null,null,null,{"$f":"SUMIF($G$20:$G$5016,$G379,$H$20:$H$5016)+SUMIF('2.aTë ardhura-jopublik-monetare'!$G$20:$G$1016,'2.bTë ardhura-jopublik-nënatyrë'!$G379,'2.aTë ardhura-jopublik-monetare'!$H$20:$H$1016)","v":0}]
[null,null,null,null,null,null,null,null,null,{"$f":"SUMIF($G$20:$G$5016,$G380,$H$20:$H$5016)+SUMIF('2.aTë ardhura-jopublik-monetare'!$G$20:$G$1016,'2.bTë ardhura-jopublik-nënatyrë'!$G380,'2.aTë ardhura-jopublik-monetare'!$H$20:$H$1016)","v":0}]
[null,null,null,null,null,null,null,null,null,{"$f":"SUMIF($G$20:$G$5016,$G381,$H$20:$H$5016)+SUMIF('2.aTë ardhura-jopublik-monetare'!$G$20:$G$1016,'2.bTë ardhura-jopublik-nënatyrë'!$G381,'2.aTë ardhura-jopublik-monetare'!$H$20:$H$1016)","v":0}]
[null,null,null,null,null,null,null,null,null,{"$f":"SUMIF($G$20:$G$5016,$G382,$H$20:$H$5016)+SUMIF('2.aTë ardhura-jopublik-monetare'!$G$20:$G$1016,'2.bTë ardhura-jopublik-nënatyrë'!$G382,'2.aTë ardhura-jopublik-monetare'!$H$20:$H$1016)","v":0}]
[null,null,null,null,null,null,null,null,null,{"$f":"SUMIF($G$20:$G$5016,$G383,$H$20:$H$5016)+SUMIF('2.aTë ardhura-jopublik-monetare'!$G$20:$G$1016,'2.bTë ardhura-jopublik-nënatyrë'!$G383,'2.aTë ardhura-jopublik-monetare'!$H$20:$H$1016)","v":0}]
[null,null,null,null,null,null,null,null,null,{"$f":"SUMIF($G$20:$G$5016,$G384,$H$20:$H$5016)+SUMIF('2.aTë ardhura-jopublik-monetare'!$G$20:$G$1016,'2.bTë ardhura-jopublik-nënatyrë'!$G384,'2.aTë ardhura-jopublik-monetare'!$H$20:$H$1016)","v":0}]
[null,null,null,null,null,null,null,null,null,{"$f":"SUMIF($G$20:$G$5016,$G385,$H$20:$H$5016)+SUMIF('2.aTë ardhura-jopublik-monetare'!$G$20:$G$1016,'2.bTë ardhura-jopublik-nënatyrë'!$G385,'2.aTë ardhura-jopublik-monetare'!$H$20:$H$1016)","v":0}]
[null,null,null,null,null,null,null,null,null,{"$f":"SUMIF($G$20:$G$5016,$G386,$H$20:$H$5016)+SUMIF('2.aTë ardhura-jopublik-monetare'!$G$20:$G$1016,'2.bTë ardhura-jopublik-nënatyrë'!$G386,'2.aTë ardhura-jopublik-monetare'!$H$20:$H$1016)","v":0}]
[null,null,null,null,null,null,null,null,null,{"$f":"SUMIF($G$20:$G$5016,$G387,$H$20:$H$5016)+SUMIF('2.aTë ardhura-jopublik-monetare'!$G$20:$G$1016,'2.bTë ardhura-jopublik-nënatyrë'!$G387,'2.aTë ardhura-jopublik-monetare'!$H$20:$H$1016)","v":0}]
[null,null,null,null,null,null,null,null,null,{"$f":"SUMIF($G$20:$G$5016,$G388,$H$20:$H$5016)+SUMIF('2.aTë ardhura-jopublik-monetare'!$G$20:$G$1016,'2.bTë ardhura-jopublik-nënatyrë'!$G388,'2.aTë ardhura-jopublik-monetare'!$H$20:$H$1016)","v":0}]
[null,null,null,null,null,null,null,null,null,{"$f":"SUMIF($G$20:$G$5016,$G389,$H$20:$H$5016)+SUMIF('2.aTë ardhura-jopublik-monetare'!$G$20:$G$1016,'2.bTë ardhura-jopublik-nënatyrë'!$G389,'2.aTë ardhura-jopublik-monetare'!$H$20:$H$1016)","v":0}]
[null,null,null,null,null,null,null,null,null,{"$f":"SUMIF($G$20:$G$5016,$G390,$H$20:$H$5016)+SUMIF('2.aTë ardhura-jopublik-monetare'!$G$20:$G$1016,'2.bTë ardhura-jopublik-nënatyrë'!$G390,'2.aTë ardhura-jopublik-monetare'!$H$20:$H$1016)","v":0}]
[null,null,null,null,null,null,null,null,null,{"$f":"SUMIF($G$20:$G$5016,$G391,$H$20:$H$5016)+SUMIF('2.aTë ardhura-jopublik-monetare'!$G$20:$G$1016,'2.bTë ardhura-jopublik-nënatyrë'!$G391,'2.aTë ardhura-jopublik-monetare'!$H$20:$H$1016)","v":0}]
[null,null,null,null,null,null,null,null,null,{"$f":"SUMIF($G$20:$G$5016,$G392,$H$20:$H$5016)+SUMIF('2.aTë ardhura-jopublik-monetare'!$G$20:$G$1016,'2.bTë ardhura-jopublik-nënatyrë'!$G392,'2.aTë ardhura-jopublik-monetare'!$H$20:$H$1016)","v":0}]
[null,null,null,null,null,null,null,null,null,{"$f":"SUMIF($G$20:$G$5016,$G393,$H$20:$H$5016)+SUMIF('2.aTë ardhura-jopublik-monetare'!$G$20:$G$1016,'2.bTë ardhura-jopublik-nënatyrë'!$G393,'2.aTë ardhura-jopublik-monetare'!$H$20:$H$1016)","v":0}]
[null,null,null,null,null,null,null,null,null,{"$f":"SUMIF($G$20:$G$5016,$G394,$H$20:$H$5016)+SUMIF('2.aTë ardhura-jopublik-monetare'!$G$20:$G$1016,'2.bTë ardhura-jopublik-nënatyrë'!$G394,'2.aTë ardhura-jopublik-monetare'!$H$20:$H$1016)","v":0}]
[null,null,null,null,null,null,null,null,null,{"$f":"SUMIF($G$20:$G$5016,$G395,$H$20:$H$5016)+SUMIF('2.aTë ardhura-jopublik-monetare'!$G$20:$G$1016,'2.bTë ardhura-jopublik-nënatyrë'!$G395,'2.aTë ardhura-jopublik-monetare'!$H$20:$H$1016)","v":0}]
[null,null,null,null,null,null,null,null,null,{"$f":"SUMIF($G$20:$G$5016,$G396,$H$20:$H$5016)+SUMIF('2.aTë ardhura-jopublik-monetare'!$G$20:$G$1016,'2.bTë ardhura-jopublik-nënatyrë'!$G396,'2.aTë ardhura-jopublik-monetare'!$H$20:$H$1016)","v":0}]
[null,null,null,null,null,null,null,null,null,{"$f":"SUMIF($G$20:$G$5016,$G397,$H$20:$H$5016)+SUMIF('2.aTë ardhura-jopublik-monetare'!$G$20:$G$1016,'2.bTë ardhura-jopublik-nënatyrë'!$G397,'2.aTë ardhura-jopublik-monetare'!$H$20:$H$1016)","v":0}]
[null,null,null,null,null,null,null,null,null,{"$f":"SUMIF($G$20:$G$5016,$G398,$H$20:$H$5016)+SUMIF('2.aTë ardhura-jopublik-monetare'!$G$20:$G$1016,'2.bTë ardhura-jopublik-nënatyrë'!$G398,'2.aTë ardhura-jopublik-monetare'!$H$20:$H$1016)","v":0}]
[null,null,null,null,null,null,null,null,null,{"$f":"SUMIF($G$20:$G$5016,$G399,$H$20:$H$5016)+SUMIF('2.aTë ardhura-jopublik-monetare'!$G$20:$G$1016,'2.bTë ardhura-jopublik-nënatyrë'!$G399,'2.aTë ardhura-jopublik-monetare'!$H$20:$H$1016)","v":0}]
[null,null,null,null,null,null,null,null,null,{"$f":"SUMIF($G$20:$G$5016,$G400,$H$20:$H$5016)+SUMIF('2.aTë ardhura-jopublik-monetare'!$G$20:$G$1016,'2.bTë ardhura-jopublik-nënatyrë'!$G400,'2.aTë ardhura-jopublik-monetare'!$H$20:$H$1016)","v":0}]
[null,null,null,null,null,null,null,null,null,{"$f":"SUMIF($G$20:$G$5016,$G401,$H$20:$H$5016)+SUMIF('2.aTë ardhura-jopublik-monetare'!$G$20:$G$1016,'2.bTë ardhura-jopublik-nënatyrë'!$G401,'2.aTë ardhura-jopublik-monetare'!$H$20:$H$1016)","v":0}]
[null,null,null,null,null,null,null,null,null,{"$f":"SUMIF($G$20:$G$5016,$G402,$H$20:$H$5016)+SUMIF('2.aTë ardhura-jopublik-monetare'!$G$20:$G$1016,'2.bTë ardhura-jopublik-nënatyrë'!$G402,'2.aTë ardhura-jopublik-monetare'!$H$20:$H$1016)","v":0}]
[null,null,null,null,null,null,null,null,null,{"$f":"SUMIF($G$20:$G$5016,$G403,$H$20:$H$5016)+SUMIF('2.aTë ardhura-jopublik-monetare'!$G$20:$G$1016,'2.bTë ardhura-jopublik-nënatyrë'!$G403,'2.aTë ardhura-jopublik-monetare'!$H$20:$H$1016)","v":0}]
[null,null,null,null,null,null,null,null,null,{"$f":"SUMIF($G$20:$G$5016,$G404,$H$20:$H$5016)+SUMIF('2.aTë ardhura-jopublik-monetare'!$G$20:$G$1016,'2.bTë ardhura-jopublik-nënatyrë'!$G404,'2.aTë ardhura-jopublik-monetare'!$H$20:$H$1016)","v":0}]
[null,null,null,null,null,null,null,null,null,{"$f":"SUMIF($G$20:$G$5016,$G405,$H$20:$H$5016)+SUMIF('2.aTë ardhura-jopublik-monetare'!$G$20:$G$1016,'2.bTë ardhura-jopublik-nënatyrë'!$G405,'2.aTë ardhura-jopublik-monetare'!$H$20:$H$1016)","v":0}]
[null,null,null,null,null,null,null,null,null,{"$f":"SUMIF($G$20:$G$5016,$G406,$H$20:$H$5016)+SUMIF('2.aTë ardhura-jopublik-monetare'!$G$20:$G$1016,'2.bTë ardhura-jopublik-nënatyrë'!$G406,'2.aTë ardhura-jopublik-monetare'!$H$20:$H$1016)","v":0}]
[null,null,null,null,null,null,null,null,null,{"$f":"SUMIF($G$20:$G$5016,$G407,$H$20:$H$5016)+SUMIF('2.aTë ardhura-jopublik-monetare'!$G$20:$G$1016,'2.bTë ardhura-jopublik-nënatyrë'!$G407,'2.aTë ardhura-jopublik-monetare'!$H$20:$H$1016)","v":0}]
[null,null,null,null,null,null,null,null,null,{"$f":"SUMIF($G$20:$G$5016,$G408,$H$20:$H$5016)+SUMIF('2.aTë ardhura-jopublik-monetare'!$G$20:$G$1016,'2.bTë ardhura-jopublik-nënatyrë'!$G408,'2.aTë ardhura-jopublik-monetare'!$H$20:$H$1016)","v":0}]
[null,null,null,null,null,null,null,null,null,{"$f":"SUMIF($G$20:$G$5016,$G409,$H$20:$H$5016)+SUMIF('2.aTë ardhura-jopublik-monetare'!$G$20:$G$1016,'2.bTë ardhura-jopublik-nënatyrë'!$G409,'2.aTë ardhura-jopublik-monetare'!$H$20:$H$1016)","v":0}]
[null,null,null,null,null,null,null,null,null,{"$f":"SUMIF($G$20:$G$5016,$G410,$H$20:$H$5016)+SUMIF('2.aTë ardhura-jopublik-monetare'!$G$20:$G$1016,'2.bTë ardhura-jopublik-nënatyrë'!$G410,'2.aTë ardhura-jopublik-monetare'!$H$20:$H$1016)","v":0}]
[null,null,null,null,null,null,null,null,null,{"$f":"SUMIF($G$20:$G$5016,$G411,$H$20:$H$5016)+SUMIF('2.aTë ardhura-jopublik-monetare'!$G$20:$G$1016,'2.bTë ardhura-jopublik-nënatyrë'!$G411,'2.aTë ardhura-jopublik-monetare'!$H$20:$H$1016)","v":0}]
[null,null,null,null,null,null,null,null,null,{"$f":"SUMIF($G$20:$G$5016,$G412,$H$20:$H$5016)+SUMIF('2.aTë ardhura-jopublik-monetare'!$G$20:$G$1016,'2.bTë ardhura-jopublik-nënatyrë'!$G412,'2.aTë ardhura-jopublik-monetare'!$H$20:$H$1016)","v":0}]
[null,null,null,null,null,null,null,null,null,{"$f":"SUMIF($G$20:$G$5016,$G413,$H$20:$H$5016)+SUMIF('2.aTë ardhura-jopublik-monetare'!$G$20:$G$1016,'2.bTë ardhura-jopublik-nënatyrë'!$G413,'2.aTë ardhura-jopublik-monetare'!$H$20:$H$1016)","v":0}]
[null,null,null,null,null,null,null,null,null,{"$f":"SUMIF($G$20:$G$5016,$G414,$H$20:$H$5016)+SUMIF('2.aTë ardhura-jopublik-monetare'!$G$20:$G$1016,'2.bTë ardhura-jopublik-nënatyrë'!$G414,'2.aTë ardhura-jopublik-monetare'!$H$20:$H$1016)","v":0}]
[null,null,null,null,null,null,null,null,null,{"$f":"SUMIF($G$20:$G$5016,$G415,$H$20:$H$5016)+SUMIF('2.aTë ardhura-jopublik-monetare'!$G$20:$G$1016,'2.bTë ardhura-jopublik-nënatyrë'!$G415,'2.aTë ardhura-jopublik-monetare'!$H$20:$H$1016)","v":0}]
[null,null,null,null,null,null,null,null,null,{"$f":"SUMIF($G$20:$G$5016,$G416,$H$20:$H$5016)+SUMIF('2.aTë ardhura-jopublik-monetare'!$G$20:$G$1016,'2.bTë ardhura-jopublik-nënatyrë'!$G416,'2.aTë ardhura-jopublik-monetare'!$H$20:$H$1016)","v":0}]
[null,null,null,null,null,null,null,null,null,{"$f":"SUMIF($G$20:$G$5016,$G417,$H$20:$H$5016)+SUMIF('2.aTë ardhura-jopublik-monetare'!$G$20:$G$1016,'2.bTë ardhura-jopublik-nënatyrë'!$G417,'2.aTë ardhura-jopublik-monetare'!$H$20:$H$1016)","v":0}]
[null,null,null,null,null,null,null,null,null,{"$f":"SUMIF($G$20:$G$5016,$G418,$H$20:$H$5016)+SUMIF('2.aTë ardhura-jopublik-monetare'!$G$20:$G$1016,'2.bTë ardhura-jopublik-nënatyrë'!$G418,'2.aTë ardhura-jopublik-monetare'!$H$20:$H$1016)","v":0}]
[null,null,null,null,null,null,null,null,null,{"$f":"SUMIF($G$20:$G$5016,$G419,$H$20:$H$5016)+SUMIF('2.aTë ardhura-jopublik-monetare'!$G$20:$G$1016,'2.bTë ardhura-jopublik-nënatyrë'!$G419,'2.aTë ardhura-jopublik-monetare'!$H$20:$H$1016)","v":0}]
[null,null,null,null,null,null,null,null,null,{"$f":"SUMIF($G$20:$G$5016,$G420,$H$20:$H$5016)+SUMIF('2.aTë ardhura-jopublik-monetare'!$G$20:$G$1016,'2.bTë ardhura-jopublik-nënatyrë'!$G420,'2.aTë ardhura-jopublik-monetare'!$H$20:$H$1016)","v":0}]
[null,null,null,null,null,null,null,null,null,{"$f":"SUMIF($G$20:$G$5016,$G421,$H$20:$H$5016)+SUMIF('2.aTë ardhura-jopublik-monetare'!$G$20:$G$1016,'2.bTë ardhura-jopublik-nënatyrë'!$G421,'2.aTë ardhura-jopublik-monetare'!$H$20:$H$1016)","v":0}]
[null,null,null,null,null,null,null,null,null,{"$f":"SUMIF($G$20:$G$5016,$G422,$H$20:$H$5016)+SUMIF('2.aTë ardhura-jopublik-monetare'!$G$20:$G$1016,'2.bTë ardhura-jopublik-nënatyrë'!$G422,'2.aTë ardhura-jopublik-monetare'!$H$20:$H$1016)","v":0}]
[null,null,null,null,null,null,null,null,null,{"$f":"SUMIF($G$20:$G$5016,$G423,$H$20:$H$5016)+SUMIF('2.aTë ardhura-jopublik-monetare'!$G$20:$G$1016,'2.bTë ardhura-jopublik-nënatyrë'!$G423,'2.aTë ardhura-jopublik-monetare'!$H$20:$H$1016)","v":0}]
[null,null,null,null,null,null,null,null,null,{"$f":"SUMIF($G$20:$G$5016,$G424,$H$20:$H$5016)+SUMIF('2.aTë ardhura-jopublik-monetare'!$G$20:$G$1016,'2.bTë ardhura-jopublik-nënatyrë'!$G424,'2.aTë ardhura-jopublik-monetare'!$H$20:$H$1016)","v":0}]
[null,null,null,null,null,null,null,null,null,{"$f":"SUMIF($G$20:$G$5016,$G425,$H$20:$H$5016)+SUMIF('2.aTë ardhura-jopublik-monetare'!$G$20:$G$1016,'2.bTë ardhura-jopublik-nënatyrë'!$G425,'2.aTë ardhura-jopublik-monetare'!$H$20:$H$1016)","v":0}]
[null,null,null,null,null,null,null,null,null,{"$f":"SUMIF($G$20:$G$5016,$G426,$H$20:$H$5016)+SUMIF('2.aTë ardhura-jopublik-monetare'!$G$20:$G$1016,'2.bTë ardhura-jopublik-nënatyrë'!$G426,'2.aTë ardhura-jopublik-monetare'!$H$20:$H$1016)","v":0}]
[null,null,null,null,null,null,null,null,null,{"$f":"SUMIF($G$20:$G$5016,$G427,$H$20:$H$5016)+SUMIF('2.aTë ardhura-jopublik-monetare'!$G$20:$G$1016,'2.bTë ardhura-jopublik-nënatyrë'!$G427,'2.aTë ardhura-jopublik-monetare'!$H$20:$H$1016)","v":0}]
[null,null,null,null,null,null,null,null,null,{"$f":"SUMIF($G$20:$G$5016,$G428,$H$20:$H$5016)+SUMIF('2.aTë ardhura-jopublik-monetare'!$G$20:$G$1016,'2.bTë ardhura-jopublik-nënatyrë'!$G428,'2.aTë ardhura-jopublik-monetare'!$H$20:$H$1016)","v":0}]
[null,null,null,null,null,null,null,null,null,{"$f":"SUMIF($G$20:$G$5016,$G429,$H$20:$H$5016)+SUMIF('2.aTë ardhura-jopublik-monetare'!$G$20:$G$1016,'2.bTë ardhura-jopublik-nënatyrë'!$G429,'2.aTë ardhura-jopublik-monetare'!$H$20:$H$1016)","v":0}]
[null,null,null,null,null,null,null,null,null,{"$f":"SUMIF($G$20:$G$5016,$G430,$H$20:$H$5016)+SUMIF('2.aTë ardhura-jopublik-monetare'!$G$20:$G$1016,'2.bTë ardhura-jopublik-nënatyrë'!$G430,'2.aTë ardhura-jopublik-monetare'!$H$20:$H$1016)","v":0}]
[null,null,null,null,null,null,null,null,null,{"$f":"SUMIF($G$20:$G$5016,$G431,$H$20:$H$5016)+SUMIF('2.aTë ardhura-jopublik-monetare'!$G$20:$G$1016,'2.bTë ardhura-jopublik-nënatyrë'!$G431,'2.aTë ardhura-jopublik-monetare'!$H$20:$H$1016)","v":0}]
[null,null,null,null,null,null,null,null,null,{"$f":"SUMIF($G$20:$G$5016,$G432,$H$20:$H$5016)+SUMIF('2.aTë ardhura-jopublik-monetare'!$G$20:$G$1016,'2.bTë ardhura-jopublik-nënatyrë'!$G432,'2.aTë ardhura-jopublik-monetare'!$H$20:$H$1016)","v":0}]
[null,null,null,null,null,null,null,null,null,{"$f":"SUMIF($G$20:$G$5016,$G433,$H$20:$H$5016)+SUMIF('2.aTë ardhura-jopublik-monetare'!$G$20:$G$1016,'2.bTë ardhura-jopublik-nënatyrë'!$G433,'2.aTë ardhura-jopublik-monetare'!$H$20:$H$1016)","v":0}]
[null,null,null,null,null,null,null,null,null,{"$f":"SUMIF($G$20:$G$5016,$G434,$H$20:$H$5016)+SUMIF('2.aTë ardhura-jopublik-monetare'!$G$20:$G$1016,'2.bTë ardhura-jopublik-nënatyrë'!$G434,'2.aTë ardhura-jopublik-monetare'!$H$20:$H$1016)","v":0}]
[null,null,null,null,null,null,null,null,null,{"$f":"SUMIF($G$20:$G$5016,$G435,$H$20:$H$5016)+SUMIF('2.aTë ardhura-jopublik-monetare'!$G$20:$G$1016,'2.bTë ardhura-jopublik-nënatyrë'!$G435,'2.aTë ardhura-jopublik-monetare'!$H$20:$H$1016)","v":0}]
[null,null,null,null,null,null,null,null,null,{"$f":"SUMIF($G$20:$G$5016,$G436,$H$20:$H$5016)+SUMIF('2.aTë ardhura-jopublik-monetare'!$G$20:$G$1016,'2.bTë ardhura-jopublik-nënatyrë'!$G436,'2.aTë ardhura-jopublik-monetare'!$H$20:$H$1016)","v":0}]
[null,null,null,null,null,null,null,null,null,{"$f":"SUMIF($G$20:$G$5016,$G437,$H$20:$H$5016)+SUMIF('2.aTë ardhura-jopublik-monetare'!$G$20:$G$1016,'2.bTë ardhura-jopublik-nënatyrë'!$G437,'2.aTë ardhura-jopublik-monetare'!$H$20:$H$1016)","v":0}]
[null,null,null,null,null,null,null,null,null,{"$f":"SUMIF($G$20:$G$5016,$G438,$H$20:$H$5016)+SUMIF('2.aTë ardhura-jopublik-monetare'!$G$20:$G$1016,'2.bTë ardhura-jopublik-nënatyrë'!$G438,'2.aTë ardhura-jopublik-monetare'!$H$20:$H$1016)","v":0}]
[null,null,null,null,null,null,null,null,null,{"$f":"SUMIF($G$20:$G$5016,$G439,$H$20:$H$5016)+SUMIF('2.aTë ardhura-jopublik-monetare'!$G$20:$G$1016,'2.bTë ardhura-jopublik-nënatyrë'!$G439,'2.aTë ardhura-jopublik-monetare'!$H$20:$H$1016)","v":0}]
[null,null,null,null,null,null,null,null,null,{"$f":"SUMIF($G$20:$G$5016,$G440,$H$20:$H$5016)+SUMIF('2.aTë ardhura-jopublik-monetare'!$G$20:$G$1016,'2.bTë ardhura-jopublik-nënatyrë'!$G440,'2.aTë ardhura-jopublik-monetare'!$H$20:$H$1016)","v":0}]
[null,null,null,null,null,null,null,null,null,{"$f":"SUMIF($G$20:$G$5016,$G441,$H$20:$H$5016)+SUMIF('2.aTë ardhura-jopublik-monetare'!$G$20:$G$1016,'2.bTë ardhura-jopublik-nënatyrë'!$G441,'2.aTë ardhura-jopublik-monetare'!$H$20:$H$1016)","v":0}]
[null,null,null,null,null,null,null,null,null,{"$f":"SUMIF($G$20:$G$5016,$G442,$H$20:$H$5016)+SUMIF('2.aTë ardhura-jopublik-monetare'!$G$20:$G$1016,'2.bTë ardhura-jopublik-nënatyrë'!$G442,'2.aTë ardhura-jopublik-monetare'!$H$20:$H$1016)","v":0}]
[null,null,null,null,null,null,null,null,null,{"$f":"SUMIF($G$20:$G$5016,$G443,$H$20:$H$5016)+SUMIF('2.aTë ardhura-jopublik-monetare'!$G$20:$G$1016,'2.bTë ardhura-jopublik-nënatyrë'!$G443,'2.aTë ardhura-jopublik-monetare'!$H$20:$H$1016)","v":0}]
[null,null,null,null,null,null,null,null,null,{"$f":"SUMIF($G$20:$G$5016,$G444,$H$20:$H$5016)+SUMIF('2.aTë ardhura-jopublik-monetare'!$G$20:$G$1016,'2.bTë ardhura-jopublik-nënatyrë'!$G444,'2.aTë ardhura-jopublik-monetare'!$H$20:$H$1016)","v":0}]
[null,null,null,null,null,null,null,null,null,{"$f":"SUMIF($G$20:$G$5016,$G445,$H$20:$H$5016)+SUMIF('2.aTë ardhura-jopublik-monetare'!$G$20:$G$1016,'2.bTë ardhura-jopublik-nënatyrë'!$G445,'2.aTë ardhura-jopublik-monetare'!$H$20:$H$1016)","v":0}]
[null,null,null,null,null,null,null,null,null,{"$f":"SUMIF($G$20:$G$5016,$G446,$H$20:$H$5016)+SUMIF('2.aTë ardhura-jopublik-monetare'!$G$20:$G$1016,'2.bTë ardhura-jopublik-nënatyrë'!$G446,'2.aTë ardhura-jopublik-monetare'!$H$20:$H$1016)","v":0}]
[null,null,null,null,null,null,null,null,null,{"$f":"SUMIF($G$20:$G$5016,$G447,$H$20:$H$5016)+SUMIF('2.aTë ardhura-jopublik-monetare'!$G$20:$G$1016,'2.bTë ardhura-jopublik-nënatyrë'!$G447,'2.aTë ardhura-jopublik-monetare'!$H$20:$H$1016)","v":0}]
[null,null,null,null,null,null,null,null,null,{"$f":"SUMIF($G$20:$G$5016,$G448,$H$20:$H$5016)+SUMIF('2.aTë ardhura-jopublik-monetare'!$G$20:$G$1016,'2.bTë ardhura-jopublik-nënatyrë'!$G448,'2.aTë ardhura-jopublik-monetare'!$H$20:$H$1016)","v":0}]
[null,null,null,null,null,null,null,null,null,{"$f":"SUMIF($G$20:$G$5016,$G449,$H$20:$H$5016)+SUMIF('2.aTë ardhura-jopublik-monetare'!$G$20:$G$1016,'2.bTë ardhura-jopublik-nënatyrë'!$G449,'2.aTë ardhura-jopublik-monetare'!$H$20:$H$1016)","v":0}]
[null,null,null,null,null,null,null,null,null,{"$f":"SUMIF($G$20:$G$5016,$G450,$H$20:$H$5016)+SUMIF('2.aTë ardhura-jopublik-monetare'!$G$20:$G$1016,'2.bTë ardhura-jopublik-nënatyrë'!$G450,'2.aTë ardhura-jopublik-monetare'!$H$20:$H$1016)","v":0}]
[null,null,null,null,null,null,null,null,null,{"$f":"SUMIF($G$20:$G$5016,$G451,$H$20:$H$5016)+SUMIF('2.aTë ardhura-jopublik-monetare'!$G$20:$G$1016,'2.bTë ardhura-jopublik-nënatyrë'!$G451,'2.aTë ardhura-jopublik-monetare'!$H$20:$H$1016)","v":0}]
[null,null,null,null,null,null,null,null,null,{"$f":"SUMIF($G$20:$G$5016,$G452,$H$20:$H$5016)+SUMIF('2.aTë ardhura-jopublik-monetare'!$G$20:$G$1016,'2.bTë ardhura-jopublik-nënatyrë'!$G452,'2.aTë ardhura-jopublik-monetare'!$H$20:$H$1016)","v":0}]
[null,null,null,null,null,null,null,null,null,{"$f":"SUMIF($G$20:$G$5016,$G453,$H$20:$H$5016)+SUMIF('2.aTë ardhura-jopublik-monetare'!$G$20:$G$1016,'2.bTë ardhura-jopublik-nënatyrë'!$G453,'2.aTë ardhura-jopublik-monetare'!$H$20:$H$1016)","v":0}]
[null,null,null,null,null,null,null,null,null,{"$f":"SUMIF($G$20:$G$5016,$G454,$H$20:$H$5016)+SUMIF('2.aTë ardhura-jopublik-monetare'!$G$20:$G$1016,'2.bTë ardhura-jopublik-nënatyrë'!$G454,'2.aTë ardhura-jopublik-monetare'!$H$20:$H$1016)","v":0}]
[null,null,null,null,null,null,null,null,null,{"$f":"SUMIF($G$20:$G$5016,$G455,$H$20:$H$5016)+SUMIF('2.aTë ardhura-jopublik-monetare'!$G$20:$G$1016,'2.bTë ardhura-jopublik-nënatyrë'!$G455,'2.aTë ardhura-jopublik-monetare'!$H$20:$H$1016)","v":0}]
[null,null,null,null,null,null,null,null,null,{"$f":"SUMIF($G$20:$G$5016,$G456,$H$20:$H$5016)+SUMIF('2.aTë ardhura-jopublik-monetare'!$G$20:$G$1016,'2.bTë ardhura-jopublik-nënatyrë'!$G456,'2.aTë ardhura-jopublik-monetare'!$H$20:$H$1016)","v":0}]
[null,null,null,null,null,null,null,null,null,{"$f":"SUMIF($G$20:$G$5016,$G457,$H$20:$H$5016)+SUMIF('2.aTë ardhura-jopublik-monetare'!$G$20:$G$1016,'2.bTë ardhura-jopublik-nënatyrë'!$G457,'2.aTë ardhura-jopublik-monetare'!$H$20:$H$1016)","v":0}]
[null,null,null,null,null,null,null,null,null,{"$f":"SUMIF($G$20:$G$5016,$G458,$H$20:$H$5016)+SUMIF('2.aTë ardhura-jopublik-monetare'!$G$20:$G$1016,'2.bTë ardhura-jopublik-nënatyrë'!$G458,'2.aTë ardhura-jopublik-monetare'!$H$20:$H$1016)","v":0}]
[null,null,null,null,null,null,null,null,null,{"$f":"SUMIF($G$20:$G$5016,$G459,$H$20:$H$5016)+SUMIF('2.aTë ardhura-jopublik-monetare'!$G$20:$G$1016,'2.bTë ardhura-jopublik-nënatyrë'!$G459,'2.aTë ardhura-jopublik-monetare'!$H$20:$H$1016)","v":0}]
[null,null,null,null,null,null,null,null,null,{"$f":"SUMIF($G$20:$G$5016,$G460,$H$20:$H$5016)+SUMIF('2.aTë ardhura-jopublik-monetare'!$G$20:$G$1016,'2.bTë ardhura-jopublik-nënatyrë'!$G460,'2.aTë ardhura-jopublik-monetare'!$H$20:$H$1016)","v":0}]
[null,null,null,null,null,null,null,null,null,{"$f":"SUMIF($G$20:$G$5016,$G461,$H$20:$H$5016)+SUMIF('2.aTë ardhura-jopublik-monetare'!$G$20:$G$1016,'2.bTë ardhura-jopublik-nënatyrë'!$G461,'2.aTë ardhura-jopublik-monetare'!$H$20:$H$1016)","v":0}]
[null,null,null,null,null,null,null,null,null,{"$f":"SUMIF($G$20:$G$5016,$G462,$H$20:$H$5016)+SUMIF('2.aTë ardhura-jopublik-monetare'!$G$20:$G$1016,'2.bTë ardhura-jopublik-nënatyrë'!$G462,'2.aTë ardhura-jopublik-monetare'!$H$20:$H$1016)","v":0}]
[null,null,null,null,null,null,null,null,null,{"$f":"SUMIF($G$20:$G$5016,$G463,$H$20:$H$5016)+SUMIF('2.aTë ardhura-jopublik-monetare'!$G$20:$G$1016,'2.bTë ardhura-jopublik-nënatyrë'!$G463,'2.aTë ardhura-jopublik-monetare'!$H$20:$H$1016)","v":0}]
[null,null,null,null,null,null,null,null,null,{"$f":"SUMIF($G$20:$G$5016,$G464,$H$20:$H$5016)+SUMIF('2.aTë ardhura-jopublik-monetare'!$G$20:$G$1016,'2.bTë ardhura-jopublik-nënatyrë'!$G464,'2.aTë ardhura-jopublik-monetare'!$H$20:$H$1016)","v":0}]
[null,null,null,null,null,null,null,null,null,{"$f":"SUMIF($G$20:$G$5016,$G465,$H$20:$H$5016)+SUMIF('2.aTë ardhura-jopublik-monetare'!$G$20:$G$1016,'2.bTë ardhura-jopublik-nënatyrë'!$G465,'2.aTë ardhura-jopublik-monetare'!$H$20:$H$1016)","v":0}]
[null,null,null,null,null,null,null,null,null,{"$f":"SUMIF($G$20:$G$5016,$G466,$H$20:$H$5016)+SUMIF('2.aTë ardhura-jopublik-monetare'!$G$20:$G$1016,'2.bTë ardhura-jopublik-nënatyrë'!$G466,'2.aTë ardhura-jopublik-monetare'!$H$20:$H$1016)","v":0}]
[null,null,null,null,null,null,null,null,null,{"$f":"SUMIF($G$20:$G$5016,$G467,$H$20:$H$5016)+SUMIF('2.aTë ardhura-jopublik-monetare'!$G$20:$G$1016,'2.bTë ardhura-jopublik-nënatyrë'!$G467,'2.aTë ardhura-jopublik-monetare'!$H$20:$H$1016)","v":0}]
[null,null,null,null,null,null,null,null,null,{"$f":"SUMIF($G$20:$G$5016,$G468,$H$20:$H$5016)+SUMIF('2.aTë ardhura-jopublik-monetare'!$G$20:$G$1016,'2.bTë ardhura-jopublik-nënatyrë'!$G468,'2.aTë ardhura-jopublik-monetare'!$H$20:$H$1016)","v":0}]
[null,null,null,null,null,null,null,null,null,{"$f":"SUMIF($G$20:$G$5016,$G469,$H$20:$H$5016)+SUMIF('2.aTë ardhura-jopublik-monetare'!$G$20:$G$1016,'2.bTë ardhura-jopublik-nënatyrë'!$G469,'2.aTë ardhura-jopublik-monetare'!$H$20:$H$1016)","v":0}]
[null,null,null,null,null,null,null,null,null,{"$f":"SUMIF($G$20:$G$5016,$G470,$H$20:$H$5016)+SUMIF('2.aTë ardhura-jopublik-monetare'!$G$20:$G$1016,'2.bTë ardhura-jopublik-nënatyrë'!$G470,'2.aTë ardhura-jopublik-monetare'!$H$20:$H$1016)","v":0}]
[null,null,null,null,null,null,null,null,null,{"$f":"SUMIF($G$20:$G$5016,$G471,$H$20:$H$5016)+SUMIF('2.aTë ardhura-jopublik-monetare'!$G$20:$G$1016,'2.bTë ardhura-jopublik-nënatyrë'!$G471,'2.aTë ardhura-jopublik-monetare'!$H$20:$H$1016)","v":0}]
[null,null,null,null,null,null,null,null,null,{"$f":"SUMIF($G$20:$G$5016,$G472,$H$20:$H$5016)+SUMIF('2.aTë ardhura-jopublik-monetare'!$G$20:$G$1016,'2.bTë ardhura-jopublik-nënatyrë'!$G472,'2.aTë ardhura-jopublik-monetare'!$H$20:$H$1016)","v":0}]
[null,null,null,null,null,null,null,null,null,{"$f":"SUMIF($G$20:$G$5016,$G473,$H$20:$H$5016)+SUMIF('2.aTë ardhura-jopublik-monetare'!$G$20:$G$1016,'2.bTë ardhura-jopublik-nënatyrë'!$G473,'2.aTë ardhura-jopublik-monetare'!$H$20:$H$1016)","v":0}]
[null,null,null,null,null,null,null,null,null,{"$f":"SUMIF($G$20:$G$5016,$G474,$H$20:$H$5016)+SUMIF('2.aTë ardhura-jopublik-monetare'!$G$20:$G$1016,'2.bTë ardhura-jopublik-nënatyrë'!$G474,'2.aTë ardhura-jopublik-monetare'!$H$20:$H$1016)","v":0}]
[null,null,null,null,null,null,null,null,null,{"$f":"SUMIF($G$20:$G$5016,$G475,$H$20:$H$5016)+SUMIF('2.aTë ardhura-jopublik-monetare'!$G$20:$G$1016,'2.bTë ardhura-jopublik-nënatyrë'!$G475,'2.aTë ardhura-jopublik-monetare'!$H$20:$H$1016)","v":0}]
[null,null,null,null,null,null,null,null,null,{"$f":"SUMIF($G$20:$G$5016,$G476,$H$20:$H$5016)+SUMIF('2.aTë ardhura-jopublik-monetare'!$G$20:$G$1016,'2.bTë ardhura-jopublik-nënatyrë'!$G476,'2.aTë ardhura-jopublik-monetare'!$H$20:$H$1016)","v":0}]
[null,null,null,null,null,null,null,null,null,{"$f":"SUMIF($G$20:$G$5016,$G477,$H$20:$H$5016)+SUMIF('2.aTë ardhura-jopublik-monetare'!$G$20:$G$1016,'2.bTë ardhura-jopublik-nënatyrë'!$G477,'2.aTë ardhura-jopublik-monetare'!$H$20:$H$1016)","v":0}]
[null,null,null,null,null,null,null,null,null,{"$f":"SUMIF($G$20:$G$5016,$G478,$H$20:$H$5016)+SUMIF('2.aTë ardhura-jopublik-monetare'!$G$20:$G$1016,'2.bTë ardhura-jopublik-nënatyrë'!$G478,'2.aTë ardhura-jopublik-monetare'!$H$20:$H$1016)","v":0}]
[null,null,null,null,null,null,null,null,null,{"$f":"SUMIF($G$20:$G$5016,$G479,$H$20:$H$5016)+SUMIF('2.aTë ardhura-jopublik-monetare'!$G$20:$G$1016,'2.bTë ardhura-jopublik-nënatyrë'!$G479,'2.aTë ardhura-jopublik-monetare'!$H$20:$H$1016)","v":0}]
[null,null,null,null,null,null,null,null,null,{"$f":"SUMIF($G$20:$G$5016,$G480,$H$20:$H$5016)+SUMIF('2.aTë ardhura-jopublik-monetare'!$G$20:$G$1016,'2.bTë ardhura-jopublik-nënatyrë'!$G480,'2.aTë ardhura-jopublik-monetare'!$H$20:$H$1016)","v":0}]
[null,null,null,null,null,null,null,null,null,{"$f":"SUMIF($G$20:$G$5016,$G481,$H$20:$H$5016)+SUMIF('2.aTë ardhura-jopublik-monetare'!$G$20:$G$1016,'2.bTë ardhura-jopublik-nënatyrë'!$G481,'2.aTë ardhura-jopublik-monetare'!$H$20:$H$1016)","v":0}]
[null,null,null,null,null,null,null,null,null,{"$f":"SUMIF($G$20:$G$5016,$G482,$H$20:$H$5016)+SUMIF('2.aTë ardhura-jopublik-monetare'!$G$20:$G$1016,'2.bTë ardhura-jopublik-nënatyrë'!$G482,'2.aTë ardhura-jopublik-monetare'!$H$20:$H$1016)","v":0}]
[null,null,null,null,null,null,null,null,null,{"$f":"SUMIF($G$20:$G$5016,$G483,$H$20:$H$5016)+SUMIF('2.aTë ardhura-jopublik-monetare'!$G$20:$G$1016,'2.bTë ardhura-jopublik-nënatyrë'!$G483,'2.aTë ardhura-jopublik-monetare'!$H$20:$H$1016)","v":0}]
[null,null,null,null,null,null,null,null,null,{"$f":"SUMIF($G$20:$G$5016,$G484,$H$20:$H$5016)+SUMIF('2.aTë ardhura-jopublik-monetare'!$G$20:$G$1016,'2.bTë ardhura-jopublik-nënatyrë'!$G484,'2.aTë ardhura-jopublik-monetare'!$H$20:$H$1016)","v":0}]
[null,null,null,null,null,null,null,null,null,{"$f":"SUMIF($G$20:$G$5016,$G485,$H$20:$H$5016)+SUMIF('2.aTë ardhura-jopublik-monetare'!$G$20:$G$1016,'2.bTë ardhura-jopublik-nënatyrë'!$G485,'2.aTë ardhura-jopublik-monetare'!$H$20:$H$1016)","v":0}]
[null,null,null,null,null,null,null,null,null,{"$f":"SUMIF($G$20:$G$5016,$G486,$H$20:$H$5016)+SUMIF('2.aTë ardhura-jopublik-monetare'!$G$20:$G$1016,'2.bTë ardhura-jopublik-nënatyrë'!$G486,'2.aTë ardhura-jopublik-monetare'!$H$20:$H$1016)","v":0}]
[null,null,null,null,null,null,null,null,null,{"$f":"SUMIF($G$20:$G$5016,$G487,$H$20:$H$5016)+SUMIF('2.aTë ardhura-jopublik-monetare'!$G$20:$G$1016,'2.bTë ardhura-jopublik-nënatyrë'!$G487,'2.aTë ardhura-jopublik-monetare'!$H$20:$H$1016)","v":0}]
[null,null,null,null,null,null,null,null,null,{"$f":"SUMIF($G$20:$G$5016,$G488,$H$20:$H$5016)+SUMIF('2.aTë ardhura-jopublik-monetare'!$G$20:$G$1016,'2.bTë ardhura-jopublik-nënatyrë'!$G488,'2.aTë ardhura-jopublik-monetare'!$H$20:$H$1016)","v":0}]
[null,null,null,null,null,null,null,null,null,{"$f":"SUMIF($G$20:$G$5016,$G489,$H$20:$H$5016)+SUMIF('2.aTë ardhura-jopublik-monetare'!$G$20:$G$1016,'2.bTë ardhura-jopublik-nënatyrë'!$G489,'2.aTë ardhura-jopublik-monetare'!$H$20:$H$1016)","v":0}]
[null,null,null,null,null,null,null,null,null,{"$f":"SUMIF($G$20:$G$5016,$G490,$H$20:$H$5016)+SUMIF('2.aTë ardhura-jopublik-monetare'!$G$20:$G$1016,'2.bTë ardhura-jopublik-nënatyrë'!$G490,'2.aTë ardhura-jopublik-monetare'!$H$20:$H$1016)","v":0}]
[null,null,null,null,null,null,null,null,null,{"$f":"SUMIF($G$20:$G$5016,$G491,$H$20:$H$5016)+SUMIF('2.aTë ardhura-jopublik-monetare'!$G$20:$G$1016,'2.bTë ardhura-jopublik-nënatyrë'!$G491,'2.aTë ardhura-jopublik-monetare'!$H$20:$H$1016)","v":0}]
[null,null,null,null,null,null,null,null,null,{"$f":"SUMIF($G$20:$G$5016,$G492,$H$20:$H$5016)+SUMIF('2.aTë ardhura-jopublik-monetare'!$G$20:$G$1016,'2.bTë ardhura-jopublik-nënatyrë'!$G492,'2.aTë ardhura-jopublik-monetare'!$H$20:$H$1016)","v":0}]
[null,null,null,null,null,null,null,null,null,{"$f":"SUMIF($G$20:$G$5016,$G493,$H$20:$H$5016)+SUMIF('2.aTë ardhura-jopublik-monetare'!$G$20:$G$1016,'2.bTë ardhura-jopublik-nënatyrë'!$G493,'2.aTë ardhura-jopublik-monetare'!$H$20:$H$1016)","v":0}]
[null,null,null,null,null,null,null,null,null,{"$f":"SUMIF($G$20:$G$5016,$G494,$H$20:$H$5016)+SUMIF('2.aTë ardhura-jopublik-monetare'!$G$20:$G$1016,'2.bTë ardhura-jopublik-nënatyrë'!$G494,'2.aTë ardhura-jopublik-monetare'!$H$20:$H$1016)","v":0}]
[null,null,null,null,null,null,null,null,null,{"$f":"SUMIF($G$20:$G$5016,$G495,$H$20:$H$5016)+SUMIF('2.aTë ardhura-jopublik-monetare'!$G$20:$G$1016,'2.bTë ardhura-jopublik-nënatyrë'!$G495,'2.aTë ardhura-jopublik-monetare'!$H$20:$H$1016)","v":0}]
[null,null,null,null,null,null,null,null,null,{"$f":"SUMIF($G$20:$G$5016,$G496,$H$20:$H$5016)+SUMIF('2.aTë ardhura-jopublik-monetare'!$G$20:$G$1016,'2.bTë ardhura-jopublik-nënatyrë'!$G496,'2.aTë ardhura-jopublik-monetare'!$H$20:$H$1016)","v":0}]
[null,null,null,null,null,null,null,null,null,{"$f":"SUMIF($G$20:$G$5016,$G497,$H$20:$H$5016)+SUMIF('2.aTë ardhura-jopublik-monetare'!$G$20:$G$1016,'2.bTë ardhura-jopublik-nënatyrë'!$G497,'2.aTë ardhura-jopublik-monetare'!$H$20:$H$1016)","v":0}]
[null,null,null,null,null,null,null,null,null,{"$f":"SUMIF($G$20:$G$5016,$G498,$H$20:$H$5016)+SUMIF('2.aTë ardhura-jopublik-monetare'!$G$20:$G$1016,'2.bTë ardhura-jopublik-nënatyrë'!$G498,'2.aTë ardhura-jopublik-monetare'!$H$20:$H$1016)","v":0}]
[null,null,null,null,null,null,null,null,null,{"$f":"SUMIF($G$20:$G$5016,$G499,$H$20:$H$5016)+SUMIF('2.aTë ardhura-jopublik-monetare'!$G$20:$G$1016,'2.bTë ardhura-jopublik-nënatyrë'!$G499,'2.aTë ardhura-jopublik-monetare'!$H$20:$H$1016)","v":0}]
[null,null,null,null,null,null,null,null,null,{"$f":"SUMIF($G$20:$G$5016,$G500,$H$20:$H$5016)+SUMIF('2.aTë ardhura-jopublik-monetare'!$G$20:$G$1016,'2.bTë ardhura-jopublik-nënatyrë'!$G500,'2.aTë ardhura-jopublik-monetare'!$H$20:$H$1016)","v":0}]
[null,null,null,null,null,null,null,null,null,{"$f":"SUMIF($G$20:$G$5016,$G501,$H$20:$H$5016)+SUMIF('2.aTë ardhura-jopublik-monetare'!$G$20:$G$1016,'2.bTë ardhura-jopublik-nënatyrë'!$G501,'2.aTë ardhura-jopublik-monetare'!$H$20:$H$1016)","v":0}]
[null,null,null,null,null,null,null,null,null,{"$f":"SUMIF($G$20:$G$5016,$G502,$H$20:$H$5016)+SUMIF('2.aTë ardhura-jopublik-monetare'!$G$20:$G$1016,'2.bTë ardhura-jopublik-nënatyrë'!$G502,'2.aTë ardhura-jopublik-monetare'!$H$20:$H$1016)","v":0}]
[null,null,null,null,null,null,null,null,null,{"$f":"SUMIF($G$20:$G$5016,$G503,$H$20:$H$5016)+SUMIF('2.aTë ardhura-jopublik-monetare'!$G$20:$G$1016,'2.bTë ardhura-jopublik-nënatyrë'!$G503,'2.aTë ardhura-jopublik-monetare'!$H$20:$H$1016)","v":0}]
[null,null,null,null,null,null,null,null,null,{"$f":"SUMIF($G$20:$G$5016,$G504,$H$20:$H$5016)+SUMIF('2.aTë ardhura-jopublik-monetare'!$G$20:$G$1016,'2.bTë ardhura-jopublik-nënatyrë'!$G504,'2.aTë ardhura-jopublik-monetare'!$H$20:$H$1016)","v":0}]
[null,null,null,null,null,null,null,null,null,{"$f":"SUMIF($G$20:$G$5016,$G505,$H$20:$H$5016)+SUMIF('2.aTë ardhura-jopublik-monetare'!$G$20:$G$1016,'2.bTë ardhura-jopublik-nënatyrë'!$G505,'2.aTë ardhura-jopublik-monetare'!$H$20:$H$1016)","v":0}]
[null,null,null,null,null,null,null,null,null,{"$f":"SUMIF($G$20:$G$5016,$G506,$H$20:$H$5016)+SUMIF('2.aTë ardhura-jopublik-monetare'!$G$20:$G$1016,'2.bTë ardhura-jopublik-nënatyrë'!$G506,'2.aTë ardhura-jopublik-monetare'!$H$20:$H$1016)","v":0}]
[null,null,null,null,null,null,null,null,null,{"$f":"SUMIF($G$20:$G$5016,$G507,$H$20:$H$5016)+SUMIF('2.aTë ardhura-jopublik-monetare'!$G$20:$G$1016,'2.bTë ardhura-jopublik-nënatyrë'!$G507,'2.aTë ardhura-jopublik-monetare'!$H$20:$H$1016)","v":0}]
[null,null,null,null,null,null,null,null,null,{"$f":"SUMIF($G$20:$G$5016,$G508,$H$20:$H$5016)+SUMIF('2.aTë ardhura-jopublik-monetare'!$G$20:$G$1016,'2.bTë ardhura-jopublik-nënatyrë'!$G508,'2.aTë ardhura-jopublik-monetare'!$H$20:$H$1016)","v":0}]
[null,null,null,null,null,null,null,null,null,{"$f":"SUMIF($G$20:$G$5016,$G509,$H$20:$H$5016)+SUMIF('2.aTë ardhura-jopublik-monetare'!$G$20:$G$1016,'2.bTë ardhura-jopublik-nënatyrë'!$G509,'2.aTë ardhura-jopublik-monetare'!$H$20:$H$1016)","v":0}]
[null,null,null,null,null,null,null,null,null,{"$f":"SUMIF($G$20:$G$5016,$G510,$H$20:$H$5016)+SUMIF('2.aTë ardhura-jopublik-monetare'!$G$20:$G$1016,'2.bTë ardhura-jopublik-nënatyrë'!$G510,'2.aTë ardhura-jopublik-monetare'!$H$20:$H$1016)","v":0}]
[null,null,null,null,null,null,null,null,null,{"$f":"SUMIF($G$20:$G$5016,$G511,$H$20:$H$5016)+SUMIF('2.aTë ardhura-jopublik-monetare'!$G$20:$G$1016,'2.bTë ardhura-jopublik-nënatyrë'!$G511,'2.aTë ardhura-jopublik-monetare'!$H$20:$H$1016)","v":0}]
[null,null,null,null,null,null,null,null,null,{"$f":"SUMIF($G$20:$G$5016,$G512,$H$20:$H$5016)+SUMIF('2.aTë ardhura-jopublik-monetare'!$G$20:$G$1016,'2.bTë ardhura-jopublik-nënatyrë'!$G512,'2.aTë ardhura-jopublik-monetare'!$H$20:$H$1016)","v":0}]
[null,null,null,null,null,null,null,null,null,{"$f":"SUMIF($G$20:$G$5016,$G513,$H$20:$H$5016)+SUMIF('2.aTë ardhura-jopublik-monetare'!$G$20:$G$1016,'2.bTë ardhura-jopublik-nënatyrë'!$G513,'2.aTë ardhura-jopublik-monetare'!$H$20:$H$1016)","v":0}]
[null,null,null,null,null,null,null,null,null,{"$f":"SUMIF($G$20:$G$5016,$G514,$H$20:$H$5016)+SUMIF('2.aTë ardhura-jopublik-monetare'!$G$20:$G$1016,'2.bTë ardhura-jopublik-nënatyrë'!$G514,'2.aTë ardhura-jopublik-monetare'!$H$20:$H$1016)","v":0}]
[null,null,null,null,null,null,null,null,null,{"$f":"SUMIF($G$20:$G$5016,$G515,$H$20:$H$5016)+SUMIF('2.aTë ardhura-jopublik-monetare'!$G$20:$G$1016,'2.bTë ardhura-jopublik-nënatyrë'!$G515,'2.aTë ardhura-jopublik-monetare'!$H$20:$H$1016)","v":0}]
[null,null,null,null,null,null,null,null,null,{"$f":"SUMIF($G$20:$G$5016,$G516,$H$20:$H$5016)+SUMIF('2.aTë ardhura-jopublik-monetare'!$G$20:$G$1016,'2.bTë ardhura-jopublik-nënatyrë'!$G516,'2.aTë ardhura-jopublik-monetare'!$H$20:$H$1016)","v":0}]
[null,null,null,null,null,null,null,null,null,{"$f":"SUMIF($G$20:$G$5016,$G517,$H$20:$H$5016)+SUMIF('2.aTë ardhura-jopublik-monetare'!$G$20:$G$1016,'2.bTë ardhura-jopublik-nënatyrë'!$G517,'2.aTë ardhura-jopublik-monetare'!$H$20:$H$1016)","v":0}]
[null,null,null,null,null,null,null,null,null,{"$f":"SUMIF($G$20:$G$5016,$G518,$H$20:$H$5016)+SUMIF('2.aTë ardhura-jopublik-monetare'!$G$20:$G$1016,'2.bTë ardhura-jopublik-nënatyrë'!$G518,'2.aTë ardhura-jopublik-monetare'!$H$20:$H$1016)","v":0}]
[null,null,null,null,null,null,null,null,null,{"$f":"SUMIF($G$20:$G$5016,$G519,$H$20:$H$5016)+SUMIF('2.aTë ardhura-jopublik-monetare'!$G$20:$G$1016,'2.bTë ardhura-jopublik-nënatyrë'!$G519,'2.aTë ardhura-jopublik-monetare'!$H$20:$H$1016)","v":0}]
[null,null,null,null,null,null,null,null,null,{"$f":"SUMIF($G$20:$G$5016,$G520,$H$20:$H$5016)+SUMIF('2.aTë ardhura-jopublik-monetare'!$G$20:$G$1016,'2.bTë ardhura-jopublik-nënatyrë'!$G520,'2.aTë ardhura-jopublik-monetare'!$H$20:$H$1016)","v":0}]
[null,null,null,null,null,null,null,null,null,{"$f":"SUMIF($G$20:$G$5016,$G521,$H$20:$H$5016)+SUMIF('2.aTë ardhura-jopublik-monetare'!$G$20:$G$1016,'2.bTë ardhura-jopublik-nënatyrë'!$G521,'2.aTë ardhura-jopublik-monetare'!$H$20:$H$1016)","v":0}]
[null,null,null,null,null,null,null,null,null,{"$f":"SUMIF($G$20:$G$5016,$G522,$H$20:$H$5016)+SUMIF('2.aTë ardhura-jopublik-monetare'!$G$20:$G$1016,'2.bTë ardhura-jopublik-nënatyrë'!$G522,'2.aTë ardhura-jopublik-monetare'!$H$20:$H$1016)","v":0}]
[null,null,null,null,null,null,null,null,null,{"$f":"SUMIF($G$20:$G$5016,$G523,$H$20:$H$5016)+SUMIF('2.aTë ardhura-jopublik-monetare'!$G$20:$G$1016,'2.bTë ardhura-jopublik-nënatyrë'!$G523,'2.aTë ardhura-jopublik-monetare'!$H$20:$H$1016)","v":0}]
[null,null,null,null,null,null,null,null,null,{"$f":"SUMIF($G$20:$G$5016,$G524,$H$20:$H$5016)+SUMIF('2.aTë ardhura-jopublik-monetare'!$G$20:$G$1016,'2.bTë ardhura-jopublik-nënatyrë'!$G524,'2.aTë ardhura-jopublik-monetare'!$H$20:$H$1016)","v":0}]
[null,null,null,null,null,null,null,null,null,{"$f":"SUMIF($G$20:$G$5016,$G525,$H$20:$H$5016)+SUMIF('2.aTë ardhura-jopublik-monetare'!$G$20:$G$1016,'2.bTë ardhura-jopublik-nënatyrë'!$G525,'2.aTë ardhura-jopublik-monetare'!$H$20:$H$1016)","v":0}]
[null,null,null,null,null,null,null,null,null,{"$f":"SUMIF($G$20:$G$5016,$G526,$H$20:$H$5016)+SUMIF('2.aTë ardhura-jopublik-monetare'!$G$20:$G$1016,'2.bTë ardhura-jopublik-nënatyrë'!$G526,'2.aTë ardhura-jopublik-monetare'!$H$20:$H$1016)","v":0}]
[null,null,null,null,null,null,null,null,null,{"$f":"SUMIF($G$20:$G$5016,$G527,$H$20:$H$5016)+SUMIF('2.aTë ardhura-jopublik-monetare'!$G$20:$G$1016,'2.bTë ardhura-jopublik-nënatyrë'!$G527,'2.aTë ardhura-jopublik-monetare'!$H$20:$H$1016)","v":0}]
[null,null,null,null,null,null,null,null,null,{"$f":"SUMIF($G$20:$G$5016,$G528,$H$20:$H$5016)+SUMIF('2.aTë ardhura-jopublik-monetare'!$G$20:$G$1016,'2.bTë ardhura-jopublik-nënatyrë'!$G528,'2.aTë ardhura-jopublik-monetare'!$H$20:$H$1016)","v":0}]
[null,null,null,null,null,null,null,null,null,{"$f":"SUMIF($G$20:$G$5016,$G529,$H$20:$H$5016)+SUMIF('2.aTë ardhura-jopublik-monetare'!$G$20:$G$1016,'2.bTë ardhura-jopublik-nënatyrë'!$G529,'2.aTë ardhura-jopublik-monetare'!$H$20:$H$1016)","v":0}]
[null,null,null,null,null,null,null,null,null,{"$f":"SUMIF($G$20:$G$5016,$G530,$H$20:$H$5016)+SUMIF('2.aTë ardhura-jopublik-monetare'!$G$20:$G$1016,'2.bTë ardhura-jopublik-nënatyrë'!$G530,'2.aTë ardhura-jopublik-monetare'!$H$20:$H$1016)","v":0}]
[null,null,null,null,null,null,null,null,null,{"$f":"SUMIF($G$20:$G$5016,$G531,$H$20:$H$5016)+SUMIF('2.aTë ardhura-jopublik-monetare'!$G$20:$G$1016,'2.bTë ardhura-jopublik-nënatyrë'!$G531,'2.aTë ardhura-jopublik-monetare'!$H$20:$H$1016)","v":0}]
[null,null,null,null,null,null,null,null,null,{"$f":"SUMIF($G$20:$G$5016,$G532,$H$20:$H$5016)+SUMIF('2.aTë ardhura-jopublik-monetare'!$G$20:$G$1016,'2.bTë ardhura-jopublik-nënatyrë'!$G532,'2.aTë ardhura-jopublik-monetare'!$H$20:$H$1016)","v":0}]
[null,null,null,null,null,null,null,null,null,{"$f":"SUMIF($G$20:$G$5016,$G533,$H$20:$H$5016)+SUMIF('2.aTë ardhura-jopublik-monetare'!$G$20:$G$1016,'2.bTë ardhura-jopublik-nënatyrë'!$G533,'2.aTë ardhura-jopublik-monetare'!$H$20:$H$1016)","v":0}]
[null,null,null,null,null,null,null,null,null,{"$f":"SUMIF($G$20:$G$5016,$G534,$H$20:$H$5016)+SUMIF('2.aTë ardhura-jopublik-monetare'!$G$20:$G$1016,'2.bTë ardhura-jopublik-nënatyrë'!$G534,'2.aTë ardhura-jopublik-monetare'!$H$20:$H$1016)","v":0}]
[null,null,null,null,null,null,null,null,null,{"$f":"SUMIF($G$20:$G$5016,$G535,$H$20:$H$5016)+SUMIF('2.aTë ardhura-jopublik-monetare'!$G$20:$G$1016,'2.bTë ardhura-jopublik-nënatyrë'!$G535,'2.aTë ardhura-jopublik-monetare'!$H$20:$H$1016)","v":0}]
[null,null,null,null,null,null,null,null,null,{"$f":"SUMIF($G$20:$G$5016,$G536,$H$20:$H$5016)+SUMIF('2.aTë ardhura-jopublik-monetare'!$G$20:$G$1016,'2.bTë ardhura-jopublik-nënatyrë'!$G536,'2.aTë ardhura-jopublik-monetare'!$H$20:$H$1016)","v":0}]
[null,null,null,null,null,null,null,null,null,{"$f":"SUMIF($G$20:$G$5016,$G537,$H$20:$H$5016)+SUMIF('2.aTë ardhura-jopublik-monetare'!$G$20:$G$1016,'2.bTë ardhura-jopublik-nënatyrë'!$G537,'2.aTë ardhura-jopublik-monetare'!$H$20:$H$1016)","v":0}]
[null,null,null,null,null,null,null,null,null,{"$f":"SUMIF($G$20:$G$5016,$G538,$H$20:$H$5016)+SUMIF('2.aTë ardhura-jopublik-monetare'!$G$20:$G$1016,'2.bTë ardhura-jopublik-nënatyrë'!$G538,'2.aTë ardhura-jopublik-monetare'!$H$20:$H$1016)","v":0}]
[null,null,null,null,null,null,null,null,null,{"$f":"SUMIF($G$20:$G$5016,$G539,$H$20:$H$5016)+SUMIF('2.aTë ardhura-jopublik-monetare'!$G$20:$G$1016,'2.bTë ardhura-jopublik-nënatyrë'!$G539,'2.aTë ardhura-jopublik-monetare'!$H$20:$H$1016)","v":0}]
[null,null,null,null,null,null,null,null,null,{"$f":"SUMIF($G$20:$G$5016,$G540,$H$20:$H$5016)+SUMIF('2.aTë ardhura-jopublik-monetare'!$G$20:$G$1016,'2.bTë ardhura-jopublik-nënatyrë'!$G540,'2.aTë ardhura-jopublik-monetare'!$H$20:$H$1016)","v":0}]
[null,null,null,null,null,null,null,null,null,{"$f":"SUMIF($G$20:$G$5016,$G541,$H$20:$H$5016)+SUMIF('2.aTë ardhura-jopublik-monetare'!$G$20:$G$1016,'2.bTë ardhura-jopublik-nënatyrë'!$G541,'2.aTë ardhura-jopublik-monetare'!$H$20:$H$1016)","v":0}]
[null,null,null,null,null,null,null,null,null,{"$f":"SUMIF($G$20:$G$5016,$G542,$H$20:$H$5016)+SUMIF('2.aTë ardhura-jopublik-monetare'!$G$20:$G$1016,'2.bTë ardhura-jopublik-nënatyrë'!$G542,'2.aTë ardhura-jopublik-monetare'!$H$20:$H$1016)","v":0}]
[null,null,null,null,null,null,null,null,null,{"$f":"SUMIF($G$20:$G$5016,$G543,$H$20:$H$5016)+SUMIF('2.aTë ardhura-jopublik-monetare'!$G$20:$G$1016,'2.bTë ardhura-jopublik-nënatyrë'!$G543,'2.aTë ardhura-jopublik-monetare'!$H$20:$H$1016)","v":0}]
[null,null,null,null,null,null,null,null,null,{"$f":"SUMIF($G$20:$G$5016,$G544,$H$20:$H$5016)+SUMIF('2.aTë ardhura-jopublik-monetare'!$G$20:$G$1016,'2.bTë ardhura-jopublik-nënatyrë'!$G544,'2.aTë ardhura-jopublik-monetare'!$H$20:$H$1016)","v":0}]
[null,null,null,null,null,null,null,null,null,{"$f":"SUMIF($G$20:$G$5016,$G545,$H$20:$H$5016)+SUMIF('2.aTë ardhura-jopublik-monetare'!$G$20:$G$1016,'2.bTë ardhura-jopublik-nënatyrë'!$G545,'2.aTë ardhura-jopublik-monetare'!$H$20:$H$1016)","v":0}]
[null,null,null,null,null,null,null,null,null,{"$f":"SUMIF($G$20:$G$5016,$G546,$H$20:$H$5016)+SUMIF('2.aTë ardhura-jopublik-monetare'!$G$20:$G$1016,'2.bTë ardhura-jopublik-nënatyrë'!$G546,'2.aTë ardhura-jopublik-monetare'!$H$20:$H$1016)","v":0}]
[null,null,null,null,null,null,null,null,null,{"$f":"SUMIF($G$20:$G$5016,$G547,$H$20:$H$5016)+SUMIF('2.aTë ardhura-jopublik-monetare'!$G$20:$G$1016,'2.bTë ardhura-jopublik-nënatyrë'!$G547,'2.aTë ardhura-jopublik-monetare'!$H$20:$H$1016)","v":0}]
[null,null,null,null,null,null,null,null,null,{"$f":"SUMIF($G$20:$G$5016,$G548,$H$20:$H$5016)+SUMIF('2.aTë ardhura-jopublik-monetare'!$G$20:$G$1016,'2.bTë ardhura-jopublik-nënatyrë'!$G548,'2.aTë ardhura-jopublik-monetare'!$H$20:$H$1016)","v":0}]
[null,null,null,null,null,null,null,null,null,{"$f":"SUMIF($G$20:$G$5016,$G549,$H$20:$H$5016)+SUMIF('2.aTë ardhura-jopublik-monetare'!$G$20:$G$1016,'2.bTë ardhura-jopublik-nënatyrë'!$G549,'2.aTë ardhura-jopublik-monetare'!$H$20:$H$1016)","v":0}]
[null,null,null,null,null,null,null,null,null,{"$f":"SUMIF($G$20:$G$5016,$G550,$H$20:$H$5016)+SUMIF('2.aTë ardhura-jopublik-monetare'!$G$20:$G$1016,'2.bTë ardhura-jopublik-nënatyrë'!$G550,'2.aTë ardhura-jopublik-monetare'!$H$20:$H$1016)","v":0}]
[null,null,null,null,null,null,null,null,null,{"$f":"SUMIF($G$20:$G$5016,$G551,$H$20:$H$5016)+SUMIF('2.aTë ardhura-jopublik-monetare'!$G$20:$G$1016,'2.bTë ardhura-jopublik-nënatyrë'!$G551,'2.aTë ardhura-jopublik-monetare'!$H$20:$H$1016)","v":0}]
[null,null,null,null,null,null,null,null,null,{"$f":"SUMIF($G$20:$G$5016,$G552,$H$20:$H$5016)+SUMIF('2.aTë ardhura-jopublik-monetare'!$G$20:$G$1016,'2.bTë ardhura-jopublik-nënatyrë'!$G552,'2.aTë ardhura-jopublik-monetare'!$H$20:$H$1016)","v":0}]
[null,null,null,null,null,null,null,null,null,{"$f":"SUMIF($G$20:$G$5016,$G553,$H$20:$H$5016)+SUMIF('2.aTë ardhura-jopublik-monetare'!$G$20:$G$1016,'2.bTë ardhura-jopublik-nënatyrë'!$G553,'2.aTë ardhura-jopublik-monetare'!$H$20:$H$1016)","v":0}]
[null,null,null,null,null,null,null,null,null,{"$f":"SUMIF($G$20:$G$5016,$G554,$H$20:$H$5016)+SUMIF('2.aTë ardhura-jopublik-monetare'!$G$20:$G$1016,'2.bTë ardhura-jopublik-nënatyrë'!$G554,'2.aTë ardhura-jopublik-monetare'!$H$20:$H$1016)","v":0}]
[null,null,null,null,null,null,null,null,null,{"$f":"SUMIF($G$20:$G$5016,$G555,$H$20:$H$5016)+SUMIF('2.aTë ardhura-jopublik-monetare'!$G$20:$G$1016,'2.bTë ardhura-jopublik-nënatyrë'!$G555,'2.aTë ardhura-jopublik-monetare'!$H$20:$H$1016)","v":0}]
[null,null,null,null,null,null,null,null,null,{"$f":"SUMIF($G$20:$G$5016,$G556,$H$20:$H$5016)+SUMIF('2.aTë ardhura-jopublik-monetare'!$G$20:$G$1016,'2.bTë ardhura-jopublik-nënatyrë'!$G556,'2.aTë ardhura-jopublik-monetare'!$H$20:$H$1016)","v":0}]
[null,null,null,null,null,null,null,null,null,{"$f":"SUMIF($G$20:$G$5016,$G557,$H$20:$H$5016)+SUMIF('2.aTë ardhura-jopublik-monetare'!$G$20:$G$1016,'2.bTë ardhura-jopublik-nënatyrë'!$G557,'2.aTë ardhura-jopublik-monetare'!$H$20:$H$1016)","v":0}]
[null,null,null,null,null,null,null,null,null,{"$f":"SUMIF($G$20:$G$5016,$G558,$H$20:$H$5016)+SUMIF('2.aTë ardhura-jopublik-monetare'!$G$20:$G$1016,'2.bTë ardhura-jopublik-nënatyrë'!$G558,'2.aTë ardhura-jopublik-monetare'!$H$20:$H$1016)","v":0}]
[null,null,null,null,null,null,null,null,null,{"$f":"SUMIF($G$20:$G$5016,$G559,$H$20:$H$5016)+SUMIF('2.aTë ardhura-jopublik-monetare'!$G$20:$G$1016,'2.bTë ardhura-jopublik-nënatyrë'!$G559,'2.aTë ardhura-jopublik-monetare'!$H$20:$H$1016)","v":0}]
[null,null,null,null,null,null,null,null,null,{"$f":"SUMIF($G$20:$G$5016,$G560,$H$20:$H$5016)+SUMIF('2.aTë ardhura-jopublik-monetare'!$G$20:$G$1016,'2.bTë ardhura-jopublik-nënatyrë'!$G560,'2.aTë ardhura-jopublik-monetare'!$H$20:$H$1016)","v":0}]
[null,null,null,null,null,null,null,null,null,{"$f":"SUMIF($G$20:$G$5016,$G561,$H$20:$H$5016)+SUMIF('2.aTë ardhura-jopublik-monetare'!$G$20:$G$1016,'2.bTë ardhura-jopublik-nënatyrë'!$G561,'2.aTë ardhura-jopublik-monetare'!$H$20:$H$1016)","v":0}]
[null,null,null,null,null,null,null,null,null,{"$f":"SUMIF($G$20:$G$5016,$G562,$H$20:$H$5016)+SUMIF('2.aTë ardhura-jopublik-monetare'!$G$20:$G$1016,'2.bTë ardhura-jopublik-nënatyrë'!$G562,'2.aTë ardhura-jopublik-monetare'!$H$20:$H$1016)","v":0}]
[null,null,null,null,null,null,null,null,null,{"$f":"SUMIF($G$20:$G$5016,$G563,$H$20:$H$5016)+SUMIF('2.aTë ardhura-jopublik-monetare'!$G$20:$G$1016,'2.bTë ardhura-jopublik-nënatyrë'!$G563,'2.aTë ardhura-jopublik-monetare'!$H$20:$H$1016)","v":0}]
[null,null,null,null,null,null,null,null,null,{"$f":"SUMIF($G$20:$G$5016,$G564,$H$20:$H$5016)+SUMIF('2.aTë ardhura-jopublik-monetare'!$G$20:$G$1016,'2.bTë ardhura-jopublik-nënatyrë'!$G564,'2.aTë ardhura-jopublik-monetare'!$H$20:$H$1016)","v":0}]
[null,null,null,null,null,null,null,null,null,{"$f":"SUMIF($G$20:$G$5016,$G565,$H$20:$H$5016)+SUMIF('2.aTë ardhura-jopublik-monetare'!$G$20:$G$1016,'2.bTë ardhura-jopublik-nënatyrë'!$G565,'2.aTë ardhura-jopublik-monetare'!$H$20:$H$1016)","v":0}]
[null,null,null,null,null,null,null,null,null,{"$f":"SUMIF($G$20:$G$5016,$G566,$H$20:$H$5016)+SUMIF('2.aTë ardhura-jopublik-monetare'!$G$20:$G$1016,'2.bTë ardhura-jopublik-nënatyrë'!$G566,'2.aTë ardhura-jopublik-monetare'!$H$20:$H$1016)","v":0}]
[null,null,null,null,null,null,null,null,null,{"$f":"SUMIF($G$20:$G$5016,$G567,$H$20:$H$5016)+SUMIF('2.aTë ardhura-jopublik-monetare'!$G$20:$G$1016,'2.bTë ardhura-jopublik-nënatyrë'!$G567,'2.aTë ardhura-jopublik-monetare'!$H$20:$H$1016)","v":0}]
[null,null,null,null,null,null,null,null,null,{"$f":"SUMIF($G$20:$G$5016,$G568,$H$20:$H$5016)+SUMIF('2.aTë ardhura-jopublik-monetare'!$G$20:$G$1016,'2.bTë ardhura-jopublik-nënatyrë'!$G568,'2.aTë ardhura-jopublik-monetare'!$H$20:$H$1016)","v":0}]
[null,null,null,null,null,null,null,null,null,{"$f":"SUMIF($G$20:$G$5016,$G569,$H$20:$H$5016)+SUMIF('2.aTë ardhura-jopublik-monetare'!$G$20:$G$1016,'2.bTë ardhura-jopublik-nënatyrë'!$G569,'2.aTë ardhura-jopublik-monetare'!$H$20:$H$1016)","v":0}]
[null,null,null,null,null,null,null,null,null,{"$f":"SUMIF($G$20:$G$5016,$G570,$H$20:$H$5016)+SUMIF('2.aTë ardhura-jopublik-monetare'!$G$20:$G$1016,'2.bTë ardhura-jopublik-nënatyrë'!$G570,'2.aTë ardhura-jopublik-monetare'!$H$20:$H$1016)","v":0}]
[null,null,null,null,null,null,null,null,null,{"$f":"SUMIF($G$20:$G$5016,$G571,$H$20:$H$5016)+SUMIF('2.aTë ardhura-jopublik-monetare'!$G$20:$G$1016,'2.bTë ardhura-jopublik-nënatyrë'!$G571,'2.aTë ardhura-jopublik-monetare'!$H$20:$H$1016)","v":0}]
[null,null,null,null,null,null,null,null,null,{"$f":"SUMIF($G$20:$G$5016,$G572,$H$20:$H$5016)+SUMIF('2.aTë ardhura-jopublik-monetare'!$G$20:$G$1016,'2.bTë ardhura-jopublik-nënatyrë'!$G572,'2.aTë ardhura-jopublik-monetare'!$H$20:$H$1016)","v":0}]
[null,null,null,null,null,null,null,null,null,{"$f":"SUMIF($G$20:$G$5016,$G573,$H$20:$H$5016)+SUMIF('2.aTë ardhura-jopublik-monetare'!$G$20:$G$1016,'2.bTë ardhura-jopublik-nënatyrë'!$G573,'2.aTë ardhura-jopublik-monetare'!$H$20:$H$1016)","v":0}]
[null,null,null,null,null,null,null,null,null,{"$f":"SUMIF($G$20:$G$5016,$G574,$H$20:$H$5016)+SUMIF('2.aTë ardhura-jopublik-monetare'!$G$20:$G$1016,'2.bTë ardhura-jopublik-nënatyrë'!$G574,'2.aTë ardhura-jopublik-monetare'!$H$20:$H$1016)","v":0}]
[null,null,null,null,null,null,null,null,null,{"$f":"SUMIF($G$20:$G$5016,$G575,$H$20:$H$5016)+SUMIF('2.aTë ardhura-jopublik-monetare'!$G$20:$G$1016,'2.bTë ardhura-jopublik-nënatyrë'!$G575,'2.aTë ardhura-jopublik-monetare'!$H$20:$H$1016)","v":0}]
[null,null,null,null,null,null,null,null,null,{"$f":"SUMIF($G$20:$G$5016,$G576,$H$20:$H$5016)+SUMIF('2.aTë ardhura-jopublik-monetare'!$G$20:$G$1016,'2.bTë ardhura-jopublik-nënatyrë'!$G576,'2.aTë ardhura-jopublik-monetare'!$H$20:$H$1016)","v":0}]
[null,null,null,null,null,null,null,null,null,{"$f":"SUMIF($G$20:$G$5016,$G577,$H$20:$H$5016)+SUMIF('2.aTë ardhura-jopublik-monetare'!$G$20:$G$1016,'2.bTë ardhura-jopublik-nënatyrë'!$G577,'2.aTë ardhura-jopublik-monetare'!$H$20:$H$1016)","v":0}]
[null,null,null,null,null,null,null,null,null,{"$f":"SUMIF($G$20:$G$5016,$G578,$H$20:$H$5016)+SUMIF('2.aTë ardhura-jopublik-monetare'!$G$20:$G$1016,'2.bTë ardhura-jopublik-nënatyrë'!$G578,'2.aTë ardhura-jopublik-monetare'!$H$20:$H$1016)","v":0}]
[null,null,null,null,null,null,null,null,null,{"$f":"SUMIF($G$20:$G$5016,$G579,$H$20:$H$5016)+SUMIF('2.aTë ardhura-jopublik-monetare'!$G$20:$G$1016,'2.bTë ardhura-jopublik-nënatyrë'!$G579,'2.aTë ardhura-jopublik-monetare'!$H$20:$H$1016)","v":0}]
[null,null,null,null,null,null,null,null,null,{"$f":"SUMIF($G$20:$G$5016,$G580,$H$20:$H$5016)+SUMIF('2.aTë ardhura-jopublik-monetare'!$G$20:$G$1016,'2.bTë ardhura-jopublik-nënatyrë'!$G580,'2.aTë ardhura-jopublik-monetare'!$H$20:$H$1016)","v":0}]
[null,null,null,null,null,null,null,null,null,{"$f":"SUMIF($G$20:$G$5016,$G581,$H$20:$H$5016)+SUMIF('2.aTë ardhura-jopublik-monetare'!$G$20:$G$1016,'2.bTë ardhura-jopublik-nënatyrë'!$G581,'2.aTë ardhura-jopublik-monetare'!$H$20:$H$1016)","v":0}]
[null,null,null,null,null,null,null,null,null,{"$f":"SUMIF($G$20:$G$5016,$G582,$H$20:$H$5016)+SUMIF('2.aTë ardhura-jopublik-monetare'!$G$20:$G$1016,'2.bTë ardhura-jopublik-nënatyrë'!$G582,'2.aTë ardhura-jopublik-monetare'!$H$20:$H$1016)","v":0}]
[null,null,null,null,null,null,null,null,null,{"$f":"SUMIF($G$20:$G$5016,$G583,$H$20:$H$5016)+SUMIF('2.aTë ardhura-jopublik-monetare'!$G$20:$G$1016,'2.bTë ardhura-jopublik-nënatyrë'!$G583,'2.aTë ardhura-jopublik-monetare'!$H$20:$H$1016)","v":0}]
[null,null,null,null,null,null,null,null,null,{"$f":"SUMIF($G$20:$G$5016,$G584,$H$20:$H$5016)+SUMIF('2.aTë ardhura-jopublik-monetare'!$G$20:$G$1016,'2.bTë ardhura-jopublik-nënatyrë'!$G584,'2.aTë ardhura-jopublik-monetare'!$H$20:$H$1016)","v":0}]
[null,null,null,null,null,null,null,null,null,{"$f":"SUMIF($G$20:$G$5016,$G585,$H$20:$H$5016)+SUMIF('2.aTë ardhura-jopublik-monetare'!$G$20:$G$1016,'2.bTë ardhura-jopublik-nënatyrë'!$G585,'2.aTë ardhura-jopublik-monetare'!$H$20:$H$1016)","v":0}]
[null,null,null,null,null,null,null,null,null,{"$f":"SUMIF($G$20:$G$5016,$G586,$H$20:$H$5016)+SUMIF('2.aTë ardhura-jopublik-monetare'!$G$20:$G$1016,'2.bTë ardhura-jopublik-nënatyrë'!$G586,'2.aTë ardhura-jopublik-monetare'!$H$20:$H$1016)","v":0}]
[null,null,null,null,null,null,null,null,null,{"$f":"SUMIF($G$20:$G$5016,$G587,$H$20:$H$5016)+SUMIF('2.aTë ardhura-jopublik-monetare'!$G$20:$G$1016,'2.bTë ardhura-jopublik-nënatyrë'!$G587,'2.aTë ardhura-jopublik-monetare'!$H$20:$H$1016)","v":0}]
[null,null,null,null,null,null,null,null,null,{"$f":"SUMIF($G$20:$G$5016,$G588,$H$20:$H$5016)+SUMIF('2.aTë ardhura-jopublik-monetare'!$G$20:$G$1016,'2.bTë ardhura-jopublik-nënatyrë'!$G588,'2.aTë ardhura-jopublik-monetare'!$H$20:$H$1016)","v":0}]
[null,null,null,null,null,null,null,null,null,{"$f":"SUMIF($G$20:$G$5016,$G589,$H$20:$H$5016)+SUMIF('2.aTë ardhura-jopublik-monetare'!$G$20:$G$1016,'2.bTë ardhura-jopublik-nënatyrë'!$G589,'2.aTë ardhura-jopublik-monetare'!$H$20:$H$1016)","v":0}]
[null,null,null,null,null,null,null,null,null,{"$f":"SUMIF($G$20:$G$5016,$G590,$H$20:$H$5016)+SUMIF('2.aTë ardhura-jopublik-monetare'!$G$20:$G$1016,'2.bTë ardhura-jopublik-nënatyrë'!$G590,'2.aTë ardhura-jopublik-monetare'!$H$20:$H$1016)","v":0}]
[null,null,null,null,null,null,null,null,null,{"$f":"SUMIF($G$20:$G$5016,$G591,$H$20:$H$5016)+SUMIF('2.aTë ardhura-jopublik-monetare'!$G$20:$G$1016,'2.bTë ardhura-jopublik-nënatyrë'!$G591,'2.aTë ardhura-jopublik-monetare'!$H$20:$H$1016)","v":0}]
[null,null,null,null,null,null,null,null,null,{"$f":"SUMIF($G$20:$G$5016,$G592,$H$20:$H$5016)+SUMIF('2.aTë ardhura-jopublik-monetare'!$G$20:$G$1016,'2.bTë ardhura-jopublik-nënatyrë'!$G592,'2.aTë ardhura-jopublik-monetare'!$H$20:$H$1016)","v":0}]
[null,null,null,null,null,null,null,null,null,{"$f":"SUMIF($G$20:$G$5016,$G593,$H$20:$H$5016)+SUMIF('2.aTë ardhura-jopublik-monetare'!$G$20:$G$1016,'2.bTë ardhura-jopublik-nënatyrë'!$G593,'2.aTë ardhura-jopublik-monetare'!$H$20:$H$1016)","v":0}]
[null,null,null,null,null,null,null,null,null,{"$f":"SUMIF($G$20:$G$5016,$G594,$H$20:$H$5016)+SUMIF('2.aTë ardhura-jopublik-monetare'!$G$20:$G$1016,'2.bTë ardhura-jopublik-nënatyrë'!$G594,'2.aTë ardhura-jopublik-monetare'!$H$20:$H$1016)","v":0}]
[null,null,null,null,null,null,null,null,null,{"$f":"SUMIF($G$20:$G$5016,$G595,$H$20:$H$5016)+SUMIF('2.aTë ardhura-jopublik-monetare'!$G$20:$G$1016,'2.bTë ardhura-jopublik-nënatyrë'!$G595,'2.aTë ardhura-jopublik-monetare'!$H$20:$H$1016)","v":0}]
[null,null,null,null,null,null,null,null,null,{"$f":"SUMIF($G$20:$G$5016,$G596,$H$20:$H$5016)+SUMIF('2.aTë ardhura-jopublik-monetare'!$G$20:$G$1016,'2.bTë ardhura-jopublik-nënatyrë'!$G596,'2.aTë ardhura-jopublik-monetare'!$H$20:$H$1016)","v":0}]
[null,null,null,null,null,null,null,null,null,{"$f":"SUMIF($G$20:$G$5016,$G597,$H$20:$H$5016)+SUMIF('2.aTë ardhura-jopublik-monetare'!$G$20:$G$1016,'2.bTë ardhura-jopublik-nënatyrë'!$G597,'2.aTë ardhura-jopublik-monetare'!$H$20:$H$1016)","v":0}]
[null,null,null,null,null,null,null,null,null,{"$f":"SUMIF($G$20:$G$5016,$G598,$H$20:$H$5016)+SUMIF('2.aTë ardhura-jopublik-monetare'!$G$20:$G$1016,'2.bTë ardhura-jopublik-nënatyrë'!$G598,'2.aTë ardhura-jopublik-monetare'!$H$20:$H$1016)","v":0}]
[null,null,null,null,null,null,null,null,null,{"$f":"SUMIF($G$20:$G$5016,$G599,$H$20:$H$5016)+SUMIF('2.aTë ardhura-jopublik-monetare'!$G$20:$G$1016,'2.bTë ardhura-jopublik-nënatyrë'!$G599,'2.aTë ardhura-jopublik-monetare'!$H$20:$H$1016)","v":0}]
[null,null,null,null,null,null,null,null,null,{"$f":"SUMIF($G$20:$G$5016,$G600,$H$20:$H$5016)+SUMIF('2.aTë ardhura-jopublik-monetare'!$G$20:$G$1016,'2.bTë ardhura-jopublik-nënatyrë'!$G600,'2.aTë ardhura-jopublik-monetare'!$H$20:$H$1016)","v":0}]
[null,null,null,null,null,null,null,null,null,{"$f":"SUMIF($G$20:$G$5016,$G601,$H$20:$H$5016)+SUMIF('2.aTë ardhura-jopublik-monetare'!$G$20:$G$1016,'2.bTë ardhura-jopublik-nënatyrë'!$G601,'2.aTë ardhura-jopublik-monetare'!$H$20:$H$1016)","v":0}]
[null,null,null,null,null,null,null,null,null,{"$f":"SUMIF($G$20:$G$5016,$G602,$H$20:$H$5016)+SUMIF('2.aTë ardhura-jopublik-monetare'!$G$20:$G$1016,'2.bTë ardhura-jopublik-nënatyrë'!$G602,'2.aTë ardhura-jopublik-monetare'!$H$20:$H$1016)","v":0}]
[null,null,null,null,null,null,null,null,null,{"$f":"SUMIF($G$20:$G$5016,$G603,$H$20:$H$5016)+SUMIF('2.aTë ardhura-jopublik-monetare'!$G$20:$G$1016,'2.bTë ardhura-jopublik-nënatyrë'!$G603,'2.aTë ardhura-jopublik-monetare'!$H$20:$H$1016)","v":0}]
[null,null,null,null,null,null,null,null,null,{"$f":"SUMIF($G$20:$G$5016,$G604,$H$20:$H$5016)+SUMIF('2.aTë ardhura-jopublik-monetare'!$G$20:$G$1016,'2.bTë ardhura-jopublik-nënatyrë'!$G604,'2.aTë ardhura-jopublik-monetare'!$H$20:$H$1016)","v":0}]
[null,null,null,null,null,null,null,null,null,{"$f":"SUMIF($G$20:$G$5016,$G605,$H$20:$H$5016)+SUMIF('2.aTë ardhura-jopublik-monetare'!$G$20:$G$1016,'2.bTë ardhura-jopublik-nënatyrë'!$G605,'2.aTë ardhura-jopublik-monetare'!$H$20:$H$1016)","v":0}]
[null,null,null,null,null,null,null,null,null,{"$f":"SUMIF($G$20:$G$5016,$G606,$H$20:$H$5016)+SUMIF('2.aTë ardhura-jopublik-monetare'!$G$20:$G$1016,'2.bTë ardhura-jopublik-nënatyrë'!$G606,'2.aTë ardhura-jopublik-monetare'!$H$20:$H$1016)","v":0}]
[null,null,null,null,null,null,null,null,null,{"$f":"SUMIF($G$20:$G$5016,$G607,$H$20:$H$5016)+SUMIF('2.aTë ardhura-jopublik-monetare'!$G$20:$G$1016,'2.bTë ardhura-jopublik-nënatyrë'!$G607,'2.aTë ardhura-jopublik-monetare'!$H$20:$H$1016)","v":0}]
[null,null,null,null,null,null,null,null,null,{"$f":"SUMIF($G$20:$G$5016,$G608,$H$20:$H$5016)+SUMIF('2.aTë ardhura-jopublik-monetare'!$G$20:$G$1016,'2.bTë ardhura-jopublik-nënatyrë'!$G608,'2.aTë ardhura-jopublik-monetare'!$H$20:$H$1016)","v":0}]
[null,null,null,null,null,null,null,null,null,{"$f":"SUMIF($G$20:$G$5016,$G609,$H$20:$H$5016)+SUMIF('2.aTë ardhura-jopublik-monetare'!$G$20:$G$1016,'2.bTë ardhura-jopublik-nënatyrë'!$G609,'2.aTë ardhura-jopublik-monetare'!$H$20:$H$1016)","v":0}]
[null,null,null,null,null,null,null,null,null,{"$f":"SUMIF($G$20:$G$5016,$G610,$H$20:$H$5016)+SUMIF('2.aTë ardhura-jopublik-monetare'!$G$20:$G$1016,'2.bTë ardhura-jopublik-nënatyrë'!$G610,'2.aTë ardhura-jopublik-monetare'!$H$20:$H$1016)","v":0}]
[null,null,null,null,null,null,null,null,null,{"$f":"SUMIF($G$20:$G$5016,$G611,$H$20:$H$5016)+SUMIF('2.aTë ardhura-jopublik-monetare'!$G$20:$G$1016,'2.bTë ardhura-jopublik-nënatyrë'!$G611,'2.aTë ardhura-jopublik-monetare'!$H$20:$H$1016)","v":0}]
[null,null,null,null,null,null,null,null,null,{"$f":"SUMIF($G$20:$G$5016,$G612,$H$20:$H$5016)+SUMIF('2.aTë ardhura-jopublik-monetare'!$G$20:$G$1016,'2.bTë ardhura-jopublik-nënatyrë'!$G612,'2.aTë ardhura-jopublik-monetare'!$H$20:$H$1016)","v":0}]
[null,null,null,null,null,null,null,null,null,{"$f":"SUMIF($G$20:$G$5016,$G613,$H$20:$H$5016)+SUMIF('2.aTë ardhura-jopublik-monetare'!$G$20:$G$1016,'2.bTë ardhura-jopublik-nënatyrë'!$G613,'2.aTë ardhura-jopublik-monetare'!$H$20:$H$1016)","v":0}]
[null,null,null,null,null,null,null,null,null,{"$f":"SUMIF($G$20:$G$5016,$G614,$H$20:$H$5016)+SUMIF('2.aTë ardhura-jopublik-monetare'!$G$20:$G$1016,'2.bTë ardhura-jopublik-nënatyrë'!$G614,'2.aTë ardhura-jopublik-monetare'!$H$20:$H$1016)","v":0}]
[null,null,null,null,null,null,null,null,null,{"$f":"SUMIF($G$20:$G$5016,$G615,$H$20:$H$5016)+SUMIF('2.aTë ardhura-jopublik-monetare'!$G$20:$G$1016,'2.bTë ardhura-jopublik-nënatyrë'!$G615,'2.aTë ardhura-jopublik-monetare'!$H$20:$H$1016)","v":0}]
[null,null,null,null,null,null,null,null,null,{"$f":"SUMIF($G$20:$G$5016,$G616,$H$20:$H$5016)+SUMIF('2.aTë ardhura-jopublik-monetare'!$G$20:$G$1016,'2.bTë ardhura-jopublik-nënatyrë'!$G616,'2.aTë ardhura-jopublik-monetare'!$H$20:$H$1016)","v":0}]
[null,null,null,null,null,null,null,null,null,{"$f":"SUMIF($G$20:$G$5016,$G617,$H$20:$H$5016)+SUMIF('2.aTë ardhura-jopublik-monetare'!$G$20:$G$1016,'2.bTë ardhura-jopublik-nënatyrë'!$G617,'2.aTë ardhura-jopublik-monetare'!$H$20:$H$1016)","v":0}]
[null,null,null,null,null,null,null,null,null,{"$f":"SUMIF($G$20:$G$5016,$G618,$H$20:$H$5016)+SUMIF('2.aTë ardhura-jopublik-monetare'!$G$20:$G$1016,'2.bTë ardhura-jopublik-nënatyrë'!$G618,'2.aTë ardhura-jopublik-monetare'!$H$20:$H$1016)","v":0}]
[null,null,null,null,null,null,null,null,null,{"$f":"SUMIF($G$20:$G$5016,$G619,$H$20:$H$5016)+SUMIF('2.aTë ardhura-jopublik-monetare'!$G$20:$G$1016,'2.bTë ardhura-jopublik-nënatyrë'!$G619,'2.aTë ardhura-jopublik-monetare'!$H$20:$H$1016)","v":0}]
[null,null,null,null,null,null,null,null,null,{"$f":"SUMIF($G$20:$G$5016,$G620,$H$20:$H$5016)+SUMIF('2.aTë ardhura-jopublik-monetare'!$G$20:$G$1016,'2.bTë ardhura-jopublik-nënatyrë'!$G620,'2.aTë ardhura-jopublik-monetare'!$H$20:$H$1016)","v":0}]
[null,null,null,null,null,null,null,null,null,{"$f":"SUMIF($G$20:$G$5016,$G621,$H$20:$H$5016)+SUMIF('2.aTë ardhura-jopublik-monetare'!$G$20:$G$1016,'2.bTë ardhura-jopublik-nënatyrë'!$G621,'2.aTë ardhura-jopublik-monetare'!$H$20:$H$1016)","v":0}]
[null,null,null,null,null,null,null,null,null,{"$f":"SUMIF($G$20:$G$5016,$G622,$H$20:$H$5016)+SUMIF('2.aTë ardhura-jopublik-monetare'!$G$20:$G$1016,'2.bTë ardhura-jopublik-nënatyrë'!$G622,'2.aTë ardhura-jopublik-monetare'!$H$20:$H$1016)","v":0}]
[null,null,null,null,null,null,null,null,null,{"$f":"SUMIF($G$20:$G$5016,$G623,$H$20:$H$5016)+SUMIF('2.aTë ardhura-jopublik-monetare'!$G$20:$G$1016,'2.bTë ardhura-jopublik-nënatyrë'!$G623,'2.aTë ardhura-jopublik-monetare'!$H$20:$H$1016)","v":0}]
[null,null,null,null,null,null,null,null,null,{"$f":"SUMIF($G$20:$G$5016,$G624,$H$20:$H$5016)+SUMIF('2.aTë ardhura-jopublik-monetare'!$G$20:$G$1016,'2.bTë ardhura-jopublik-nënatyrë'!$G624,'2.aTë ardhura-jopublik-monetare'!$H$20:$H$1016)","v":0}]
[null,null,null,null,null,null,null,null,null,{"$f":"SUMIF($G$20:$G$5016,$G625,$H$20:$H$5016)+SUMIF('2.aTë ardhura-jopublik-monetare'!$G$20:$G$1016,'2.bTë ardhura-jopublik-nënatyrë'!$G625,'2.aTë ardhura-jopublik-monetare'!$H$20:$H$1016)","v":0}]
[null,null,null,null,null,null,null,null,null,{"$f":"SUMIF($G$20:$G$5016,$G626,$H$20:$H$5016)+SUMIF('2.aTë ardhura-jopublik-monetare'!$G$20:$G$1016,'2.bTë ardhura-jopublik-nënatyrë'!$G626,'2.aTë ardhura-jopublik-monetare'!$H$20:$H$1016)","v":0}]
[null,null,null,null,null,null,null,null,null,{"$f":"SUMIF($G$20:$G$5016,$G627,$H$20:$H$5016)+SUMIF('2.aTë ardhura-jopublik-monetare'!$G$20:$G$1016,'2.bTë ardhura-jopublik-nënatyrë'!$G627,'2.aTë ardhura-jopublik-monetare'!$H$20:$H$1016)","v":0}]
[null,null,null,null,null,null,null,null,null,{"$f":"SUMIF($G$20:$G$5016,$G628,$H$20:$H$5016)+SUMIF('2.aTë ardhura-jopublik-monetare'!$G$20:$G$1016,'2.bTë ardhura-jopublik-nënatyrë'!$G628,'2.aTë ardhura-jopublik-monetare'!$H$20:$H$1016)","v":0}]
[null,null,null,null,null,null,null,null,null,{"$f":"SUMIF($G$20:$G$5016,$G629,$H$20:$H$5016)+SUMIF('2.aTë ardhura-jopublik-monetare'!$G$20:$G$1016,'2.bTë ardhura-jopublik-nënatyrë'!$G629,'2.aTë ardhura-jopublik-monetare'!$H$20:$H$1016)","v":0}]
[null,null,null,null,null,null,null,null,null,{"$f":"SUMIF($G$20:$G$5016,$G630,$H$20:$H$5016)+SUMIF('2.aTë ardhura-jopublik-monetare'!$G$20:$G$1016,'2.bTë ardhura-jopublik-nënatyrë'!$G630,'2.aTë ardhura-jopublik-monetare'!$H$20:$H$1016)","v":0}]
[null,null,null,null,null,null,null,null,null,{"$f":"SUMIF($G$20:$G$5016,$G631,$H$20:$H$5016)+SUMIF('2.aTë ardhura-jopublik-monetare'!$G$20:$G$1016,'2.bTë ardhura-jopublik-nënatyrë'!$G631,'2.aTë ardhura-jopublik-monetare'!$H$20:$H$1016)","v":0}]
[null,null,null,null,null,null,null,null,null,{"$f":"SUMIF($G$20:$G$5016,$G632,$H$20:$H$5016)+SUMIF('2.aTë ardhura-jopublik-monetare'!$G$20:$G$1016,'2.bTë ardhura-jopublik-nënatyrë'!$G632,'2.aTë ardhura-jopublik-monetare'!$H$20:$H$1016)","v":0}]
[null,null,null,null,null,null,null,null,null,{"$f":"SUMIF($G$20:$G$5016,$G633,$H$20:$H$5016)+SUMIF('2.aTë ardhura-jopublik-monetare'!$G$20:$G$1016,'2.bTë ardhura-jopublik-nënatyrë'!$G633,'2.aTë ardhura-jopublik-monetare'!$H$20:$H$1016)","v":0}]
[null,null,null,null,null,null,null,null,null,{"$f":"SUMIF($G$20:$G$5016,$G634,$H$20:$H$5016)+SUMIF('2.aTë ardhura-jopublik-monetare'!$G$20:$G$1016,'2.bTë ardhura-jopublik-nënatyrë'!$G634,'2.aTë ardhura-jopublik-monetare'!$H$20:$H$1016)","v":0}]
[null,null,null,null,null,null,null,null,null,{"$f":"SUMIF($G$20:$G$5016,$G635,$H$20:$H$5016)+SUMIF('2.aTë ardhura-jopublik-monetare'!$G$20:$G$1016,'2.bTë ardhura-jopublik-nënatyrë'!$G635,'2.aTë ardhura-jopublik-monetare'!$H$20:$H$1016)","v":0}]
[null,null,null,null,null,null,null,null,null,{"$f":"SUMIF($G$20:$G$5016,$G636,$H$20:$H$5016)+SUMIF('2.aTë ardhura-jopublik-monetare'!$G$20:$G$1016,'2.bTë ardhura-jopublik-nënatyrë'!$G636,'2.aTë ardhura-jopublik-monetare'!$H$20:$H$1016)","v":0}]
[null,null,null,null,null,null,null,null,null,{"$f":"SUMIF($G$20:$G$5016,$G637,$H$20:$H$5016)+SUMIF('2.aTë ardhura-jopublik-monetare'!$G$20:$G$1016,'2.bTë ardhura-jopublik-nënatyrë'!$G637,'2.aTë ardhura-jopublik-monetare'!$H$20:$H$1016)","v":0}]
[null,null,null,null,null,null,null,null,null,{"$f":"SUMIF($G$20:$G$5016,$G638,$H$20:$H$5016)+SUMIF('2.aTë ardhura-jopublik-monetare'!$G$20:$G$1016,'2.bTë ardhura-jopublik-nënatyrë'!$G638,'2.aTë ardhura-jopublik-monetare'!$H$20:$H$1016)","v":0}]
[null,null,null,null,null,null,null,null,null,{"$f":"SUMIF($G$20:$G$5016,$G639,$H$20:$H$5016)+SUMIF('2.aTë ardhura-jopublik-monetare'!$G$20:$G$1016,'2.bTë ardhura-jopublik-nënatyrë'!$G639,'2.aTë ardhura-jopublik-monetare'!$H$20:$H$1016)","v":0}]
[null,null,null,null,null,null,null,null,null,{"$f":"SUMIF($G$20:$G$5016,$G640,$H$20:$H$5016)+SUMIF('2.aTë ardhura-jopublik-monetare'!$G$20:$G$1016,'2.bTë ardhura-jopublik-nënatyrë'!$G640,'2.aTë ardhura-jopublik-monetare'!$H$20:$H$1016)","v":0}]
[null,null,null,null,null,null,null,null,null,{"$f":"SUMIF($G$20:$G$5016,$G641,$H$20:$H$5016)+SUMIF('2.aTë ardhura-jopublik-monetare'!$G$20:$G$1016,'2.bTë ardhura-jopublik-nënatyrë'!$G641,'2.aTë ardhura-jopublik-monetare'!$H$20:$H$1016)","v":0}]
[null,null,null,null,null,null,null,null,null,{"$f":"SUMIF($G$20:$G$5016,$G642,$H$20:$H$5016)+SUMIF('2.aTë ardhura-jopublik-monetare'!$G$20:$G$1016,'2.bTë ardhura-jopublik-nënatyrë'!$G642,'2.aTë ardhura-jopublik-monetare'!$H$20:$H$1016)","v":0}]
[null,null,null,null,null,null,null,null,null,{"$f":"SUMIF($G$20:$G$5016,$G643,$H$20:$H$5016)+SUMIF('2.aTë ardhura-jopublik-monetare'!$G$20:$G$1016,'2.bTë ardhura-jopublik-nënatyrë'!$G643,'2.aTë ardhura-jopublik-monetare'!$H$20:$H$1016)","v":0}]
[null,null,null,null,null,null,null,null,null,{"$f":"SUMIF($G$20:$G$5016,$G644,$H$20:$H$5016)+SUMIF('2.aTë ardhura-jopublik-monetare'!$G$20:$G$1016,'2.bTë ardhura-jopublik-nënatyrë'!$G644,'2.aTë ardhura-jopublik-monetare'!$H$20:$H$1016)","v":0}]
[null,null,null,null,null,null,null,null,null,{"$f":"SUMIF($G$20:$G$5016,$G645,$H$20:$H$5016)+SUMIF('2.aTë ardhura-jopublik-monetare'!$G$20:$G$1016,'2.bTë ardhura-jopublik-nënatyrë'!$G645,'2.aTë ardhura-jopublik-monetare'!$H$20:$H$1016)","v":0}]
[null,null,null,null,null,null,null,null,null,{"$f":"SUMIF($G$20:$G$5016,$G646,$H$20:$H$5016)+SUMIF('2.aTë ardhura-jopublik-monetare'!$G$20:$G$1016,'2.bTë ardhura-jopublik-nënatyrë'!$G646,'2.aTë ardhura-jopublik-monetare'!$H$20:$H$1016)","v":0}]
[null,null,null,null,null,null,null,null,null,{"$f":"SUMIF($G$20:$G$5016,$G647,$H$20:$H$5016)+SUMIF('2.aTë ardhura-jopublik-monetare'!$G$20:$G$1016,'2.bTë ardhura-jopublik-nënatyrë'!$G647,'2.aTë ardhura-jopublik-monetare'!$H$20:$H$1016)","v":0}]
[null,null,null,null,null,null,null,null,null,{"$f":"SUMIF($G$20:$G$5016,$G648,$H$20:$H$5016)+SUMIF('2.aTë ardhura-jopublik-monetare'!$G$20:$G$1016,'2.bTë ardhura-jopublik-nënatyrë'!$G648,'2.aTë ardhura-jopublik-monetare'!$H$20:$H$1016)","v":0}]
[null,null,null,null,null,null,null,null,null,{"$f":"SUMIF($G$20:$G$5016,$G649,$H$20:$H$5016)+SUMIF('2.aTë ardhura-jopublik-monetare'!$G$20:$G$1016,'2.bTë ardhura-jopublik-nënatyrë'!$G649,'2.aTë ardhura-jopublik-monetare'!$H$20:$H$1016)","v":0}]
[null,null,null,null,null,null,null,null,null,{"$f":"SUMIF($G$20:$G$5016,$G650,$H$20:$H$5016)+SUMIF('2.aTë ardhura-jopublik-monetare'!$G$20:$G$1016,'2.bTë ardhura-jopublik-nënatyrë'!$G650,'2.aTë ardhura-jopublik-monetare'!$H$20:$H$1016)","v":0}]
[null,null,null,null,null,null,null,null,null,{"$f":"SUMIF($G$20:$G$5016,$G651,$H$20:$H$5016)+SUMIF('2.aTë ardhura-jopublik-monetare'!$G$20:$G$1016,'2.bTë ardhura-jopublik-nënatyrë'!$G651,'2.aTë ardhura-jopublik-monetare'!$H$20:$H$1016)","v":0}]
[null,null,null,null,null,null,null,null,null,{"$f":"SUMIF($G$20:$G$5016,$G652,$H$20:$H$5016)+SUMIF('2.aTë ardhura-jopublik-monetare'!$G$20:$G$1016,'2.bTë ardhura-jopublik-nënatyrë'!$G652,'2.aTë ardhura-jopublik-monetare'!$H$20:$H$1016)","v":0}]
[null,null,null,null,null,null,null,null,null,{"$f":"SUMIF($G$20:$G$5016,$G653,$H$20:$H$5016)+SUMIF('2.aTë ardhura-jopublik-monetare'!$G$20:$G$1016,'2.bTë ardhura-jopublik-nënatyrë'!$G653,'2.aTë ardhura-jopublik-monetare'!$H$20:$H$1016)","v":0}]
[null,null,null,null,null,null,null,null,null,{"$f":"SUMIF($G$20:$G$5016,$G654,$H$20:$H$5016)+SUMIF('2.aTë ardhura-jopublik-monetare'!$G$20:$G$1016,'2.bTë ardhura-jopublik-nënatyrë'!$G654,'2.aTë ardhura-jopublik-monetare'!$H$20:$H$1016)","v":0}]
[null,null,null,null,null,null,null,null,null,{"$f":"SUMIF($G$20:$G$5016,$G655,$H$20:$H$5016)+SUMIF('2.aTë ardhura-jopublik-monetare'!$G$20:$G$1016,'2.bTë ardhura-jopublik-nënatyrë'!$G655,'2.aTë ardhura-jopublik-monetare'!$H$20:$H$1016)","v":0}]
[null,null,null,null,null,null,null,null,null,{"$f":"SUMIF($G$20:$G$5016,$G656,$H$20:$H$5016)+SUMIF('2.aTë ardhura-jopublik-monetare'!$G$20:$G$1016,'2.bTë ardhura-jopublik-nënatyrë'!$G656,'2.aTë ardhura-jopublik-monetare'!$H$20:$H$1016)","v":0}]
[null,null,null,null,null,null,null,null,null,{"$f":"SUMIF($G$20:$G$5016,$G657,$H$20:$H$5016)+SUMIF('2.aTë ardhura-jopublik-monetare'!$G$20:$G$1016,'2.bTë ardhura-jopublik-nënatyrë'!$G657,'2.aTë ardhura-jopublik-monetare'!$H$20:$H$1016)","v":0}]
[null,null,null,null,null,null,null,null,null,{"$f":"SUMIF($G$20:$G$5016,$G658,$H$20:$H$5016)+SUMIF('2.aTë ardhura-jopublik-monetare'!$G$20:$G$1016,'2.bTë ardhura-jopublik-nënatyrë'!$G658,'2.aTë ardhura-jopublik-monetare'!$H$20:$H$1016)","v":0}]
[null,null,null,null,null,null,null,null,null,{"$f":"SUMIF($G$20:$G$5016,$G659,$H$20:$H$5016)+SUMIF('2.aTë ardhura-jopublik-monetare'!$G$20:$G$1016,'2.bTë ardhura-jopublik-nënatyrë'!$G659,'2.aTë ardhura-jopublik-monetare'!$H$20:$H$1016)","v":0}]
[null,null,null,null,null,null,null,null,null,{"$f":"SUMIF($G$20:$G$5016,$G660,$H$20:$H$5016)+SUMIF('2.aTë ardhura-jopublik-monetare'!$G$20:$G$1016,'2.bTë ardhura-jopublik-nënatyrë'!$G660,'2.aTë ardhura-jopublik-monetare'!$H$20:$H$1016)","v":0}]
[null,null,null,null,null,null,null,null,null,{"$f":"SUMIF($G$20:$G$5016,$G661,$H$20:$H$5016)+SUMIF('2.aTë ardhura-jopublik-monetare'!$G$20:$G$1016,'2.bTë ardhura-jopublik-nënatyrë'!$G661,'2.aTë ardhura-jopublik-monetare'!$H$20:$H$1016)","v":0}]
[null,null,null,null,null,null,null,null,null,{"$f":"SUMIF($G$20:$G$5016,$G662,$H$20:$H$5016)+SUMIF('2.aTë ardhura-jopublik-monetare'!$G$20:$G$1016,'2.bTë ardhura-jopublik-nënatyrë'!$G662,'2.aTë ardhura-jopublik-monetare'!$H$20:$H$1016)","v":0}]
[null,null,null,null,null,null,null,null,null,{"$f":"SUMIF($G$20:$G$5016,$G663,$H$20:$H$5016)+SUMIF('2.aTë ardhura-jopublik-monetare'!$G$20:$G$1016,'2.bTë ardhura-jopublik-nënatyrë'!$G663,'2.aTë ardhura-jopublik-monetare'!$H$20:$H$1016)","v":0}]
[null,null,null,null,null,null,null,null,null,{"$f":"SUMIF($G$20:$G$5016,$G664,$H$20:$H$5016)+SUMIF('2.aTë ardhura-jopublik-monetare'!$G$20:$G$1016,'2.bTë ardhura-jopublik-nënatyrë'!$G664,'2.aTë ardhura-jopublik-monetare'!$H$20:$H$1016)","v":0}]
[null,null,null,null,null,null,null,null,null,{"$f":"SUMIF($G$20:$G$5016,$G665,$H$20:$H$5016)+SUMIF('2.aTë ardhura-jopublik-monetare'!$G$20:$G$1016,'2.bTë ardhura-jopublik-nënatyrë'!$G665,'2.aTë ardhura-jopublik-monetare'!$H$20:$H$1016)","v":0}]
[null,null,null,null,null,null,null,null,null,{"$f":"SUMIF($G$20:$G$5016,$G666,$H$20:$H$5016)+SUMIF('2.aTë ardhura-jopublik-monetare'!$G$20:$G$1016,'2.bTë ardhura-jopublik-nënatyrë'!$G666,'2.aTë ardhura-jopublik-monetare'!$H$20:$H$1016)","v":0}]
[null,null,null,null,null,null,null,null,null,{"$f":"SUMIF($G$20:$G$5016,$G667,$H$20:$H$5016)+SUMIF('2.aTë ardhura-jopublik-monetare'!$G$20:$G$1016,'2.bTë ardhura-jopublik-nënatyrë'!$G667,'2.aTë ardhura-jopublik-monetare'!$H$20:$H$1016)","v":0}]
[null,null,null,null,null,null,null,null,null,{"$f":"SUMIF($G$20:$G$5016,$G668,$H$20:$H$5016)+SUMIF('2.aTë ardhura-jopublik-monetare'!$G$20:$G$1016,'2.bTë ardhura-jopublik-nënatyrë'!$G668,'2.aTë ardhura-jopublik-monetare'!$H$20:$H$1016)","v":0}]
[null,null,null,null,null,null,null,null,null,{"$f":"SUMIF($G$20:$G$5016,$G669,$H$20:$H$5016)+SUMIF('2.aTë ardhura-jopublik-monetare'!$G$20:$G$1016,'2.bTë ardhura-jopublik-nënatyrë'!$G669,'2.aTë ardhura-jopublik-monetare'!$H$20:$H$1016)","v":0}]
[null,null,null,null,null,null,null,null,null,{"$f":"SUMIF($G$20:$G$5016,$G670,$H$20:$H$5016)+SUMIF('2.aTë ardhura-jopublik-monetare'!$G$20:$G$1016,'2.bTë ardhura-jopublik-nënatyrë'!$G670,'2.aTë ardhura-jopublik-monetare'!$H$20:$H$1016)","v":0}]
[null,null,null,null,null,null,null,null,null,{"$f":"SUMIF($G$20:$G$5016,$G671,$H$20:$H$5016)+SUMIF('2.aTë ardhura-jopublik-monetare'!$G$20:$G$1016,'2.bTë ardhura-jopublik-nënatyrë'!$G671,'2.aTë ardhura-jopublik-monetare'!$H$20:$H$1016)","v":0}]
[null,null,null,null,null,null,null,null,null,{"$f":"SUMIF($G$20:$G$5016,$G672,$H$20:$H$5016)+SUMIF('2.aTë ardhura-jopublik-monetare'!$G$20:$G$1016,'2.bTë ardhura-jopublik-nënatyrë'!$G672,'2.aTë ardhura-jopublik-monetare'!$H$20:$H$1016)","v":0}]
[null,null,null,null,null,null,null,null,null,{"$f":"SUMIF($G$20:$G$5016,$G673,$H$20:$H$5016)+SUMIF('2.aTë ardhura-jopublik-monetare'!$G$20:$G$1016,'2.bTë ardhura-jopublik-nënatyrë'!$G673,'2.aTë ardhura-jopublik-monetare'!$H$20:$H$1016)","v":0}]
[null,null,null,null,null,null,null,null,null,{"$f":"SUMIF($G$20:$G$5016,$G674,$H$20:$H$5016)+SUMIF('2.aTë ardhura-jopublik-monetare'!$G$20:$G$1016,'2.bTë ardhura-jopublik-nënatyrë'!$G674,'2.aTë ardhura-jopublik-monetare'!$H$20:$H$1016)","v":0}]
[null,null,null,null,null,null,null,null,null,{"$f":"SUMIF($G$20:$G$5016,$G675,$H$20:$H$5016)+SUMIF('2.aTë ardhura-jopublik-monetare'!$G$20:$G$1016,'2.bTë ardhura-jopublik-nënatyrë'!$G675,'2.aTë ardhura-jopublik-monetare'!$H$20:$H$1016)","v":0}]
[null,null,null,null,null,null,null,null,null,{"$f":"SUMIF($G$20:$G$5016,$G676,$H$20:$H$5016)+SUMIF('2.aTë ardhura-jopublik-monetare'!$G$20:$G$1016,'2.bTë ardhura-jopublik-nënatyrë'!$G676,'2.aTë ardhura-jopublik-monetare'!$H$20:$H$1016)","v":0}]
[null,null,null,null,null,null,null,null,null,{"$f":"SUMIF($G$20:$G$5016,$G677,$H$20:$H$5016)+SUMIF('2.aTë ardhura-jopublik-monetare'!$G$20:$G$1016,'2.bTë ardhura-jopublik-nënatyrë'!$G677,'2.aTë ardhura-jopublik-monetare'!$H$20:$H$1016)","v":0}]
[null,null,null,null,null,null,null,null,null,{"$f":"SUMIF($G$20:$G$5016,$G678,$H$20:$H$5016)+SUMIF('2.aTë ardhura-jopublik-monetare'!$G$20:$G$1016,'2.bTë ardhura-jopublik-nënatyrë'!$G678,'2.aTë ardhura-jopublik-monetare'!$H$20:$H$1016)","v":0}]
[null,null,null,null,null,null,null,null,null,{"$f":"SUMIF($G$20:$G$5016,$G679,$H$20:$H$5016)+SUMIF('2.aTë ardhura-jopublik-monetare'!$G$20:$G$1016,'2.bTë ardhura-jopublik-nënatyrë'!$G679,'2.aTë ardhura-jopublik-monetare'!$H$20:$H$1016)","v":0}]
[null,null,null,null,null,null,null,null,null,{"$f":"SUMIF($G$20:$G$5016,$G680,$H$20:$H$5016)+SUMIF('2.aTë ardhura-jopublik-monetare'!$G$20:$G$1016,'2.bTë ardhura-jopublik-nënatyrë'!$G680,'2.aTë ardhura-jopublik-monetare'!$H$20:$H$1016)","v":0}]
[null,null,null,null,null,null,null,null,null,{"$f":"SUMIF($G$20:$G$5016,$G681,$H$20:$H$5016)+SUMIF('2.aTë ardhura-jopublik-monetare'!$G$20:$G$1016,'2.bTë ardhura-jopublik-nënatyrë'!$G681,'2.aTë ardhura-jopublik-monetare'!$H$20:$H$1016)","v":0}]
[null,null,null,null,null,null,null,null,null,{"$f":"SUMIF($G$20:$G$5016,$G682,$H$20:$H$5016)+SUMIF('2.aTë ardhura-jopublik-monetare'!$G$20:$G$1016,'2.bTë ardhura-jopublik-nënatyrë'!$G682,'2.aTë ardhura-jopublik-monetare'!$H$20:$H$1016)","v":0}]
[null,null,null,null,null,null,null,null,null,{"$f":"SUMIF($G$20:$G$5016,$G683,$H$20:$H$5016)+SUMIF('2.aTë ardhura-jopublik-monetare'!$G$20:$G$1016,'2.bTë ardhura-jopublik-nënatyrë'!$G683,'2.aTë ardhura-jopublik-monetare'!$H$20:$H$1016)","v":0}]
[null,null,null,null,null,null,null,null,null,{"$f":"SUMIF($G$20:$G$5016,$G684,$H$20:$H$5016)+SUMIF('2.aTë ardhura-jopublik-monetare'!$G$20:$G$1016,'2.bTë ardhura-jopublik-nënatyrë'!$G684,'2.aTë ardhura-jopublik-monetare'!$H$20:$H$1016)","v":0}]
[null,null,null,null,null,null,null,null,null,{"$f":"SUMIF($G$20:$G$5016,$G685,$H$20:$H$5016)+SUMIF('2.aTë ardhura-jopublik-monetare'!$G$20:$G$1016,'2.bTë ardhura-jopublik-nënatyrë'!$G685,'2.aTë ardhura-jopublik-monetare'!$H$20:$H$1016)","v":0}]
[null,null,null,null,null,null,null,null,null,{"$f":"SUMIF($G$20:$G$5016,$G686,$H$20:$H$5016)+SUMIF('2.aTë ardhura-jopublik-monetare'!$G$20:$G$1016,'2.bTë ardhura-jopublik-nënatyrë'!$G686,'2.aTë ardhura-jopublik-monetare'!$H$20:$H$1016)","v":0}]
[null,null,null,null,null,null,null,null,null,{"$f":"SUMIF($G$20:$G$5016,$G687,$H$20:$H$5016)+SUMIF('2.aTë ardhura-jopublik-monetare'!$G$20:$G$1016,'2.bTë ardhura-jopublik-nënatyrë'!$G687,'2.aTë ardhura-jopublik-monetare'!$H$20:$H$1016)","v":0}]
[null,null,null,null,null,null,null,null,null,{"$f":"SUMIF($G$20:$G$5016,$G688,$H$20:$H$5016)+SUMIF('2.aTë ardhura-jopublik-monetare'!$G$20:$G$1016,'2.bTë ardhura-jopublik-nënatyrë'!$G688,'2.aTë ardhura-jopublik-monetare'!$H$20:$H$1016)","v":0}]
[null,null,null,null,null,null,null,null,null,{"$f":"SUMIF($G$20:$G$5016,$G689,$H$20:$H$5016)+SUMIF('2.aTë ardhura-jopublik-monetare'!$G$20:$G$1016,'2.bTë ardhura-jopublik-nënatyrë'!$G689,'2.aTë ardhura-jopublik-monetare'!$H$20:$H$1016)","v":0}]
[null,null,null,null,null,null,null,null,null,{"$f":"SUMIF($G$20:$G$5016,$G690,$H$20:$H$5016)+SUMIF('2.aTë ardhura-jopublik-monetare'!$G$20:$G$1016,'2.bTë ardhura-jopublik-nënatyrë'!$G690,'2.aTë ardhura-jopublik-monetare'!$H$20:$H$1016)","v":0}]
[null,null,null,null,null,null,null,null,null,{"$f":"SUMIF($G$20:$G$5016,$G691,$H$20:$H$5016)+SUMIF('2.aTë ardhura-jopublik-monetare'!$G$20:$G$1016,'2.bTë ardhura-jopublik-nënatyrë'!$G691,'2.aTë ardhura-jopublik-monetare'!$H$20:$H$1016)","v":0}]
[null,null,null,null,null,null,null,null,null,{"$f":"SUMIF($G$20:$G$5016,$G692,$H$20:$H$5016)+SUMIF('2.aTë ardhura-jopublik-monetare'!$G$20:$G$1016,'2.bTë ardhura-jopublik-nënatyrë'!$G692,'2.aTë ardhura-jopublik-monetare'!$H$20:$H$1016)","v":0}]
[null,null,null,null,null,null,null,null,null,{"$f":"SUMIF($G$20:$G$5016,$G693,$H$20:$H$5016)+SUMIF('2.aTë ardhura-jopublik-monetare'!$G$20:$G$1016,'2.bTë ardhura-jopublik-nënatyrë'!$G693,'2.aTë ardhura-jopublik-monetare'!$H$20:$H$1016)","v":0}]
[null,null,null,null,null,null,null,null,null,{"$f":"SUMIF($G$20:$G$5016,$G694,$H$20:$H$5016)+SUMIF('2.aTë ardhura-jopublik-monetare'!$G$20:$G$1016,'2.bTë ardhura-jopublik-nënatyrë'!$G694,'2.aTë ardhura-jopublik-monetare'!$H$20:$H$1016)","v":0}]
[null,null,null,null,null,null,null,null,null,{"$f":"SUMIF($G$20:$G$5016,$G695,$H$20:$H$5016)+SUMIF('2.aTë ardhura-jopublik-monetare'!$G$20:$G$1016,'2.bTë ardhura-jopublik-nënatyrë'!$G695,'2.aTë ardhura-jopublik-monetare'!$H$20:$H$1016)","v":0}]
[null,null,null,null,null,null,null,null,null,{"$f":"SUMIF($G$20:$G$5016,$G696,$H$20:$H$5016)+SUMIF('2.aTë ardhura-jopublik-monetare'!$G$20:$G$1016,'2.bTë ardhura-jopublik-nënatyrë'!$G696,'2.aTë ardhura-jopublik-monetare'!$H$20:$H$1016)","v":0}]
[null,null,null,null,null,null,null,null,null,{"$f":"SUMIF($G$20:$G$5016,$G697,$H$20:$H$5016)+SUMIF('2.aTë ardhura-jopublik-monetare'!$G$20:$G$1016,'2.bTë ardhura-jopublik-nënatyrë'!$G697,'2.aTë ardhura-jopublik-monetare'!$H$20:$H$1016)","v":0}]
[null,null,null,null,null,null,null,null,null,{"$f":"SUMIF($G$20:$G$5016,$G698,$H$20:$H$5016)+SUMIF('2.aTë ardhura-jopublik-monetare'!$G$20:$G$1016,'2.bTë ardhura-jopublik-nënatyrë'!$G698,'2.aTë ardhura-jopublik-monetare'!$H$20:$H$1016)","v":0}]
[null,null,null,null,null,null,null,null,null,{"$f":"SUMIF($G$20:$G$5016,$G699,$H$20:$H$5016)+SUMIF('2.aTë ardhura-jopublik-monetare'!$G$20:$G$1016,'2.bTë ardhura-jopublik-nënatyrë'!$G699,'2.aTë ardhura-jopublik-monetare'!$H$20:$H$1016)","v":0}]
[null,null,null,null,null,null,null,null,null,{"$f":"SUMIF($G$20:$G$5016,$G700,$H$20:$H$5016)+SUMIF('2.aTë ardhura-jopublik-monetare'!$G$20:$G$1016,'2.bTë ardhura-jopublik-nënatyrë'!$G700,'2.aTë ardhura-jopublik-monetare'!$H$20:$H$1016)","v":0}]
[null,null,null,null,null,null,null,null,null,{"$f":"SUMIF($G$20:$G$5016,$G701,$H$20:$H$5016)+SUMIF('2.aTë ardhura-jopublik-monetare'!$G$20:$G$1016,'2.bTë ardhura-jopublik-nënatyrë'!$G701,'2.aTë ardhura-jopublik-monetare'!$H$20:$H$1016)","v":0}]
[null,null,null,null,null,null,null,null,null,{"$f":"SUMIF($G$20:$G$5016,$G702,$H$20:$H$5016)+SUMIF('2.aTë ardhura-jopublik-monetare'!$G$20:$G$1016,'2.bTë ardhura-jopublik-nënatyrë'!$G702,'2.aTë ardhura-jopublik-monetare'!$H$20:$H$1016)","v":0}]
[null,null,null,null,null,null,null,null,null,{"$f":"SUMIF($G$20:$G$5016,$G703,$H$20:$H$5016)+SUMIF('2.aTë ardhura-jopublik-monetare'!$G$20:$G$1016,'2.bTë ardhura-jopublik-nënatyrë'!$G703,'2.aTë ardhura-jopublik-monetare'!$H$20:$H$1016)","v":0}]
[null,null,null,null,null,null,null,null,null,{"$f":"SUMIF($G$20:$G$5016,$G704,$H$20:$H$5016)+SUMIF('2.aTë ardhura-jopublik-monetare'!$G$20:$G$1016,'2.bTë ardhura-jopublik-nënatyrë'!$G704,'2.aTë ardhura-jopublik-monetare'!$H$20:$H$1016)","v":0}]
[null,null,null,null,null,null,null,null,null,{"$f":"SUMIF($G$20:$G$5016,$G705,$H$20:$H$5016)+SUMIF('2.aTë ardhura-jopublik-monetare'!$G$20:$G$1016,'2.bTë ardhura-jopublik-nënatyrë'!$G705,'2.aTë ardhura-jopublik-monetare'!$H$20:$H$1016)","v":0}]
[null,null,null,null,null,null,null,null,null,{"$f":"SUMIF($G$20:$G$5016,$G706,$H$20:$H$5016)+SUMIF('2.aTë ardhura-jopublik-monetare'!$G$20:$G$1016,'2.bTë ardhura-jopublik-nënatyrë'!$G706,'2.aTë ardhura-jopublik-monetare'!$H$20:$H$1016)","v":0}]
[null,null,null,null,null,null,null,null,null,{"$f":"SUMIF($G$20:$G$5016,$G707,$H$20:$H$5016)+SUMIF('2.aTë ardhura-jopublik-monetare'!$G$20:$G$1016,'2.bTë ardhura-jopublik-nënatyrë'!$G707,'2.aTë ardhura-jopublik-monetare'!$H$20:$H$1016)","v":0}]
[null,null,null,null,null,null,null,null,null,{"$f":"SUMIF($G$20:$G$5016,$G708,$H$20:$H$5016)+SUMIF('2.aTë ardhura-jopublik-monetare'!$G$20:$G$1016,'2.bTë ardhura-jopublik-nënatyrë'!$G708,'2.aTë ardhura-jopublik-monetare'!$H$20:$H$1016)","v":0}]
[null,null,null,null,null,null,null,null,null,{"$f":"SUMIF($G$20:$G$5016,$G709,$H$20:$H$5016)+SUMIF('2.aTë ardhura-jopublik-monetare'!$G$20:$G$1016,'2.bTë ardhura-jopublik-nënatyrë'!$G709,'2.aTë ardhura-jopublik-monetare'!$H$20:$H$1016)","v":0}]
[null,null,null,null,null,null,null,null,null,{"$f":"SUMIF($G$20:$G$5016,$G710,$H$20:$H$5016)+SUMIF('2.aTë ardhura-jopublik-monetare'!$G$20:$G$1016,'2.bTë ardhura-jopublik-nënatyrë'!$G710,'2.aTë ardhura-jopublik-monetare'!$H$20:$H$1016)","v":0}]
[null,null,null,null,null,null,null,null,null,{"$f":"SUMIF($G$20:$G$5016,$G711,$H$20:$H$5016)+SUMIF('2.aTë ardhura-jopublik-monetare'!$G$20:$G$1016,'2.bTë ardhura-jopublik-nënatyrë'!$G711,'2.aTë ardhura-jopublik-monetare'!$H$20:$H$1016)","v":0}]
[null,null,null,null,null,null,null,null,null,{"$f":"SUMIF($G$20:$G$5016,$G712,$H$20:$H$5016)+SUMIF('2.aTë ardhura-jopublik-monetare'!$G$20:$G$1016,'2.bTë ardhura-jopublik-nënatyrë'!$G712,'2.aTë ardhura-jopublik-monetare'!$H$20:$H$1016)","v":0}]
[null,null,null,null,null,null,null,null,null,{"$f":"SUMIF($G$20:$G$5016,$G713,$H$20:$H$5016)+SUMIF('2.aTë ardhura-jopublik-monetare'!$G$20:$G$1016,'2.bTë ardhura-jopublik-nënatyrë'!$G713,'2.aTë ardhura-jopublik-monetare'!$H$20:$H$1016)","v":0}]
[null,null,null,null,null,null,null,null,null,{"$f":"SUMIF($G$20:$G$5016,$G714,$H$20:$H$5016)+SUMIF('2.aTë ardhura-jopublik-monetare'!$G$20:$G$1016,'2.bTë ardhura-jopublik-nënatyrë'!$G714,'2.aTë ardhura-jopublik-monetare'!$H$20:$H$1016)","v":0}]
[null,null,null,null,null,null,null,null,null,{"$f":"SUMIF($G$20:$G$5016,$G715,$H$20:$H$5016)+SUMIF('2.aTë ardhura-jopublik-monetare'!$G$20:$G$1016,'2.bTë ardhura-jopublik-nënatyrë'!$G715,'2.aTë ardhura-jopublik-monetare'!$H$20:$H$1016)","v":0}]
[null,null,null,null,null,null,null,null,null,{"$f":"SUMIF($G$20:$G$5016,$G716,$H$20:$H$5016)+SUMIF('2.aTë ardhura-jopublik-monetare'!$G$20:$G$1016,'2.bTë ardhura-jopublik-nënatyrë'!$G716,'2.aTë ardhura-jopublik-monetare'!$H$20:$H$1016)","v":0}]
[null,null,null,null,null,null,null,null,null,{"$f":"SUMIF($G$20:$G$5016,$G717,$H$20:$H$5016)+SUMIF('2.aTë ardhura-jopublik-monetare'!$G$20:$G$1016,'2.bTë ardhura-jopublik-nënatyrë'!$G717,'2.aTë ardhura-jopublik-monetare'!$H$20:$H$1016)","v":0}]
[null,null,null,null,null,null,null,null,null,{"$f":"SUMIF($G$20:$G$5016,$G718,$H$20:$H$5016)+SUMIF('2.aTë ardhura-jopublik-monetare'!$G$20:$G$1016,'2.bTë ardhura-jopublik-nënatyrë'!$G718,'2.aTë ardhura-jopublik-monetare'!$H$20:$H$1016)","v":0}]
[null,null,null,null,null,null,null,null,null,{"$f":"SUMIF($G$20:$G$5016,$G719,$H$20:$H$5016)+SUMIF('2.aTë ardhura-jopublik-monetare'!$G$20:$G$1016,'2.bTë ardhura-jopublik-nënatyrë'!$G719,'2.aTë ardhura-jopublik-monetare'!$H$20:$H$1016)","v":0}]
[null,null,null,null,null,null,null,null,null,{"$f":"SUMIF($G$20:$G$5016,$G720,$H$20:$H$5016)+SUMIF('2.aTë ardhura-jopublik-monetare'!$G$20:$G$1016,'2.bTë ardhura-jopublik-nënatyrë'!$G720,'2.aTë ardhura-jopublik-monetare'!$H$20:$H$1016)","v":0}]
[null,null,null,null,null,null,null,null,null,{"$f":"SUMIF($G$20:$G$5016,$G721,$H$20:$H$5016)+SUMIF('2.aTë ardhura-jopublik-monetare'!$G$20:$G$1016,'2.bTë ardhura-jopublik-nënatyrë'!$G721,'2.aTë ardhura-jopublik-monetare'!$H$20:$H$1016)","v":0}]
[null,null,null,null,null,null,null,null,null,{"$f":"SUMIF($G$20:$G$5016,$G722,$H$20:$H$5016)+SUMIF('2.aTë ardhura-jopublik-monetare'!$G$20:$G$1016,'2.bTë ardhura-jopublik-nënatyrë'!$G722,'2.aTë ardhura-jopublik-monetare'!$H$20:$H$1016)","v":0}]
[null,null,null,null,null,null,null,null,null,{"$f":"SUMIF($G$20:$G$5016,$G723,$H$20:$H$5016)+SUMIF('2.aTë ardhura-jopublik-monetare'!$G$20:$G$1016,'2.bTë ardhura-jopublik-nënatyrë'!$G723,'2.aTë ardhura-jopublik-monetare'!$H$20:$H$1016)","v":0}]
[null,null,null,null,null,null,null,null,null,{"$f":"SUMIF($G$20:$G$5016,$G724,$H$20:$H$5016)+SUMIF('2.aTë ardhura-jopublik-monetare'!$G$20:$G$1016,'2.bTë ardhura-jopublik-nënatyrë'!$G724,'2.aTë ardhura-jopublik-monetare'!$H$20:$H$1016)","v":0}]
[null,null,null,null,null,null,null,null,null,{"$f":"SUMIF($G$20:$G$5016,$G725,$H$20:$H$5016)+SUMIF('2.aTë ardhura-jopublik-monetare'!$G$20:$G$1016,'2.bTë ardhura-jopublik-nënatyrë'!$G725,'2.aTë ardhura-jopublik-monetare'!$H$20:$H$1016)","v":0}]
[null,null,null,null,null,null,null,null,null,{"$f":"SUMIF($G$20:$G$5016,$G726,$H$20:$H$5016)+SUMIF('2.aTë ardhura-jopublik-monetare'!$G$20:$G$1016,'2.bTë ardhura-jopublik-nënatyrë'!$G726,'2.aTë ardhura-jopublik-monetare'!$H$20:$H$1016)","v":0}]
[null,null,null,null,null,null,null,null,null,{"$f":"SUMIF($G$20:$G$5016,$G727,$H$20:$H$5016)+SUMIF('2.aTë ardhura-jopublik-monetare'!$G$20:$G$1016,'2.bTë ardhura-jopublik-nënatyrë'!$G727,'2.aTë ardhura-jopublik-monetare'!$H$20:$H$1016)","v":0}]
[null,null,null,null,null,null,null,null,null,{"$f":"SUMIF($G$20:$G$5016,$G728,$H$20:$H$5016)+SUMIF('2.aTë ardhura-jopublik-monetare'!$G$20:$G$1016,'2.bTë ardhura-jopublik-nënatyrë'!$G728,'2.aTë ardhura-jopublik-monetare'!$H$20:$H$1016)","v":0}]
[null,null,null,null,null,null,null,null,null,{"$f":"SUMIF($G$20:$G$5016,$G729,$H$20:$H$5016)+SUMIF('2.aTë ardhura-jopublik-monetare'!$G$20:$G$1016,'2.bTë ardhura-jopublik-nënatyrë'!$G729,'2.aTë ardhura-jopublik-monetare'!$H$20:$H$1016)","v":0}]
[null,null,null,null,null,null,null,null,null,{"$f":"SUMIF($G$20:$G$5016,$G730,$H$20:$H$5016)+SUMIF('2.aTë ardhura-jopublik-monetare'!$G$20:$G$1016,'2.bTë ardhura-jopublik-nënatyrë'!$G730,'2.aTë ardhura-jopublik-monetare'!$H$20:$H$1016)","v":0}]
[null,null,null,null,null,null,null,null,null,{"$f":"SUMIF($G$20:$G$5016,$G731,$H$20:$H$5016)+SUMIF('2.aTë ardhura-jopublik-monetare'!$G$20:$G$1016,'2.bTë ardhura-jopublik-nënatyrë'!$G731,'2.aTë ardhura-jopublik-monetare'!$H$20:$H$1016)","v":0}]
[null,null,null,null,null,null,null,null,null,{"$f":"SUMIF($G$20:$G$5016,$G732,$H$20:$H$5016)+SUMIF('2.aTë ardhura-jopublik-monetare'!$G$20:$G$1016,'2.bTë ardhura-jopublik-nënatyrë'!$G732,'2.aTë ardhura-jopublik-monetare'!$H$20:$H$1016)","v":0}]
[null,null,null,null,null,null,null,null,null,{"$f":"SUMIF($G$20:$G$5016,$G733,$H$20:$H$5016)+SUMIF('2.aTë ardhura-jopublik-monetare'!$G$20:$G$1016,'2.bTë ardhura-jopublik-nënatyrë'!$G733,'2.aTë ardhura-jopublik-monetare'!$H$20:$H$1016)","v":0}]
[null,null,null,null,null,null,null,null,null,{"$f":"SUMIF($G$20:$G$5016,$G734,$H$20:$H$5016)+SUMIF('2.aTë ardhura-jopublik-monetare'!$G$20:$G$1016,'2.bTë ardhura-jopublik-nënatyrë'!$G734,'2.aTë ardhura-jopublik-monetare'!$H$20:$H$1016)","v":0}]
[null,null,null,null,null,null,null,null,null,{"$f":"SUMIF($G$20:$G$5016,$G735,$H$20:$H$5016)+SUMIF('2.aTë ardhura-jopublik-monetare'!$G$20:$G$1016,'2.bTë ardhura-jopublik-nënatyrë'!$G735,'2.aTë ardhura-jopublik-monetare'!$H$20:$H$1016)","v":0}]
[null,null,null,null,null,null,null,null,null,{"$f":"SUMIF($G$20:$G$5016,$G736,$H$20:$H$5016)+SUMIF('2.aTë ardhura-jopublik-monetare'!$G$20:$G$1016,'2.bTë ardhura-jopublik-nënatyrë'!$G736,'2.aTë ardhura-jopublik-monetare'!$H$20:$H$1016)","v":0}]
[null,null,null,null,null,null,null,null,null,{"$f":"SUMIF($G$20:$G$5016,$G737,$H$20:$H$5016)+SUMIF('2.aTë ardhura-jopublik-monetare'!$G$20:$G$1016,'2.bTë ardhura-jopublik-nënatyrë'!$G737,'2.aTë ardhura-jopublik-monetare'!$H$20:$H$1016)","v":0}]
[null,null,null,null,null,null,null,null,null,{"$f":"SUMIF($G$20:$G$5016,$G738,$H$20:$H$5016)+SUMIF('2.aTë ardhura-jopublik-monetare'!$G$20:$G$1016,'2.bTë ardhura-jopublik-nënatyrë'!$G738,'2.aTë ardhura-jopublik-monetare'!$H$20:$H$1016)","v":0}]
[null,null,null,null,null,null,null,null,null,{"$f":"SUMIF($G$20:$G$5016,$G739,$H$20:$H$5016)+SUMIF('2.aTë ardhura-jopublik-monetare'!$G$20:$G$1016,'2.bTë ardhura-jopublik-nënatyrë'!$G739,'2.aTë ardhura-jopublik-monetare'!$H$20:$H$1016)","v":0}]
[null,null,null,null,null,null,null,null,null,{"$f":"SUMIF($G$20:$G$5016,$G740,$H$20:$H$5016)+SUMIF('2.aTë ardhura-jopublik-monetare'!$G$20:$G$1016,'2.bTë ardhura-jopublik-nënatyrë'!$G740,'2.aTë ardhura-jopublik-monetare'!$H$20:$H$1016)","v":0}]
[null,null,null,null,null,null,null,null,null,{"$f":"SUMIF($G$20:$G$5016,$G741,$H$20:$H$5016)+SUMIF('2.aTë ardhura-jopublik-monetare'!$G$20:$G$1016,'2.bTë ardhura-jopublik-nënatyrë'!$G741,'2.aTë ardhura-jopublik-monetare'!$H$20:$H$1016)","v":0}]
[null,null,null,null,null,null,null,null,null,{"$f":"SUMIF($G$20:$G$5016,$G742,$H$20:$H$5016)+SUMIF('2.aTë ardhura-jopublik-monetare'!$G$20:$G$1016,'2.bTë ardhura-jopublik-nënatyrë'!$G742,'2.aTë ardhura-jopublik-monetare'!$H$20:$H$1016)","v":0}]
[null,null,null,null,null,null,null,null,null,{"$f":"SUMIF($G$20:$G$5016,$G743,$H$20:$H$5016)+SUMIF('2.aTë ardhura-jopublik-monetare'!$G$20:$G$1016,'2.bTë ardhura-jopublik-nënatyrë'!$G743,'2.aTë ardhura-jopublik-monetare'!$H$20:$H$1016)","v":0}]
[null,null,null,null,null,null,null,null,null,{"$f":"SUMIF($G$20:$G$5016,$G744,$H$20:$H$5016)+SUMIF('2.aTë ardhura-jopublik-monetare'!$G$20:$G$1016,'2.bTë ardhura-jopublik-nënatyrë'!$G744,'2.aTë ardhura-jopublik-monetare'!$H$20:$H$1016)","v":0}]
[null,null,null,null,null,null,null,null,null,{"$f":"SUMIF($G$20:$G$5016,$G745,$H$20:$H$5016)+SUMIF('2.aTë ardhura-jopublik-monetare'!$G$20:$G$1016,'2.bTë ardhura-jopublik-nënatyrë'!$G745,'2.aTë ardhura-jopublik-monetare'!$H$20:$H$1016)","v":0}]
[null,null,null,null,null,null,null,null,null,{"$f":"SUMIF($G$20:$G$5016,$G746,$H$20:$H$5016)+SUMIF('2.aTë ardhura-jopublik-monetare'!$G$20:$G$1016,'2.bTë ardhura-jopublik-nënatyrë'!$G746,'2.aTë ardhura-jopublik-monetare'!$H$20:$H$1016)","v":0}]
[null,null,null,null,null,null,null,null,null,{"$f":"SUMIF($G$20:$G$5016,$G747,$H$20:$H$5016)+SUMIF('2.aTë ardhura-jopublik-monetare'!$G$20:$G$1016,'2.bTë ardhura-jopublik-nënatyrë'!$G747,'2.aTë ardhura-jopublik-monetare'!$H$20:$H$1016)","v":0}]
[null,null,null,null,null,null,null,null,null,{"$f":"SUMIF($G$20:$G$5016,$G748,$H$20:$H$5016)+SUMIF('2.aTë ardhura-jopublik-monetare'!$G$20:$G$1016,'2.bTë ardhura-jopublik-nënatyrë'!$G748,'2.aTë ardhura-jopublik-monetare'!$H$20:$H$1016)","v":0}]
[null,null,null,null,null,null,null,null,null,{"$f":"SUMIF($G$20:$G$5016,$G749,$H$20:$H$5016)+SUMIF('2.aTë ardhura-jopublik-monetare'!$G$20:$G$1016,'2.bTë ardhura-jopublik-nënatyrë'!$G749,'2.aTë ardhura-jopublik-monetare'!$H$20:$H$1016)","v":0}]
[null,null,null,null,null,null,null,null,null,{"$f":"SUMIF($G$20:$G$5016,$G750,$H$20:$H$5016)+SUMIF('2.aTë ardhura-jopublik-monetare'!$G$20:$G$1016,'2.bTë ardhura-jopublik-nënatyrë'!$G750,'2.aTë ardhura-jopublik-monetare'!$H$20:$H$1016)","v":0}]
[null,null,null,null,null,null,null,null,null,{"$f":"SUMIF($G$20:$G$5016,$G751,$H$20:$H$5016)+SUMIF('2.aTë ardhura-jopublik-monetare'!$G$20:$G$1016,'2.bTë ardhura-jopublik-nënatyrë'!$G751,'2.aTë ardhura-jopublik-monetare'!$H$20:$H$1016)","v":0}]
[null,null,null,null,null,null,null,null,null,{"$f":"SUMIF($G$20:$G$5016,$G752,$H$20:$H$5016)+SUMIF('2.aTë ardhura-jopublik-monetare'!$G$20:$G$1016,'2.bTë ardhura-jopublik-nënatyrë'!$G752,'2.aTë ardhura-jopublik-monetare'!$H$20:$H$1016)","v":0}]
[null,null,null,null,null,null,null,null,null,{"$f":"SUMIF($G$20:$G$5016,$G753,$H$20:$H$5016)+SUMIF('2.aTë ardhura-jopublik-monetare'!$G$20:$G$1016,'2.bTë ardhura-jopublik-nënatyrë'!$G753,'2.aTë ardhura-jopublik-monetare'!$H$20:$H$1016)","v":0}]
[null,null,null,null,null,null,null,null,null,{"$f":"SUMIF($G$20:$G$5016,$G754,$H$20:$H$5016)+SUMIF('2.aTë ardhura-jopublik-monetare'!$G$20:$G$1016,'2.bTë ardhura-jopublik-nënatyrë'!$G754,'2.aTë ardhura-jopublik-monetare'!$H$20:$H$1016)","v":0}]
[null,null,null,null,null,null,null,null,null,{"$f":"SUMIF($G$20:$G$5016,$G755,$H$20:$H$5016)+SUMIF('2.aTë ardhura-jopublik-monetare'!$G$20:$G$1016,'2.bTë ardhura-jopublik-nënatyrë'!$G755,'2.aTë ardhura-jopublik-monetare'!$H$20:$H$1016)","v":0}]
[null,null,null,null,null,null,null,null,null,{"$f":"SUMIF($G$20:$G$5016,$G756,$H$20:$H$5016)+SUMIF('2.aTë ardhura-jopublik-monetare'!$G$20:$G$1016,'2.bTë ardhura-jopublik-nënatyrë'!$G756,'2.aTë ardhura-jopublik-monetare'!$H$20:$H$1016)","v":0}]
[null,null,null,null,null,null,null,null,null,{"$f":"SUMIF($G$20:$G$5016,$G757,$H$20:$H$5016)+SUMIF('2.aTë ardhura-jopublik-monetare'!$G$20:$G$1016,'2.bTë ardhura-jopublik-nënatyrë'!$G757,'2.aTë ardhura-jopublik-monetare'!$H$20:$H$1016)","v":0}]
[null,null,null,null,null,null,null,null,null,{"$f":"SUMIF($G$20:$G$5016,$G758,$H$20:$H$5016)+SUMIF('2.aTë ardhura-jopublik-monetare'!$G$20:$G$1016,'2.bTë ardhura-jopublik-nënatyrë'!$G758,'2.aTë ardhura-jopublik-monetare'!$H$20:$H$1016)","v":0}]
[null,null,null,null,null,null,null,null,null,{"$f":"SUMIF($G$20:$G$5016,$G759,$H$20:$H$5016)+SUMIF('2.aTë ardhura-jopublik-monetare'!$G$20:$G$1016,'2.bTë ardhura-jopublik-nënatyrë'!$G759,'2.aTë ardhura-jopublik-monetare'!$H$20:$H$1016)","v":0}]
[null,null,null,null,null,null,null,null,null,{"$f":"SUMIF($G$20:$G$5016,$G760,$H$20:$H$5016)+SUMIF('2.aTë ardhura-jopublik-monetare'!$G$20:$G$1016,'2.bTë ardhura-jopublik-nënatyrë'!$G760,'2.aTë ardhura-jopublik-monetare'!$H$20:$H$1016)","v":0}]
[null,null,null,null,null,null,null,null,null,{"$f":"SUMIF($G$20:$G$5016,$G761,$H$20:$H$5016)+SUMIF('2.aTë ardhura-jopublik-monetare'!$G$20:$G$1016,'2.bTë ardhura-jopublik-nënatyrë'!$G761,'2.aTë ardhura-jopublik-monetare'!$H$20:$H$1016)","v":0}]
[null,null,null,null,null,null,null,null,null,{"$f":"SUMIF($G$20:$G$5016,$G762,$H$20:$H$5016)+SUMIF('2.aTë ardhura-jopublik-monetare'!$G$20:$G$1016,'2.bTë ardhura-jopublik-nënatyrë'!$G762,'2.aTë ardhura-jopublik-monetare'!$H$20:$H$1016)","v":0}]
[null,null,null,null,null,null,null,null,null,{"$f":"SUMIF($G$20:$G$5016,$G763,$H$20:$H$5016)+SUMIF('2.aTë ardhura-jopublik-monetare'!$G$20:$G$1016,'2.bTë ardhura-jopublik-nënatyrë'!$G763,'2.aTë ardhura-jopublik-monetare'!$H$20:$H$1016)","v":0}]
[null,null,null,null,null,null,null,null,null,{"$f":"SUMIF($G$20:$G$5016,$G764,$H$20:$H$5016)+SUMIF('2.aTë ardhura-jopublik-monetare'!$G$20:$G$1016,'2.bTë ardhura-jopublik-nënatyrë'!$G764,'2.aTë ardhura-jopublik-monetare'!$H$20:$H$1016)","v":0}]
[null,null,null,null,null,null,null,null,null,{"$f":"SUMIF($G$20:$G$5016,$G765,$H$20:$H$5016)+SUMIF('2.aTë ardhura-jopublik-monetare'!$G$20:$G$1016,'2.bTë ardhura-jopublik-nënatyrë'!$G765,'2.aTë ardhura-jopublik-monetare'!$H$20:$H$1016)","v":0}]
[null,null,null,null,null,null,null,null,null,{"$f":"SUMIF($G$20:$G$5016,$G766,$H$20:$H$5016)+SUMIF('2.aTë ardhura-jopublik-monetare'!$G$20:$G$1016,'2.bTë ardhura-jopublik-nënatyrë'!$G766,'2.aTë ardhura-jopublik-monetare'!$H$20:$H$1016)","v":0}]
[null,null,null,null,null,null,null,null,null,{"$f":"SUMIF($G$20:$G$5016,$G767,$H$20:$H$5016)+SUMIF('2.aTë ardhura-jopublik-monetare'!$G$20:$G$1016,'2.bTë ardhura-jopublik-nënatyrë'!$G767,'2.aTë ardhura-jopublik-monetare'!$H$20:$H$1016)","v":0}]
[null,null,null,null,null,null,null,null,null,{"$f":"SUMIF($G$20:$G$5016,$G768,$H$20:$H$5016)+SUMIF('2.aTë ardhura-jopublik-monetare'!$G$20:$G$1016,'2.bTë ardhura-jopublik-nënatyrë'!$G768,'2.aTë ardhura-jopublik-monetare'!$H$20:$H$1016)","v":0}]
[null,null,null,null,null,null,null,null,null,{"$f":"SUMIF($G$20:$G$5016,$G769,$H$20:$H$5016)+SUMIF('2.aTë ardhura-jopublik-monetare'!$G$20:$G$1016,'2.bTë ardhura-jopublik-nënatyrë'!$G769,'2.aTë ardhura-jopublik-monetare'!$H$20:$H$1016)","v":0}]
[null,null,null,null,null,null,null,null,null,{"$f":"SUMIF($G$20:$G$5016,$G770,$H$20:$H$5016)+SUMIF('2.aTë ardhura-jopublik-monetare'!$G$20:$G$1016,'2.bTë ardhura-jopublik-nënatyrë'!$G770,'2.aTë ardhura-jopublik-monetare'!$H$20:$H$1016)","v":0}]
[null,null,null,null,null,null,null,null,null,{"$f":"SUMIF($G$20:$G$5016,$G771,$H$20:$H$5016)+SUMIF('2.aTë ardhura-jopublik-monetare'!$G$20:$G$1016,'2.bTë ardhura-jopublik-nënatyrë'!$G771,'2.aTë ardhura-jopublik-monetare'!$H$20:$H$1016)","v":0}]
[null,null,null,null,null,null,null,null,null,{"$f":"SUMIF($G$20:$G$5016,$G772,$H$20:$H$5016)+SUMIF('2.aTë ardhura-jopublik-monetare'!$G$20:$G$1016,'2.bTë ardhura-jopublik-nënatyrë'!$G772,'2.aTë ardhura-jopublik-monetare'!$H$20:$H$1016)","v":0}]
[null,null,null,null,null,null,null,null,null,{"$f":"SUMIF($G$20:$G$5016,$G773,$H$20:$H$5016)+SUMIF('2.aTë ardhura-jopublik-monetare'!$G$20:$G$1016,'2.bTë ardhura-jopublik-nënatyrë'!$G773,'2.aTë ardhura-jopublik-monetare'!$H$20:$H$1016)","v":0}]
[null,null,null,null,null,null,null,null,null,{"$f":"SUMIF($G$20:$G$5016,$G774,$H$20:$H$5016)+SUMIF('2.aTë ardhura-jopublik-monetare'!$G$20:$G$1016,'2.bTë ardhura-jopublik-nënatyrë'!$G774,'2.aTë ardhura-jopublik-monetare'!$H$20:$H$1016)","v":0}]
[null,null,null,null,null,null,null,null,null,{"$f":"SUMIF($G$20:$G$5016,$G775,$H$20:$H$5016)+SUMIF('2.aTë ardhura-jopublik-monetare'!$G$20:$G$1016,'2.bTë ardhura-jopublik-nënatyrë'!$G775,'2.aTë ardhura-jopublik-monetare'!$H$20:$H$1016)","v":0}]
[null,null,null,null,null,null,null,null,null,{"$f":"SUMIF($G$20:$G$5016,$G776,$H$20:$H$5016)+SUMIF('2.aTë ardhura-jopublik-monetare'!$G$20:$G$1016,'2.bTë ardhura-jopublik-nënatyrë'!$G776,'2.aTë ardhura-jopublik-monetare'!$H$20:$H$1016)","v":0}]
[null,null,null,null,null,null,null,null,null,{"$f":"SUMIF($G$20:$G$5016,$G777,$H$20:$H$5016)+SUMIF('2.aTë ardhura-jopublik-monetare'!$G$20:$G$1016,'2.bTë ardhura-jopublik-nënatyrë'!$G777,'2.aTë ardhura-jopublik-monetare'!$H$20:$H$1016)","v":0}]
[null,null,null,null,null,null,null,null,null,{"$f":"SUMIF($G$20:$G$5016,$G778,$H$20:$H$5016)+SUMIF('2.aTë ardhura-jopublik-monetare'!$G$20:$G$1016,'2.bTë ardhura-jopublik-nënatyrë'!$G778,'2.aTë ardhura-jopublik-monetare'!$H$20:$H$1016)","v":0}]
[null,null,null,null,null,null,null,null,null,{"$f":"SUMIF($G$20:$G$5016,$G779,$H$20:$H$5016)+SUMIF('2.aTë ardhura-jopublik-monetare'!$G$20:$G$1016,'2.bTë ardhura-jopublik-nënatyrë'!$G779,'2.aTë ardhura-jopublik-monetare'!$H$20:$H$1016)","v":0}]
[null,null,null,null,null,null,null,null,null,{"$f":"SUMIF($G$20:$G$5016,$G780,$H$20:$H$5016)+SUMIF('2.aTë ardhura-jopublik-monetare'!$G$20:$G$1016,'2.bTë ardhura-jopublik-nënatyrë'!$G780,'2.aTë ardhura-jopublik-monetare'!$H$20:$H$1016)","v":0}]
[null,null,null,null,null,null,null,null,null,{"$f":"SUMIF($G$20:$G$5016,$G781,$H$20:$H$5016)+SUMIF('2.aTë ardhura-jopublik-monetare'!$G$20:$G$1016,'2.bTë ardhura-jopublik-nënatyrë'!$G781,'2.aTë ardhura-jopublik-monetare'!$H$20:$H$1016)","v":0}]
[null,null,null,null,null,null,null,null,null,{"$f":"SUMIF($G$20:$G$5016,$G782,$H$20:$H$5016)+SUMIF('2.aTë ardhura-jopublik-monetare'!$G$20:$G$1016,'2.bTë ardhura-jopublik-nënatyrë'!$G782,'2.aTë ardhura-jopublik-monetare'!$H$20:$H$1016)","v":0}]
[null,null,null,null,null,null,null,null,null,{"$f":"SUMIF($G$20:$G$5016,$G783,$H$20:$H$5016)+SUMIF('2.aTë ardhura-jopublik-monetare'!$G$20:$G$1016,'2.bTë ardhura-jopublik-nënatyrë'!$G783,'2.aTë ardhura-jopublik-monetare'!$H$20:$H$1016)","v":0}]
[null,null,null,null,null,null,null,null,null,{"$f":"SUMIF($G$20:$G$5016,$G784,$H$20:$H$5016)+SUMIF('2.aTë ardhura-jopublik-monetare'!$G$20:$G$1016,'2.bTë ardhura-jopublik-nënatyrë'!$G784,'2.aTë ardhura-jopublik-monetare'!$H$20:$H$1016)","v":0}]
[null,null,null,null,null,null,null,null,null,{"$f":"SUMIF($G$20:$G$5016,$G785,$H$20:$H$5016)+SUMIF('2.aTë ardhura-jopublik-monetare'!$G$20:$G$1016,'2.bTë ardhura-jopublik-nënatyrë'!$G785,'2.aTë ardhura-jopublik-monetare'!$H$20:$H$1016)","v":0}]
[null,null,null,null,null,null,null,null,null,{"$f":"SUMIF($G$20:$G$5016,$G786,$H$20:$H$5016)+SUMIF('2.aTë ardhura-jopublik-monetare'!$G$20:$G$1016,'2.bTë ardhura-jopublik-nënatyrë'!$G786,'2.aTë ardhura-jopublik-monetare'!$H$20:$H$1016)","v":0}]
[null,null,null,null,null,null,null,null,null,{"$f":"SUMIF($G$20:$G$5016,$G787,$H$20:$H$5016)+SUMIF('2.aTë ardhura-jopublik-monetare'!$G$20:$G$1016,'2.bTë ardhura-jopublik-nënatyrë'!$G787,'2.aTë ardhura-jopublik-monetare'!$H$20:$H$1016)","v":0}]
[null,null,null,null,null,null,null,null,null,{"$f":"SUMIF($G$20:$G$5016,$G788,$H$20:$H$5016)+SUMIF('2.aTë ardhura-jopublik-monetare'!$G$20:$G$1016,'2.bTë ardhura-jopublik-nënatyrë'!$G788,'2.aTë ardhura-jopublik-monetare'!$H$20:$H$1016)","v":0}]
[null,null,null,null,null,null,null,null,null,{"$f":"SUMIF($G$20:$G$5016,$G789,$H$20:$H$5016)+SUMIF('2.aTë ardhura-jopublik-monetare'!$G$20:$G$1016,'2.bTë ardhura-jopublik-nënatyrë'!$G789,'2.aTë ardhura-jopublik-monetare'!$H$20:$H$1016)","v":0}]
[null,null,null,null,null,null,null,null,null,{"$f":"SUMIF($G$20:$G$5016,$G790,$H$20:$H$5016)+SUMIF('2.aTë ardhura-jopublik-monetare'!$G$20:$G$1016,'2.bTë ardhura-jopublik-nënatyrë'!$G790,'2.aTë ardhura-jopublik-monetare'!$H$20:$H$1016)","v":0}]
[null,null,null,null,null,null,null,null,null,{"$f":"SUMIF($G$20:$G$5016,$G791,$H$20:$H$5016)+SUMIF('2.aTë ardhura-jopublik-monetare'!$G$20:$G$1016,'2.bTë ardhura-jopublik-nënatyrë'!$G791,'2.aTë ardhura-jopublik-monetare'!$H$20:$H$1016)","v":0}]
[null,null,null,null,null,null,null,null,null,{"$f":"SUMIF($G$20:$G$5016,$G792,$H$20:$H$5016)+SUMIF('2.aTë ardhura-jopublik-monetare'!$G$20:$G$1016,'2.bTë ardhura-jopublik-nënatyrë'!$G792,'2.aTë ardhura-jopublik-monetare'!$H$20:$H$1016)","v":0}]
[null,null,null,null,null,null,null,null,null,{"$f":"SUMIF($G$20:$G$5016,$G793,$H$20:$H$5016)+SUMIF('2.aTë ardhura-jopublik-monetare'!$G$20:$G$1016,'2.bTë ardhura-jopublik-nënatyrë'!$G793,'2.aTë ardhura-jopublik-monetare'!$H$20:$H$1016)","v":0}]
[null,null,null,null,null,null,null,null,null,{"$f":"SUMIF($G$20:$G$5016,$G794,$H$20:$H$5016)+SUMIF('2.aTë ardhura-jopublik-monetare'!$G$20:$G$1016,'2.bTë ardhura-jopublik-nënatyrë'!$G794,'2.aTë ardhura-jopublik-monetare'!$H$20:$H$1016)","v":0}]
[null,null,null,null,null,null,null,null,null,{"$f":"SUMIF($G$20:$G$5016,$G795,$H$20:$H$5016)+SUMIF('2.aTë ardhura-jopublik-monetare'!$G$20:$G$1016,'2.bTë ardhura-jopublik-nënatyrë'!$G795,'2.aTë ardhura-jopublik-monetare'!$H$20:$H$1016)","v":0}]
[null,null,null,null,null,null,null,null,null,{"$f":"SUMIF($G$20:$G$5016,$G796,$H$20:$H$5016)+SUMIF('2.aTë ardhura-jopublik-monetare'!$G$20:$G$1016,'2.bTë ardhura-jopublik-nënatyrë'!$G796,'2.aTë ardhura-jopublik-monetare'!$H$20:$H$1016)","v":0}]
[null,null,null,null,null,null,null,null,null,{"$f":"SUMIF($G$20:$G$5016,$G797,$H$20:$H$5016)+SUMIF('2.aTë ardhura-jopublik-monetare'!$G$20:$G$1016,'2.bTë ardhura-jopublik-nënatyrë'!$G797,'2.aTë ardhura-jopublik-monetare'!$H$20:$H$1016)","v":0}]
[null,null,null,null,null,null,null,null,null,{"$f":"SUMIF($G$20:$G$5016,$G798,$H$20:$H$5016)+SUMIF('2.aTë ardhura-jopublik-monetare'!$G$20:$G$1016,'2.bTë ardhura-jopublik-nënatyrë'!$G798,'2.aTë ardhura-jopublik-monetare'!$H$20:$H$1016)","v":0}]
[null,null,null,null,null,null,null,null,null,{"$f":"SUMIF($G$20:$G$5016,$G799,$H$20:$H$5016)+SUMIF('2.aTë ardhura-jopublik-monetare'!$G$20:$G$1016,'2.bTë ardhura-jopublik-nënatyrë'!$G799,'2.aTë ardhura-jopublik-monetare'!$H$20:$H$1016)","v":0}]
[null,null,null,null,null,null,null,null,null,{"$f":"SUMIF($G$20:$G$5016,$G800,$H$20:$H$5016)+SUMIF('2.aTë ardhura-jopublik-monetare'!$G$20:$G$1016,'2.bTë ardhura-jopublik-nënatyrë'!$G800,'2.aTë ardhura-jopublik-monetare'!$H$20:$H$1016)","v":0}]
[null,null,null,null,null,null,null,null,null,{"$f":"SUMIF($G$20:$G$5016,$G801,$H$20:$H$5016)+SUMIF('2.aTë ardhura-jopublik-monetare'!$G$20:$G$1016,'2.bTë ardhura-jopublik-nënatyrë'!$G801,'2.aTë ardhura-jopublik-monetare'!$H$20:$H$1016)","v":0}]
[null,null,null,null,null,null,null,null,null,{"$f":"SUMIF($G$20:$G$5016,$G802,$H$20:$H$5016)+SUMIF('2.aTë ardhura-jopublik-monetare'!$G$20:$G$1016,'2.bTë ardhura-jopublik-nënatyrë'!$G802,'2.aTë ardhura-jopublik-monetare'!$H$20:$H$1016)","v":0}]
[null,null,null,null,null,null,null,null,null,{"$f":"SUMIF($G$20:$G$5016,$G803,$H$20:$H$5016)+SUMIF('2.aTë ardhura-jopublik-monetare'!$G$20:$G$1016,'2.bTë ardhura-jopublik-nënatyrë'!$G803,'2.aTë ardhura-jopublik-monetare'!$H$20:$H$1016)","v":0}]
[null,null,null,null,null,null,null,null,null,{"$f":"SUMIF($G$20:$G$5016,$G804,$H$20:$H$5016)+SUMIF('2.aTë ardhura-jopublik-monetare'!$G$20:$G$1016,'2.bTë ardhura-jopublik-nënatyrë'!$G804,'2.aTë ardhura-jopublik-monetare'!$H$20:$H$1016)","v":0}]
[null,null,null,null,null,null,null,null,null,{"$f":"SUMIF($G$20:$G$5016,$G805,$H$20:$H$5016)+SUMIF('2.aTë ardhura-jopublik-monetare'!$G$20:$G$1016,'2.bTë ardhura-jopublik-nënatyrë'!$G805,'2.aTë ardhura-jopublik-monetare'!$H$20:$H$1016)","v":0}]
[null,null,null,null,null,null,null,null,null,{"$f":"SUMIF($G$20:$G$5016,$G806,$H$20:$H$5016)+SUMIF('2.aTë ardhura-jopublik-monetare'!$G$20:$G$1016,'2.bTë ardhura-jopublik-nënatyrë'!$G806,'2.aTë ardhura-jopublik-monetare'!$H$20:$H$1016)","v":0}]
[null,null,null,null,null,null,null,null,null,{"$f":"SUMIF($G$20:$G$5016,$G807,$H$20:$H$5016)+SUMIF('2.aTë ardhura-jopublik-monetare'!$G$20:$G$1016,'2.bTë ardhura-jopublik-nënatyrë'!$G807,'2.aTë ardhura-jopublik-monetare'!$H$20:$H$1016)","v":0}]
[null,null,null,null,null,null,null,null,null,{"$f":"SUMIF($G$20:$G$5016,$G808,$H$20:$H$5016)+SUMIF('2.aTë ardhura-jopublik-monetare'!$G$20:$G$1016,'2.bTë ardhura-jopublik-nënatyrë'!$G808,'2.aTë ardhura-jopublik-monetare'!$H$20:$H$1016)","v":0}]
[null,null,null,null,null,null,null,null,null,{"$f":"SUMIF($G$20:$G$5016,$G809,$H$20:$H$5016)+SUMIF('2.aTë ardhura-jopublik-monetare'!$G$20:$G$1016,'2.bTë ardhura-jopublik-nënatyrë'!$G809,'2.aTë ardhura-jopublik-monetare'!$H$20:$H$1016)","v":0}]
[null,null,null,null,null,null,null,null,null,{"$f":"SUMIF($G$20:$G$5016,$G810,$H$20:$H$5016)+SUMIF('2.aTë ardhura-jopublik-monetare'!$G$20:$G$1016,'2.bTë ardhura-jopublik-nënatyrë'!$G810,'2.aTë ardhura-jopublik-monetare'!$H$20:$H$1016)","v":0}]
[null,null,null,null,null,null,null,null,null,{"$f":"SUMIF($G$20:$G$5016,$G811,$H$20:$H$5016)+SUMIF('2.aTë ardhura-jopublik-monetare'!$G$20:$G$1016,'2.bTë ardhura-jopublik-nënatyrë'!$G811,'2.aTë ardhura-jopublik-monetare'!$H$20:$H$1016)","v":0}]
[null,null,null,null,null,null,null,null,null,{"$f":"SUMIF($G$20:$G$5016,$G812,$H$20:$H$5016)+SUMIF('2.aTë ardhura-jopublik-monetare'!$G$20:$G$1016,'2.bTë ardhura-jopublik-nënatyrë'!$G812,'2.aTë ardhura-jopublik-monetare'!$H$20:$H$1016)","v":0}]
[null,null,null,null,null,null,null,null,null,{"$f":"SUMIF($G$20:$G$5016,$G813,$H$20:$H$5016)+SUMIF('2.aTë ardhura-jopublik-monetare'!$G$20:$G$1016,'2.bTë ardhura-jopublik-nënatyrë'!$G813,'2.aTë ardhura-jopublik-monetare'!$H$20:$H$1016)","v":0}]
[null,null,null,null,null,null,null,null,null,{"$f":"SUMIF($G$20:$G$5016,$G814,$H$20:$H$5016)+SUMIF('2.aTë ardhura-jopublik-monetare'!$G$20:$G$1016,'2.bTë ardhura-jopublik-nënatyrë'!$G814,'2.aTë ardhura-jopublik-monetare'!$H$20:$H$1016)","v":0}]
[null,null,null,null,null,null,null,null,null,{"$f":"SUMIF($G$20:$G$5016,$G815,$H$20:$H$5016)+SUMIF('2.aTë ardhura-jopublik-monetare'!$G$20:$G$1016,'2.bTë ardhura-jopublik-nënatyrë'!$G815,'2.aTë ardhura-jopublik-monetare'!$H$20:$H$1016)","v":0}]
[null,null,null,null,null,null,null,null,null,{"$f":"SUMIF($G$20:$G$5016,$G816,$H$20:$H$5016)+SUMIF('2.aTë ardhura-jopublik-monetare'!$G$20:$G$1016,'2.bTë ardhura-jopublik-nënatyrë'!$G816,'2.aTë ardhura-jopublik-monetare'!$H$20:$H$1016)","v":0}]
[null,null,null,null,null,null,null,null,null,{"$f":"SUMIF($G$20:$G$5016,$G817,$H$20:$H$5016)+SUMIF('2.aTë ardhura-jopublik-monetare'!$G$20:$G$1016,'2.bTë ardhura-jopublik-nënatyrë'!$G817,'2.aTë ardhura-jopublik-monetare'!$H$20:$H$1016)","v":0}]
[null,null,null,null,null,null,null,null,null,{"$f":"SUMIF($G$20:$G$5016,$G818,$H$20:$H$5016)+SUMIF('2.aTë ardhura-jopublik-monetare'!$G$20:$G$1016,'2.bTë ardhura-jopublik-nënatyrë'!$G818,'2.aTë ardhura-jopublik-monetare'!$H$20:$H$1016)","v":0}]
[null,null,null,null,null,null,null,null,null,{"$f":"SUMIF($G$20:$G$5016,$G819,$H$20:$H$5016)+SUMIF('2.aTë ardhura-jopublik-monetare'!$G$20:$G$1016,'2.bTë ardhura-jopublik-nënatyrë'!$G819,'2.aTë ardhura-jopublik-monetare'!$H$20:$H$1016)","v":0}]
[null,null,null,null,null,null,null,null,null,{"$f":"SUMIF($G$20:$G$5016,$G820,$H$20:$H$5016)+SUMIF('2.aTë ardhura-jopublik-monetare'!$G$20:$G$1016,'2.bTë ardhura-jopublik-nënatyrë'!$G820,'2.aTë ardhura-jopublik-monetare'!$H$20:$H$1016)","v":0}]
[null,null,null,null,null,null,null,null,null,{"$f":"SUMIF($G$20:$G$5016,$G821,$H$20:$H$5016)+SUMIF('2.aTë ardhura-jopublik-monetare'!$G$20:$G$1016,'2.bTë ardhura-jopublik-nënatyrë'!$G821,'2.aTë ardhura-jopublik-monetare'!$H$20:$H$1016)","v":0}]
[null,null,null,null,null,null,null,null,null,{"$f":"SUMIF($G$20:$G$5016,$G822,$H$20:$H$5016)+SUMIF('2.aTë ardhura-jopublik-monetare'!$G$20:$G$1016,'2.bTë ardhura-jopublik-nënatyrë'!$G822,'2.aTë ardhura-jopublik-monetare'!$H$20:$H$1016)","v":0}]
[null,null,null,null,null,null,null,null,null,{"$f":"SUMIF($G$20:$G$5016,$G823,$H$20:$H$5016)+SUMIF('2.aTë ardhura-jopublik-monetare'!$G$20:$G$1016,'2.bTë ardhura-jopublik-nënatyrë'!$G823,'2.aTë ardhura-jopublik-monetare'!$H$20:$H$1016)","v":0}]
[null,null,null,null,null,null,null,null,null,{"$f":"SUMIF($G$20:$G$5016,$G824,$H$20:$H$5016)+SUMIF('2.aTë ardhura-jopublik-monetare'!$G$20:$G$1016,'2.bTë ardhura-jopublik-nënatyrë'!$G824,'2.aTë ardhura-jopublik-monetare'!$H$20:$H$1016)","v":0}]
[null,null,null,null,null,null,null,null,null,{"$f":"SUMIF($G$20:$G$5016,$G825,$H$20:$H$5016)+SUMIF('2.aTë ardhura-jopublik-monetare'!$G$20:$G$1016,'2.bTë ardhura-jopublik-nënatyrë'!$G825,'2.aTë ardhura-jopublik-monetare'!$H$20:$H$1016)","v":0}]
[null,null,null,null,null,null,null,null,null,{"$f":"SUMIF($G$20:$G$5016,$G826,$H$20:$H$5016)+SUMIF('2.aTë ardhura-jopublik-monetare'!$G$20:$G$1016,'2.bTë ardhura-jopublik-nënatyrë'!$G826,'2.aTë ardhura-jopublik-monetare'!$H$20:$H$1016)","v":0}]
[null,null,null,null,null,null,null,null,null,{"$f":"SUMIF($G$20:$G$5016,$G827,$H$20:$H$5016)+SUMIF('2.aTë ardhura-jopublik-monetare'!$G$20:$G$1016,'2.bTë ardhura-jopublik-nënatyrë'!$G827,'2.aTë ardhura-jopublik-monetare'!$H$20:$H$1016)","v":0}]
[null,null,null,null,null,null,null,null,null,{"$f":"SUMIF($G$20:$G$5016,$G828,$H$20:$H$5016)+SUMIF('2.aTë ardhura-jopublik-monetare'!$G$20:$G$1016,'2.bTë ardhura-jopublik-nënatyrë'!$G828,'2.aTë ardhura-jopublik-monetare'!$H$20:$H$1016)","v":0}]
[null,null,null,null,null,null,null,null,null,{"$f":"SUMIF($G$20:$G$5016,$G829,$H$20:$H$5016)+SUMIF('2.aTë ardhura-jopublik-monetare'!$G$20:$G$1016,'2.bTë ardhura-jopublik-nënatyrë'!$G829,'2.aTë ardhura-jopublik-monetare'!$H$20:$H$1016)","v":0}]
[null,null,null,null,null,null,null,null,null,{"$f":"SUMIF($G$20:$G$5016,$G830,$H$20:$H$5016)+SUMIF('2.aTë ardhura-jopublik-monetare'!$G$20:$G$1016,'2.bTë ardhura-jopublik-nënatyrë'!$G830,'2.aTë ardhura-jopublik-monetare'!$H$20:$H$1016)","v":0}]
[null,null,null,null,null,null,null,null,null,{"$f":"SUMIF($G$20:$G$5016,$G831,$H$20:$H$5016)+SUMIF('2.aTë ardhura-jopublik-monetare'!$G$20:$G$1016,'2.bTë ardhura-jopublik-nënatyrë'!$G831,'2.aTë ardhura-jopublik-monetare'!$H$20:$H$1016)","v":0}]
[null,null,null,null,null,null,null,null,null,{"$f":"SUMIF($G$20:$G$5016,$G832,$H$20:$H$5016)+SUMIF('2.aTë ardhura-jopublik-monetare'!$G$20:$G$1016,'2.bTë ardhura-jopublik-nënatyrë'!$G832,'2.aTë ardhura-jopublik-monetare'!$H$20:$H$1016)","v":0}]
[null,null,null,null,null,null,null,null,null,{"$f":"SUMIF($G$20:$G$5016,$G833,$H$20:$H$5016)+SUMIF('2.aTë ardhura-jopublik-monetare'!$G$20:$G$1016,'2.bTë ardhura-jopublik-nënatyrë'!$G833,'2.aTë ardhura-jopublik-monetare'!$H$20:$H$1016)","v":0}]
[null,null,null,null,null,null,null,null,null,{"$f":"SUMIF($G$20:$G$5016,$G834,$H$20:$H$5016)+SUMIF('2.aTë ardhura-jopublik-monetare'!$G$20:$G$1016,'2.bTë ardhura-jopublik-nënatyrë'!$G834,'2.aTë ardhura-jopublik-monetare'!$H$20:$H$1016)","v":0}]
[null,null,null,null,null,null,null,null,null,{"$f":"SUMIF($G$20:$G$5016,$G835,$H$20:$H$5016)+SUMIF('2.aTë ardhura-jopublik-monetare'!$G$20:$G$1016,'2.bTë ardhura-jopublik-nënatyrë'!$G835,'2.aTë ardhura-jopublik-monetare'!$H$20:$H$1016)","v":0}]
[null,null,null,null,null,null,null,null,null,{"$f":"SUMIF($G$20:$G$5016,$G836,$H$20:$H$5016)+SUMIF('2.aTë ardhura-jopublik-monetare'!$G$20:$G$1016,'2.bTë ardhura-jopublik-nënatyrë'!$G836,'2.aTë ardhura-jopublik-monetare'!$H$20:$H$1016)","v":0}]
[null,null,null,null,null,null,null,null,null,{"$f":"SUMIF($G$20:$G$5016,$G837,$H$20:$H$5016)+SUMIF('2.aTë ardhura-jopublik-monetare'!$G$20:$G$1016,'2.bTë ardhura-jopublik-nënatyrë'!$G837,'2.aTë ardhura-jopublik-monetare'!$H$20:$H$1016)","v":0}]
[null,null,null,null,null,null,null,null,null,{"$f":"SUMIF($G$20:$G$5016,$G838,$H$20:$H$5016)+SUMIF('2.aTë ardhura-jopublik-monetare'!$G$20:$G$1016,'2.bTë ardhura-jopublik-nënatyrë'!$G838,'2.aTë ardhura-jopublik-monetare'!$H$20:$H$1016)","v":0}]
[null,null,null,null,null,null,null,null,null,{"$f":"SUMIF($G$20:$G$5016,$G839,$H$20:$H$5016)+SUMIF('2.aTë ardhura-jopublik-monetare'!$G$20:$G$1016,'2.bTë ardhura-jopublik-nënatyrë'!$G839,'2.aTë ardhura-jopublik-monetare'!$H$20:$H$1016)","v":0}]
[null,null,null,null,null,null,null,null,null,{"$f":"SUMIF($G$20:$G$5016,$G840,$H$20:$H$5016)+SUMIF('2.aTë ardhura-jopublik-monetare'!$G$20:$G$1016,'2.bTë ardhura-jopublik-nënatyrë'!$G840,'2.aTë ardhura-jopublik-monetare'!$H$20:$H$1016)","v":0}]
[null,null,null,null,null,null,null,null,null,{"$f":"SUMIF($G$20:$G$5016,$G841,$H$20:$H$5016)+SUMIF('2.aTë ardhura-jopublik-monetare'!$G$20:$G$1016,'2.bTë ardhura-jopublik-nënatyrë'!$G841,'2.aTë ardhura-jopublik-monetare'!$H$20:$H$1016)","v":0}]
[null,null,null,null,null,null,null,null,null,{"$f":"SUMIF($G$20:$G$5016,$G842,$H$20:$H$5016)+SUMIF('2.aTë ardhura-jopublik-monetare'!$G$20:$G$1016,'2.bTë ardhura-jopublik-nënatyrë'!$G842,'2.aTë ardhura-jopublik-monetare'!$H$20:$H$1016)","v":0}]
[null,null,null,null,null,null,null,null,null,{"$f":"SUMIF($G$20:$G$5016,$G843,$H$20:$H$5016)+SUMIF('2.aTë ardhura-jopublik-monetare'!$G$20:$G$1016,'2.bTë ardhura-jopublik-nënatyrë'!$G843,'2.aTë ardhura-jopublik-monetare'!$H$20:$H$1016)","v":0}]
[null,null,null,null,null,null,null,null,null,{"$f":"SUMIF($G$20:$G$5016,$G844,$H$20:$H$5016)+SUMIF('2.aTë ardhura-jopublik-monetare'!$G$20:$G$1016,'2.bTë ardhura-jopublik-nënatyrë'!$G844,'2.aTë ardhura-jopublik-monetare'!$H$20:$H$1016)","v":0}]
[null,null,null,null,null,null,null,null,null,{"$f":"SUMIF($G$20:$G$5016,$G845,$H$20:$H$5016)+SUMIF('2.aTë ardhura-jopublik-monetare'!$G$20:$G$1016,'2.bTë ardhura-jopublik-nënatyrë'!$G845,'2.aTë ardhura-jopublik-monetare'!$H$20:$H$1016)","v":0}]
[null,null,null,null,null,null,null,null,null,{"$f":"SUMIF($G$20:$G$5016,$G846,$H$20:$H$5016)+SUMIF('2.aTë ardhura-jopublik-monetare'!$G$20:$G$1016,'2.bTë ardhura-jopublik-nënatyrë'!$G846,'2.aTë ardhura-jopublik-monetare'!$H$20:$H$1016)","v":0}]
[null,null,null,null,null,null,null,null,null,{"$f":"SUMIF($G$20:$G$5016,$G847,$H$20:$H$5016)+SUMIF('2.aTë ardhura-jopublik-monetare'!$G$20:$G$1016,'2.bTë ardhura-jopublik-nënatyrë'!$G847,'2.aTë ardhura-jopublik-monetare'!$H$20:$H$1016)","v":0}]
[null,null,null,null,null,null,null,null,null,{"$f":"SUMIF($G$20:$G$5016,$G848,$H$20:$H$5016)+SUMIF('2.aTë ardhura-jopublik-monetare'!$G$20:$G$1016,'2.bTë ardhura-jopublik-nënatyrë'!$G848,'2.aTë ardhura-jopublik-monetare'!$H$20:$H$1016)","v":0}]
[null,null,null,null,null,null,null,null,null,{"$f":"SUMIF($G$20:$G$5016,$G849,$H$20:$H$5016)+SUMIF('2.aTë ardhura-jopublik-monetare'!$G$20:$G$1016,'2.bTë ardhura-jopublik-nënatyrë'!$G849,'2.aTë ardhura-jopublik-monetare'!$H$20:$H$1016)","v":0}]
[null,null,null,null,null,null,null,null,null,{"$f":"SUMIF($G$20:$G$5016,$G850,$H$20:$H$5016)+SUMIF('2.aTë ardhura-jopublik-monetare'!$G$20:$G$1016,'2.bTë ardhura-jopublik-nënatyrë'!$G850,'2.aTë ardhura-jopublik-monetare'!$H$20:$H$1016)","v":0}]
[null,null,null,null,null,null,null,null,null,{"$f":"SUMIF($G$20:$G$5016,$G851,$H$20:$H$5016)+SUMIF('2.aTë ardhura-jopublik-monetare'!$G$20:$G$1016,'2.bTë ardhura-jopublik-nënatyrë'!$G851,'2.aTë ardhura-jopublik-monetare'!$H$20:$H$1016)","v":0}]
[null,null,null,null,null,null,null,null,null,{"$f":"SUMIF($G$20:$G$5016,$G852,$H$20:$H$5016)+SUMIF('2.aTë ardhura-jopublik-monetare'!$G$20:$G$1016,'2.bTë ardhura-jopublik-nënatyrë'!$G852,'2.aTë ardhura-jopublik-monetare'!$H$20:$H$1016)","v":0}]
[null,null,null,null,null,null,null,null,null,{"$f":"SUMIF($G$20:$G$5016,$G853,$H$20:$H$5016)+SUMIF('2.aTë ardhura-jopublik-monetare'!$G$20:$G$1016,'2.bTë ardhura-jopublik-nënatyrë'!$G853,'2.aTë ardhura-jopublik-monetare'!$H$20:$H$1016)","v":0}]
[null,null,null,null,null,null,null,null,null,{"$f":"SUMIF($G$20:$G$5016,$G854,$H$20:$H$5016)+SUMIF('2.aTë ardhura-jopublik-monetare'!$G$20:$G$1016,'2.bTë ardhura-jopublik-nënatyrë'!$G854,'2.aTë ardhura-jopublik-monetare'!$H$20:$H$1016)","v":0}]
[null,null,null,null,null,null,null,null,null,{"$f":"SUMIF($G$20:$G$5016,$G855,$H$20:$H$5016)+SUMIF('2.aTë ardhura-jopublik-monetare'!$G$20:$G$1016,'2.bTë ardhura-jopublik-nënatyrë'!$G855,'2.aTë ardhura-jopublik-monetare'!$H$20:$H$1016)","v":0}]
[null,null,null,null,null,null,null,null,null,{"$f":"SUMIF($G$20:$G$5016,$G856,$H$20:$H$5016)+SUMIF('2.aTë ardhura-jopublik-monetare'!$G$20:$G$1016,'2.bTë ardhura-jopublik-nënatyrë'!$G856,'2.aTë ardhura-jopublik-monetare'!$H$20:$H$1016)","v":0}]
[null,null,null,null,null,null,null,null,null,{"$f":"SUMIF($G$20:$G$5016,$G857,$H$20:$H$5016)+SUMIF('2.aTë ardhura-jopublik-monetare'!$G$20:$G$1016,'2.bTë ardhura-jopublik-nënatyrë'!$G857,'2.aTë ardhura-jopublik-monetare'!$H$20:$H$1016)","v":0}]
[null,null,null,null,null,null,null,null,null,{"$f":"SUMIF($G$20:$G$5016,$G858,$H$20:$H$5016)+SUMIF('2.aTë ardhura-jopublik-monetare'!$G$20:$G$1016,'2.bTë ardhura-jopublik-nënatyrë'!$G858,'2.aTë ardhura-jopublik-monetare'!$H$20:$H$1016)","v":0}]
[null,null,null,null,null,null,null,null,null,{"$f":"SUMIF($G$20:$G$5016,$G859,$H$20:$H$5016)+SUMIF('2.aTë ardhura-jopublik-monetare'!$G$20:$G$1016,'2.bTë ardhura-jopublik-nënatyrë'!$G859,'2.aTë ardhura-jopublik-monetare'!$H$20:$H$1016)","v":0}]
[null,null,null,null,null,null,null,null,null,{"$f":"SUMIF($G$20:$G$5016,$G860,$H$20:$H$5016)+SUMIF('2.aTë ardhura-jopublik-monetare'!$G$20:$G$1016,'2.bTë ardhura-jopublik-nënatyrë'!$G860,'2.aTë ardhura-jopublik-monetare'!$H$20:$H$1016)","v":0}]
[null,null,null,null,null,null,null,null,null,{"$f":"SUMIF($G$20:$G$5016,$G861,$H$20:$H$5016)+SUMIF('2.aTë ardhura-jopublik-monetare'!$G$20:$G$1016,'2.bTë ardhura-jopublik-nënatyrë'!$G861,'2.aTë ardhura-jopublik-monetare'!$H$20:$H$1016)","v":0}]
[null,null,null,null,null,null,null,null,null,{"$f":"SUMIF($G$20:$G$5016,$G862,$H$20:$H$5016)+SUMIF('2.aTë ardhura-jopublik-monetare'!$G$20:$G$1016,'2.bTë ardhura-jopublik-nënatyrë'!$G862,'2.aTë ardhura-jopublik-monetare'!$H$20:$H$1016)","v":0}]
[null,null,null,null,null,null,null,null,null,{"$f":"SUMIF($G$20:$G$5016,$G863,$H$20:$H$5016)+SUMIF('2.aTë ardhura-jopublik-monetare'!$G$20:$G$1016,'2.bTë ardhura-jopublik-nënatyrë'!$G863,'2.aTë ardhura-jopublik-monetare'!$H$20:$H$1016)","v":0}]
[null,null,null,null,null,null,null,null,null,{"$f":"SUMIF($G$20:$G$5016,$G864,$H$20:$H$5016)+SUMIF('2.aTë ardhura-jopublik-monetare'!$G$20:$G$1016,'2.bTë ardhura-jopublik-nënatyrë'!$G864,'2.aTë ardhura-jopublik-monetare'!$H$20:$H$1016)","v":0}]
[null,null,null,null,null,null,null,null,null,{"$f":"SUMIF($G$20:$G$5016,$G865,$H$20:$H$5016)+SUMIF('2.aTë ardhura-jopublik-monetare'!$G$20:$G$1016,'2.bTë ardhura-jopublik-nënatyrë'!$G865,'2.aTë ardhura-jopublik-monetare'!$H$20:$H$1016)","v":0}]
[null,null,null,null,null,null,null,null,null,{"$f":"SUMIF($G$20:$G$5016,$G866,$H$20:$H$5016)+SUMIF('2.aTë ardhura-jopublik-monetare'!$G$20:$G$1016,'2.bTë ardhura-jopublik-nënatyrë'!$G866,'2.aTë ardhura-jopublik-monetare'!$H$20:$H$1016)","v":0}]
[null,null,null,null,null,null,null,null,null,{"$f":"SUMIF($G$20:$G$5016,$G867,$H$20:$H$5016)+SUMIF('2.aTë ardhura-jopublik-monetare'!$G$20:$G$1016,'2.bTë ardhura-jopublik-nënatyrë'!$G867,'2.aTë ardhura-jopublik-monetare'!$H$20:$H$1016)","v":0}]
[null,null,null,null,null,null,null,null,null,{"$f":"SUMIF($G$20:$G$5016,$G868,$H$20:$H$5016)+SUMIF('2.aTë ardhura-jopublik-monetare'!$G$20:$G$1016,'2.bTë ardhura-jopublik-nënatyrë'!$G868,'2.aTë ardhura-jopublik-monetare'!$H$20:$H$1016)","v":0}]
[null,null,null,null,null,null,null,null,null,{"$f":"SUMIF($G$20:$G$5016,$G869,$H$20:$H$5016)+SUMIF('2.aTë ardhura-jopublik-monetare'!$G$20:$G$1016,'2.bTë ardhura-jopublik-nënatyrë'!$G869,'2.aTë ardhura-jopublik-monetare'!$H$20:$H$1016)","v":0}]
[null,null,null,null,null,null,null,null,null,{"$f":"SUMIF($G$20:$G$5016,$G870,$H$20:$H$5016)+SUMIF('2.aTë ardhura-jopublik-monetare'!$G$20:$G$1016,'2.bTë ardhura-jopublik-nënatyrë'!$G870,'2.aTë ardhura-jopublik-monetare'!$H$20:$H$1016)","v":0}]
[null,null,null,null,null,null,null,null,null,{"$f":"SUMIF($G$20:$G$5016,$G871,$H$20:$H$5016)+SUMIF('2.aTë ardhura-jopublik-monetare'!$G$20:$G$1016,'2.bTë ardhura-jopublik-nënatyrë'!$G871,'2.aTë ardhura-jopublik-monetare'!$H$20:$H$1016)","v":0}]
[null,null,null,null,null,null,null,null,null,{"$f":"SUMIF($G$20:$G$5016,$G872,$H$20:$H$5016)+SUMIF('2.aTë ardhura-jopublik-monetare'!$G$20:$G$1016,'2.bTë ardhura-jopublik-nënatyrë'!$G872,'2.aTë ardhura-jopublik-monetare'!$H$20:$H$1016)","v":0}]
[null,null,null,null,null,null,null,null,null,{"$f":"SUMIF($G$20:$G$5016,$G873,$H$20:$H$5016)+SUMIF('2.aTë ardhura-jopublik-monetare'!$G$20:$G$1016,'2.bTë ardhura-jopublik-nënatyrë'!$G873,'2.aTë ardhura-jopublik-monetare'!$H$20:$H$1016)","v":0}]
[null,null,null,null,null,null,null,null,null,{"$f":"SUMIF($G$20:$G$5016,$G874,$H$20:$H$5016)+SUMIF('2.aTë ardhura-jopublik-monetare'!$G$20:$G$1016,'2.bTë ardhura-jopublik-nënatyrë'!$G874,'2.aTë ardhura-jopublik-monetare'!$H$20:$H$1016)","v":0}]
[null,null,null,null,null,null,null,null,null,{"$f":"SUMIF($G$20:$G$5016,$G875,$H$20:$H$5016)+SUMIF('2.aTë ardhura-jopublik-monetare'!$G$20:$G$1016,'2.bTë ardhura-jopublik-nënatyrë'!$G875,'2.aTë ardhura-jopublik-monetare'!$H$20:$H$1016)","v":0}]
[null,null,null,null,null,null,null,null,null,{"$f":"SUMIF($G$20:$G$5016,$G876,$H$20:$H$5016)+SUMIF('2.aTë ardhura-jopublik-monetare'!$G$20:$G$1016,'2.bTë ardhura-jopublik-nënatyrë'!$G876,'2.aTë ardhura-jopublik-monetare'!$H$20:$H$1016)","v":0}]
[null,null,null,null,null,null,null,null,null,{"$f":"SUMIF($G$20:$G$5016,$G877,$H$20:$H$5016)+SUMIF('2.aTë ardhura-jopublik-monetare'!$G$20:$G$1016,'2.bTë ardhura-jopublik-nënatyrë'!$G877,'2.aTë ardhura-jopublik-monetare'!$H$20:$H$1016)","v":0}]
[null,null,null,null,null,null,null,null,null,{"$f":"SUMIF($G$20:$G$5016,$G878,$H$20:$H$5016)+SUMIF('2.aTë ardhura-jopublik-monetare'!$G$20:$G$1016,'2.bTë ardhura-jopublik-nënatyrë'!$G878,'2.aTë ardhura-jopublik-monetare'!$H$20:$H$1016)","v":0}]
[null,null,null,null,null,null,null,null,null,{"$f":"SUMIF($G$20:$G$5016,$G879,$H$20:$H$5016)+SUMIF('2.aTë ardhura-jopublik-monetare'!$G$20:$G$1016,'2.bTë ardhura-jopublik-nënatyrë'!$G879,'2.aTë ardhura-jopublik-monetare'!$H$20:$H$1016)","v":0}]
[null,null,null,null,null,null,null,null,null,{"$f":"SUMIF($G$20:$G$5016,$G880,$H$20:$H$5016)+SUMIF('2.aTë ardhura-jopublik-monetare'!$G$20:$G$1016,'2.bTë ardhura-jopublik-nënatyrë'!$G880,'2.aTë ardhura-jopublik-monetare'!$H$20:$H$1016)","v":0}]
[null,null,null,null,null,null,null,null,null,{"$f":"SUMIF($G$20:$G$5016,$G881,$H$20:$H$5016)+SUMIF('2.aTë ardhura-jopublik-monetare'!$G$20:$G$1016,'2.bTë ardhura-jopublik-nënatyrë'!$G881,'2.aTë ardhura-jopublik-monetare'!$H$20:$H$1016)","v":0}]
[null,null,null,null,null,null,null,null,null,{"$f":"SUMIF($G$20:$G$5016,$G882,$H$20:$H$5016)+SUMIF('2.aTë ardhura-jopublik-monetare'!$G$20:$G$1016,'2.bTë ardhura-jopublik-nënatyrë'!$G882,'2.aTë ardhura-jopublik-monetare'!$H$20:$H$1016)","v":0}]
[null,null,null,null,null,null,null,null,null,{"$f":"SUMIF($G$20:$G$5016,$G883,$H$20:$H$5016)+SUMIF('2.aTë ardhura-jopublik-monetare'!$G$20:$G$1016,'2.bTë ardhura-jopublik-nënatyrë'!$G883,'2.aTë ardhura-jopublik-monetare'!$H$20:$H$1016)","v":0}]
[null,null,null,null,null,null,null,null,null,{"$f":"SUMIF($G$20:$G$5016,$G884,$H$20:$H$5016)+SUMIF('2.aTë ardhura-jopublik-monetare'!$G$20:$G$1016,'2.bTë ardhura-jopublik-nënatyrë'!$G884,'2.aTë ardhura-jopublik-monetare'!$H$20:$H$1016)","v":0}]
[null,null,null,null,null,null,null,null,null,{"$f":"SUMIF($G$20:$G$5016,$G885,$H$20:$H$5016)+SUMIF('2.aTë ardhura-jopublik-monetare'!$G$20:$G$1016,'2.bTë ardhura-jopublik-nënatyrë'!$G885,'2.aTë ardhura-jopublik-monetare'!$H$20:$H$1016)","v":0}]
[null,null,null,null,null,null,null,null,null,{"$f":"SUMIF($G$20:$G$5016,$G886,$H$20:$H$5016)+SUMIF('2.aTë ardhura-jopublik-monetare'!$G$20:$G$1016,'2.bTë ardhura-jopublik-nënatyrë'!$G886,'2.aTë ardhura-jopublik-monetare'!$H$20:$H$1016)","v":0}]
[null,null,null,null,null,null,null,null,null,{"$f":"SUMIF($G$20:$G$5016,$G887,$H$20:$H$5016)+SUMIF('2.aTë ardhura-jopublik-monetare'!$G$20:$G$1016,'2.bTë ardhura-jopublik-nënatyrë'!$G887,'2.aTë ardhura-jopublik-monetare'!$H$20:$H$1016)","v":0}]
[null,null,null,null,null,null,null,null,null,{"$f":"SUMIF($G$20:$G$5016,$G888,$H$20:$H$5016)+SUMIF('2.aTë ardhura-jopublik-monetare'!$G$20:$G$1016,'2.bTë ardhura-jopublik-nënatyrë'!$G888,'2.aTë ardhura-jopublik-monetare'!$H$20:$H$1016)","v":0}]
[null,null,null,null,null,null,null,null,null,{"$f":"SUMIF($G$20:$G$5016,$G889,$H$20:$H$5016)+SUMIF('2.aTë ardhura-jopublik-monetare'!$G$20:$G$1016,'2.bTë ardhura-jopublik-nënatyrë'!$G889,'2.aTë ardhura-jopublik-monetare'!$H$20:$H$1016)","v":0}]
[null,null,null,null,null,null,null,null,null,{"$f":"SUMIF($G$20:$G$5016,$G890,$H$20:$H$5016)+SUMIF('2.aTë ardhura-jopublik-monetare'!$G$20:$G$1016,'2.bTë ardhura-jopublik-nënatyrë'!$G890,'2.aTë ardhura-jopublik-monetare'!$H$20:$H$1016)","v":0}]
[null,null,null,null,null,null,null,null,null,{"$f":"SUMIF($G$20:$G$5016,$G891,$H$20:$H$5016)+SUMIF('2.aTë ardhura-jopublik-monetare'!$G$20:$G$1016,'2.bTë ardhura-jopublik-nënatyrë'!$G891,'2.aTë ardhura-jopublik-monetare'!$H$20:$H$1016)","v":0}]
[null,null,null,null,null,null,null,null,null,{"$f":"SUMIF($G$20:$G$5016,$G892,$H$20:$H$5016)+SUMIF('2.aTë ardhura-jopublik-monetare'!$G$20:$G$1016,'2.bTë ardhura-jopublik-nënatyrë'!$G892,'2.aTë ardhura-jopublik-monetare'!$H$20:$H$1016)","v":0}]
[null,null,null,null,null,null,null,null,null,{"$f":"SUMIF($G$20:$G$5016,$G893,$H$20:$H$5016)+SUMIF('2.aTë ardhura-jopublik-monetare'!$G$20:$G$1016,'2.bTë ardhura-jopublik-nënatyrë'!$G893,'2.aTë ardhura-jopublik-monetare'!$H$20:$H$1016)","v":0}]
[null,null,null,null,null,null,null,null,null,{"$f":"SUMIF($G$20:$G$5016,$G894,$H$20:$H$5016)+SUMIF('2.aTë ardhura-jopublik-monetare'!$G$20:$G$1016,'2.bTë ardhura-jopublik-nënatyrë'!$G894,'2.aTë ardhura-jopublik-monetare'!$H$20:$H$1016)","v":0}]
[null,null,null,null,null,null,null,null,null,{"$f":"SUMIF($G$20:$G$5016,$G895,$H$20:$H$5016)+SUMIF('2.aTë ardhura-jopublik-monetare'!$G$20:$G$1016,'2.bTë ardhura-jopublik-nënatyrë'!$G895,'2.aTë ardhura-jopublik-monetare'!$H$20:$H$1016)","v":0}]
[null,null,null,null,null,null,null,null,null,{"$f":"SUMIF($G$20:$G$5016,$G896,$H$20:$H$5016)+SUMIF('2.aTë ardhura-jopublik-monetare'!$G$20:$G$1016,'2.bTë ardhura-jopublik-nënatyrë'!$G896,'2.aTë ardhura-jopublik-monetare'!$H$20:$H$1016)","v":0}]
[null,null,null,null,null,null,null,null,null,{"$f":"SUMIF($G$20:$G$5016,$G897,$H$20:$H$5016)+SUMIF('2.aTë ardhura-jopublik-monetare'!$G$20:$G$1016,'2.bTë ardhura-jopublik-nënatyrë'!$G897,'2.aTë ardhura-jopublik-monetare'!$H$20:$H$1016)","v":0}]
[null,null,null,null,null,null,null,null,null,{"$f":"SUMIF($G$20:$G$5016,$G898,$H$20:$H$5016)+SUMIF('2.aTë ardhura-jopublik-monetare'!$G$20:$G$1016,'2.bTë ardhura-jopublik-nënatyrë'!$G898,'2.aTë ardhura-jopublik-monetare'!$H$20:$H$1016)","v":0}]
[null,null,null,null,null,null,null,null,null,{"$f":"SUMIF($G$20:$G$5016,$G899,$H$20:$H$5016)+SUMIF('2.aTë ardhura-jopublik-monetare'!$G$20:$G$1016,'2.bTë ardhura-jopublik-nënatyrë'!$G899,'2.aTë ardhura-jopublik-monetare'!$H$20:$H$1016)","v":0}]
[null,null,null,null,null,null,null,null,null,{"$f":"SUMIF($G$20:$G$5016,$G900,$H$20:$H$5016)+SUMIF('2.aTë ardhura-jopublik-monetare'!$G$20:$G$1016,'2.bTë ardhura-jopublik-nënatyrë'!$G900,'2.aTë ardhura-jopublik-monetare'!$H$20:$H$1016)","v":0}]
[null,null,null,null,null,null,null,null,null,{"$f":"SUMIF($G$20:$G$5016,$G901,$H$20:$H$5016)+SUMIF('2.aTë ardhura-jopublik-monetare'!$G$20:$G$1016,'2.bTë ardhura-jopublik-nënatyrë'!$G901,'2.aTë ardhura-jopublik-monetare'!$H$20:$H$1016)","v":0}]
[null,null,null,null,null,null,null,null,null,{"$f":"SUMIF($G$20:$G$5016,$G902,$H$20:$H$5016)+SUMIF('2.aTë ardhura-jopublik-monetare'!$G$20:$G$1016,'2.bTë ardhura-jopublik-nënatyrë'!$G902,'2.aTë ardhura-jopublik-monetare'!$H$20:$H$1016)","v":0}]
[null,null,null,null,null,null,null,null,null,{"$f":"SUMIF($G$20:$G$5016,$G903,$H$20:$H$5016)+SUMIF('2.aTë ardhura-jopublik-monetare'!$G$20:$G$1016,'2.bTë ardhura-jopublik-nënatyrë'!$G903,'2.aTë ardhura-jopublik-monetare'!$H$20:$H$1016)","v":0}]
[null,null,null,null,null,null,null,null,null,{"$f":"SUMIF($G$20:$G$5016,$G904,$H$20:$H$5016)+SUMIF('2.aTë ardhura-jopublik-monetare'!$G$20:$G$1016,'2.bTë ardhura-jopublik-nënatyrë'!$G904,'2.aTë ardhura-jopublik-monetare'!$H$20:$H$1016)","v":0}]
[null,null,null,null,null,null,null,null,null,{"$f":"SUMIF($G$20:$G$5016,$G905,$H$20:$H$5016)+SUMIF('2.aTë ardhura-jopublik-monetare'!$G$20:$G$1016,'2.bTë ardhura-jopublik-nënatyrë'!$G905,'2.aTë ardhura-jopublik-monetare'!$H$20:$H$1016)","v":0}]
[null,null,null,null,null,null,null,null,null,{"$f":"SUMIF($G$20:$G$5016,$G906,$H$20:$H$5016)+SUMIF('2.aTë ardhura-jopublik-monetare'!$G$20:$G$1016,'2.bTë ardhura-jopublik-nënatyrë'!$G906,'2.aTë ardhura-jopublik-monetare'!$H$20:$H$1016)","v":0}]
[null,null,null,null,null,null,null,null,null,{"$f":"SUMIF($G$20:$G$5016,$G907,$H$20:$H$5016)+SUMIF('2.aTë ardhura-jopublik-monetare'!$G$20:$G$1016,'2.bTë ardhura-jopublik-nënatyrë'!$G907,'2.aTë ardhura-jopublik-monetare'!$H$20:$H$1016)","v":0}]
[null,null,null,null,null,null,null,null,null,{"$f":"SUMIF($G$20:$G$5016,$G908,$H$20:$H$5016)+SUMIF('2.aTë ardhura-jopublik-monetare'!$G$20:$G$1016,'2.bTë ardhura-jopublik-nënatyrë'!$G908,'2.aTë ardhura-jopublik-monetare'!$H$20:$H$1016)","v":0}]
[null,null,null,null,null,null,null,null,null,{"$f":"SUMIF($G$20:$G$5016,$G909,$H$20:$H$5016)+SUMIF('2.aTë ardhura-jopublik-monetare'!$G$20:$G$1016,'2.bTë ardhura-jopublik-nënatyrë'!$G909,'2.aTë ardhura-jopublik-monetare'!$H$20:$H$1016)","v":0}]
[null,null,null,null,null,null,null,null,null,{"$f":"SUMIF($G$20:$G$5016,$G910,$H$20:$H$5016)+SUMIF('2.aTë ardhura-jopublik-monetare'!$G$20:$G$1016,'2.bTë ardhura-jopublik-nënatyrë'!$G910,'2.aTë ardhura-jopublik-monetare'!$H$20:$H$1016)","v":0}]
[null,null,null,null,null,null,null,null,null,{"$f":"SUMIF($G$20:$G$5016,$G911,$H$20:$H$5016)+SUMIF('2.aTë ardhura-jopublik-monetare'!$G$20:$G$1016,'2.bTë ardhura-jopublik-nënatyrë'!$G911,'2.aTë ardhura-jopublik-monetare'!$H$20:$H$1016)","v":0}]
[null,null,null,null,null,null,null,null,null,{"$f":"SUMIF($G$20:$G$5016,$G912,$H$20:$H$5016)+SUMIF('2.aTë ardhura-jopublik-monetare'!$G$20:$G$1016,'2.bTë ardhura-jopublik-nënatyrë'!$G912,'2.aTë ardhura-jopublik-monetare'!$H$20:$H$1016)","v":0}]
[null,null,null,null,null,null,null,null,null,{"$f":"SUMIF($G$20:$G$5016,$G913,$H$20:$H$5016)+SUMIF('2.aTë ardhura-jopublik-monetare'!$G$20:$G$1016,'2.bTë ardhura-jopublik-nënatyrë'!$G913,'2.aTë ardhura-jopublik-monetare'!$H$20:$H$1016)","v":0}]
[null,null,null,null,null,null,null,null,null,{"$f":"SUMIF($G$20:$G$5016,$G914,$H$20:$H$5016)+SUMIF('2.aTë ardhura-jopublik-monetare'!$G$20:$G$1016,'2.bTë ardhura-jopublik-nënatyrë'!$G914,'2.aTë ardhura-jopublik-monetare'!$H$20:$H$1016)","v":0}]
[null,null,null,null,null,null,null,null,null,{"$f":"SUMIF($G$20:$G$5016,$G915,$H$20:$H$5016)+SUMIF('2.aTë ardhura-jopublik-monetare'!$G$20:$G$1016,'2.bTë ardhura-jopublik-nënatyrë'!$G915,'2.aTë ardhura-jopublik-monetare'!$H$20:$H$1016)","v":0}]
[null,null,null,null,null,null,null,null,null,{"$f":"SUMIF($G$20:$G$5016,$G916,$H$20:$H$5016)+SUMIF('2.aTë ardhura-jopublik-monetare'!$G$20:$G$1016,'2.bTë ardhura-jopublik-nënatyrë'!$G916,'2.aTë ardhura-jopublik-monetare'!$H$20:$H$1016)","v":0}]
[null,null,null,null,null,null,null,null,null,{"$f":"SUMIF($G$20:$G$5016,$G917,$H$20:$H$5016)+SUMIF('2.aTë ardhura-jopublik-monetare'!$G$20:$G$1016,'2.bTë ardhura-jopublik-nënatyrë'!$G917,'2.aTë ardhura-jopublik-monetare'!$H$20:$H$1016)","v":0}]
[null,null,null,null,null,null,null,null,null,{"$f":"SUMIF($G$20:$G$5016,$G918,$H$20:$H$5016)+SUMIF('2.aTë ardhura-jopublik-monetare'!$G$20:$G$1016,'2.bTë ardhura-jopublik-nënatyrë'!$G918,'2.aTë ardhura-jopublik-monetare'!$H$20:$H$1016)","v":0}]
[null,null,null,null,null,null,null,null,null,{"$f":"SUMIF($G$20:$G$5016,$G919,$H$20:$H$5016)+SUMIF('2.aTë ardhura-jopublik-monetare'!$G$20:$G$1016,'2.bTë ardhura-jopublik-nënatyrë'!$G919,'2.aTë ardhura-jopublik-monetare'!$H$20:$H$1016)","v":0}]
[null,null,null,null,null,null,null,null,null,{"$f":"SUMIF($G$20:$G$5016,$G920,$H$20:$H$5016)+SUMIF('2.aTë ardhura-jopublik-monetare'!$G$20:$G$1016,'2.bTë ardhura-jopublik-nënatyrë'!$G920,'2.aTë ardhura-jopublik-monetare'!$H$20:$H$1016)","v":0}]
[null,null,null,null,null,null,null,null,null,{"$f":"SUMIF($G$20:$G$5016,$G921,$H$20:$H$5016)+SUMIF('2.aTë ardhura-jopublik-monetare'!$G$20:$G$1016,'2.bTë ardhura-jopublik-nënatyrë'!$G921,'2.aTë ardhura-jopublik-monetare'!$H$20:$H$1016)","v":0}]
[null,null,null,null,null,null,null,null,null,{"$f":"SUMIF($G$20:$G$5016,$G922,$H$20:$H$5016)+SUMIF('2.aTë ardhura-jopublik-monetare'!$G$20:$G$1016,'2.bTë ardhura-jopublik-nënatyrë'!$G922,'2.aTë ardhura-jopublik-monetare'!$H$20:$H$1016)","v":0}]
[null,null,null,null,null,null,null,null,null,{"$f":"SUMIF($G$20:$G$5016,$G923,$H$20:$H$5016)+SUMIF('2.aTë ardhura-jopublik-monetare'!$G$20:$G$1016,'2.bTë ardhura-jopublik-nënatyrë'!$G923,'2.aTë ardhura-jopublik-monetare'!$H$20:$H$1016)","v":0}]
[null,null,null,null,null,null,null,null,null,{"$f":"SUMIF($G$20:$G$5016,$G924,$H$20:$H$5016)+SUMIF('2.aTë ardhura-jopublik-monetare'!$G$20:$G$1016,'2.bTë ardhura-jopublik-nënatyrë'!$G924,'2.aTë ardhura-jopublik-monetare'!$H$20:$H$1016)","v":0}]
[null,null,null,null,null,null,null,null,null,{"$f":"SUMIF($G$20:$G$5016,$G925,$H$20:$H$5016)+SUMIF('2.aTë ardhura-jopublik-monetare'!$G$20:$G$1016,'2.bTë ardhura-jopublik-nënatyrë'!$G925,'2.aTë ardhura-jopublik-monetare'!$H$20:$H$1016)","v":0}]
[null,null,null,null,null,null,null,null,null,{"$f":"SUMIF($G$20:$G$5016,$G926,$H$20:$H$5016)+SUMIF('2.aTë ardhura-jopublik-monetare'!$G$20:$G$1016,'2.bTë ardhura-jopublik-nënatyrë'!$G926,'2.aTë ardhura-jopublik-monetare'!$H$20:$H$1016)","v":0}]
[null,null,null,null,null,null,null,null,null,{"$f":"SUMIF($G$20:$G$5016,$G927,$H$20:$H$5016)+SUMIF('2.aTë ardhura-jopublik-monetare'!$G$20:$G$1016,'2.bTë ardhura-jopublik-nënatyrë'!$G927,'2.aTë ardhura-jopublik-monetare'!$H$20:$H$1016)","v":0}]
[null,null,null,null,null,null,null,null,null,{"$f":"SUMIF($G$20:$G$5016,$G928,$H$20:$H$5016)+SUMIF('2.aTë ardhura-jopublik-monetare'!$G$20:$G$1016,'2.bTë ardhura-jopublik-nënatyrë'!$G928,'2.aTë ardhura-jopublik-monetare'!$H$20:$H$1016)","v":0}]
[null,null,null,null,null,null,null,null,null,{"$f":"SUMIF($G$20:$G$5016,$G929,$H$20:$H$5016)+SUMIF('2.aTë ardhura-jopublik-monetare'!$G$20:$G$1016,'2.bTë ardhura-jopublik-nënatyrë'!$G929,'2.aTë ardhura-jopublik-monetare'!$H$20:$H$1016)","v":0}]
[null,null,null,null,null,null,null,null,null,{"$f":"SUMIF($G$20:$G$5016,$G930,$H$20:$H$5016)+SUMIF('2.aTë ardhura-jopublik-monetare'!$G$20:$G$1016,'2.bTë ardhura-jopublik-nënatyrë'!$G930,'2.aTë ardhura-jopublik-monetare'!$H$20:$H$1016)","v":0}]
[null,null,null,null,null,null,null,null,null,{"$f":"SUMIF($G$20:$G$5016,$G931,$H$20:$H$5016)+SUMIF('2.aTë ardhura-jopublik-monetare'!$G$20:$G$1016,'2.bTë ardhura-jopublik-nënatyrë'!$G931,'2.aTë ardhura-jopublik-monetare'!$H$20:$H$1016)","v":0}]
[null,null,null,null,null,null,null,null,null,{"$f":"SUMIF($G$20:$G$5016,$G932,$H$20:$H$5016)+SUMIF('2.aTë ardhura-jopublik-monetare'!$G$20:$G$1016,'2.bTë ardhura-jopublik-nënatyrë'!$G932,'2.aTë ardhura-jopublik-monetare'!$H$20:$H$1016)","v":0}]
[null,null,null,null,null,null,null,null,null,{"$f":"SUMIF($G$20:$G$5016,$G933,$H$20:$H$5016)+SUMIF('2.aTë ardhura-jopublik-monetare'!$G$20:$G$1016,'2.bTë ardhura-jopublik-nënatyrë'!$G933,'2.aTë ardhura-jopublik-monetare'!$H$20:$H$1016)","v":0}]
[null,null,null,null,null,null,null,null,null,{"$f":"SUMIF($G$20:$G$5016,$G934,$H$20:$H$5016)+SUMIF('2.aTë ardhura-jopublik-monetare'!$G$20:$G$1016,'2.bTë ardhura-jopublik-nënatyrë'!$G934,'2.aTë ardhura-jopublik-monetare'!$H$20:$H$1016)","v":0}]
[null,null,null,null,null,null,null,null,null,{"$f":"SUMIF($G$20:$G$5016,$G935,$H$20:$H$5016)+SUMIF('2.aTë ardhura-jopublik-monetare'!$G$20:$G$1016,'2.bTë ardhura-jopublik-nënatyrë'!$G935,'2.aTë ardhura-jopublik-monetare'!$H$20:$H$1016)","v":0}]
[null,null,null,null,null,null,null,null,null,{"$f":"SUMIF($G$20:$G$5016,$G936,$H$20:$H$5016)+SUMIF('2.aTë ardhura-jopublik-monetare'!$G$20:$G$1016,'2.bTë ardhura-jopublik-nënatyrë'!$G936,'2.aTë ardhura-jopublik-monetare'!$H$20:$H$1016)","v":0}]
[null,null,null,null,null,null,null,null,null,{"$f":"SUMIF($G$20:$G$5016,$G937,$H$20:$H$5016)+SUMIF('2.aTë ardhura-jopublik-monetare'!$G$20:$G$1016,'2.bTë ardhura-jopublik-nënatyrë'!$G937,'2.aTë ardhura-jopublik-monetare'!$H$20:$H$1016)","v":0}]
[null,null,null,null,null,null,null,null,null,{"$f":"SUMIF($G$20:$G$5016,$G938,$H$20:$H$5016)+SUMIF('2.aTë ardhura-jopublik-monetare'!$G$20:$G$1016,'2.bTë ardhura-jopublik-nënatyrë'!$G938,'2.aTë ardhura-jopublik-monetare'!$H$20:$H$1016)","v":0}]
[null,null,null,null,null,null,null,null,null,{"$f":"SUMIF($G$20:$G$5016,$G939,$H$20:$H$5016)+SUMIF('2.aTë ardhura-jopublik-monetare'!$G$20:$G$1016,'2.bTë ardhura-jopublik-nënatyrë'!$G939,'2.aTë ardhura-jopublik-monetare'!$H$20:$H$1016)","v":0}]
[null,null,null,null,null,null,null,null,null,{"$f":"SUMIF($G$20:$G$5016,$G940,$H$20:$H$5016)+SUMIF('2.aTë ardhura-jopublik-monetare'!$G$20:$G$1016,'2.bTë ardhura-jopublik-nënatyrë'!$G940,'2.aTë ardhura-jopublik-monetare'!$H$20:$H$1016)","v":0}]
[null,null,null,null,null,null,null,null,null,{"$f":"SUMIF($G$20:$G$5016,$G941,$H$20:$H$5016)+SUMIF('2.aTë ardhura-jopublik-monetare'!$G$20:$G$1016,'2.bTë ardhura-jopublik-nënatyrë'!$G941,'2.aTë ardhura-jopublik-monetare'!$H$20:$H$1016)","v":0}]
[null,null,null,null,null,null,null,null,null,{"$f":"SUMIF($G$20:$G$5016,$G942,$H$20:$H$5016)+SUMIF('2.aTë ardhura-jopublik-monetare'!$G$20:$G$1016,'2.bTë ardhura-jopublik-nënatyrë'!$G942,'2.aTë ardhura-jopublik-monetare'!$H$20:$H$1016)","v":0}]
[null,null,null,null,null,null,null,null,null,{"$f":"SUMIF($G$20:$G$5016,$G943,$H$20:$H$5016)+SUMIF('2.aTë ardhura-jopublik-monetare'!$G$20:$G$1016,'2.bTë ardhura-jopublik-nënatyrë'!$G943,'2.aTë ardhura-jopublik-monetare'!$H$20:$H$1016)","v":0}]
[null,null,null,null,null,null,null,null,null,{"$f":"SUMIF($G$20:$G$5016,$G944,$H$20:$H$5016)+SUMIF('2.aTë ardhura-jopublik-monetare'!$G$20:$G$1016,'2.bTë ardhura-jopublik-nënatyrë'!$G944,'2.aTë ardhura-jopublik-monetare'!$H$20:$H$1016)","v":0}]
[null,null,null,null,null,null,null,null,null,{"$f":"SUMIF($G$20:$G$5016,$G945,$H$20:$H$5016)+SUMIF('2.aTë ardhura-jopublik-monetare'!$G$20:$G$1016,'2.bTë ardhura-jopublik-nënatyrë'!$G945,'2.aTë ardhura-jopublik-monetare'!$H$20:$H$1016)","v":0}]
[null,null,null,null,null,null,null,null,null,{"$f":"SUMIF($G$20:$G$5016,$G946,$H$20:$H$5016)+SUMIF('2.aTë ardhura-jopublik-monetare'!$G$20:$G$1016,'2.bTë ardhura-jopublik-nënatyrë'!$G946,'2.aTë ardhura-jopublik-monetare'!$H$20:$H$1016)","v":0}]
[null,null,null,null,null,null,null,null,null,{"$f":"SUMIF($G$20:$G$5016,$G947,$H$20:$H$5016)+SUMIF('2.aTë ardhura-jopublik-monetare'!$G$20:$G$1016,'2.bTë ardhura-jopublik-nënatyrë'!$G947,'2.aTë ardhura-jopublik-monetare'!$H$20:$H$1016)","v":0}]
[null,null,null,null,null,null,null,null,null,{"$f":"SUMIF($G$20:$G$5016,$G948,$H$20:$H$5016)+SUMIF('2.aTë ardhura-jopublik-monetare'!$G$20:$G$1016,'2.bTë ardhura-jopublik-nënatyrë'!$G948,'2.aTë ardhura-jopublik-monetare'!$H$20:$H$1016)","v":0}]
[null,null,null,null,null,null,null,null,null,{"$f":"SUMIF($G$20:$G$5016,$G949,$H$20:$H$5016)+SUMIF('2.aTë ardhura-jopublik-monetare'!$G$20:$G$1016,'2.bTë ardhura-jopublik-nënatyrë'!$G949,'2.aTë ardhura-jopublik-monetare'!$H$20:$H$1016)","v":0}]
[null,null,null,null,null,null,null,null,null,{"$f":"SUMIF($G$20:$G$5016,$G950,$H$20:$H$5016)+SUMIF('2.aTë ardhura-jopublik-monetare'!$G$20:$G$1016,'2.bTë ardhura-jopublik-nënatyrë'!$G950,'2.aTë ardhura-jopublik-monetare'!$H$20:$H$1016)","v":0}]
[null,null,null,null,null,null,null,null,null,{"$f":"SUMIF($G$20:$G$5016,$G951,$H$20:$H$5016)+SUMIF('2.aTë ardhura-jopublik-monetare'!$G$20:$G$1016,'2.bTë ardhura-jopublik-nënatyrë'!$G951,'2.aTë ardhura-jopublik-monetare'!$H$20:$H$1016)","v":0}]
[null,null,null,null,null,null,null,null,null,{"$f":"SUMIF($G$20:$G$5016,$G952,$H$20:$H$5016)+SUMIF('2.aTë ardhura-jopublik-monetare'!$G$20:$G$1016,'2.bTë ardhura-jopublik-nënatyrë'!$G952,'2.aTë ardhura-jopublik-monetare'!$H$20:$H$1016)","v":0}]
[null,null,null,null,null,null,null,null,null,{"$f":"SUMIF($G$20:$G$5016,$G953,$H$20:$H$5016)+SUMIF('2.aTë ardhura-jopublik-monetare'!$G$20:$G$1016,'2.bTë ardhura-jopublik-nënatyrë'!$G953,'2.aTë ardhura-jopublik-monetare'!$H$20:$H$1016)","v":0}]
[null,null,null,null,null,null,null,null,null,{"$f":"SUMIF($G$20:$G$5016,$G954,$H$20:$H$5016)+SUMIF('2.aTë ardhura-jopublik-monetare'!$G$20:$G$1016,'2.bTë ardhura-jopublik-nënatyrë'!$G954,'2.aTë ardhura-jopublik-monetare'!$H$20:$H$1016)","v":0}]
[null,null,null,null,null,null,null,null,null,{"$f":"SUMIF($G$20:$G$5016,$G955,$H$20:$H$5016)+SUMIF('2.aTë ardhura-jopublik-monetare'!$G$20:$G$1016,'2.bTë ardhura-jopublik-nënatyrë'!$G955,'2.aTë ardhura-jopublik-monetare'!$H$20:$H$1016)","v":0}]
[null,null,null,null,null,null,null,null,null,{"$f":"SUMIF($G$20:$G$5016,$G956,$H$20:$H$5016)+SUMIF('2.aTë ardhura-jopublik-monetare'!$G$20:$G$1016,'2.bTë ardhura-jopublik-nënatyrë'!$G956,'2.aTë ardhura-jopublik-monetare'!$H$20:$H$1016)","v":0}]
[null,null,null,null,null,null,null,null,null,{"$f":"SUMIF($G$20:$G$5016,$G957,$H$20:$H$5016)+SUMIF('2.aTë ardhura-jopublik-monetare'!$G$20:$G$1016,'2.bTë ardhura-jopublik-nënatyrë'!$G957,'2.aTë ardhura-jopublik-monetare'!$H$20:$H$1016)","v":0}]
[null,null,null,null,null,null,null,null,null,{"$f":"SUMIF($G$20:$G$5016,$G958,$H$20:$H$5016)+SUMIF('2.aTë ardhura-jopublik-monetare'!$G$20:$G$1016,'2.bTë ardhura-jopublik-nënatyrë'!$G958,'2.aTë ardhura-jopublik-monetare'!$H$20:$H$1016)","v":0}]
[null,null,null,null,null,null,null,null,null,{"$f":"SUMIF($G$20:$G$5016,$G959,$H$20:$H$5016)+SUMIF('2.aTë ardhura-jopublik-monetare'!$G$20:$G$1016,'2.bTë ardhura-jopublik-nënatyrë'!$G959,'2.aTë ardhura-jopublik-monetare'!$H$20:$H$1016)","v":0}]
[null,null,null,null,null,null,null,null,null,{"$f":"SUMIF($G$20:$G$5016,$G960,$H$20:$H$5016)+SUMIF('2.aTë ardhura-jopublik-monetare'!$G$20:$G$1016,'2.bTë ardhura-jopublik-nënatyrë'!$G960,'2.aTë ardhura-jopublik-monetare'!$H$20:$H$1016)","v":0}]
[null,null,null,null,null,null,null,null,null,{"$f":"SUMIF($G$20:$G$5016,$G961,$H$20:$H$5016)+SUMIF('2.aTë ardhura-jopublik-monetare'!$G$20:$G$1016,'2.bTë ardhura-jopublik-nënatyrë'!$G961,'2.aTë ardhura-jopublik-monetare'!$H$20:$H$1016)","v":0}]
[null,null,null,null,null,null,null,null,null,{"$f":"SUMIF($G$20:$G$5016,$G962,$H$20:$H$5016)+SUMIF('2.aTë ardhura-jopublik-monetare'!$G$20:$G$1016,'2.bTë ardhura-jopublik-nënatyrë'!$G962,'2.aTë ardhura-jopublik-monetare'!$H$20:$H$1016)","v":0}]
[null,null,null,null,null,null,null,null,null,{"$f":"SUMIF($G$20:$G$5016,$G963,$H$20:$H$5016)+SUMIF('2.aTë ardhura-jopublik-monetare'!$G$20:$G$1016,'2.bTë ardhura-jopublik-nënatyrë'!$G963,'2.aTë ardhura-jopublik-monetare'!$H$20:$H$1016)","v":0}]
[null,null,null,null,null,null,null,null,null,{"$f":"SUMIF($G$20:$G$5016,$G964,$H$20:$H$5016)+SUMIF('2.aTë ardhura-jopublik-monetare'!$G$20:$G$1016,'2.bTë ardhura-jopublik-nënatyrë'!$G964,'2.aTë ardhura-jopublik-monetare'!$H$20:$H$1016)","v":0}]
[null,null,null,null,null,null,null,null,null,{"$f":"SUMIF($G$20:$G$5016,$G965,$H$20:$H$5016)+SUMIF('2.aTë ardhura-jopublik-monetare'!$G$20:$G$1016,'2.bTë ardhura-jopublik-nënatyrë'!$G965,'2.aTë ardhura-jopublik-monetare'!$H$20:$H$1016)","v":0}]
[null,null,null,null,null,null,null,null,null,{"$f":"SUMIF($G$20:$G$5016,$G966,$H$20:$H$5016)+SUMIF('2.aTë ardhura-jopublik-monetare'!$G$20:$G$1016,'2.bTë ardhura-jopublik-nënatyrë'!$G966,'2.aTë ardhura-jopublik-monetare'!$H$20:$H$1016)","v":0}]
[null,null,null,null,null,null,null,null,null,{"$f":"SUMIF($G$20:$G$5016,$G967,$H$20:$H$5016)+SUMIF('2.aTë ardhura-jopublik-monetare'!$G$20:$G$1016,'2.bTë ardhura-jopublik-nënatyrë'!$G967,'2.aTë ardhura-jopublik-monetare'!$H$20:$H$1016)","v":0}]
[null,null,null,null,null,null,null,null,null,{"$f":"SUMIF($G$20:$G$5016,$G968,$H$20:$H$5016)+SUMIF('2.aTë ardhura-jopublik-monetare'!$G$20:$G$1016,'2.bTë ardhura-jopublik-nënatyrë'!$G968,'2.aTë ardhura-jopublik-monetare'!$H$20:$H$1016)","v":0}]
[null,null,null,null,null,null,null,null,null,{"$f":"SUMIF($G$20:$G$5016,$G969,$H$20:$H$5016)+SUMIF('2.aTë ardhura-jopublik-monetare'!$G$20:$G$1016,'2.bTë ardhura-jopublik-nënatyrë'!$G969,'2.aTë ardhura-jopublik-monetare'!$H$20:$H$1016)","v":0}]
[null,null,null,null,null,null,null,null,null,{"$f":"SUMIF($G$20:$G$5016,$G970,$H$20:$H$5016)+SUMIF('2.aTë ardhura-jopublik-monetare'!$G$20:$G$1016,'2.bTë ardhura-jopublik-nënatyrë'!$G970,'2.aTë ardhura-jopublik-monetare'!$H$20:$H$1016)","v":0}]
[null,null,null,null,null,null,null,null,null,{"$f":"SUMIF($G$20:$G$5016,$G971,$H$20:$H$5016)+SUMIF('2.aTë ardhura-jopublik-monetare'!$G$20:$G$1016,'2.bTë ardhura-jopublik-nënatyrë'!$G971,'2.aTë ardhura-jopublik-monetare'!$H$20:$H$1016)","v":0}]
[null,null,null,null,null,null,null,null,null,{"$f":"SUMIF($G$20:$G$5016,$G972,$H$20:$H$5016)+SUMIF('2.aTë ardhura-jopublik-monetare'!$G$20:$G$1016,'2.bTë ardhura-jopublik-nënatyrë'!$G972,'2.aTë ardhura-jopublik-monetare'!$H$20:$H$1016)","v":0}]
[null,null,null,null,null,null,null,null,null,{"$f":"SUMIF($G$20:$G$5016,$G973,$H$20:$H$5016)+SUMIF('2.aTë ardhura-jopublik-monetare'!$G$20:$G$1016,'2.bTë ardhura-jopublik-nënatyrë'!$G973,'2.aTë ardhura-jopublik-monetare'!$H$20:$H$1016)","v":0}]
[null,null,null,null,null,null,null,null,null,{"$f":"SUMIF($G$20:$G$5016,$G974,$H$20:$H$5016)+SUMIF('2.aTë ardhura-jopublik-monetare'!$G$20:$G$1016,'2.bTë ardhura-jopublik-nënatyrë'!$G974,'2.aTë ardhura-jopublik-monetare'!$H$20:$H$1016)","v":0}]
[null,null,null,null,null,null,null,null,null,{"$f":"SUMIF($G$20:$G$5016,$G975,$H$20:$H$5016)+SUMIF('2.aTë ardhura-jopublik-monetare'!$G$20:$G$1016,'2.bTë ardhura-jopublik-nënatyrë'!$G975,'2.aTë ardhura-jopublik-monetare'!$H$20:$H$1016)","v":0}]
[null,null,null,null,null,null,null,null,null,{"$f":"SUMIF($G$20:$G$5016,$G976,$H$20:$H$5016)+SUMIF('2.aTë ardhura-jopublik-monetare'!$G$20:$G$1016,'2.bTë ardhura-jopublik-nënatyrë'!$G976,'2.aTë ardhura-jopublik-monetare'!$H$20:$H$1016)","v":0}]
[null,null,null,null,null,null,null,null,null,{"$f":"SUMIF($G$20:$G$5016,$G977,$H$20:$H$5016)+SUMIF('2.aTë ardhura-jopublik-monetare'!$G$20:$G$1016,'2.bTë ardhura-jopublik-nënatyrë'!$G977,'2.aTë ardhura-jopublik-monetare'!$H$20:$H$1016)","v":0}]
[null,null,null,null,null,null,null,null,null,{"$f":"SUMIF($G$20:$G$5016,$G978,$H$20:$H$5016)+SUMIF('2.aTë ardhura-jopublik-monetare'!$G$20:$G$1016,'2.bTë ardhura-jopublik-nënatyrë'!$G978,'2.aTë ardhura-jopublik-monetare'!$H$20:$H$1016)","v":0}]
[null,null,null,null,null,null,null,null,null,{"$f":"SUMIF($G$20:$G$5016,$G979,$H$20:$H$5016)+SUMIF('2.aTë ardhura-jopublik-monetare'!$G$20:$G$1016,'2.bTë ardhura-jopublik-nënatyrë'!$G979,'2.aTë ardhura-jopublik-monetare'!$H$20:$H$1016)","v":0}]
[null,null,null,null,null,null,null,null,null,{"$f":"SUMIF($G$20:$G$5016,$G980,$H$20:$H$5016)+SUMIF('2.aTë ardhura-jopublik-monetare'!$G$20:$G$1016,'2.bTë ardhura-jopublik-nënatyrë'!$G980,'2.aTë ardhura-jopublik-monetare'!$H$20:$H$1016)","v":0}]
[null,null,null,null,null,null,null,null,null,{"$f":"SUMIF($G$20:$G$5016,$G981,$H$20:$H$5016)+SUMIF('2.aTë ardhura-jopublik-monetare'!$G$20:$G$1016,'2.bTë ardhura-jopublik-nënatyrë'!$G981,'2.aTë ardhura-jopublik-monetare'!$H$20:$H$1016)","v":0}]
[null,null,null,null,null,null,null,null,null,{"$f":"SUMIF($G$20:$G$5016,$G982,$H$20:$H$5016)+SUMIF('2.aTë ardhura-jopublik-monetare'!$G$20:$G$1016,'2.bTë ardhura-jopublik-nënatyrë'!$G982,'2.aTë ardhura-jopublik-monetare'!$H$20:$H$1016)","v":0}]
[null,null,null,null,null,null,null,null,null,{"$f":"SUMIF($G$20:$G$5016,$G983,$H$20:$H$5016)+SUMIF('2.aTë ardhura-jopublik-monetare'!$G$20:$G$1016,'2.bTë ardhura-jopublik-nënatyrë'!$G983,'2.aTë ardhura-jopublik-monetare'!$H$20:$H$1016)","v":0}]
[null,null,null,null,null,null,null,null,null,{"$f":"SUMIF($G$20:$G$5016,$G984,$H$20:$H$5016)+SUMIF('2.aTë ardhura-jopublik-monetare'!$G$20:$G$1016,'2.bTë ardhura-jopublik-nënatyrë'!$G984,'2.aTë ardhura-jopublik-monetare'!$H$20:$H$1016)","v":0}]
[null,null,null,null,null,null,null,null,null,{"$f":"SUMIF($G$20:$G$5016,$G985,$H$20:$H$5016)+SUMIF('2.aTë ardhura-jopublik-monetare'!$G$20:$G$1016,'2.bTë ardhura-jopublik-nënatyrë'!$G985,'2.aTë ardhura-jopublik-monetare'!$H$20:$H$1016)","v":0}]
[null,null,null,null,null,null,null,null,null,{"$f":"SUMIF($G$20:$G$5016,$G986,$H$20:$H$5016)+SUMIF('2.aTë ardhura-jopublik-monetare'!$G$20:$G$1016,'2.bTë ardhura-jopublik-nënatyrë'!$G986,'2.aTë ardhura-jopublik-monetare'!$H$20:$H$1016)","v":0}]
[null,null,null,null,null,null,null,null,null,{"$f":"SUMIF($G$20:$G$5016,$G987,$H$20:$H$5016)+SUMIF('2.aTë ardhura-jopublik-monetare'!$G$20:$G$1016,'2.bTë ardhura-jopublik-nënatyrë'!$G987,'2.aTë ardhura-jopublik-monetare'!$H$20:$H$1016)","v":0}]
[null,null,null,null,null,null,null,null,null,{"$f":"SUMIF($G$20:$G$5016,$G988,$H$20:$H$5016)+SUMIF('2.aTë ardhura-jopublik-monetare'!$G$20:$G$1016,'2.bTë ardhura-jopublik-nënatyrë'!$G988,'2.aTë ardhura-jopublik-monetare'!$H$20:$H$1016)","v":0}]
[null,null,null,null,null,null,null,null,null,{"$f":"SUMIF($G$20:$G$5016,$G989,$H$20:$H$5016)+SUMIF('2.aTë ardhura-jopublik-monetare'!$G$20:$G$1016,'2.bTë ardhura-jopublik-nënatyrë'!$G989,'2.aTë ardhura-jopublik-monetare'!$H$20:$H$1016)","v":0}]
[null,null,null,null,null,null,null,null,null,{"$f":"SUMIF($G$20:$G$5016,$G990,$H$20:$H$5016)+SUMIF('2.aTë ardhura-jopublik-monetare'!$G$20:$G$1016,'2.bTë ardhura-jopublik-nënatyrë'!$G990,'2.aTë ardhura-jopublik-monetare'!$H$20:$H$1016)","v":0}]
[null,null,null,null,null,null,null,null,null,{"$f":"SUMIF($G$20:$G$5016,$G991,$H$20:$H$5016)+SUMIF('2.aTë ardhura-jopublik-monetare'!$G$20:$G$1016,'2.bTë ardhura-jopublik-nënatyrë'!$G991,'2.aTë ardhura-jopublik-monetare'!$H$20:$H$1016)","v":0}]
[null,null,null,null,null,null,null,null,null,{"$f":"SUMIF($G$20:$G$5016,$G992,$H$20:$H$5016)+SUMIF('2.aTë ardhura-jopublik-monetare'!$G$20:$G$1016,'2.bTë ardhura-jopublik-nënatyrë'!$G992,'2.aTë ardhura-jopublik-monetare'!$H$20:$H$1016)","v":0}]
[null,null,null,null,null,null,null,null,null,{"$f":"SUMIF($G$20:$G$5016,$G993,$H$20:$H$5016)+SUMIF('2.aTë ardhura-jopublik-monetare'!$G$20:$G$1016,'2.bTë ardhura-jopublik-nënatyrë'!$G993,'2.aTë ardhura-jopublik-monetare'!$H$20:$H$1016)","v":0}]
[null,null,null,null,null,null,null,null,null,{"$f":"SUMIF($G$20:$G$5016,$G994,$H$20:$H$5016)+SUMIF('2.aTë ardhura-jopublik-monetare'!$G$20:$G$1016,'2.bTë ardhura-jopublik-nënatyrë'!$G994,'2.aTë ardhura-jopublik-monetare'!$H$20:$H$1016)","v":0}]
[null,null,null,null,null,null,null,null,null,{"$f":"SUMIF($G$20:$G$5016,$G995,$H$20:$H$5016)+SUMIF('2.aTë ardhura-jopublik-monetare'!$G$20:$G$1016,'2.bTë ardhura-jopublik-nënatyrë'!$G995,'2.aTë ardhura-jopublik-monetare'!$H$20:$H$1016)","v":0}]
[null,null,null,null,null,null,null,null,null,{"$f":"SUMIF($G$20:$G$5016,$G996,$H$20:$H$5016)+SUMIF('2.aTë ardhura-jopublik-monetare'!$G$20:$G$1016,'2.bTë ardhura-jopublik-nënatyrë'!$G996,'2.aTë ardhura-jopublik-monetare'!$H$20:$H$1016)","v":0}]
[null,null,null,null,null,null,null,null,null,{"$f":"SUMIF($G$20:$G$5016,$G997,$H$20:$H$5016)+SUMIF('2.aTë ardhura-jopublik-monetare'!$G$20:$G$1016,'2.bTë ardhura-jopublik-nënatyrë'!$G997,'2.aTë ardhura-jopublik-monetare'!$H$20:$H$1016)","v":0}]
[null,null,null,null,null,null,null,null,null,{"$f":"SUMIF($G$20:$G$5016,$G998,$H$20:$H$5016)+SUMIF('2.aTë ardhura-jopublik-monetare'!$G$20:$G$1016,'2.bTë ardhura-jopublik-nënatyrë'!$G998,'2.aTë ardhura-jopublik-monetare'!$H$20:$H$1016)","v":0}]
[null,null,null,null,null,null,null,null,null,{"$f":"SUMIF($G$20:$G$5016,$G999,$H$20:$H$5016)+SUMIF('2.aTë ardhura-jopublik-monetare'!$G$20:$G$1016,'2.bTë ardhura-jopublik-nënatyrë'!$G999,'2.aTë ardhura-jopublik-monetare'!$H$20:$H$1016)","v":0}]
[null,null,null,null,null,null,null,null,null,{"$f":"SUMIF($G$20:$G$5016,$G1000,$H$20:$H$5016)+SUMIF('2.aTë ardhura-jopublik-monetare'!$G$20:$G$1016,'2.bTë ardhura-jopublik-nënatyrë'!$G1000,'2.aTë ardhura-jopublik-monetare'!$H$20:$H$1016)","v":0}]
[null,null,null,null,null,null,null,null,null,{"$f":"SUMIF($G$20:$G$5016,$G1001,$H$20:$H$5016)+SUMIF('2.aTë ardhura-jopublik-monetare'!$G$20:$G$1016,'2.bTë ardhura-jopublik-nënatyrë'!$G1001,'2.aTë ardhura-jopublik-monetare'!$H$20:$H$1016)","v":0}]
[null,null,null,null,null,null,null,null,null,{"$f":"SUMIF($G$20:$G$5016,$G1002,$H$20:$H$5016)+SUMIF('2.aTë ardhura-jopublik-monetare'!$G$20:$G$1016,'2.bTë ardhura-jopublik-nënatyrë'!$G1002,'2.aTë ardhura-jopublik-monetare'!$H$20:$H$1016)","v":0}]
[null,null,null,null,null,null,null,null,null,{"$f":"SUMIF($G$20:$G$5016,$G1003,$H$20:$H$5016)+SUMIF('2.aTë ardhura-jopublik-monetare'!$G$20:$G$1016,'2.bTë ardhura-jopublik-nënatyrë'!$G1003,'2.aTë ardhura-jopublik-monetare'!$H$20:$H$1016)","v":0}]
[null,null,null,null,null,null,null,null,null,{"$f":"SUMIF($G$20:$G$5016,$G1004,$H$20:$H$5016)+SUMIF('2.aTë ardhura-jopublik-monetare'!$G$20:$G$1016,'2.bTë ardhura-jopublik-nënatyrë'!$G1004,'2.aTë ardhura-jopublik-monetare'!$H$20:$H$1016)","v":0}]
[null,null,null,null,null,null,null,null,null,{"$f":"SUMIF($G$20:$G$5016,$G1005,$H$20:$H$5016)+SUMIF('2.aTë ardhura-jopublik-monetare'!$G$20:$G$1016,'2.bTë ardhura-jopublik-nënatyrë'!$G1005,'2.aTë ardhura-jopublik-monetare'!$H$20:$H$1016)","v":0}]
[null,null,null,null,null,null,null,null,null,{"$f":"SUMIF($G$20:$G$5016,$G1006,$H$20:$H$5016)+SUMIF('2.aTë ardhura-jopublik-monetare'!$G$20:$G$1016,'2.bTë ardhura-jopublik-nënatyrë'!$G1006,'2.aTë ardhura-jopublik-monetare'!$H$20:$H$1016)","v":0}]
[null,null,null,null,null,null,null,null,null,{"$f":"SUMIF($G$20:$G$5016,$G1007,$H$20:$H$5016)+SUMIF('2.aTë ardhura-jopublik-monetare'!$G$20:$G$1016,'2.bTë ardhura-jopublik-nënatyrë'!$G1007,'2.aTë ardhura-jopublik-monetare'!$H$20:$H$1016)","v":0}]
[null,null,null,null,null,null,null,null,null,{"$f":"SUMIF($G$20:$G$5016,$G1008,$H$20:$H$5016)+SUMIF('2.aTë ardhura-jopublik-monetare'!$G$20:$G$1016,'2.bTë ardhura-jopublik-nënatyrë'!$G1008,'2.aTë ardhura-jopublik-monetare'!$H$20:$H$1016)","v":0}]
[null,null,null,null,null,null,null,null,null,{"$f":"SUMIF($G$20:$G$5016,$G1009,$H$20:$H$5016)+SUMIF('2.aTë ardhura-jopublik-monetare'!$G$20:$G$1016,'2.bTë ardhura-jopublik-nënatyrë'!$G1009,'2.aTë ardhura-jopublik-monetare'!$H$20:$H$1016)","v":0}]
[null,null,null,null,null,null,null,null,null,{"$f":"SUMIF($G$20:$G$5016,$G1010,$H$20:$H$5016)+SUMIF('2.aTë ardhura-jopublik-monetare'!$G$20:$G$1016,'2.bTë ardhura-jopublik-nënatyrë'!$G1010,'2.aTë ardhura-jopublik-monetare'!$H$20:$H$1016)","v":0}]
[null,null,null,null,null,null,null,null,null,{"$f":"SUMIF($G$20:$G$5016,$G1011,$H$20:$H$5016)+SUMIF('2.aTë ardhura-jopublik-monetare'!$G$20:$G$1016,'2.bTë ardhura-jopublik-nënatyrë'!$G1011,'2.aTë ardhura-jopublik-monetare'!$H$20:$H$1016)","v":0}]
[null,null,null,null,null,null,null,null,null,{"$f":"SUMIF($G$20:$G$5016,$G1012,$H$20:$H$5016)+SUMIF('2.aTë ardhura-jopublik-monetare'!$G$20:$G$1016,'2.bTë ardhura-jopublik-nënatyrë'!$G1012,'2.aTë ardhura-jopublik-monetare'!$H$20:$H$1016)","v":0}]
[null,null,null,null,null,null,null,null,null,{"$f":"SUMIF($G$20:$G$5016,$G1013,$H$20:$H$5016)+SUMIF('2.aTë ardhura-jopublik-monetare'!$G$20:$G$1016,'2.bTë ardhura-jopublik-nënatyrë'!$G1013,'2.aTë ardhura-jopublik-monetare'!$H$20:$H$1016)","v":0}]
[null,null,null,null,null,null,null,null,null,{"$f":"SUMIF($G$20:$G$5016,$G1014,$H$20:$H$5016)+SUMIF('2.aTë ardhura-jopublik-monetare'!$G$20:$G$1016,'2.bTë ardhura-jopublik-nënatyrë'!$G1014,'2.aTë ardhura-jopublik-monetare'!$H$20:$H$1016)","v":0}]
[null,null,null,null,null,null,null,null,null,{"$f":"SUMIF($G$20:$G$5016,$G1015,$H$20:$H$5016)+SUMIF('2.aTë ardhura-jopublik-monetare'!$G$20:$G$1016,'2.bTë ardhura-jopublik-nënatyrë'!$G1015,'2.aTë ardhura-jopublik-monetare'!$H$20:$H$1016)","v":0}]
[null,null,null,null,null,null,null,null,null,{"$f":"SUMIF($G$20:$G$5016,$G1016,$H$20:$H$5016)+SUMIF('2.aTë ardhura-jopublik-monetare'!$G$20:$G$1016,'2.bTë ardhura-jopublik-nënatyrë'!$G1016,'2.aTë ardhura-jopublik-monetare'!$H$20:$H$1016)","v":0}]

{"sheet":"2.c. Të ardhura - Kreditë","index":4,"n_rows":63,"n_cols":12,"rows_kept":63,"cut":false,"hidden":false,"merged":[[15,0,15,2],[17,9,17,11],[14,5,14,6],[15,5,15,6],[16,5,16,6],[17,5,17,6]]}
[]
[]
[]
[]
[]
[]
[]
[null,null,null,null,"REPUBLIKA E SHQIPËRISË\n"]
[null,null,null,null,"KOMISIONI QENDROR I ZGJEDHJEVE"]
[]
[null,"Emri i Partisë Politike",null,null,null,"Shkronjat Nistore"]
[]
[null,"Emri I Kandidatit",null,null,null,"Bashkia"]
[]
["2.c Huatë dhe Kreditë"]
[{"$f":"\"Ju lutemi konfirmoni nëse nuk keni gjë për të raportuar \"&A15","v":"Ju lutemi konfirmoni nëse nuk keni gjë për të raportuar 2.c Huatë dhe Kreditë"}]
[]
[null,null,null,null,null,"Data e firmosjes:",null,null,null,"Termat"]
["A. Emri i Huadhënësit","B. Statusi i huadhënësit","C. Adresa e huadhënësit (rreshti 1)","D. Adresa e huadhënësit (rreshti 2)","E. Kodi postar i huadhënësit","F. Numri i identifikimit i huadhënësit","G. Numri i referencës së huasë/kredisë","H. Shuma e huasë/limiti i kredisë","I. Data e fillimit të huasë/kredisë","J. Norma e interesit","K. Data e shlyerjes","L. Kolaterali i ofruar"]
[]
[]
[]
[]
[]
[]
[]
[]
[]
[]
[]
[]
[]
[]
[]
[]
[]
[]
[]
[]
[]
[]
[]
[]
[]
[]
[]
[]
[]
[]
[]
[]
[]
[]
[]
[]
[]
[]
[]
[]
[null,null,null,"FINANCIERI",null,null,null,"APROVUESI"]
[]
[]
[null,null,null,"Emër Mbiemër Firmë",null,null,null,"Emër Mbiemër Firmë"]

{"sheet":"3. Shpenzimet","index":5,"n_rows":553,"n_cols":15,"rows_kept":553,"cut":false,"hidden":false,"merged":[[15,8,15,9],[19,13,19,14],[16,2,16,4],[16,5,16,6],[16,8,16,9],[17,8,17,9],[18,8,18,9]]}
[]
[]
[]
[]
[]
[]
[]
[]
[null,null,null,null,null,null,"REPUBLIKA E SHQIPËRISË\n"]
[null,null,null,null,null,null,"KOMISIONI QENDROR I ZGJEDHJEVE"]
[]
[null,null,null,"Emri i Partisë Politike",null,null,null,"Shkronjat Nistore"]
[]
[null,null,null,"Emri I Kandidatit",null,null,null,"Bashkia"]
[]
[null,null,"3. Shpenzime"]
[null,null,{"$f":"\"Ju lutemi konfirmoni nëse nuk keni gjë për të raportuar \"&C16","v":"Ju lutemi konfirmoni nëse nuk keni gjë për të raportuar 3. Shpenzime"}]
[]
[]
[null,null,null,null,null,null,null,null,null,null,null,"Shpenzimet e zyrës elektorale","Materiale promocionale/Media Sociale/Sondazhe/Publikime dhe reklama/Transport/Reklamime në natyrë/Konsulencë","Media"]
["RallyNumber","RallyName","A. Kategoria e shpenzimeve","B. Shitësi/furnizuesi","C. Nr identifikimit të faturës","D. Data e faturës","E. Data e pagesës","F. Shuma e paguar","G. Shuma e papaguar (nëse ka)","H. Metoda e kryerjes së pagesës","I. Shpjegimi","J. Sipas bashkive","K. Pershkrimi","L. Lloji i medias","M. Pershkrimi"]
[{"$f":"IF(B22=\"\",\"\",MAX(A$21:A21)+1)","v":""},{"$f":"IF($C22=Referenca!$J$3,CONCATENATE('3. Shpenzimet'!#REF!,\"-\",'3. Shpenzimet'!#REF!,\"-\",TEXT('3. Shpenzimet'!#REF!,\"dd/mm/yyyy\")),\"\")","v":""}]
[{"$f":"IF(B23=\"\",\"\",MAX(A$21:A22)+1)","v":""},{"$f":"IF($C23=Referenca!$J$3,CONCATENATE('3. Shpenzimet'!#REF!,\"-\",'3. Shpenzimet'!#REF!,\"-\",TEXT('3. Shpenzimet'!#REF!,\"dd/mm/yyyy\")),\"\")","v":""}]
[{"$f":"IF(B24=\"\",\"\",MAX(A$21:A23)+1)","v":""},{"$f":"IF($C24=Referenca!$J$3,CONCATENATE('3. Shpenzimet'!#REF!,\"-\",'3. Shpenzimet'!#REF!,\"-\",TEXT('3. Shpenzimet'!#REF!,\"dd/mm/yyyy\")),\"\")","v":""}]
[{"$f":"IF(B25=\"\",\"\",MAX(A$21:A24)+1)","v":""},{"$f":"IF($C25=Referenca!$J$3,CONCATENATE('3. Shpenzimet'!#REF!,\"-\",'3. Shpenzimet'!#REF!,\"-\",TEXT('3. Shpenzimet'!#REF!,\"dd/mm/yyyy\")),\"\")","v":""}]
[{"$f":"IF(B26=\"\",\"\",MAX(A$21:A25)+1)","v":""},{"$f":"IF($C26=Referenca!$J$3,CONCATENATE('3. Shpenzimet'!#REF!,\"-\",'3. Shpenzimet'!#REF!,\"-\",TEXT('3. Shpenzimet'!#REF!,\"dd/mm/yyyy\")),\"\")","v":""}]
[{"$f":"IF(B27=\"\",\"\",MAX(A$21:A26)+1)","v":""},{"$f":"IF($C27=Referenca!$J$3,CONCATENATE('3. Shpenzimet'!#REF!,\"-\",'3. Shpenzimet'!#REF!,\"-\",TEXT('3. Shpenzimet'!#REF!,\"dd/mm/yyyy\")),\"\")","v":""}]
[{"$f":"IF(B28=\"\",\"\",MAX(A$21:A27)+1)","v":""},{"$f":"IF($C28=Referenca!$J$3,CONCATENATE('3. Shpenzimet'!#REF!,\"-\",'3. Shpenzimet'!#REF!,\"-\",TEXT('3. Shpenzimet'!#REF!,\"dd/mm/yyyy\")),\"\")","v":""}]
[{"$f":"IF(B29=\"\",\"\",MAX(A$21:A28)+1)","v":""},{"$f":"IF($C29=Referenca!$J$3,CONCATENATE('3. Shpenzimet'!#REF!,\"-\",'3. Shpenzimet'!#REF!,\"-\",TEXT('3. Shpenzimet'!#REF!,\"dd/mm/yyyy\")),\"\")","v":""}]
[{"$f":"IF(B30=\"\",\"\",MAX(A$21:A29)+1)","v":""},{"$f":"IF($C30=Referenca!$J$3,CONCATENATE('3. Shpenzimet'!#REF!,\"-\",'3. Shpenzimet'!#REF!,\"-\",TEXT('3. Shpenzimet'!#REF!,\"dd/mm/yyyy\")),\"\")","v":""}]
[{"$f":"IF(B31=\"\",\"\",MAX(A$21:A30)+1)","v":""},{"$f":"IF($C31=Referenca!$J$3,CONCATENATE('3. Shpenzimet'!#REF!,\"-\",'3. Shpenzimet'!#REF!,\"-\",TEXT('3. Shpenzimet'!#REF!,\"dd/mm/yyyy\")),\"\")","v":""}]
[{"$f":"IF(B32=\"\",\"\",MAX(A$21:A31)+1)","v":""},{"$f":"IF($C32=Referenca!$J$3,CONCATENATE('3. Shpenzimet'!#REF!,\"-\",'3. Shpenzimet'!#REF!,\"-\",TEXT('3. Shpenzimet'!#REF!,\"dd/mm/yyyy\")),\"\")","v":""}]
[{"$f":"IF(B33=\"\",\"\",MAX(A$21:A32)+1)","v":""},{"$f":"IF($C33=Referenca!$J$3,CONCATENATE('3. Shpenzimet'!#REF!,\"-\",'3. Shpenzimet'!#REF!,\"-\",TEXT('3. Shpenzimet'!#REF!,\"dd/mm/yyyy\")),\"\")","v":""}]
[{"$f":"IF(B34=\"\",\"\",MAX(A$21:A33)+1)","v":""},{"$f":"IF($C34=Referenca!$J$3,CONCATENATE('3. Shpenzimet'!#REF!,\"-\",'3. Shpenzimet'!#REF!,\"-\",TEXT('3. Shpenzimet'!#REF!,\"dd/mm/yyyy\")),\"\")","v":""}]
[{"$f":"IF(B35=\"\",\"\",MAX(A$21:A34)+1)","v":""},{"$f":"IF($C35=Referenca!$J$3,CONCATENATE('3. Shpenzimet'!#REF!,\"-\",'3. Shpenzimet'!#REF!,\"-\",TEXT('3. Shpenzimet'!#REF!,\"dd/mm/yyyy\")),\"\")","v":""}]
[{"$f":"IF(B36=\"\",\"\",MAX(A$21:A35)+1)","v":""},{"$f":"IF($C36=Referenca!$J$3,CONCATENATE('3. Shpenzimet'!#REF!,\"-\",'3. Shpenzimet'!#REF!,\"-\",TEXT('3. Shpenzimet'!#REF!,\"dd/mm/yyyy\")),\"\")","v":""}]
[{"$f":"IF(B37=\"\",\"\",MAX(A$21:A36)+1)","v":""},{"$f":"IF($C37=Referenca!$J$3,CONCATENATE('3. Shpenzimet'!#REF!,\"-\",'3. Shpenzimet'!#REF!,\"-\",TEXT('3. Shpenzimet'!#REF!,\"dd/mm/yyyy\")),\"\")","v":""}]
[{"$f":"IF(B38=\"\",\"\",MAX(A$21:A37)+1)","v":""},{"$f":"IF($C38=Referenca!$J$3,CONCATENATE('3. Shpenzimet'!#REF!,\"-\",'3. Shpenzimet'!#REF!,\"-\",TEXT('3. Shpenzimet'!#REF!,\"dd/mm/yyyy\")),\"\")","v":""}]
[{"$f":"IF(B39=\"\",\"\",MAX(A$21:A38)+1)","v":""},{"$f":"IF($C39=Referenca!$J$3,CONCATENATE('3. Shpenzimet'!#REF!,\"-\",'3. Shpenzimet'!#REF!,\"-\",TEXT('3. Shpenzimet'!#REF!,\"dd/mm/yyyy\")),\"\")","v":""}]
[{"$f":"IF(B40=\"\",\"\",MAX(A$21:A39)+1)","v":""},{"$f":"IF($C40=Referenca!$J$3,CONCATENATE('3. Shpenzimet'!#REF!,\"-\",'3. Shpenzimet'!#REF!,\"-\",TEXT('3. Shpenzimet'!#REF!,\"dd/mm/yyyy\")),\"\")","v":""}]
[{"$f":"IF(B41=\"\",\"\",MAX(A$21:A40)+1)","v":""},{"$f":"IF($C41=Referenca!$J$3,CONCATENATE('3. Shpenzimet'!#REF!,\"-\",'3. Shpenzimet'!#REF!,\"-\",TEXT('3. Shpenzimet'!#REF!,\"dd/mm/yyyy\")),\"\")","v":""}]
[{"$f":"IF(B42=\"\",\"\",MAX(A$21:A41)+1)","v":""},{"$f":"IF($C42=Referenca!$J$3,CONCATENATE('3. Shpenzimet'!#REF!,\"-\",'3. Shpenzimet'!#REF!,\"-\",TEXT('3. Shpenzimet'!#REF!,\"dd/mm/yyyy\")),\"\")","v":""}]
[{"$f":"IF(B43=\"\",\"\",MAX(A$21:A42)+1)","v":""},{"$f":"IF($C43=Referenca!$J$3,CONCATENATE('3. Shpenzimet'!#REF!,\"-\",'3. Shpenzimet'!#REF!,\"-\",TEXT('3. Shpenzimet'!#REF!,\"dd/mm/yyyy\")),\"\")","v":""}]
[{"$f":"IF(B44=\"\",\"\",MAX(A$21:A43)+1)","v":""},{"$f":"IF($C44=Referenca!$J$3,CONCATENATE('3. Shpenzimet'!#REF!,\"-\",'3. Shpenzimet'!#REF!,\"-\",TEXT('3. Shpenzimet'!#REF!,\"dd/mm/yyyy\")),\"\")","v":""}]
[{"$f":"IF(B45=\"\",\"\",MAX(A$21:A44)+1)","v":""},{"$f":"IF($C45=Referenca!$J$3,CONCATENATE('3. Shpenzimet'!#REF!,\"-\",'3. Shpenzimet'!#REF!,\"-\",TEXT('3. Shpenzimet'!#REF!,\"dd/mm/yyyy\")),\"\")","v":""}]
[{"$f":"IF(B46=\"\",\"\",MAX(A$21:A45)+1)","v":""},{"$f":"IF($C46=Referenca!$J$3,CONCATENATE('3. Shpenzimet'!#REF!,\"-\",'3. Shpenzimet'!#REF!,\"-\",TEXT('3. Shpenzimet'!#REF!,\"dd/mm/yyyy\")),\"\")","v":""}]
[{"$f":"IF(B47=\"\",\"\",MAX(A$21:A46)+1)","v":""},{"$f":"IF($C47=Referenca!$J$3,CONCATENATE('3. Shpenzimet'!#REF!,\"-\",'3. Shpenzimet'!#REF!,\"-\",TEXT('3. Shpenzimet'!#REF!,\"dd/mm/yyyy\")),\"\")","v":""}]
[{"$f":"IF(B48=\"\",\"\",MAX(A$21:A47)+1)","v":""},{"$f":"IF($C48=Referenca!$J$3,CONCATENATE('3. Shpenzimet'!#REF!,\"-\",'3. Shpenzimet'!#REF!,\"-\",TEXT('3. Shpenzimet'!#REF!,\"dd/mm/yyyy\")),\"\")","v":""}]
[{"$f":"IF(B49=\"\",\"\",MAX(A$21:A48)+1)","v":""},{"$f":"IF($C49=Referenca!$J$3,CONCATENATE('3. Shpenzimet'!#REF!,\"-\",'3. Shpenzimet'!#REF!,\"-\",TEXT('3. Shpenzimet'!#REF!,\"dd/mm/yyyy\")),\"\")","v":""}]
[{"$f":"IF(B50=\"\",\"\",MAX(A$21:A49)+1)","v":""},{"$f":"IF($C50=Referenca!$J$3,CONCATENATE('3. Shpenzimet'!#REF!,\"-\",'3. Shpenzimet'!#REF!,\"-\",TEXT('3. Shpenzimet'!#REF!,\"dd/mm/yyyy\")),\"\")","v":""}]
[{"$f":"IF(B51=\"\",\"\",MAX(A$21:A50)+1)","v":""},{"$f":"IF($C51=Referenca!$J$3,CONCATENATE('3. Shpenzimet'!#REF!,\"-\",'3. Shpenzimet'!#REF!,\"-\",TEXT('3. Shpenzimet'!#REF!,\"dd/mm/yyyy\")),\"\")","v":""}]
[{"$f":"IF(B52=\"\",\"\",MAX(A$21:A51)+1)","v":""},{"$f":"IF($C52=Referenca!$J$3,CONCATENATE('3. Shpenzimet'!#REF!,\"-\",'3. Shpenzimet'!#REF!,\"-\",TEXT('3. Shpenzimet'!#REF!,\"dd/mm/yyyy\")),\"\")","v":""}]
[{"$f":"IF(B53=\"\",\"\",MAX(A$21:A52)+1)","v":""},{"$f":"IF($C53=Referenca!$J$3,CONCATENATE('3. Shpenzimet'!#REF!,\"-\",'3. Shpenzimet'!#REF!,\"-\",TEXT('3. Shpenzimet'!#REF!,\"dd/mm/yyyy\")),\"\")","v":""}]
[{"$f":"IF(B54=\"\",\"\",MAX(A$21:A53)+1)","v":""},{"$f":"IF($C54=Referenca!$J$3,CONCATENATE('3. Shpenzimet'!#REF!,\"-\",'3. Shpenzimet'!#REF!,\"-\",TEXT('3. Shpenzimet'!#REF!,\"dd/mm/yyyy\")),\"\")","v":""}]
[{"$f":"IF(B55=\"\",\"\",MAX(A$21:A54)+1)","v":""},{"$f":"IF($C55=Referenca!$J$3,CONCATENATE('3. Shpenzimet'!#REF!,\"-\",'3. Shpenzimet'!#REF!,\"-\",TEXT('3. Shpenzimet'!#REF!,\"dd/mm/yyyy\")),\"\")","v":""}]
[{"$f":"IF(B56=\"\",\"\",MAX(A$21:A55)+1)","v":""},{"$f":"IF($C56=Referenca!$J$3,CONCATENATE('3. Shpenzimet'!#REF!,\"-\",'3. Shpenzimet'!#REF!,\"-\",TEXT('3. Shpenzimet'!#REF!,\"dd/mm/yyyy\")),\"\")","v":""}]
[{"$f":"IF(B57=\"\",\"\",MAX(A$21:A56)+1)","v":""},{"$f":"IF($C57=Referenca!$J$3,CONCATENATE('3. Shpenzimet'!#REF!,\"-\",'3. Shpenzimet'!#REF!,\"-\",TEXT('3. Shpenzimet'!#REF!,\"dd/mm/yyyy\")),\"\")","v":""}]
[{"$f":"IF(B58=\"\",\"\",MAX(A$21:A57)+1)","v":""},{"$f":"IF($C58=Referenca!$J$3,CONCATENATE('3. Shpenzimet'!#REF!,\"-\",'3. Shpenzimet'!#REF!,\"-\",TEXT('3. Shpenzimet'!#REF!,\"dd/mm/yyyy\")),\"\")","v":""}]
[{"$f":"IF(B59=\"\",\"\",MAX(A$21:A58)+1)","v":""},{"$f":"IF($C59=Referenca!$J$3,CONCATENATE('3. Shpenzimet'!#REF!,\"-\",'3. Shpenzimet'!#REF!,\"-\",TEXT('3. Shpenzimet'!#REF!,\"dd/mm/yyyy\")),\"\")","v":""}]
[{"$f":"IF(B60=\"\",\"\",MAX(A$21:A59)+1)","v":""},{"$f":"IF($C60=Referenca!$J$3,CONCATENATE('3. Shpenzimet'!#REF!,\"-\",'3. Shpenzimet'!#REF!,\"-\",TEXT('3. Shpenzimet'!#REF!,\"dd/mm/yyyy\")),\"\")","v":""}]
[{"$f":"IF(B61=\"\",\"\",MAX(A$21:A60)+1)","v":""},{"$f":"IF($C61=Referenca!$J$3,CONCATENATE('3. Shpenzimet'!#REF!,\"-\",'3. Shpenzimet'!#REF!,\"-\",TEXT('3. Shpenzimet'!#REF!,\"dd/mm/yyyy\")),\"\")","v":""},null,null,null,"FINANCIERI",null,null,null,"APROVUESI"]
[{"$f":"IF(B62=\"\",\"\",MAX(A$21:A61)+1)","v":""},{"$f":"IF($C62=Referenca!$J$3,CONCATENATE('3. Shpenzimet'!#REF!,\"-\",'3. Shpenzimet'!#REF!,\"-\",TEXT('3. Shpenzimet'!#REF!,\"dd/mm/yyyy\")),\"\")","v":""}]
[{"$f":"IF(B63=\"\",\"\",MAX(A$21:A62)+1)","v":""},{"$f":"IF($C63=Referenca!$J$3,CONCATENATE('3. Shpenzimet'!#REF!,\"-\",'3. Shpenzimet'!#REF!,\"-\",TEXT('3. Shpenzimet'!#REF!,\"dd/mm/yyyy\")),\"\")","v":""}]
[{"$f":"IF(B64=\"\",\"\",MAX(A$21:A63)+1)","v":""},{"$f":"IF($C64=Referenca!$J$3,CONCATENATE('3. Shpenzimet'!#REF!,\"-\",'3. Shpenzimet'!#REF!,\"-\",TEXT('3. Shpenzimet'!#REF!,\"dd/mm/yyyy\")),\"\")","v":""},null,null,null,"Emër Mbiemër Firmë",null,null,null,"Emër Mbiemër Firmë"]
[{"$f":"IF(B65=\"\",\"\",MAX(A$21:A64)+1)","v":""},{"$f":"IF($C65=Referenca!$J$3,CONCATENATE('3. Shpenzimet'!#REF!,\"-\",'3. Shpenzimet'!#REF!,\"-\",TEXT('3. Shpenzimet'!#REF!,\"dd/mm/yyyy\")),\"\")","v":""}]
[{"$f":"IF(B66=\"\",\"\",MAX(A$21:A65)+1)","v":""},{"$f":"IF($C66=Referenca!$J$3,CONCATENATE('3. Shpenzimet'!#REF!,\"-\",'3. Shpenzimet'!#REF!,\"-\",TEXT('3. Shpenzimet'!#REF!,\"dd/mm/yyyy\")),\"\")","v":""}]
[{"$f":"IF(B67=\"\",\"\",MAX(A$21:A66)+1)","v":""},{"$f":"IF($C67=Referenca!$J$3,CONCATENATE('3. Shpenzimet'!#REF!,\"-\",'3. Shpenzimet'!#REF!,\"-\",TEXT('3. Shpenzimet'!#REF!,\"dd/mm/yyyy\")),\"\")","v":""}]
[{"$f":"IF(B68=\"\",\"\",MAX(A$21:A67)+1)","v":""},{"$f":"IF($C68=Referenca!$J$3,CONCATENATE('3. Shpenzimet'!#REF!,\"-\",'3. Shpenzimet'!#REF!,\"-\",TEXT('3. Shpenzimet'!#REF!,\"dd/mm/yyyy\")),\"\")","v":""}]
[{"$f":"IF(B69=\"\",\"\",MAX(A$21:A68)+1)","v":""},{"$f":"IF($C69=Referenca!$J$3,CONCATENATE('3. Shpenzimet'!#REF!,\"-\",'3. Shpenzimet'!#REF!,\"-\",TEXT('3. Shpenzimet'!#REF!,\"dd/mm/yyyy\")),\"\")","v":""}]
[{"$f":"IF(B70=\"\",\"\",MAX(A$21:A69)+1)","v":""},{"$f":"IF($C70=Referenca!$J$3,CONCATENATE('3. Shpenzimet'!#REF!,\"-\",'3. Shpenzimet'!#REF!,\"-\",TEXT('3. Shpenzimet'!#REF!,\"dd/mm/yyyy\")),\"\")","v":""}]
[{"$f":"IF(B71=\"\",\"\",MAX(A$21:A70)+1)","v":""},{"$f":"IF($C71=Referenca!$J$3,CONCATENATE('3. Shpenzimet'!#REF!,\"-\",'3. Shpenzimet'!#REF!,\"-\",TEXT('3. Shpenzimet'!#REF!,\"dd/mm/yyyy\")),\"\")","v":""}]
[{"$f":"IF(B72=\"\",\"\",MAX(A$21:A71)+1)","v":""},{"$f":"IF($C72=Referenca!$J$3,CONCATENATE('3. Shpenzimet'!#REF!,\"-\",'3. Shpenzimet'!#REF!,\"-\",TEXT('3. Shpenzimet'!#REF!,\"dd/mm/yyyy\")),\"\")","v":""}]
[{"$f":"IF(B73=\"\",\"\",MAX(A$21:A72)+1)","v":""},{"$f":"IF($C73=Referenca!$J$3,CONCATENATE('3. Shpenzimet'!#REF!,\"-\",'3. Shpenzimet'!#REF!,\"-\",TEXT('3. Shpenzimet'!#REF!,\"dd/mm/yyyy\")),\"\")","v":""}]
[{"$f":"IF(B74=\"\",\"\",MAX(A$21:A73)+1)","v":""},{"$f":"IF($C74=Referenca!$J$3,CONCATENATE('3. Shpenzimet'!#REF!,\"-\",'3. Shpenzimet'!#REF!,\"-\",TEXT('3. Shpenzimet'!#REF!,\"dd/mm/yyyy\")),\"\")","v":""}]
[{"$f":"IF(B75=\"\",\"\",MAX(A$21:A74)+1)","v":""},{"$f":"IF($C75=Referenca!$J$3,CONCATENATE('3. Shpenzimet'!#REF!,\"-\",'3. Shpenzimet'!#REF!,\"-\",TEXT('3. Shpenzimet'!#REF!,\"dd/mm/yyyy\")),\"\")","v":""}]
[{"$f":"IF(B76=\"\",\"\",MAX(A$21:A75)+1)","v":""},{"$f":"IF($C76=Referenca!$J$3,CONCATENATE('3. Shpenzimet'!#REF!,\"-\",'3. Shpenzimet'!#REF!,\"-\",TEXT('3. Shpenzimet'!#REF!,\"dd/mm/yyyy\")),\"\")","v":""}]
[{"$f":"IF(B77=\"\",\"\",MAX(A$21:A76)+1)","v":""},{"$f":"IF($C77=Referenca!$J$3,CONCATENATE('3. Shpenzimet'!#REF!,\"-\",'3. Shpenzimet'!#REF!,\"-\",TEXT('3. Shpenzimet'!#REF!,\"dd/mm/yyyy\")),\"\")","v":""}]
[{"$f":"IF(B78=\"\",\"\",MAX(A$21:A77)+1)","v":""},{"$f":"IF($C78=Referenca!$J$3,CONCATENATE('3. Shpenzimet'!#REF!,\"-\",'3. Shpenzimet'!#REF!,\"-\",TEXT('3. Shpenzimet'!#REF!,\"dd/mm/yyyy\")),\"\")","v":""}]
[{"$f":"IF(B79=\"\",\"\",MAX(A$21:A78)+1)","v":""},{"$f":"IF($C79=Referenca!$J$3,CONCATENATE('3. Shpenzimet'!#REF!,\"-\",'3. Shpenzimet'!#REF!,\"-\",TEXT('3. Shpenzimet'!#REF!,\"dd/mm/yyyy\")),\"\")","v":""}]
[{"$f":"IF(B80=\"\",\"\",MAX(A$21:A79)+1)","v":""},{"$f":"IF($C80=Referenca!$J$3,CONCATENATE('3. Shpenzimet'!#REF!,\"-\",'3. Shpenzimet'!#REF!,\"-\",TEXT('3. Shpenzimet'!#REF!,\"dd/mm/yyyy\")),\"\")","v":""}]
[{"$f":"IF(B81=\"\",\"\",MAX(A$21:A80)+1)","v":""},{"$f":"IF($C81=Referenca!$J$3,CONCATENATE('3. Shpenzimet'!#REF!,\"-\",'3. Shpenzimet'!#REF!,\"-\",TEXT('3. Shpenzimet'!#REF!,\"dd/mm/yyyy\")),\"\")","v":""}]
[{"$f":"IF(B82=\"\",\"\",MAX(A$21:A81)+1)","v":""},{"$f":"IF($C82=Referenca!$J$3,CONCATENATE('3. Shpenzimet'!#REF!,\"-\",'3. Shpenzimet'!#REF!,\"-\",TEXT('3. Shpenzimet'!#REF!,\"dd/mm/yyyy\")),\"\")","v":""}]
[{"$f":"IF(B83=\"\",\"\",MAX(A$21:A82)+1)","v":""},{"$f":"IF($C83=Referenca!$J$3,CONCATENATE('3. Shpenzimet'!#REF!,\"-\",'3. Shpenzimet'!#REF!,\"-\",TEXT('3. Shpenzimet'!#REF!,\"dd/mm/yyyy\")),\"\")","v":""}]
[{"$f":"IF(B84=\"\",\"\",MAX(A$21:A83)+1)","v":""},{"$f":"IF($C84=Referenca!$J$3,CONCATENATE('3. Shpenzimet'!#REF!,\"-\",'3. Shpenzimet'!#REF!,\"-\",TEXT('3. Shpenzimet'!#REF!,\"dd/mm/yyyy\")),\"\")","v":""}]
[{"$f":"IF(B85=\"\",\"\",MAX(A$21:A84)+1)","v":""},{"$f":"IF($C85=Referenca!$J$3,CONCATENATE('3. Shpenzimet'!#REF!,\"-\",'3. Shpenzimet'!#REF!,\"-\",TEXT('3. Shpenzimet'!#REF!,\"dd/mm/yyyy\")),\"\")","v":""}]
[{"$f":"IF(B86=\"\",\"\",MAX(A$21:A85)+1)","v":""},{"$f":"IF($C86=Referenca!$J$3,CONCATENATE('3. Shpenzimet'!#REF!,\"-\",'3. Shpenzimet'!#REF!,\"-\",TEXT('3. Shpenzimet'!#REF!,\"dd/mm/yyyy\")),\"\")","v":""}]
[{"$f":"IF(B87=\"\",\"\",MAX(A$21:A86)+1)","v":""},{"$f":"IF($C87=Referenca!$J$3,CONCATENATE('3. Shpenzimet'!#REF!,\"-\",'3. Shpenzimet'!#REF!,\"-\",TEXT('3. Shpenzimet'!#REF!,\"dd/mm/yyyy\")),\"\")","v":""}]
[{"$f":"IF(B88=\"\",\"\",MAX(A$21:A87)+1)","v":""},{"$f":"IF($C88=Referenca!$J$3,CONCATENATE('3. Shpenzimet'!#REF!,\"-\",'3. Shpenzimet'!#REF!,\"-\",TEXT('3. Shpenzimet'!#REF!,\"dd/mm/yyyy\")),\"\")","v":""}]
[{"$f":"IF(B89=\"\",\"\",MAX(A$21:A88)+1)","v":""},{"$f":"IF($C89=Referenca!$J$3,CONCATENATE('3. Shpenzimet'!#REF!,\"-\",'3. Shpenzimet'!#REF!,\"-\",TEXT('3. Shpenzimet'!#REF!,\"dd/mm/yyyy\")),\"\")","v":""}]
[{"$f":"IF(B90=\"\",\"\",MAX(A$21:A89)+1)","v":""},{"$f":"IF($C90=Referenca!$J$3,CONCATENATE('3. Shpenzimet'!#REF!,\"-\",'3. Shpenzimet'!#REF!,\"-\",TEXT('3. Shpenzimet'!#REF!,\"dd/mm/yyyy\")),\"\")","v":""}]
[{"$f":"IF(B91=\"\",\"\",MAX(A$21:A90)+1)","v":""},{"$f":"IF($C91=Referenca!$J$3,CONCATENATE('3. Shpenzimet'!#REF!,\"-\",'3. Shpenzimet'!#REF!,\"-\",TEXT('3. Shpenzimet'!#REF!,\"dd/mm/yyyy\")),\"\")","v":""}]
[{"$f":"IF(B92=\"\",\"\",MAX(A$21:A91)+1)","v":""},{"$f":"IF($C92=Referenca!$J$3,CONCATENATE('3. Shpenzimet'!#REF!,\"-\",'3. Shpenzimet'!#REF!,\"-\",TEXT('3. Shpenzimet'!#REF!,\"dd/mm/yyyy\")),\"\")","v":""}]
[{"$f":"IF(B93=\"\",\"\",MAX(A$21:A92)+1)","v":""},{"$f":"IF($C93=Referenca!$J$3,CONCATENATE('3. Shpenzimet'!#REF!,\"-\",'3. Shpenzimet'!#REF!,\"-\",TEXT('3. Shpenzimet'!#REF!,\"dd/mm/yyyy\")),\"\")","v":""}]
[{"$f":"IF(B94=\"\",\"\",MAX(A$21:A93)+1)","v":""},{"$f":"IF($C94=Referenca!$J$3,CONCATENATE('3. Shpenzimet'!#REF!,\"-\",'3. Shpenzimet'!#REF!,\"-\",TEXT('3. Shpenzimet'!#REF!,\"dd/mm/yyyy\")),\"\")","v":""}]
[{"$f":"IF(B95=\"\",\"\",MAX(A$21:A94)+1)","v":""},{"$f":"IF($C95=Referenca!$J$3,CONCATENATE('3. Shpenzimet'!#REF!,\"-\",'3. Shpenzimet'!#REF!,\"-\",TEXT('3. Shpenzimet'!#REF!,\"dd/mm/yyyy\")),\"\")","v":""}]
[{"$f":"IF(B96=\"\",\"\",MAX(A$21:A95)+1)","v":""},{"$f":"IF($C96=Referenca!$J$3,CONCATENATE('3. Shpenzimet'!#REF!,\"-\",'3. Shpenzimet'!#REF!,\"-\",TEXT('3. Shpenzimet'!#REF!,\"dd/mm/yyyy\")),\"\")","v":""}]
[{"$f":"IF(B97=\"\",\"\",MAX(A$21:A96)+1)","v":""},{"$f":"IF($C97=Referenca!$J$3,CONCATENATE('3. Shpenzimet'!#REF!,\"-\",'3. Shpenzimet'!#REF!,\"-\",TEXT('3. Shpenzimet'!#REF!,\"dd/mm/yyyy\")),\"\")","v":""}]
[{"$f":"IF(B98=\"\",\"\",MAX(A$21:A97)+1)","v":""},{"$f":"IF($C98=Referenca!$J$3,CONCATENATE('3. Shpenzimet'!#REF!,\"-\",'3. Shpenzimet'!#REF!,\"-\",TEXT('3. Shpenzimet'!#REF!,\"dd/mm/yyyy\")),\"\")","v":""}]
[{"$f":"IF(B99=\"\",\"\",MAX(A$21:A98)+1)","v":""},{"$f":"IF($C99=Referenca!$J$3,CONCATENATE('3. Shpenzimet'!#REF!,\"-\",'3. Shpenzimet'!#REF!,\"-\",TEXT('3. Shpenzimet'!#REF!,\"dd/mm/yyyy\")),\"\")","v":""}]
[{"$f":"IF(B100=\"\",\"\",MAX(A$21:A99)+1)","v":""},{"$f":"IF($C100=Referenca!$J$3,CONCATENATE('3. Shpenzimet'!#REF!,\"-\",'3. Shpenzimet'!#REF!,\"-\",TEXT('3. Shpenzimet'!#REF!,\"dd/mm/yyyy\")),\"\")","v":""}]
[{"$f":"IF(B101=\"\",\"\",MAX(A$21:A100)+1)","v":""},{"$f":"IF($C101=Referenca!$J$3,CONCATENATE('3. Shpenzimet'!#REF!,\"-\",'3. Shpenzimet'!#REF!,\"-\",TEXT('3. Shpenzimet'!#REF!,\"dd/mm/yyyy\")),\"\")","v":""}]
[{"$f":"IF(B102=\"\",\"\",MAX(A$21:A101)+1)","v":""},{"$f":"IF($C102=Referenca!$J$3,CONCATENATE('3. Shpenzimet'!#REF!,\"-\",'3. Shpenzimet'!#REF!,\"-\",TEXT('3. Shpenzimet'!#REF!,\"dd/mm/yyyy\")),\"\")","v":""}]
[{"$f":"IF(B103=\"\",\"\",MAX(A$21:A102)+1)","v":""},{"$f":"IF($C103=Referenca!$J$3,CONCATENATE('3. Shpenzimet'!#REF!,\"-\",'3. Shpenzimet'!#REF!,\"-\",TEXT('3. Shpenzimet'!#REF!,\"dd/mm/yyyy\")),\"\")","v":""}]
[{"$f":"IF(B104=\"\",\"\",MAX(A$21:A103)+1)","v":""},{"$f":"IF($C104=Referenca!$J$3,CONCATENATE('3. Shpenzimet'!#REF!,\"-\",'3. Shpenzimet'!#REF!,\"-\",TEXT('3. Shpenzimet'!#REF!,\"dd/mm/yyyy\")),\"\")","v":""}]
[{"$f":"IF(B105=\"\",\"\",MAX(A$21:A104)+1)","v":""},{"$f":"IF($C105=Referenca!$J$3,CONCATENATE('3. Shpenzimet'!#REF!,\"-\",'3. Shpenzimet'!#REF!,\"-\",TEXT('3. Shpenzimet'!#REF!,\"dd/mm/yyyy\")),\"\")","v":""}]
[{"$f":"IF(B106=\"\",\"\",MAX(A$21:A105)+1)","v":""},{"$f":"IF($C106=Referenca!$J$3,CONCATENATE('3. Shpenzimet'!#REF!,\"-\",'3. Shpenzimet'!#REF!,\"-\",TEXT('3. Shpenzimet'!#REF!,\"dd/mm/yyyy\")),\"\")","v":""}]
[{"$f":"IF(B107=\"\",\"\",MAX(A$21:A106)+1)","v":""},{"$f":"IF($C107=Referenca!$J$3,CONCATENATE('3. Shpenzimet'!#REF!,\"-\",'3. Shpenzimet'!#REF!,\"-\",TEXT('3. Shpenzimet'!#REF!,\"dd/mm/yyyy\")),\"\")","v":""}]
[{"$f":"IF(B108=\"\",\"\",MAX(A$21:A107)+1)","v":""},{"$f":"IF($C108=Referenca!$J$3,CONCATENATE('3. Shpenzimet'!#REF!,\"-\",'3. Shpenzimet'!#REF!,\"-\",TEXT('3. Shpenzimet'!#REF!,\"dd/mm/yyyy\")),\"\")","v":""}]
[{"$f":"IF(B109=\"\",\"\",MAX(A$21:A108)+1)","v":""},{"$f":"IF($C109=Referenca!$J$3,CONCATENATE('3. Shpenzimet'!#REF!,\"-\",'3. Shpenzimet'!#REF!,\"-\",TEXT('3. Shpenzimet'!#REF!,\"dd/mm/yyyy\")),\"\")","v":""}]
[{"$f":"IF(B110=\"\",\"\",MAX(A$21:A109)+1)","v":""},{"$f":"IF($C110=Referenca!$J$3,CONCATENATE('3. Shpenzimet'!#REF!,\"-\",'3. Shpenzimet'!#REF!,\"-\",TEXT('3. Shpenzimet'!#REF!,\"dd/mm/yyyy\")),\"\")","v":""}]
[{"$f":"IF(B111=\"\",\"\",MAX(A$21:A110)+1)","v":""},{"$f":"IF($C111=Referenca!$J$3,CONCATENATE('3. Shpenzimet'!#REF!,\"-\",'3. Shpenzimet'!#REF!,\"-\",TEXT('3. Shpenzimet'!#REF!,\"dd/mm/yyyy\")),\"\")","v":""}]
[{"$f":"IF(B112=\"\",\"\",MAX(A$21:A111)+1)","v":""},{"$f":"IF($C112=Referenca!$J$3,CONCATENATE('3. Shpenzimet'!#REF!,\"-\",'3. Shpenzimet'!#REF!,\"-\",TEXT('3. Shpenzimet'!#REF!,\"dd/mm/yyyy\")),\"\")","v":""}]
[{"$f":"IF(B113=\"\",\"\",MAX(A$21:A112)+1)","v":""},{"$f":"IF($C113=Referenca!$J$3,CONCATENATE('3. Shpenzimet'!#REF!,\"-\",'3. Shpenzimet'!#REF!,\"-\",TEXT('3. Shpenzimet'!#REF!,\"dd/mm/yyyy\")),\"\")","v":""}]
[{"$f":"IF(B114=\"\",\"\",MAX(A$21:A113)+1)","v":""},{"$f":"IF($C114=Referenca!$J$3,CONCATENATE('3. Shpenzimet'!#REF!,\"-\",'3. Shpenzimet'!#REF!,\"-\",TEXT('3. Shpenzimet'!#REF!,\"dd/mm/yyyy\")),\"\")","v":""}]
[{"$f":"IF(B115=\"\",\"\",MAX(A$21:A114)+1)","v":""},{"$f":"IF($C115=Referenca!$J$3,CONCATENATE('3. Shpenzimet'!#REF!,\"-\",'3. Shpenzimet'!#REF!,\"-\",TEXT('3. Shpenzimet'!#REF!,\"dd/mm/yyyy\")),\"\")","v":""}]
[{"$f":"IF(B116=\"\",\"\",MAX(A$21:A115)+1)","v":""},{"$f":"IF($C116=Referenca!$J$3,CONCATENATE('3. Shpenzimet'!#REF!,\"-\",'3. Shpenzimet'!#REF!,\"-\",TEXT('3. Shpenzimet'!#REF!,\"dd/mm/yyyy\")),\"\")","v":""}]
[{"$f":"IF(B117=\"\",\"\",MAX(A$21:A116)+1)","v":""},{"$f":"IF($C117=Referenca!$J$3,CONCATENATE('3. Shpenzimet'!#REF!,\"-\",'3. Shpenzimet'!#REF!,\"-\",TEXT('3. Shpenzimet'!#REF!,\"dd/mm/yyyy\")),\"\")","v":""}]
[{"$f":"IF(B118=\"\",\"\",MAX(A$21:A117)+1)","v":""},{"$f":"IF($C118=Referenca!$J$3,CONCATENATE('3. Shpenzimet'!#REF!,\"-\",'3. Shpenzimet'!#REF!,\"-\",TEXT('3. Shpenzimet'!#REF!,\"dd/mm/yyyy\")),\"\")","v":""}]
[{"$f":"IF(B119=\"\",\"\",MAX(A$21:A118)+1)","v":""},{"$f":"IF($C119=Referenca!$J$3,CONCATENATE('3. Shpenzimet'!#REF!,\"-\",'3. Shpenzimet'!#REF!,\"-\",TEXT('3. Shpenzimet'!#REF!,\"dd/mm/yyyy\")),\"\")","v":""}]
[{"$f":"IF(B120=\"\",\"\",MAX(A$21:A119)+1)","v":""},{"$f":"IF($C120=Referenca!$J$3,CONCATENATE('3. Shpenzimet'!#REF!,\"-\",'3. Shpenzimet'!#REF!,\"-\",TEXT('3. Shpenzimet'!#REF!,\"dd/mm/yyyy\")),\"\")","v":""}]
[{"$f":"IF(B121=\"\",\"\",MAX(A$21:A120)+1)","v":""},{"$f":"IF($C121=Referenca!$J$3,CONCATENATE('3. Shpenzimet'!#REF!,\"-\",'3. Shpenzimet'!#REF!,\"-\",TEXT('3. Shpenzimet'!#REF!,\"dd/mm/yyyy\")),\"\")","v":""}]
[{"$f":"IF(B122=\"\",\"\",MAX(A$21:A121)+1)","v":""},{"$f":"IF($C122=Referenca!$J$3,CONCATENATE('3. Shpenzimet'!#REF!,\"-\",'3. Shpenzimet'!#REF!,\"-\",TEXT('3. Shpenzimet'!#REF!,\"dd/mm/yyyy\")),\"\")","v":""}]
[{"$f":"IF(B123=\"\",\"\",MAX(A$21:A122)+1)","v":""},{"$f":"IF($C123=Referenca!$J$3,CONCATENATE('3. Shpenzimet'!#REF!,\"-\",'3. Shpenzimet'!#REF!,\"-\",TEXT('3. Shpenzimet'!#REF!,\"dd/mm/yyyy\")),\"\")","v":""}]
[{"$f":"IF(B124=\"\",\"\",MAX(A$21:A123)+1)","v":""},{"$f":"IF($C124=Referenca!$J$3,CONCATENATE('3. Shpenzimet'!#REF!,\"-\",'3. Shpenzimet'!#REF!,\"-\",TEXT('3. Shpenzimet'!#REF!,\"dd/mm/yyyy\")),\"\")","v":""}]
[{"$f":"IF(B125=\"\",\"\",MAX(A$21:A124)+1)","v":""},{"$f":"IF($C125=Referenca!$J$3,CONCATENATE('3. Shpenzimet'!#REF!,\"-\",'3. Shpenzimet'!#REF!,\"-\",TEXT('3. Shpenzimet'!#REF!,\"dd/mm/yyyy\")),\"\")","v":""}]
[{"$f":"IF(B126=\"\",\"\",MAX(A$21:A125)+1)","v":""},{"$f":"IF($C126=Referenca!$J$3,CONCATENATE('3. Shpenzimet'!#REF!,\"-\",'3. Shpenzimet'!#REF!,\"-\",TEXT('3. Shpenzimet'!#REF!,\"dd/mm/yyyy\")),\"\")","v":""}]
[{"$f":"IF(B127=\"\",\"\",MAX(A$21:A126)+1)","v":""},{"$f":"IF($C127=Referenca!$J$3,CONCATENATE('3. Shpenzimet'!#REF!,\"-\",'3. Shpenzimet'!#REF!,\"-\",TEXT('3. Shpenzimet'!#REF!,\"dd/mm/yyyy\")),\"\")","v":""}]
[{"$f":"IF(B128=\"\",\"\",MAX(A$21:A127)+1)","v":""},{"$f":"IF($C128=Referenca!$J$3,CONCATENATE('3. Shpenzimet'!#REF!,\"-\",'3. Shpenzimet'!#REF!,\"-\",TEXT('3. Shpenzimet'!#REF!,\"dd/mm/yyyy\")),\"\")","v":""}]
[{"$f":"IF(B129=\"\",\"\",MAX(A$21:A128)+1)","v":""},{"$f":"IF($C129=Referenca!$J$3,CONCATENATE('3. Shpenzimet'!#REF!,\"-\",'3. Shpenzimet'!#REF!,\"-\",TEXT('3. Shpenzimet'!#REF!,\"dd/mm/yyyy\")),\"\")","v":""}]
[{"$f":"IF(B130=\"\",\"\",MAX(A$21:A129)+1)","v":""},{"$f":"IF($C130=Referenca!$J$3,CONCATENATE('3. Shpenzimet'!#REF!,\"-\",'3. Shpenzimet'!#REF!,\"-\",TEXT('3. Shpenzimet'!#REF!,\"dd/mm/yyyy\")),\"\")","v":""}]
[{"$f":"IF(B131=\"\",\"\",MAX(A$21:A130)+1)","v":""},{"$f":"IF($C131=Referenca!$J$3,CONCATENATE('3. Shpenzimet'!#REF!,\"-\",'3. Shpenzimet'!#REF!,\"-\",TEXT('3. Shpenzimet'!#REF!,\"dd/mm/yyyy\")),\"\")","v":""}]
[{"$f":"IF(B132=\"\",\"\",MAX(A$21:A131)+1)","v":""},{"$f":"IF($C132=Referenca!$J$3,CONCATENATE('3. Shpenzimet'!#REF!,\"-\",'3. Shpenzimet'!#REF!,\"-\",TEXT('3. Shpenzimet'!#REF!,\"dd/mm/yyyy\")),\"\")","v":""}]
[{"$f":"IF(B133=\"\",\"\",MAX(A$21:A132)+1)","v":""},{"$f":"IF($C133=Referenca!$J$3,CONCATENATE('3. Shpenzimet'!#REF!,\"-\",'3. Shpenzimet'!#REF!,\"-\",TEXT('3. Shpenzimet'!#REF!,\"dd/mm/yyyy\")),\"\")","v":""}]
[{"$f":"IF(B134=\"\",\"\",MAX(A$21:A133)+1)","v":""},{"$f":"IF($C134=Referenca!$J$3,CONCATENATE('3. Shpenzimet'!#REF!,\"-\",'3. Shpenzimet'!#REF!,\"-\",TEXT('3. Shpenzimet'!#REF!,\"dd/mm/yyyy\")),\"\")","v":""}]
[{"$f":"IF(B135=\"\",\"\",MAX(A$21:A134)+1)","v":""},{"$f":"IF($C135=Referenca!$J$3,CONCATENATE('3. Shpenzimet'!#REF!,\"-\",'3. Shpenzimet'!#REF!,\"-\",TEXT('3. Shpenzimet'!#REF!,\"dd/mm/yyyy\")),\"\")","v":""}]
[{"$f":"IF(B136=\"\",\"\",MAX(A$21:A135)+1)","v":""},{"$f":"IF($C136=Referenca!$J$3,CONCATENATE('3. Shpenzimet'!#REF!,\"-\",'3. Shpenzimet'!#REF!,\"-\",TEXT('3. Shpenzimet'!#REF!,\"dd/mm/yyyy\")),\"\")","v":""}]
[{"$f":"IF(B137=\"\",\"\",MAX(A$21:A136)+1)","v":""},{"$f":"IF($C137=Referenca!$J$3,CONCATENATE('3. Shpenzimet'!#REF!,\"-\",'3. Shpenzimet'!#REF!,\"-\",TEXT('3. Shpenzimet'!#REF!,\"dd/mm/yyyy\")),\"\")","v":""}]
[{"$f":"IF(B138=\"\",\"\",MAX(A$21:A137)+1)","v":""},{"$f":"IF($C138=Referenca!$J$3,CONCATENATE('3. Shpenzimet'!#REF!,\"-\",'3. Shpenzimet'!#REF!,\"-\",TEXT('3. Shpenzimet'!#REF!,\"dd/mm/yyyy\")),\"\")","v":""}]
[{"$f":"IF(B139=\"\",\"\",MAX(A$21:A138)+1)","v":""},{"$f":"IF($C139=Referenca!$J$3,CONCATENATE('3. Shpenzimet'!#REF!,\"-\",'3. Shpenzimet'!#REF!,\"-\",TEXT('3. Shpenzimet'!#REF!,\"dd/mm/yyyy\")),\"\")","v":""}]
[{"$f":"IF(B140=\"\",\"\",MAX(A$21:A139)+1)","v":""},{"$f":"IF($C140=Referenca!$J$3,CONCATENATE('3. Shpenzimet'!#REF!,\"-\",'3. Shpenzimet'!#REF!,\"-\",TEXT('3. Shpenzimet'!#REF!,\"dd/mm/yyyy\")),\"\")","v":""}]
[{"$f":"IF(B141=\"\",\"\",MAX(A$21:A140)+1)","v":""},{"$f":"IF($C141=Referenca!$J$3,CONCATENATE('3. Shpenzimet'!#REF!,\"-\",'3. Shpenzimet'!#REF!,\"-\",TEXT('3. Shpenzimet'!#REF!,\"dd/mm/yyyy\")),\"\")","v":""}]
[{"$f":"IF(B142=\"\",\"\",MAX(A$21:A141)+1)","v":""},{"$f":"IF($C142=Referenca!$J$3,CONCATENATE('3. Shpenzimet'!#REF!,\"-\",'3. Shpenzimet'!#REF!,\"-\",TEXT('3. Shpenzimet'!#REF!,\"dd/mm/yyyy\")),\"\")","v":""}]
[{"$f":"IF(B143=\"\",\"\",MAX(A$21:A142)+1)","v":""},{"$f":"IF($C143=Referenca!$J$3,CONCATENATE('3. Shpenzimet'!#REF!,\"-\",'3. Shpenzimet'!#REF!,\"-\",TEXT('3. Shpenzimet'!#REF!,\"dd/mm/yyyy\")),\"\")","v":""}]
[{"$f":"IF(B144=\"\",\"\",MAX(A$21:A143)+1)","v":""},{"$f":"IF($C144=Referenca!$J$3,CONCATENATE('3. Shpenzimet'!#REF!,\"-\",'3. Shpenzimet'!#REF!,\"-\",TEXT('3. Shpenzimet'!#REF!,\"dd/mm/yyyy\")),\"\")","v":""}]
[{"$f":"IF(B145=\"\",\"\",MAX(A$21:A144)+1)","v":""},{"$f":"IF($C145=Referenca!$J$3,CONCATENATE('3. Shpenzimet'!#REF!,\"-\",'3. Shpenzimet'!#REF!,\"-\",TEXT('3. Shpenzimet'!#REF!,\"dd/mm/yyyy\")),\"\")","v":""}]
[{"$f":"IF(B146=\"\",\"\",MAX(A$21:A145)+1)","v":""},{"$f":"IF($C146=Referenca!$J$3,CONCATENATE('3. Shpenzimet'!#REF!,\"-\",'3. Shpenzimet'!#REF!,\"-\",TEXT('3. Shpenzimet'!#REF!,\"dd/mm/yyyy\")),\"\")","v":""}]
[{"$f":"IF(B147=\"\",\"\",MAX(A$21:A146)+1)","v":""},{"$f":"IF($C147=Referenca!$J$3,CONCATENATE('3. Shpenzimet'!#REF!,\"-\",'3. Shpenzimet'!#REF!,\"-\",TEXT('3. Shpenzimet'!#REF!,\"dd/mm/yyyy\")),\"\")","v":""}]
[{"$f":"IF(B148=\"\",\"\",MAX(A$21:A147)+1)","v":""},{"$f":"IF($C148=Referenca!$J$3,CONCATENATE('3. Shpenzimet'!#REF!,\"-\",'3. Shpenzimet'!#REF!,\"-\",TEXT('3. Shpenzimet'!#REF!,\"dd/mm/yyyy\")),\"\")","v":""}]
[{"$f":"IF(B149=\"\",\"\",MAX(A$21:A148)+1)","v":""},{"$f":"IF($C149=Referenca!$J$3,CONCATENATE('3. Shpenzimet'!#REF!,\"-\",'3. Shpenzimet'!#REF!,\"-\",TEXT('3. Shpenzimet'!#REF!,\"dd/mm/yyyy\")),\"\")","v":""}]
[{"$f":"IF(B150=\"\",\"\",MAX(A$21:A149)+1)","v":""},{"$f":"IF($C150=Referenca!$J$3,CONCATENATE('3. Shpenzimet'!#REF!,\"-\",'3. Shpenzimet'!#REF!,\"-\",TEXT('3. Shpenzimet'!#REF!,\"dd/mm/yyyy\")),\"\")","v":""}]
[{"$f":"IF(B151=\"\",\"\",MAX(A$21:A150)+1)","v":""},{"$f":"IF($C151=Referenca!$J$3,CONCATENATE('3. Shpenzimet'!#REF!,\"-\",'3. Shpenzimet'!#REF!,\"-\",TEXT('3. Shpenzimet'!#REF!,\"dd/mm/yyyy\")),\"\")","v":""}]
[{"$f":"IF(B152=\"\",\"\",MAX(A$21:A151)+1)","v":""},{"$f":"IF($C152=Referenca!$J$3,CONCATENATE('3. Shpenzimet'!#REF!,\"-\",'3. Shpenzimet'!#REF!,\"-\",TEXT('3. Shpenzimet'!#REF!,\"dd/mm/yyyy\")),\"\")","v":""}]
[{"$f":"IF(B153=\"\",\"\",MAX(A$21:A152)+1)","v":""},{"$f":"IF($C153=Referenca!$J$3,CONCATENATE('3. Shpenzimet'!#REF!,\"-\",'3. Shpenzimet'!#REF!,\"-\",TEXT('3. Shpenzimet'!#REF!,\"dd/mm/yyyy\")),\"\")","v":""}]
[{"$f":"IF(B154=\"\",\"\",MAX(A$21:A153)+1)","v":""},{"$f":"IF($C154=Referenca!$J$3,CONCATENATE('3. Shpenzimet'!#REF!,\"-\",'3. Shpenzimet'!#REF!,\"-\",TEXT('3. Shpenzimet'!#REF!,\"dd/mm/yyyy\")),\"\")","v":""}]
[{"$f":"IF(B155=\"\",\"\",MAX(A$21:A154)+1)","v":""},{"$f":"IF($C155=Referenca!$J$3,CONCATENATE('3. Shpenzimet'!#REF!,\"-\",'3. Shpenzimet'!#REF!,\"-\",TEXT('3. Shpenzimet'!#REF!,\"dd/mm/yyyy\")),\"\")","v":""}]
[{"$f":"IF(B156=\"\",\"\",MAX(A$21:A155)+1)","v":""},{"$f":"IF($C156=Referenca!$J$3,CONCATENATE('3. Shpenzimet'!#REF!,\"-\",'3. Shpenzimet'!#REF!,\"-\",TEXT('3. Shpenzimet'!#REF!,\"dd/mm/yyyy\")),\"\")","v":""}]
[{"$f":"IF(B157=\"\",\"\",MAX(A$21:A156)+1)","v":""},{"$f":"IF($C157=Referenca!$J$3,CONCATENATE('3. Shpenzimet'!#REF!,\"-\",'3. Shpenzimet'!#REF!,\"-\",TEXT('3. Shpenzimet'!#REF!,\"dd/mm/yyyy\")),\"\")","v":""}]
[{"$f":"IF(B158=\"\",\"\",MAX(A$21:A157)+1)","v":""},{"$f":"IF($C158=Referenca!$J$3,CONCATENATE('3. Shpenzimet'!#REF!,\"-\",'3. Shpenzimet'!#REF!,\"-\",TEXT('3. Shpenzimet'!#REF!,\"dd/mm/yyyy\")),\"\")","v":""}]
[{"$f":"IF(B159=\"\",\"\",MAX(A$21:A158)+1)","v":""},{"$f":"IF($C159=Referenca!$J$3,CONCATENATE('3. Shpenzimet'!#REF!,\"-\",'3. Shpenzimet'!#REF!,\"-\",TEXT('3. Shpenzimet'!#REF!,\"dd/mm/yyyy\")),\"\")","v":""}]
[{"$f":"IF(B160=\"\",\"\",MAX(A$21:A159)+1)","v":""},{"$f":"IF($C160=Referenca!$J$3,CONCATENATE('3. Shpenzimet'!#REF!,\"-\",'3. Shpenzimet'!#REF!,\"-\",TEXT('3. Shpenzimet'!#REF!,\"dd/mm/yyyy\")),\"\")","v":""}]
[{"$f":"IF(B161=\"\",\"\",MAX(A$21:A160)+1)","v":""},{"$f":"IF($C161=Referenca!$J$3,CONCATENATE('3. Shpenzimet'!#REF!,\"-\",'3. Shpenzimet'!#REF!,\"-\",TEXT('3. Shpenzimet'!#REF!,\"dd/mm/yyyy\")),\"\")","v":""}]
[{"$f":"IF(B162=\"\",\"\",MAX(A$21:A161)+1)","v":""},{"$f":"IF($C162=Referenca!$J$3,CONCATENATE('3. Shpenzimet'!#REF!,\"-\",'3. Shpenzimet'!#REF!,\"-\",TEXT('3. Shpenzimet'!#REF!,\"dd/mm/yyyy\")),\"\")","v":""}]
[{"$f":"IF(B163=\"\",\"\",MAX(A$21:A162)+1)","v":""},{"$f":"IF($C163=Referenca!$J$3,CONCATENATE('3. Shpenzimet'!#REF!,\"-\",'3. Shpenzimet'!#REF!,\"-\",TEXT('3. Shpenzimet'!#REF!,\"dd/mm/yyyy\")),\"\")","v":""}]
[{"$f":"IF(B164=\"\",\"\",MAX(A$21:A163)+1)","v":""},{"$f":"IF($C164=Referenca!$J$3,CONCATENATE('3. Shpenzimet'!#REF!,\"-\",'3. Shpenzimet'!#REF!,\"-\",TEXT('3. Shpenzimet'!#REF!,\"dd/mm/yyyy\")),\"\")","v":""}]
[{"$f":"IF(B165=\"\",\"\",MAX(A$21:A164)+1)","v":""},{"$f":"IF($C165=Referenca!$J$3,CONCATENATE('3. Shpenzimet'!#REF!,\"-\",'3. Shpenzimet'!#REF!,\"-\",TEXT('3. Shpenzimet'!#REF!,\"dd/mm/yyyy\")),\"\")","v":""}]
[{"$f":"IF(B166=\"\",\"\",MAX(A$21:A165)+1)","v":""},{"$f":"IF($C166=Referenca!$J$3,CONCATENATE('3. Shpenzimet'!#REF!,\"-\",'3. Shpenzimet'!#REF!,\"-\",TEXT('3. Shpenzimet'!#REF!,\"dd/mm/yyyy\")),\"\")","v":""}]
[{"$f":"IF(B167=\"\",\"\",MAX(A$21:A166)+1)","v":""},{"$f":"IF($C167=Referenca!$J$3,CONCATENATE('3. Shpenzimet'!#REF!,\"-\",'3. Shpenzimet'!#REF!,\"-\",TEXT('3. Shpenzimet'!#REF!,\"dd/mm/yyyy\")),\"\")","v":""}]
[{"$f":"IF(B168=\"\",\"\",MAX(A$21:A167)+1)","v":""},{"$f":"IF($C168=Referenca!$J$3,CONCATENATE('3. Shpenzimet'!#REF!,\"-\",'3. Shpenzimet'!#REF!,\"-\",TEXT('3. Shpenzimet'!#REF!,\"dd/mm/yyyy\")),\"\")","v":""}]
[{"$f":"IF(B169=\"\",\"\",MAX(A$21:A168)+1)","v":""},{"$f":"IF($C169=Referenca!$J$3,CONCATENATE('3. Shpenzimet'!#REF!,\"-\",'3. Shpenzimet'!#REF!,\"-\",TEXT('3. Shpenzimet'!#REF!,\"dd/mm/yyyy\")),\"\")","v":""}]
[{"$f":"IF(B170=\"\",\"\",MAX(A$21:A169)+1)","v":""},{"$f":"IF($C170=Referenca!$J$3,CONCATENATE('3. Shpenzimet'!#REF!,\"-\",'3. Shpenzimet'!#REF!,\"-\",TEXT('3. Shpenzimet'!#REF!,\"dd/mm/yyyy\")),\"\")","v":""}]
[{"$f":"IF(B171=\"\",\"\",MAX(A$21:A170)+1)","v":""},{"$f":"IF($C171=Referenca!$J$3,CONCATENATE('3. Shpenzimet'!#REF!,\"-\",'3. Shpenzimet'!#REF!,\"-\",TEXT('3. Shpenzimet'!#REF!,\"dd/mm/yyyy\")),\"\")","v":""}]
[{"$f":"IF(B172=\"\",\"\",MAX(A$21:A171)+1)","v":""},{"$f":"IF($C172=Referenca!$J$3,CONCATENATE('3. Shpenzimet'!#REF!,\"-\",'3. Shpenzimet'!#REF!,\"-\",TEXT('3. Shpenzimet'!#REF!,\"dd/mm/yyyy\")),\"\")","v":""}]
[{"$f":"IF(B173=\"\",\"\",MAX(A$21:A172)+1)","v":""},{"$f":"IF($C173=Referenca!$J$3,CONCATENATE('3. Shpenzimet'!#REF!,\"-\",'3. Shpenzimet'!#REF!,\"-\",TEXT('3. Shpenzimet'!#REF!,\"dd/mm/yyyy\")),\"\")","v":""}]
[{"$f":"IF(B174=\"\",\"\",MAX(A$21:A173)+1)","v":""},{"$f":"IF($C174=Referenca!$J$3,CONCATENATE('3. Shpenzimet'!#REF!,\"-\",'3. Shpenzimet'!#REF!,\"-\",TEXT('3. Shpenzimet'!#REF!,\"dd/mm/yyyy\")),\"\")","v":""}]
[{"$f":"IF(B175=\"\",\"\",MAX(A$21:A174)+1)","v":""},{"$f":"IF($C175=Referenca!$J$3,CONCATENATE('3. Shpenzimet'!#REF!,\"-\",'3. Shpenzimet'!#REF!,\"-\",TEXT('3. Shpenzimet'!#REF!,\"dd/mm/yyyy\")),\"\")","v":""}]
[{"$f":"IF(B176=\"\",\"\",MAX(A$21:A175)+1)","v":""},{"$f":"IF($C176=Referenca!$J$3,CONCATENATE('3. Shpenzimet'!#REF!,\"-\",'3. Shpenzimet'!#REF!,\"-\",TEXT('3. Shpenzimet'!#REF!,\"dd/mm/yyyy\")),\"\")","v":""}]
[{"$f":"IF(B177=\"\",\"\",MAX(A$21:A176)+1)","v":""},{"$f":"IF($C177=Referenca!$J$3,CONCATENATE('3. Shpenzimet'!#REF!,\"-\",'3. Shpenzimet'!#REF!,\"-\",TEXT('3. Shpenzimet'!#REF!,\"dd/mm/yyyy\")),\"\")","v":""}]
[{"$f":"IF(B178=\"\",\"\",MAX(A$21:A177)+1)","v":""},{"$f":"IF($C178=Referenca!$J$3,CONCATENATE('3. Shpenzimet'!#REF!,\"-\",'3. Shpenzimet'!#REF!,\"-\",TEXT('3. Shpenzimet'!#REF!,\"dd/mm/yyyy\")),\"\")","v":""}]
[{"$f":"IF(B179=\"\",\"\",MAX(A$21:A178)+1)","v":""},{"$f":"IF($C179=Referenca!$J$3,CONCATENATE('3. Shpenzimet'!#REF!,\"-\",'3. Shpenzimet'!#REF!,\"-\",TEXT('3. Shpenzimet'!#REF!,\"dd/mm/yyyy\")),\"\")","v":""}]
[{"$f":"IF(B180=\"\",\"\",MAX(A$21:A179)+1)","v":""},{"$f":"IF($C180=Referenca!$J$3,CONCATENATE('3. Shpenzimet'!#REF!,\"-\",'3. Shpenzimet'!#REF!,\"-\",TEXT('3. Shpenzimet'!#REF!,\"dd/mm/yyyy\")),\"\")","v":""}]
[{"$f":"IF(B181=\"\",\"\",MAX(A$21:A180)+1)","v":""},{"$f":"IF($C181=Referenca!$J$3,CONCATENATE('3. Shpenzimet'!#REF!,\"-\",'3. Shpenzimet'!#REF!,\"-\",TEXT('3. Shpenzimet'!#REF!,\"dd/mm/yyyy\")),\"\")","v":""}]
[{"$f":"IF(B182=\"\",\"\",MAX(A$21:A181)+1)","v":""},{"$f":"IF($C182=Referenca!$J$3,CONCATENATE('3. Shpenzimet'!#REF!,\"-\",'3. Shpenzimet'!#REF!,\"-\",TEXT('3. Shpenzimet'!#REF!,\"dd/mm/yyyy\")),\"\")","v":""}]
[{"$f":"IF(B183=\"\",\"\",MAX(A$21:A182)+1)","v":""},{"$f":"IF($C183=Referenca!$J$3,CONCATENATE('3. Shpenzimet'!#REF!,\"-\",'3. Shpenzimet'!#REF!,\"-\",TEXT('3. Shpenzimet'!#REF!,\"dd/mm/yyyy\")),\"\")","v":""}]
[{"$f":"IF(B184=\"\",\"\",MAX(A$21:A183)+1)","v":""},{"$f":"IF($C184=Referenca!$J$3,CONCATENATE('3. Shpenzimet'!#REF!,\"-\",'3. Shpenzimet'!#REF!,\"-\",TEXT('3. Shpenzimet'!#REF!,\"dd/mm/yyyy\")),\"\")","v":""}]
[{"$f":"IF(B185=\"\",\"\",MAX(A$21:A184)+1)","v":""},{"$f":"IF($C185=Referenca!$J$3,CONCATENATE('3. Shpenzimet'!#REF!,\"-\",'3. Shpenzimet'!#REF!,\"-\",TEXT('3. Shpenzimet'!#REF!,\"dd/mm/yyyy\")),\"\")","v":""}]
[{"$f":"IF(B186=\"\",\"\",MAX(A$21:A185)+1)","v":""},{"$f":"IF($C186=Referenca!$J$3,CONCATENATE('3. Shpenzimet'!#REF!,\"-\",'3. Shpenzimet'!#REF!,\"-\",TEXT('3. Shpenzimet'!#REF!,\"dd/mm/yyyy\")),\"\")","v":""}]
[{"$f":"IF(B187=\"\",\"\",MAX(A$21:A186)+1)","v":""},{"$f":"IF($C187=Referenca!$J$3,CONCATENATE('3. Shpenzimet'!#REF!,\"-\",'3. Shpenzimet'!#REF!,\"-\",TEXT('3. Shpenzimet'!#REF!,\"dd/mm/yyyy\")),\"\")","v":""}]
[{"$f":"IF(B188=\"\",\"\",MAX(A$21:A187)+1)","v":""},{"$f":"IF($C188=Referenca!$J$3,CONCATENATE('3. Shpenzimet'!#REF!,\"-\",'3. Shpenzimet'!#REF!,\"-\",TEXT('3. Shpenzimet'!#REF!,\"dd/mm/yyyy\")),\"\")","v":""}]
[{"$f":"IF(B189=\"\",\"\",MAX(A$21:A188)+1)","v":""},{"$f":"IF($C189=Referenca!$J$3,CONCATENATE('3. Shpenzimet'!#REF!,\"-\",'3. Shpenzimet'!#REF!,\"-\",TEXT('3. Shpenzimet'!#REF!,\"dd/mm/yyyy\")),\"\")","v":""}]
[{"$f":"IF(B190=\"\",\"\",MAX(A$21:A189)+1)","v":""},{"$f":"IF($C190=Referenca!$J$3,CONCATENATE('3. Shpenzimet'!#REF!,\"-\",'3. Shpenzimet'!#REF!,\"-\",TEXT('3. Shpenzimet'!#REF!,\"dd/mm/yyyy\")),\"\")","v":""}]
[{"$f":"IF(B191=\"\",\"\",MAX(A$21:A190)+1)","v":""},{"$f":"IF($C191=Referenca!$J$3,CONCATENATE('3. Shpenzimet'!#REF!,\"-\",'3. Shpenzimet'!#REF!,\"-\",TEXT('3. Shpenzimet'!#REF!,\"dd/mm/yyyy\")),\"\")","v":""}]
[{"$f":"IF(B192=\"\",\"\",MAX(A$21:A191)+1)","v":""},{"$f":"IF($C192=Referenca!$J$3,CONCATENATE('3. Shpenzimet'!#REF!,\"-\",'3. Shpenzimet'!#REF!,\"-\",TEXT('3. Shpenzimet'!#REF!,\"dd/mm/yyyy\")),\"\")","v":""}]
[{"$f":"IF(B193=\"\",\"\",MAX(A$21:A192)+1)","v":""},{"$f":"IF($C193=Referenca!$J$3,CONCATENATE('3. Shpenzimet'!#REF!,\"-\",'3. Shpenzimet'!#REF!,\"-\",TEXT('3. Shpenzimet'!#REF!,\"dd/mm/yyyy\")),\"\")","v":""}]
[{"$f":"IF(B194=\"\",\"\",MAX(A$21:A193)+1)","v":""},{"$f":"IF($C194=Referenca!$J$3,CONCATENATE('3. Shpenzimet'!#REF!,\"-\",'3. Shpenzimet'!#REF!,\"-\",TEXT('3. Shpenzimet'!#REF!,\"dd/mm/yyyy\")),\"\")","v":""}]
[{"$f":"IF(B195=\"\",\"\",MAX(A$21:A194)+1)","v":""},{"$f":"IF($C195=Referenca!$J$3,CONCATENATE('3. Shpenzimet'!#REF!,\"-\",'3. Shpenzimet'!#REF!,\"-\",TEXT('3. Shpenzimet'!#REF!,\"dd/mm/yyyy\")),\"\")","v":""}]
[{"$f":"IF(B196=\"\",\"\",MAX(A$21:A195)+1)","v":""},{"$f":"IF($C196=Referenca!$J$3,CONCATENATE('3. Shpenzimet'!#REF!,\"-\",'3. Shpenzimet'!#REF!,\"-\",TEXT('3. Shpenzimet'!#REF!,\"dd/mm/yyyy\")),\"\")","v":""}]
[{"$f":"IF(B197=\"\",\"\",MAX(A$21:A196)+1)","v":""},{"$f":"IF($C197=Referenca!$J$3,CONCATENATE('3. Shpenzimet'!#REF!,\"-\",'3. Shpenzimet'!#REF!,\"-\",TEXT('3. Shpenzimet'!#REF!,\"dd/mm/yyyy\")),\"\")","v":""}]
[{"$f":"IF(B198=\"\",\"\",MAX(A$21:A197)+1)","v":""},{"$f":"IF($C198=Referenca!$J$3,CONCATENATE('3. Shpenzimet'!#REF!,\"-\",'3. Shpenzimet'!#REF!,\"-\",TEXT('3. Shpenzimet'!#REF!,\"dd/mm/yyyy\")),\"\")","v":""}]
[{"$f":"IF(B199=\"\",\"\",MAX(A$21:A198)+1)","v":""},{"$f":"IF($C199=Referenca!$J$3,CONCATENATE('3. Shpenzimet'!#REF!,\"-\",'3. Shpenzimet'!#REF!,\"-\",TEXT('3. Shpenzimet'!#REF!,\"dd/mm/yyyy\")),\"\")","v":""}]
[{"$f":"IF(B200=\"\",\"\",MAX(A$21:A199)+1)","v":""},{"$f":"IF($C200=Referenca!$J$3,CONCATENATE('3. Shpenzimet'!#REF!,\"-\",'3. Shpenzimet'!#REF!,\"-\",TEXT('3. Shpenzimet'!#REF!,\"dd/mm/yyyy\")),\"\")","v":""}]
[{"$f":"IF(B201=\"\",\"\",MAX(A$21:A200)+1)","v":""},{"$f":"IF($C201=Referenca!$J$3,CONCATENATE('3. Shpenzimet'!#REF!,\"-\",'3. Shpenzimet'!#REF!,\"-\",TEXT('3. Shpenzimet'!#REF!,\"dd/mm/yyyy\")),\"\")","v":""}]
[{"$f":"IF(B202=\"\",\"\",MAX(A$21:A201)+1)","v":""},{"$f":"IF($C202=Referenca!$J$3,CONCATENATE('3. Shpenzimet'!#REF!,\"-\",'3. Shpenzimet'!#REF!,\"-\",TEXT('3. Shpenzimet'!#REF!,\"dd/mm/yyyy\")),\"\")","v":""}]
[{"$f":"IF(B203=\"\",\"\",MAX(A$21:A202)+1)","v":""},{"$f":"IF($C203=Referenca!$J$3,CONCATENATE('3. Shpenzimet'!#REF!,\"-\",'3. Shpenzimet'!#REF!,\"-\",TEXT('3. Shpenzimet'!#REF!,\"dd/mm/yyyy\")),\"\")","v":""}]
[{"$f":"IF(B204=\"\",\"\",MAX(A$21:A203)+1)","v":""},{"$f":"IF($C204=Referenca!$J$3,CONCATENATE('3. Shpenzimet'!#REF!,\"-\",'3. Shpenzimet'!#REF!,\"-\",TEXT('3. Shpenzimet'!#REF!,\"dd/mm/yyyy\")),\"\")","v":""}]
[{"$f":"IF(B205=\"\",\"\",MAX(A$21:A204)+1)","v":""},{"$f":"IF($C205=Referenca!$J$3,CONCATENATE('3. Shpenzimet'!#REF!,\"-\",'3. Shpenzimet'!#REF!,\"-\",TEXT('3. Shpenzimet'!#REF!,\"dd/mm/yyyy\")),\"\")","v":""}]
[{"$f":"IF(B206=\"\",\"\",MAX(A$21:A205)+1)","v":""},{"$f":"IF($C206=Referenca!$J$3,CONCATENATE('3. Shpenzimet'!#REF!,\"-\",'3. Shpenzimet'!#REF!,\"-\",TEXT('3. Shpenzimet'!#REF!,\"dd/mm/yyyy\")),\"\")","v":""}]
[{"$f":"IF(B207=\"\",\"\",MAX(A$21:A206)+1)","v":""},{"$f":"IF($C207=Referenca!$J$3,CONCATENATE('3. Shpenzimet'!#REF!,\"-\",'3. Shpenzimet'!#REF!,\"-\",TEXT('3. Shpenzimet'!#REF!,\"dd/mm/yyyy\")),\"\")","v":""}]
[{"$f":"IF(B208=\"\",\"\",MAX(A$21:A207)+1)","v":""},{"$f":"IF($C208=Referenca!$J$3,CONCATENATE('3. Shpenzimet'!#REF!,\"-\",'3. Shpenzimet'!#REF!,\"-\",TEXT('3. Shpenzimet'!#REF!,\"dd/mm/yyyy\")),\"\")","v":""}]
[{"$f":"IF(B209=\"\",\"\",MAX(A$21:A208)+1)","v":""},{"$f":"IF($C209=Referenca!$J$3,CONCATENATE('3. Shpenzimet'!#REF!,\"-\",'3. Shpenzimet'!#REF!,\"-\",TEXT('3. Shpenzimet'!#REF!,\"dd/mm/yyyy\")),\"\")","v":""}]
[{"$f":"IF(B210=\"\",\"\",MAX(A$21:A209)+1)","v":""},{"$f":"IF($C210=Referenca!$J$3,CONCATENATE('3. Shpenzimet'!#REF!,\"-\",'3. Shpenzimet'!#REF!,\"-\",TEXT('3. Shpenzimet'!#REF!,\"dd/mm/yyyy\")),\"\")","v":""}]
[{"$f":"IF(B211=\"\",\"\",MAX(A$21:A210)+1)","v":""},{"$f":"IF($C211=Referenca!$J$3,CONCATENATE('3. Shpenzimet'!#REF!,\"-\",'3. Shpenzimet'!#REF!,\"-\",TEXT('3. Shpenzimet'!#REF!,\"dd/mm/yyyy\")),\"\")","v":""}]
[{"$f":"IF(B212=\"\",\"\",MAX(A$21:A211)+1)","v":""},{"$f":"IF($C212=Referenca!$J$3,CONCATENATE('3. Shpenzimet'!#REF!,\"-\",'3. Shpenzimet'!#REF!,\"-\",TEXT('3. Shpenzimet'!#REF!,\"dd/mm/yyyy\")),\"\")","v":""}]
[{"$f":"IF(B213=\"\",\"\",MAX(A$21:A212)+1)","v":""},{"$f":"IF($C213=Referenca!$J$3,CONCATENATE('3. Shpenzimet'!#REF!,\"-\",'3. Shpenzimet'!#REF!,\"-\",TEXT('3. Shpenzimet'!#REF!,\"dd/mm/yyyy\")),\"\")","v":""}]
[{"$f":"IF(B214=\"\",\"\",MAX(A$21:A213)+1)","v":""},{"$f":"IF($C214=Referenca!$J$3,CONCATENATE('3. Shpenzimet'!#REF!,\"-\",'3. Shpenzimet'!#REF!,\"-\",TEXT('3. Shpenzimet'!#REF!,\"dd/mm/yyyy\")),\"\")","v":""}]
[{"$f":"IF(B215=\"\",\"\",MAX(A$21:A214)+1)","v":""},{"$f":"IF($C215=Referenca!$J$3,CONCATENATE('3. Shpenzimet'!#REF!,\"-\",'3. Shpenzimet'!#REF!,\"-\",TEXT('3. Shpenzimet'!#REF!,\"dd/mm/yyyy\")),\"\")","v":""}]
[{"$f":"IF(B216=\"\",\"\",MAX(A$21:A215)+1)","v":""},{"$f":"IF($C216=Referenca!$J$3,CONCATENATE('3. Shpenzimet'!#REF!,\"-\",'3. Shpenzimet'!#REF!,\"-\",TEXT('3. Shpenzimet'!#REF!,\"dd/mm/yyyy\")),\"\")","v":""}]
[{"$f":"IF(B217=\"\",\"\",MAX(A$21:A216)+1)","v":""},{"$f":"IF($C217=Referenca!$J$3,CONCATENATE('3. Shpenzimet'!#REF!,\"-\",'3. Shpenzimet'!#REF!,\"-\",TEXT('3. Shpenzimet'!#REF!,\"dd/mm/yyyy\")),\"\")","v":""}]
[{"$f":"IF(B218=\"\",\"\",MAX(A$21:A217)+1)","v":""},{"$f":"IF($C218=Referenca!$J$3,CONCATENATE('3. Shpenzimet'!#REF!,\"-\",'3. Shpenzimet'!#REF!,\"-\",TEXT('3. Shpenzimet'!#REF!,\"dd/mm/yyyy\")),\"\")","v":""}]
[{"$f":"IF(B219=\"\",\"\",MAX(A$21:A218)+1)","v":""},{"$f":"IF($C219=Referenca!$J$3,CONCATENATE('3. Shpenzimet'!#REF!,\"-\",'3. Shpenzimet'!#REF!,\"-\",TEXT('3. Shpenzimet'!#REF!,\"dd/mm/yyyy\")),\"\")","v":""}]
[{"$f":"IF(B220=\"\",\"\",MAX(A$21:A219)+1)","v":""},{"$f":"IF($C220=Referenca!$J$3,CONCATENATE('3. Shpenzimet'!#REF!,\"-\",'3. Shpenzimet'!#REF!,\"-\",TEXT('3. Shpenzimet'!#REF!,\"dd/mm/yyyy\")),\"\")","v":""}]
[{"$f":"IF(B221=\"\",\"\",MAX(A$21:A220)+1)","v":""},{"$f":"IF($C221=Referenca!$J$3,CONCATENATE('3. Shpenzimet'!#REF!,\"-\",'3. Shpenzimet'!#REF!,\"-\",TEXT('3. Shpenzimet'!#REF!,\"dd/mm/yyyy\")),\"\")","v":""}]
[{"$f":"IF(B222=\"\",\"\",MAX(A$21:A221)+1)","v":""},{"$f":"IF($C222=Referenca!$J$3,CONCATENATE('3. Shpenzimet'!#REF!,\"-\",'3. Shpenzimet'!#REF!,\"-\",TEXT('3. Shpenzimet'!#REF!,\"dd/mm/yyyy\")),\"\")","v":""}]
[{"$f":"IF(B223=\"\",\"\",MAX(A$21:A222)+1)","v":""},{"$f":"IF($C223=Referenca!$J$3,CONCATENATE('3. Shpenzimet'!#REF!,\"-\",'3. Shpenzimet'!#REF!,\"-\",TEXT('3. Shpenzimet'!#REF!,\"dd/mm/yyyy\")),\"\")","v":""}]
[{"$f":"IF(B224=\"\",\"\",MAX(A$21:A223)+1)","v":""},{"$f":"IF($C224=Referenca!$J$3,CONCATENATE('3. Shpenzimet'!#REF!,\"-\",'3. Shpenzimet'!#REF!,\"-\",TEXT('3. Shpenzimet'!#REF!,\"dd/mm/yyyy\")),\"\")","v":""}]
[{"$f":"IF(B225=\"\",\"\",MAX(A$21:A224)+1)","v":""},{"$f":"IF($C225=Referenca!$J$3,CONCATENATE('3. Shpenzimet'!#REF!,\"-\",'3. Shpenzimet'!#REF!,\"-\",TEXT('3. Shpenzimet'!#REF!,\"dd/mm/yyyy\")),\"\")","v":""}]
[{"$f":"IF(B226=\"\",\"\",MAX(A$21:A225)+1)","v":""},{"$f":"IF($C226=Referenca!$J$3,CONCATENATE('3. Shpenzimet'!#REF!,\"-\",'3. Shpenzimet'!#REF!,\"-\",TEXT('3. Shpenzimet'!#REF!,\"dd/mm/yyyy\")),\"\")","v":""}]
[{"$f":"IF(B227=\"\",\"\",MAX(A$21:A226)+1)","v":""},{"$f":"IF($C227=Referenca!$J$3,CONCATENATE('3. Shpenzimet'!#REF!,\"-\",'3. Shpenzimet'!#REF!,\"-\",TEXT('3. Shpenzimet'!#REF!,\"dd/mm/yyyy\")),\"\")","v":""}]
[{"$f":"IF(B228=\"\",\"\",MAX(A$21:A227)+1)","v":""},{"$f":"IF($C228=Referenca!$J$3,CONCATENATE('3. Shpenzimet'!#REF!,\"-\",'3. Shpenzimet'!#REF!,\"-\",TEXT('3. Shpenzimet'!#REF!,\"dd/mm/yyyy\")),\"\")","v":""}]
[{"$f":"IF(B229=\"\",\"\",MAX(A$21:A228)+1)","v":""},{"$f":"IF($C229=Referenca!$J$3,CONCATENATE('3. Shpenzimet'!#REF!,\"-\",'3. Shpenzimet'!#REF!,\"-\",TEXT('3. Shpenzimet'!#REF!,\"dd/mm/yyyy\")),\"\")","v":""}]
[{"$f":"IF(B230=\"\",\"\",MAX(A$21:A229)+1)","v":""},{"$f":"IF($C230=Referenca!$J$3,CONCATENATE('3. Shpenzimet'!#REF!,\"-\",'3. Shpenzimet'!#REF!,\"-\",TEXT('3. Shpenzimet'!#REF!,\"dd/mm/yyyy\")),\"\")","v":""}]
[{"$f":"IF(B231=\"\",\"\",MAX(A$21:A230)+1)","v":""},{"$f":"IF($C231=Referenca!$J$3,CONCATENATE('3. Shpenzimet'!#REF!,\"-\",'3. Shpenzimet'!#REF!,\"-\",TEXT('3. Shpenzimet'!#REF!,\"dd/mm/yyyy\")),\"\")","v":""}]
[{"$f":"IF(B232=\"\",\"\",MAX(A$21:A231)+1)","v":""},{"$f":"IF($C232=Referenca!$J$3,CONCATENATE('3. Shpenzimet'!#REF!,\"-\",'3. Shpenzimet'!#REF!,\"-\",TEXT('3. Shpenzimet'!#REF!,\"dd/mm/yyyy\")),\"\")","v":""}]
[{"$f":"IF(B233=\"\",\"\",MAX(A$21:A232)+1)","v":""},{"$f":"IF($C233=Referenca!$J$3,CONCATENATE('3. Shpenzimet'!#REF!,\"-\",'3. Shpenzimet'!#REF!,\"-\",TEXT('3. Shpenzimet'!#REF!,\"dd/mm/yyyy\")),\"\")","v":""}]
[{"$f":"IF(B234=\"\",\"\",MAX(A$21:A233)+1)","v":""},{"$f":"IF($C234=Referenca!$J$3,CONCATENATE('3. Shpenzimet'!#REF!,\"-\",'3. Shpenzimet'!#REF!,\"-\",TEXT('3. Shpenzimet'!#REF!,\"dd/mm/yyyy\")),\"\")","v":""}]
[{"$f":"IF(B235=\"\",\"\",MAX(A$21:A234)+1)","v":""},{"$f":"IF($C235=Referenca!$J$3,CONCATENATE('3. Shpenzimet'!#REF!,\"-\",'3. Shpenzimet'!#REF!,\"-\",TEXT('3. Shpenzimet'!#REF!,\"dd/mm/yyyy\")),\"\")","v":""}]
[{"$f":"IF(B236=\"\",\"\",MAX(A$21:A235)+1)","v":""},{"$f":"IF($C236=Referenca!$J$3,CONCATENATE('3. Shpenzimet'!#REF!,\"-\",'3. Shpenzimet'!#REF!,\"-\",TEXT('3. Shpenzimet'!#REF!,\"dd/mm/yyyy\")),\"\")","v":""}]
[{"$f":"IF(B237=\"\",\"\",MAX(A$21:A236)+1)","v":""},{"$f":"IF($C237=Referenca!$J$3,CONCATENATE('3. Shpenzimet'!#REF!,\"-\",'3. Shpenzimet'!#REF!,\"-\",TEXT('3. Shpenzimet'!#REF!,\"dd/mm/yyyy\")),\"\")","v":""}]
[{"$f":"IF(B238=\"\",\"\",MAX(A$21:A237)+1)","v":""},{"$f":"IF($C238=Referenca!$J$3,CONCATENATE('3. Shpenzimet'!#REF!,\"-\",'3. Shpenzimet'!#REF!,\"-\",TEXT('3. Shpenzimet'!#REF!,\"dd/mm/yyyy\")),\"\")","v":""}]
[{"$f":"IF(B239=\"\",\"\",MAX(A$21:A238)+1)","v":""},{"$f":"IF($C239=Referenca!$J$3,CONCATENATE('3. Shpenzimet'!#REF!,\"-\",'3. Shpenzimet'!#REF!,\"-\",TEXT('3. Shpenzimet'!#REF!,\"dd/mm/yyyy\")),\"\")","v":""}]
[{"$f":"IF(B240=\"\",\"\",MAX(A$21:A239)+1)","v":""},{"$f":"IF($C240=Referenca!$J$3,CONCATENATE('3. Shpenzimet'!#REF!,\"-\",'3. Shpenzimet'!#REF!,\"-\",TEXT('3. Shpenzimet'!#REF!,\"dd/mm/yyyy\")),\"\")","v":""}]
[{"$f":"IF(B241=\"\",\"\",MAX(A$21:A240)+1)","v":""},{"$f":"IF($C241=Referenca!$J$3,CONCATENATE('3. Shpenzimet'!#REF!,\"-\",'3. Shpenzimet'!#REF!,\"-\",TEXT('3. Shpenzimet'!#REF!,\"dd/mm/yyyy\")),\"\")","v":""}]
[{"$f":"IF(B242=\"\",\"\",MAX(A$21:A241)+1)","v":""},{"$f":"IF($C242=Referenca!$J$3,CONCATENATE('3. Shpenzimet'!#REF!,\"-\",'3. Shpenzimet'!#REF!,\"-\",TEXT('3. Shpenzimet'!#REF!,\"dd/mm/yyyy\")),\"\")","v":""}]
[{"$f":"IF(B243=\"\",\"\",MAX(A$21:A242)+1)","v":""},{"$f":"IF($C243=Referenca!$J$3,CONCATENATE('3. Shpenzimet'!#REF!,\"-\",'3. Shpenzimet'!#REF!,\"-\",TEXT('3. Shpenzimet'!#REF!,\"dd/mm/yyyy\")),\"\")","v":""}]
[{"$f":"IF(B244=\"\",\"\",MAX(A$21:A243)+1)","v":""},{"$f":"IF($C244=Referenca!$J$3,CONCATENATE('3. Shpenzimet'!#REF!,\"-\",'3. Shpenzimet'!#REF!,\"-\",TEXT('3. Shpenzimet'!#REF!,\"dd/mm/yyyy\")),\"\")","v":""}]
[{"$f":"IF(B245=\"\",\"\",MAX(A$21:A244)+1)","v":""},{"$f":"IF($C245=Referenca!$J$3,CONCATENATE('3. Shpenzimet'!#REF!,\"-\",'3. Shpenzimet'!#REF!,\"-\",TEXT('3. Shpenzimet'!#REF!,\"dd/mm/yyyy\")),\"\")","v":""}]
[{"$f":"IF(B246=\"\",\"\",MAX(A$21:A245)+1)","v":""},{"$f":"IF($C246=Referenca!$J$3,CONCATENATE('3. Shpenzimet'!#REF!,\"-\",'3. Shpenzimet'!#REF!,\"-\",TEXT('3. Shpenzimet'!#REF!,\"dd/mm/yyyy\")),\"\")","v":""}]
[{"$f":"IF(B247=\"\",\"\",MAX(A$21:A246)+1)","v":""},{"$f":"IF($C247=Referenca!$J$3,CONCATENATE('3. Shpenzimet'!#REF!,\"-\",'3. Shpenzimet'!#REF!,\"-\",TEXT('3. Shpenzimet'!#REF!,\"dd/mm/yyyy\")),\"\")","v":""}]
[{"$f":"IF(B248=\"\",\"\",MAX(A$21:A247)+1)","v":""},{"$f":"IF($C248=Referenca!$J$3,CONCATENATE('3. Shpenzimet'!#REF!,\"-\",'3. Shpenzimet'!#REF!,\"-\",TEXT('3. Shpenzimet'!#REF!,\"dd/mm/yyyy\")),\"\")","v":""}]
[{"$f":"IF(B249=\"\",\"\",MAX(A$21:A248)+1)","v":""},{"$f":"IF($C249=Referenca!$J$3,CONCATENATE('3. Shpenzimet'!#REF!,\"-\",'3. Shpenzimet'!#REF!,\"-\",TEXT('3. Shpenzimet'!#REF!,\"dd/mm/yyyy\")),\"\")","v":""}]
[{"$f":"IF(B250=\"\",\"\",MAX(A$21:A249)+1)","v":""},{"$f":"IF($C250=Referenca!$J$3,CONCATENATE('3. Shpenzimet'!#REF!,\"-\",'3. Shpenzimet'!#REF!,\"-\",TEXT('3. Shpenzimet'!#REF!,\"dd/mm/yyyy\")),\"\")","v":""}]
[{"$f":"IF(B251=\"\",\"\",MAX(A$21:A250)+1)","v":""},{"$f":"IF($C251=Referenca!$J$3,CONCATENATE('3. Shpenzimet'!#REF!,\"-\",'3. Shpenzimet'!#REF!,\"-\",TEXT('3. Shpenzimet'!#REF!,\"dd/mm/yyyy\")),\"\")","v":""}]
[{"$f":"IF(B252=\"\",\"\",MAX(A$21:A251)+1)","v":""},{"$f":"IF($C252=Referenca!$J$3,CONCATENATE('3. Shpenzimet'!#REF!,\"-\",'3. Shpenzimet'!#REF!,\"-\",TEXT('3. Shpenzimet'!#REF!,\"dd/mm/yyyy\")),\"\")","v":""}]
[{"$f":"IF(B253=\"\",\"\",MAX(A$21:A252)+1)","v":""},{"$f":"IF($C253=Referenca!$J$3,CONCATENATE('3. Shpenzimet'!#REF!,\"-\",'3. Shpenzimet'!#REF!,\"-\",TEXT('3. Shpenzimet'!#REF!,\"dd/mm/yyyy\")),\"\")","v":""}]
[{"$f":"IF(B254=\"\",\"\",MAX(A$21:A253)+1)","v":""},{"$f":"IF($C254=Referenca!$J$3,CONCATENATE('3. Shpenzimet'!#REF!,\"-\",'3. Shpenzimet'!#REF!,\"-\",TEXT('3. Shpenzimet'!#REF!,\"dd/mm/yyyy\")),\"\")","v":""}]
[{"$f":"IF(B255=\"\",\"\",MAX(A$21:A254)+1)","v":""},{"$f":"IF($C255=Referenca!$J$3,CONCATENATE('3. Shpenzimet'!#REF!,\"-\",'3. Shpenzimet'!#REF!,\"-\",TEXT('3. Shpenzimet'!#REF!,\"dd/mm/yyyy\")),\"\")","v":""}]
[{"$f":"IF(B256=\"\",\"\",MAX(A$21:A255)+1)","v":""},{"$f":"IF($C256=Referenca!$J$3,CONCATENATE('3. Shpenzimet'!#REF!,\"-\",'3. Shpenzimet'!#REF!,\"-\",TEXT('3. Shpenzimet'!#REF!,\"dd/mm/yyyy\")),\"\")","v":""}]
[{"$f":"IF(B257=\"\",\"\",MAX(A$21:A256)+1)","v":""},{"$f":"IF($C257=Referenca!$J$3,CONCATENATE('3. Shpenzimet'!#REF!,\"-\",'3. Shpenzimet'!#REF!,\"-\",TEXT('3. Shpenzimet'!#REF!,\"dd/mm/yyyy\")),\"\")","v":""}]
[{"$f":"IF(B258=\"\",\"\",MAX(A$21:A257)+1)","v":""},{"$f":"IF($C258=Referenca!$J$3,CONCATENATE('3. Shpenzimet'!#REF!,\"-\",'3. Shpenzimet'!#REF!,\"-\",TEXT('3. Shpenzimet'!#REF!,\"dd/mm/yyyy\")),\"\")","v":""}]
[{"$f":"IF(B259=\"\",\"\",MAX(A$21:A258)+1)","v":""},{"$f":"IF($C259=Referenca!$J$3,CONCATENATE('3. Shpenzimet'!#REF!,\"-\",'3. Shpenzimet'!#REF!,\"-\",TEXT('3. Shpenzimet'!#REF!,\"dd/mm/yyyy\")),\"\")","v":""}]
[{"$f":"IF(B260=\"\",\"\",MAX(A$21:A259)+1)","v":""},{"$f":"IF($C260=Referenca!$J$3,CONCATENATE('3. Shpenzimet'!#REF!,\"-\",'3. Shpenzimet'!#REF!,\"-\",TEXT('3. Shpenzimet'!#REF!,\"dd/mm/yyyy\")),\"\")","v":""}]
[{"$f":"IF(B261=\"\",\"\",MAX(A$21:A260)+1)","v":""},{"$f":"IF($C261=Referenca!$J$3,CONCATENATE('3. Shpenzimet'!#REF!,\"-\",'3. Shpenzimet'!#REF!,\"-\",TEXT('3. Shpenzimet'!#REF!,\"dd/mm/yyyy\")),\"\")","v":""}]
[{"$f":"IF(B262=\"\",\"\",MAX(A$21:A261)+1)","v":""},{"$f":"IF($C262=Referenca!$J$3,CONCATENATE('3. Shpenzimet'!#REF!,\"-\",'3. Shpenzimet'!#REF!,\"-\",TEXT('3. Shpenzimet'!#REF!,\"dd/mm/yyyy\")),\"\")","v":""}]
[{"$f":"IF(B263=\"\",\"\",MAX(A$21:A262)+1)","v":""},{"$f":"IF($C263=Referenca!$J$3,CONCATENATE('3. Shpenzimet'!#REF!,\"-\",'3. Shpenzimet'!#REF!,\"-\",TEXT('3. Shpenzimet'!#REF!,\"dd/mm/yyyy\")),\"\")","v":""}]
[{"$f":"IF(B264=\"\",\"\",MAX(A$21:A263)+1)","v":""},{"$f":"IF($C264=Referenca!$J$3,CONCATENATE('3. Shpenzimet'!#REF!,\"-\",'3. Shpenzimet'!#REF!,\"-\",TEXT('3. Shpenzimet'!#REF!,\"dd/mm/yyyy\")),\"\")","v":""}]
[{"$f":"IF(B265=\"\",\"\",MAX(A$21:A264)+1)","v":""},{"$f":"IF($C265=Referenca!$J$3,CONCATENATE('3. Shpenzimet'!#REF!,\"-\",'3. Shpenzimet'!#REF!,\"-\",TEXT('3. Shpenzimet'!#REF!,\"dd/mm/yyyy\")),\"\")","v":""}]
[{"$f":"IF(B266=\"\",\"\",MAX(A$21:A265)+1)","v":""},{"$f":"IF($C266=Referenca!$J$3,CONCATENATE('3. Shpenzimet'!#REF!,\"-\",'3. Shpenzimet'!#REF!,\"-\",TEXT('3. Shpenzimet'!#REF!,\"dd/mm/yyyy\")),\"\")","v":""}]
[{"$f":"IF(B267=\"\",\"\",MAX(A$21:A266)+1)","v":""},{"$f":"IF($C267=Referenca!$J$3,CONCATENATE('3. Shpenzimet'!#REF!,\"-\",'3. Shpenzimet'!#REF!,\"-\",TEXT('3. Shpenzimet'!#REF!,\"dd/mm/yyyy\")),\"\")","v":""}]
[{"$f":"IF(B268=\"\",\"\",MAX(A$21:A267)+1)","v":""},{"$f":"IF($C268=Referenca!$J$3,CONCATENATE('3. Shpenzimet'!#REF!,\"-\",'3. Shpenzimet'!#REF!,\"-\",TEXT('3. Shpenzimet'!#REF!,\"dd/mm/yyyy\")),\"\")","v":""}]
[{"$f":"IF(B269=\"\",\"\",MAX(A$21:A268)+1)","v":""},{"$f":"IF($C269=Referenca!$J$3,CONCATENATE('3. Shpenzimet'!#REF!,\"-\",'3. Shpenzimet'!#REF!,\"-\",TEXT('3. Shpenzimet'!#REF!,\"dd/mm/yyyy\")),\"\")","v":""}]
[{"$f":"IF(B270=\"\",\"\",MAX(A$21:A269)+1)","v":""},{"$f":"IF($C270=Referenca!$J$3,CONCATENATE('3. Shpenzimet'!#REF!,\"-\",'3. Shpenzimet'!#REF!,\"-\",TEXT('3. Shpenzimet'!#REF!,\"dd/mm/yyyy\")),\"\")","v":""}]
[{"$f":"IF(B271=\"\",\"\",MAX(A$21:A270)+1)","v":""},{"$f":"IF($C271=Referenca!$J$3,CONCATENATE('3. Shpenzimet'!#REF!,\"-\",'3. Shpenzimet'!#REF!,\"-\",TEXT('3. Shpenzimet'!#REF!,\"dd/mm/yyyy\")),\"\")","v":""}]
[{"$f":"IF(B272=\"\",\"\",MAX(A$21:A271)+1)","v":""},{"$f":"IF($C272=Referenca!$J$3,CONCATENATE('3. Shpenzimet'!#REF!,\"-\",'3. Shpenzimet'!#REF!,\"-\",TEXT('3. Shpenzimet'!#REF!,\"dd/mm/yyyy\")),\"\")","v":""}]
[{"$f":"IF(B273=\"\",\"\",MAX(A$21:A272)+1)","v":""},{"$f":"IF($C273=Referenca!$J$3,CONCATENATE('3. Shpenzimet'!#REF!,\"-\",'3. Shpenzimet'!#REF!,\"-\",TEXT('3. Shpenzimet'!#REF!,\"dd/mm/yyyy\")),\"\")","v":""}]
[{"$f":"IF(B274=\"\",\"\",MAX(A$21:A273)+1)","v":""},{"$f":"IF($C274=Referenca!$J$3,CONCATENATE('3. Shpenzimet'!#REF!,\"-\",'3. Shpenzimet'!#REF!,\"-\",TEXT('3. Shpenzimet'!#REF!,\"dd/mm/yyyy\")),\"\")","v":""}]
[{"$f":"IF(B275=\"\",\"\",MAX(A$21:A274)+1)","v":""},{"$f":"IF($C275=Referenca!$J$3,CONCATENATE('3. Shpenzimet'!#REF!,\"-\",'3. Shpenzimet'!#REF!,\"-\",TEXT('3. Shpenzimet'!#REF!,\"dd/mm/yyyy\")),\"\")","v":""}]
[{"$f":"IF(B276=\"\",\"\",MAX(A$21:A275)+1)","v":""},{"$f":"IF($C276=Referenca!$J$3,CONCATENATE('3. Shpenzimet'!#REF!,\"-\",'3. Shpenzimet'!#REF!,\"-\",TEXT('3. Shpenzimet'!#REF!,\"dd/mm/yyyy\")),\"\")","v":""}]
[{"$f":"IF(B277=\"\",\"\",MAX(A$21:A276)+1)","v":""},{"$f":"IF($C277=Referenca!$J$3,CONCATENATE('3. Shpenzimet'!#REF!,\"-\",'3. Shpenzimet'!#REF!,\"-\",TEXT('3. Shpenzimet'!#REF!,\"dd/mm/yyyy\")),\"\")","v":""}]
[{"$f":"IF(B278=\"\",\"\",MAX(A$21:A277)+1)","v":""},{"$f":"IF($C278=Referenca!$J$3,CONCATENATE('3. Shpenzimet'!#REF!,\"-\",'3. Shpenzimet'!#REF!,\"-\",TEXT('3. Shpenzimet'!#REF!,\"dd/mm/yyyy\")),\"\")","v":""}]
[{"$f":"IF(B279=\"\",\"\",MAX(A$21:A278)+1)","v":""},{"$f":"IF($C279=Referenca!$J$3,CONCATENATE('3. Shpenzimet'!#REF!,\"-\",'3. Shpenzimet'!#REF!,\"-\",TEXT('3. Shpenzimet'!#REF!,\"dd/mm/yyyy\")),\"\")","v":""}]
[{"$f":"IF(B280=\"\",\"\",MAX(A$21:A279)+1)","v":""},{"$f":"IF($C280=Referenca!$J$3,CONCATENATE('3. Shpenzimet'!#REF!,\"-\",'3. Shpenzimet'!#REF!,\"-\",TEXT('3. Shpenzimet'!#REF!,\"dd/mm/yyyy\")),\"\")","v":""}]
[{"$f":"IF(B281=\"\",\"\",MAX(A$21:A280)+1)","v":""},{"$f":"IF($C281=Referenca!$J$3,CONCATENATE('3. Shpenzimet'!#REF!,\"-\",'3. Shpenzimet'!#REF!,\"-\",TEXT('3. Shpenzimet'!#REF!,\"dd/mm/yyyy\")),\"\")","v":""}]
[{"$f":"IF(B282=\"\",\"\",MAX(A$21:A281)+1)","v":""},{"$f":"IF($C282=Referenca!$J$3,CONCATENATE('3. Shpenzimet'!#REF!,\"-\",'3. Shpenzimet'!#REF!,\"-\",TEXT('3. Shpenzimet'!#REF!,\"dd/mm/yyyy\")),\"\")","v":""}]
[{"$f":"IF(B283=\"\",\"\",MAX(A$21:A282)+1)","v":""},{"$f":"IF($C283=Referenca!$J$3,CONCATENATE('3. Shpenzimet'!#REF!,\"-\",'3. Shpenzimet'!#REF!,\"-\",TEXT('3. Shpenzimet'!#REF!,\"dd/mm/yyyy\")),\"\")","v":""}]
[{"$f":"IF(B284=\"\",\"\",MAX(A$21:A283)+1)","v":""},{"$f":"IF($C284=Referenca!$J$3,CONCATENATE('3. Shpenzimet'!#REF!,\"-\",'3. Shpenzimet'!#REF!,\"-\",TEXT('3. Shpenzimet'!#REF!,\"dd/mm/yyyy\")),\"\")","v":""}]
[{"$f":"IF(B285=\"\",\"\",MAX(A$21:A284)+1)","v":""},{"$f":"IF($C285=Referenca!$J$3,CONCATENATE('3. Shpenzimet'!#REF!,\"-\",'3. Shpenzimet'!#REF!,\"-\",TEXT('3. Shpenzimet'!#REF!,\"dd/mm/yyyy\")),\"\")","v":""}]
[{"$f":"IF(B286=\"\",\"\",MAX(A$21:A285)+1)","v":""},{"$f":"IF($C286=Referenca!$J$3,CONCATENATE('3. Shpenzimet'!#REF!,\"-\",'3. Shpenzimet'!#REF!,\"-\",TEXT('3. Shpenzimet'!#REF!,\"dd/mm/yyyy\")),\"\")","v":""}]
[{"$f":"IF(B287=\"\",\"\",MAX(A$21:A286)+1)","v":""},{"$f":"IF($C287=Referenca!$J$3,CONCATENATE('3. Shpenzimet'!#REF!,\"-\",'3. Shpenzimet'!#REF!,\"-\",TEXT('3. Shpenzimet'!#REF!,\"dd/mm/yyyy\")),\"\")","v":""}]
[{"$f":"IF(B288=\"\",\"\",MAX(A$21:A287)+1)","v":""},{"$f":"IF($C288=Referenca!$J$3,CONCATENATE('3. Shpenzimet'!#REF!,\"-\",'3. Shpenzimet'!#REF!,\"-\",TEXT('3. Shpenzimet'!#REF!,\"dd/mm/yyyy\")),\"\")","v":""}]
[{"$f":"IF(B289=\"\",\"\",MAX(A$21:A288)+1)","v":""},{"$f":"IF($C289=Referenca!$J$3,CONCATENATE('3. Shpenzimet'!#REF!,\"-\",'3. Shpenzimet'!#REF!,\"-\",TEXT('3. Shpenzimet'!#REF!,\"dd/mm/yyyy\")),\"\")","v":""}]
[{"$f":"IF(B290=\"\",\"\",MAX(A$21:A289)+1)","v":""},{"$f":"IF($C290=Referenca!$J$3,CONCATENATE('3. Shpenzimet'!#REF!,\"-\",'3. Shpenzimet'!#REF!,\"-\",TEXT('3. Shpenzimet'!#REF!,\"dd/mm/yyyy\")),\"\")","v":""}]
[{"$f":"IF(B291=\"\",\"\",MAX(A$21:A290)+1)","v":""},{"$f":"IF($C291=Referenca!$J$3,CONCATENATE('3. Shpenzimet'!#REF!,\"-\",'3. Shpenzimet'!#REF!,\"-\",TEXT('3. Shpenzimet'!#REF!,\"dd/mm/yyyy\")),\"\")","v":""}]
[{"$f":"IF(B292=\"\",\"\",MAX(A$21:A291)+1)","v":""},{"$f":"IF($C292=Referenca!$J$3,CONCATENATE('3. Shpenzimet'!#REF!,\"-\",'3. Shpenzimet'!#REF!,\"-\",TEXT('3. Shpenzimet'!#REF!,\"dd/mm/yyyy\")),\"\")","v":""}]
[{"$f":"IF(B293=\"\",\"\",MAX(A$21:A292)+1)","v":""},{"$f":"IF($C293=Referenca!$J$3,CONCATENATE('3. Shpenzimet'!#REF!,\"-\",'3. Shpenzimet'!#REF!,\"-\",TEXT('3. Shpenzimet'!#REF!,\"dd/mm/yyyy\")),\"\")","v":""}]
[{"$f":"IF(B294=\"\",\"\",MAX(A$21:A293)+1)","v":""},{"$f":"IF($C294=Referenca!$J$3,CONCATENATE('3. Shpenzimet'!#REF!,\"-\",'3. Shpenzimet'!#REF!,\"-\",TEXT('3. Shpenzimet'!#REF!,\"dd/mm/yyyy\")),\"\")","v":""}]
[{"$f":"IF(B295=\"\",\"\",MAX(A$21:A294)+1)","v":""},{"$f":"IF($C295=Referenca!$J$3,CONCATENATE('3. Shpenzimet'!#REF!,\"-\",'3. Shpenzimet'!#REF!,\"-\",TEXT('3. Shpenzimet'!#REF!,\"dd/mm/yyyy\")),\"\")","v":""}]
[{"$f":"IF(B296=\"\",\"\",MAX(A$21:A295)+1)","v":""},{"$f":"IF($C296=Referenca!$J$3,CONCATENATE('3. Shpenzimet'!#REF!,\"-\",'3. Shpenzimet'!#REF!,\"-\",TEXT('3. Shpenzimet'!#REF!,\"dd/mm/yyyy\")),\"\")","v":""}]
[{"$f":"IF(B297=\"\",\"\",MAX(A$21:A296)+1)","v":""},{"$f":"IF($C297=Referenca!$J$3,CONCATENATE('3. Shpenzimet'!#REF!,\"-\",'3. Shpenzimet'!#REF!,\"-\",TEXT('3. Shpenzimet'!#REF!,\"dd/mm/yyyy\")),\"\")","v":""}]
[{"$f":"IF(B298=\"\",\"\",MAX(A$21:A297)+1)","v":""},{"$f":"IF($C298=Referenca!$J$3,CONCATENATE('3. Shpenzimet'!#REF!,\"-\",'3. Shpenzimet'!#REF!,\"-\",TEXT('3. Shpenzimet'!#REF!,\"dd/mm/yyyy\")),\"\")","v":""}]
[{"$f":"IF(B299=\"\",\"\",MAX(A$21:A298)+1)","v":""},{"$f":"IF($C299=Referenca!$J$3,CONCATENATE('3. Shpenzimet'!#REF!,\"-\",'3. Shpenzimet'!#REF!,\"-\",TEXT('3. Shpenzimet'!#REF!,\"dd/mm/yyyy\")),\"\")","v":""}]
[{"$f":"IF(B300=\"\",\"\",MAX(A$21:A299)+1)","v":""},{"$f":"IF($C300=Referenca!$J$3,CONCATENATE('3. Shpenzimet'!#REF!,\"-\",'3. Shpenzimet'!#REF!,\"-\",TEXT('3. Shpenzimet'!#REF!,\"dd/mm/yyyy\")),\"\")","v":""}]
[{"$f":"IF(B301=\"\",\"\",MAX(A$21:A300)+1)","v":""},{"$f":"IF($C301=Referenca!$J$3,CONCATENATE('3. Shpenzimet'!#REF!,\"-\",'3. Shpenzimet'!#REF!,\"-\",TEXT('3. Shpenzimet'!#REF!,\"dd/mm/yyyy\")),\"\")","v":""}]
[{"$f":"IF(B302=\"\",\"\",MAX(A$21:A301)+1)","v":""},{"$f":"IF($C302=Referenca!$J$3,CONCATENATE('3. Shpenzimet'!#REF!,\"-\",'3. Shpenzimet'!#REF!,\"-\",TEXT('3. Shpenzimet'!#REF!,\"dd/mm/yyyy\")),\"\")","v":""}]
[{"$f":"IF(B303=\"\",\"\",MAX(A$21:A302)+1)","v":""},{"$f":"IF($C303=Referenca!$J$3,CONCATENATE('3. Shpenzimet'!#REF!,\"-\",'3. Shpenzimet'!#REF!,\"-\",TEXT('3. Shpenzimet'!#REF!,\"dd/mm/yyyy\")),\"\")","v":""}]
[{"$f":"IF(B304=\"\",\"\",MAX(A$21:A303)+1)","v":""},{"$f":"IF($C304=Referenca!$J$3,CONCATENATE('3. Shpenzimet'!#REF!,\"-\",'3. Shpenzimet'!#REF!,\"-\",TEXT('3. Shpenzimet'!#REF!,\"dd/mm/yyyy\")),\"\")","v":""}]
[{"$f":"IF(B305=\"\",\"\",MAX(A$21:A304)+1)","v":""},{"$f":"IF($C305=Referenca!$J$3,CONCATENATE('3. Shpenzimet'!#REF!,\"-\",'3. Shpenzimet'!#REF!,\"-\",TEXT('3. Shpenzimet'!#REF!,\"dd/mm/yyyy\")),\"\")","v":""}]
[{"$f":"IF(B306=\"\",\"\",MAX(A$21:A305)+1)","v":""},{"$f":"IF($C306=Referenca!$J$3,CONCATENATE('3. Shpenzimet'!#REF!,\"-\",'3. Shpenzimet'!#REF!,\"-\",TEXT('3. Shpenzimet'!#REF!,\"dd/mm/yyyy\")),\"\")","v":""}]
[{"$f":"IF(B307=\"\",\"\",MAX(A$21:A306)+1)","v":""},{"$f":"IF($C307=Referenca!$J$3,CONCATENATE('3. Shpenzimet'!#REF!,\"-\",'3. Shpenzimet'!#REF!,\"-\",TEXT('3. Shpenzimet'!#REF!,\"dd/mm/yyyy\")),\"\")","v":""}]
[{"$f":"IF(B308=\"\",\"\",MAX(A$21:A307)+1)","v":""},{"$f":"IF($C308=Referenca!$J$3,CONCATENATE('3. Shpenzimet'!#REF!,\"-\",'3. Shpenzimet'!#REF!,\"-\",TEXT('3. Shpenzimet'!#REF!,\"dd/mm/yyyy\")),\"\")","v":""}]
[{"$f":"IF(B309=\"\",\"\",MAX(A$21:A308)+1)","v":""},{"$f":"IF($C309=Referenca!$J$3,CONCATENATE('3. Shpenzimet'!#REF!,\"-\",'3. Shpenzimet'!#REF!,\"-\",TEXT('3. Shpenzimet'!#REF!,\"dd/mm/yyyy\")),\"\")","v":""}]
[{"$f":"IF(B310=\"\",\"\",MAX(A$21:A309)+1)","v":""},{"$f":"IF($C310=Referenca!$J$3,CONCATENATE('3. Shpenzimet'!#REF!,\"-\",'3. Shpenzimet'!#REF!,\"-\",TEXT('3. Shpenzimet'!#REF!,\"dd/mm/yyyy\")),\"\")","v":""}]
[{"$f":"IF(B311=\"\",\"\",MAX(A$21:A310)+1)","v":""},{"$f":"IF($C311=Referenca!$J$3,CONCATENATE('3. Shpenzimet'!#REF!,\"-\",'3. Shpenzimet'!#REF!,\"-\",TEXT('3. Shpenzimet'!#REF!,\"dd/mm/yyyy\")),\"\")","v":""}]
[{"$f":"IF(B312=\"\",\"\",MAX(A$21:A311)+1)","v":""},{"$f":"IF($C312=Referenca!$J$3,CONCATENATE('3. Shpenzimet'!#REF!,\"-\",'3. Shpenzimet'!#REF!,\"-\",TEXT('3. Shpenzimet'!#REF!,\"dd/mm/yyyy\")),\"\")","v":""}]
[{"$f":"IF(B313=\"\",\"\",MAX(A$21:A312)+1)","v":""},{"$f":"IF($C313=Referenca!$J$3,CONCATENATE('3. Shpenzimet'!#REF!,\"-\",'3. Shpenzimet'!#REF!,\"-\",TEXT('3. Shpenzimet'!#REF!,\"dd/mm/yyyy\")),\"\")","v":""}]
[{"$f":"IF(B314=\"\",\"\",MAX(A$21:A313)+1)","v":""},{"$f":"IF($C314=Referenca!$J$3,CONCATENATE('3. Shpenzimet'!#REF!,\"-\",'3. Shpenzimet'!#REF!,\"-\",TEXT('3. Shpenzimet'!#REF!,\"dd/mm/yyyy\")),\"\")","v":""}]
[{"$f":"IF(B315=\"\",\"\",MAX(A$21:A314)+1)","v":""},{"$f":"IF($C315=Referenca!$J$3,CONCATENATE('3. Shpenzimet'!#REF!,\"-\",'3. Shpenzimet'!#REF!,\"-\",TEXT('3. Shpenzimet'!#REF!,\"dd/mm/yyyy\")),\"\")","v":""}]
[{"$f":"IF(B316=\"\",\"\",MAX(A$21:A315)+1)","v":""},{"$f":"IF($C316=Referenca!$J$3,CONCATENATE('3. Shpenzimet'!#REF!,\"-\",'3. Shpenzimet'!#REF!,\"-\",TEXT('3. Shpenzimet'!#REF!,\"dd/mm/yyyy\")),\"\")","v":""}]
[{"$f":"IF(B317=\"\",\"\",MAX(A$21:A316)+1)","v":""},{"$f":"IF($C317=Referenca!$J$3,CONCATENATE('3. Shpenzimet'!#REF!,\"-\",'3. Shpenzimet'!#REF!,\"-\",TEXT('3. Shpenzimet'!#REF!,\"dd/mm/yyyy\")),\"\")","v":""}]
[{"$f":"IF(B318=\"\",\"\",MAX(A$21:A317)+1)","v":""},{"$f":"IF($C318=Referenca!$J$3,CONCATENATE('3. Shpenzimet'!#REF!,\"-\",'3. Shpenzimet'!#REF!,\"-\",TEXT('3. Shpenzimet'!#REF!,\"dd/mm/yyyy\")),\"\")","v":""}]
[{"$f":"IF(B319=\"\",\"\",MAX(A$21:A318)+1)","v":""},{"$f":"IF($C319=Referenca!$J$3,CONCATENATE('3. Shpenzimet'!#REF!,\"-\",'3. Shpenzimet'!#REF!,\"-\",TEXT('3. Shpenzimet'!#REF!,\"dd/mm/yyyy\")),\"\")","v":""}]
[{"$f":"IF(B320=\"\",\"\",MAX(A$21:A319)+1)","v":""},{"$f":"IF($C320=Referenca!$J$3,CONCATENATE('3. Shpenzimet'!#REF!,\"-\",'3. Shpenzimet'!#REF!,\"-\",TEXT('3. Shpenzimet'!#REF!,\"dd/mm/yyyy\")),\"\")","v":""}]
[{"$f":"IF(B321=\"\",\"\",MAX(A$21:A320)+1)","v":""},{"$f":"IF($C321=Referenca!$J$3,CONCATENATE('3. Shpenzimet'!#REF!,\"-\",'3. Shpenzimet'!#REF!,\"-\",TEXT('3. Shpenzimet'!#REF!,\"dd/mm/yyyy\")),\"\")","v":""}]
[{"$f":"IF(B322=\"\",\"\",MAX(A$21:A321)+1)","v":""},{"$f":"IF($C322=Referenca!$J$3,CONCATENATE('3. Shpenzimet'!#REF!,\"-\",'3. Shpenzimet'!#REF!,\"-\",TEXT('3. Shpenzimet'!#REF!,\"dd/mm/yyyy\")),\"\")","v":""}]
[{"$f":"IF(B323=\"\",\"\",MAX(A$21:A322)+1)","v":""},{"$f":"IF($C323=Referenca!$J$3,CONCATENATE('3. Shpenzimet'!#REF!,\"-\",'3. Shpenzimet'!#REF!,\"-\",TEXT('3. Shpenzimet'!#REF!,\"dd/mm/yyyy\")),\"\")","v":""}]
[{"$f":"IF(B324=\"\",\"\",MAX(A$21:A323)+1)","v":""},{"$f":"IF($C324=Referenca!$J$3,CONCATENATE('3. Shpenzimet'!#REF!,\"-\",'3. Shpenzimet'!#REF!,\"-\",TEXT('3. Shpenzimet'!#REF!,\"dd/mm/yyyy\")),\"\")","v":""}]
[{"$f":"IF(B325=\"\",\"\",MAX(A$21:A324)+1)","v":""},{"$f":"IF($C325=Referenca!$J$3,CONCATENATE('3. Shpenzimet'!#REF!,\"-\",'3. Shpenzimet'!#REF!,\"-\",TEXT('3. Shpenzimet'!#REF!,\"dd/mm/yyyy\")),\"\")","v":""}]
[{"$f":"IF(B326=\"\",\"\",MAX(A$21:A325)+1)","v":""},{"$f":"IF($C326=Referenca!$J$3,CONCATENATE('3. Shpenzimet'!#REF!,\"-\",'3. Shpenzimet'!#REF!,\"-\",TEXT('3. Shpenzimet'!#REF!,\"dd/mm/yyyy\")),\"\")","v":""}]
[{"$f":"IF(B327=\"\",\"\",MAX(A$21:A326)+1)","v":""},{"$f":"IF($C327=Referenca!$J$3,CONCATENATE('3. Shpenzimet'!#REF!,\"-\",'3. Shpenzimet'!#REF!,\"-\",TEXT('3. Shpenzimet'!#REF!,\"dd/mm/yyyy\")),\"\")","v":""}]
[{"$f":"IF(B328=\"\",\"\",MAX(A$21:A327)+1)","v":""},{"$f":"IF($C328=Referenca!$J$3,CONCATENATE('3. Shpenzimet'!#REF!,\"-\",'3. Shpenzimet'!#REF!,\"-\",TEXT('3. Shpenzimet'!#REF!,\"dd/mm/yyyy\")),\"\")","v":""}]
[{"$f":"IF(B329=\"\",\"\",MAX(A$21:A328)+1)","v":""},{"$f":"IF($C329=Referenca!$J$3,CONCATENATE('3. Shpenzimet'!#REF!,\"-\",'3. Shpenzimet'!#REF!,\"-\",TEXT('3. Shpenzimet'!#REF!,\"dd/mm/yyyy\")),\"\")","v":""}]
[{"$f":"IF(B330=\"\",\"\",MAX(A$21:A329)+1)","v":""},{"$f":"IF($C330=Referenca!$J$3,CONCATENATE('3. Shpenzimet'!#REF!,\"-\",'3. Shpenzimet'!#REF!,\"-\",TEXT('3. Shpenzimet'!#REF!,\"dd/mm/yyyy\")),\"\")","v":""}]
[{"$f":"IF(B331=\"\",\"\",MAX(A$21:A330)+1)","v":""},{"$f":"IF($C331=Referenca!$J$3,CONCATENATE('3. Shpenzimet'!#REF!,\"-\",'3. Shpenzimet'!#REF!,\"-\",TEXT('3. Shpenzimet'!#REF!,\"dd/mm/yyyy\")),\"\")","v":""}]
[{"$f":"IF(B332=\"\",\"\",MAX(A$21:A331)+1)","v":""},{"$f":"IF($C332=Referenca!$J$3,CONCATENATE('3. Shpenzimet'!#REF!,\"-\",'3. Shpenzimet'!#REF!,\"-\",TEXT('3. Shpenzimet'!#REF!,\"dd/mm/yyyy\")),\"\")","v":""}]
[{"$f":"IF(B333=\"\",\"\",MAX(A$21:A332)+1)","v":""},{"$f":"IF($C333=Referenca!$J$3,CONCATENATE('3. Shpenzimet'!#REF!,\"-\",'3. Shpenzimet'!#REF!,\"-\",TEXT('3. Shpenzimet'!#REF!,\"dd/mm/yyyy\")),\"\")","v":""}]
[{"$f":"IF(B334=\"\",\"\",MAX(A$21:A333)+1)","v":""},{"$f":"IF($C334=Referenca!$J$3,CONCATENATE('3. Shpenzimet'!#REF!,\"-\",'3. Shpenzimet'!#REF!,\"-\",TEXT('3. Shpenzimet'!#REF!,\"dd/mm/yyyy\")),\"\")","v":""}]
[{"$f":"IF(B335=\"\",\"\",MAX(A$21:A334)+1)","v":""},{"$f":"IF($C335=Referenca!$J$3,CONCATENATE('3. Shpenzimet'!#REF!,\"-\",'3. Shpenzimet'!#REF!,\"-\",TEXT('3. Shpenzimet'!#REF!,\"dd/mm/yyyy\")),\"\")","v":""}]
[{"$f":"IF(B336=\"\",\"\",MAX(A$21:A335)+1)","v":""},{"$f":"IF($C336=Referenca!$J$3,CONCATENATE('3. Shpenzimet'!#REF!,\"-\",'3. Shpenzimet'!#REF!,\"-\",TEXT('3. Shpenzimet'!#REF!,\"dd/mm/yyyy\")),\"\")","v":""}]
[{"$f":"IF(B337=\"\",\"\",MAX(A$21:A336)+1)","v":""},{"$f":"IF($C337=Referenca!$J$3,CONCATENATE('3. Shpenzimet'!#REF!,\"-\",'3. Shpenzimet'!#REF!,\"-\",TEXT('3. Shpenzimet'!#REF!,\"dd/mm/yyyy\")),\"\")","v":""}]
[{"$f":"IF(B338=\"\",\"\",MAX(A$21:A337)+1)","v":""},{"$f":"IF($C338=Referenca!$J$3,CONCATENATE('3. Shpenzimet'!#REF!,\"-\",'3. Shpenzimet'!#REF!,\"-\",TEXT('3. Shpenzimet'!#REF!,\"dd/mm/yyyy\")),\"\")","v":""}]
[{"$f":"IF(B339=\"\",\"\",MAX(A$21:A338)+1)","v":""},{"$f":"IF($C339=Referenca!$J$3,CONCATENATE('3. Shpenzimet'!#REF!,\"-\",'3. Shpenzimet'!#REF!,\"-\",TEXT('3. Shpenzimet'!#REF!,\"dd/mm/yyyy\")),\"\")","v":""}]
[{"$f":"IF(B340=\"\",\"\",MAX(A$21:A339)+1)","v":""},{"$f":"IF($C340=Referenca!$J$3,CONCATENATE('3. Shpenzimet'!#REF!,\"-\",'3. Shpenzimet'!#REF!,\"-\",TEXT('3. Shpenzimet'!#REF!,\"dd/mm/yyyy\")),\"\")","v":""}]
[{"$f":"IF(B341=\"\",\"\",MAX(A$21:A340)+1)","v":""},{"$f":"IF($C341=Referenca!$J$3,CONCATENATE('3. Shpenzimet'!#REF!,\"-\",'3. Shpenzimet'!#REF!,\"-\",TEXT('3. Shpenzimet'!#REF!,\"dd/mm/yyyy\")),\"\")","v":""}]
[{"$f":"IF(B342=\"\",\"\",MAX(A$21:A341)+1)","v":""},{"$f":"IF($C342=Referenca!$J$3,CONCATENATE('3. Shpenzimet'!#REF!,\"-\",'3. Shpenzimet'!#REF!,\"-\",TEXT('3. Shpenzimet'!#REF!,\"dd/mm/yyyy\")),\"\")","v":""}]
[{"$f":"IF(B343=\"\",\"\",MAX(A$21:A342)+1)","v":""},{"$f":"IF($C343=Referenca!$J$3,CONCATENATE('3. Shpenzimet'!#REF!,\"-\",'3. Shpenzimet'!#REF!,\"-\",TEXT('3. Shpenzimet'!#REF!,\"dd/mm/yyyy\")),\"\")","v":""}]
[{"$f":"IF(B344=\"\",\"\",MAX(A$21:A343)+1)","v":""},{"$f":"IF($C344=Referenca!$J$3,CONCATENATE('3. Shpenzimet'!#REF!,\"-\",'3. Shpenzimet'!#REF!,\"-\",TEXT('3. Shpenzimet'!#REF!,\"dd/mm/yyyy\")),\"\")","v":""}]
[{"$f":"IF(B345=\"\",\"\",MAX(A$21:A344)+1)","v":""},{"$f":"IF($C345=Referenca!$J$3,CONCATENATE('3. Shpenzimet'!#REF!,\"-\",'3. Shpenzimet'!#REF!,\"-\",TEXT('3. Shpenzimet'!#REF!,\"dd/mm/yyyy\")),\"\")","v":""}]
[{"$f":"IF(B346=\"\",\"\",MAX(A$21:A345)+1)","v":""},{"$f":"IF($C346=Referenca!$J$3,CONCATENATE('3. Shpenzimet'!#REF!,\"-\",'3. Shpenzimet'!#REF!,\"-\",TEXT('3. Shpenzimet'!#REF!,\"dd/mm/yyyy\")),\"\")","v":""}]
[{"$f":"IF(B347=\"\",\"\",MAX(A$21:A346)+1)","v":""},{"$f":"IF($C347=Referenca!$J$3,CONCATENATE('3. Shpenzimet'!#REF!,\"-\",'3. Shpenzimet'!#REF!,\"-\",TEXT('3. Shpenzimet'!#REF!,\"dd/mm/yyyy\")),\"\")","v":""}]
[{"$f":"IF(B348=\"\",\"\",MAX(A$21:A347)+1)","v":""},{"$f":"IF($C348=Referenca!$J$3,CONCATENATE('3. Shpenzimet'!#REF!,\"-\",'3. Shpenzimet'!#REF!,\"-\",TEXT('3. Shpenzimet'!#REF!,\"dd/mm/yyyy\")),\"\")","v":""}]
[{"$f":"IF(B349=\"\",\"\",MAX(A$21:A348)+1)","v":""},{"$f":"IF($C349=Referenca!$J$3,CONCATENATE('3. Shpenzimet'!#REF!,\"-\",'3. Shpenzimet'!#REF!,\"-\",TEXT('3. Shpenzimet'!#REF!,\"dd/mm/yyyy\")),\"\")","v":""}]
[{"$f":"IF(B350=\"\",\"\",MAX(A$21:A349)+1)","v":""},{"$f":"IF($C350=Referenca!$J$3,CONCATENATE('3. Shpenzimet'!#REF!,\"-\",'3. Shpenzimet'!#REF!,\"-\",TEXT('3. Shpenzimet'!#REF!,\"dd/mm/yyyy\")),\"\")","v":""}]
[{"$f":"IF(B351=\"\",\"\",MAX(A$21:A350)+1)","v":""},{"$f":"IF($C351=Referenca!$J$3,CONCATENATE('3. Shpenzimet'!#REF!,\"-\",'3. Shpenzimet'!#REF!,\"-\",TEXT('3. Shpenzimet'!#REF!,\"dd/mm/yyyy\")),\"\")","v":""}]
[{"$f":"IF(B352=\"\",\"\",MAX(A$21:A351)+1)","v":""},{"$f":"IF($C352=Referenca!$J$3,CONCATENATE('3. Shpenzimet'!#REF!,\"-\",'3. Shpenzimet'!#REF!,\"-\",TEXT('3. Shpenzimet'!#REF!,\"dd/mm/yyyy\")),\"\")","v":""}]
[{"$f":"IF(B353=\"\",\"\",MAX(A$21:A352)+1)","v":""},{"$f":"IF($C353=Referenca!$J$3,CONCATENATE('3. Shpenzimet'!#REF!,\"-\",'3. Shpenzimet'!#REF!,\"-\",TEXT('3. Shpenzimet'!#REF!,\"dd/mm/yyyy\")),\"\")","v":""}]
[{"$f":"IF(B354=\"\",\"\",MAX(A$21:A353)+1)","v":""},{"$f":"IF($C354=Referenca!$J$3,CONCATENATE('3. Shpenzimet'!#REF!,\"-\",'3. Shpenzimet'!#REF!,\"-\",TEXT('3. Shpenzimet'!#REF!,\"dd/mm/yyyy\")),\"\")","v":""}]
[{"$f":"IF(B355=\"\",\"\",MAX(A$21:A354)+1)","v":""},{"$f":"IF($C355=Referenca!$J$3,CONCATENATE('3. Shpenzimet'!#REF!,\"-\",'3. Shpenzimet'!#REF!,\"-\",TEXT('3. Shpenzimet'!#REF!,\"dd/mm/yyyy\")),\"\")","v":""}]
[{"$f":"IF(B356=\"\",\"\",MAX(A$21:A355)+1)","v":""},{"$f":"IF($C356=Referenca!$J$3,CONCATENATE('3. Shpenzimet'!#REF!,\"-\",'3. Shpenzimet'!#REF!,\"-\",TEXT('3. Shpenzimet'!#REF!,\"dd/mm/yyyy\")),\"\")","v":""}]
[{"$f":"IF(B357=\"\",\"\",MAX(A$21:A356)+1)","v":""},{"$f":"IF($C357=Referenca!$J$3,CONCATENATE('3. Shpenzimet'!#REF!,\"-\",'3. Shpenzimet'!#REF!,\"-\",TEXT('3. Shpenzimet'!#REF!,\"dd/mm/yyyy\")),\"\")","v":""}]
[{"$f":"IF(B358=\"\",\"\",MAX(A$21:A357)+1)","v":""},{"$f":"IF($C358=Referenca!$J$3,CONCATENATE('3. Shpenzimet'!#REF!,\"-\",'3. Shpenzimet'!#REF!,\"-\",TEXT('3. Shpenzimet'!#REF!,\"dd/mm/yyyy\")),\"\")","v":""}]
[{"$f":"IF(B359=\"\",\"\",MAX(A$21:A358)+1)","v":""},{"$f":"IF($C359=Referenca!$J$3,CONCATENATE('3. Shpenzimet'!#REF!,\"-\",'3. Shpenzimet'!#REF!,\"-\",TEXT('3. Shpenzimet'!#REF!,\"dd/mm/yyyy\")),\"\")","v":""}]
[{"$f":"IF(B360=\"\",\"\",MAX(A$21:A359)+1)","v":""},{"$f":"IF($C360=Referenca!$J$3,CONCATENATE('3. Shpenzimet'!#REF!,\"-\",'3. Shpenzimet'!#REF!,\"-\",TEXT('3. Shpenzimet'!#REF!,\"dd/mm/yyyy\")),\"\")","v":""}]
[{"$f":"IF(B361=\"\",\"\",MAX(A$21:A360)+1)","v":""},{"$f":"IF($C361=Referenca!$J$3,CONCATENATE('3. Shpenzimet'!#REF!,\"-\",'3. Shpenzimet'!#REF!,\"-\",TEXT('3. Shpenzimet'!#REF!,\"dd/mm/yyyy\")),\"\")","v":""}]
[{"$f":"IF(B362=\"\",\"\",MAX(A$21:A361)+1)","v":""},{"$f":"IF($C362=Referenca!$J$3,CONCATENATE('3. Shpenzimet'!#REF!,\"-\",'3. Shpenzimet'!#REF!,\"-\",TEXT('3. Shpenzimet'!#REF!,\"dd/mm/yyyy\")),\"\")","v":""}]
[{"$f":"IF(B363=\"\",\"\",MAX(A$21:A362)+1)","v":""},{"$f":"IF($C363=Referenca!$J$3,CONCATENATE('3. Shpenzimet'!#REF!,\"-\",'3. Shpenzimet'!#REF!,\"-\",TEXT('3. Shpenzimet'!#REF!,\"dd/mm/yyyy\")),\"\")","v":""}]
[{"$f":"IF(B364=\"\",\"\",MAX(A$21:A363)+1)","v":""},{"$f":"IF($C364=Referenca!$J$3,CONCATENATE('3. Shpenzimet'!#REF!,\"-\",'3. Shpenzimet'!#REF!,\"-\",TEXT('3. Shpenzimet'!#REF!,\"dd/mm/yyyy\")),\"\")","v":""}]
[{"$f":"IF(B365=\"\",\"\",MAX(A$21:A364)+1)","v":""},{"$f":"IF($C365=Referenca!$J$3,CONCATENATE('3. Shpenzimet'!#REF!,\"-\",'3. Shpenzimet'!#REF!,\"-\",TEXT('3. Shpenzimet'!#REF!,\"dd/mm/yyyy\")),\"\")","v":""}]
[{"$f":"IF(B366=\"\",\"\",MAX(A$21:A365)+1)","v":""},{"$f":"IF($C366=Referenca!$J$3,CONCATENATE('3. Shpenzimet'!#REF!,\"-\",'3. Shpenzimet'!#REF!,\"-\",TEXT('3. Shpenzimet'!#REF!,\"dd/mm/yyyy\")),\"\")","v":""}]
[{"$f":"IF(B367=\"\",\"\",MAX(A$21:A366)+1)","v":""},{"$f":"IF($C367=Referenca!$J$3,CONCATENATE('3. Shpenzimet'!#REF!,\"-\",'3. Shpenzimet'!#REF!,\"-\",TEXT('3. Shpenzimet'!#REF!,\"dd/mm/yyyy\")),\"\")","v":""}]
[{"$f":"IF(B368=\"\",\"\",MAX(A$21:A367)+1)","v":""},{"$f":"IF($C368=Referenca!$J$3,CONCATENATE('3. Shpenzimet'!#REF!,\"-\",'3. Shpenzimet'!#REF!,\"-\",TEXT('3. Shpenzimet'!#REF!,\"dd/mm/yyyy\")),\"\")","v":""}]
[{"$f":"IF(B369=\"\",\"\",MAX(A$21:A368)+1)","v":""},{"$f":"IF($C369=Referenca!$J$3,CONCATENATE('3. Shpenzimet'!#REF!,\"-\",'3. Shpenzimet'!#REF!,\"-\",TEXT('3. Shpenzimet'!#REF!,\"dd/mm/yyyy\")),\"\")","v":""}]
[{"$f":"IF(B370=\"\",\"\",MAX(A$21:A369)+1)","v":""},{"$f":"IF($C370=Referenca!$J$3,CONCATENATE('3. Shpenzimet'!#REF!,\"-\",'3. Shpenzimet'!#REF!,\"-\",TEXT('3. Shpenzimet'!#REF!,\"dd/mm/yyyy\")),\"\")","v":""}]
[{"$f":"IF(B371=\"\",\"\",MAX(A$21:A370)+1)","v":""},{"$f":"IF($C371=Referenca!$J$3,CONCATENATE('3. Shpenzimet'!#REF!,\"-\",'3. Shpenzimet'!#REF!,\"-\",TEXT('3. Shpenzimet'!#REF!,\"dd/mm/yyyy\")),\"\")","v":""}]
[{"$f":"IF(B372=\"\",\"\",MAX(A$21:A371)+1)","v":""},{"$f":"IF($C372=Referenca!$J$3,CONCATENATE('3. Shpenzimet'!#REF!,\"-\",'3. Shpenzimet'!#REF!,\"-\",TEXT('3. Shpenzimet'!#REF!,\"dd/mm/yyyy\")),\"\")","v":""}]
[{"$f":"IF(B373=\"\",\"\",MAX(A$21:A372)+1)","v":""},{"$f":"IF($C373=Referenca!$J$3,CONCATENATE('3. Shpenzimet'!#REF!,\"-\",'3. Shpenzimet'!#REF!,\"-\",TEXT('3. Shpenzimet'!#REF!,\"dd/mm/yyyy\")),\"\")","v":""}]
[{"$f":"IF(B374=\"\",\"\",MAX(A$21:A373)+1)","v":""},{"$f":"IF($C374=Referenca!$J$3,CONCATENATE('3. Shpenzimet'!#REF!,\"-\",'3. Shpenzimet'!#REF!,\"-\",TEXT('3. Shpenzimet'!#REF!,\"dd/mm/yyyy\")),\"\")","v":""}]
[{"$f":"IF(B375=\"\",\"\",MAX(A$21:A374)+1)","v":""},{"$f":"IF($C375=Referenca!$J$3,CONCATENATE('3. Shpenzimet'!#REF!,\"-\",'3. Shpenzimet'!#REF!,\"-\",TEXT('3. Shpenzimet'!#REF!,\"dd/mm/yyyy\")),\"\")","v":""}]
[{"$f":"IF(B376=\"\",\"\",MAX(A$21:A375)+1)","v":""},{"$f":"IF($C376=Referenca!$J$3,CONCATENATE('3. Shpenzimet'!#REF!,\"-\",'3. Shpenzimet'!#REF!,\"-\",TEXT('3. Shpenzimet'!#REF!,\"dd/mm/yyyy\")),\"\")","v":""}]
[{"$f":"IF(B377=\"\",\"\",MAX(A$21:A376)+1)","v":""},{"$f":"IF($C377=Referenca!$J$3,CONCATENATE('3. Shpenzimet'!#REF!,\"-\",'3. Shpenzimet'!#REF!,\"-\",TEXT('3. Shpenzimet'!#REF!,\"dd/mm/yyyy\")),\"\")","v":""}]
[{"$f":"IF(B378=\"\",\"\",MAX(A$21:A377)+1)","v":""},{"$f":"IF($C378=Referenca!$J$3,CONCATENATE('3. Shpenzimet'!#REF!,\"-\",'3. Shpenzimet'!#REF!,\"-\",TEXT('3. Shpenzimet'!#REF!,\"dd/mm/yyyy\")),\"\")","v":""}]
[{"$f":"IF(B379=\"\",\"\",MAX(A$21:A378)+1)","v":""},{"$f":"IF($C379=Referenca!$J$3,CONCATENATE('3. Shpenzimet'!#REF!,\"-\",'3. Shpenzimet'!#REF!,\"-\",TEXT('3. Shpenzimet'!#REF!,\"dd/mm/yyyy\")),\"\")","v":""}]
[{"$f":"IF(B380=\"\",\"\",MAX(A$21:A379)+1)","v":""},{"$f":"IF($C380=Referenca!$J$3,CONCATENATE('3. Shpenzimet'!#REF!,\"-\",'3. Shpenzimet'!#REF!,\"-\",TEXT('3. Shpenzimet'!#REF!,\"dd/mm/yyyy\")),\"\")","v":""}]
[{"$f":"IF(B381=\"\",\"\",MAX(A$21:A380)+1)","v":""},{"$f":"IF($C381=Referenca!$J$3,CONCATENATE('3. Shpenzimet'!#REF!,\"-\",'3. Shpenzimet'!#REF!,\"-\",TEXT('3. Shpenzimet'!#REF!,\"dd/mm/yyyy\")),\"\")","v":""}]
[{"$f":"IF(B382=\"\",\"\",MAX(A$21:A381)+1)","v":""},{"$f":"IF($C382=Referenca!$J$3,CONCATENATE('3. Shpenzimet'!#REF!,\"-\",'3. Shpenzimet'!#REF!,\"-\",TEXT('3. Shpenzimet'!#REF!,\"dd/mm/yyyy\")),\"\")","v":""}]
[{"$f":"IF(B383=\"\",\"\",MAX(A$21:A382)+1)","v":""},{"$f":"IF($C383=Referenca!$J$3,CONCATENATE('3. Shpenzimet'!#REF!,\"-\",'3. Shpenzimet'!#REF!,\"-\",TEXT('3. Shpenzimet'!#REF!,\"dd/mm/yyyy\")),\"\")","v":""}]
[{"$f":"IF(B384=\"\",\"\",MAX(A$21:A383)+1)","v":""},{"$f":"IF($C384=Referenca!$J$3,CONCATENATE('3. Shpenzimet'!#REF!,\"-\",'3. Shpenzimet'!#REF!,\"-\",TEXT('3. Shpenzimet'!#REF!,\"dd/mm/yyyy\")),\"\")","v":""}]
[{"$f":"IF(B385=\"\",\"\",MAX(A$21:A384)+1)","v":""},{"$f":"IF($C385=Referenca!$J$3,CONCATENATE('3. Shpenzimet'!#REF!,\"-\",'3. Shpenzimet'!#REF!,\"-\",TEXT('3. Shpenzimet'!#REF!,\"dd/mm/yyyy\")),\"\")","v":""}]
[{"$f":"IF(B386=\"\",\"\",MAX(A$21:A385)+1)","v":""},{"$f":"IF($C386=Referenca!$J$3,CONCATENATE('3. Shpenzimet'!#REF!,\"-\",'3. Shpenzimet'!#REF!,\"-\",TEXT('3. Shpenzimet'!#REF!,\"dd/mm/yyyy\")),\"\")","v":""}]
[{"$f":"IF(B387=\"\",\"\",MAX(A$21:A386)+1)","v":""},{"$f":"IF($C387=Referenca!$J$3,CONCATENATE('3. Shpenzimet'!#REF!,\"-\",'3. Shpenzimet'!#REF!,\"-\",TEXT('3. Shpenzimet'!#REF!,\"dd/mm/yyyy\")),\"\")","v":""}]
[{"$f":"IF(B388=\"\",\"\",MAX(A$21:A387)+1)","v":""},{"$f":"IF($C388=Referenca!$J$3,CONCATENATE('3. Shpenzimet'!#REF!,\"-\",'3. Shpenzimet'!#REF!,\"-\",TEXT('3. Shpenzimet'!#REF!,\"dd/mm/yyyy\")),\"\")","v":""}]
[{"$f":"IF(B389=\"\",\"\",MAX(A$21:A388)+1)","v":""},{"$f":"IF($C389=Referenca!$J$3,CONCATENATE('3. Shpenzimet'!#REF!,\"-\",'3. Shpenzimet'!#REF!,\"-\",TEXT('3. Shpenzimet'!#REF!,\"dd/mm/yyyy\")),\"\")","v":""}]
[{"$f":"IF(B390=\"\",\"\",MAX(A$21:A389)+1)","v":""},{"$f":"IF($C390=Referenca!$J$3,CONCATENATE('3. Shpenzimet'!#REF!,\"-\",'3. Shpenzimet'!#REF!,\"-\",TEXT('3. Shpenzimet'!#REF!,\"dd/mm/yyyy\")),\"\")","v":""}]
[{"$f":"IF(B391=\"\",\"\",MAX(A$21:A390)+1)","v":""},{"$f":"IF($C391=Referenca!$J$3,CONCATENATE('3. Shpenzimet'!#REF!,\"-\",'3. Shpenzimet'!#REF!,\"-\",TEXT('3. Shpenzimet'!#REF!,\"dd/mm/yyyy\")),\"\")","v":""}]
[{"$f":"IF(B392=\"\",\"\",MAX(A$21:A391)+1)","v":""},{"$f":"IF($C392=Referenca!$J$3,CONCATENATE('3. Shpenzimet'!#REF!,\"-\",'3. Shpenzimet'!#REF!,\"-\",TEXT('3. Shpenzimet'!#REF!,\"dd/mm/yyyy\")),\"\")","v":""}]
[{"$f":"IF(B393=\"\",\"\",MAX(A$21:A392)+1)","v":""},{"$f":"IF($C393=Referenca!$J$3,CONCATENATE('3. Shpenzimet'!#REF!,\"-\",'3. Shpenzimet'!#REF!,\"-\",TEXT('3. Shpenzimet'!#REF!,\"dd/mm/yyyy\")),\"\")","v":""}]
[{"$f":"IF(B394=\"\",\"\",MAX(A$21:A393)+1)","v":""},{"$f":"IF($C394=Referenca!$J$3,CONCATENATE('3. Shpenzimet'!#REF!,\"-\",'3. Shpenzimet'!#REF!,\"-\",TEXT('3. Shpenzimet'!#REF!,\"dd/mm/yyyy\")),\"\")","v":""}]
[{"$f":"IF(B395=\"\",\"\",MAX(A$21:A394)+1)","v":""},{"$f":"IF($C395=Referenca!$J$3,CONCATENATE('3. Shpenzimet'!#REF!,\"-\",'3. Shpenzimet'!#REF!,\"-\",TEXT('3. Shpenzimet'!#REF!,\"dd/mm/yyyy\")),\"\")","v":""}]
[{"$f":"IF(B396=\"\",\"\",MAX(A$21:A395)+1)","v":""},{"$f":"IF($C396=Referenca!$J$3,CONCATENATE('3. Shpenzimet'!#REF!,\"-\",'3. Shpenzimet'!#REF!,\"-\",TEXT('3. Shpenzimet'!#REF!,\"dd/mm/yyyy\")),\"\")","v":""}]
[{"$f":"IF(B397=\"\",\"\",MAX(A$21:A396)+1)","v":""},{"$f":"IF($C397=Referenca!$J$3,CONCATENATE('3. Shpenzimet'!#REF!,\"-\",'3. Shpenzimet'!#REF!,\"-\",TEXT('3. Shpenzimet'!#REF!,\"dd/mm/yyyy\")),\"\")","v":""}]
[{"$f":"IF(B398=\"\",\"\",MAX(A$21:A397)+1)","v":""},{"$f":"IF($C398=Referenca!$J$3,CONCATENATE('3. Shpenzimet'!#REF!,\"-\",'3. Shpenzimet'!#REF!,\"-\",TEXT('3. Shpenzimet'!#REF!,\"dd/mm/yyyy\")),\"\")","v":""}]
[{"$f":"IF(B399=\"\",\"\",MAX(A$21:A398)+1)","v":""},{"$f":"IF($C399=Referenca!$J$3,CONCATENATE('3. Shpenzimet'!#REF!,\"-\",'3. Shpenzimet'!#REF!,\"-\",TEXT('3. Shpenzimet'!#REF!,\"dd/mm/yyyy\")),\"\")","v":""}]
[{"$f":"IF(B400=\"\",\"\",MAX(A$21:A399)+1)","v":""},{"$f":"IF($C400=Referenca!$J$3,CONCATENATE('3. Shpenzimet'!#REF!,\"-\",'3. Shpenzimet'!#REF!,\"-\",TEXT('3. Shpenzimet'!#REF!,\"dd/mm/yyyy\")),\"\")","v":""}]
[{"$f":"IF(B401=\"\",\"\",MAX(A$21:A400)+1)","v":""},{"$f":"IF($C401=Referenca!$J$3,CONCATENATE('3. Shpenzimet'!#REF!,\"-\",'3. Shpenzimet'!#REF!,\"-\",TEXT('3. Shpenzimet'!#REF!,\"dd/mm/yyyy\")),\"\")","v":""}]
[{"$f":"IF(B402=\"\",\"\",MAX(A$21:A401)+1)","v":""},{"$f":"IF($C402=Referenca!$J$3,CONCATENATE('3. Shpenzimet'!#REF!,\"-\",'3. Shpenzimet'!#REF!,\"-\",TEXT('3. Shpenzimet'!#REF!,\"dd/mm/yyyy\")),\"\")","v":""}]
[{"$f":"IF(B403=\"\",\"\",MAX(A$21:A402)+1)","v":""},{"$f":"IF($C403=Referenca!$J$3,CONCATENATE('3. Shpenzimet'!#REF!,\"-\",'3. Shpenzimet'!#REF!,\"-\",TEXT('3. Shpenzimet'!#REF!,\"dd/mm/yyyy\")),\"\")","v":""}]
[{"$f":"IF(B404=\"\",\"\",MAX(A$21:A403)+1)","v":""},{"$f":"IF($C404=Referenca!$J$3,CONCATENATE('3. Shpenzimet'!#REF!,\"-\",'3. Shpenzimet'!#REF!,\"-\",TEXT('3. Shpenzimet'!#REF!,\"dd/mm/yyyy\")),\"\")","v":""}]
[{"$f":"IF(B405=\"\",\"\",MAX(A$21:A404)+1)","v":""},{"$f":"IF($C405=Referenca!$J$3,CONCATENATE('3. Shpenzimet'!#REF!,\"-\",'3. Shpenzimet'!#REF!,\"-\",TEXT('3. Shpenzimet'!#REF!,\"dd/mm/yyyy\")),\"\")","v":""}]
[{"$f":"IF(B406=\"\",\"\",MAX(A$21:A405)+1)","v":""},{"$f":"IF($C406=Referenca!$J$3,CONCATENATE('3. Shpenzimet'!#REF!,\"-\",'3. Shpenzimet'!#REF!,\"-\",TEXT('3. Shpenzimet'!#REF!,\"dd/mm/yyyy\")),\"\")","v":""}]
[{"$f":"IF(B407=\"\",\"\",MAX(A$21:A406)+1)","v":""},{"$f":"IF($C407=Referenca!$J$3,CONCATENATE('3. Shpenzimet'!#REF!,\"-\",'3. Shpenzimet'!#REF!,\"-\",TEXT('3. Shpenzimet'!#REF!,\"dd/mm/yyyy\")),\"\")","v":""}]
[{"$f":"IF(B408=\"\",\"\",MAX(A$21:A407)+1)","v":""},{"$f":"IF($C408=Referenca!$J$3,CONCATENATE('3. Shpenzimet'!#REF!,\"-\",'3. Shpenzimet'!#REF!,\"-\",TEXT('3. Shpenzimet'!#REF!,\"dd/mm/yyyy\")),\"\")","v":""}]
[{"$f":"IF(B409=\"\",\"\",MAX(A$21:A408)+1)","v":""},{"$f":"IF($C409=Referenca!$J$3,CONCATENATE('3. Shpenzimet'!#REF!,\"-\",'3. Shpenzimet'!#REF!,\"-\",TEXT('3. Shpenzimet'!#REF!,\"dd/mm/yyyy\")),\"\")","v":""}]
[{"$f":"IF(B410=\"\",\"\",MAX(A$21:A409)+1)","v":""},{"$f":"IF($C410=Referenca!$J$3,CONCATENATE('3. Shpenzimet'!#REF!,\"-\",'3. Shpenzimet'!#REF!,\"-\",TEXT('3. Shpenzimet'!#REF!,\"dd/mm/yyyy\")),\"\")","v":""}]
[{"$f":"IF(B411=\"\",\"\",MAX(A$21:A410)+1)","v":""},{"$f":"IF($C411=Referenca!$J$3,CONCATENATE('3. Shpenzimet'!#REF!,\"-\",'3. Shpenzimet'!#REF!,\"-\",TEXT('3. Shpenzimet'!#REF!,\"dd/mm/yyyy\")),\"\")","v":""}]
[{"$f":"IF(B412=\"\",\"\",MAX(A$21:A411)+1)","v":""},{"$f":"IF($C412=Referenca!$J$3,CONCATENATE('3. Shpenzimet'!#REF!,\"-\",'3. Shpenzimet'!#REF!,\"-\",TEXT('3. Shpenzimet'!#REF!,\"dd/mm/yyyy\")),\"\")","v":""}]
[{"$f":"IF(B413=\"\",\"\",MAX(A$21:A412)+1)","v":""},{"$f":"IF($C413=Referenca!$J$3,CONCATENATE('3. Shpenzimet'!#REF!,\"-\",'3. Shpenzimet'!#REF!,\"-\",TEXT('3. Shpenzimet'!#REF!,\"dd/mm/yyyy\")),\"\")","v":""}]
[{"$f":"IF(B414=\"\",\"\",MAX(A$21:A413)+1)","v":""},{"$f":"IF($C414=Referenca!$J$3,CONCATENATE('3. Shpenzimet'!#REF!,\"-\",'3. Shpenzimet'!#REF!,\"-\",TEXT('3. Shpenzimet'!#REF!,\"dd/mm/yyyy\")),\"\")","v":""}]
[{"$f":"IF(B415=\"\",\"\",MAX(A$21:A414)+1)","v":""},{"$f":"IF($C415=Referenca!$J$3,CONCATENATE('3. Shpenzimet'!#REF!,\"-\",'3. Shpenzimet'!#REF!,\"-\",TEXT('3. Shpenzimet'!#REF!,\"dd/mm/yyyy\")),\"\")","v":""}]
[{"$f":"IF(B416=\"\",\"\",MAX(A$21:A415)+1)","v":""},{"$f":"IF($C416=Referenca!$J$3,CONCATENATE('3. Shpenzimet'!#REF!,\"-\",'3. Shpenzimet'!#REF!,\"-\",TEXT('3. Shpenzimet'!#REF!,\"dd/mm/yyyy\")),\"\")","v":""}]
[{"$f":"IF(B417=\"\",\"\",MAX(A$21:A416)+1)","v":""},{"$f":"IF($C417=Referenca!$J$3,CONCATENATE('3. Shpenzimet'!#REF!,\"-\",'3. Shpenzimet'!#REF!,\"-\",TEXT('3. Shpenzimet'!#REF!,\"dd/mm/yyyy\")),\"\")","v":""}]
[{"$f":"IF(B418=\"\",\"\",MAX(A$21:A417)+1)","v":""},{"$f":"IF($C418=Referenca!$J$3,CONCATENATE('3. Shpenzimet'!#REF!,\"-\",'3. Shpenzimet'!#REF!,\"-\",TEXT('3. Shpenzimet'!#REF!,\"dd/mm/yyyy\")),\"\")","v":""}]
[{"$f":"IF(B419=\"\",\"\",MAX(A$21:A418)+1)","v":""},{"$f":"IF($C419=Referenca!$J$3,CONCATENATE('3. Shpenzimet'!#REF!,\"-\",'3. Shpenzimet'!#REF!,\"-\",TEXT('3. Shpenzimet'!#REF!,\"dd/mm/yyyy\")),\"\")","v":""}]
[{"$f":"IF(B420=\"\",\"\",MAX(A$21:A419)+1)","v":""},{"$f":"IF($C420=Referenca!$J$3,CONCATENATE('3. Shpenzimet'!#REF!,\"-\",'3. Shpenzimet'!#REF!,\"-\",TEXT('3. Shpenzimet'!#REF!,\"dd/mm/yyyy\")),\"\")","v":""}]
[{"$f":"IF(B421=\"\",\"\",MAX(A$21:A420)+1)","v":""},{"$f":"IF($C421=Referenca!$J$3,CONCATENATE('3. Shpenzimet'!#REF!,\"-\",'3. Shpenzimet'!#REF!,\"-\",TEXT('3. Shpenzimet'!#REF!,\"dd/mm/yyyy\")),\"\")","v":""}]
[{"$f":"IF(B422=\"\",\"\",MAX(A$21:A421)+1)","v":""},{"$f":"IF($C422=Referenca!$J$3,CONCATENATE('3. Shpenzimet'!#REF!,\"-\",'3. Shpenzimet'!#REF!,\"-\",TEXT('3. Shpenzimet'!#REF!,\"dd/mm/yyyy\")),\"\")","v":""}]
[{"$f":"IF(B423=\"\",\"\",MAX(A$21:A422)+1)","v":""},{"$f":"IF($C423=Referenca!$J$3,CONCATENATE('3. Shpenzimet'!#REF!,\"-\",'3. Shpenzimet'!#REF!,\"-\",TEXT('3. Shpenzimet'!#REF!,\"dd/mm/yyyy\")),\"\")","v":""}]
[{"$f":"IF(B424=\"\",\"\",MAX(A$21:A423)+1)","v":""},{"$f":"IF($C424=Referenca!$J$3,CONCATENATE('3. Shpenzimet'!#REF!,\"-\",'3. Shpenzimet'!#REF!,\"-\",TEXT('3. Shpenzimet'!#REF!,\"dd/mm/yyyy\")),\"\")","v":""}]
[{"$f":"IF(B425=\"\",\"\",MAX(A$21:A424)+1)","v":""},{"$f":"IF($C425=Referenca!$J$3,CONCATENATE('3. Shpenzimet'!#REF!,\"-\",'3. Shpenzimet'!#REF!,\"-\",TEXT('3. Shpenzimet'!#REF!,\"dd/mm/yyyy\")),\"\")","v":""}]
[{"$f":"IF(B426=\"\",\"\",MAX(A$21:A425)+1)","v":""},{"$f":"IF($C426=Referenca!$J$3,CONCATENATE('3. Shpenzimet'!#REF!,\"-\",'3. Shpenzimet'!#REF!,\"-\",TEXT('3. Shpenzimet'!#REF!,\"dd/mm/yyyy\")),\"\")","v":""}]
[{"$f":"IF(B427=\"\",\"\",MAX(A$21:A426)+1)","v":""},{"$f":"IF($C427=Referenca!$J$3,CONCATENATE('3. Shpenzimet'!#REF!,\"-\",'3. Shpenzimet'!#REF!,\"-\",TEXT('3. Shpenzimet'!#REF!,\"dd/mm/yyyy\")),\"\")","v":""}]
[{"$f":"IF(B428=\"\",\"\",MAX(A$21:A427)+1)","v":""},{"$f":"IF($C428=Referenca!$J$3,CONCATENATE('3. Shpenzimet'!#REF!,\"-\",'3. Shpenzimet'!#REF!,\"-\",TEXT('3. Shpenzimet'!#REF!,\"dd/mm/yyyy\")),\"\")","v":""}]
[{"$f":"IF(B429=\"\",\"\",MAX(A$21:A428)+1)","v":""},{"$f":"IF($C429=Referenca!$J$3,CONCATENATE('3. Shpenzimet'!#REF!,\"-\",'3. Shpenzimet'!#REF!,\"-\",TEXT('3. Shpenzimet'!#REF!,\"dd/mm/yyyy\")),\"\")","v":""}]
[{"$f":"IF(B430=\"\",\"\",MAX(A$21:A429)+1)","v":""},{"$f":"IF($C430=Referenca!$J$3,CONCATENATE('3. Shpenzimet'!#REF!,\"-\",'3. Shpenzimet'!#REF!,\"-\",TEXT('3. Shpenzimet'!#REF!,\"dd/mm/yyyy\")),\"\")","v":""}]
[{"$f":"IF(B431=\"\",\"\",MAX(A$21:A430)+1)","v":""},{"$f":"IF($C431=Referenca!$J$3,CONCATENATE('3. Shpenzimet'!#REF!,\"-\",'3. Shpenzimet'!#REF!,\"-\",TEXT('3. Shpenzimet'!#REF!,\"dd/mm/yyyy\")),\"\")","v":""}]
[{"$f":"IF(B432=\"\",\"\",MAX(A$21:A431)+1)","v":""},{"$f":"IF($C432=Referenca!$J$3,CONCATENATE('3. Shpenzimet'!#REF!,\"-\",'3. Shpenzimet'!#REF!,\"-\",TEXT('3. Shpenzimet'!#REF!,\"dd/mm/yyyy\")),\"\")","v":""}]
[{"$f":"IF(B433=\"\",\"\",MAX(A$21:A432)+1)","v":""},{"$f":"IF($C433=Referenca!$J$3,CONCATENATE('3. Shpenzimet'!#REF!,\"-\",'3. Shpenzimet'!#REF!,\"-\",TEXT('3. Shpenzimet'!#REF!,\"dd/mm/yyyy\")),\"\")","v":""}]
[{"$f":"IF(B434=\"\",\"\",MAX(A$21:A433)+1)","v":""},{"$f":"IF($C434=Referenca!$J$3,CONCATENATE('3. Shpenzimet'!#REF!,\"-\",'3. Shpenzimet'!#REF!,\"-\",TEXT('3. Shpenzimet'!#REF!,\"dd/mm/yyyy\")),\"\")","v":""}]
[{"$f":"IF(B435=\"\",\"\",MAX(A$21:A434)+1)","v":""},{"$f":"IF($C435=Referenca!$J$3,CONCATENATE('3. Shpenzimet'!#REF!,\"-\",'3. Shpenzimet'!#REF!,\"-\",TEXT('3. Shpenzimet'!#REF!,\"dd/mm/yyyy\")),\"\")","v":""}]
[{"$f":"IF(B436=\"\",\"\",MAX(A$21:A435)+1)","v":""},{"$f":"IF($C436=Referenca!$J$3,CONCATENATE('3. Shpenzimet'!#REF!,\"-\",'3. Shpenzimet'!#REF!,\"-\",TEXT('3. Shpenzimet'!#REF!,\"dd/mm/yyyy\")),\"\")","v":""}]
[{"$f":"IF(B437=\"\",\"\",MAX(A$21:A436)+1)","v":""},{"$f":"IF($C437=Referenca!$J$3,CONCATENATE('3. Shpenzimet'!#REF!,\"-\",'3. Shpenzimet'!#REF!,\"-\",TEXT('3. Shpenzimet'!#REF!,\"dd/mm/yyyy\")),\"\")","v":""}]
[{"$f":"IF(B438=\"\",\"\",MAX(A$21:A437)+1)","v":""},{"$f":"IF($C438=Referenca!$J$3,CONCATENATE('3. Shpenzimet'!#REF!,\"-\",'3. Shpenzimet'!#REF!,\"-\",TEXT('3. Shpenzimet'!#REF!,\"dd/mm/yyyy\")),\"\")","v":""}]
[{"$f":"IF(B439=\"\",\"\",MAX(A$21:A438)+1)","v":""},{"$f":"IF($C439=Referenca!$J$3,CONCATENATE('3. Shpenzimet'!#REF!,\"-\",'3. Shpenzimet'!#REF!,\"-\",TEXT('3. Shpenzimet'!#REF!,\"dd/mm/yyyy\")),\"\")","v":""}]
[{"$f":"IF(B440=\"\",\"\",MAX(A$21:A439)+1)","v":""},{"$f":"IF($C440=Referenca!$J$3,CONCATENATE('3. Shpenzimet'!#REF!,\"-\",'3. Shpenzimet'!#REF!,\"-\",TEXT('3. Shpenzimet'!#REF!,\"dd/mm/yyyy\")),\"\")","v":""}]
[{"$f":"IF(B441=\"\",\"\",MAX(A$21:A440)+1)","v":""},{"$f":"IF($C441=Referenca!$J$3,CONCATENATE('3. Shpenzimet'!#REF!,\"-\",'3. Shpenzimet'!#REF!,\"-\",TEXT('3. Shpenzimet'!#REF!,\"dd/mm/yyyy\")),\"\")","v":""}]
[{"$f":"IF(B442=\"\",\"\",MAX(A$21:A441)+1)","v":""},{"$f":"IF($C442=Referenca!$J$3,CONCATENATE('3. Shpenzimet'!#REF!,\"-\",'3. Shpenzimet'!#REF!,\"-\",TEXT('3. Shpenzimet'!#REF!,\"dd/mm/yyyy\")),\"\")","v":""}]
[{"$f":"IF(B443=\"\",\"\",MAX(A$21:A442)+1)","v":""},{"$f":"IF($C443=Referenca!$J$3,CONCATENATE('3. Shpenzimet'!#REF!,\"-\",'3. Shpenzimet'!#REF!,\"-\",TEXT('3. Shpenzimet'!#REF!,\"dd/mm/yyyy\")),\"\")","v":""}]
[{"$f":"IF(B444=\"\",\"\",MAX(A$21:A443)+1)","v":""},{"$f":"IF($C444=Referenca!$J$3,CONCATENATE('3. Shpenzimet'!#REF!,\"-\",'3. Shpenzimet'!#REF!,\"-\",TEXT('3. Shpenzimet'!#REF!,\"dd/mm/yyyy\")),\"\")","v":""}]
[{"$f":"IF(B445=\"\",\"\",MAX(A$21:A444)+1)","v":""},{"$f":"IF($C445=Referenca!$J$3,CONCATENATE('3. Shpenzimet'!#REF!,\"-\",'3. Shpenzimet'!#REF!,\"-\",TEXT('3. Shpenzimet'!#REF!,\"dd/mm/yyyy\")),\"\")","v":""}]
[{"$f":"IF(B446=\"\",\"\",MAX(A$21:A445)+1)","v":""},{"$f":"IF($C446=Referenca!$J$3,CONCATENATE('3. Shpenzimet'!#REF!,\"-\",'3. Shpenzimet'!#REF!,\"-\",TEXT('3. Shpenzimet'!#REF!,\"dd/mm/yyyy\")),\"\")","v":""}]
[{"$f":"IF(B447=\"\",\"\",MAX(A$21:A446)+1)","v":""},{"$f":"IF($C447=Referenca!$J$3,CONCATENATE('3. Shpenzimet'!#REF!,\"-\",'3. Shpenzimet'!#REF!,\"-\",TEXT('3. Shpenzimet'!#REF!,\"dd/mm/yyyy\")),\"\")","v":""}]
[{"$f":"IF(B448=\"\",\"\",MAX(A$21:A447)+1)","v":""},{"$f":"IF($C448=Referenca!$J$3,CONCATENATE('3. Shpenzimet'!#REF!,\"-\",'3. Shpenzimet'!#REF!,\"-\",TEXT('3. Shpenzimet'!#REF!,\"dd/mm/yyyy\")),\"\")","v":""}]
[{"$f":"IF(B449=\"\",\"\",MAX(A$21:A448)+1)","v":""},{"$f":"IF($C449=Referenca!$J$3,CONCATENATE('3. Shpenzimet'!#REF!,\"-\",'3. Shpenzimet'!#REF!,\"-\",TEXT('3. Shpenzimet'!#REF!,\"dd/mm/yyyy\")),\"\")","v":""}]
[{"$f":"IF(B450=\"\",\"\",MAX(A$21:A449)+1)","v":""},{"$f":"IF($C450=Referenca!$J$3,CONCATENATE('3. Shpenzimet'!#REF!,\"-\",'3. Shpenzimet'!#REF!,\"-\",TEXT('3. Shpenzimet'!#REF!,\"dd/mm/yyyy\")),\"\")","v":""}]
[{"$f":"IF(B451=\"\",\"\",MAX(A$21:A450)+1)","v":""},{"$f":"IF($C451=Referenca!$J$3,CONCATENATE('3. Shpenzimet'!#REF!,\"-\",'3. Shpenzimet'!#REF!,\"-\",TEXT('3. Shpenzimet'!#REF!,\"dd/mm/yyyy\")),\"\")","v":""}]
[{"$f":"IF(B452=\"\",\"\",MAX(A$21:A451)+1)","v":""},{"$f":"IF($C452=Referenca!$J$3,CONCATENATE('3. Shpenzimet'!#REF!,\"-\",'3. Shpenzimet'!#REF!,\"-\",TEXT('3. Shpenzimet'!#REF!,\"dd/mm/yyyy\")),\"\")","v":""}]
[{"$f":"IF(B453=\"\",\"\",MAX(A$21:A452)+1)","v":""},{"$f":"IF($C453=Referenca!$J$3,CONCATENATE('3. Shpenzimet'!#REF!,\"-\",'3. Shpenzimet'!#REF!,\"-\",TEXT('3. Shpenzimet'!#REF!,\"dd/mm/yyyy\")),\"\")","v":""}]
[{"$f":"IF(B454=\"\",\"\",MAX(A$21:A453)+1)","v":""},{"$f":"IF($C454=Referenca!$J$3,CONCATENATE('3. Shpenzimet'!#REF!,\"-\",'3. Shpenzimet'!#REF!,\"-\",TEXT('3. Shpenzimet'!#REF!,\"dd/mm/yyyy\")),\"\")","v":""}]
[{"$f":"IF(B455=\"\",\"\",MAX(A$21:A454)+1)","v":""},{"$f":"IF($C455=Referenca!$J$3,CONCATENATE('3. Shpenzimet'!#REF!,\"-\",'3. Shpenzimet'!#REF!,\"-\",TEXT('3. Shpenzimet'!#REF!,\"dd/mm/yyyy\")),\"\")","v":""}]
[{"$f":"IF(B456=\"\",\"\",MAX(A$21:A455)+1)","v":""},{"$f":"IF($C456=Referenca!$J$3,CONCATENATE('3. Shpenzimet'!#REF!,\"-\",'3. Shpenzimet'!#REF!,\"-\",TEXT('3. Shpenzimet'!#REF!,\"dd/mm/yyyy\")),\"\")","v":""}]
[{"$f":"IF(B457=\"\",\"\",MAX(A$21:A456)+1)","v":""},{"$f":"IF($C457=Referenca!$J$3,CONCATENATE('3. Shpenzimet'!#REF!,\"-\",'3. Shpenzimet'!#REF!,\"-\",TEXT('3. Shpenzimet'!#REF!,\"dd/mm/yyyy\")),\"\")","v":""}]
[{"$f":"IF(B458=\"\",\"\",MAX(A$21:A457)+1)","v":""},{"$f":"IF($C458=Referenca!$J$3,CONCATENATE('3. Shpenzimet'!#REF!,\"-\",'3. Shpenzimet'!#REF!,\"-\",TEXT('3. Shpenzimet'!#REF!,\"dd/mm/yyyy\")),\"\")","v":""}]
[{"$f":"IF(B459=\"\",\"\",MAX(A$21:A458)+1)","v":""},{"$f":"IF($C459=Referenca!$J$3,CONCATENATE('3. Shpenzimet'!#REF!,\"-\",'3. Shpenzimet'!#REF!,\"-\",TEXT('3. Shpenzimet'!#REF!,\"dd/mm/yyyy\")),\"\")","v":""}]
[{"$f":"IF(B460=\"\",\"\",MAX(A$21:A459)+1)","v":""},{"$f":"IF($C460=Referenca!$J$3,CONCATENATE('3. Shpenzimet'!#REF!,\"-\",'3. Shpenzimet'!#REF!,\"-\",TEXT('3. Shpenzimet'!#REF!,\"dd/mm/yyyy\")),\"\")","v":""}]
[{"$f":"IF(B461=\"\",\"\",MAX(A$21:A460)+1)","v":""},{"$f":"IF($C461=Referenca!$J$3,CONCATENATE('3. Shpenzimet'!#REF!,\"-\",'3. Shpenzimet'!#REF!,\"-\",TEXT('3. Shpenzimet'!#REF!,\"dd/mm/yyyy\")),\"\")","v":""}]
[{"$f":"IF(B462=\"\",\"\",MAX(A$21:A461)+1)","v":""},{"$f":"IF($C462=Referenca!$J$3,CONCATENATE('3. Shpenzimet'!#REF!,\"-\",'3. Shpenzimet'!#REF!,\"-\",TEXT('3. Shpenzimet'!#REF!,\"dd/mm/yyyy\")),\"\")","v":""}]
[{"$f":"IF(B463=\"\",\"\",MAX(A$21:A462)+1)","v":""},{"$f":"IF($C463=Referenca!$J$3,CONCATENATE('3. Shpenzimet'!#REF!,\"-\",'3. Shpenzimet'!#REF!,\"-\",TEXT('3. Shpenzimet'!#REF!,\"dd/mm/yyyy\")),\"\")","v":""}]
[{"$f":"IF(B464=\"\",\"\",MAX(A$21:A463)+1)","v":""},{"$f":"IF($C464=Referenca!$J$3,CONCATENATE('3. Shpenzimet'!#REF!,\"-\",'3. Shpenzimet'!#REF!,\"-\",TEXT('3. Shpenzimet'!#REF!,\"dd/mm/yyyy\")),\"\")","v":""}]
[{"$f":"IF(B465=\"\",\"\",MAX(A$21:A464)+1)","v":""},{"$f":"IF($C465=Referenca!$J$3,CONCATENATE('3. Shpenzimet'!#REF!,\"-\",'3. Shpenzimet'!#REF!,\"-\",TEXT('3. Shpenzimet'!#REF!,\"dd/mm/yyyy\")),\"\")","v":""}]
[{"$f":"IF(B466=\"\",\"\",MAX(A$21:A465)+1)","v":""},{"$f":"IF($C466=Referenca!$J$3,CONCATENATE('3. Shpenzimet'!#REF!,\"-\",'3. Shpenzimet'!#REF!,\"-\",TEXT('3. Shpenzimet'!#REF!,\"dd/mm/yyyy\")),\"\")","v":""}]
[{"$f":"IF(B467=\"\",\"\",MAX(A$21:A466)+1)","v":""},{"$f":"IF($C467=Referenca!$J$3,CONCATENATE('3. Shpenzimet'!#REF!,\"-\",'3. Shpenzimet'!#REF!,\"-\",TEXT('3. Shpenzimet'!#REF!,\"dd/mm/yyyy\")),\"\")","v":""}]
[{"$f":"IF(B468=\"\",\"\",MAX(A$21:A467)+1)","v":""},{"$f":"IF($C468=Referenca!$J$3,CONCATENATE('3. Shpenzimet'!#REF!,\"-\",'3. Shpenzimet'!#REF!,\"-\",TEXT('3. Shpenzimet'!#REF!,\"dd/mm/yyyy\")),\"\")","v":""}]
[{"$f":"IF(B469=\"\",\"\",MAX(A$21:A468)+1)","v":""},{"$f":"IF($C469=Referenca!$J$3,CONCATENATE('3. Shpenzimet'!#REF!,\"-\",'3. Shpenzimet'!#REF!,\"-\",TEXT('3. Shpenzimet'!#REF!,\"dd/mm/yyyy\")),\"\")","v":""}]
[{"$f":"IF(B470=\"\",\"\",MAX(A$21:A469)+1)","v":""},{"$f":"IF($C470=Referenca!$J$3,CONCATENATE('3. Shpenzimet'!#REF!,\"-\",'3. Shpenzimet'!#REF!,\"-\",TEXT('3. Shpenzimet'!#REF!,\"dd/mm/yyyy\")),\"\")","v":""}]
[{"$f":"IF(B471=\"\",\"\",MAX(A$21:A470)+1)","v":""},{"$f":"IF($C471=Referenca!$J$3,CONCATENATE('3. Shpenzimet'!#REF!,\"-\",'3. Shpenzimet'!#REF!,\"-\",TEXT('3. Shpenzimet'!#REF!,\"dd/mm/yyyy\")),\"\")","v":""}]
[{"$f":"IF(B472=\"\",\"\",MAX(A$21:A471)+1)","v":""},{"$f":"IF($C472=Referenca!$J$3,CONCATENATE('3. Shpenzimet'!#REF!,\"-\",'3. Shpenzimet'!#REF!,\"-\",TEXT('3. Shpenzimet'!#REF!,\"dd/mm/yyyy\")),\"\")","v":""}]
[{"$f":"IF(B473=\"\",\"\",MAX(A$21:A472)+1)","v":""},{"$f":"IF($C473=Referenca!$J$3,CONCATENATE('3. Shpenzimet'!#REF!,\"-\",'3. Shpenzimet'!#REF!,\"-\",TEXT('3. Shpenzimet'!#REF!,\"dd/mm/yyyy\")),\"\")","v":""}]
[{"$f":"IF(B474=\"\",\"\",MAX(A$21:A473)+1)","v":""},{"$f":"IF($C474=Referenca!$J$3,CONCATENATE('3. Shpenzimet'!#REF!,\"-\",'3. Shpenzimet'!#REF!,\"-\",TEXT('3. Shpenzimet'!#REF!,\"dd/mm/yyyy\")),\"\")","v":""}]
[{"$f":"IF(B475=\"\",\"\",MAX(A$21:A474)+1)","v":""},{"$f":"IF($C475=Referenca!$J$3,CONCATENATE('3. Shpenzimet'!#REF!,\"-\",'3. Shpenzimet'!#REF!,\"-\",TEXT('3. Shpenzimet'!#REF!,\"dd/mm/yyyy\")),\"\")","v":""}]
[{"$f":"IF(B476=\"\",\"\",MAX(A$21:A475)+1)","v":""},{"$f":"IF($C476=Referenca!$J$3,CONCATENATE('3. Shpenzimet'!#REF!,\"-\",'3. Shpenzimet'!#REF!,\"-\",TEXT('3. Shpenzimet'!#REF!,\"dd/mm/yyyy\")),\"\")","v":""}]
[{"$f":"IF(B477=\"\",\"\",MAX(A$21:A476)+1)","v":""},{"$f":"IF($C477=Referenca!$J$3,CONCATENATE('3. Shpenzimet'!#REF!,\"-\",'3. Shpenzimet'!#REF!,\"-\",TEXT('3. Shpenzimet'!#REF!,\"dd/mm/yyyy\")),\"\")","v":""}]
[{"$f":"IF(B478=\"\",\"\",MAX(A$21:A477)+1)","v":""},{"$f":"IF($C478=Referenca!$J$3,CONCATENATE('3. Shpenzimet'!#REF!,\"-\",'3. Shpenzimet'!#REF!,\"-\",TEXT('3. Shpenzimet'!#REF!,\"dd/mm/yyyy\")),\"\")","v":""}]
[{"$f":"IF(B479=\"\",\"\",MAX(A$21:A478)+1)","v":""},{"$f":"IF($C479=Referenca!$J$3,CONCATENATE('3. Shpenzimet'!#REF!,\"-\",'3. Shpenzimet'!#REF!,\"-\",TEXT('3. Shpenzimet'!#REF!,\"dd/mm/yyyy\")),\"\")","v":""}]
[{"$f":"IF(B480=\"\",\"\",MAX(A$21:A479)+1)","v":""},{"$f":"IF($C480=Referenca!$J$3,CONCATENATE('3. Shpenzimet'!#REF!,\"-\",'3. Shpenzimet'!#REF!,\"-\",TEXT('3. Shpenzimet'!#REF!,\"dd/mm/yyyy\")),\"\")","v":""}]
[{"$f":"IF(B481=\"\",\"\",MAX(A$21:A480)+1)","v":""},{"$f":"IF($C481=Referenca!$J$3,CONCATENATE('3. Shpenzimet'!#REF!,\"-\",'3. Shpenzimet'!#REF!,\"-\",TEXT('3. Shpenzimet'!#REF!,\"dd/mm/yyyy\")),\"\")","v":""}]
[{"$f":"IF(B482=\"\",\"\",MAX(A$21:A481)+1)","v":""},{"$f":"IF($C482=Referenca!$J$3,CONCATENATE('3. Shpenzimet'!#REF!,\"-\",'3. Shpenzimet'!#REF!,\"-\",TEXT('3. Shpenzimet'!#REF!,\"dd/mm/yyyy\")),\"\")","v":""}]
[{"$f":"IF(B483=\"\",\"\",MAX(A$21:A482)+1)","v":""},{"$f":"IF($C483=Referenca!$J$3,CONCATENATE('3. Shpenzimet'!#REF!,\"-\",'3. Shpenzimet'!#REF!,\"-\",TEXT('3. Shpenzimet'!#REF!,\"dd/mm/yyyy\")),\"\")","v":""}]
[{"$f":"IF(B484=\"\",\"\",MAX(A$21:A483)+1)","v":""},{"$f":"IF($C484=Referenca!$J$3,CONCATENATE('3. Shpenzimet'!#REF!,\"-\",'3. Shpenzimet'!#REF!,\"-\",TEXT('3. Shpenzimet'!#REF!,\"dd/mm/yyyy\")),\"\")","v":""}]
[{"$f":"IF(B485=\"\",\"\",MAX(A$21:A484)+1)","v":""},{"$f":"IF($C485=Referenca!$J$3,CONCATENATE('3. Shpenzimet'!#REF!,\"-\",'3. Shpenzimet'!#REF!,\"-\",TEXT('3. Shpenzimet'!#REF!,\"dd/mm/yyyy\")),\"\")","v":""}]
[{"$f":"IF(B486=\"\",\"\",MAX(A$21:A485)+1)","v":""},{"$f":"IF($C486=Referenca!$J$3,CONCATENATE('3. Shpenzimet'!#REF!,\"-\",'3. Shpenzimet'!#REF!,\"-\",TEXT('3. Shpenzimet'!#REF!,\"dd/mm/yyyy\")),\"\")","v":""}]
[{"$f":"IF(B487=\"\",\"\",MAX(A$21:A486)+1)","v":""},{"$f":"IF($C487=Referenca!$J$3,CONCATENATE('3. Shpenzimet'!#REF!,\"-\",'3. Shpenzimet'!#REF!,\"-\",TEXT('3. Shpenzimet'!#REF!,\"dd/mm/yyyy\")),\"\")","v":""}]
[{"$f":"IF(B488=\"\",\"\",MAX(A$21:A487)+1)","v":""},{"$f":"IF($C488=Referenca!$J$3,CONCATENATE('3. Shpenzimet'!#REF!,\"-\",'3. Shpenzimet'!#REF!,\"-\",TEXT('3. Shpenzimet'!#REF!,\"dd/mm/yyyy\")),\"\")","v":""}]
[{"$f":"IF(B489=\"\",\"\",MAX(A$21:A488)+1)","v":""},{"$f":"IF($C489=Referenca!$J$3,CONCATENATE('3. Shpenzimet'!#REF!,\"-\",'3. Shpenzimet'!#REF!,\"-\",TEXT('3. Shpenzimet'!#REF!,\"dd/mm/yyyy\")),\"\")","v":""}]
[{"$f":"IF(B490=\"\",\"\",MAX(A$21:A489)+1)","v":""},{"$f":"IF($C490=Referenca!$J$3,CONCATENATE('3. Shpenzimet'!#REF!,\"-\",'3. Shpenzimet'!#REF!,\"-\",TEXT('3. Shpenzimet'!#REF!,\"dd/mm/yyyy\")),\"\")","v":""}]
[{"$f":"IF(B491=\"\",\"\",MAX(A$21:A490)+1)","v":""},{"$f":"IF($C491=Referenca!$J$3,CONCATENATE('3. Shpenzimet'!#REF!,\"-\",'3. Shpenzimet'!#REF!,\"-\",TEXT('3. Shpenzimet'!#REF!,\"dd/mm/yyyy\")),\"\")","v":""}]
[{"$f":"IF(B492=\"\",\"\",MAX(A$21:A491)+1)","v":""},{"$f":"IF($C492=Referenca!$J$3,CONCATENATE('3. Shpenzimet'!#REF!,\"-\",'3. Shpenzimet'!#REF!,\"-\",TEXT('3. Shpenzimet'!#REF!,\"dd/mm/yyyy\")),\"\")","v":""}]
[{"$f":"IF(B493=\"\",\"\",MAX(A$21:A492)+1)","v":""},{"$f":"IF($C493=Referenca!$J$3,CONCATENATE('3. Shpenzimet'!#REF!,\"-\",'3. Shpenzimet'!#REF!,\"-\",TEXT('3. Shpenzimet'!#REF!,\"dd/mm/yyyy\")),\"\")","v":""}]
[{"$f":"IF(B494=\"\",\"\",MAX(A$21:A493)+1)","v":""},{"$f":"IF($C494=Referenca!$J$3,CONCATENATE('3. Shpenzimet'!#REF!,\"-\",'3. Shpenzimet'!#REF!,\"-\",TEXT('3. Shpenzimet'!#REF!,\"dd/mm/yyyy\")),\"\")","v":""}]
[{"$f":"IF(B495=\"\",\"\",MAX(A$21:A494)+1)","v":""},{"$f":"IF($C495=Referenca!$J$3,CONCATENATE('3. Shpenzimet'!#REF!,\"-\",'3. Shpenzimet'!#REF!,\"-\",TEXT('3. Shpenzimet'!#REF!,\"dd/mm/yyyy\")),\"\")","v":""}]
[{"$f":"IF(B496=\"\",\"\",MAX(A$21:A495)+1)","v":""},{"$f":"IF($C496=Referenca!$J$3,CONCATENATE('3. Shpenzimet'!#REF!,\"-\",'3. Shpenzimet'!#REF!,\"-\",TEXT('3. Shpenzimet'!#REF!,\"dd/mm/yyyy\")),\"\")","v":""}]
[{"$f":"IF(B497=\"\",\"\",MAX(A$21:A496)+1)","v":""},{"$f":"IF($C497=Referenca!$J$3,CONCATENATE('3. Shpenzimet'!#REF!,\"-\",'3. Shpenzimet'!#REF!,\"-\",TEXT('3. Shpenzimet'!#REF!,\"dd/mm/yyyy\")),\"\")","v":""}]
[{"$f":"IF(B498=\"\",\"\",MAX(A$21:A497)+1)","v":""},{"$f":"IF($C498=Referenca!$J$3,CONCATENATE('3. Shpenzimet'!#REF!,\"-\",'3. Shpenzimet'!#REF!,\"-\",TEXT('3. Shpenzimet'!#REF!,\"dd/mm/yyyy\")),\"\")","v":""}]
[{"$f":"IF(B499=\"\",\"\",MAX(A$21:A498)+1)","v":""},{"$f":"IF($C499=Referenca!$J$3,CONCATENATE('3. Shpenzimet'!#REF!,\"-\",'3. Shpenzimet'!#REF!,\"-\",TEXT('3. Shpenzimet'!#REF!,\"dd/mm/yyyy\")),\"\")","v":""}]
[{"$f":"IF(B500=\"\",\"\",MAX(A$21:A499)+1)","v":""},{"$f":"IF($C500=Referenca!$J$3,CONCATENATE('3. Shpenzimet'!#REF!,\"-\",'3. Shpenzimet'!#REF!,\"-\",TEXT('3. Shpenzimet'!#REF!,\"dd/mm/yyyy\")),\"\")","v":""}]
[{"$f":"IF(B501=\"\",\"\",MAX(A$21:A500)+1)","v":""},{"$f":"IF($C501=Referenca!$J$3,CONCATENATE('3. Shpenzimet'!#REF!,\"-\",'3. Shpenzimet'!#REF!,\"-\",TEXT('3. Shpenzimet'!#REF!,\"dd/mm/yyyy\")),\"\")","v":""}]
[{"$f":"IF(B502=\"\",\"\",MAX(A$21:A501)+1)","v":""},{"$f":"IF($C502=Referenca!$J$3,CONCATENATE('3. Shpenzimet'!#REF!,\"-\",'3. Shpenzimet'!#REF!,\"-\",TEXT('3. Shpenzimet'!#REF!,\"dd/mm/yyyy\")),\"\")","v":""}]
[{"$f":"IF(B503=\"\",\"\",MAX(A$21:A502)+1)","v":""},{"$f":"IF($C503=Referenca!$J$3,CONCATENATE('3. Shpenzimet'!#REF!,\"-\",'3. Shpenzimet'!#REF!,\"-\",TEXT('3. Shpenzimet'!#REF!,\"dd/mm/yyyy\")),\"\")","v":""}]
[{"$f":"IF(B504=\"\",\"\",MAX(A$21:A503)+1)","v":""},{"$f":"IF($C504=Referenca!$J$3,CONCATENATE('3. Shpenzimet'!#REF!,\"-\",'3. Shpenzimet'!#REF!,\"-\",TEXT('3. Shpenzimet'!#REF!,\"dd/mm/yyyy\")),\"\")","v":""}]
[{"$f":"IF(B505=\"\",\"\",MAX(A$21:A504)+1)","v":""},{"$f":"IF($C505=Referenca!$J$3,CONCATENATE('3. Shpenzimet'!#REF!,\"-\",'3. Shpenzimet'!#REF!,\"-\",TEXT('3. Shpenzimet'!#REF!,\"dd/mm/yyyy\")),\"\")","v":""}]
[{"$f":"IF(B506=\"\",\"\",MAX(A$21:A505)+1)","v":""},{"$f":"IF($C506=Referenca!$J$3,CONCATENATE('3. Shpenzimet'!#REF!,\"-\",'3. Shpenzimet'!#REF!,\"-\",TEXT('3. Shpenzimet'!#REF!,\"dd/mm/yyyy\")),\"\")","v":""}]
[{"$f":"IF(B507=\"\",\"\",MAX(A$21:A506)+1)","v":""},{"$f":"IF($C507=Referenca!$J$3,CONCATENATE('3. Shpenzimet'!#REF!,\"-\",'3. Shpenzimet'!#REF!,\"-\",TEXT('3. Shpenzimet'!#REF!,\"dd/mm/yyyy\")),\"\")","v":""}]
[{"$f":"IF(B508=\"\",\"\",MAX(A$21:A507)+1)","v":""},{"$f":"IF($C508=Referenca!$J$3,CONCATENATE('3. Shpenzimet'!#REF!,\"-\",'3. Shpenzimet'!#REF!,\"-\",TEXT('3. Shpenzimet'!#REF!,\"dd/mm/yyyy\")),\"\")","v":""}]
[{"$f":"IF(B509=\"\",\"\",MAX(A$21:A508)+1)","v":""},{"$f":"IF($C509=Referenca!$J$3,CONCATENATE('3. Shpenzimet'!#REF!,\"-\",'3. Shpenzimet'!#REF!,\"-\",TEXT('3. Shpenzimet'!#REF!,\"dd/mm/yyyy\")),\"\")","v":""}]
[{"$f":"IF(B510=\"\",\"\",MAX(A$21:A509)+1)","v":""},{"$f":"IF($C510=Referenca!$J$3,CONCATENATE('3. Shpenzimet'!#REF!,\"-\",'3. Shpenzimet'!#REF!,\"-\",TEXT('3. Shpenzimet'!#REF!,\"dd/mm/yyyy\")),\"\")","v":""}]
[{"$f":"IF(B511=\"\",\"\",MAX(A$21:A510)+1)","v":""},{"$f":"IF($C511=Referenca!$J$3,CONCATENATE('3. Shpenzimet'!#REF!,\"-\",'3. Shpenzimet'!#REF!,\"-\",TEXT('3. Shpenzimet'!#REF!,\"dd/mm/yyyy\")),\"\")","v":""}]
[{"$f":"IF(B512=\"\",\"\",MAX(A$21:A511)+1)","v":""},{"$f":"IF($C512=Referenca!$J$3,CONCATENATE('3. Shpenzimet'!#REF!,\"-\",'3. Shpenzimet'!#REF!,\"-\",TEXT('3. Shpenzimet'!#REF!,\"dd/mm/yyyy\")),\"\")","v":""}]
[{"$f":"IF(B513=\"\",\"\",MAX(A$21:A512)+1)","v":""},{"$f":"IF($C513=Referenca!$J$3,CONCATENATE('3. Shpenzimet'!#REF!,\"-\",'3. Shpenzimet'!#REF!,\"-\",TEXT('3. Shpenzimet'!#REF!,\"dd/mm/yyyy\")),\"\")","v":""}]
[{"$f":"IF(B514=\"\",\"\",MAX(A$21:A513)+1)","v":""},{"$f":"IF($C514=Referenca!$J$3,CONCATENATE('3. Shpenzimet'!#REF!,\"-\",'3. Shpenzimet'!#REF!,\"-\",TEXT('3. Shpenzimet'!#REF!,\"dd/mm/yyyy\")),\"\")","v":""}]
[{"$f":"IF(B515=\"\",\"\",MAX(A$21:A514)+1)","v":""},{"$f":"IF($C515=Referenca!$J$3,CONCATENATE('3. Shpenzimet'!#REF!,\"-\",'3. Shpenzimet'!#REF!,\"-\",TEXT('3. Shpenzimet'!#REF!,\"dd/mm/yyyy\")),\"\")","v":""}]
[{"$f":"IF(B516=\"\",\"\",MAX(A$21:A515)+1)","v":""},{"$f":"IF($C516=Referenca!$J$3,CONCATENATE('3. Shpenzimet'!#REF!,\"-\",'3. Shpenzimet'!#REF!,\"-\",TEXT('3. Shpenzimet'!#REF!,\"dd/mm/yyyy\")),\"\")","v":""}]
[{"$f":"IF(B517=\"\",\"\",MAX(A$21:A516)+1)","v":""},{"$f":"IF($C517=Referenca!$J$3,CONCATENATE('3. Shpenzimet'!#REF!,\"-\",'3. Shpenzimet'!#REF!,\"-\",TEXT('3. Shpenzimet'!#REF!,\"dd/mm/yyyy\")),\"\")","v":""}]
[{"$f":"IF(B518=\"\",\"\",MAX(A$21:A517)+1)","v":""},{"$f":"IF($C518=Referenca!$J$3,CONCATENATE('3. Shpenzimet'!#REF!,\"-\",'3. Shpenzimet'!#REF!,\"-\",TEXT('3. Shpenzimet'!#REF!,\"dd/mm/yyyy\")),\"\")","v":""}]
[{"$f":"IF(B519=\"\",\"\",MAX(A$21:A518)+1)","v":""},{"$f":"IF($C519=Referenca!$J$3,CONCATENATE('3. Shpenzimet'!#REF!,\"-\",'3. Shpenzimet'!#REF!,\"-\",TEXT('3. Shpenzimet'!#REF!,\"dd/mm/yyyy\")),\"\")","v":""}]
[{"$f":"IF(B520=\"\",\"\",MAX(A$21:A519)+1)","v":""},{"$f":"IF($C520=Referenca!$J$3,CONCATENATE('3. Shpenzimet'!#REF!,\"-\",'3. Shpenzimet'!#REF!,\"-\",TEXT('3. Shpenzimet'!#REF!,\"dd/mm/yyyy\")),\"\")","v":""}]
[{"$f":"IF(B521=\"\",\"\",MAX(A$21:A520)+1)","v":""},{"$f":"IF($C521=Referenca!$J$3,CONCATENATE('3. Shpenzimet'!#REF!,\"-\",'3. Shpenzimet'!#REF!,\"-\",TEXT('3. Shpenzimet'!#REF!,\"dd/mm/yyyy\")),\"\")","v":""}]
[{"$f":"IF(B522=\"\",\"\",MAX(A$21:A521)+1)","v":""},{"$f":"IF($C522=Referenca!$J$3,CONCATENATE('3. Shpenzimet'!#REF!,\"-\",'3. Shpenzimet'!#REF!,\"-\",TEXT('3. Shpenzimet'!#REF!,\"dd/mm/yyyy\")),\"\")","v":""}]
[{"$f":"IF(B523=\"\",\"\",MAX(A$21:A522)+1)","v":""},{"$f":"IF($C523=Referenca!$J$3,CONCATENATE('3. Shpenzimet'!#REF!,\"-\",'3. Shpenzimet'!#REF!,\"-\",TEXT('3. Shpenzimet'!#REF!,\"dd/mm/yyyy\")),\"\")","v":""}]
[{"$f":"IF(B524=\"\",\"\",MAX(A$21:A523)+1)","v":""},{"$f":"IF($C524=Referenca!$J$3,CONCATENATE('3. Shpenzimet'!#REF!,\"-\",'3. Shpenzimet'!#REF!,\"-\",TEXT('3. Shpenzimet'!#REF!,\"dd/mm/yyyy\")),\"\")","v":""}]
[{"$f":"IF(B525=\"\",\"\",MAX(A$21:A524)+1)","v":""},{"$f":"IF($C525=Referenca!$J$3,CONCATENATE('3. Shpenzimet'!#REF!,\"-\",'3. Shpenzimet'!#REF!,\"-\",TEXT('3. Shpenzimet'!#REF!,\"dd/mm/yyyy\")),\"\")","v":""}]
[{"$f":"IF(B526=\"\",\"\",MAX(A$21:A525)+1)","v":""},{"$f":"IF($C526=Referenca!$J$3,CONCATENATE('3. Shpenzimet'!#REF!,\"-\",'3. Shpenzimet'!#REF!,\"-\",TEXT('3. Shpenzimet'!#REF!,\"dd/mm/yyyy\")),\"\")","v":""}]
[{"$f":"IF(B527=\"\",\"\",MAX(A$21:A526)+1)","v":""},{"$f":"IF($C527=Referenca!$J$3,CONCATENATE('3. Shpenzimet'!#REF!,\"-\",'3. Shpenzimet'!#REF!,\"-\",TEXT('3. Shpenzimet'!#REF!,\"dd/mm/yyyy\")),\"\")","v":""}]
[{"$f":"IF(B528=\"\",\"\",MAX(A$21:A527)+1)","v":""},{"$f":"IF($C528=Referenca!$J$3,CONCATENATE('3. Shpenzimet'!#REF!,\"-\",'3. Shpenzimet'!#REF!,\"-\",TEXT('3. Shpenzimet'!#REF!,\"dd/mm/yyyy\")),\"\")","v":""}]
[{"$f":"IF(B529=\"\",\"\",MAX(A$21:A528)+1)","v":""},{"$f":"IF($C529=Referenca!$J$3,CONCATENATE('3. Shpenzimet'!#REF!,\"-\",'3. Shpenzimet'!#REF!,\"-\",TEXT('3. Shpenzimet'!#REF!,\"dd/mm/yyyy\")),\"\")","v":""}]
[{"$f":"IF(B530=\"\",\"\",MAX(A$21:A529)+1)","v":""},{"$f":"IF($C530=Referenca!$J$3,CONCATENATE('3. Shpenzimet'!#REF!,\"-\",'3. Shpenzimet'!#REF!,\"-\",TEXT('3. Shpenzimet'!#REF!,\"dd/mm/yyyy\")),\"\")","v":""}]
[{"$f":"IF(B531=\"\",\"\",MAX(A$21:A530)+1)","v":""},{"$f":"IF($C531=Referenca!$J$3,CONCATENATE('3. Shpenzimet'!#REF!,\"-\",'3. Shpenzimet'!#REF!,\"-\",TEXT('3. Shpenzimet'!#REF!,\"dd/mm/yyyy\")),\"\")","v":""}]
[{"$f":"IF(B532=\"\",\"\",MAX(A$21:A531)+1)","v":""},{"$f":"IF($C532=Referenca!$J$3,CONCATENATE('3. Shpenzimet'!#REF!,\"-\",'3. Shpenzimet'!#REF!,\"-\",TEXT('3. Shpenzimet'!#REF!,\"dd/mm/yyyy\")),\"\")","v":""}]
[{"$f":"IF(B533=\"\",\"\",MAX(A$21:A532)+1)","v":""},{"$f":"IF($C533=Referenca!$J$3,CONCATENATE('3. Shpenzimet'!#REF!,\"-\",'3. Shpenzimet'!#REF!,\"-\",TEXT('3. Shpenzimet'!#REF!,\"dd/mm/yyyy\")),\"\")","v":""}]
[{"$f":"IF(B534=\"\",\"\",MAX(A$21:A533)+1)","v":""},{"$f":"IF($C534=Referenca!$J$3,CONCATENATE('3. Shpenzimet'!#REF!,\"-\",'3. Shpenzimet'!#REF!,\"-\",TEXT('3. Shpenzimet'!#REF!,\"dd/mm/yyyy\")),\"\")","v":""}]
[{"$f":"IF(B535=\"\",\"\",MAX(A$21:A534)+1)","v":""},{"$f":"IF($C535=Referenca!$J$3,CONCATENATE('3. Shpenzimet'!#REF!,\"-\",'3. Shpenzimet'!#REF!,\"-\",TEXT('3. Shpenzimet'!#REF!,\"dd/mm/yyyy\")),\"\")","v":""}]
[{"$f":"IF(B536=\"\",\"\",MAX(A$21:A535)+1)","v":""},{"$f":"IF($C536=Referenca!$J$3,CONCATENATE('3. Shpenzimet'!#REF!,\"-\",'3. Shpenzimet'!#REF!,\"-\",TEXT('3. Shpenzimet'!#REF!,\"dd/mm/yyyy\")),\"\")","v":""}]
[{"$f":"IF(B537=\"\",\"\",MAX(A$21:A536)+1)","v":""},{"$f":"IF($C537=Referenca!$J$3,CONCATENATE('3. Shpenzimet'!#REF!,\"-\",'3. Shpenzimet'!#REF!,\"-\",TEXT('3. Shpenzimet'!#REF!,\"dd/mm/yyyy\")),\"\")","v":""}]
[{"$f":"IF(B538=\"\",\"\",MAX(A$21:A537)+1)","v":""},{"$f":"IF($C538=Referenca!$J$3,CONCATENATE('3. Shpenzimet'!#REF!,\"-\",'3. Shpenzimet'!#REF!,\"-\",TEXT('3. Shpenzimet'!#REF!,\"dd/mm/yyyy\")),\"\")","v":""}]
[{"$f":"IF(B539=\"\",\"\",MAX(A$21:A538)+1)","v":""},{"$f":"IF($C539=Referenca!$J$3,CONCATENATE('3. Shpenzimet'!#REF!,\"-\",'3. Shpenzimet'!#REF!,\"-\",TEXT('3. Shpenzimet'!#REF!,\"dd/mm/yyyy\")),\"\")","v":""}]
[{"$f":"IF(B540=\"\",\"\",MAX(A$21:A539)+1)","v":""},{"$f":"IF($C540=Referenca!$J$3,CONCATENATE('3. Shpenzimet'!#REF!,\"-\",'3. Shpenzimet'!#REF!,\"-\",TEXT('3. Shpenzimet'!#REF!,\"dd/mm/yyyy\")),\"\")","v":""}]
[{"$f":"IF(B541=\"\",\"\",MAX(A$21:A540)+1)","v":""},{"$f":"IF($C541=Referenca!$J$3,CONCATENATE('3. Shpenzimet'!#REF!,\"-\",'3. Shpenzimet'!#REF!,\"-\",TEXT('3. Shpenzimet'!#REF!,\"dd/mm/yyyy\")),\"\")","v":""}]
[{"$f":"IF(B542=\"\",\"\",MAX(A$21:A541)+1)","v":""},{"$f":"IF($C542=Referenca!$J$3,CONCATENATE('3. Shpenzimet'!#REF!,\"-\",'3. Shpenzimet'!#REF!,\"-\",TEXT('3. Shpenzimet'!#REF!,\"dd/mm/yyyy\")),\"\")","v":""}]
[{"$f":"IF(B543=\"\",\"\",MAX(A$21:A542)+1)","v":""},{"$f":"IF($C543=Referenca!$J$3,CONCATENATE('3. Shpenzimet'!#REF!,\"-\",'3. Shpenzimet'!#REF!,\"-\",TEXT('3. Shpenzimet'!#REF!,\"dd/mm/yyyy\")),\"\")","v":""}]
[{"$f":"IF(B544=\"\",\"\",MAX(A$21:A543)+1)","v":""},{"$f":"IF($C544=Referenca!$J$3,CONCATENATE('3. Shpenzimet'!#REF!,\"-\",'3. Shpenzimet'!#REF!,\"-\",TEXT('3. Shpenzimet'!#REF!,\"dd/mm/yyyy\")),\"\")","v":""}]
[{"$f":"IF(B545=\"\",\"\",MAX(A$21:A544)+1)","v":""},{"$f":"IF($C545=Referenca!$J$3,CONCATENATE('3. Shpenzimet'!#REF!,\"-\",'3. Shpenzimet'!#REF!,\"-\",TEXT('3. Shpenzimet'!#REF!,\"dd/mm/yyyy\")),\"\")","v":""}]
[{"$f":"IF(B546=\"\",\"\",MAX(A$21:A545)+1)","v":""},{"$f":"IF($C546=Referenca!$J$3,CONCATENATE('3. Shpenzimet'!#REF!,\"-\",'3. Shpenzimet'!#REF!,\"-\",TEXT('3. Shpenzimet'!#REF!,\"dd/mm/yyyy\")),\"\")","v":""}]
[{"$f":"IF(B547=\"\",\"\",MAX(A$21:A546)+1)","v":""},{"$f":"IF($C547=Referenca!$J$3,CONCATENATE('3. Shpenzimet'!#REF!,\"-\",'3. Shpenzimet'!#REF!,\"-\",TEXT('3. Shpenzimet'!#REF!,\"dd/mm/yyyy\")),\"\")","v":""}]
[{"$f":"IF(B548=\"\",\"\",MAX(A$21:A547)+1)","v":""},{"$f":"IF($C548=Referenca!$J$3,CONCATENATE('3. Shpenzimet'!#REF!,\"-\",'3. Shpenzimet'!#REF!,\"-\",TEXT('3. Shpenzimet'!#REF!,\"dd/mm/yyyy\")),\"\")","v":""}]
[{"$f":"IF(B549=\"\",\"\",MAX(A$21:A548)+1)","v":""},{"$f":"IF($C549=Referenca!$J$3,CONCATENATE('3. Shpenzimet'!#REF!,\"-\",'3. Shpenzimet'!#REF!,\"-\",TEXT('3. Shpenzimet'!#REF!,\"dd/mm/yyyy\")),\"\")","v":""}]
[{"$f":"IF(B550=\"\",\"\",MAX(A$21:A549)+1)","v":""},{"$f":"IF($C550=Referenca!$J$3,CONCATENATE('3. Shpenzimet'!#REF!,\"-\",'3. Shpenzimet'!#REF!,\"-\",TEXT('3. Shpenzimet'!#REF!,\"dd/mm/yyyy\")),\"\")","v":""}]
[{"$f":"IF(B551=\"\",\"\",MAX(A$21:A550)+1)","v":""},{"$f":"IF($C551=Referenca!$J$3,CONCATENATE('3. Shpenzimet'!#REF!,\"-\",'3. Shpenzimet'!#REF!,\"-\",TEXT('3. Shpenzimet'!#REF!,\"dd/mm/yyyy\")),\"\")","v":""}]
[{"$f":"IF(B552=\"\",\"\",MAX(A$21:A551)+1)","v":""},{"$f":"IF($C552=Referenca!$J$3,CONCATENATE('3. Shpenzimet'!#REF!,\"-\",'3. Shpenzimet'!#REF!,\"-\",TEXT('3. Shpenzimet'!#REF!,\"dd/mm/yyyy\")),\"\")","v":""}]
[{"$f":"IF(B553=\"\",\"\",MAX(A$21:A552)+1)","v":""},{"$f":"IF($C553=Referenca!$J$3,CONCATENATE('3. Shpenzimet'!#REF!,\"-\",'3. Shpenzimet'!#REF!,\"-\",TEXT('3. Shpenzimet'!#REF!,\"dd/mm/yyyy\")),\"\")","v":""}]

{"sheet":"Referenca","index":6,"n_rows":201,"n_cols":30,"rows_kept":201,"cut":false,"hidden":false,"merged":[]}
[]
[null,"Lloji_i_zgjedhjeve",null,"Lloji_dhurimit",null,"Statusi_i_dhuruesit",null,"Metoda_e_dhurimit",null,"Lloji_i_shpenzimit",null,"Lloji_i_medias",null,"Po_Jo",null,"Data më e hershme",null,"Marrë_nga",null,"Aktiviteti_që_ka_krijuar_të_ardhura",null,"Të_pa_raportueshme",null,"Kategoria_e_shpenzimit",null,"Kategoria_shpenzimeve_të_fushatës",null,"Listamitingjevedinamike",null,"Bashkia"]
[null,"Parlamentare",null,"Dhurime monetare",null,"Person fizik",null,"Para në dorë/cash",null,"Mitingje/tubime dhe aktivitete në fushatë","*","TV",null,"Po",null,"2017-01-01",null,"Zyra qëndrore",null,"Shtypi i printuar",null,"Të dhënat e mëposhtme",null,"Zërat e shpenzimeve monetare",null,"Shpenzime për vendin/ambientin",null,{"$f":"IFERROR(INDEX('3. Shpenzimet'!$B$22:$B$553,MATCH(ROW()-ROW($AB$2),'3. Shpenzimet'!$A$22:$A$553,0)),\"\")","v":""},null,"Belsh"]
[null,"Lokale",null,"Dhurime në natyrë",null,"Person juridik",null,"Çek bankar",null,"Materiale promocionale",null,"Radio",null,"Jo",null,null,null,"Dega",null,"Shitja e publikimeve",null,"Konfirmoj se nuk kemi zëra për të raportuar",null,"Shpenzime të papaguara",null,"Shpenzime për zbavitje/argëtim",null,{"$f":"IFERROR(INDEX('3. Shpenzimet'!$B$22:$B$553,MATCH(ROW()-ROW($AB$2),'3. Shpenzimet'!$A$22:$A$553,0)),\"\")","v":""},null,"Berat"]
[null,null,null,"Të ardhura të krijuara nga subjekti",null,"Entitet juridik",null,"Transfertë bankare",null,"Media","*","Printime",null,null,null,null,null,"Kandidati",null,"Dhënia me qera",null,null,null,null,null,"Shpenzime për pajisje",null,{"$f":"IFERROR(INDEX('3. Shpenzimet'!$B$22:$B$553,MATCH(ROW()-ROW($AB$2),'3. Shpenzimet'!$A$22:$A$553,0)),\"\")","v":""},null,"Bulqizë"]
[null,null,null,null,null,null,null,"Kartë krediti/debiti",null,"Media Sociale",null,"Online",null,null,null,null,null,null,null,"Interesa bankare",null,null,null,"Detyrime financiare",null,"Shpenzime për pije",null,{"$f":"IFERROR(INDEX('3. Shpenzimet'!$B$22:$B$553,MATCH(ROW()-ROW($AB$2),'3. Shpenzimet'!$A$22:$A$553,0)),\"\")","v":""},null,"Cërrik"]
[null,null,null,null,null,null,null,null,null,"Sondazhe",null,null,null,null,null,null,null,null,null,"Kuotat e anëtarësisë",null,null,null,null,null,"Shpenzime për reklama/promocion",null,{"$f":"IFERROR(INDEX('3. Shpenzimet'!$B$22:$B$553,MATCH(ROW()-ROW($AB$2),'3. Shpenzimet'!$A$22:$A$553,0)),\"\")","v":""},null,"Delvinë"]
[null,null,null,null,null,null,null,null,null,"Botime/Publikime",null,null,null,null,null,null,null,null,null,"Të tjera (specifikoni në kolonën e fundit)",null,null,null,null,null,"Shpenzime për transport",null,{"$f":"IFERROR(INDEX('3. Shpenzimet'!$B$22:$B$553,MATCH(ROW()-ROW($AB$2),'3. Shpenzimet'!$A$22:$A$553,0)),\"\")","v":""},null,"Devoll"]
[null,null,null,null,null,null,null,null,null,"Transporti",null,null,null,null,null,null,null,null,null,null,null,null,null,null,null,"Shpenzime administrative",null,{"$f":"IFERROR(INDEX('3. Shpenzimet'!$B$22:$B$553,MATCH(ROW()-ROW($AB$2),'3. Shpenzimet'!$A$22:$A$553,0)),\"\")","v":""},null,"Dibër"]
[null,null,null,null,null,null,null,null,null,"Konsulenca",null,null,null,null,null,null,null,null,null,null,null,null,null,null,null,null,null,{"$f":"IFERROR(INDEX('3. Shpenzimet'!$B$22:$B$553,MATCH(ROW()-ROW($AB$2),'3. Shpenzimet'!$A$22:$A$553,0)),\"\")","v":""},null,"Divjakë"]
[null,null,null,null,null,null,null,null,null,"Reklamime në natyrë",null,null,null,null,null,null,null,null,null,null,null,null,null,null,null,null,null,{"$f":"IFERROR(INDEX('3. Shpenzimet'!$B$22:$B$553,MATCH(ROW()-ROW($AB$2),'3. Shpenzimet'!$A$22:$A$553,0)),\"\")","v":""},null,"Dropull"]
[null,null,null,null,null,null,null,null,null,"Shpenzime zyre elektorale",null,null,null,null,null,null,null,null,null,null,null,null,null,null,null,null,null,null,null,"Durrës"]
[null,null,null,null,null,null,null,null,null,"Shpenzimet administrative",null,null,null,null,null,null,null,null,null,null,null,null,null,null,null,null,null,{"$f":"IFERROR(INDEX('3. Shpenzimet'!$B$22:$B$553,MATCH(ROW()-ROW($AB$2),'3. Shpenzimet'!$A$22:$A$553,0)),\"\")","v":""},null,"Elbasan"]
[null,null,null,null,null,null,null,null,null,null,null,null,null,null,null,null,null,null,null,null,null,null,null,null,null,null,null,{"$f":"IFERROR(INDEX('3. Shpenzimet'!$B$22:$B$553,MATCH(ROW()-ROW($AB$2),'3. Shpenzimet'!$A$22:$A$553,0)),\"\")","v":""},null,"Fier"]
[null,null,null,null,null,null,null,null,null,null,null,null,null,null,null,null,null,null,null,null,null,null,null,null,null,null,null,{"$f":"IFERROR(INDEX('3. Shpenzimet'!$B$22:$B$553,MATCH(ROW()-ROW($AB$2),'3. Shpenzimet'!$A$22:$A$553,0)),\"\")","v":""},null,"Finiq"]
[null,null,null,null,null,null,null,null,null,null,null,null,null,null,null,null,null,null,null,null,null,null,null,null,null,null,null,{"$f":"IFERROR(INDEX('3. Shpenzimet'!$B$22:$B$553,MATCH(ROW()-ROW($AB$2),'3. Shpenzimet'!$A$22:$A$553,0)),\"\")","v":""},null,"Fushë Arrëz"]
[null,null,null,null,null,null,null,null,null,null,null,null,null,null,null,null,null,null,null,null,null,null,null,null,null,null,null,{"$f":"IFERROR(INDEX('3. Shpenzimet'!$B$22:$B$553,MATCH(ROW()-ROW($AB$2),'3. Shpenzimet'!$A$22:$A$553,0)),\"\")","v":""},null,"Gjirokastër"]
[null,null,null,null,null,null,null,null,null,null,null,null,null,null,null,null,null,null,null,null,null,null,null,null,null,null,null,{"$f":"IFERROR(INDEX('3. Shpenzimet'!$B$22:$B$553,MATCH(ROW()-ROW($AB$2),'3. Shpenzimet'!$A$22:$A$553,0)),\"\")","v":""},null,"Gramsh"]
[null,null,null,null,null,null,null,null,null,null,null,null,null,null,null,null,null,null,null,null,null,null,null,null,null,null,null,{"$f":"IFERROR(INDEX('3. Shpenzimet'!$B$22:$B$553,MATCH(ROW()-ROW($AB$2),'3. Shpenzimet'!$A$22:$A$553,0)),\"\")","v":""},null,"Has"]
[null,null,null,null,null,null,null,null,null,null,null,null,null,null,null,null,null,null,null,null,null,null,null,null,null,null,null,{"$f":"IFERROR(INDEX('3. Shpenzimet'!$B$22:$B$553,MATCH(ROW()-ROW($AB$2),'3. Shpenzimet'!$A$22:$A$553,0)),\"\")","v":""},null,"Himarë"]
[null,null,null,null,null,null,null,null,null,null,null,null,null,null,null,null,null,null,null,null,null,null,null,null,null,null,null,{"$f":"IFERROR(INDEX('3. Shpenzimet'!$B$22:$B$553,MATCH(ROW()-ROW($AB$2),'3. Shpenzimet'!$A$22:$A$553,0)),\"\")","v":""},null,"Kamëz"]
[null,null,null,null,null,null,null,null,null,null,null,null,null,null,null,null,null,null,null,null,null,null,null,null,null,null,null,{"$f":"IFERROR(INDEX('3. Shpenzimet'!$B$22:$B$553,MATCH(ROW()-ROW($AB$2),'3. Shpenzimet'!$A$22:$A$553,0)),\"\")","v":""},null,"Kavajë"]
[null,null,null,null,null,null,null,null,null,null,null,null,null,null,null,null,null,null,null,null,null,null,null,null,null,null,null,{"$f":"IFERROR(INDEX('3. Shpenzimet'!$B$22:$B$553,MATCH(ROW()-ROW($AB$2),'3. Shpenzimet'!$A$22:$A$553,0)),\"\")","v":""},null,"Këlcyrë"]
[null,null,null,null,null,null,null,null,null,null,null,null,null,null,null,null,null,null,null,null,null,null,null,null,null,null,null,{"$f":"IFERROR(INDEX('3. Shpenzimet'!$B$22:$B$553,MATCH(ROW()-ROW($AB$2),'3. Shpenzimet'!$A$22:$A$553,0)),\"\")","v":""},null,"Klos"]
[null,null,null,null,null,null,null,null,null,null,null,null,null,null,null,null,null,null,null,null,null,null,null,null,null,null,null,{"$f":"IFERROR(INDEX('3. Shpenzimet'!$B$22:$B$553,MATCH(ROW()-ROW($AB$2),'3. Shpenzimet'!$A$22:$A$553,0)),\"\")","v":""},null,"Kolonjë"]
[null,null,null,null,null,null,null,null,null,null,null,null,null,null,null,null,null,null,null,null,null,null,null,null,null,null,null,{"$f":"IFERROR(INDEX('3. Shpenzimet'!$B$22:$B$553,MATCH(ROW()-ROW($AB$2),'3. Shpenzimet'!$A$22:$A$553,0)),\"\")","v":""},null,"Konispol"]
[null,null,null,null,null,null,null,null,null,null,null,null,null,null,null,null,null,null,null,null,null,null,null,null,null,null,null,{"$f":"IFERROR(INDEX('3. Shpenzimet'!$B$22:$B$553,MATCH(ROW()-ROW($AB$2),'3. Shpenzimet'!$A$22:$A$553,0)),\"\")","v":""},null,"Korçë"]
[null,null,null,null,null,null,null,null,null,null,null,null,null,null,null,null,null,null,null,null,null,null,null,null,null,null,null,{"$f":"IFERROR(INDEX('3. Shpenzimet'!$B$22:$B$553,MATCH(ROW()-ROW($AB$2),'3. Shpenzimet'!$A$22:$A$553,0)),\"\")","v":""},null,"Krujë"]
[null,null,null,null,null,null,null,null,null,null,null,null,null,null,null,null,null,null,null,null,null,null,null,null,null,null,null,{"$f":"IFERROR(INDEX('3. Shpenzimet'!$B$22:$B$553,MATCH(ROW()-ROW($AB$2),'3. Shpenzimet'!$A$22:$A$553,0)),\"\")","v":""},null,"Kuçovë"]
[null,null,null,null,null,null,null,null,null,null,null,null,null,null,null,null,null,null,null,null,null,null,null,null,null,null,null,{"$f":"IFERROR(INDEX('3. Shpenzimet'!$B$22:$B$553,MATCH(ROW()-ROW($AB$2),'3. Shpenzimet'!$A$22:$A$553,0)),\"\")","v":""},null,"Kukës"]
[null,null,null,null,null,null,null,null,null,null,null,null,null,null,null,null,null,null,null,null,null,null,null,null,null,null,null,{"$f":"IFERROR(INDEX('3. Shpenzimet'!$B$22:$B$553,MATCH(ROW()-ROW($AB$2),'3. Shpenzimet'!$A$22:$A$553,0)),\"\")","v":""},null,"Kurbin"]
[null,null,null,null,null,null,null,null,null,null,null,null,null,null,null,null,null,null,null,null,null,null,null,null,null,null,null,{"$f":"IFERROR(INDEX('3. Shpenzimet'!$B$22:$B$553,MATCH(ROW()-ROW($AB$2),'3. Shpenzimet'!$A$22:$A$553,0)),\"\")","v":""},null,"Lezhë"]
[null,null,null,null,null,null,null,null,null,null,null,null,null,null,null,null,null,null,null,null,null,null,null,null,null,null,null,{"$f":"IFERROR(INDEX('3. Shpenzimet'!$B$22:$B$553,MATCH(ROW()-ROW($AB$2),'3. Shpenzimet'!$A$22:$A$553,0)),\"\")","v":""},null,"Libohovë"]
[null,null,null,null,null,null,null,null,null,null,null,null,null,null,null,null,null,null,null,null,null,null,null,null,null,null,null,{"$f":"IFERROR(INDEX('3. Shpenzimet'!$B$22:$B$553,MATCH(ROW()-ROW($AB$2),'3. Shpenzimet'!$A$22:$A$553,0)),\"\")","v":""},null,"Librazhd"]
[null,null,null,null,null,null,null,null,null,null,null,null,null,null,null,null,null,null,null,null,null,null,null,null,null,null,null,{"$f":"IFERROR(INDEX('3. Shpenzimet'!$B$22:$B$553,MATCH(ROW()-ROW($AB$2),'3. Shpenzimet'!$A$22:$A$553,0)),\"\")","v":""},null,"Lushnjë"]
[null,null,null,null,null,null,null,null,null,null,null,null,null,null,null,null,null,null,null,null,null,null,null,null,null,null,null,{"$f":"IFERROR(INDEX('3. Shpenzimet'!$B$22:$B$553,MATCH(ROW()-ROW($AB$2),'3. Shpenzimet'!$A$22:$A$553,0)),\"\")","v":""},null,"Malësi e Madhe"]
[null,null,null,null,null,null,null,null,null,null,null,null,null,null,null,null,null,null,null,null,null,null,null,null,null,null,null,{"$f":"IFERROR(INDEX('3. Shpenzimet'!$B$22:$B$553,MATCH(ROW()-ROW($AB$2),'3. Shpenzimet'!$A$22:$A$553,0)),\"\")","v":""},null,"Maliq"]
[null,null,null,null,null,null,null,null,null,null,null,null,null,null,null,null,null,null,null,null,null,null,null,null,null,null,null,{"$f":"IFERROR(INDEX('3. Shpenzimet'!$B$22:$B$553,MATCH(ROW()-ROW($AB$2),'3. Shpenzimet'!$A$22:$A$553,0)),\"\")","v":""},null,"Mallakastër"]
[null,null,null,null,null,null,null,null,null,null,null,null,null,null,null,null,null,null,null,null,null,null,null,null,null,null,null,{"$f":"IFERROR(INDEX('3. Shpenzimet'!$B$22:$B$553,MATCH(ROW()-ROW($AB$2),'3. Shpenzimet'!$A$22:$A$553,0)),\"\")","v":""},null,"Mat"]
[null,null,null,null,null,null,null,null,null,null,null,null,null,null,null,null,null,null,null,null,null,null,null,null,null,null,null,{"$f":"IFERROR(INDEX('3. Shpenzimet'!$B$22:$B$553,MATCH(ROW()-ROW($AB$2),'3. Shpenzimet'!$A$22:$A$553,0)),\"\")","v":""},null,"Memaliaj"]
[null,null,null,null,null,null,null,null,null,null,null,null,null,null,null,null,null,null,null,null,null,null,null,null,null,null,null,{"$f":"IFERROR(INDEX('3. Shpenzimet'!$B$22:$B$553,MATCH(ROW()-ROW($AB$2),'3. Shpenzimet'!$A$22:$A$553,0)),\"\")","v":""},null,"Mirditë"]
[null,null,null,null,null,null,null,null,null,null,null,null,null,null,null,null,null,null,null,null,null,null,null,null,null,null,null,{"$f":"IFERROR(INDEX('3. Shpenzimet'!$B$22:$B$553,MATCH(ROW()-ROW($AB$2),'3. Shpenzimet'!$A$22:$A$553,0)),\"\")","v":""},null,"Patos"]
[null,null,null,null,null,null,null,null,null,null,null,null,null,null,null,null,null,null,null,null,null,null,null,null,null,null,null,{"$f":"IFERROR(INDEX('3. Shpenzimet'!$B$22:$B$553,MATCH(ROW()-ROW($AB$2),'3. Shpenzimet'!$A$22:$A$553,0)),\"\")","v":""},null,"Peqin"]
[null,null,null,null,null,null,null,null,null,null,null,null,null,null,null,null,null,null,null,null,null,null,null,null,null,null,null,{"$f":"IFERROR(INDEX('3. Shpenzimet'!$B$22:$B$553,MATCH(ROW()-ROW($AB$2),'3. Shpenzimet'!$A$22:$A$553,0)),\"\")","v":""},null,"Përmet"]
[null,null,null,null,null,null,null,null,null,null,null,null,null,null,null,null,null,null,null,null,null,null,null,null,null,null,null,{"$f":"IFERROR(INDEX('3. Shpenzimet'!$B$22:$B$553,MATCH(ROW()-ROW($AB$2),'3. Shpenzimet'!$A$22:$A$553,0)),\"\")","v":""},null,"Pogradec"]
[null,null,null,null,null,null,null,null,null,null,null,null,null,null,null,null,null,null,null,null,null,null,null,null,null,null,null,{"$f":"IFERROR(INDEX('3. Shpenzimet'!$B$22:$B$553,MATCH(ROW()-ROW($AB$2),'3. Shpenzimet'!$A$22:$A$553,0)),\"\")","v":""},null,"Polican"]
[null,null,null,null,null,null,null,null,null,null,null,null,null,null,null,null,null,null,null,null,null,null,null,null,null,null,null,{"$f":"IFERROR(INDEX('3. Shpenzimet'!$B$22:$B$553,MATCH(ROW()-ROW($AB$2),'3. Shpenzimet'!$A$22:$A$553,0)),\"\")","v":""},null,"Prrenjas"]
[null,null,null,null,null,null,null,null,null,null,null,null,null,null,null,null,null,null,null,null,null,null,null,null,null,null,null,{"$f":"IFERROR(INDEX('3. Shpenzimet'!$B$22:$B$553,MATCH(ROW()-ROW($AB$2),'3. Shpenzimet'!$A$22:$A$553,0)),\"\")","v":""},null,"Pukë"]
[null,null,null,null,null,null,null,null,null,null,null,null,null,null,null,null,null,null,null,null,null,null,null,null,null,null,null,{"$f":"IFERROR(INDEX('3. Shpenzimet'!$B$22:$B$553,MATCH(ROW()-ROW($AB$2),'3. Shpenzimet'!$A$22:$A$553,0)),\"\")","v":""},null,"Pustec"]
[null,null,null,null,null,null,null,null,null,null,null,null,null,null,null,null,null,null,null,null,null,null,null,null,null,null,null,{"$f":"IFERROR(INDEX('3. Shpenzimet'!$B$22:$B$553,MATCH(ROW()-ROW($AB$2),'3. Shpenzimet'!$A$22:$A$553,0)),\"\")","v":""},null,"Roskovec"]
[null,null,null,null,null,null,null,null,null,null,null,null,null,null,null,null,null,null,null,null,null,null,null,null,null,null,null,{"$f":"IFERROR(INDEX('3. Shpenzimet'!$B$22:$B$553,MATCH(ROW()-ROW($AB$2),'3. Shpenzimet'!$A$22:$A$553,0)),\"\")","v":""},null,"Rrogozhinë"]
[null,null,null,null,null,null,null,null,null,null,null,null,null,null,null,null,null,null,null,null,null,null,null,null,null,null,null,{"$f":"IFERROR(INDEX('3. Shpenzimet'!$B$22:$B$553,MATCH(ROW()-ROW($AB$2),'3. Shpenzimet'!$A$22:$A$553,0)),\"\")","v":""},null,"Sarandë"]
[null,null,null,null,null,null,null,null,null,null,null,null,null,null,null,null,null,null,null,null,null,null,null,null,null,null,null,{"$f":"IFERROR(INDEX('3. Shpenzimet'!$B$22:$B$553,MATCH(ROW()-ROW($AB$2),'3. Shpenzimet'!$A$22:$A$553,0)),\"\")","v":""},null,"Selenicë"]
[null,null,null,null,null,null,null,null,null,null,null,null,null,null,null,null,null,null,null,null,null,null,null,null,null,null,null,{"$f":"IFERROR(INDEX('3. Shpenzimet'!$B$22:$B$553,MATCH(ROW()-ROW($AB$2),'3. Shpenzimet'!$A$22:$A$553,0)),\"\")","v":""},null,"Shijak"]
[null,null,null,null,null,null,null,null,null,null,null,null,null,null,null,null,null,null,null,null,null,null,null,null,null,null,null,{"$f":"IFERROR(INDEX('3. Shpenzimet'!$B$22:$B$553,MATCH(ROW()-ROW($AB$2),'3. Shpenzimet'!$A$22:$A$553,0)),\"\")","v":""},null,"Shkodër"]
[null,null,null,null,null,null,null,null,null,null,null,null,null,null,null,null,null,null,null,null,null,null,null,null,null,null,null,{"$f":"IFERROR(INDEX('3. Shpenzimet'!$B$22:$B$553,MATCH(ROW()-ROW($AB$2),'3. Shpenzimet'!$A$22:$A$553,0)),\"\")","v":""},null,"Skrapar"]
[null,null,null,null,null,null,null,null,null,null,null,null,null,null,null,null,null,null,null,null,null,null,null,null,null,null,null,{"$f":"IFERROR(INDEX('3. Shpenzimet'!$B$22:$B$553,MATCH(ROW()-ROW($AB$2),'3. Shpenzimet'!$A$22:$A$553,0)),\"\")","v":""},null,"Tepelenë"]
[null,null,null,null,null,null,null,null,null,null,null,null,null,null,null,null,null,null,null,null,null,null,null,null,null,null,null,{"$f":"IFERROR(INDEX('3. Shpenzimet'!$B$22:$B$553,MATCH(ROW()-ROW($AB$2),'3. Shpenzimet'!$A$22:$A$553,0)),\"\")","v":""},null,"Tiranë"]
[null,null,null,null,null,null,null,null,null,null,null,null,null,null,null,null,null,null,null,null,null,null,null,null,null,null,null,{"$f":"IFERROR(INDEX('3. Shpenzimet'!$B$22:$B$553,MATCH(ROW()-ROW($AB$2),'3. Shpenzimet'!$A$22:$A$553,0)),\"\")","v":""},null,"Tropojë"]
[null,null,null,null,null,null,null,null,null,null,null,null,null,null,null,null,null,null,null,null,null,null,null,null,null,null,null,{"$f":"IFERROR(INDEX('3. Shpenzimet'!$B$22:$B$553,MATCH(ROW()-ROW($AB$2),'3. Shpenzimet'!$A$22:$A$553,0)),\"\")","v":""},null,"Ura Vajgurore"]
[null,null,null,null,null,null,null,null,null,null,null,null,null,null,null,null,null,null,null,null,null,null,null,null,null,null,null,{"$f":"IFERROR(INDEX('3. Shpenzimet'!$B$22:$B$553,MATCH(ROW()-ROW($AB$2),'3. Shpenzimet'!$A$22:$A$553,0)),\"\")","v":""},null,"Vau i Dejës"]
[null,null,null,null,null,null,null,null,null,null,null,null,null,null,null,null,null,null,null,null,null,null,null,null,null,null,null,{"$f":"IFERROR(INDEX('3. Shpenzimet'!$B$22:$B$553,MATCH(ROW()-ROW($AB$2),'3. Shpenzimet'!$A$22:$A$553,0)),\"\")","v":""},null,"Vlorë"]
[null,null,null,null,null,null,null,null,null,null,null,null,null,null,null,null,null,null,null,null,null,null,null,null,null,null,null,{"$f":"IFERROR(INDEX('3. Shpenzimet'!$B$22:$B$553,MATCH(ROW()-ROW($AB$2),'3. Shpenzimet'!$A$22:$A$553,0)),\"\")","v":""},null,"Vorë"]
[null,null,null,null,null,null,null,null,null,null,null,null,null,null,null,null,null,null,null,null,null,null,null,null,null,null,null,{"$f":"IFERROR(INDEX('3. Shpenzimet'!$B$22:$B$553,MATCH(ROW()-ROW($AB$2),'3. Shpenzimet'!$A$22:$A$553,0)),\"\")","v":""}]
[null,null,null,null,null,null,null,null,null,null,null,null,null,null,null,null,null,null,null,null,null,null,null,null,null,null,null,{"$f":"IFERROR(INDEX('3. Shpenzimet'!$B$22:$B$553,MATCH(ROW()-ROW($AB$2),'3. Shpenzimet'!$A$22:$A$553,0)),\"\")","v":""}]
[null,null,null,null,null,null,null,null,null,null,null,null,null,null,null,null,null,null,null,null,null,null,null,null,null,null,null,{"$f":"IFERROR(INDEX('3. Shpenzimet'!$B$22:$B$553,MATCH(ROW()-ROW($AB$2),'3. Shpenzimet'!$A$22:$A$553,0)),\"\")","v":""}]
[null,null,null,null,null,null,null,null,null,null,null,null,null,null,null,null,null,null,null,null,null,null,null,null,null,null,null,{"$f":"IFERROR(INDEX('3. Shpenzimet'!$B$22:$B$553,MATCH(ROW()-ROW($AB$2),'3. Shpenzimet'!$A$22:$A$553,0)),\"\")","v":""}]
[null,null,null,null,null,null,null,null,null,null,null,null,null,null,null,null,null,null,null,null,null,null,null,null,null,null,null,{"$f":"IFERROR(INDEX('3. Shpenzimet'!$B$22:$B$553,MATCH(ROW()-ROW($AB$2),'3. Shpenzimet'!$A$22:$A$553,0)),\"\")","v":""}]
[null,null,null,null,null,null,null,null,null,null,null,null,null,null,null,null,null,null,null,null,null,null,null,null,null,null,null,{"$f":"IFERROR(INDEX('3. Shpenzimet'!$B$22:$B$553,MATCH(ROW()-ROW($AB$2),'3. Shpenzimet'!$A$22:$A$553,0)),\"\")","v":""}]
[null,null,null,null,null,null,null,null,null,null,null,null,null,null,null,null,null,null,null,null,null,null,null,null,null,null,null,{"$f":"IFERROR(INDEX('3. Shpenzimet'!$B$22:$B$553,MATCH(ROW()-ROW($AB$2),'3. Shpenzimet'!$A$22:$A$553,0)),\"\")","v":""}]
[null,null,null,null,null,null,null,null,null,null,null,null,null,null,null,null,null,null,null,null,null,null,null,null,null,null,null,{"$f":"IFERROR(INDEX('3. Shpenzimet'!$B$22:$B$553,MATCH(ROW()-ROW($AB$2),'3. Shpenzimet'!$A$22:$A$553,0)),\"\")","v":""}]
[null,null,null,null,null,null,null,null,null,null,null,null,null,null,null,null,null,null,null,null,null,null,null,null,null,null,null,{"$f":"IFERROR(INDEX('3. Shpenzimet'!$B$22:$B$553,MATCH(ROW()-ROW($AB$2),'3. Shpenzimet'!$A$22:$A$553,0)),\"\")","v":""}]
[null,null,null,null,null,null,null,null,null,null,null,null,null,null,null,null,null,null,null,null,null,null,null,null,null,null,null,{"$f":"IFERROR(INDEX('3. Shpenzimet'!$B$22:$B$553,MATCH(ROW()-ROW($AB$2),'3. Shpenzimet'!$A$22:$A$553,0)),\"\")","v":""}]
[null,null,null,null,null,null,null,null,null,null,null,null,null,null,null,null,null,null,null,null,null,null,null,null,null,null,null,{"$f":"IFERROR(INDEX('3. Shpenzimet'!$B$22:$B$553,MATCH(ROW()-ROW($AB$2),'3. Shpenzimet'!$A$22:$A$553,0)),\"\")","v":""}]
[null,null,null,null,null,null,null,null,null,null,null,null,null,null,null,null,null,null,null,null,null,null,null,null,null,null,null,{"$f":"IFERROR(INDEX('3. Shpenzimet'!$B$22:$B$553,MATCH(ROW()-ROW($AB$2),'3. Shpenzimet'!$A$22:$A$553,0)),\"\")","v":""}]
[null,null,null,null,null,null,null,null,null,null,null,null,null,null,null,null,null,null,null,null,null,null,null,null,null,null,null,{"$f":"IFERROR(INDEX('3. Shpenzimet'!$B$22:$B$553,MATCH(ROW()-ROW($AB$2),'3. Shpenzimet'!$A$22:$A$553,0)),\"\")","v":""}]
[null,null,null,null,null,null,null,null,null,null,null,null,null,null,null,null,null,null,null,null,null,null,null,null,null,null,null,{"$f":"IFERROR(INDEX('3. Shpenzimet'!$B$22:$B$553,MATCH(ROW()-ROW($AB$2),'3. Shpenzimet'!$A$22:$A$553,0)),\"\")","v":""}]
[null,null,null,null,null,null,null,null,null,null,null,null,null,null,null,null,null,null,null,null,null,null,null,null,null,null,null,{"$f":"IFERROR(INDEX('3. Shpenzimet'!$B$22:$B$553,MATCH(ROW()-ROW($AB$2),'3. Shpenzimet'!$A$22:$A$553,0)),\"\")","v":""}]
[null,null,null,null,null,null,null,null,null,null,null,null,null,null,null,null,null,null,null,null,null,null,null,null,null,null,null,{"$f":"IFERROR(INDEX('3. Shpenzimet'!$B$22:$B$553,MATCH(ROW()-ROW($AB$2),'3. Shpenzimet'!$A$22:$A$553,0)),\"\")","v":""}]
[null,null,null,null,null,null,null,null,null,null,null,null,null,null,null,null,null,null,null,null,null,null,null,null,null,null,null,{"$f":"IFERROR(INDEX('3. Shpenzimet'!$B$22:$B$553,MATCH(ROW()-ROW($AB$2),'3. Shpenzimet'!$A$22:$A$553,0)),\"\")","v":""}]
[null,null,null,null,null,null,null,null,null,null,null,null,null,null,null,null,null,null,null,null,null,null,null,null,null,null,null,{"$f":"IFERROR(INDEX('3. Shpenzimet'!$B$22:$B$553,MATCH(ROW()-ROW($AB$2),'3. Shpenzimet'!$A$22:$A$553,0)),\"\")","v":""}]
[null,null,null,null,null,null,null,null,null,null,null,null,null,null,null,null,null,null,null,null,null,null,null,null,null,null,null,{"$f":"IFERROR(INDEX('3. Shpenzimet'!$B$22:$B$553,MATCH(ROW()-ROW($AB$2),'3. Shpenzimet'!$A$22:$A$553,0)),\"\")","v":""}]
[null,null,null,null,null,null,null,null,null,null,null,null,null,null,null,null,null,null,null,null,null,null,null,null,null,null,null,{"$f":"IFERROR(INDEX('3. Shpenzimet'!$B$22:$B$553,MATCH(ROW()-ROW($AB$2),'3. Shpenzimet'!$A$22:$A$553,0)),\"\")","v":""}]
[null,null,null,null,null,null,null,null,null,null,null,null,null,null,null,null,null,null,null,null,null,null,null,null,null,null,null,{"$f":"IFERROR(INDEX('3. Shpenzimet'!$B$22:$B$553,MATCH(ROW()-ROW($AB$2),'3. Shpenzimet'!$A$22:$A$553,0)),\"\")","v":""}]
[null,null,null,null,null,null,null,null,null,null,null,null,null,null,null,null,null,null,null,null,null,null,null,null,null,null,null,{"$f":"IFERROR(INDEX('3. Shpenzimet'!$B$22:$B$553,MATCH(ROW()-ROW($AB$2),'3. Shpenzimet'!$A$22:$A$553,0)),\"\")","v":""}]
[null,null,null,null,null,null,null,null,null,null,null,null,null,null,null,null,null,null,null,null,null,null,null,null,null,null,null,{"$f":"IFERROR(INDEX('3. Shpenzimet'!$B$22:$B$553,MATCH(ROW()-ROW($AB$2),'3. Shpenzimet'!$A$22:$A$553,0)),\"\")","v":""}]
[null,null,null,null,null,null,null,null,null,null,null,null,null,null,null,null,null,null,null,null,null,null,null,null,null,null,null,{"$f":"IFERROR(INDEX('3. Shpenzimet'!$B$22:$B$553,MATCH(ROW()-ROW($AB$2),'3. Shpenzimet'!$A$22:$A$553,0)),\"\")","v":""}]
[null,null,null,null,null,null,null,null,null,null,null,null,null,null,null,null,null,null,null,null,null,null,null,null,null,null,null,{"$f":"IFERROR(INDEX('3. Shpenzimet'!$B$22:$B$553,MATCH(ROW()-ROW($AB$2),'3. Shpenzimet'!$A$22:$A$553,0)),\"\")","v":""}]
[null,null,null,null,null,null,null,null,null,null,null,null,null,null,null,null,null,null,null,null,null,null,null,null,null,null,null,{"$f":"IFERROR(INDEX('3. Shpenzimet'!$B$22:$B$553,MATCH(ROW()-ROW($AB$2),'3. Shpenzimet'!$A$22:$A$553,0)),\"\")","v":""}]
[null,null,null,null,null,null,null,null,null,null,null,null,null,null,null,null,null,null,null,null,null,null,null,null,null,null,null,{"$f":"IFERROR(INDEX('3. Shpenzimet'!$B$22:$B$553,MATCH(ROW()-ROW($AB$2),'3. Shpenzimet'!$A$22:$A$553,0)),\"\")","v":""}]
[null,null,null,null,null,null,null,null,null,null,null,null,null,null,null,null,null,null,null,null,null,null,null,null,null,null,null,{"$f":"IFERROR(INDEX('3. Shpenzimet'!$B$22:$B$553,MATCH(ROW()-ROW($AB$2),'3. Shpenzimet'!$A$22:$A$553,0)),\"\")","v":""}]
[null,null,null,null,null,null,null,null,null,null,null,null,null,null,null,null,null,null,null,null,null,null,null,null,null,null,null,{"$f":"IFERROR(INDEX('3. Shpenzimet'!$B$22:$B$553,MATCH(ROW()-ROW($AB$2),'3. Shpenzimet'!$A$22:$A$553,0)),\"\")","v":""}]
[null,null,null,null,null,null,null,null,null,null,null,null,null,null,null,null,null,null,null,null,null,null,null,null,null,null,null,{"$f":"IFERROR(INDEX('3. Shpenzimet'!$B$22:$B$553,MATCH(ROW()-ROW($AB$2),'3. Shpenzimet'!$A$22:$A$553,0)),\"\")","v":""}]
[null,null,null,null,null,null,null,null,null,null,null,null,null,null,null,null,null,null,null,null,null,null,null,null,null,null,null,{"$f":"IFERROR(INDEX('3. Shpenzimet'!$B$22:$B$553,MATCH(ROW()-ROW($AB$2),'3. Shpenzimet'!$A$22:$A$553,0)),\"\")","v":""}]
[null,null,null,null,null,null,null,null,null,null,null,null,null,null,null,null,null,null,null,null,null,null,null,null,null,null,null,{"$f":"IFERROR(INDEX('3. Shpenzimet'!$B$22:$B$553,MATCH(ROW()-ROW($AB$2),'3. Shpenzimet'!$A$22:$A$553,0)),\"\")","v":""}]
[null,null,null,null,null,null,null,null,null,null,null,null,null,null,null,null,null,null,null,null,null,null,null,null,null,null,null,{"$f":"IFERROR(INDEX('3. Shpenzimet'!$B$22:$B$553,MATCH(ROW()-ROW($AB$2),'3. Shpenzimet'!$A$22:$A$553,0)),\"\")","v":""}]
[null,null,null,null,null,null,null,null,null,null,null,null,null,null,null,null,null,null,null,null,null,null,null,null,null,null,null,{"$f":"IFERROR(INDEX('3. Shpenzimet'!$B$22:$B$553,MATCH(ROW()-ROW($AB$2),'3. Shpenzimet'!$A$22:$A$553,0)),\"\")","v":""}]
[null,null,null,null,null,null,null,null,null,null,null,null,null,null,null,null,null,null,null,null,null,null,null,null,null,null,null,{"$f":"IFERROR(INDEX('3. Shpenzimet'!$B$22:$B$553,MATCH(ROW()-ROW($AB$2),'3. Shpenzimet'!$A$22:$A$553,0)),\"\")","v":""}]
[null,null,null,null,null,null,null,null,null,null,null,null,null,null,null,null,null,null,null,null,null,null,null,null,null,null,null,{"$f":"IFERROR(INDEX('3. Shpenzimet'!$B$22:$B$553,MATCH(ROW()-ROW($AB$2),'3. Shpenzimet'!$A$22:$A$553,0)),\"\")","v":""}]
[null,null,null,null,null,null,null,null,null,null,null,null,null,null,null,null,null,null,null,null,null,null,null,null,null,null,null,{"$f":"IFERROR(INDEX('3. Shpenzimet'!$B$22:$B$553,MATCH(ROW()-ROW($AB$2),'3. Shpenzimet'!$A$22:$A$553,0)),\"\")","v":""}]
[null,null,null,null,null,null,null,null,null,null,null,null,null,null,null,null,null,null,null,null,null,null,null,null,null,null,null,{"$f":"IFERROR(INDEX('3. Shpenzimet'!$B$22:$B$553,MATCH(ROW()-ROW($AB$2),'3. Shpenzimet'!$A$22:$A$553,0)),\"\")","v":""}]
[null,null,null,null,null,null,null,null,null,null,null,null,null,null,null,null,null,null,null,null,null,null,null,null,null,null,null,{"$f":"IFERROR(INDEX('3. Shpenzimet'!$B$22:$B$553,MATCH(ROW()-ROW($AB$2),'3. Shpenzimet'!$A$22:$A$553,0)),\"\")","v":""}]
[null,null,null,null,null,null,null,null,null,null,null,null,null,null,null,null,null,null,null,null,null,null,null,null,null,null,null,{"$f":"IFERROR(INDEX('3. Shpenzimet'!$B$22:$B$553,MATCH(ROW()-ROW($AB$2),'3. Shpenzimet'!$A$22:$A$553,0)),\"\")","v":""}]
[null,null,null,null,null,null,null,null,null,null,null,null,null,null,null,null,null,null,null,null,null,null,null,null,null,null,null,{"$f":"IFERROR(INDEX('3. Shpenzimet'!$B$22:$B$553,MATCH(ROW()-ROW($AB$2),'3. Shpenzimet'!$A$22:$A$553,0)),\"\")","v":""}]
[null,null,null,null,null,null,null,null,null,null,null,null,null,null,null,null,null,null,null,null,null,null,null,null,null,null,null,{"$f":"IFERROR(INDEX('3. Shpenzimet'!$B$22:$B$553,MATCH(ROW()-ROW($AB$2),'3. Shpenzimet'!$A$22:$A$553,0)),\"\")","v":""}]
[null,null,null,null,null,null,null,null,null,null,null,null,null,null,null,null,null,null,null,null,null,null,null,null,null,null,null,{"$f":"IFERROR(INDEX('3. Shpenzimet'!$B$22:$B$553,MATCH(ROW()-ROW($AB$2),'3. Shpenzimet'!$A$22:$A$553,0)),\"\")","v":""}]
[null,null,null,null,null,null,null,null,null,null,null,null,null,null,null,null,null,null,null,null,null,null,null,null,null,null,null,{"$f":"IFERROR(INDEX('3. Shpenzimet'!$B$22:$B$553,MATCH(ROW()-ROW($AB$2),'3. Shpenzimet'!$A$22:$A$553,0)),\"\")","v":""}]
[null,null,null,null,null,null,null,null,null,null,null,null,null,null,null,null,null,null,null,null,null,null,null,null,null,null,null,{"$f":"IFERROR(INDEX('3. Shpenzimet'!$B$22:$B$553,MATCH(ROW()-ROW($AB$2),'3. Shpenzimet'!$A$22:$A$553,0)),\"\")","v":""}]
[null,null,null,null,null,null,null,null,null,null,null,null,null,null,null,null,null,null,null,null,null,null,null,null,null,null,null,{"$f":"IFERROR(INDEX('3. Shpenzimet'!$B$22:$B$553,MATCH(ROW()-ROW($AB$2),'3. Shpenzimet'!$A$22:$A$553,0)),\"\")","v":""}]
[null,null,null,null,null,null,null,null,null,null,null,null,null,null,null,null,null,null,null,null,null,null,null,null,null,null,null,{"$f":"IFERROR(INDEX('3. Shpenzimet'!$B$22:$B$553,MATCH(ROW()-ROW($AB$2),'3. Shpenzimet'!$A$22:$A$553,0)),\"\")","v":""}]
[null,null,null,null,null,null,null,null,null,null,null,null,null,null,null,null,null,null,null,null,null,null,null,null,null,null,null,{"$f":"IFERROR(INDEX('3. Shpenzimet'!$B$22:$B$553,MATCH(ROW()-ROW($AB$2),'3. Shpenzimet'!$A$22:$A$553,0)),\"\")","v":""}]
[null,null,null,null,null,null,null,null,null,null,null,null,null,null,null,null,null,null,null,null,null,null,null,null,null,null,null,{"$f":"IFERROR(INDEX('3. Shpenzimet'!$B$22:$B$553,MATCH(ROW()-ROW($AB$2),'3. Shpenzimet'!$A$22:$A$553,0)),\"\")","v":""}]
[null,null,null,null,null,null,null,null,null,null,null,null,null,null,null,null,null,null,null,null,null,null,null,null,null,null,null,{"$f":"IFERROR(INDEX('3. Shpenzimet'!$B$22:$B$553,MATCH(ROW()-ROW($AB$2),'3. Shpenzimet'!$A$22:$A$553,0)),\"\")","v":""}]
[null,null,null,null,null,null,null,null,null,null,null,null,null,null,null,null,null,null,null,null,null,null,null,null,null,null,null,{"$f":"IFERROR(INDEX('3. Shpenzimet'!$B$22:$B$553,MATCH(ROW()-ROW($AB$2),'3. Shpenzimet'!$A$22:$A$553,0)),\"\")","v":""}]
[null,null,null,null,null,null,null,null,null,null,null,null,null,null,null,null,null,null,null,null,null,null,null,null,null,null,null,{"$f":"IFERROR(INDEX('3. Shpenzimet'!$B$22:$B$553,MATCH(ROW()-ROW($AB$2),'3. Shpenzimet'!$A$22:$A$553,0)),\"\")","v":""}]
[null,null,null,null,null,null,null,null,null,null,null,null,null,null,null,null,null,null,null,null,null,null,null,null,null,null,null,{"$f":"IFERROR(INDEX('3. Shpenzimet'!$B$22:$B$553,MATCH(ROW()-ROW($AB$2),'3. Shpenzimet'!$A$22:$A$553,0)),\"\")","v":""}]
[null,null,null,null,null,null,null,null,null,null,null,null,null,null,null,null,null,null,null,null,null,null,null,null,null,null,null,{"$f":"IFERROR(INDEX('3. Shpenzimet'!$B$22:$B$553,MATCH(ROW()-ROW($AB$2),'3. Shpenzimet'!$A$22:$A$553,0)),\"\")","v":""}]
[null,null,null,null,null,null,null,null,null,null,null,null,null,null,null,null,null,null,null,null,null,null,null,null,null,null,null,{"$f":"IFERROR(INDEX('3. Shpenzimet'!$B$22:$B$553,MATCH(ROW()-ROW($AB$2),'3. Shpenzimet'!$A$22:$A$553,0)),\"\")","v":""}]
[null,null,null,null,null,null,null,null,null,null,null,null,null,null,null,null,null,null,null,null,null,null,null,null,null,null,null,{"$f":"IFERROR(INDEX('3. Shpenzimet'!$B$22:$B$553,MATCH(ROW()-ROW($AB$2),'3. Shpenzimet'!$A$22:$A$553,0)),\"\")","v":""}]
[null,null,null,null,null,null,null,null,null,null,null,null,null,null,null,null,null,null,null,null,null,null,null,null,null,null,null,{"$f":"IFERROR(INDEX('3. Shpenzimet'!$B$22:$B$553,MATCH(ROW()-ROW($AB$2),'3. Shpenzimet'!$A$22:$A$553,0)),\"\")","v":""}]
[null,null,null,null,null,null,null,null,null,null,null,null,null,null,null,null,null,null,null,null,null,null,null,null,null,null,null,{"$f":"IFERROR(INDEX('3. Shpenzimet'!$B$22:$B$553,MATCH(ROW()-ROW($AB$2),'3. Shpenzimet'!$A$22:$A$553,0)),\"\")","v":""}]
[null,null,null,null,null,null,null,null,null,null,null,null,null,null,null,null,null,null,null,null,null,null,null,null,null,null,null,{"$f":"IFERROR(INDEX('3. Shpenzimet'!$B$22:$B$553,MATCH(ROW()-ROW($AB$2),'3. Shpenzimet'!$A$22:$A$553,0)),\"\")","v":""}]
[null,null,null,null,null,null,null,null,null,null,null,null,null,null,null,null,null,null,null,null,null,null,null,null,null,null,null,{"$f":"IFERROR(INDEX('3. Shpenzimet'!$B$22:$B$553,MATCH(ROW()-ROW($AB$2),'3. Shpenzimet'!$A$22:$A$553,0)),\"\")","v":""}]
[null,null,null,null,null,null,null,null,null,null,null,null,null,null,null,null,null,null,null,null,null,null,null,null,null,null,null,{"$f":"IFERROR(INDEX('3. Shpenzimet'!$B$22:$B$553,MATCH(ROW()-ROW($AB$2),'3. Shpenzimet'!$A$22:$A$553,0)),\"\")","v":""}]
[null,null,null,null,null,null,null,null,null,null,null,null,null,null,null,null,null,null,null,null,null,null,null,null,null,null,null,{"$f":"IFERROR(INDEX('3. Shpenzimet'!$B$22:$B$553,MATCH(ROW()-ROW($AB$2),'3. Shpenzimet'!$A$22:$A$553,0)),\"\")","v":""}]
[null,null,null,null,null,null,null,null,null,null,null,null,null,null,null,null,null,null,null,null,null,null,null,null,null,null,null,{"$f":"IFERROR(INDEX('3. Shpenzimet'!$B$22:$B$553,MATCH(ROW()-ROW($AB$2),'3. Shpenzimet'!$A$22:$A$553,0)),\"\")","v":""}]
[null,null,null,null,null,null,null,null,null,null,null,null,null,null,null,null,null,null,null,null,null,null,null,null,null,null,null,{"$f":"IFERROR(INDEX('3. Shpenzimet'!$B$22:$B$553,MATCH(ROW()-ROW($AB$2),'3. Shpenzimet'!$A$22:$A$553,0)),\"\")","v":""}]
[null,null,null,null,null,null,null,null,null,null,null,null,null,null,null,null,null,null,null,null,null,null,null,null,null,null,null,{"$f":"IFERROR(INDEX('3. Shpenzimet'!$B$22:$B$553,MATCH(ROW()-ROW($AB$2),'3. Shpenzimet'!$A$22:$A$553,0)),\"\")","v":""}]
[null,null,null,null,null,null,null,null,null,null,null,null,null,null,null,null,null,null,null,null,null,null,null,null,null,null,null,{"$f":"IFERROR(INDEX('3. Shpenzimet'!$B$22:$B$553,MATCH(ROW()-ROW($AB$2),'3. Shpenzimet'!$A$22:$A$553,0)),\"\")","v":""}]
[null,null,null,null,null,null,null,null,null,null,null,null,null,null,null,null,null,null,null,null,null,null,null,null,null,null,null,{"$f":"IFERROR(INDEX('3. Shpenzimet'!$B$22:$B$553,MATCH(ROW()-ROW($AB$2),'3. Shpenzimet'!$A$22:$A$553,0)),\"\")","v":""}]
[null,null,null,null,null,null,null,null,null,null,null,null,null,null,null,null,null,null,null,null,null,null,null,null,null,null,null,{"$f":"IFERROR(INDEX('3. Shpenzimet'!$B$22:$B$553,MATCH(ROW()-ROW($AB$2),'3. Shpenzimet'!$A$22:$A$553,0)),\"\")","v":""}]
[null,null,null,null,null,null,null,null,null,null,null,null,null,null,null,null,null,null,null,null,null,null,null,null,null,null,null,{"$f":"IFERROR(INDEX('3. Shpenzimet'!$B$22:$B$553,MATCH(ROW()-ROW($AB$2),'3. Shpenzimet'!$A$22:$A$553,0)),\"\")","v":""}]
[null,null,null,null,null,null,null,null,null,null,null,null,null,null,null,null,null,null,null,null,null,null,null,null,null,null,null,{"$f":"IFERROR(INDEX('3. Shpenzimet'!$B$22:$B$553,MATCH(ROW()-ROW($AB$2),'3. Shpenzimet'!$A$22:$A$553,0)),\"\")","v":""}]
[null,null,null,null,null,null,null,null,null,null,null,null,null,null,null,null,null,null,null,null,null,null,null,null,null,null,null,{"$f":"IFERROR(INDEX('3. Shpenzimet'!$B$22:$B$553,MATCH(ROW()-ROW($AB$2),'3. Shpenzimet'!$A$22:$A$553,0)),\"\")","v":""}]
[null,null,null,null,null,null,null,null,null,null,null,null,null,null,null,null,null,null,null,null,null,null,null,null,null,null,null,{"$f":"IFERROR(INDEX('3. Shpenzimet'!$B$22:$B$553,MATCH(ROW()-ROW($AB$2),'3. Shpenzimet'!$A$22:$A$553,0)),\"\")","v":""}]
[null,null,null,null,null,null,null,null,null,null,null,null,null,null,null,null,null,null,null,null,null,null,null,null,null,null,null,{"$f":"IFERROR(INDEX('3. Shpenzimet'!$B$22:$B$553,MATCH(ROW()-ROW($AB$2),'3. Shpenzimet'!$A$22:$A$553,0)),\"\")","v":""}]
[null,null,null,null,null,null,null,null,null,null,null,null,null,null,null,null,null,null,null,null,null,null,null,null,null,null,null,{"$f":"IFERROR(INDEX('3. Shpenzimet'!$B$22:$B$553,MATCH(ROW()-ROW($AB$2),'3. Shpenzimet'!$A$22:$A$553,0)),\"\")","v":""}]
[null,null,null,null,null,null,null,null,null,null,null,null,null,null,null,null,null,null,null,null,null,null,null,null,null,null,null,{"$f":"IFERROR(INDEX('3. Shpenzimet'!$B$22:$B$553,MATCH(ROW()-ROW($AB$2),'3. Shpenzimet'!$A$22:$A$553,0)),\"\")","v":""}]
[null,null,null,null,null,null,null,null,null,null,null,null,null,null,null,null,null,null,null,null,null,null,null,null,null,null,null,{"$f":"IFERROR(INDEX('3. Shpenzimet'!$B$22:$B$553,MATCH(ROW()-ROW($AB$2),'3. Shpenzimet'!$A$22:$A$553,0)),\"\")","v":""}]
[null,null,null,null,null,null,null,null,null,null,null,null,null,null,null,null,null,null,null,null,null,null,null,null,null,null,null,{"$f":"IFERROR(INDEX('3. Shpenzimet'!$B$22:$B$553,MATCH(ROW()-ROW($AB$2),'3. Shpenzimet'!$A$22:$A$553,0)),\"\")","v":""}]
[null,null,null,null,null,null,null,null,null,null,null,null,null,null,null,null,null,null,null,null,null,null,null,null,null,null,null,{"$f":"IFERROR(INDEX('3. Shpenzimet'!$B$22:$B$553,MATCH(ROW()-ROW($AB$2),'3. Shpenzimet'!$A$22:$A$553,0)),\"\")","v":""}]
[null,null,null,null,null,null,null,null,null,null,null,null,null,null,null,null,null,null,null,null,null,null,null,null,null,null,null,{"$f":"IFERROR(INDEX('3. Shpenzimet'!$B$22:$B$553,MATCH(ROW()-ROW($AB$2),'3. Shpenzimet'!$A$22:$A$553,0)),\"\")","v":""}]
[null,null,null,null,null,null,null,null,null,null,null,null,null,null,null,null,null,null,null,null,null,null,null,null,null,null,null,{"$f":"IFERROR(INDEX('3. Shpenzimet'!$B$22:$B$553,MATCH(ROW()-ROW($AB$2),'3. Shpenzimet'!$A$22:$A$553,0)),\"\")","v":""}]
[null,null,null,null,null,null,null,null,null,null,null,null,null,null,null,null,null,null,null,null,null,null,null,null,null,null,null,{"$f":"IFERROR(INDEX('3. Shpenzimet'!$B$22:$B$553,MATCH(ROW()-ROW($AB$2),'3. Shpenzimet'!$A$22:$A$553,0)),\"\")","v":""}]
[null,null,null,null,null,null,null,null,null,null,null,null,null,null,null,null,null,null,null,null,null,null,null,null,null,null,null,{"$f":"IFERROR(INDEX('3. Shpenzimet'!$B$22:$B$553,MATCH(ROW()-ROW($AB$2),'3. Shpenzimet'!$A$22:$A$553,0)),\"\")","v":""}]
[null,null,null,null,null,null,null,null,null,null,null,null,null,null,null,null,null,null,null,null,null,null,null,null,null,null,null,{"$f":"IFERROR(INDEX('3. Shpenzimet'!$B$22:$B$553,MATCH(ROW()-ROW($AB$2),'3. Shpenzimet'!$A$22:$A$553,0)),\"\")","v":""}]
[null,null,null,null,null,null,null,null,null,null,null,null,null,null,null,null,null,null,null,null,null,null,null,null,null,null,null,{"$f":"IFERROR(INDEX('3. Shpenzimet'!$B$22:$B$553,MATCH(ROW()-ROW($AB$2),'3. Shpenzimet'!$A$22:$A$553,0)),\"\")","v":""}]
[null,null,null,null,null,null,null,null,null,null,null,null,null,null,null,null,null,null,null,null,null,null,null,null,null,null,null,{"$f":"IFERROR(INDEX('3. Shpenzimet'!$B$22:$B$553,MATCH(ROW()-ROW($AB$2),'3. Shpenzimet'!$A$22:$A$553,0)),\"\")","v":""}]
[null,null,null,null,null,null,null,null,null,null,null,null,null,null,null,null,null,null,null,null,null,null,null,null,null,null,null,{"$f":"IFERROR(INDEX('3. Shpenzimet'!$B$22:$B$553,MATCH(ROW()-ROW($AB$2),'3. Shpenzimet'!$A$22:$A$553,0)),\"\")","v":""}]
[null,null,null,null,null,null,null,null,null,null,null,null,null,null,null,null,null,null,null,null,null,null,null,null,null,null,null,{"$f":"IFERROR(INDEX('3. Shpenzimet'!$B$22:$B$553,MATCH(ROW()-ROW($AB$2),'3. Shpenzimet'!$A$22:$A$553,0)),\"\")","v":""}]
[null,null,null,null,null,null,null,null,null,null,null,null,null,null,null,null,null,null,null,null,null,null,null,null,null,null,null,{"$f":"IFERROR(INDEX('3. Shpenzimet'!$B$22:$B$553,MATCH(ROW()-ROW($AB$2),'3. Shpenzimet'!$A$22:$A$553,0)),\"\")","v":""}]
[null,null,null,null,null,null,null,null,null,null,null,null,null,null,null,null,null,null,null,null,null,null,null,null,null,null,null,{"$f":"IFERROR(INDEX('3. Shpenzimet'!$B$22:$B$553,MATCH(ROW()-ROW($AB$2),'3. Shpenzimet'!$A$22:$A$553,0)),\"\")","v":""}]
[null,null,null,null,null,null,null,null,null,null,null,null,null,null,null,null,null,null,null,null,null,null,null,null,null,null,null,{"$f":"IFERROR(INDEX('3. Shpenzimet'!$B$22:$B$553,MATCH(ROW()-ROW($AB$2),'3. Shpenzimet'!$A$22:$A$553,0)),\"\")","v":""}]
[null,null,null,null,null,null,null,null,null,null,null,null,null,null,null,null,null,null,null,null,null,null,null,null,null,null,null,{"$f":"IFERROR(INDEX('3. Shpenzimet'!$B$22:$B$553,MATCH(ROW()-ROW($AB$2),'3. Shpenzimet'!$A$22:$A$553,0)),\"\")","v":""}]
[null,null,null,null,null,null,null,null,null,null,null,null,null,null,null,null,null,null,null,null,null,null,null,null,null,null,null,{"$f":"IFERROR(INDEX('3. Shpenzimet'!$B$22:$B$553,MATCH(ROW()-ROW($AB$2),'3. Shpenzimet'!$A$22:$A$553,0)),\"\")","v":""}]
[null,null,null,null,null,null,null,null,null,null,null,null,null,null,null,null,null,null,null,null,null,null,null,null,null,null,null,{"$f":"IFERROR(INDEX('3. Shpenzimet'!$B$22:$B$553,MATCH(ROW()-ROW($AB$2),'3. Shpenzimet'!$A$22:$A$553,0)),\"\")","v":""}]
[null,null,null,null,null,null,null,null,null,null,null,null,null,null,null,null,null,null,null,null,null,null,null,null,null,null,null,{"$f":"IFERROR(INDEX('3. Shpenzimet'!$B$22:$B$553,MATCH(ROW()-ROW($AB$2),'3. Shpenzimet'!$A$22:$A$553,0)),\"\")","v":""}]
[null,null,null,null,null,null,null,null,null,null,null,null,null,null,null,null,null,null,null,null,null,null,null,null,null,null,null,{"$f":"IFERROR(INDEX('3. Shpenzimet'!$B$22:$B$553,MATCH(ROW()-ROW($AB$2),'3. Shpenzimet'!$A$22:$A$553,0)),\"\")","v":""}]
[null,null,null,null,null,null,null,null,null,null,null,null,null,null,null,null,null,null,null,null,null,null,null,null,null,null,null,{"$f":"IFERROR(INDEX('3. Shpenzimet'!$B$22:$B$553,MATCH(ROW()-ROW($AB$2),'3. Shpenzimet'!$A$22:$A$553,0)),\"\")","v":""}]
[null,null,null,null,null,null,null,null,null,null,null,null,null,null,null,null,null,null,null,null,null,null,null,null,null,null,null,{"$f":"IFERROR(INDEX('3. Shpenzimet'!$B$22:$B$553,MATCH(ROW()-ROW($AB$2),'3. Shpenzimet'!$A$22:$A$553,0)),\"\")","v":""}]
[null,null,null,null,null,null,null,null,null,null,null,null,null,null,null,null,null,null,null,null,null,null,null,null,null,null,null,{"$f":"IFERROR(INDEX('3. Shpenzimet'!$B$22:$B$553,MATCH(ROW()-ROW($AB$2),'3. Shpenzimet'!$A$22:$A$553,0)),\"\")","v":""}]
[null,null,null,null,null,null,null,null,null,null,null,null,null,null,null,null,null,null,null,null,null,null,null,null,null,null,null,{"$f":"IFERROR(INDEX('3. Shpenzimet'!$B$22:$B$553,MATCH(ROW()-ROW($AB$2),'3. Shpenzimet'!$A$22:$A$553,0)),\"\")","v":""}]
[null,null,null,null,null,null,null,null,null,null,null,null,null,null,null,null,null,null,null,null,null,null,null,null,null,null,null,{"$f":"IFERROR(INDEX('3. Shpenzimet'!$B$22:$B$553,MATCH(ROW()-ROW($AB$2),'3. Shpenzimet'!$A$22:$A$553,0)),\"\")","v":""}]
[null,null,null,null,null,null,null,null,null,null,null,null,null,null,null,null,null,null,null,null,null,null,null,null,null,null,null,{"$f":"IFERROR(INDEX('3. Shpenzimet'!$B$22:$B$553,MATCH(ROW()-ROW($AB$2),'3. Shpenzimet'!$A$22:$A$553,0)),\"\")","v":""}]
[null,null,null,null,null,null,null,null,null,null,null,null,null,null,null,null,null,null,null,null,null,null,null,null,null,null,null,{"$f":"IFERROR(INDEX('3. Shpenzimet'!$B$22:$B$553,MATCH(ROW()-ROW($AB$2),'3. Shpenzimet'!$A$22:$A$553,0)),\"\")","v":""}]
[null,null,null,null,null,null,null,null,null,null,null,null,null,null,null,null,null,null,null,null,null,null,null,null,null,null,null,{"$f":"IFERROR(INDEX('3. Shpenzimet'!$B$22:$B$553,MATCH(ROW()-ROW($AB$2),'3. Shpenzimet'!$A$22:$A$553,0)),\"\")","v":""}]
[null,null,null,null,null,null,null,null,null,null,null,null,null,null,null,null,null,null,null,null,null,null,null,null,null,null,null,{"$f":"IFERROR(INDEX('3. Shpenzimet'!$B$22:$B$553,MATCH(ROW()-ROW($AB$2),'3. Shpenzimet'!$A$22:$A$553,0)),\"\")","v":""}]
[null,null,null,null,null,null,null,null,null,null,null,null,null,null,null,null,null,null,null,null,null,null,null,null,null,null,null,{"$f":"IFERROR(INDEX('3. Shpenzimet'!$B$22:$B$553,MATCH(ROW()-ROW($AB$2),'3. Shpenzimet'!$A$22:$A$553,0)),\"\")","v":""}]
[null,null,null,null,null,null,null,null,null,null,null,null,null,null,null,null,null,null,null,null,null,null,null,null,null,null,null,{"$f":"IFERROR(INDEX('3. Shpenzimet'!$B$22:$B$553,MATCH(ROW()-ROW($AB$2),'3. Shpenzimet'!$A$22:$A$553,0)),\"\")","v":""}]
[null,null,null,null,null,null,null,null,null,null,null,null,null,null,null,null,null,null,null,null,null,null,null,null,null,null,null,{"$f":"IFERROR(INDEX('3. Shpenzimet'!$B$22:$B$553,MATCH(ROW()-ROW($AB$2),'3. Shpenzimet'!$A$22:$A$553,0)),\"\")","v":""}]
[null,null,null,null,null,null,null,null,null,null,null,null,null,null,null,null,null,null,null,null,null,null,null,null,null,null,null,{"$f":"IFERROR(INDEX('3. Shpenzimet'!$B$22:$B$553,MATCH(ROW()-ROW($AB$2),'3. Shpenzimet'!$A$22:$A$553,0)),\"\")","v":""}]
[null,null,null,null,null,null,null,null,null,null,null,null,null,null,null,null,null,null,null,null,null,null,null,null,null,null,null,{"$f":"IFERROR(INDEX('3. Shpenzimet'!$B$22:$B$553,MATCH(ROW()-ROW($AB$2),'3. Shpenzimet'!$A$22:$A$553,0)),\"\")","v":""}]
[null,null,null,null,null,null,null,null,null,null,null,null,null,null,null,null,null,null,null,null,null,null,null,null,null,null,null,{"$f":"IFERROR(INDEX('3. Shpenzimet'!$B$22:$B$553,MATCH(ROW()-ROW($AB$2),'3. Shpenzimet'!$A$22:$A$553,0)),\"\")","v":""}]
[null,null,null,null,null,null,null,null,null,null,null,null,null,null,null,null,null,null,null,null,null,null,null,null,null,null,null,{"$f":"IFERROR(INDEX('3. Shpenzimet'!$B$22:$B$553,MATCH(ROW()-ROW($AB$2),'3. Shpenzimet'!$A$22:$A$553,0)),\"\")","v":""}]
[null,null,null,null,null,null,null,null,null,null,null,null,null,null,null,null,null,null,null,null,null,null,null,null,null,null,null,{"$f":"IFERROR(INDEX('3. Shpenzimet'!$B$22:$B$553,MATCH(ROW()-ROW($AB$2),'3. Shpenzimet'!$A$22:$A$553,0)),\"\")","v":""}]
[null,null,null,null,null,null,null,null,null,null,null,null,null,null,null,null,null,null,null,null,null,null,null,null,null,null,null,{"$f":"IFERROR(INDEX('3. Shpenzimet'!$B$22:$B$553,MATCH(ROW()-ROW($AB$2),'3. Shpenzimet'!$A$22:$A$553,0)),\"\")","v":""}]
[null,null,null,null,null,null,null,null,null,null,null,null,null,null,null,null,null,null,null,null,null,null,null,null,null,null,null,{"$f":"IFERROR(INDEX('3. Shpenzimet'!$B$22:$B$553,MATCH(ROW()-ROW($AB$2),'3. Shpenzimet'!$A$22:$A$553,0)),\"\")","v":""}]
[null,null,null,null,null,null,null,null,null,null,null,null,null,null,null,null,null,null,null,null,null,null,null,null,null,null,null,{"$f":"IFERROR(INDEX('3. Shpenzimet'!$B$22:$B$553,MATCH(ROW()-ROW($AB$2),'3. Shpenzimet'!$A$22:$A$553,0)),\"\")","v":""}]
[null,null,null,null,null,null,null,null,null,null,null,null,null,null,null,null,null,null,null,null,null,null,null,null,null,null,null,{"$f":"IFERROR(INDEX('3. Shpenzimet'!$B$22:$B$553,MATCH(ROW()-ROW($AB$2),'3. Shpenzimet'!$A$22:$A$553,0)),\"\")","v":""}]
[null,null,null,null,null,null,null,null,null,null,null,null,null,null,null,null,null,null,null,null,null,null,null,null,null,null,null,{"$f":"IFERROR(INDEX('3. Shpenzimet'!$B$22:$B$553,MATCH(ROW()-ROW($AB$2),'3. Shpenzimet'!$A$22:$A$553,0)),\"\")","v":""}]
[null,null,null,null,null,null,null,null,null,null,null,null,null,null,null,null,null,null,null,null,null,null,null,null,null,null,null,{"$f":"IFERROR(INDEX('3. Shpenzimet'!$B$22:$B$553,MATCH(ROW()-ROW($AB$2),'3. Shpenzimet'!$A$22:$A$553,0)),\"\")","v":""}]
[null,null,null,null,null,null,null,null,null,null,null,null,null,null,null,null,null,null,null,null,null,null,null,null,null,null,null,{"$f":"IFERROR(INDEX('3. Shpenzimet'!$B$22:$B$553,MATCH(ROW()-ROW($AB$2),'3. Shpenzimet'!$A$22:$A$553,0)),\"\")","v":""}]
[null,null,null,null,null,null,null,null,null,null,null,null,null,null,null,null,null,null,null,null,null,null,null,null,null,null,null,{"$f":"IFERROR(INDEX('3. Shpenzimet'!$B$22:$B$553,MATCH(ROW()-ROW($AB$2),'3. Shpenzimet'!$A$22:$A$553,0)),\"\")","v":""}]
[null,null,null,null,null,null,null,null,null,null,null,null,null,null,null,null,null,null,null,null,null,null,null,null,null,null,null,{"$f":"IFERROR(INDEX('3. Shpenzimet'!$B$22:$B$553,MATCH(ROW()-ROW($AB$2),'3. Shpenzimet'!$A$22:$A$553,0)),\"\")","v":""}]
[null,null,null,null,null,null,null,null,null,null,null,null,null,null,null,null,null,null,null,null,null,null,null,null,null,null,null,{"$f":"IFERROR(INDEX('3. Shpenzimet'!$B$22:$B$553,MATCH(ROW()-ROW($AB$2),'3. Shpenzimet'!$A$22:$A$553,0)),\"\")","v":""}]
[null,null,null,null,null,null,null,null,null,null,null,null,null,null,null,null,null,null,null,null,null,null,null,null,null,null,null,{"$f":"IFERROR(INDEX('3. Shpenzimet'!$B$22:$B$553,MATCH(ROW()-ROW($AB$2),'3. Shpenzimet'!$A$22:$A$553,0)),\"\")","v":""}]
[null,null,null,null,null,null,null,null,null,null,null,null,null,null,null,null,null,null,null,null,null,null,null,null,null,null,null,{"$f":"IFERROR(INDEX('3. Shpenzimet'!$B$22:$B$553,MATCH(ROW()-ROW($AB$2),'3. Shpenzimet'!$A$22:$A$553,0)),\"\")","v":""}]
[null,null,null,null,null,null,null,null,null,null,null,null,null,null,null,null,null,null,null,null,null,null,null,null,null,null,null,{"$f":"IFERROR(INDEX('3. Shpenzimet'!$B$22:$B$553,MATCH(ROW()-ROW($AB$2),'3. Shpenzimet'!$A$22:$A$553,0)),\"\")","v":""}]
[null,null,null,null,null,null,null,null,null,null,null,null,null,null,null,null,null,null,null,null,null,null,null,null,null,null,null,{"$f":"IFERROR(INDEX('3. Shpenzimet'!$B$22:$B$553,MATCH(ROW()-ROW($AB$2),'3. Shpenzimet'!$A$22:$A$553,0)),\"\")","v":""}]
[null,null,null,null,null,null,null,null,null,null,null,null,null,null,null,null,null,null,null,null,null,null,null,null,null,null,null,{"$f":"IFERROR(INDEX('3. Shpenzimet'!$B$22:$B$553,MATCH(ROW()-ROW($AB$2),'3. Shpenzimet'!$A$22:$A$553,0)),\"\")","v":""}]
[null,null,null,null,null,null,null,null,null,null,null,null,null,null,null,null,null,null,null,null,null,null,null,null,null,null,null,{"$f":"IFERROR(INDEX('3. Shpenzimet'!$B$22:$B$553,MATCH(ROW()-ROW($AB$2),'3. Shpenzimet'!$A$22:$A$553,0)),\"\")","v":""}]
[null,null,null,null,null,null,null,null,null,null,null,null,null,null,null,null,null,null,null,null,null,null,null,null,null,null,null,{"$f":"IFERROR(INDEX('3. Shpenzimet'!$B$22:$B$553,MATCH(ROW()-ROW($AB$2),'3. Shpenzimet'!$A$22:$A$553,0)),\"\")","v":""}]
[null,null,null,null,null,null,null,null,null,null,null,null,null,null,null,null,null,null,null,null,null,null,null,null,null,null,null,{"$f":"IFERROR(INDEX('3. Shpenzimet'!$B$22:$B$553,MATCH(ROW()-ROW($AB$2),'3. Shpenzimet'!$A$22:$A$553,0)),\"\")","v":""}]
[null,null,null,null,null,null,null,null,null,null,null,null,null,null,null,null,null,null,null,null,null,null,null,null,null,null,null,{"$f":"IFERROR(INDEX('3. Shpenzimet'!$B$22:$B$553,MATCH(ROW()-ROW($AB$2),'3. Shpenzimet'!$A$22:$A$553,0)),\"\")","v":""}]
[null,null,null,null,null,null,null,null,null,null,null,null,null,null,null,null,null,null,null,null,null,null,null,null,null,null,null,{"$f":"IFERROR(INDEX('3. Shpenzimet'!$B$22:$B$553,MATCH(ROW()-ROW($AB$2),'3. Shpenzimet'!$A$22:$A$553,0)),\"\")","v":""}]
[null,null,null,null,null,null,null,null,null,null,null,null,null,null,null,null,null,null,null,null,null,null,null,null,null,null,null,{"$f":"IFERROR(INDEX('3. Shpenzimet'!$B$22:$B$553,MATCH(ROW()-ROW($AB$2),'3. Shpenzimet'!$A$22:$A$553,0)),\"\")","v":""}]
[null,null,null,null,null,null,null,null,null,null,null,null,null,null,null,null,null,null,null,null,null,null,null,null,null,null,null,{"$f":"IFERROR(INDEX('3. Shpenzimet'!$B$22:$B$553,MATCH(ROW()-ROW($AB$2),'3. Shpenzimet'!$A$22:$A$553,0)),\"\")","v":""}]
[null,null,null,null,null,null,null,null,null,null,null,null,null,null,null,null,null,null,null,null,null,null,null,null,null,null,null,{"$f":"IFERROR(INDEX('3. Shpenzimet'!$B$22:$B$553,MATCH(ROW()-ROW($AB$2),'3. Shpenzimet'!$A$22:$A$553,0)),\"\")","v":""}]
[null,null,null,null,null,null,null,null,null,null,null,null,null,null,null,null,null,null,null,null,null,null,null,null,null,null,null,{"$f":"IFERROR(INDEX('3. Shpenzimet'!$B$22:$B$553,MATCH(ROW()-ROW($AB$2),'3. Shpenzimet'!$A$22:$A$553,0)),\"\")","v":""}]
[null,null,null,null,null,null,null,null,null,null,null,null,null,null,null,null,null,null,null,null,null,null,null,null,null,null,null,{"$f":"IFERROR(INDEX('3. Shpenzimet'!$B$22:$B$553,MATCH(ROW()-ROW($AB$2),'3. Shpenzimet'!$A$22:$A$553,0)),\"\")","v":""}]
[null,null,null,null,null,null,null,null,null,null,null,null,null,null,null,null,null,null,null,null,null,null,null,null,null,null,null,{"$f":"IFERROR(INDEX('3. Shpenzimet'!$B$22:$B$553,MATCH(ROW()-ROW($AB$2),'3. Shpenzimet'!$A$22:$A$553,0)),\"\")","v":""}]